{"text_format":"1","workbook":"xlsx","n_sheets":8,"sheets":["Info","Calendar Backup","KALENDER","Konfiguration","Labels","MITARBEITER","Timesheet Backup","KONTROLLE"],"not_rendered":{"charts":0,"images":2,"macros":1,"external_links":0,"defined_names":48,"comments":0,"pivot_tables":0},"unopened":[],"bounds":{"document_bytes":16777216,"sheet_cells":100000,"rows_first":2000,"rows_last":500,"rows_between":2000,"halvings":0,"cell_chars":16384,"cell_head_chars":4096},"cells_cut":0,"cells_raw":0,"read":"whole","date_system":"1900"}

{"sheet":"Info","index":0,"n_rows":1,"n_cols":2,"rows_kept":1,"cut":false,"hidden":true,"merged":[]}
["Info:","Dieses Tabellenblatt bitte weder löschen noch verändern."]

{"sheet":"Calendar Backup","index":1,"n_rows":24,"n_cols":35,"rows_kept":24,"cut":false,"hidden":true,"merged":[[0,3,0,34]]}
[null,null,null,"Auswahl der gesetzlichen Feiertage \n(mit einem kleinen x ankreuzen)"]
[null,null,null,"Jan",1,2,3,4,5,6,7,8,9,10,11,12,13,14,15,16,17,18,19,20,21,22,23,24,25,26,27,28,29,30,31]
[]
[null,null,null,"Feb",1,2,3,4,5,6,7,8,9,10,11,12,13,14,15,16,17,18,19,20,21,22,23,24,25,26,27,28,29]
[]
[null,null,null,"Mrz",1,2,3,4,5,6,7,8,9,10,11,12,13,14,15,16,17,18,19,20,21,22,23,24,25,26,27,28,29,30,31]
[]
[null,null,null,"Apr",1,2,3,4,5,6,7,8,9,10,11,12,13,14,15,16,17,18,19,20,21,22,23,24,25,26,27,28,29,30]
[]
[null,null,null,"Mai",1,2,3,4,5,6,7,8,9,10,11,12,13,14,15,16,17,18,19,20,21,22,23,24,25,26,27,28,29,30,31]
[]
[null,null,null,"Jun",1,2,3,4,5,6,7,8,9,10,11,12,13,14,15,16,17,18,19,20,21,22,23,24,25,26,27,28,29,30]
[]
[null,null,null,"Jul",1,2,3,4,5,6,7,8,9,10,11,12,13,14,15,16,17,18,19,20,21,22,23,24,25,26,27,28,29,30,31]
[]
[null,null,null,"Aug",1,2,3,4,5,6,7,8,9,10,11,12,13,14,15,16,17,18,19,20,21,22,23,24,25,26,27,28,29,30,31]
[]
[null,null,null,"Sep",1,2,3,4,5,6,7,8,9,10,11,12,13,14,15,16,17,18,19,20,21,22,23,24,25,26,27,28,29,30]
[]
[null,null,null,"Okt",1,2,3,4,5,6,7,8,9,10,11,12,13,14,15,16,17,18,19,20,21,22,23,24,25,26,27,28,29,30,31]
[]
[null,null,null,"Nov",1,2,3,4,5,6,7,8,9,10,11,12,13,14,15,16,17,18,19,20,21,22,23,24,25,26,27,28,29,30]
[]
[null,null,null,"Dez",1,2,3,4,5,6,7,8,9,10,11,12,13,14,15,16,17,18,19,20,21,22,23,24,25,26,27,28,29,30,31]

{"sheet":"KALENDER","index":2,"n_rows":24,"n_cols":35,"rows_kept":24,"cut":false,"hidden":false,"merged":[[0,3,0,34]]}
[null,null,null,"Auswahl der gesetzlichen Feiertage \n(mit einem kleinen x ankreuzen)"]
[null,null,null,"Jan",1,2,3,4,5,6,7,8,9,10,11,12,13,14,15,16,17,18,19,20,21,22,23,24,25,26,27,28,29,30,31]
[]
[null,null,null,"Feb",1,2,3,4,5,6,7,8,9,10,11,12,13,14,15,16,17,18,19,20,21,22,23,24,25,26,27,28,29]
[]
[null,null,null,"Mrz",1,2,3,4,5,6,7,8,9,10,11,12,13,14,15,16,17,18,19,20,21,22,23,24,25,26,27,28,29,30,31]
[]
[null,null,null,"Apr",1,2,3,4,5,6,7,8,9,10,11,12,13,14,15,16,17,18,19,20,21,22,23,24,25,26,27,28,29,30]
[]
[null,null,null,"Mai",1,2,3,4,5,6,7,8,9,10,11,12,13,14,15,16,17,18,19,20,21,22,23,24,25,26,27,28,29,30,31]
[]
[null,null,null,"Jun",1,2,3,4,5,6,7,8,9,10,11,12,13,14,15,16,17,18,19,20,21,22,23,24,25,26,27,28,29,30]
[]
[null,null,null,"Jul",1,2,3,4,5,6,7,8,9,10,11,12,13,14,15,16,17,18,19,20,21,22,23,24,25,26,27,28,29,30,31]
[]
[null,null,null,"Aug",1,2,3,4,5,6,7,8,9,10,11,12,13,14,15,16,17,18,19,20,21,22,23,24,25,26,27,28,29,30,31]
[]
[null,null,null,"Sep",1,2,3,4,5,6,7,8,9,10,11,12,13,14,15,16,17,18,19,20,21,22,23,24,25,26,27,28,29,30]
[]
[null,null,null,"Okt",1,2,3,4,5,6,7,8,9,10,11,12,13,14,15,16,17,18,19,20,21,22,23,24,25,26,27,28,29,30,31]
[]
[null,null,null,"Nov",1,2,3,4,5,6,7,8,9,10,11,12,13,14,15,16,17,18,19,20,21,22,23,24,25,26,27,28,29,30]
[]
[null,null,null,"Dez",1,2,3,4,5,6,7,8,9,10,11,12,13,14,15,16,17,18,19,20,21,22,23,24,25,26,27,28,29,30,31]

{"sheet":"Konfiguration","index":3,"n_rows":17,"n_cols":10,"rows_kept":17,"cut":false,"hidden":true,"merged":[]}
["Globale Konfiguration"]
[null,null,null,null,null,null,null,"Memo =>"]
["Jahr",2019,{"$f":"\"01.01.\"&B3","v":"01.01.2019"},"Schaljahr j/n",{"$f":"IF(F3=1,\"ja\",\"nein\")","v":"nein"},{"$f":"IF(MOD(YEAR($C$3),400)=0,\"\",IF(MOD(YEAR($C$3),100)=0,\"kein\",IF(MOD(YEAR($C$3),4)=0,1,0)))","v":0},null,"1.Tag des Jahes","formel"]
["max. Std/Woche gem. GAV",48,null,null,null,null,null,"letzter Tag des Jahres","formel"]
["Std/Tag gem. GAV",8,null,"Jahresbruttosollstunden",null,null,null,"Anz. Wochentage","formel"]
[null,null,null,null,null,null,null,"% Nachzuschlag","eingabe"]
[null,null,null,null,null,null,null,"% Sonn- & Feiertagszuschlag","eingabe"]
[null,null,null,null,null,null,null,"% Wochenzuschlag","eingabe"]
[null,null,null,null,null,null,null,"Ausahlung mit Zuschlag (max. Std)","eingabe"]
[]
["Standard Kalender","calendar"]
[]
[]
["Standard Sprache","DE",null,null,null,null,null,"Sprachen","Deutsch","DE"]
[null,null,null,null,null,null,null,null,"Français","FR"]
[null,null,null,null,null,null,null,null,"English","EN"]
[null,null,null,null,null,null,null,null,"Italiano","IT"]

{"sheet":"Labels","index":4,"n_rows":506,"n_cols":6,"rows_kept":506,"cut":false,"hidden":true,"merged":[]}
["Achtung: ","lange Texte sind jeweils manuell einzusetzen"]
[]
["gewählte \nSprache","DE"]
[]
[]
[]
[]
[]
[]
[]
[]
["Index","Dargestellt","DE","EN","FR","IT"]
[2,{"$f":"HLOOKUP($B$3,$C$12:$F$506,A13,FALSE)","v":"[$-807]"},"[$-807]","[$-409]","[$-40C]","[$-410]"]
[3,"SMGV","SMGV",{"$f":"C14","v":"SMGV"},"ASEPP","ASIPG"]
[4,"GAV","GAV","CEC","CCT","CCL"]
[5,"Kontrolle","Kontrolle","Record","Contrôle","Controllo"]
[6,"A r b e i t s z e i t k o n t r o l l e ","A r b e i t s z e i t k o n t r o l l e ","Timesheet ","Contrôle des heures de travail ","Controllo d'orario di lavoro"]
[7,"Mitarbeiter/In","Mitarbeiter/In","Employee","Nom/Prénom","Nome/Conome"]
[8,"Muster Peter","Muster Peter","Smith John","Modèle Pierre","Modello Pietro"]
[9,"Anstellung %","Anstellung %","Level of employment %","Emploi %","Occupazione %"]
[10,"Saldo für das Jahr","Saldo für das Jahr","Balance (year)","Solde année en cours",{"$f":"C21","v":"Saldo für das Jahr"}]
[11,"Saldo Vorjahresstunden (+)","Saldo Vorjahresstunden (+)","Balance previous year (+)","Solde année passée (+)",{"$f":"C22","v":"Saldo Vorjahresstunden (+)"}]
[12,"Saldo Vorjahresstunden (-)","Saldo Vorjahresstunden (-)","Balance previous year (-)","Solde année passée (-)","Saldo Vorjahresstunden (-)"]
[13,"Ferienguthaben Vorjahr","Ferienguthaben Vorjahr","Remaining holidays (prev. year)","Solde vacances année passée","Ferienguthaben Vorjahr"]
[14,"Ferienguthaben laufendes Jahr","Ferienguthaben laufendes Jahr","Total holidays current year","Vacances selon art. 12.1. CCT","Ferienguthaben laufendes Jahr"]
[15,"Stunden","Stunden","Hours","Heures","Stunden"]
[16,"Max. Std / Woche gemäss GAV","Max. Std / Woche gemäss GAV","Max. hours / week according CEC","max heures / semain  CCT","Max. Std / Woche gemäss GAV"]
[17,"Std/Tag gemäss GAV","Std/Tag gemäss GAV","hours/day according CEC","heures/jour  CCT","Std/Tag gemäss GAV"]
[18,"Schaltjahr (j/n)","Schaltjahr (j/n)","leap year (y/n)","Année bissextile (j/n)","Schaltjahr (j/n)"]
[19,"Arbeitstage (Jahr)","Arbeitstage (Jahr)","Working Days (year)","jours ouvrables (année)","Arbeitstage (Jahr)"]
[20,"Jahresbruttosollstunden","Jahresbruttosollstunden","Annual gross target hours","brut annuel d'heures","Jahresbruttosollstunden"]
[21,"Saldo Monat + / -","Saldo Monat + / -","Balance month +/-","Solde mois + / -","Saldo Monat + / -"]
[22," = "," = ",{"$f":"C33","v":" = "}," = "," = "]
[23,"Gelbe Felder müssen ausgefüllt werden (die übrigen werden automatisch berechnet)","Gelbe Felder müssen ausgefüllt werden (die übrigen werden automatisch berechnet)","Yellow fields must be filled (all others are calculated)","Les cases marquées en jaune doivent être remplies (les autres seront calculées automatiquement)","Gelbe Felder müssen ausgefüllt werden (die übrigen werden automatisch berechnet)"]
[24,"Tag","Tag","Day","Jour","Tag"]
[25,"Kalenderwoche","Kalenderwoche","Calendar week","semaine civile","Kalenderwoche"]
[26,"Sollstunden","Sollstunden","Target hours","Théorique sel. CCT","Sollstunden"]
[27,"Absenz in Std","Absenz in Std","Absence (hours)","Absences","Absenz in Std"]
[28,"Code","Code","Code","Code","Code"]
[29,"00.00-06.00h","00.00-06.00h","00.00-06.00h","00h00-06h00 1)","00.00-06.00"]
[30,"06.00-20.00h","06.00-20.00h","06.00-20.00h","06h00-20h00 2)","06.00-20.00"]
[31,"20.00-24.00h","20.00-24.00h","20.00-24.00h","20h00-24h00 3)","20.00-24.00"]
[32,"Feiertag \"ft\"","Feiertag \"ft\"","Holiday \"ft\"","Jours fériés \"jf\"","Giorni festivi \"gf\""]
[33,"Gutschrift \"ft\"","Gutschrift \"ft\"","Credit \"ft\"","Majoration  \"jf\"","Credito \"gf\""]
[34,"Tagestotal","Tagestotal","Daily total","total quotidien","totale quotidiano"]
[35,".",".",".",".","."]
[36,".",".",".",".","."]
[37,"Monatsübergang","Monatsübergang","Monthly transfer","transition mois","transizione mensile"]
[38,"Wochentotal","Wochentotal","Weekly total","Total hebdomadaire","totale settimana"]
[39,"Zeitzuschlag 1)","Zeitzuschlag 1)","Bonus hours 1)","Majorations temp. 1)","Supplemento in ore 1)"]
[40,"Zeitzuschlag 2)","Zeitzuschlag 2)","Bonus hours 2)","Majorations temp. 2)","Supplemento in ore 2)"]
[41,"Zeitzuschlag 3)","Zeitzuschlag 3)","Bonus hours 3)","Majorations temp. 3)","Supplemento in ore 3)"]
[42,"Sonntag Tag","Sonntag Tag","Sunday day","Dimanche journée","Domenica giorno"]
[43,"Sonntag Nacht","Sonntag Nacht","Sunday night","Dimanche nuit","Domenica notte"]
[44,"ft-Tazuschlag","ft-Tazuschlag","ft-daybonus","jf-jomajoration","gf-gisupplemento"]
[45,"ft-Nazuschlag","ft-Nazuschlag","ft-nightbonus","jf-numajoration","gf-nosupplemento"]
[46,"Zuschlag  blind (Wochentotal)","Zuschlag  blind (Wochentotal)","bonus  hidden (week total)","majoration caché (total hebd.)","Supplemento  nascosto (totale sett.)"]
[47,"1)   25% Zeitzuschlag für Überschreitung Wochentotal","1)   25% Zeitzuschlag für Überschreitung Wochentotal","1)   25% bonus for exceeding weekly total hours","1)  25% majoration temporelle pour depassement total hebdomadaire","1)   25%"]
[48,"2) 100% Zeitzuschlag für Nachtarbeit","2) 100% Zeitzuschlag für Nachtarbeit","2) 100% bonus for nighttime work","2) 100% majoration temporelle pour travail de nuit","2) 100%"]
[49,"3) 100% Zeitzuschlag für Sonn- und Feiertagsarbeit","3) 100% Zeitzuschlag für Sonn- und Feiertagsarbeit","3) 100% bonus for Sunday and holiday work","3) 100% majoration temporelle pour travail du dimanche et jour férié","3) 100%"]
[50,"Eingabe der ausbezahlten Stunden Vorjahressaldo","Eingabe der ausbezahlten Stunden Vorjahressaldo","Enter payed out hours (prev. Year)","Saisie des heures payées l'année passée",{"$f":"C61","v":"Eingabe der ausbezahlten Stunden Vorjahressaldo"}]
[51,"Eingabe der ausbezahlten Stunden laufendes Jahr (Überstunden)","Eingabe der ausbezahlten Stunden laufendes Jahr (Überstunden)","Enter payed out hours (current Year)","Saisie des heures payées exercice en cours (heures supplémentaires)",{"$f":"C62","v":"Eingabe der ausbezahlten Stunden laufendes Jahr (Überstunden)"}]
[52,"Tage","Tage","Days","Jours","Tage"]
[53,"Druckvorschau aufheben","Druckvorschau aufheben","Reset print preview","Annulation de la sélection","Druckvorschau aufheben"]
[54,"Januar","Januar","January","Janvier","Gennaio"]
[55,"Februar","Februar","February","Février","Febbraio"]
[56,"März","März","March","Mars","Marzo"]
[57,"April","April","April","April","Aprile"]
[58,"Mai","Mai","May","Mai","Maggio"]
[59,"Juni","Juni","June","Juin","Giugno"]
[60,"Juli","Juli","July","Juillet","Iuglio"]
[61,"August","August","August","Août","Agosto"]
[62,"September","September","September","Septembre","Settembre"]
[63,"Oktober","Oktober","October","Octobre","Ottobre"]
[64,"November","November","November","Novembre","Novembre"]
[65,"Dezember","Dezember","December","Décembre","Dicembre"]
[66,{"$f":"HLOOKUP($B$3,$C$12:$F$506,A77,FALSE)","v":"Jan"},"Jan","Jan","Jan","Gen"]
[67,"Feb","Feb","Feb","Fév","Feb"]
[68,"Mrz","Mrz","Mar","Mar","Mar"]
[69,"Apr","Apr","Apr","Avr","Apr"]
[70,"Mai","Mai","May","Mai","Mag"]
[71,"Jun","Jun","Jun","Jun","Giu"]
[72,"Jul","Jul","Jul","Jul","Iug"]
[73,"Aug","Aug","Aug","Aoû","Ago"]
[74,"Sep","Sep","Sep","Sep","Set"]
[75,"Okt","Okt","Oct","Oct","Ott"]
[76,"Nov","Nov","Nov","Nov","Nov"]
[77,"Dez","Dez","Dec","Déc","Dic"]
[78,"im Januar","im Januar","in January","en janvier","a Gennaio"]
[79,"im Februar","im Februar","in February","en février","a Febbraio"]
[80,"im März","im März","in March","en mars","a Marzo"]
[81,"im April","im April","in April","en avril","ad Aprile"]
[82,"im Mai","im Mai","in May","en mai","a Maggio"]
[83,"im Juni","im Juni","in June","en juin","a Giugno"]
[84,"im Juli","im Juli","in July","en juillet","a Iuglio"]
[85,"im August","im August","in August","en août","ad Agosto"]
[86,"im September","im September","in September","en septembre","a Settembre"]
[87,"im Oktober","im Oktober","in October","en octobre","ad Ottobre"]
[88,"im November","im November","in November","en novembre","a Novembre"]
[89,"im Dezember","im Dezember","in December","en décembre","a Dicembre"]
[90,"Jahr","Jahr","Year","Année","Anno"]
[91,"Total","Total","Total","Total","Total"]
[92,"Zusammenstellung","Zusammenstellung","Report","Résumé","Zusammenstellung"]
[93,"Sollstunden gemäss GAV","Sollstunden gemäss GAV","Planed hours acc.to CEC","Heures théoriques selon CCT","Orario teoricamente sec. CCL"]
[94,"Produktive Stunden","Produktive Stunden","Productive hours","Total heures productives","Orario produttivo totale"]
[95,"06.00 - 20.00 Uhr","06.00 - 20.00 Uhr","06.00-20.00h","06.00 - 20.00 h","06.00 - 20.00 "]
[96,"Nacht-, Sonn-, Feiertagsarbeit","Nacht-, Sonn-, Feiertagsarbeit","Night, Sunday and holiday work","nuit, dimanche et jour férié","notturno, domenica e festivo"]
[97,"Zeitzuschläge","Zeitzuschläge","Bonus time","Majorations temporelles","Supplemento in ore"]
[98,"aus Wochentotal","aus Wochentotal","for exceeding week total","total hebdomadaire","di lavoro settimanale"]
[99,"aus Nacht-, Sonn-, Feiertagsarbeiten","aus Nacht-, Sonn-, Feiertagsarbeiten","for night, Sundays and holiday work","nuit, dimanche et jour férié","di notturno, domenica e festivo"]
[100,"Unproduktive Stunden","Unproduktive Stunden","Idle hours","Heures inproductives","orario non produttivo"]
[101,"   Absenzen, Kurzabsenzen Art. 11 GAV","   Absenzen, Kurzabsenzen Art. 11 GAV","   Abcenses, Short abcenses Art. 11 CEC","   Absences art. 11 CCT","   Assenze art. 11 CCL"]
[102,"a","a",{"$f":"C113","v":"a"},"ab","as"]
[103,"   Ferien Art. 12.1 GAV","   Ferien Art. 12.1 GAV","   Holidays Art. 12.1 CEC","   Vacances art. 12.1 CCT","   Vacanze art. 12.1 CCL"]
[104,"f","f","f","va","va"]
[105,"   Feiertage Art. 12.2 GAV","   Feiertage Art. 12.2 GAV","   Public Holidays Art. 12.2 CEC","   Jours fériés art. 12.2 CCT","   Giorni festivi art. 12.2 CCL"]
[106,"zu viele ft !)","zu viele ft !)","Too many ft !)","trop de jf !)","(tropo giorni festivi !)"]
[107,"ft","ft","ft","jf","gf"]
[108,"   Krankheit Art. 13 GAV","   Krankheit Art. 13 GAV","   Illness Art. 13 CEC","   Maladie art. 13 CCT","   Malattia art. 13 CCL"]
[109,"k","k","k","ma","ma"]
[110,"   Unfall Art. 14 GAV","   Unfall Art. 14 GAV","   Accident Art. 14 CEC","   Accident art. 14 CCT","   Infortunio art. 14 CCL"]
[111,"u","u","u","ac","in"]
[112,"   Schwangerschaft/Mutterschaft Art. 15 GAV","   Schwangerschaft/Mutterschaft Art. 15 GAV","   Maternetiy leave Art. 15 CEC","   Grossesse/Maternité art. 15 CCT","   Gravidanza/Maternità art. 15 CCL"]
[113,"s","s","s","gm","gm"]
[114,"   Militär/Beförderung/Zivilschutz Art. 16 GAV","   Militär/Beförderung/Zivilschutz Art. 16 GAV","   Military service/promotion/civil defence Art. 16. CEC","   Militaire/Promotion/Protection civile art. 16 CCT","   Militare/Promotione/Civile art. 16 CCL"]
[115,"m","m","m","mi","mi"]
[116,"   Kurzarbeit und Schlechtwetterausfälle","   Kurzarbeit und Schlechtwetterausfälle","   Short-time work/bad weather","   Chômage partiel et perte de travail cause d'intempéries",{"$f":"C127","v":"   Kurzarbeit und Schlechtwetterausfälle"}]
[117,"ka","ka","ka","ch",{"$f":"C128","v":"ka"}]
[118,"   Berufsschule","   Berufsschule","   School","   Ecole professionnelle","   Berufsschule"]
[119,"bs","bs","bs","ep","bs"]
[120,"   Kurse","   Kurse","   Courses","   Cours","   Kurse"]
[121,"ku","ku","ku","co","ku"]
[122,"Kompensations-Std","Kompensations-Std","Compensation hours","Heures de compensation","Kompensations-Std"]
[123,"aus Vorjahr","aus Vorjahr","prev. Year","de l'année passée","aus Vorjahr"]
[124,"kv","kv","kv","cp","kv"]
[125,"aus laufendem Jahr (Kontrolle)","aus laufendem Jahr (Kontrolle)","current year (verification)","de l'année en cours (contrôle)","aus laufendem Jahr (Kontrolle)"]
[126,"kj","kj","kj","cc","kj"]
[127,"Auszahlung","Auszahlung","payment of hours","Paiement des heures","Auszahlung"]
[128,"Stunden Vorjahressaldo","Stunden Vorjahressaldo","hours prev. Year","de l'année passée","Stunden Vorjahressaldo"]
[129,"Differenz","Differenz","difference","Différence en heures","Differenz"]
[130,{"$f":"HLOOKUP($B$3,$C$12:$F$506,A141,FALSE)","v":"nach Kompensation und Auszahlung"},"nach Kompensation und Auszahlung","after compensation and payment","après compensation et paiement","nach Kompensation und Auszahlung"]
[131,"Stunden laufendes Jahr","Stunden laufendes Jahr","hours current year","de l'année en cours","Stunden laufendes Jahr"]
[132,"Fehlstunden","Fehlstunden","missed hours","Heures manquantes","Fehlstunden"]
[133,"laufendes Jahr (Kontrolle)","laufendes Jahr (Kontrolle)","current year (verification)","de l'année en cours (contrôle)","laufendes Jahr (Kontrolle)"]
[134,"fe","fe","fe","hm","fe"]
[135,"Total inkl. Zeitzuschläge","Total inkl. Zeitzuschläge","total (incl. extra time)","Total (majorations inclus)","Total inkl. Zeitzuschläge"]
[136,"Stunden produktiv und unproduktiv","Stunden produktiv und unproduktiv","hours productive and idle","heures productives et inproductives","Stunden produktiv und unproduktiv"]
[137,"Vergleich","Vergleich","Comparison of hours","Comparaison des heures","Vergleich"]
[138,"Stunden zu Soll-Stunden (inkl. allfälli-\nge Minusstunden Vorjahr)","Stunden zu Soll-Stunden (inkl. allfälli-\nge Minusstunden Vorjahr)","balance hours <-> target hours (incl. missing hours prev. year)","aux heures théorique CCT (heures \nmanquantes de l'année passée incl.)","Stunden zu Soll-Stunden (inkl. allfälli-\nge Minusstunden Vorjahr)"]
[139,"[]","[]","[]","[]","[]"]
[140,"Stunden zu Soll-Stunden (kumuliert)","Stunden zu Soll-Stunden (kumuliert)","balance hours <-> target hours (cumulative)","aux heures théorique (cumulées)","Stunden zu Soll-Stunden (kumuliert)"]
[141,".",".",".",".","."]
[142,"Ferienkontrolle","Ferienkontrolle","Holiday Balance","Vacances (contrôle)","Ferienkontrolle"]
[143,"Ferienguthaben Vorjahr","Ferienguthaben Vorjahr","Remaining holidays (prev. year)","Vacances année passée","Ferienguthaben Vorjahr"]
[144,"Ferienguthaben nach \nArt. 12.1 GAV","Ferienguthaben nach \nArt. 12.1 GAV","Holidays acc. Art. 12.1 CEC","Vacances selon \nart 12.1 CCT","Ferienguthaben nach \nArt. 12.1 GAV"]
[145,"Ferienguthaben total","Ferienguthaben total","Holidays total","Total des vacances","Ferienguthaben total"]
[146,"Ferien bezogen","Ferien bezogen","Holidays taken","Vacances prises","Ferien bezogen"]
[147,"Aktuelles Ferienguthaben","Aktuelles Ferienguthaben","Current holiday balance","Vacances restantes","Aktuelles Ferienguthaben"]
[148,"Bemerkungen","Bemerkungen","Annotations","Notes","Bemerkungen"]
[149,"Anzahl ft","Anzahl ft","No. Of public holidays (ft)","Nombre jf","Anzahl ft"]
[150,"Meldung","Meldung","Message","Message","Meldung"]
[151,"Feiertagzuschläge gemäss Anstellungsprozent","Feiertagzuschläge gemäss Anstellungsprozent","Bonus for holiday work according level of employment %","Majorations selon emploi %","Feiertagzuschläge gemäss Anstellungsprozent"]
[152,"div","div","div","div","div"]
[153,"\nDen gewünschten Monat mit einem Klick\nwählen (gehe zu)\n\n\nDen gewünschten Monat mit einem Klick\nin die Druckvorschau versetzen (für Druck)","\nDen gewünschten Monat mit einem Klick\nwählen (gehe zu)\n\n\nDen gewünschten Monat mit einem Klick\nin die Druckvorschau versetzen (für Druck)","\nSelect desired month by clicking (goto)\n\n\nSelect desired month for printing","\nSélectionnez le mois désiré en un clic\n\n\n\n\nSélectionnez le mois à imprimer en un clic","\nDen gewünschten Monat mit einem Klick\nwählen (gehe zu)\n\n\nDen gewünschten Monat mit einem Klick\nin die Druckvorschau versetzen (für Druck)"]
[154,"Produktivstunden","Produktivstunden","Productive hours","Heures productives","Produktivstunden"]
[155,"Feiertage [ft]","Feiertage [ft]","Public holidays [ft]","Jours fériés [jf]","Feiertage [ft]"]
[156,"Ferien [f]","Ferien [f]","holidays [f]","Vacances [va]","Ferien [f]"]
[157,"Kompensation (Vorjahr) [kv]","Kompensation (Vorjahr) [kv]","Compensation hours (prev. year) [kv]","Compensation (année passée) [cp]","Kompensation (Vorjahr) [kv]"]
[158,"Kompensation (laufend) [kj]","Kompensation (laufend) [kj]","Compensation hours (current) [kj]","Compensation (année courant) [cc]","Kompensation (laufend) [kj]"]
[159,"Absenzen, Kurzabsenzen [a]","Absenzen, Kurzabsenzen [a]","Absences, short absences [a]","Absences [ab]","Absenzen, Kurzabsenzen [a]"]
[160,"Krankheit [k]","Krankheit [k]","Illness [k]","Maladie [ma]","Krankheit [k]"]
[161,"Unfall [u]","Unfall [u]","Accident [u]","Accident [ac]","Unfall [u]"]
[162,"Schwangerschaft/Mutterschaft [s]","Schwangerschaft/Mutterschaft [s]","Maternity leave [s]","Grossesse/Maternité [gm]","Schwangerschaft/Mutterschaft [s]"]
[163,"Militär/Beförderung/Zivilschutz [m]","Militär/Beförderung/Zivilschutz [m]","Military service/promotion/civil defence [m]","Militaire/Promotion/Protection civile [mi]","Militär/Beförderung/Zivilschutz [m]"]
[164,"Berufsschule [bs]","Berufsschule [bs]","School [bs]","Ecole professionelle [ep]","Berufsschule [bs]"]
[165,"Kurse [ku]","Kurse [ku]","Courses [ku]","Cours [co]","Kurse [ku]"]
[166,"Kurzarbeit und Schlechtwetter [ka]","Kurzarbeit und Schlechtwetter [ka]","Short-time work/bad weather [ka]","Chômage partiel et intempéries [ch]","Kurzarbeit und Schlechtwetter [ka]"]
[167,"Fehlstunden (unbezahlt) [fe]","Fehlstunden (unbezahlt) [fe]","Missed hours (not payed) [fe]","Heures manquantes [hm]","Fehlstunden (unbezahlt) [fe]"]
[168,"Ferien unbezahlt [fu]","Ferien unbezahlt [fu]","Unpaid holidays [fu]","Vacances non payées [vn]","Ferien unbezahlt [fu]"]
[169,"fu","fu",{"$f":"C180","v":"fu"},"vn","fu"]
[170,"   Ferien unbezahlt","   Ferien unbezahlt",{"$f":"C181","v":"   Ferien unbezahlt"},null,"   Ferien unbezahlt"]
[171,"fu","fu","fu",null,"fu"]
[172,0,null,0,null,0]
[173,0,null,0,null,0]
[174,0,null,0,null,0]
[175,0,null,0,null,0]
[176,0,null,0,null,0]
[177,0,null,0,null,0]
[178,0,null,0,null,0]
[179,0,null,0,null,0]
[180,0,null,0,null,0]
[181,0,null,0,null,{"$f":"C192","v":0}]
[182,0,null,0,null,0]
[183,0,null,0,null,0]
[184,0,null,0,null,0]
[185,0,null,0,null,0]
[186,0,null,0,null,0]
[187,0,null,0,null,0]
[188,0,null,0,null,0]
[189,0,null,0,null,0]
[190,0,null,0,null,0]
[191,0,null,0,null,0]
[192,0,null,0,null,0]
[193,0,null,0,null,0]
[194,{"$f":"HLOOKUP($B$3,$C$12:$F$506,A205,FALSE)","v":0},null,0,null,0]
[195,0,null,0,null,0]
[196,0,null,0,null,0]
[197,0,null,0,null,0]
[198,0,null,0,null,0]
[199,"Befehlsschaltflächen","Befehlsschaltflächen","CommandButtons","Befehlsschaltflächen FR","Befehlsschaltflächen"]
[200,"Januar","Januar","January","Janvier","Gennaio"]
[201,"Februar","Februar","February","Février","Febbraio"]
[202,"März","März","March","Mars","Marzo"]
[203,"April","April","April","April","Aprile"]
[204,"Mai","Mai","May","Mai","Maggio"]
[205,"Juni","Juni","June","Juin","Giugno"]
[206,"Juli","Juli","July","Juillet","Iuglio"]
[207,"August","August","August","Août","Agosto"]
[208,"September","September","September","Septembre","Settembre"]
[209,"Oktober","Oktober","October","Octobre","Ottobre"]
[210,"November","November","November","Novembre","Novembre"]
[211,"Dezember","Dezember","December","Décembre","Dicembre"]
[212,"Absenzen","Absenzen","Absences","Absences","Assenze"]
[213,"Druckvorschau aufheben","Druckvorschau aufheben","Clear Print Area","Aperçu avant impression","Druckvorschau aufheben"]
[214,0,null,null,null,0]
[215,0,null,null,null,0]
[216,0,null,null,null,0]
[217,0,null,null,null,0]
[218,0,null,null,null,0]
[219,0,null,null,null,0]
[220,0]
[221,0]
[222,0]
[223,0]
[224,0]
[225,0]
[226,0]
[227,0]
[228,0]
[229,0]
[230,0]
[231,0]
[232,0]
[233,0]
[234,0]
[235,0]
[236,0]
[237,0]
[238,0]
[239,0]
[240,0]
[241,0]
[242,0]
[243,0]
[244,0]
[245,0]
[246,0]
[247,0]
[248,0]
[249,0]
[250,0]
[251,0]
[252,0]
[253,0]
[254,0]
[255,0]
[256,0]
[257,0]
[258,{"$f":"HLOOKUP($B$3,$C$12:$F$506,A269,FALSE)","v":0}]
[259,0]
[260,0]
[261,0]
[262,0]
[263,0]
[264,0]
[265,0]
[266,0]
[267,0]
[268,0]
[269,0]
[270,0]
[271,0]
[272,0]
[273,0]
[274,0]
[275,0]
[276,0]
[277,0]
[278,0]
[279,0]
[280,"Tabellenregister / Arbeitsblattregister","Tabellenregister / Arbeitsblattregister","TR EN","TR FR"]
[281,"ERKLÄRUNGEN","ERKLÄRUNGEN","INFO","EXPLICATIONS"]
[282,"KALENDER","KALENDER","MAIN CALENDAR","CALENDRIER"]
[283,"MITARBEITER","MITARBEITER","ADDRESS LIST","ADRESSES"]
[284,"KONTROLLE","KONTROLLE","TIMESHEET TEMPL","CONTRÔLE"]
[285,0]
[286,0]
[287,0]
[288,0]
[289,0]
[290,"Texte Mitarbeiter-Tabelle DE","Texte Mitarbeiter-Tabelle DE","ADR EN","ADR FR"]
[291,"Nummer","Nummer","Number","Numéro"]
[292,"Name","Name","Last Name","Nom"]
[293,"Vorname","Vorname","First Name","Prénom"]
[294,"Adresse","Adresse","Address","Adresse"]
[295,"PLZ","PLZ","Zip Code","CP"]
[296,"Ort","Ort","City","Lieu"]
[297,"Telefon","Telefon","Phone","Téléphone"]
[298,"eMail","eMail","eMail","émail"]
[299,0]
[300,0]
[301,0]
[302,0]
[303,0]
[304,0]
[305,"Muster","Muster",null,"Modèle"]
[306,"Peter","Peter",null,"Pierre"]
[307,"Mustergasse 550","Mustergasse 550",null,"Rue Modèle 44"]
[308,"CH-5000","CH-5000",null,"CH-9999"]
[309,"Aarau","Aarau",null,"Modèleville"]
[310,"+41 00 000 00 00","+41 00 000 00 00",null,"+41 99 999 99 99"]
[311,0]
[312,0]
[313,0]
[314,0]
[315,0]
[316,0]
[317,0]
[318,0]
[319,0]
[320,"Texte Kalender-Tabelle DE","Texte Kalender-Tabelle DE"]
[321,"Auswahl der gesetzlichen Feiertage \n(mit einem kleinen x ankreuzen)","Auswahl der gesetzlichen Feiertage \n(mit einem kleinen x ankreuzen)"]
[322,{"$f":"HLOOKUP($B$3,$C$12:$F$506,A333,FALSE)","v":0}]
[323,0]
[324,0]
[325,0]
[326,0]
[327,0]
[328,0]
[329,0]
[330,0]
[331,0]
[332,0]
[333,0]
[334,0]
[335,0]
[336,0]
[337,0]
[338,0]
[339,0]
[340,0]
[341,0]
[342,0]
[343,0]
[344,0]
[345,0]
[346,0]
[347,0]
[348,0]
[349,0]
[350,0]
[351,0]
[352,0]
[353,0]
[354,0]
[355,0]
[356,0]
[357,0]
[358,0]
[359,0]
[360,0]
[361,0]
[362,0]
[363,0]
[364,0]
[365,0]
[366,0]
[367,0]
[368,0]
[369,0]
[370,0]
[371,0]
[372,0]
[373,0]
[374,0]
[375,0]
[376,0]
[377,0]
[378,0]
[379,0]
[380,0]
[381,0]
[382,0]
[383,0]
[384,0]
[385,0]
[386,{"$f":"HLOOKUP($B$3,$C$12:$F$506,A397,FALSE)","v":0}]
[387,0]
[388,0]
[389,0]
[390,0]
[391,0]
[392,0]
[393,0]
[394,0]
[395,0]
[396,0]
[397,0]
[398,0]
[399,0]
[400,0]
[401,0]
[402,0]
[403,0]
[404,0]
[405,0]
[406,0]
[407,0]
[408,0]
[409,0]
[410,0]
[411,0]
[412,0]
[413,0]
[414,0]
[415,0]
[416,0]
[417,0]
[418,0]
[419,0]
[420,0]
[421,0]
[422,0]
[423,0]
[424,0]
[425,0]
[426,0]
[427,0]
[428,0]
[429,0]
[430,0]
[431,0]
[432,0]
[433,0]
[434,0]
[435,0]
[436,0]
[437,0]
[438,0]
[439,0]
[440,0]
[441,0]
[442,0]
[443,0]
[444,0]
[445,0]
[446,0]
[447,0]
[448,0]
[449,0]
[450,{"$f":"HLOOKUP($B$3,$C$12:$F$506,A461,FALSE)","v":0}]
[451,0]
[452,0]
[453,0]
[454,0]
[455,0]
[456,0]
[457,0]
[458,0]
[459,0]
[460,0]
[461,0]
[462,0]
[463,0]
[464,0]
[465,0]
[466,0]
[467,0]
[468,0]
[469,0]
[470,0]
[471,0]
[472,0]
[473,0]
[474,0]
[475,0]
[476,0]
[477,0]
[478,0]
[479,0]
[480,0]
[481,0]
[482,0]
[483,0]
[484,0]
[485,0]
[486,0]
[487,0]
[488,0]
[489,0]
[490,0]
[491,0]
[492,0]
[493,0]
[494,0]
[495,0]

{"sheet":"MITARBEITER","index":5,"n_rows":101,"n_cols":7,"rows_kept":101,"cut":false,"hidden":false,"merged":[]}
["Nummer","Name","Vorname","Adresse","PLZ","Ort","Telefon"]
[1,"Muster","Peter","Mustergasse 550",5000,"Aarau","+41 00 000 00 00"]
[2]
[3]
[4]
[5]
[6]
[7]
[8]
[9]
[10]
[11]
[12]
[13]
[14]
[15]
[16]
[17]
[18]
[19]
[20]
[21]
[22]
[23]
[24]
[25]
[26]
[27]
[28]
[29]
[30]
[31]
[32]
[33]
[34]
[35]
[36]
[37]
[38]
[39]
[40]
[41]
[42]
[43]
[44]
[45]
[46]
[47]
[48]
[49]
[50]
[51]
[52]
[53]
[54]
[55]
[56]
[57]
[58]
[59]
[60]
[61]
[62]
[63]
[64]
[65]
[66]
[67]
[68]
[69]
[70]
[71]
[72]
[73]
[74]
[75]
[76]
[77]
[78]
[79]
[80]
[81]
[82]
[83]
[84]
[85]
[86]
[87]
[88]
[89]
[90]
[91]
[92]
[93]
[94]
[95]
[96]
[97]
[98]
[99]
[100]

{"sheet":"Timesheet Backup","index":6,"n_rows":1084,"n_cols":51,"rows_kept":1084,"cut":false,"hidden":true,"merged":[[1064,1,1064,4],[1064,5,1064,6],[1064,27,1064,29],[1064,30,1064,31],[1018,1,1018,4],[1018,5,1018,6],[1018,27,1018,29],[1018,30,1018,31],[1041,1,1041,4],[1041,5,1041,6],[1041,27,1041,29],[1041,30,1041,31],[972,1,972,4],[972,5,972,6],[972,27,972,29],[972,30,972,31],[995,1,995,4],[995,5,995,6],[995,27,995,29],[995,30,995,31],[926,1,926,4],[926,5,926,6],[926,27,926,29],[926,30,926,31],[949,1,949,4],[949,5,949,6],[949,27,949,29],[949,30,949,31],[880,1,880,4],[880,5,880,6],[880,27,880,29],[880,30,880,31],[903,1,903,4],[903,5,903,6],[903,27,903,29],[903,30,903,31],[818,36,818,44],[834,1,834,4],[834,5,834,6],[834,27,834,29],[834,30,834,31],[857,1,857,4],[857,5,857,6],[857,27,857,29],[857,30,857,31],[770,26,771,29],[770,30,771,31],[809,7,809,10],[811,1,811,4],[811,5,811,6],[811,27,811,29],[811,30,811,31],[769,30,769,31],[770,0,771,0],[770,1,771,5],[770,6,771,7],[770,8,771,11],[770,12,771,13],[770,14,771,17],[770,18,771,19],[770,20,771,23],[770,24,771,25],[769,18,769,19],[769,20,769,21],[769,22,769,23],[769,24,769,25],[769,26,769,27],[769,28,769,29],[768,26,768,27],[768,28,768,29],[768,30,768,31],[769,1,769,5],[769,6,769,7],[769,8,769,9],[769,10,769,11],[769,12,769,13],[769,14,769,15],[769,16,769,17],[768,14,768,15],[768,16,768,17],[768,18,768,19],[768,20,768,21],[768,22,768,23],[768,24,768,25],[767,22,767,23],[767,24,767,25],[767,26,767,27],[767,28,767,29],[767,30,767,31],[768,1,768,5],[768,6,768,7],[768,8,768,9],[768,10,768,11],[768,12,768,13],[766,30,766,31],[767,1,767,5],[767,6,767,7],[767,8,767,9],[767,10,767,11],[767,12,767,13],[767,14,767,15],[767,16,767,17],[767,18,767,19],[767,20,767,21],[766,18,766,19],[766,20,766,21],[766,22,766,23],[766,24,766,25],[766,26,766,27],[766,28,766,29],[765,26,765,27],[765,28,765,29],[765,30,765,31],[766,1,766,4],[766,6,766,7],[766,8,766,9],[766,10,766,11],[766,12,766,13],[766,14,766,15],[766,16,766,17],[765,14,765,15],[765,16,765,17],[765,18,765,19],[765,20,765,21],[765,22,765,23],[765,24,765,25],[764,16,764,17],[764,18,764,19],[764,20,764,21],[764,22,764,23],[764,24,764,31],[765,1,765,5],[765,6,765,7],[765,8,765,9],[765,10,765,11],[765,12,765,13],[764,1,764,5],[764,6,764,7],[764,8,764,9],[764,10,764,11],[764,12,764,13],[764,14,764,15],[763,16,763,17],[763,18,763,19],[763,20,763,21],[763,22,763,23],[763,24,763,29],[763,30,763,31],[763,1,763,5],[763,6,763,7],[763,8,763,9],[763,10,763,11],[763,12,763,13],[763,14,763,15],[762,20,762,21],[762,22,762,23],[762,24,762,25],[762,26,762,27],[762,28,762,29],[762,30,762,31],[761,28,761,29],[761,30,761,31],[762,1,762,4],[762,6,762,7],[762,8,762,9],[762,10,762,11],[762,12,762,13],[762,14,762,15],[762,16,762,17],[762,18,762,19],[761,16,761,17],[761,18,761,19],[761,20,761,21],[761,22,761,23],[761,24,761,25],[761,26,761,27],[761,1,761,4],[761,6,761,7],[761,8,761,9],[761,10,761,11],[761,12,761,13],[761,14,761,15],[760,20,760,21],[760,22,760,23],[760,24,760,25],[760,26,760,27],[760,28,760,29],[760,30,760,31],[759,28,759,29],[759,30,759,31],[760,0,760,4],[760,6,760,7],[760,8,760,9],[760,10,760,11],[760,12,760,13],[760,14,760,15],[760,16,760,17],[760,18,760,19],[759,16,759,17],[759,18,759,19],[759,20,759,21],[759,22,759,23],[759,24,759,25],[759,26,759,27],[759,0,759,4],[759,6,759,7],[759,8,759,9],[759,10,759,11],[759,12,759,13],[759,14,759,15],[758,20,758,21],[758,22,758,23],[758,24,758,25],[758,26,758,27],[758,28,758,29],[758,30,758,31],[757,28,757,29],[757,30,757,31],[758,0,758,4],[758,6,758,7],[758,8,758,9],[758,10,758,11],[758,12,758,13],[758,14,758,15],[758,16,758,17],[758,18,758,19],[757,16,757,17],[757,18,757,19],[757,20,757,21],[757,22,757,23],[757,24,757,25],[757,26,757,27],[757,0,757,4],[757,6,757,7],[757,8,757,9],[757,10,757,11],[757,12,757,13],[757,14,757,15],[756,20,756,21],[756,22,756,23],[756,24,756,25],[756,26,756,27],[756,28,756,29],[756,30,756,31],[755,28,755,29],[755,30,755,31],[756,0,756,4],[756,6,756,7],[756,8,756,9],[756,10,756,11],[756,12,756,13],[756,14,756,15],[756,16,756,17],[756,18,756,19],[755,16,755,17],[755,18,755,19],[755,20,755,21],[755,22,755,23],[755,24,755,25],[755,26,755,27],[755,0,755,4],[755,6,755,7],[755,8,755,9],[755,10,755,11],[755,12,755,13],[755,14,755,15],[754,20,754,21],[754,22,754,23],[754,24,754,25],[754,26,754,27],[754,28,754,29],[754,30,754,31],[753,28,753,29],[753,30,753,31],[754,0,754,4],[754,6,754,7],[754,8,754,9],[754,10,754,11],[754,12,754,13],[754,14,754,15],[754,16,754,17],[754,18,754,19],[753,16,753,17],[753,18,753,19],[753,20,753,21],[753,22,753,23],[753,24,753,25],[753,26,753,27],[753,0,753,1],[753,6,753,7],[753,8,753,9],[753,10,753,11],[753,12,753,13],[753,14,753,15],[752,20,752,21],[752,22,752,23],[752,24,752,25],[752,26,752,27],[752,28,752,29],[752,30,752,31],[751,28,751,29],[751,30,751,31],[752,0,752,4],[752,6,752,7],[752,8,752,9],[752,10,752,11],[752,12,752,13],[752,14,752,15],[752,16,752,17],[752,18,752,19],[751,16,751,17],[751,18,751,19],[751,20,751,21],[751,22,751,23],[751,24,751,25],[751,26,751,27],[751,0,751,4],[751,6,751,7],[751,8,751,9],[751,10,751,11],[751,12,751,13],[751,14,751,15],[750,20,750,21],[750,22,750,23],[750,24,750,25],[750,26,750,27],[750,28,750,29],[750,30,750,31],[749,28,749,29],[749,30,749,31],[750,0,750,4],[750,6,750,7],[750,8,750,9],[750,10,750,11],[750,12,750,13],[750,14,750,15],[750,16,750,17],[750,18,750,19],[749,16,749,17],[749,18,749,19],[749,20,749,21],[749,22,749,23],[749,24,749,25],[749,26,749,27],[749,0,749,5],[749,6,749,7],[749,8,749,9],[749,10,749,11],[749,12,749,13],[749,14,749,15],[748,20,748,21],[748,22,748,23],[748,24,748,25],[748,26,748,27],[748,28,748,29],[748,30,748,31],[747,28,747,29],[747,30,747,31],[748,1,748,5],[748,6,748,7],[748,8,748,9],[748,10,748,11],[748,12,748,13],[748,14,748,15],[748,16,748,17],[748,18,748,19],[747,16,747,17],[747,18,747,19],[747,20,747,21],[747,22,747,23],[747,24,747,25],[747,26,747,27],[747,1,747,5],[747,6,747,7],[747,8,747,9],[747,10,747,11],[747,12,747,13],[747,14,747,15],[746,20,746,21],[746,22,746,23],[746,24,746,25],[746,26,746,27],[746,28,746,29],[746,30,746,31],[745,28,745,29],[745,30,745,31],[746,1,746,5],[746,6,746,7],[746,8,746,9],[746,10,746,11],[746,12,746,13],[746,14,746,15],[746,16,746,17],[746,18,746,19],[745,16,745,17],[745,18,745,19],[745,20,745,21],[745,22,745,23],[745,24,745,25],[745,26,745,27],[745,1,745,5],[745,6,745,7],[745,8,745,9],[745,10,745,11],[745,12,745,13],[745,14,745,15],[744,20,744,21],[744,22,744,23],[744,24,744,25],[744,26,744,27],[744,28,744,29],[744,30,744,31],[743,28,743,29],[743,30,743,31],[744,0,744,5],[744,6,744,7],[744,8,744,9],[744,10,744,11],[744,12,744,13],[744,14,744,15],[744,16,744,17],[744,18,744,19],[743,16,743,17],[743,18,743,19],[743,20,743,21],[743,22,743,23],[743,24,743,25],[743,26,743,27],[743,0,743,5],[743,6,743,7],[743,8,743,9],[743,10,743,11],[743,12,743,13],[743,14,743,15],[742,20,742,21],[742,22,742,23],[742,24,742,25],[742,26,742,27],[742,28,742,29],[742,30,742,31],[739,1,739,31],[740,1,740,31],[742,0,742,5],[742,6,742,7],[742,8,742,9],[742,10,742,11],[742,12,742,13],[742,14,742,15],[742,16,742,17],[742,18,742,19],[711,3,711,6],[712,1,712,4],[712,5,712,6],[712,27,712,31],[737,30,737,31],[738,1,738,31],[706,24,707,25],[706,26,707,29],[706,30,707,31],[708,7,708,31],[709,1,709,6],[710,1,710,2],[710,3,710,6],[705,28,705,29],[705,30,705,31],[706,0,707,0],[706,1,707,5],[706,6,707,7],[706,8,707,11],[706,12,707,13],[706,14,707,17],[706,18,707,19],[706,20,707,23],[705,16,705,17],[705,18,705,19],[705,20,705,21],[705,22,705,23],[705,24,705,25],[705,26,705,27],[705,1,705,5],[705,6,705,7],[705,8,705,9],[705,10,705,11],[705,12,705,13],[705,14,705,15],[704,20,704,21],[704,22,704,23],[704,24,704,25],[704,26,704,27],[704,28,704,29],[704,30,704,31],[703,28,703,29],[703,30,703,31],[704,1,704,5],[704,6,704,7],[704,8,704,9],[704,10,704,11],[704,12,704,13],[704,14,704,15],[704,16,704,17],[704,18,704,19],[703,16,703,17],[703,18,703,19],[703,20,703,21],[703,22,703,23],[703,24,703,25],[703,26,703,27],[703,1,703,5],[703,6,703,7],[703,8,703,9],[703,10,703,11],[703,12,703,13],[703,14,703,15],[702,20,702,21],[702,22,702,23],[702,24,702,25],[702,26,702,27],[702,28,702,29],[702,30,702,31],[701,28,701,29],[701,30,701,31],[702,1,702,4],[702,6,702,7],[702,8,702,9],[702,10,702,11],[702,12,702,13],[702,14,702,15],[702,16,702,17],[702,18,702,19],[701,16,701,17],[701,18,701,19],[701,20,701,21],[701,22,701,23],[701,24,701,25],[701,26,701,27],[700,18,700,19],[700,20,700,21],[700,22,700,23],[700,24,700,31],[701,1,701,5],[701,6,701,7],[701,8,701,9],[701,10,701,11],[701,12,701,13],[701,14,701,15],[699,22,699,23],[699,24,699,29],[699,30,699,31],[700,1,700,5],[700,6,700,7],[700,8,700,9],[700,10,700,11],[700,12,700,13],[700,14,700,15],[700,16,700,17],[698,30,698,31],[699,1,699,5],[699,6,699,7],[699,8,699,9],[699,10,699,11],[699,12,699,13],[699,14,699,15],[699,16,699,17],[699,18,699,19],[699,20,699,21],[698,18,698,19],[698,20,698,21],[698,22,698,23],[698,24,698,25],[698,26,698,27],[698,28,698,29],[697,26,697,27],[697,28,697,29],[697,30,697,31],[698,1,698,4],[698,6,698,7],[698,8,698,9],[698,10,698,11],[698,12,698,13],[698,14,698,15],[698,16,698,17],[697,14,697,15],[697,16,697,17],[697,18,697,19],[697,20,697,21],[697,22,697,23],[697,24,697,25],[696,22,696,23],[696,24,696,25],[696,26,696,27],[696,28,696,29],[696,30,696,31],[697,1,697,4],[697,6,697,7],[697,8,697,9],[697,10,697,11],[697,12,697,13],[695,30,695,31],[696,0,696,4],[696,6,696,7],[696,8,696,9],[696,10,696,11],[696,12,696,13],[696,14,696,15],[696,16,696,17],[696,18,696,19],[696,20,696,21],[695,18,695,19],[695,20,695,21],[695,22,695,23],[695,24,695,25],[695,26,695,27],[695,28,695,29],[694,26,694,27],[694,28,694,29],[694,30,694,31],[695,0,695,4],[695,6,695,7],[695,8,695,9],[695,10,695,11],[695,12,695,13],[695,14,695,15],[695,16,695,17],[694,14,694,15],[694,16,694,17],[694,18,694,19],[694,20,694,21],[694,22,694,23],[694,24,694,25],[693,22,693,23],[693,24,693,25],[693,26,693,27],[693,28,693,29],[693,30,693,31],[694,0,694,4],[694,6,694,7],[694,8,694,9],[694,10,694,11],[694,12,694,13],[692,30,692,31],[693,0,693,4],[693,6,693,7],[693,8,693,9],[693,10,693,11],[693,12,693,13],[693,14,693,15],[693,16,693,17],[693,18,693,19],[693,20,693,21],[692,18,692,19],[692,20,692,21],[692,22,692,23],[692,24,692,25],[692,26,692,27],[692,28,692,29],[691,26,691,27],[691,28,691,29],[691,30,691,31],[692,0,692,4],[692,6,692,7],[692,8,692,9],[692,10,692,11],[692,12,692,13],[692,14,692,15],[692,16,692,17],[691,14,691,15],[691,16,691,17],[691,18,691,19],[691,20,691,21],[691,22,691,23],[691,24,691,25],[690,22,690,23],[690,24,690,25],[690,26,690,27],[690,28,690,29],[690,30,690,31],[691,0,691,4],[691,6,691,7],[691,8,691,9],[691,10,691,11],[691,12,691,13],[689,30,689,31],[690,0,690,4],[690,6,690,7],[690,8,690,9],[690,10,690,11],[690,12,690,13],[690,14,690,15],[690,16,690,17],[690,18,690,19],[690,20,690,21],[689,18,689,19],[689,20,689,21],[689,22,689,23],[689,24,689,25],[689,26,689,27],[689,28,689,29],[688,26,688,27],[688,28,688,29],[688,30,688,31],[689,0,689,1],[689,6,689,7],[689,8,689,9],[689,10,689,11],[689,12,689,13],[689,14,689,15],[689,16,689,17],[688,14,688,15],[688,16,688,17],[688,18,688,19],[688,20,688,21],[688,22,688,23],[688,24,688,25],[687,22,687,23],[687,24,687,25],[687,26,687,27],[687,28,687,29],[687,30,687,31],[688,0,688,4],[688,6,688,7],[688,8,688,9],[688,10,688,11],[688,12,688,13],[686,30,686,31],[687,0,687,4],[687,6,687,7],[687,8,687,9],[687,10,687,11],[687,12,687,13],[687,14,687,15],[687,16,687,17],[687,18,687,19],[687,20,687,21],[686,18,686,19],[686,20,686,21],[686,22,686,23],[686,24,686,25],[686,26,686,27],[686,28,686,29],[685,26,685,27],[685,28,685,29],[685,30,685,31],[686,0,686,4],[686,6,686,7],[686,8,686,9],[686,10,686,11],[686,12,686,13],[686,14,686,15],[686,16,686,17],[685,14,685,15],[685,16,685,17],[685,18,685,19],[685,20,685,21],[685,22,685,23],[685,24,685,25],[684,22,684,23],[684,24,684,25],[684,26,684,27],[684,28,684,29],[684,30,684,31],[685,0,685,5],[685,6,685,7],[685,8,685,9],[685,10,685,11],[685,12,685,13],[683,30,683,31],[684,1,684,5],[684,6,684,7],[684,8,684,9],[684,10,684,11],[684,12,684,13],[684,14,684,15],[684,16,684,17],[684,18,684,19],[684,20,684,21],[683,18,683,19],[683,20,683,21],[683,22,683,23],[683,24,683,25],[683,26,683,27],[683,28,683,29],[682,26,682,27],[682,28,682,29],[682,30,682,31],[683,1,683,5],[683,6,683,7],[683,8,683,9],[683,10,683,11],[683,12,683,13],[683,14,683,15],[683,16,683,17],[682,14,682,15],[682,16,682,17],[682,18,682,19],[682,20,682,21],[682,22,682,23],[682,24,682,25],[681,22,681,23],[681,24,681,25],[681,26,681,27],[681,28,681,29],[681,30,681,31],[682,1,682,5],[682,6,682,7],[682,8,682,9],[682,10,682,11],[682,12,682,13],[680,30,680,31],[681,1,681,5],[681,6,681,7],[681,8,681,9],[681,10,681,11],[681,12,681,13],[681,14,681,15],[681,16,681,17],[681,18,681,19],[681,20,681,21],[680,18,680,19],[680,20,680,21],[680,22,680,23],[680,24,680,25],[680,26,680,27],[680,28,680,29],[679,26,679,27],[679,28,679,29],[679,30,679,31],[680,0,680,5],[680,6,680,7],[680,8,680,9],[680,10,680,11],[680,12,680,13],[680,14,680,15],[680,16,680,17],[679,14,679,15],[679,16,679,17],[679,18,679,19],[679,20,679,21],[679,22,679,23],[679,24,679,25],[678,22,678,23],[678,24,678,25],[678,26,678,27],[678,28,678,29],[678,30,678,31],[679,0,679,5],[679,6,679,7],[679,8,679,9],[679,10,679,11],[679,12,679,13],[676,1,676,31],[678,0,678,5],[678,6,678,7],[678,8,678,9],[678,10,678,11],[678,12,678,13],[678,14,678,15],[678,16,678,17],[678,18,678,19],[678,20,678,21],[648,1,648,4],[648,5,648,6],[648,27,648,31],[673,30,673,31],[674,1,674,31],[675,1,675,31],[646,14,646,17],[646,19,646,22],[646,24,646,31],[647,3,647,6],[647,9,647,12],[647,14,647,17],[647,19,647,22],[647,24,647,31],[642,26,643,29],[642,30,643,31],[644,7,644,31],[645,1,645,6],[645,7,647,7],[645,9,645,12],[645,14,645,17],[646,1,646,2],[646,3,646,6],[646,9,646,12],[641,30,641,31],[642,0,643,0],[642,1,643,5],[642,6,643,7],[642,8,643,11],[642,12,643,13],[642,14,643,17],[642,18,643,19],[642,20,643,23],[642,24,643,25],[641,18,641,19],[641,20,641,21],[641,22,641,23],[641,24,641,25],[641,26,641,27],[641,28,641,29],[640,26,640,27],[640,28,640,29],[640,30,640,31],[641,1,641,5],[641,6,641,7],[641,8,641,9],[641,10,641,11],[641,12,641,13],[641,14,641,15],[641,16,641,17],[640,14,640,15],[640,16,640,17],[640,18,640,19],[640,20,640,21],[640,22,640,23],[640,24,640,25],[639,22,639,23],[639,24,639,25],[639,26,639,27],[639,28,639,29],[639,30,639,31],[640,1,640,5],[640,6,640,7],[640,8,640,9],[640,10,640,11],[640,12,640,13],[638,30,638,31],[639,1,639,5],[639,6,639,7],[639,8,639,9],[639,10,639,11],[639,12,639,13],[639,14,639,15],[639,16,639,17],[639,18,639,19],[639,20,639,21],[638,18,638,19],[638,20,638,21],[638,22,638,23],[638,24,638,25],[638,26,638,27],[638,28,638,29],[637,26,637,27],[637,28,637,29],[637,30,637,31],[638,1,638,4],[638,6,638,7],[638,8,638,9],[638,10,638,11],[638,12,638,13],[638,14,638,15],[638,16,638,17],[637,14,637,15],[637,16,637,17],[637,18,637,19],[637,20,637,21],[637,22,637,23],[637,24,637,25],[636,16,636,17],[636,18,636,19],[636,20,636,21],[636,22,636,23],[636,24,636,31],[637,1,637,5],[637,6,637,7],[637,8,637,9],[637,10,637,11],[637,12,637,13],[636,1,636,5],[636,6,636,7],[636,8,636,9],[636,10,636,11],[636,12,636,13],[636,14,636,15],[635,16,635,17],[635,18,635,19],[635,20,635,21],[635,22,635,23],[635,24,635,29],[635,30,635,31],[635,1,635,5],[635,6,635,7],[635,8,635,9],[635,10,635,11],[635,12,635,13],[635,14,635,15],[634,20,634,21],[634,22,634,23],[634,24,634,25],[634,26,634,27],[634,28,634,29],[634,30,634,31],[633,28,633,29],[633,30,633,31],[634,1,634,4],[634,6,634,7],[634,8,634,9],[634,10,634,11],[634,12,634,13],[634,14,634,15],[634,16,634,17]],"merged_total":5057,"flags":["merged_cut"]}
[{"$f":"Labels!B164","v":"\nDen gewünschten Monat mit einem Klick\nwählen (gehe zu)\n\n\nDen gewünschten Monat mit einem Klick\nin die Druckvorschau versetzen (für Druck)"}]
[{"$f":"Labels!B17 &B5","v":"A r b e i t s z e i t k o n t r o l l e 2022"},null,null,null,null,null,null,null,null,null,null,null,null,null,null,null,null,null,null,null,null,null,null,null,null,null,null,null,null,null,null,null,2022,null,"Hilfstabelle",{"$f":"Labels!B77","v":"Jan"},{"$f":"Labels!B78","v":"Feb"},{"$f":"Labels!B79","v":"Mrz"},{"$f":"Labels!B80","v":"Apr"},{"$f":"Labels!B81","v":"Mai"},{"$f":"Labels!B82","v":"Jun"},{"$f":"Labels!B83","v":"Jul"},{"$f":"Labels!B84","v":"Aug"},{"$f":"Labels!B85","v":"Sep"},{"$f":"Labels!B86","v":"Okt"},{"$f":"Labels!B87","v":"Nov"},{"$f":"Labels!B88","v":"Dez"},{"$f":"Labels!B102","v":"Total"},null,"Legenden, Erklärungen & Meldungen"]
[{"$f":"Labels!B18","v":"Mitarbeiter/In"},{"$f":"Labels!B19","v":"Muster Peter"},null,null,null,null,null,null,null,null,null,null,null,null,null,null,null,null,null,null,null,null,null,null,null,null,null,null,null,null,null,null,null,null,{"$f":"Labels!B113","v":"a"},{"$f":"AG820","v":0},{"$f":"AG843","v":0},{"$f":"AG866","v":0},{"$f":"AG889","v":0},{"$f":"AG912","v":0},{"$f":"AG935","v":0},{"$f":"AG958","v":0},{"$f":"AG981","v":0},{"$f":"AG1004","v":0},{"$f":"AG1027","v":0},{"$f":"AG1050","v":0},{"$f":"AG1073","v":0},{"$f":"SUM(AJ3:AU3)","v":0}]
[{"$f":"Labels!B20","v":"Anstellung %"},{"$f":"$AL$44","v":100},null,{"$f":"Labels!B89","v":"im Januar"},null,null,null,null,null,null,{"$f":"Labels!B22","v":"Saldo Vorjahresstunden (+)"},null,null,null,null,null,null,null,null,null,{"$f":"Labels!B24","v":"Ferienguthaben Vorjahr"},null,null,null,null,null,null,null,{"$f":"Labels!B26","v":"Stunden"},null,null,null,null,null,{"$f":"Labels!B115","v":"f"},{"$f":"AG817","v":0},{"$f":"AG840","v":0},{"$f":"AG863","v":0},{"$f":"AG886","v":0},{"$f":"AG909","v":0},{"$f":"AG932","v":0},{"$f":"AG955","v":0},{"$f":"AG978","v":0},{"$f":"AG1001","v":0},{"$f":"AG1024","v":0},{"$f":"AG1047","v":0},{"$f":"AG1070","v":0},0,null,"Legende Stunden zu Zuschläge (DE)"]
[{"$f":"Labels!B21","v":"Saldo für das Jahr"},{"$f":"AG2","v":2022},null,{"$f":"IF($AE$65=0,0,$AE$65)","v":-2080},null,null,null,null,null,null,{"$f":"Labels!B23","v":"Saldo Vorjahresstunden (-)"},null,null,null,null,null,null,null,null,null,{"$f":"Labels!B25","v":"Ferienguthaben laufendes Jahr"},null,null,null,null,null,0,null,{"$f":"Labels!B26","v":"Stunden"},null,null,null,null,null,{"$f":"Labels!B120","v":"k"},{"$f":"AG821","v":0},{"$f":"AG844","v":0},{"$f":"AG867","v":0},{"$f":"AG890","v":0},{"$f":"AG913","v":0},{"$f":"AG936","v":0},{"$f":"AG959","v":0},{"$f":"AG982","v":0},{"$f":"AG1005","v":0},{"$f":"AG1028","v":0},{"$f":"AG1051","v":0},{"$f":"AG1074","v":0},0]
[null,null,null,null,null,null,null,null,null,null,null,null,null,null,null,null,null,null,null,null,null,null,null,null,null,null,null,null,null,null,null,null,null,null,{"$f":"Labels!B122","v":"u"},0,0,0,0,0,0,0,0,0,0,0,0,0,null,"[0]","Feiertagzuschläge gemäss Anstellungsprozent"]
[{"$f":"IF(ISERROR(DATEVALUE(TEXT(\"01.01.\"&B5,\"TT.MM.JJ\"))),\"01/01/\"&B5,\"01.01.\"&B5)","v":"01.01.2022"},48,{"$f":"Labels!B27","v":"Max. Std / Woche gemäss GAV"},null,null,null,null,null,null,8,{"$f":"Labels!B28","v":"Std/Tag gemäss GAV"},null,null,null,null,{"$f":"IF(MOD(YEAR($A$7),400)=0,\"n\",IF(MOD(YEAR($A$7),100)=0,\"n\",IF(MOD(YEAR($A$7),4)=0,\"j\",\"n\")))","v":"n"},{"$f":"Labels!B29","v":"Schaltjahr (j/n)"},null,null,null,{"$f":"NETWORKDAYS(DATE(B5,1,1),DATE(B5,12,31))","v":260},{"$f":"Labels!B30","v":"Arbeitstage (Jahr)"},null,null,null,{"$f":"J7*U7","v":2080},{"$f":"Labels!B31","v":"Jahresbruttosollstunden"},null,null,null,null,null,null,null,{"$f":"Labels!B124","v":"s"},0,0,0,0,0,0,0,0,0,0,0,0,0,null,"[1]","Sonntag Tag Zuschlag"]
[null,null,null,null,null,null,null,null,null,null,null,null,null,null,null,null,null,null,null,null,null,null,null,null,null,null,null,null,null,null,null,null,null,null,{"$f":"Labels!B126","v":"m"},0,0,0,0,0,0,0,0,0,0,0,0,0,null,"[2]","Sonntag Nacht Zuschlag"]
[{"$f":"TEXT(AP29,\"MMMM\"&Labels!B13)","v":"Januar"},{"$f":"Labels!B32","v":"Saldo Monat + / -"},null,null,null,{"$f":"(AG12-(SUM(AG13:AG27)-AE34))*-1","v":-168},null,null,null,null,{"$f":"Labels!B33","v":" = "},{"$f":"Labels!B34","v":"Gelbe Felder müssen ausgefüllt werden (die übrigen werden automatisch berechnet)"},null,null,null,null,null,null,null,null,null,null,null,null,null,null,null,null,null,null,null,null,null,null,{"$f":"Labels!B130","v":"bs"},0,0,0,0,0,0,0,0,0,0,0,0,0,null,"[3]","Zuschläge für ft-Tagarbeit"]
[{"$f":"Labels!B35","v":"Tag"},{"$f":"AP29","v":"2022-01-01"},{"$f":"B10+1","v":"2022-01-02"},"2022-01-03","2022-01-04","2022-01-05","2022-01-06","2022-01-07","2022-01-08","2022-01-09","2022-01-10","2022-01-11","2022-01-12","2022-01-13","2022-01-14","2022-01-15","2022-01-16","2022-01-17","2022-01-18","2022-01-19","2022-01-20","2022-01-21","2022-01-22","2022-01-23","2022-01-24","2022-01-25","2022-01-26","2022-01-27","2022-01-28","2022-01-29","2022-01-30","2022-01-31",{"$f":"COUNT(B12:AF12)&\" \"&Labels!$B$63","v":"21 Tage"},null,{"$f":"Labels!B132","v":"ku"},0,0,0,0,0,0,0,0,0,0,0,0,0,null,"[4]","Zuschläge für ft-Nachtarbeit"]
[{"$f":"Labels!B36","v":"Kalenderwoche"},{"$f":"IF(B10=\"\",\"\",TRUNC((B10-DATE(YEAR(B10+3-MOD(B10-2,7)),1,MOD(B10-2,7)-9))/7))","v":52},{"$f":"IF(C10=\"\",\"\",TRUNC((C10-DATE(YEAR(C10+3-MOD(C10-2,7)),1,MOD(C10-2,7)-9))/7))","v":52},1,1,1,1,1,1,1,2,2,2,2,2,2,2,3,3,3,3,3,3,3,4,4,4,4,4,4,4,5,null,null,{"$f":"Labels!B128","v":"ka"},0,0,0,0,0,0,0,0,0,0,0,0,0,null,"[5]","Produktive Stunden Tag 06.00-20.00 Uhr"]
[{"$f":"Labels!B37","v":"Sollstunden"},{"$f":"IF(AND(MOD(B10,7)>=2,SUMPRODUCT(($AM$56:$AQ$56=MOD(B10,7))*$AM$44:$AQ$44)),($J$7*5/$AR$44)*$B$4%,\"\")","v":""},{"$f":"IF(AND(MOD(C10,7)>=2,SUMPRODUCT(($AM$56:$AQ$56=MOD(C10,7))*$AM$44:$AQ$44)),($J$7*5/$AR$44)*$B$4%,\"\")","v":""},{"$f":"IF(AND(MOD(D10,7)>=2,SUMPRODUCT(($AM$56:$AQ$56=MOD(D10,7))*$AM$44:$AQ$44)),($J$7*5/$AR$44)*$B$4%,\"\")","v":8},{"$f":"IF(AND(MOD(E10,7)>=2,SUMPRODUCT(($AM$56:$AQ$56=MOD(E10,7))*$AM$44:$AQ$44)),($J$7*5/$AR$44)*$B$4%,\"\")","v":8},{"$f":"IF(AND(MOD(F10,7)>=2,SUMPRODUCT(($AM$56:$AQ$56=MOD(F10,7))*$AM$44:$AQ$44)),($J$7*5/$AR$44)*$B$4%,\"\")","v":8},{"$f":"IF(AND(MOD(G10,7)>=2,SUMPRODUCT(($AM$56:$AQ$56=MOD(G10,7))*$AM$44:$AQ$44)),($J$7*5/$AR$44)*$B$4%,\"\")","v":8},{"$f":"IF(AND(MOD(H10,7)>=2,SUMPRODUCT(($AM$56:$AQ$56=MOD(H10,7))*$AM$44:$AQ$44)),($J$7*5/$AR$44)*$B$4%,\"\")","v":8},{"$f":"IF(AND(MOD(I10,7)>=2,SUMPRODUCT(($AM$56:$AQ$56=MOD(I10,7))*$AM$44:$AQ$44)),($J$7*5/$AR$44)*$B$4%,\"\")","v":""},{"$f":"IF(AND(MOD(J10,7)>=2,SUMPRODUCT(($AM$56:$AQ$56=MOD(J10,7))*$AM$44:$AQ$44)),($J$7*5/$AR$44)*$B$4%,\"\")","v":""},{"$f":"IF(AND(MOD(K10,7)>=2,SUMPRODUCT(($AM$56:$AQ$56=MOD(K10,7))*$AM$44:$AQ$44)),($J$7*5/$AR$44)*$B$4%,\"\")","v":8},{"$f":"IF(AND(MOD(L10,7)>=2,SUMPRODUCT(($AM$56:$AQ$56=MOD(L10,7))*$AM$44:$AQ$44)),($J$7*5/$AR$44)*$B$4%,\"\")","v":8},{"$f":"IF(AND(MOD(M10,7)>=2,SUMPRODUCT(($AM$56:$AQ$56=MOD(M10,7))*$AM$44:$AQ$44)),($J$7*5/$AR$44)*$B$4%,\"\")","v":8},{"$f":"IF(AND(MOD(N10,7)>=2,SUMPRODUCT(($AM$56:$AQ$56=MOD(N10,7))*$AM$44:$AQ$44)),($J$7*5/$AR$44)*$B$4%,\"\")","v":8},{"$f":"IF(AND(MOD(O10,7)>=2,SUMPRODUCT(($AM$56:$AQ$56=MOD(O10,7))*$AM$44:$AQ$44)),($J$7*5/$AR$44)*$B$4%,\"\")","v":8},{"$f":"IF(AND(MOD(P10,7)>=2,SUMPRODUCT(($AM$56:$AQ$56=MOD(P10,7))*$AM$44:$AQ$44)),($J$7*5/$AR$44)*$B$4%,\"\")","v":""},{"$f":"IF(AND(MOD(Q10,7)>=2,SUMPRODUCT(($AM$56:$AQ$56=MOD(Q10,7))*$AM$44:$AQ$44)),($J$7*5/$AR$44)*$B$4%,\"\")","v":""},{"$f":"IF(AND(MOD(R10,7)>=2,SUMPRODUCT(($AM$56:$AQ$56=MOD(R10,7))*$AM$44:$AQ$44)),($J$7*5/$AR$44)*$B$4%,\"\")","v":8},{"$f":"IF(AND(MOD(S10,7)>=2,SUMPRODUCT(($AM$56:$AQ$56=MOD(S10,7))*$AM$44:$AQ$44)),($J$7*5/$AR$44)*$B$4%,\"\")","v":8},{"$f":"IF(AND(MOD(T10,7)>=2,SUMPRODUCT(($AM$56:$AQ$56=MOD(T10,7))*$AM$44:$AQ$44)),($J$7*5/$AR$44)*$B$4%,\"\")","v":8},{"$f":"IF(AND(MOD(U10,7)>=2,SUMPRODUCT(($AM$56:$AQ$56=MOD(U10,7))*$AM$44:$AQ$44)),($J$7*5/$AR$44)*$B$4%,\"\")","v":8},{"$f":"IF(AND(MOD(V10,7)>=2,SUMPRODUCT(($AM$56:$AQ$56=MOD(V10,7))*$AM$44:$AQ$44)),($J$7*5/$AR$44)*$B$4%,\"\")","v":8},{"$f":"IF(AND(MOD(W10,7)>=2,SUMPRODUCT(($AM$56:$AQ$56=MOD(W10,7))*$AM$44:$AQ$44)),($J$7*5/$AR$44)*$B$4%,\"\")","v":""},{"$f":"IF(AND(MOD(X10,7)>=2,SUMPRODUCT(($AM$56:$AQ$56=MOD(X10,7))*$AM$44:$AQ$44)),($J$7*5/$AR$44)*$B$4%,\"\")","v":""},{"$f":"IF(AND(MOD(Y10,7)>=2,SUMPRODUCT(($AM$56:$AQ$56=MOD(Y10,7))*$AM$44:$AQ$44)),($J$7*5/$AR$44)*$B$4%,\"\")","v":8},{"$f":"IF(AND(MOD(Z10,7)>=2,SUMPRODUCT(($AM$56:$AQ$56=MOD(Z10,7))*$AM$44:$AQ$44)),($J$7*5/$AR$44)*$B$4%,\"\")","v":8},{"$f":"IF(AND(MOD(AA10,7)>=2,SUMPRODUCT(($AM$56:$AQ$56=MOD(AA10,7))*$AM$44:$AQ$44)),($J$7*5/$AR$44)*$B$4%,\"\")","v":8},{"$f":"IF(AND(MOD(AB10,7)>=2,SUMPRODUCT(($AM$56:$AQ$56=MOD(AB10,7))*$AM$44:$AQ$44)),($J$7*5/$AR$44)*$B$4%,\"\")","v":8},{"$f":"IF(AND(MOD(AC10,7)>=2,SUMPRODUCT(($AM$56:$AQ$56=MOD(AC10,7))*$AM$44:$AQ$44)),($J$7*5/$AR$44)*$B$4%,\"\")","v":8},{"$f":"IF(AND(MOD(AD10,7)>=2,SUMPRODUCT(($AM$56:$AQ$56=MOD(AD10,7))*$AM$44:$AQ$44)),($J$7*5/$AR$44)*$B$4%,\"\")","v":""},{"$f":"IF(AND(MOD(AE10,7)>=2,SUMPRODUCT(($AM$56:$AQ$56=MOD(AE10,7))*$AM$44:$AQ$44)),($J$7*5/$AR$44)*$B$4%,\"\")","v":""},{"$f":"IF(AND(MOD(AF10,7)>=2,SUMPRODUCT(($AM$56:$AQ$56=MOD(AF10,7))*$AM$44:$AQ$44)),($J$7*5/$AR$44)*$B$4%,\"\")","v":8},{"$f":"SUM(B12:AF12)","v":168},null,{"$f":"Labels!B135","v":"kv"},{"$f":"AG818","v":0},{"$f":"AG841","v":0},{"$f":"AG864","v":0},{"$f":"AG887","v":0},{"$f":"AG910","v":0},{"$f":"AG933","v":0},{"$f":"AG956","v":0},{"$f":"AG979","v":0},{"$f":"AG1002","v":0},{"$f":"AG1025","v":0},{"$f":"AG1048","v":0},{"$f":"AG1071","v":0},{"$f":"SUM(AJ12:AU12)","v":0},null,"[6]","Produktive Stunden Nacht  20.00-06.00 Uhr"]
[{"$f":"Labels!B38","v":"Absenz in Std"},{"$f":"B831","v":0},{"$f":"C831","v":0},0,0,0,0,0,0,0,0,0,0,0,0,0,0,0,0,0,0,0,0,0,0,0,0,0,0,0,0,0,{"$f":"SUM(AJ3:AJ13)","v":0},null,{"$f":"Labels!B180","v":"fu"},{"$f":"AG828","v":0},{"$f":"AG851","v":0},{"$f":"AG874","v":0},{"$f":"AG897","v":0},{"$f":"AG920","v":0},{"$f":"AG943","v":0},{"$f":"AG966","v":0},{"$f":"AG989","v":0},{"$f":"AG1012","v":0},{"$f":"AG1035","v":0},{"$f":"AG1058","v":0},{"$f":"AG1081","v":0},{"$f":"SUM(AJ13:AU13)","v":0},null,"[7]","Produktive Stunden im Monat ohne Zeitzuschläge und Absenzen"]
[{"$f":"Labels!B39","v":"Code"},{"$f":"IF(B831<>0,IF(MAX(B818:B830)<B831,Labels!$B$163,INDEX($AH$817:$AH$829,MATCH(MAX(B818:B830),B818:B830,0))),\"\")","v":""},{"$f":"IF(C831<>0,IF(MAX(C818:C830)<C831,Labels!$B$163,INDEX($AH$817:$AH$829,MATCH(MAX(C818:C830),C818:C830,0))),\"\")","v":""},{"$f":"IF(D831<>0,IF(MAX(D818:D830)<D831,Labels!$B$163,INDEX($AH$817:$AH$829,MATCH(MAX(D818:D830),D818:D830,0))),\"\")","v":""},{"$f":"IF(E831<>0,IF(MAX(E818:E830)<E831,Labels!$B$163,INDEX($AH$817:$AH$829,MATCH(MAX(E818:E830),E818:E830,0))),\"\")","v":""},{"$f":"IF(F831<>0,IF(MAX(F818:F830)<F831,Labels!$B$163,INDEX($AH$817:$AH$829,MATCH(MAX(F818:F830),F818:F830,0))),\"\")","v":""},{"$f":"IF(G831<>0,IF(MAX(G818:G830)<G831,Labels!$B$163,INDEX($AH$817:$AH$829,MATCH(MAX(G818:G830),G818:G830,0))),\"\")","v":""},{"$f":"IF(H831<>0,IF(MAX(H818:H830)<H831,Labels!$B$163,INDEX($AH$817:$AH$829,MATCH(MAX(H818:H830),H818:H830,0))),\"\")","v":""},{"$f":"IF(I831<>0,IF(MAX(I818:I830)<I831,Labels!$B$163,INDEX($AH$817:$AH$829,MATCH(MAX(I818:I830),I818:I830,0))),\"\")","v":""},{"$f":"IF(J831<>0,IF(MAX(J818:J830)<J831,Labels!$B$163,INDEX($AH$817:$AH$829,MATCH(MAX(J818:J830),J818:J830,0))),\"\")","v":""},{"$f":"IF(K831<>0,IF(MAX(K818:K830)<K831,Labels!$B$163,INDEX($AH$817:$AH$829,MATCH(MAX(K818:K830),K818:K830,0))),\"\")","v":""},{"$f":"IF(L831<>0,IF(MAX(L818:L830)<L831,Labels!$B$163,INDEX($AH$817:$AH$829,MATCH(MAX(L818:L830),L818:L830,0))),\"\")","v":""},{"$f":"IF(M831<>0,IF(MAX(M818:M830)<M831,Labels!$B$163,INDEX($AH$817:$AH$829,MATCH(MAX(M818:M830),M818:M830,0))),\"\")","v":""},{"$f":"IF(N831<>0,IF(MAX(N818:N830)<N831,Labels!$B$163,INDEX($AH$817:$AH$829,MATCH(MAX(N818:N830),N818:N830,0))),\"\")","v":""},{"$f":"IF(O831<>0,IF(MAX(O818:O830)<O831,Labels!$B$163,INDEX($AH$817:$AH$829,MATCH(MAX(O818:O830),O818:O830,0))),\"\")","v":""},{"$f":"IF(P831<>0,IF(MAX(P818:P830)<P831,Labels!$B$163,INDEX($AH$817:$AH$829,MATCH(MAX(P818:P830),P818:P830,0))),\"\")","v":""},{"$f":"IF(Q831<>0,IF(MAX(Q818:Q830)<Q831,Labels!$B$163,INDEX($AH$817:$AH$829,MATCH(MAX(Q818:Q830),Q818:Q830,0))),\"\")","v":""},{"$f":"IF(R831<>0,IF(MAX(R818:R830)<R831,Labels!$B$163,INDEX($AH$817:$AH$829,MATCH(MAX(R818:R830),R818:R830,0))),\"\")","v":""},{"$f":"IF(S831<>0,IF(MAX(S818:S830)<S831,Labels!$B$163,INDEX($AH$817:$AH$829,MATCH(MAX(S818:S830),S818:S830,0))),\"\")","v":""},{"$f":"IF(T831<>0,IF(MAX(T818:T830)<T831,Labels!$B$163,INDEX($AH$817:$AH$829,MATCH(MAX(T818:T830),T818:T830,0))),\"\")","v":""},{"$f":"IF(U831<>0,IF(MAX(U818:U830)<U831,Labels!$B$163,INDEX($AH$817:$AH$829,MATCH(MAX(U818:U830),U818:U830,0))),\"\")","v":""},{"$f":"IF(V831<>0,IF(MAX(V818:V830)<V831,Labels!$B$163,INDEX($AH$817:$AH$829,MATCH(MAX(V818:V830),V818:V830,0))),\"\")","v":""},{"$f":"IF(W831<>0,IF(MAX(W818:W830)<W831,Labels!$B$163,INDEX($AH$817:$AH$829,MATCH(MAX(W818:W830),W818:W830,0))),\"\")","v":""},{"$f":"IF(X831<>0,IF(MAX(X818:X830)<X831,Labels!$B$163,INDEX($AH$817:$AH$829,MATCH(MAX(X818:X830),X818:X830,0))),\"\")","v":""},{"$f":"IF(Y831<>0,IF(MAX(Y818:Y830)<Y831,Labels!$B$163,INDEX($AH$817:$AH$829,MATCH(MAX(Y818:Y830),Y818:Y830,0))),\"\")","v":""},{"$f":"IF(Z831<>0,IF(MAX(Z818:Z830)<Z831,Labels!$B$163,INDEX($AH$817:$AH$829,MATCH(MAX(Z818:Z830),Z818:Z830,0))),\"\")","v":""},{"$f":"IF(AA831<>0,IF(MAX(AA818:AA830)<AA831,Labels!$B$163,INDEX($AH$817:$AH$829,MATCH(MAX(AA818:AA830),AA818:AA830,0))),\"\")","v":""},{"$f":"IF(AB831<>0,IF(MAX(AB818:AB830)<AB831,Labels!$B$163,INDEX($AH$817:$AH$829,MATCH(MAX(AB818:AB830),AB818:AB830,0))),\"\")","v":""},{"$f":"IF(AC831<>0,IF(MAX(AC818:AC830)<AC831,Labels!$B$163,INDEX($AH$817:$AH$829,MATCH(MAX(AC818:AC830),AC818:AC830,0))),\"\")","v":""},{"$f":"IF(AD831<>0,IF(MAX(AD818:AD830)<AD831,Labels!$B$163,INDEX($AH$817:$AH$829,MATCH(MAX(AD818:AD830),AD818:AD830,0))),\"\")","v":""},{"$f":"IF(AE831<>0,IF(MAX(AE818:AE830)<AE831,Labels!$B$163,INDEX($AH$817:$AH$829,MATCH(MAX(AE818:AE830),AE818:AE830,0))),\"\")","v":""},{"$f":"IF(AF831<>0,IF(MAX(AF818:AF830)<AF831,Labels!$B$163,INDEX($AH$817:$AH$829,MATCH(MAX(AF818:AF830),AF818:AF830,0))),\"\")","v":""},null,null,{"$f":"Labels!B145","v":"fe"},{"$f":"AG829","v":0},{"$f":"AG852","v":0},{"$f":"AG875","v":0},{"$f":"AG898","v":0},{"$f":"AG921","v":0},{"$f":"AG944","v":0},{"$f":"AG967","v":0},{"$f":"AG990","v":0},{"$f":"AG1013","v":0},{"$f":"AG1036","v":0},{"$f":"AG1059","v":0},{"$f":"AG1082","v":0},{"$f":"SUM(AJ14:AU14)","v":0},null,"[8]","Unproduktive Stunden (Feiertag, Absenzen)"]
[{"$f":"Labels!B40","v":"00.00-06.00h"},null,null,null,null,null,null,null,null,null,null,null,null,null,null,null,null,null,null,null,null,null,null,null,null,null,null,null,null,null,null,null,{"$f":"SUM(B15:AF15)","v":0},null,{"$f":"Labels!B137","v":"kj"},{"$f":"AG819","v":0},{"$f":"AG842","v":0},{"$f":"AG865","v":0},{"$f":"AG888","v":0},{"$f":"AG911","v":0},{"$f":"AG934","v":0},{"$f":"AG957","v":0},{"$f":"AG980","v":0},{"$f":"AG1003","v":0},{"$f":"AG1026","v":0},{"$f":"AG1049","v":0},{"$f":"AG1072","v":0},{"$f":"SUM(AJ15:AU15)","v":0},null,"[9]","Total  gearbeitete Std. im Monat mit Zeitzuschlägen und Absenzen abz. ausbezahlte Stunden"]
[{"$f":"Labels!B41","v":"06.00-20.00h"},null,null,null,null,null,null,null,null,null,null,null,null,null,null,null,null,null,null,null,null,null,null,null,null,null,null,null,null,null,null,null,{"$f":"SUM(B16:AF16)","v":0},null,{"$f":"Labels!B118","v":"ft"},{"$f":"SUMIF($B$18:$AF$18,$AI$16,$B$19:$AF$19)","v":0},{"$f":"SUMIF($B$82:$AD$82,$AI$16,$B$83:$AD$83)","v":0},{"$f":"SUMIF($B$146:$AF$146,$AI$16,$B$147:$AF$147)","v":0},{"$f":"SUMIF($B$210:$AE$210,$AI$16,$B$211:$AE$211)","v":0},{"$f":"SUMIF($B$274:$AF$274,$AI$16,$B$275:$AF$275)","v":0},{"$f":"SUMIF($B$338:$AE$338,$AI$16,$B$339:$AE$339)","v":0},{"$f":"SUMIF($B$402:$AF$402,$AI$16,$B$403:$AF$403)","v":0},{"$f":"SUMIF($B$466:$AF$466,$AI$16,$B$467:$AF$467)","v":0},{"$f":"SUMIF($B$530:$AE$530,$AI$16,$B$531:$AE$531)","v":0},{"$f":"SUMIF($B$594:$AF$594,$AI$16,$B$595:$AF$595)","v":0},{"$f":"SUMIF($B$658:$AE$658,$AI$16,$B$659:$AE$659)","v":0},{"$f":"SUMIF($B$722:$AF$722,$AI$16,$B$723:$AF$723)","v":0},{"$f":"SUM(AJ16:AU16)","v":0},null,"[10]","Soll-Stunden"]
[{"$f":"Labels!B42","v":"20.00-24.00h"},null,null,null,null,null,null,null,null,null,null,null,null,null,null,null,null,null,null,null,null,null,null,null,null,null,null,null,null,null,null,null,{"$f":"SUM(B17:AF17)","v":0},null,{"$f":"Labels!B160","v":"Anzahl ft"},{"$f":"COUNTIF($B$18:$AF$18,$AI$16)","v":0},{"$f":"COUNTIF($B$82:$AD$82,$AI$16)","v":0},{"$f":"COUNTIF($B$146:$AF$146,$AI$16)","v":0},{"$f":"COUNTIF($B$210:$AE$210,$AI$16)","v":0},{"$f":"COUNTIF($B$274:$AF$274,$AI$16)","v":0},{"$f":"COUNTIF($B$338:$AE$338,$AI$16)","v":0},{"$f":"COUNTIF($B$402:$AF$402,$AI$16)","v":0},{"$f":"COUNTIF($B$466:$AF$466,$AI$16)","v":0},{"$f":"COUNTIF($B$530:$AE$530,$AI$16)","v":0},{"$f":"COUNTIF($B$594:$AF$594,$AI$16)","v":0},{"$f":"COUNTIF($B$658:$AE$658,$AI$16)","v":0},{"$f":"COUNTIF($B$722:$AF$722,$AI$16)","v":0},0,null,"[11]","Vergleich im Monat gearbeitete Std. inkl. Zeitzuschläge minus Zahlung Vorjahr zu Soll-Stunden + / -"]
[{"$f":"Labels!B43","v":"Feiertag \"ft\""},{"$f":"IF(WEEKDAY(B10,2)<=6,IF(KALENDER!E3=\"x\",Labels!$B$118,\"\"),\"\")","v":""},{"$f":"IF(WEEKDAY(C10,2)<=6,IF(KALENDER!F3=\"x\",Labels!$B$118,\"\"),\"\")","v":""},{"$f":"IF(WEEKDAY(D10,2)<=6,IF(KALENDER!G3=\"x\",Labels!$B$118,\"\"),\"\")","v":""},{"$f":"IF(WEEKDAY(E10,2)<=6,IF(KALENDER!H3=\"x\",Labels!$B$118,\"\"),\"\")","v":""},{"$f":"IF(WEEKDAY(F10,2)<=6,IF(KALENDER!I3=\"x\",Labels!$B$118,\"\"),\"\")","v":""},{"$f":"IF(WEEKDAY(G10,2)<=6,IF(KALENDER!J3=\"x\",Labels!$B$118,\"\"),\"\")","v":""},{"$f":"IF(WEEKDAY(H10,2)<=6,IF(KALENDER!K3=\"x\",Labels!$B$118,\"\"),\"\")","v":""},{"$f":"IF(WEEKDAY(I10,2)<=6,IF(KALENDER!L3=\"x\",Labels!$B$118,\"\"),\"\")","v":""},{"$f":"IF(WEEKDAY(J10,2)<=6,IF(KALENDER!M3=\"x\",Labels!$B$118,\"\"),\"\")","v":""},{"$f":"IF(WEEKDAY(K10,2)<=6,IF(KALENDER!N3=\"x\",Labels!$B$118,\"\"),\"\")","v":""},{"$f":"IF(WEEKDAY(L10,2)<=6,IF(KALENDER!O3=\"x\",Labels!$B$118,\"\"),\"\")","v":""},{"$f":"IF(WEEKDAY(M10,2)<=6,IF(KALENDER!P3=\"x\",Labels!$B$118,\"\"),\"\")","v":""},{"$f":"IF(WEEKDAY(N10,2)<=6,IF(KALENDER!Q3=\"x\",Labels!$B$118,\"\"),\"\")","v":""},{"$f":"IF(WEEKDAY(O10,2)<=6,IF(KALENDER!R3=\"x\",Labels!$B$118,\"\"),\"\")","v":""},{"$f":"IF(WEEKDAY(P10,2)<=6,IF(KALENDER!S3=\"x\",Labels!$B$118,\"\"),\"\")","v":""},{"$f":"IF(WEEKDAY(Q10,2)<=6,IF(KALENDER!T3=\"x\",Labels!$B$118,\"\"),\"\")","v":""},{"$f":"IF(WEEKDAY(R10,2)<=6,IF(KALENDER!U3=\"x\",Labels!$B$118,\"\"),\"\")","v":""},{"$f":"IF(WEEKDAY(S10,2)<=6,IF(KALENDER!V3=\"x\",Labels!$B$118,\"\"),\"\")","v":""},{"$f":"IF(WEEKDAY(T10,2)<=6,IF(KALENDER!W3=\"x\",Labels!$B$118,\"\"),\"\")","v":""},{"$f":"IF(WEEKDAY(U10,2)<=6,IF(KALENDER!X3=\"x\",Labels!$B$118,\"\"),\"\")","v":""},{"$f":"IF(WEEKDAY(V10,2)<=6,IF(KALENDER!Y3=\"x\",Labels!$B$118,\"\"),\"\")","v":""},{"$f":"IF(WEEKDAY(W10,2)<=6,IF(KALENDER!Z3=\"x\",Labels!$B$118,\"\"),\"\")","v":""},{"$f":"IF(WEEKDAY(X10,2)<=6,IF(KALENDER!AA3=\"x\",Labels!$B$118,\"\"),\"\")","v":""},{"$f":"IF(WEEKDAY(Y10,2)<=6,IF(KALENDER!AB3=\"x\",Labels!$B$118,\"\"),\"\")","v":""},{"$f":"IF(WEEKDAY(Z10,2)<=6,IF(KALENDER!AC3=\"x\",Labels!$B$118,\"\"),\"\")","v":""},{"$f":"IF(WEEKDAY(AA10,2)<=6,IF(KALENDER!AD3=\"x\",Labels!$B$118,\"\"),\"\")","v":""},{"$f":"IF(WEEKDAY(AB10,2)<=6,IF(KALENDER!AE3=\"x\",Labels!$B$118,\"\"),\"\")","v":""},{"$f":"IF(WEEKDAY(AC10,2)<=6,IF(KALENDER!AF3=\"x\",Labels!$B$118,\"\"),\"\")","v":""},{"$f":"IF(WEEKDAY(AD10,2)<=6,IF(KALENDER!AG3=\"x\",Labels!$B$118,\"\"),\"\")","v":""},{"$f":"IF(WEEKDAY(AE10,2)<=6,IF(KALENDER!AH3=\"x\",Labels!$B$118,\"\"),\"\")","v":""},{"$f":"IF(WEEKDAY(AF10,2)<=6,IF(KALENDER!AI3=\"x\",Labels!$B$118,\"\"),\"\")","v":""},null,"[0]",{"$f":"Labels!B161","v":"Meldung"},{"$f":"IF($AV$17>9,\"(\" & $AV$17 & \" = \" & Labels!B117,\"\")","v":""}]
[{"$f":"Labels!B44","v":"Gutschrift \"ft\""},{"$f":"IF(AND(B18=Labels!$B$118,WEEKDAY(B10,2)<6,B$12<>\"\"),($J$7*5/$AR$44)*$B$4%,\"\")","v":""},{"$f":"IF(AND(C18=Labels!$B$118,WEEKDAY(C10,2)<6,C$12<>\"\"),($J$7*5/$AR$44)*$B$4%,\"\")","v":""},{"$f":"IF(AND(D18=Labels!$B$118,WEEKDAY(D10,2)<6,D$12<>\"\"),($J$7*5/$AR$44)*$B$4%,\"\")","v":""},{"$f":"IF(AND(E18=Labels!$B$118,WEEKDAY(E10,2)<6,E$12<>\"\"),($J$7*5/$AR$44)*$B$4%,\"\")","v":""},{"$f":"IF(AND(F18=Labels!$B$118,WEEKDAY(F10,2)<6,F$12<>\"\"),($J$7*5/$AR$44)*$B$4%,\"\")","v":""},{"$f":"IF(AND(G18=Labels!$B$118,WEEKDAY(G10,2)<6,G$12<>\"\"),($J$7*5/$AR$44)*$B$4%,\"\")","v":""},{"$f":"IF(AND(H18=Labels!$B$118,WEEKDAY(H10,2)<6,H$12<>\"\"),($J$7*5/$AR$44)*$B$4%,\"\")","v":""},{"$f":"IF(AND(I18=Labels!$B$118,WEEKDAY(I10,2)<6,I$12<>\"\"),($J$7*5/$AR$44)*$B$4%,\"\")","v":""},{"$f":"IF(AND(J18=Labels!$B$118,WEEKDAY(J10,2)<6,J$12<>\"\"),($J$7*5/$AR$44)*$B$4%,\"\")","v":""},{"$f":"IF(AND(K18=Labels!$B$118,WEEKDAY(K10,2)<6,K$12<>\"\"),($J$7*5/$AR$44)*$B$4%,\"\")","v":""},{"$f":"IF(AND(L18=Labels!$B$118,WEEKDAY(L10,2)<6,L$12<>\"\"),($J$7*5/$AR$44)*$B$4%,\"\")","v":""},{"$f":"IF(AND(M18=Labels!$B$118,WEEKDAY(M10,2)<6,M$12<>\"\"),($J$7*5/$AR$44)*$B$4%,\"\")","v":""},{"$f":"IF(AND(N18=Labels!$B$118,WEEKDAY(N10,2)<6,N$12<>\"\"),($J$7*5/$AR$44)*$B$4%,\"\")","v":""},{"$f":"IF(AND(O18=Labels!$B$118,WEEKDAY(O10,2)<6,O$12<>\"\"),($J$7*5/$AR$44)*$B$4%,\"\")","v":""},{"$f":"IF(AND(P18=Labels!$B$118,WEEKDAY(P10,2)<6,P$12<>\"\"),($J$7*5/$AR$44)*$B$4%,\"\")","v":""},{"$f":"IF(AND(Q18=Labels!$B$118,WEEKDAY(Q10,2)<6,Q$12<>\"\"),($J$7*5/$AR$44)*$B$4%,\"\")","v":""},{"$f":"IF(AND(R18=Labels!$B$118,WEEKDAY(R10,2)<6,R$12<>\"\"),($J$7*5/$AR$44)*$B$4%,\"\")","v":""},{"$f":"IF(AND(S18=Labels!$B$118,WEEKDAY(S10,2)<6,S$12<>\"\"),($J$7*5/$AR$44)*$B$4%,\"\")","v":""},{"$f":"IF(AND(T18=Labels!$B$118,WEEKDAY(T10,2)<6,T$12<>\"\"),($J$7*5/$AR$44)*$B$4%,\"\")","v":""},{"$f":"IF(AND(U18=Labels!$B$118,WEEKDAY(U10,2)<6,U$12<>\"\"),($J$7*5/$AR$44)*$B$4%,\"\")","v":""},{"$f":"IF(AND(V18=Labels!$B$118,WEEKDAY(V10,2)<6,V$12<>\"\"),($J$7*5/$AR$44)*$B$4%,\"\")","v":""},{"$f":"IF(AND(W18=Labels!$B$118,WEEKDAY(W10,2)<6,W$12<>\"\"),($J$7*5/$AR$44)*$B$4%,\"\")","v":""},{"$f":"IF(AND(X18=Labels!$B$118,WEEKDAY(X10,2)<6,X$12<>\"\"),($J$7*5/$AR$44)*$B$4%,\"\")","v":""},{"$f":"IF(AND(Y18=Labels!$B$118,WEEKDAY(Y10,2)<6,Y$12<>\"\"),($J$7*5/$AR$44)*$B$4%,\"\")","v":""},{"$f":"IF(AND(Z18=Labels!$B$118,WEEKDAY(Z10,2)<6,Z$12<>\"\"),($J$7*5/$AR$44)*$B$4%,\"\")","v":""},{"$f":"IF(AND(AA18=Labels!$B$118,WEEKDAY(AA10,2)<6,AA$12<>\"\"),($J$7*5/$AR$44)*$B$4%,\"\")","v":""},{"$f":"IF(AND(AB18=Labels!$B$118,WEEKDAY(AB10,2)<6,AB$12<>\"\"),($J$7*5/$AR$44)*$B$4%,\"\")","v":""},{"$f":"IF(AND(AC18=Labels!$B$118,WEEKDAY(AC10,2)<6,AC$12<>\"\"),($J$7*5/$AR$44)*$B$4%,\"\")","v":""},{"$f":"IF(AND(AD18=Labels!$B$118,WEEKDAY(AD10,2)<6,AD$12<>\"\"),($J$7*5/$AR$44)*$B$4%,\"\")","v":""},{"$f":"IF(AND(AE18=Labels!$B$118,WEEKDAY(AE10,2)<6,AE$12<>\"\"),($J$7*5/$AR$44)*$B$4%,\"\")","v":""},{"$f":"IF(AND(AF18=Labels!$B$118,WEEKDAY(AF10,2)<6,AF$12<>\"\"),($J$7*5/$AR$44)*$B$4%,\"\")","v":""},{"$f":"SUM(B19:AF19)","v":0},null,"Bez VoJa",{"$f":"$AE$33","v":0},{"$f":"$AE$97","v":0},{"$f":"$AE$161","v":0},{"$f":"$AE$225","v":0},{"$f":"$AE$289","v":0},{"$f":"$AE$353","v":0},{"$f":"$AE$417","v":0},{"$f":"$AE$481","v":0},{"$f":"$AE$545","v":0},null,null,null,{"$f":"SUM(AJ19:AU19)","v":0}]
[{"$f":"Labels!B45","v":"Tagestotal"},{"$f":"SUM(B15:B17)","v":0},{"$f":"SUM(C15:C17)","v":0},0,0,0,0,0,0,0,0,0,0,0,0,0,0,0,0,0,0,0,0,0,0,0,0,0,0,0,0,0,null,null,"Bez LaJa",{"$f":"$AE$34","v":0},{"$f":"$AE$98","v":0},{"$f":"$AE$162","v":0},{"$f":"$AE$226","v":0},{"$f":"$AE$290","v":0},{"$f":"$AE$354","v":0},{"$f":"$AE$418","v":0},{"$f":"$AE$482","v":0},{"$f":"$AE$546","v":0},{"$f":"$AE$610","v":0},{"$f":"$AE$674","v":0},{"$f":"$AE$738","v":0},{"$f":"SUM(AJ20:AU20)","v":0},null,"Legende Absenztypen (DE)"]
[{"$f":"Labels!B46","v":"."},null,null,null,null,null,null,null,null,null,null,null,null,null,null,null,null,null,null,null,null,null,null,null,null,null,null,null,null,null,null,null,null,null,"Zuschläge Nacht/Sonn-/Feiertag",{"$f":"SUM(AG26+AG27)","v":0},{"$f":"SUM(AG89+AG90)","v":0},{"$f":"SUM(AG153+AG154)","v":0},{"$f":"SUM(AG217+AG218)","v":0},{"$f":"SUM(AG281+AG282)","v":0},{"$f":"SUM(AG345+AG346)","v":0},{"$f":"SUM(AG409+AG410)","v":0},{"$f":"SUM(AG473+AG474)","v":0},{"$f":"SUM(AG537+AG538)","v":0},{"$f":"SUM(AG601+AG602)","v":0},{"$f":"SUM(AG665+AG666)","v":0},{"$f":"SUM(AG729+AG730)","v":0},{"$f":"SUM(AJ21:AU21)","v":0}]
[{"$f":"Labels!B47","v":"."},null,null,null,null,null,null,null,null,null,null,null,null,null,null,null,null,null,null,null,null,null,null,null,null,null,null,null,null,null,null,null,null,null,null,null,null,null,null,null,null,null,null,null,null,null,null,null,null,"a","Absenzen, Kurzabsenzen\nArt. 11 GAV"]
[{"$f":"Labels!B48","v":"Monatsübergang"},{"$f":"IF(WEEKDAY(B10)=1,TEXT(B10-1,\"MMM\"&Labels!B13),\"\")","v":""},null,null,null,null,null,null,null,null,null,null,null,null,null,null,null,null,null,null,null,null,null,null,null,null,null,null,null,null,null,{"$f":"IF(AND(WEEKDAY(AF10)>1,WEEKDAY(AF10)<7),TEXT(DATE($B$5,MONTH(AF10)+1,1),\"MMM\"&Labels!B13),\"\")","v":"Feb"},null,null,null,null,null,null,null,null,null,null,null,null,null,null,null,null,null,"f","Ferien Art. 12.1. GAV"]
[{"$f":"Labels!B49","v":"Wochentotal"},{"$f":"IF(WEEKDAY(B10)=7,SUMIF($B11:$AF11,B11,$B20:$AF20)+SUMIF($B75:$AD75,B11,$B84:$AD84),IF(WEEKDAY(B10)=1,SUMIF($B11:$AF11,B11,$B20:$AF20)+SUMIF($B75:$AD75,B11,$B84:$AD84),\"\"))","v":0},{"$f":"IF(WEEKDAY(C10)=7,SUMIF($B11:$AF11,C11,$B20:$AF20)+SUMIF($B75:$AD75,C11,$B84:$AD84),\"\")","v":""},"","","","","",0,"","","","","","",0,"","","","","","",0,"","","","","","",0,"",{"$f":"IF(WEEKDAY(AF10)=7,SUMIF($B11:$AF11,AF11,$B20:$AF20)+SUMIF($B75:$AD75,AF11,$B84:$AD84),AF23)","v":"Feb"},null,null,null,null,null,null,null,null,null,null,null,null,null,null,null,null,null,"k","Krankheit Art. 13 GAV"]
[{"$f":"Labels!B50","v":"Zeitzuschlag 1)"},{"$f":"IF(B32=\"FALSCH\",\"\",B32)","v":""},{"$f":"IF(C32=\"FALSCH\",\"\",C32)","v":""},"","","","","","","","","","","","","","","","","","","","","","","","","","","","","",{"$f":"SUM(B25:AF25)","v":0},null,null,null,null,null,null,null,null,null,null,null,null,null,null,null,null,"m","Militär, Zivilschutz\nArt. 16 GAV"]
[{"$f":"Labels!B51","v":"Zeitzuschlag 2)"},{"$f":"IF((B15+B17)=0,\"\",SUM(B15,B17))","v":""},{"$f":"IF((C15+C17)=0,\"\",SUM(C15,C17))","v":""},{"$f":"IF((D15+D17)=0,\"\",SUM(D15,D17))","v":""},{"$f":"IF((E15+E17)=0,\"\",SUM(E15,E17))","v":""},"","","","","","","","","","","","","","","","","","","","","","","","","","","",0,"[1]",null,null,null,null,null,null,null,null,null,null,null,null,null,null,null,"s","Schwanger-/Mutterschaft\nArt. 15 GAV"]
[{"$f":"Labels!B52","v":"Zeitzuschlag 3)"},{"$f":"SUM(B28:B31)","v":0},0,0,0,0,0,0,0,0,0,0,0,0,0,0,0,0,0,0,0,0,0,0,0,0,0,0,0,0,0,0,{"$f":"SUM(B27:AF27)","v":0},"[2]","Konfiguration (lokal)",null,null,null,null,null,null,null,null,null,null,null,null,null,null,"u","Unfall Art. 14 GAV"]
[{"$f":"Labels!B53","v":"Sonntag Tag"},{"$f":"IF(WEEKDAY(B10)=1,B16,\"\")","v":""},{"$f":"IF(WEEKDAY(C10)=1,C16,\"\")","v":0},"","","","","","",0,"","","","","","",0,"","","","","","",0,"","","","","","",0,"",0,"[3]",null,null,null,null,null,null,null,null,null,null,null,null,null,null,null,"bs","Berufsschule"]
[{"$f":"Labels!B54","v":"Sonntag Nacht"},{"$f":"IF(WEEKDAY(B10)=1,SUM(B15+B17),\"\")","v":""},{"$f":"IF(WEEKDAY(C10)=1,SUM(C15+C17),\"\")","v":0},"","","","","","",0,"","","","","","",0,"","","","","","",0,"","","","","","",0,"",0,"[4]","Erster Januar aktuelles Jahr",null,null,null,null,null,null,{"$f":"DATE(YEAR($A$7),MONTH($A$7),DAY($A$7))","v":"2022-01-01"},null,null,null,null,null,null,null,"fe","Fehlstunden zur Information ohne Berechnung in der Zusammenfassung"]
[{"$f":"Labels!B55","v":"ft-Tazuschlag"},{"$f":"IF(B18=Labels!$B$118,B16,\"\")","v":""},{"$f":"IF(C18=Labels!$B$118,C16,\"\")","v":""},{"$f":"IF(D18=Labels!$B$118,D16,\"\")","v":""},{"$f":"IF(E18=Labels!$B$118,E16,\"\")","v":""},{"$f":"IF(F18=Labels!$B$118,F16,\"\")","v":""},{"$f":"IF(G18=Labels!$B$118,G16,\"\")","v":""},{"$f":"IF(H18=Labels!$B$118,H16,\"\")","v":""},{"$f":"IF(I18=Labels!$B$118,I16,\"\")","v":""},{"$f":"IF(J18=Labels!$B$118,J16,\"\")","v":""},{"$f":"IF(K18=Labels!$B$118,K16,\"\")","v":""},{"$f":"IF(L18=Labels!$B$118,L16,\"\")","v":""},{"$f":"IF(M18=Labels!$B$118,M16,\"\")","v":""},{"$f":"IF(N18=Labels!$B$118,N16,\"\")","v":""},{"$f":"IF(O18=Labels!$B$118,O16,\"\")","v":""},{"$f":"IF(P18=Labels!$B$118,P16,\"\")","v":""},{"$f":"IF(Q18=Labels!$B$118,Q16,\"\")","v":""},{"$f":"IF(R18=Labels!$B$118,R16,\"\")","v":""},{"$f":"IF(S18=Labels!$B$118,S16,\"\")","v":""},{"$f":"IF(T18=Labels!$B$118,T16,\"\")","v":""},{"$f":"IF(U18=Labels!$B$118,U16,\"\")","v":""},{"$f":"IF(V18=Labels!$B$118,V16,\"\")","v":""},{"$f":"IF(W18=Labels!$B$118,W16,\"\")","v":""},{"$f":"IF(X18=Labels!$B$118,X16,\"\")","v":""},{"$f":"IF(Y18=Labels!$B$118,Y16,\"\")","v":""},{"$f":"IF(Z18=Labels!$B$118,Z16,\"\")","v":""},{"$f":"IF(AA18=Labels!$B$118,AA16,\"\")","v":""},{"$f":"IF(AB18=Labels!$B$118,AB16,\"\")","v":""},{"$f":"IF(AC18=Labels!$B$118,AC16,\"\")","v":""},{"$f":"IF(AD18=Labels!$B$118,AD16,\"\")","v":""},{"$f":"IF(AE18=Labels!$B$118,AE16,\"\")","v":""},{"$f":"IF(AF18=Labels!$B$118,AF16,\"\")","v":""},0,"[5]","(Berechnungsgrundlage Kalender)",null,null,null,null,null,null,null,null,null,null,null,null,null,null,"ka","Kurzabeit, Schlechtwetterausfälle"]
[{"$f":"Labels!B56","v":"ft-Nazuschlag"},{"$f":"IF(B18=Labels!$B$118,SUM(B15,B17),\"\")","v":""},{"$f":"IF(C18=Labels!$B$118,SUM(C15,C17),\"\")","v":""},{"$f":"IF(D18=Labels!$B$118,SUM(D15,D17),\"\")","v":""},{"$f":"IF(E18=Labels!$B$118,SUM(E15,E17),\"\")","v":""},{"$f":"IF(F18=Labels!$B$118,SUM(F15,F17),\"\")","v":""},{"$f":"IF(G18=Labels!$B$118,SUM(G15,G17),\"\")","v":""},{"$f":"IF(H18=Labels!$B$118,SUM(H15,H17),\"\")","v":""},{"$f":"IF(I18=Labels!$B$118,SUM(I15,I17),\"\")","v":""},{"$f":"IF(J18=Labels!$B$118,SUM(J15,J17),\"\")","v":""},{"$f":"IF(K18=Labels!$B$118,SUM(K15,K17),\"\")","v":""},{"$f":"IF(L18=Labels!$B$118,SUM(L15,L17),\"\")","v":""},{"$f":"IF(M18=Labels!$B$118,SUM(M15,M17),\"\")","v":""},{"$f":"IF(N18=Labels!$B$118,SUM(N15,N17),\"\")","v":""},{"$f":"IF(O18=Labels!$B$118,SUM(O15,O17),\"\")","v":""},{"$f":"IF(P18=Labels!$B$118,SUM(P15,P17),\"\")","v":""},{"$f":"IF(Q18=Labels!$B$118,SUM(Q15,Q17),\"\")","v":""},{"$f":"IF(R18=Labels!$B$118,SUM(R15,R17),\"\")","v":""},{"$f":"IF(S18=Labels!$B$118,SUM(S15,S17),\"\")","v":""},{"$f":"IF(T18=Labels!$B$118,SUM(T15,T17),\"\")","v":""},{"$f":"IF(U18=Labels!$B$118,SUM(U15,U17),\"\")","v":""},{"$f":"IF(V18=Labels!$B$118,SUM(V15,V17),\"\")","v":""},{"$f":"IF(W18=Labels!$B$118,SUM(W15,W17),\"\")","v":""},{"$f":"IF(X18=Labels!$B$118,SUM(X15,X17),\"\")","v":""},{"$f":"IF(Y18=Labels!$B$118,SUM(Y15,Y17),\"\")","v":""},{"$f":"IF(Z18=Labels!$B$118,SUM(Z15,Z17),\"\")","v":""},{"$f":"IF(AA18=Labels!$B$118,SUM(AA15,AA17),\"\")","v":""},{"$f":"IF(AB18=Labels!$B$118,SUM(AB15,AB17),\"\")","v":""},{"$f":"IF(AC18=Labels!$B$118,SUM(AC15,AC17),\"\")","v":""},{"$f":"IF(AD18=Labels!$B$118,SUM(AD15,AD17),\"\")","v":""},{"$f":"IF(AE18=Labels!$B$118,SUM(AE15,AE17),\"\")","v":""},{"$f":"IF(AF18=Labels!$B$118,SUM(AF15,AF17),\"\")","v":""},0,"[6]",null,null,null,null,null,null,null,null,null,null,null,null,null,null,null,"kj","Kompensation laufendes Jahr siehe  Zusammenfassung"]
[{"$f":"Labels!B57","v":"Zuschlag  blind (Wochentotal)"},{"$f":"IF(OR(ISTEXT(B24),B24=\"\",B24<$B$7),\"\",ROUND(((B24-$B$7)*25%)/25,4)*25)","v":""},{"$f":"IF(OR(ISTEXT(C24),C24=\"\",C24<$B$7),\"\",ROUND(((C24-$B$7)*25%)/25,4)*25)","v":""},"","","","","","","","","","","","","","","","","","","","","","","","","","","","","",{"$f":"AG16","v":0},"[7]","Hilfszelle Feiertage",null,null,null,null,null,null,null,{"$f":"Labels!$B$118","v":"ft"},null,null,null,null,null,null,"ku","Kurse"]
[null,{"$f":"Labels!B58","v":"1)   25% Zeitzuschlag für Überschreitung Wochentotal"},null,null,null,null,null,null,null,null,null,{"$f":"Labels!B59","v":"2) 100% Zeitzuschlag für Nachtarbeit"},null,null,null,null,null,null,null,{"$f":"Labels!B61","v":"Eingabe der ausbezahlten Stunden Vorjahressaldo"},null,null,null,null,null,null,null,null,null,null,null,null,{"$f":"SUM(AG15+AG17)","v":0},"[8]",null,null,null,null,null,null,null,null,null,null,null,null,null,null,null,"kv","Kompensation Vorjahressaldo für Abrechnung in der Zusammenfassung"]
[null,{"$f":"Labels!B60","v":"3) 100% Zeitzuschlag für Sonn- und Feiertagsarbeit"},null,null,null,null,null,null,null,null,null,null,null,null,null,null,null,null,null,{"$f":"Labels!B62","v":"Eingabe der ausbezahlten Stunden laufendes Jahr (Überstunden)"},null,null,null,null,null,null,null,null,null,null,null,null,{"$f":"SUM(AG15:AG17)","v":0},"[9]","aktueller Kalender",null,"calendar",null,null,null,null,null,"KALENDER",null,null,null,null,null,null,"fu","Ferien unbezahlt"]
[{"$f":"Labels!B159","v":"Bemerkungen"},null,null,null,null,null,null,null,null,null,null,null,null,null,null,null,null,null,null,null,null,null,null,null,null,null,null,null,null,null,null,null,{"$f":"SUM(AG13+AG19)","v":0},"[10]"]
[null,null,null,null,null,null,null,null,null,null,null,null,null,null,null,null,null,null,null,null,null,null,null,null,null,null,null,null,null,null,null,null,{"$f":"SUM(AG13:AG27)","v":0},"[11]"]
[null,null,null,null,null,null,null,null,null,null,null,null,null,null,null,null,null,null,null,null,null,null,null,null,null,null,null,null,null,null,null,null,{"$f":"AG12","v":168},null,"alter Kalender",null,"calendar1",null,null,null,null,null,"Kalender Müller",null,null,null,null,null,null,"Meldungen & Beschriftungen"]
[null,null,null,null,null,null,null,null,null,null,null,null,null,null,null,null,null,null,null,null,null,null,null,null,null,null,null,null,null,null,null,null,{"$f":"SUM(AG36-AG12)","v":-168},null,"neuer Kalender",null,"calendar",null,null,null,null,null,"KALENDER"]
[{"$f":"Labels!B103","v":"Zusammenstellung"},null,null,null,null,null,{"$f":"Labels!B77","v":"Jan"},null,{"$f":"Labels!B78","v":"Feb"},null,{"$f":"Labels!B79","v":"Mrz"},null,{"$f":"Labels!B80","v":"Apr"},null,{"$f":"Labels!B81","v":"Mai"},null,{"$f":"Labels!B82","v":"Jun"},null,{"$f":"Labels!B83","v":"Jul"},null,{"$f":"Labels!B84","v":"Aug"},null,{"$f":"Labels!B85","v":"Sep"},null,{"$f":"Labels!B86","v":"Okt"},null,{"$f":"Labels!B87","v":"Nov"},null,{"$f":"Labels!B88","v":"Dez"},null,{"$f":"Labels!B101","v":"Jahr"},null,null,null,null,null,null,null,null,null,null,null,null,null,null,null,null,null,null,null,{"$f":"\"Das Vorjahresguthaben beträgt noch \"&TEXT(W61,\"0.0000\")&\" Std.\"","v":"Das Vorjahresguthaben beträgt noch 0.0000 Std."}]
[{"$f":"Labels!B20","v":"Anstellung %"},null,null,null,null,null,{"$f":"IF($B$4=0,0,$B$4)","v":100},null,{"$f":"IF($B$71=0,0,$B$71)","v":100},null,{"$f":"IF($B$135=0,0,$B$135)","v":100},null,{"$f":"IF($B$199=0,0,$B$199)","v":100},null,{"$f":"IF($B$263=0,0,$B$263)","v":100},null,{"$f":"IF($B$327=0,0,$B$327)","v":100},null,{"$f":"IF($B$391=0,0,$B$391)","v":100},null,{"$f":"IF($B$455=0,0,$B$455)","v":100},null,{"$f":"IF($B$519=0,0,$B$519)","v":100},null,{"$f":"IF($B$583=0,0,$B$583)","v":100},null,{"$f":"IF($B$647=0,0,$B$647)","v":100},null,{"$f":"IF($B$711=0,0,$B$711)","v":100},null,null,null,null,null,null,null,null,null,null,null,null,null,null,null,null,null,null,null,null,null,"Total"]
[{"$f":"Labels!B104","v":"Sollstunden gemäss GAV"},null,null,null,null,null,{"$f":"IF($AG$37=0,0,$AG$37)","v":168},null,{"$f":"IF($AG$100=0,0,$AG$100)","v":160},null,{"$f":"IF($AG$139=0,0,$AG$139)","v":184},null,{"$f":"IF($AG$228=0,0,$AG$228)","v":168},null,{"$f":"IF($AG$292=0,0,$AG$292)","v":176},null,{"$f":"IF($AG$356=0,0,$AG$356)","v":176},null,{"$f":"IF($AG$420=0,0,$AG$420)","v":168},null,{"$f":"IF($AG$484=0,0,$AG$484)","v":184},null,{"$f":"IF($AG$548=0,0,$AG$548)","v":176},null,{"$f":"IF($AG$612=0,0,$AG$612)","v":168},null,{"$f":"IF($AG$676=0,0,$AG$676)","v":176},null,{"$f":"IF($AG$740=0,0,$AG$740)","v":176},null,{"$f":"SUM(G41:AD41)","v":2080},null,null,null,"Anstellungsdetails",null,"Name:","Muster Peter",null,null,"Default-%",null,100]
[{"$f":"Labels!B105","v":"Produktive Stunden"},{"$f":"Labels!B106","v":"06.00 - 20.00 Uhr"},null,null,null,null,{"$f":"IF($AG$32=0,0,$AG$32)","v":0},null,{"$f":"IF($AG$95=0,0,$AG$95)","v":0},null,{"$f":"IF($AG$159=0,0,$AG$159)","v":0},null,{"$f":"IF($AG$223=0,0,$AG$223)","v":0},null,{"$f":"IF($AG$287=0,0,$AG$287)","v":0},null,{"$f":"IF($AG$351=0,0,$AG$351)","v":0},null,{"$f":"IF($AG$415=0,0,$AG$415)","v":0},null,{"$f":"IF($AG$479=0,0,$AG$479)","v":0},null,{"$f":"IF($AG$543=0,0,$AG$543)","v":0},null,{"$f":"IF($AG$607=0,0,$AG$607)","v":0},null,{"$f":"IF($AG$671=0,0,$AG$671)","v":0},null,{"$f":"IF($AG$735=0,0,$AG$735)","v":0},null,{"$f":"SUM(G42:AD42)","v":0}]
[null,{"$f":"Labels!B107","v":"Nacht-, Sonn-, Feiertagsarbeit"},null,null,null,null,{"$f":"IF($AG$33=0,0,$AG$33)","v":0},null,{"$f":"IF($AG$96=0,0,$AG$96)","v":0},null,{"$f":"IF($AG$160=0,0,$AG$160)","v":0},null,{"$f":"IF($AG$224=0,0,$AG$224)","v":0},null,{"$f":"IF($AG$288=0,0,$AG$288)","v":0},null,{"$f":"IF($AG$352=0,0,$AG$352)","v":0},null,{"$f":"IF($AG$416=0,0,$AG$416)","v":0},null,{"$f":"IF($AG$480=0,0,$AG$480)","v":0},null,{"$f":"IF($AG$544=0,0,$AG$544)","v":0},null,{"$f":"IF($AG$608=0,0,$AG$608)","v":0},null,{"$f":"IF($AG$672=0,0,$AG$672)","v":0},null,{"$f":"IF($AG$736=0,0,$AG$736)","v":0},null,{"$f":"SUM(G43:AD43)","v":0},null,null,null,"Ganzes Jahr gleich?",true,null,"%","MO","DI","MI","DO","FR","Arbeitst."]
[{"$f":"Labels!B108","v":"Zeitzuschläge"},{"$f":"Labels!B109","v":"aus Wochentotal"},null,null,null,null,{"$f":"IF($AG$25=0,0,$AG$25)","v":0},null,{"$f":"IF($AG$88=0,0,$AG$88)","v":0},null,{"$f":"IF($AG$152=0,0,$AG$152)","v":0},null,{"$f":"IF($AG$216=0,0,$AG$216)","v":0},null,{"$f":"IF($AG$280=0,0,$AG$280)","v":0},null,{"$f":"IF($AG$344=0,0,$AG$344)","v":0},null,{"$f":"IF($AG$408=0,0,$AG$408)","v":0},null,{"$f":"IF($AG$472=0,0,$AG$472)","v":0},null,{"$f":"IF($AG$536=0,0,$AG$536)","v":0},null,{"$f":"IF($AG$600=0,0,$AG$600)","v":0},null,{"$f":"IF($AG$664=0,0,$AG$664)","v":0},null,{"$f":"IF($AG$728=0,0,$AG$728)","v":0},null,{"$f":"SUM(G44:AD44)","v":0},null,null,null,null,null,"Jan",100,true,true,true,true,true,{"$f":"COUNTIF(AM44:AQ44,TRUE)","v":5}]
[null,{"$f":"Labels!B110","v":"aus Nacht-, Sonn-, Feiertagsarbeiten"},null,null,null,null,{"$f":"IF($AJ$21=0,0,$AJ$21)","v":0},null,{"$f":"IF($AK$21=0,0,$AK$21)","v":0},null,{"$f":"IF($AL$21=0,0,$AL$21)","v":0},null,{"$f":"IF($AM$21=0,0,$AM$21)","v":0},null,{"$f":"IF($AN$21=0,0,$AN$21)","v":0},null,{"$f":"IF($AO$21=0,0,$AO$21)","v":0},null,{"$f":"IF($AP$21=0,0,$AP$21)","v":0},null,{"$f":"IF($AQ$21=0,0,$AQ$21)","v":0},null,{"$f":"IF($AR$21=0,0,$AR$21)","v":0},null,{"$f":"IF($AS$21=0,0,$AS$21)","v":0},null,{"$f":"IF($AT$21=0,0,$AT$21)","v":0},null,{"$f":"IF($AU$21=0,0,$AU$21)","v":0},null,{"$f":"SUM(G45:AD45)","v":0},null,null,null,null,null,"Feb",100,true,true,true,true,true,{"$f":"COUNTIF(AM45:AQ45,TRUE)","v":5}]
[{"$f":"Labels!B111","v":"Unproduktive Stunden"},null,null,null,null,null,null,null,null,null,null,null,null,null,null,null,null,null,null,null,null,null,null,null,null,null,null,null,null,null,null,null,null,null,null,null,"Mrz",100,true,true,true,true,true,5]
[{"$f":"Labels!B112","v":"   Absenzen, Kurzabsenzen Art. 11 GAV"},null,null,null,null,{"$f":"Labels!B113","v":"a"},{"$f":"IF($AJ$3=0,0,$AJ$3)","v":0},null,{"$f":"IF($AK$3=0,0,$AK$3)","v":0},null,{"$f":"IF($AL$3=0,0,$AL$3)","v":0},null,{"$f":"IF($AM$3=0,0,$AM$3)","v":0},null,{"$f":"IF($AN$3=0,0,$AN$3)","v":0},null,{"$f":"IF($AO$3=0,0,$AO$3)","v":0},null,{"$f":"IF($AP$3=0,0,$AP$3)","v":0},null,{"$f":"IF($AQ$3=0,0,$AQ$3)","v":0},null,{"$f":"IF($AR$3=0,0,$AR$3)","v":0},null,{"$f":"IF($AS$3=0,0,$AS$3)","v":0},null,{"$f":"IF(AT$3=0,0,$AT$3)","v":0},null,{"$f":"IF($AU$3=0,0,$AU$3)","v":0},null,{"$f":"IF($AV$3=0,0,$AV$3)","v":0},null,null,null,null,null,"Apr",100,true,true,true,true,true,5]
[{"$f":"Labels!B114","v":"   Ferien Art. 12.1 GAV"},null,null,null,null,{"$f":"Labels!B115","v":"f"},{"$f":"IF($AJ$4=0,0,$AJ$4)","v":0},null,{"$f":"IF($AK$4=0,0,$AK$4)","v":0},null,{"$f":"IF($AL$4=0,0,$AL$4)","v":0},null,{"$f":"IF($AM$4=0,0,$AM$4)","v":0},null,{"$f":"IF($AN$4=0,0,$AN$4)","v":0},null,{"$f":"IF($AO$4=0,0,$AO$4)","v":0},null,{"$f":"IF($AP$4=0,0,$AP$4)","v":0},null,{"$f":"IF($AQ$4=0,0,$AQ$4)","v":0},null,{"$f":"IF($AR$4=0,0,$AR$4)","v":0},null,{"$f":"IF($AS$4=0,0,$AS$4)","v":0},null,{"$f":"IF($AT$4=0,0,$AT$4)","v":0},null,{"$f":"IF($AU$4=0,0,$AU$4)","v":0},null,{"$f":"IF($AV$4=0,0,$AV$4)","v":0},null,null,null,null,null,"Mai",100,true,true,true,true,true,5]
[{"$f":"Labels!$B$181","v":"   Ferien unbezahlt"},null,null,null,null,{"$f":"Labels!$B$182","v":"fu"},{"$f":"IF($AJ$13=0,0,$AJ$13)","v":0},null,{"$f":"IF($AK$13=0,0,$AK$13)","v":0},null,{"$f":"IF($AL$13=0,0,$AL$13)","v":0},null,{"$f":"IF($AM$13=0,0,$AM$13)","v":0},null,{"$f":"IF($AN$13=0,0,$AN$13)","v":0},null,{"$f":"IF($AO$13=0,0,$AO$13)","v":0},null,{"$f":"IF($AP$13=0,0,$AP$13)","v":0},null,{"$f":"IF($AQ$13=0,0,$AQ$13)","v":0},null,{"$f":"IF($AR$13=0,0,$AR$13)","v":0},null,{"$f":"IF($AS$13=0,0,$AS$13)","v":0},null,{"$f":"IF($AT$13=0,0,$AT$13)","v":0},null,{"$f":"IF($AU$13=0,0,$AU$13)","v":0},null,{"$f":"IF($AV$13=0,0,$AV$13)","v":0},null,null,null,null,null,"Jun",100,true,true,true,true,true,5]
[{"$f":"Labels!B116","v":"   Feiertage Art. 12.2 GAV"},null,{"$f":"IF($AJ$18=\"\",\"\",$AJ$18)","v":""},null,null,{"$f":"Labels!B118","v":"ft"},{"$f":"IF($AJ$16=0,0,$AJ$16)","v":0},null,{"$f":"IF($AK$16=0,0,$AK$16)","v":0},null,{"$f":"IF($AL$16=0,0,$AL$16)","v":0},null,{"$f":"IF($AM$16=0,0,$AM$16)","v":0},null,{"$f":"IF($AN$16=0,0,$AN$16)","v":0},null,{"$f":"IF($AO$16=0,0,$AO$16)","v":0},null,{"$f":"IF($AP$16=0,0,$AP$16)","v":0},null,{"$f":"IF($AQ$16=0,0,$AQ$16)","v":0},null,{"$f":"IF($AR$16=0,0,$AR$16)","v":0},null,{"$f":"IF($AS$16=0,0,$AS$16)","v":0},null,{"$f":"IF($AT$16=0,0,$AT$16)","v":0},null,{"$f":"IF($AU$16=0,0,$AU$16)","v":0},null,{"$f":"IF($AV$16=0,0,$AV$16)","v":0},null,null,null,null,null,"Jul",100,true,true,true,true,true,5]
[{"$f":"Labels!B119","v":"   Krankheit Art. 13 GAV"},null,null,null,null,{"$f":"Labels!B120","v":"k"},{"$f":"IF($AJ$5=0,0,$AJ$5)","v":0},null,{"$f":"IF($AK$5=0,0,$AK$5)","v":0},null,{"$f":"IF($AL$5=0,0,$AL$5)","v":0},null,{"$f":"IF($AM$5=0,0,$AM$5)","v":0},null,{"$f":"IF($AN$5=0,0,$AN$5)","v":0},null,{"$f":"IF($AO$5=0,0,$AO$5)","v":0},null,{"$f":"IF($AP$5=0,0,$AP$5)","v":0},null,{"$f":"IF($AQ$5=0,0,$AQ$5)","v":0},null,{"$f":"IF($AR$5=0,0,$AR$5)","v":0},null,{"$f":"IF($AS$5=0,0,$AS$5)","v":0},null,{"$f":"IF($AT$5=0,0,$AT$5)","v":0},null,{"$f":"IF($AU$5=0,0,$AU$5)","v":0},null,{"$f":"IF($AV$5=0,0,$AV$5)","v":0},null,null,null,null,null,"Aug",100,true,true,true,true,true,5]
[{"$f":"Labels!B121","v":"   Unfall Art. 14 GAV"},null,null,null,null,{"$f":"Labels!B122","v":"u"},{"$f":"IF($AJ$6=0,0,$AJ$6)","v":0},null,{"$f":"IF($AK$6=0,0,$AK$6)","v":0},null,{"$f":"IF($AL$6=0,0,$AL$6)","v":0},null,{"$f":"IF($AM$6=0,0,$AM$6)","v":0},null,{"$f":"IF($AN$6=0,0,$AN$6)","v":0},null,{"$f":"IF($AO$6=0,0,$AO$6)","v":0},null,{"$f":"IF($AP$6=0,0,$AP$6)","v":0},null,{"$f":"IF($AQ$6=0,0,$AQ$6)","v":0},null,{"$f":"IF($AR$6=0,0,$AR$6)","v":0},null,{"$f":"IF($AS$6=0,0,$AS$6)","v":0},null,{"$f":"IF($AT$6=0,0,$AT$6)","v":0},null,{"$f":"IF($AU$6=0,0,$AU$6)","v":0},null,{"$f":"IF($AV$6=0,0,$AV$6)","v":0},null,null,null,null,null,"Sep",100,true,true,true,true,true,5]
[{"$f":"Labels!B123","v":"   Schwangerschaft/Mutterschaft Art. 15 GAV"},null,null,null,null,{"$f":"Labels!B124","v":"s"},{"$f":"IF($AJ$7=0,0,$AJ$7)","v":0},null,{"$f":"IF($AK$7=0,0,$AK$7)","v":0},null,{"$f":"IF($AL$7=0,0,$AL$7)","v":0},null,{"$f":"IF($AM$7=0,0,$AM$7)","v":0},null,{"$f":"IF($AN$7=0,0,$AN$7)","v":0},null,{"$f":"IF($AO$7=0,0,$AO$7)","v":0},null,{"$f":"IF($AP$7=0,0,$AP$7)","v":0},null,{"$f":"IF($AQ$7=0,0,$AQ$7)","v":0},null,{"$f":"IF($AR$7=0,0,$AR$7)","v":0},null,{"$f":"IF($AS$7=0,0,$AS$7)","v":0},null,{"$f":"IF($AT$7=0,0,$AT$7)","v":0},null,{"$f":"IF($AU$7=0,0,$AU$7)","v":0},null,{"$f":"IF($AV$7=0,0,$AV$7)","v":0},null,null,null,null,null,"Okt",100,true,true,true,true,true,5]
[{"$f":"Labels!B125","v":"   Militär/Beförderung/Zivilschutz Art. 16 GAV"},null,null,null,null,{"$f":"Labels!B126","v":"m"},{"$f":"IF($AJ$8=0,0,$AJ$8)","v":0},null,{"$f":"IF($AK$8=0,0,$AK$8)","v":0},null,{"$f":"IF($AL$8=0,0,$AL$8)","v":0},null,{"$f":"IF($AM$8=0,0,$AM$8)","v":0},null,{"$f":"IF($AN$8=0,0,$AN$8)","v":0},null,{"$f":"IF($AO$8=0,0,$AO$8)","v":0},null,{"$f":"IF($AP$8=0,0,$AP$8)","v":0},null,{"$f":"IF($AQ$8=0,0,$AQ$8)","v":0},null,{"$f":"IF($AR$8=0,0,$AR$8)","v":0},null,{"$f":"IF($AS$8=0,0,$AS$8)","v":0},null,{"$f":"IF($AT$8=0,0,$AT$8)","v":0},null,{"$f":"IF($AU$8=0,0,$AU$8)","v":0},null,{"$f":"IF($AV$8=0,0,$AV$8)","v":0},null,null,null,null,null,"Nov",100,true,true,true,true,true,5]
[{"$f":"Labels!B127","v":"   Kurzarbeit und Schlechtwetterausfälle"},null,null,null,null,{"$f":"Labels!B128","v":"ka"},{"$f":"IF($AJ$11=0,0,$AJ$11)","v":0},null,{"$f":"IF($AK$11=0,0,$AK$11)","v":0},null,{"$f":"IF($AL$11=0,0,$AL$11)","v":0},null,{"$f":"IF($AM$11=0,0,$AM$11)","v":0},null,{"$f":"IF($AN$11=0,0,$AN$11)","v":0},null,{"$f":"IF($AO$11=0,0,$AO$11)","v":0},null,{"$f":"IF($AP$11=0,0,$AP$11)","v":0},null,{"$f":"IF($AQ$11=0,0,$AQ$11)","v":0},null,{"$f":"IF($AR$11=0,0,$AR$11)","v":0},null,{"$f":"IF($AS$11=0,0,$AS$11)","v":0},null,{"$f":"IF($AT$11=0,0,$AT$11)","v":0},null,{"$f":"IF($AU$11=0,0,$AU$11)","v":0},null,{"$f":"IF($AV$11=0,0,$AV$11)","v":0},null,null,null,null,null,"Dez",100,true,true,true,true,true,5]
[{"$f":"Labels!B129","v":"   Berufsschule"},null,null,null,null,{"$f":"Labels!B130","v":"bs"},{"$f":"IF($AJ$9=0,0,$AJ$9)","v":0},null,{"$f":"IF($AK$9=0,0,$AK$9)","v":0},null,{"$f":"IF($AL$9=0,0,$AL$9)","v":0},null,{"$f":"IF($AM$9=0,0,$AM$9)","v":0},null,{"$f":"IF($AN$9=0,0,$AN$9)","v":0},null,{"$f":"IF($AO$9=0,0,$AO$9)","v":0},null,{"$f":"IF($AP$9=0,0,$AP$9)","v":0},null,{"$f":"IF($AQ$9=0,0,$AQ$9)","v":0},null,{"$f":"IF($AR$9=0,0,$AR$9)","v":0},null,{"$f":"IF($AS$9=0,0,$AS$9)","v":0},null,{"$f":"IF($AT$9=0,0,$AT$9)","v":0},null,{"$f":"IF($AU$9=0,0,$AU$9)","v":0},null,{"$f":"IF($AV$9=0,0,$AV$9)","v":0},null,null,null,null,null,"Avg",{"$f":"SUM(AL44:AL55)/12","v":100},2,3,4,5,6]
[{"$f":"Labels!B131","v":"   Kurse"},null,null,null,null,{"$f":"Labels!B132","v":"ku"},{"$f":"IF($AJ$10=0,0,$AJ$10)","v":0},null,{"$f":"IF($AK$10=0,0,$AK$10)","v":0},null,{"$f":"IF($AL$10=0,0,$AL$10)","v":0},null,{"$f":"IF($AM$10=0,0,$AM$10)","v":0},null,{"$f":"IF($AN$10=0,0,$AN$10)","v":0},null,{"$f":"IF($AO$10=0,0,$AO$10)","v":0},null,{"$f":"IF($AP$10=0,0,$AP$10)","v":0},null,{"$f":"IF($AQ$10=0,0,$AQ$10)","v":0},null,{"$f":"IF($AR$10=0,0,$AR$10)","v":0},null,{"$f":"IF($AS$10=0,0,$AS$10)","v":0},null,{"$f":"IF($AT$10=0,0,$AT$10)","v":0},null,{"$f":"IF($AU$10=0,0,$AU$10)","v":0},null,{"$f":"IF($AV$10=0,0,$AV$10)","v":0}]
[{"$f":"Labels!B133","v":"Kompensations-Std"},{"$f":"Labels!B134","v":"aus Vorjahr"},null,null,null,{"$f":"Labels!B135","v":"kv"},{"$f":"IF($AJ$12=0,0,$AJ$12)","v":0},null,{"$f":"IF($AK$12=0,0,$AK$12)","v":0},null,{"$f":"IF($AL$12=0,0,$AL$12)","v":0},null,{"$f":"IF($AM$12=0,0,$AM$12)","v":0},null,{"$f":"IF($AN$12=0,0,$AN$12)","v":0},null,{"$f":"IF($AO$12=0,0,$AO$12)","v":0},null,{"$f":"IF($AP$12=0,0,$AP$12)","v":0},null,{"$f":"IF($AQ$12=0,0,$AQ$12)","v":0},null,{"$f":"IF($AR$12=0,0,$AR$12)","v":0},null,null,null,null,null,null,null,{"$f":"IF($AV$12=0,0,$AV$12)","v":0}]
[null,{"$f":"Labels!B136","v":"aus laufendem Jahr (Kontrolle)"},null,null,null,{"$f":"Labels!B137","v":"kj"},{"$f":"IF($AJ$15=0,0,$AJ$15)","v":0},null,{"$f":"IF($AK$15=0,0,$AK$15)","v":0},null,{"$f":"IF($AL$15=0,0,$AL$15)","v":0},null,{"$f":"IF($AM$15=0,0,$AM$15)","v":0},null,{"$f":"IF($AN$15=0,0,$AN$15)","v":0},null,{"$f":"IF($AO$15=0,0,$AO$15)","v":0},null,{"$f":"IF($AP$15=0,0,$AP$15)","v":0},null,{"$f":"IF($AQ$15=0,0,$AQ$15)","v":0},null,{"$f":"IF($AR$15=0,0,$AR$15)","v":0},null,{"$f":"IF($AS$15=0,0,$AS$15)","v":0},null,{"$f":"IF($AT$15=0,0,$AT$15)","v":0},null,{"$f":"IF($AU$15=0,0,$AU$15)","v":0},null,{"$f":"IF($AV$15=0,0,$AV$15)","v":0}]
[{"$f":"Labels!B138","v":"Auszahlung"},{"$f":"Labels!B139","v":"Stunden Vorjahressaldo"},null,null,null,null,{"$f":"IF($AJ$19=0,0,$AJ$19)","v":0},null,{"$f":"IF($AK$19=0,0,$AK$19)","v":0},null,{"$f":"IF($AL$19=0,0,$AL$19)","v":0},null,{"$f":"IF($AM$19=0,0,$AM$19)","v":0},null,{"$f":"IF($AN$19=0,0,$AN$19)","v":0},null,{"$f":"IF($AO$19=0,0,$AO$19)","v":0},null,{"$f":"IF($AP$19=0,0,$AP$19)","v":0},null,{"$f":"IF($AQ$19=0,0,$AQ$19)","v":0},null,{"$f":"IF($AR$19=0,0,$AR$19)","v":0},null,null,null,null,null,null,null,{"$f":"IF($AV$19=0,0,$AV$19)","v":0}]
[{"$f":"Labels!B140","v":"Differenz"},{"$f":"Labels!B141","v":"nach Kompensation und Auszahlung"},null,null,null,null,{"$f":"IF(ROUND($P$4,3)=0,0,$P$4-G58-G60)","v":0},null,{"$f":"IF(ROUND(G61,3)=0,0,G61-(SUM(I58+I60)))","v":0},null,{"$f":"IF(ROUND(I61,3)=0,0,I61-K60-K58)","v":0},null,{"$f":"IF(ROUND(K61,3)=0,0,K61-(SUM(M60+M58)))","v":0},null,{"$f":"IF(ROUND(M61,3)=0,0,M61-(SUM(O60+O58)))","v":0},null,{"$f":"IF(ROUND(O61,3)=0,0,O61-(SUM(Q60+Q58)))","v":0},null,{"$f":"IF(ROUND(Q61,3)=0,0,Q61-(SUM(S60+S58)))","v":0},null,{"$f":"IF(ROUND(S61,3)=0,0,S61-(SUM(U60+U58)))","v":0},null,{"$f":"IF(ROUND(U61,3)=0,0,U61-(SUM(W60+W58)))","v":0},null,{"$f":"IF($W$61<0.1,\"\",AY39)","v":""}]
[{"$f":"Labels!B138","v":"Auszahlung"},{"$f":"Labels!B142","v":"Stunden laufendes Jahr"},null,null,null,null,{"$f":"IF($AJ$20=0,0,$AJ$20)","v":0},null,{"$f":"IF($AK$20=0,0,$AK$20)","v":0},null,{"$f":"IF($AL$20=0,0,$AL$20)","v":0},null,{"$f":"IF($AM$20=0,0,$AM$20)","v":0},null,{"$f":"IF($AN$20=0,0,$AN$20)","v":0},null,{"$f":"IF($AO$20=0,0,$AO$20)","v":0},null,{"$f":"IF($AP$20=0,0,$AP$20)","v":0},null,{"$f":"IF($AQ$20=0,0,$AQ$20)","v":0},null,{"$f":"IF($AR$20=0,0,$AR$20)","v":0},null,{"$f":"IF($AS$20=0,0,$AS$20)","v":0},null,{"$f":"IF($AT$20=0,0,$AT$20)","v":0},null,{"$f":"IF($AU$20=0,0,$AU$20)","v":0},null,{"$f":"IF($AV$20=0,0,$AV$20)","v":0}]
[{"$f":"Labels!B143","v":"Fehlstunden"},{"$f":"Labels!B144","v":"laufendes Jahr (Kontrolle)"},null,null,null,{"$f":"Labels!B145","v":"fe"},{"$f":"IF($AJ$14=0,0,$AJ$14)","v":0},null,{"$f":"IF($AK$14=0,0,$AK$14)","v":0},null,{"$f":"IF($AL$14=0,0,$AL$14)","v":0},null,{"$f":"IF($AM$14=0,0,$AM$14)","v":0},null,{"$f":"IF($AN$14=0,0,$AN$14)","v":0},null,{"$f":"IF($AO$14=0,0,$AO$14)","v":0},null,{"$f":"IF($AP$14=0,0,$AP$14)","v":0},null,{"$f":"IF($AQ$14=0,0,$AQ$14)","v":0},null,{"$f":"IF($AR$14=0,0,$AR$14)","v":0},null,{"$f":"IF($AS$14=0,0,$AS$14)","v":0},null,{"$f":"IF($AT$14=0,0,$AT$14)","v":0},null,{"$f":"IF($AU$14=0,0,$AU$14)","v":0},null,{"$f":"IF($AV$14=0,0,$AV$14)","v":0}]
[{"$f":"Labels!B146","v":"Total inkl. Zeitzuschläge"},{"$f":"Labels!B147","v":"Stunden produktiv und unproduktiv"},null,null,null,null,{"$f":"IF($AG$36=0,0,$AG$36)","v":0},null,{"$f":"IF($AG$99=0,0,$AG$99)","v":0},null,{"$f":"IF($AG$163=0,0,$AG$163)","v":0},null,{"$f":"IF($AG$227=0,0,$AG$227)","v":0},null,{"$f":"IF($AG$291=0,0,$AG$291)","v":0},null,{"$f":"IF($AG$355=0,0,$AG$355)","v":0},null,{"$f":"IF($AG$419=0,0,$AG$419)","v":0},null,{"$f":"IF($AG$483=0,0,$AG$483)","v":0},null,{"$f":"IF($AG$547=0,0,$AG$547)","v":0},null,{"$f":"IF($AG$611=0,0,$AG$611)","v":0},null,{"$f":"IF($AG$675=0,0,$AG$675)","v":0},null,{"$f":"IF($AG$739=0,0,$AG$739)","v":0},null,{"$f":"SUM($G$64:$AD$64)","v":0}]
[{"$f":"Labels!B148","v":"Vergleich"},{"$f":"Labels!B149","v":"Stunden zu Soll-Stunden (inkl. allfälli-\nge Minusstunden Vorjahr)"},null,null,null,null,{"$f":"IF($AG$38=0,0,$AG$38)-$AE$34+$P$5","v":-168},null,{"$f":"IF($AG$101=0,0,$AG$101)-$AE$98","v":-160},null,{"$f":"IF($AG$165=0,0,$AG$165)-$AE$162","v":-184},null,{"$f":"IF($AG$229=0,0,$AG$229)-$AE$226","v":-168},null,{"$f":"IF($AG$293=0,0,$AG$293)-$AE$290","v":-176},null,{"$f":"IF($AG$357=0,0,$AG$357)-$AE$354","v":-176},null,{"$f":"IF($AG$421=0,0,$AG$421)-$AE$418","v":-168},null,{"$f":"IF($AG$485=0,0,$AG$485)-$AE$482","v":-184},null,{"$f":"IF($AG$549=0,0,$AG$549)-$AE$546","v":-176},null,{"$f":"IF($AG$613=0,0,$AG$613)-$AE$610","v":-168},null,{"$f":"IF($AG$677=0,0,$AG$677)-$AE$674","v":-176},null,{"$f":"IF($AG$741=0,0,$AG$741)-$AE$738","v":-176},null,{"$f":"SUM($G$65:$AD$65)","v":-2080}]
[null,{"$f":"Labels!B151","v":"Stunden zu Soll-Stunden (kumuliert)"},null,null,null,null,{"$f":"IF(G40=0,0,$G$65)","v":-168},null,{"$f":"IF(I40=0,0,SUM($G$65:$J$65))","v":-328},null,{"$f":"IF(K40=0,0,SUM($G$65:$L$65))","v":-512},null,{"$f":"IF(M40=0,0,SUM($G$65:$N$65))","v":-680},null,{"$f":"IF(O40=0,0,SUM($G$65:$P$65))","v":-856},null,{"$f":"IF(Q40=0,0,SUM($G$65:$R$65))","v":-1032},null,{"$f":"IF(S40=0,0,SUM($G$65:$T$65))","v":-1200},null,{"$f":"IF(U40=0,0,SUM($G$65:$V$65))","v":-1384},null,{"$f":"IF(W40=0,0,SUM($G$65:$X$65))","v":-1560},null,{"$f":"IF(Y40=0,0,SUM($G$65:$Z$65))","v":-1728},null,{"$f":"IF(AA40=0,0,SUM($G$65:$AB$65))","v":-1904},null,{"$f":"IF(AC40=0,0,SUM($G$65:$AD$65))","v":-2080}]
[{"$f":"Labels!B153","v":"Ferienkontrolle"},{"$f":"Labels!B154","v":"Ferienguthaben Vorjahr"},null,null,null,null,{"$f":"IF($AA$4=0,0,$AA$4)","v":0},null,{"$f":"Labels!B155","v":"Ferienguthaben nach \nArt. 12.1 GAV"},null,null,null,{"$f":"IF($AA$5=0,0,$AA$5)","v":0},null,{"$f":"Labels!B156","v":"Ferienguthaben total"},null,null,null,{"$f":"SUM(G67+M67)","v":0},null,{"$f":"Labels!B157","v":"Ferien bezogen"},null,null,null,{"$f":"IF($AV$4=0,0,$AV$4)","v":0},null,{"$f":"Labels!B158","v":"Aktuelles Ferienguthaben"},null,null,null,{"$f":"IF(S67=0,0,S67-Y67)","v":0}]
[]
[]
[{"$f":"$A$3","v":"Mitarbeiter/In"},{"$f":"IF($B$3=\"\",\"\",$B$3)","v":"Muster Peter"},null,null,null,null,null,null,null,null,null,null,null,null,null,null,null,null,null,null,null,null,null,null,null,null,null,null,null,null,null,{"$f":"AF3","v":0}]
[{"$f":"$A$4","v":"Anstellung %"},{"$f":"$AL$45","v":100},null,{"$f":"Labels!B90","v":"im Februar"}]
[{"$f":"$A$5","v":"Saldo für das Jahr"},null,null,{"$f":"IF($AE$65=0,0,$AE$65)","v":-2080}]
[{"$f":"TEXT(DATE(YEAR(AP29),MONTH(AP29)+1,1),\"MMMM\"&Labels!B13)","v":"Februar"},{"$f":"$B$9","v":"Saldo Monat + / -"},null,null,null,{"$f":"(AG75-(SUM(AG76:AG90)-AE98))*-1","v":-160},null,null,null,null,{"$f":"$K$9","v":" = "},{"$f":"$L$9","v":"Gelbe Felder müssen ausgefüllt werden (die übrigen werden automatisch berechnet)"},null,null,null,null,null,null,null,null,null,null,null,null,null,null,null,null,null,null,null,null,{"$f":"COUNT(B76:AF76)&\" \"&Labels!$B$63","v":"20 Tage"}]
[{"$f":"$A$10","v":"Tag"},{"$f":"AF10+1","v":"2022-02-01"},{"$f":"B74+1","v":"2022-02-02"},"2022-02-03","2022-02-04","2022-02-05","2022-02-06","2022-02-07","2022-02-08","2022-02-09","2022-02-10","2022-02-11","2022-02-12","2022-02-13","2022-02-14","2022-02-15","2022-02-16","2022-02-17","2022-02-18","2022-02-19","2022-02-20","2022-02-21","2022-02-22","2022-02-23","2022-02-24","2022-02-25","2022-02-26","2022-02-27","2022-02-28",{"$f":"IF(MOD($AE$96,4)=0,$AC$74+1,\"\")","v":""}]
[{"$f":"$A$11","v":"Kalenderwoche"},{"$f":"IF(B74=\"\",\"\",TRUNC((B74-DATE(YEAR(B74+3-MOD(B74-2,7)),1,MOD(B74-2,7)-9))/7))","v":5},5,5,5,5,5,6,6,6,6,6,6,6,7,7,7,7,7,7,7,8,8,8,8,8,8,8,9,"","",null,{"$f":"IF($AD$74=\"\",SUM(B76:AC76),SUM(B76:AF76))","v":160}]
[{"$f":"$A$12","v":"Sollstunden"},{"$f":"IF(AND(MOD(B74,7)>=2,SUMPRODUCT(($AM$56:$AQ$56=MOD(B74,7))*$AM$45:$AQ$45)),($J$7*5/$AR$45)*$B$71%,\"\")","v":8},{"$f":"IF(AND(MOD(C74,7)>=2,SUMPRODUCT(($AM$56:$AQ$56=MOD(C74,7))*$AM$45:$AQ$45)),($J$7*5/$AR$45)*$B$71%,\"\")","v":8},{"$f":"IF(AND(MOD(D74,7)>=2,SUMPRODUCT(($AM$56:$AQ$56=MOD(D74,7))*$AM$45:$AQ$45)),($J$7*5/$AR$45)*$B$71%,\"\")","v":8},{"$f":"IF(AND(MOD(E74,7)>=2,SUMPRODUCT(($AM$56:$AQ$56=MOD(E74,7))*$AM$45:$AQ$45)),($J$7*5/$AR$45)*$B$71%,\"\")","v":8},{"$f":"IF(AND(MOD(F74,7)>=2,SUMPRODUCT(($AM$56:$AQ$56=MOD(F74,7))*$AM$45:$AQ$45)),($J$7*5/$AR$45)*$B$71%,\"\")","v":""},{"$f":"IF(AND(MOD(G74,7)>=2,SUMPRODUCT(($AM$56:$AQ$56=MOD(G74,7))*$AM$45:$AQ$45)),($J$7*5/$AR$45)*$B$71%,\"\")","v":""},{"$f":"IF(AND(MOD(H74,7)>=2,SUMPRODUCT(($AM$56:$AQ$56=MOD(H74,7))*$AM$45:$AQ$45)),($J$7*5/$AR$45)*$B$71%,\"\")","v":8},{"$f":"IF(AND(MOD(I74,7)>=2,SUMPRODUCT(($AM$56:$AQ$56=MOD(I74,7))*$AM$45:$AQ$45)),($J$7*5/$AR$45)*$B$71%,\"\")","v":8},{"$f":"IF(AND(MOD(J74,7)>=2,SUMPRODUCT(($AM$56:$AQ$56=MOD(J74,7))*$AM$45:$AQ$45)),($J$7*5/$AR$45)*$B$71%,\"\")","v":8},{"$f":"IF(AND(MOD(K74,7)>=2,SUMPRODUCT(($AM$56:$AQ$56=MOD(K74,7))*$AM$45:$AQ$45)),($J$7*5/$AR$45)*$B$71%,\"\")","v":8},{"$f":"IF(AND(MOD(L74,7)>=2,SUMPRODUCT(($AM$56:$AQ$56=MOD(L74,7))*$AM$45:$AQ$45)),($J$7*5/$AR$45)*$B$71%,\"\")","v":8},{"$f":"IF(AND(MOD(M74,7)>=2,SUMPRODUCT(($AM$56:$AQ$56=MOD(M74,7))*$AM$45:$AQ$45)),($J$7*5/$AR$45)*$B$71%,\"\")","v":""},{"$f":"IF(AND(MOD(N74,7)>=2,SUMPRODUCT(($AM$56:$AQ$56=MOD(N74,7))*$AM$45:$AQ$45)),($J$7*5/$AR$45)*$B$71%,\"\")","v":""},{"$f":"IF(AND(MOD(O74,7)>=2,SUMPRODUCT(($AM$56:$AQ$56=MOD(O74,7))*$AM$45:$AQ$45)),($J$7*5/$AR$45)*$B$71%,\"\")","v":8},{"$f":"IF(AND(MOD(P74,7)>=2,SUMPRODUCT(($AM$56:$AQ$56=MOD(P74,7))*$AM$45:$AQ$45)),($J$7*5/$AR$45)*$B$71%,\"\")","v":8},{"$f":"IF(AND(MOD(Q74,7)>=2,SUMPRODUCT(($AM$56:$AQ$56=MOD(Q74,7))*$AM$45:$AQ$45)),($J$7*5/$AR$45)*$B$71%,\"\")","v":8},{"$f":"IF(AND(MOD(R74,7)>=2,SUMPRODUCT(($AM$56:$AQ$56=MOD(R74,7))*$AM$45:$AQ$45)),($J$7*5/$AR$45)*$B$71%,\"\")","v":8},{"$f":"IF(AND(MOD(S74,7)>=2,SUMPRODUCT(($AM$56:$AQ$56=MOD(S74,7))*$AM$45:$AQ$45)),($J$7*5/$AR$45)*$B$71%,\"\")","v":8},{"$f":"IF(AND(MOD(T74,7)>=2,SUMPRODUCT(($AM$56:$AQ$56=MOD(T74,7))*$AM$45:$AQ$45)),($J$7*5/$AR$45)*$B$71%,\"\")","v":""},{"$f":"IF(AND(MOD(U74,7)>=2,SUMPRODUCT(($AM$56:$AQ$56=MOD(U74,7))*$AM$45:$AQ$45)),($J$7*5/$AR$45)*$B$71%,\"\")","v":""},{"$f":"IF(AND(MOD(V74,7)>=2,SUMPRODUCT(($AM$56:$AQ$56=MOD(V74,7))*$AM$45:$AQ$45)),($J$7*5/$AR$45)*$B$71%,\"\")","v":8},{"$f":"IF(AND(MOD(W74,7)>=2,SUMPRODUCT(($AM$56:$AQ$56=MOD(W74,7))*$AM$45:$AQ$45)),($J$7*5/$AR$45)*$B$71%,\"\")","v":8},{"$f":"IF(AND(MOD(X74,7)>=2,SUMPRODUCT(($AM$56:$AQ$56=MOD(X74,7))*$AM$45:$AQ$45)),($J$7*5/$AR$45)*$B$71%,\"\")","v":8},{"$f":"IF(AND(MOD(Y74,7)>=2,SUMPRODUCT(($AM$56:$AQ$56=MOD(Y74,7))*$AM$45:$AQ$45)),($J$7*5/$AR$45)*$B$71%,\"\")","v":8},{"$f":"IF(AND(MOD(Z74,7)>=2,SUMPRODUCT(($AM$56:$AQ$56=MOD(Z74,7))*$AM$45:$AQ$45)),($J$7*5/$AR$45)*$B$71%,\"\")","v":8},{"$f":"IF(AND(MOD(AA74,7)>=2,SUMPRODUCT(($AM$56:$AQ$56=MOD(AA74,7))*$AM$45:$AQ$45)),($J$7*5/$AR$45)*$B$71%,\"\")","v":""},{"$f":"IF(AND(MOD(AB74,7)>=2,SUMPRODUCT(($AM$56:$AQ$56=MOD(AB74,7))*$AM$45:$AQ$45)),($J$7*5/$AR$45)*$B$71%,\"\")","v":""},{"$f":"IF(AND(MOD(AC74,7)>=2,SUMPRODUCT(($AM$56:$AQ$56=MOD(AC74,7))*$AM$45:$AQ$45)),($J$7*5/$AR$45)*$B$71%,\"\")","v":8},{"$f":"IF(AND(MOD(AD74,7)>=2,SUMPRODUCT(($AM$56:$AQ$56=MOD(AD74,7))*$AM$45:$AQ$45)),($J$7*5/$AR$45)*$B$71%,\"\")","v":{"$error":"#VALUE!"}},null,null,{"$f":"SUM(AK3:AK13)","v":0}]
[{"$f":"$A$13","v":"Absenz in Std"},{"$f":"B854","v":0},{"$f":"C854","v":0},0,0,0,0,0,0,0,0,0,0,0,0,0,0,0,0,0,0,0,0,0,0,0,0,0,0,{"$f":"IF(AD74<>\"\",AD854,\"\")","v":""}]
[{"$f":"$A$14","v":"Code"},{"$f":"IF(B854<>0,IF(MAX(B841:B853)<B854,Labels!$B$163,INDEX($AH$840:$AH$852,MATCH(MAX(B841:B853),B841:B853,0))),\"\")","v":""},{"$f":"IF(C854<>0,IF(MAX(C841:C853)<C854,Labels!$B$163,INDEX($AH$840:$AH$852,MATCH(MAX(C841:C853),C841:C853,0))),\"\")","v":""},{"$f":"IF(D854<>0,IF(MAX(D841:D853)<D854,Labels!$B$163,INDEX($AH$840:$AH$852,MATCH(MAX(D841:D853),D841:D853,0))),\"\")","v":""},{"$f":"IF(E854<>0,IF(MAX(E841:E853)<E854,Labels!$B$163,INDEX($AH$840:$AH$852,MATCH(MAX(E841:E853),E841:E853,0))),\"\")","v":""},{"$f":"IF(F854<>0,IF(MAX(F841:F853)<F854,Labels!$B$163,INDEX($AH$840:$AH$852,MATCH(MAX(F841:F853),F841:F853,0))),\"\")","v":""},{"$f":"IF(G854<>0,IF(MAX(G841:G853)<G854,Labels!$B$163,INDEX($AH$840:$AH$852,MATCH(MAX(G841:G853),G841:G853,0))),\"\")","v":""},{"$f":"IF(H854<>0,IF(MAX(H841:H853)<H854,Labels!$B$163,INDEX($AH$840:$AH$852,MATCH(MAX(H841:H853),H841:H853,0))),\"\")","v":""},{"$f":"IF(I854<>0,IF(MAX(I841:I853)<I854,Labels!$B$163,INDEX($AH$840:$AH$852,MATCH(MAX(I841:I853),I841:I853,0))),\"\")","v":""},{"$f":"IF(J854<>0,IF(MAX(J841:J853)<J854,Labels!$B$163,INDEX($AH$840:$AH$852,MATCH(MAX(J841:J853),J841:J853,0))),\"\")","v":""},{"$f":"IF(K854<>0,IF(MAX(K841:K853)<K854,Labels!$B$163,INDEX($AH$840:$AH$852,MATCH(MAX(K841:K853),K841:K853,0))),\"\")","v":""},{"$f":"IF(L854<>0,IF(MAX(L841:L853)<L854,Labels!$B$163,INDEX($AH$840:$AH$852,MATCH(MAX(L841:L853),L841:L853,0))),\"\")","v":""},{"$f":"IF(M854<>0,IF(MAX(M841:M853)<M854,Labels!$B$163,INDEX($AH$840:$AH$852,MATCH(MAX(M841:M853),M841:M853,0))),\"\")","v":""},{"$f":"IF(N854<>0,IF(MAX(N841:N853)<N854,Labels!$B$163,INDEX($AH$840:$AH$852,MATCH(MAX(N841:N853),N841:N853,0))),\"\")","v":""},{"$f":"IF(O854<>0,IF(MAX(O841:O853)<O854,Labels!$B$163,INDEX($AH$840:$AH$852,MATCH(MAX(O841:O853),O841:O853,0))),\"\")","v":""},{"$f":"IF(P854<>0,IF(MAX(P841:P853)<P854,Labels!$B$163,INDEX($AH$840:$AH$852,MATCH(MAX(P841:P853),P841:P853,0))),\"\")","v":""},{"$f":"IF(Q854<>0,IF(MAX(Q841:Q853)<Q854,Labels!$B$163,INDEX($AH$840:$AH$852,MATCH(MAX(Q841:Q853),Q841:Q853,0))),\"\")","v":""},{"$f":"IF(R854<>0,IF(MAX(R841:R853)<R854,Labels!$B$163,INDEX($AH$840:$AH$852,MATCH(MAX(R841:R853),R841:R853,0))),\"\")","v":""},{"$f":"IF(S854<>0,IF(MAX(S841:S853)<S854,Labels!$B$163,INDEX($AH$840:$AH$852,MATCH(MAX(S841:S853),S841:S853,0))),\"\")","v":""},{"$f":"IF(T854<>0,IF(MAX(T841:T853)<T854,Labels!$B$163,INDEX($AH$840:$AH$852,MATCH(MAX(T841:T853),T841:T853,0))),\"\")","v":""},{"$f":"IF(U854<>0,IF(MAX(U841:U853)<U854,Labels!$B$163,INDEX($AH$840:$AH$852,MATCH(MAX(U841:U853),U841:U853,0))),\"\")","v":""},{"$f":"IF(V854<>0,IF(MAX(V841:V853)<V854,Labels!$B$163,INDEX($AH$840:$AH$852,MATCH(MAX(V841:V853),V841:V853,0))),\"\")","v":""},{"$f":"IF(W854<>0,IF(MAX(W841:W853)<W854,Labels!$B$163,INDEX($AH$840:$AH$852,MATCH(MAX(W841:W853),W841:W853,0))),\"\")","v":""},{"$f":"IF(X854<>0,IF(MAX(X841:X853)<X854,Labels!$B$163,INDEX($AH$840:$AH$852,MATCH(MAX(X841:X853),X841:X853,0))),\"\")","v":""},{"$f":"IF(Y854<>0,IF(MAX(Y841:Y853)<Y854,Labels!$B$163,INDEX($AH$840:$AH$852,MATCH(MAX(Y841:Y853),Y841:Y853,0))),\"\")","v":""},{"$f":"IF(Z854<>0,IF(MAX(Z841:Z853)<Z854,Labels!$B$163,INDEX($AH$840:$AH$852,MATCH(MAX(Z841:Z853),Z841:Z853,0))),\"\")","v":""},{"$f":"IF(AA854<>0,IF(MAX(AA841:AA853)<AA854,Labels!$B$163,INDEX($AH$840:$AH$852,MATCH(MAX(AA841:AA853),AA841:AA853,0))),\"\")","v":""},{"$f":"IF(AB854<>0,IF(MAX(AB841:AB853)<AB854,Labels!$B$163,INDEX($AH$840:$AH$852,MATCH(MAX(AB841:AB853),AB841:AB853,0))),\"\")","v":""},{"$f":"IF(AC854<>0,IF(MAX(AC841:AC853)<AC854,Labels!$B$163,INDEX($AH$840:$AH$852,MATCH(MAX(AC841:AC853),AC841:AC853,0))),\"\")","v":""},{"$f":"IF(AD854<>0,IF(MAX(AD841:AD853)<AD854,Labels!$B$163,INDEX($AH$840:$AH$852,MATCH(MAX(AD841:AD853),AD841:AD853,0))),\"\")","v":"div"},null,null,{"$f":"IF($AD$74=\"\",SUM(B79:AC79),SUM(B79:AF79))","v":0}]
[{"$f":"$A$15","v":"00.00-06.00h"},null,null,null,null,null,null,null,null,null,null,null,null,null,null,null,null,null,null,null,null,null,null,null,null,null,null,null,null,null,null,null,{"$f":"IF($AD$74=\"\",SUM(B80:AC80),SUM(B80:AF80))","v":0}]
[{"$f":"$A$16","v":"06.00-20.00h"},null,null,null,null,null,null,null,null,null,null,null,null,null,null,null,null,null,null,null,null,null,null,null,null,null,null,null,null,null,null,null,{"$f":"IF($AD$74=\"\",SUM(B81:AC81),SUM(B81:AF81))","v":0},"[0]"]
[{"$f":"$A$17","v":"20.00-24.00h"}]
[{"$f":"$A$18","v":"Feiertag \"ft\""},{"$f":"IF(WEEKDAY(B74,2)<=6,IF(KALENDER!E5=\"x\",Labels!$B$118,\"\"),\"\")","v":""},{"$f":"IF(WEEKDAY(C74,2)<=6,IF(KALENDER!F5=\"x\",Labels!$B$118,\"\"),\"\")","v":""},{"$f":"IF(WEEKDAY(D74,2)<=6,IF(KALENDER!G5=\"x\",Labels!$B$118,\"\"),\"\")","v":""},{"$f":"IF(WEEKDAY(E74,2)<=6,IF(KALENDER!H5=\"x\",Labels!$B$118,\"\"),\"\")","v":""},{"$f":"IF(WEEKDAY(F74,2)<=6,IF(KALENDER!I5=\"x\",Labels!$B$118,\"\"),\"\")","v":""},{"$f":"IF(WEEKDAY(G74,2)<=6,IF(KALENDER!J5=\"x\",Labels!$B$118,\"\"),\"\")","v":""},{"$f":"IF(WEEKDAY(H74,2)<=6,IF(KALENDER!K5=\"x\",Labels!$B$118,\"\"),\"\")","v":""},{"$f":"IF(WEEKDAY(I74,2)<=6,IF(KALENDER!L5=\"x\",Labels!$B$118,\"\"),\"\")","v":""},{"$f":"IF(WEEKDAY(J74,2)<=6,IF(KALENDER!M5=\"x\",Labels!$B$118,\"\"),\"\")","v":""},{"$f":"IF(WEEKDAY(K74,2)<=6,IF(KALENDER!N5=\"x\",Labels!$B$118,\"\"),\"\")","v":""},{"$f":"IF(WEEKDAY(L74,2)<=6,IF(KALENDER!O5=\"x\",Labels!$B$118,\"\"),\"\")","v":""},{"$f":"IF(WEEKDAY(M74,2)<=6,IF(KALENDER!P5=\"x\",Labels!$B$118,\"\"),\"\")","v":""},{"$f":"IF(WEEKDAY(N74,2)<=6,IF(KALENDER!Q5=\"x\",Labels!$B$118,\"\"),\"\")","v":""},{"$f":"IF(WEEKDAY(O74,2)<=6,IF(KALENDER!R5=\"x\",Labels!$B$118,\"\"),\"\")","v":""},{"$f":"IF(WEEKDAY(P74,2)<=6,IF(KALENDER!S5=\"x\",Labels!$B$118,\"\"),\"\")","v":""},{"$f":"IF(WEEKDAY(Q74,2)<=6,IF(KALENDER!T5=\"x\",Labels!$B$118,\"\"),\"\")","v":""},{"$f":"IF(WEEKDAY(R74,2)<=6,IF(KALENDER!U5=\"x\",Labels!$B$118,\"\"),\"\")","v":""},{"$f":"IF(WEEKDAY(S74,2)<=6,IF(KALENDER!V5=\"x\",Labels!$B$118,\"\"),\"\")","v":""},{"$f":"IF(WEEKDAY(T74,2)<=6,IF(KALENDER!W5=\"x\",Labels!$B$118,\"\"),\"\")","v":""},{"$f":"IF(WEEKDAY(U74,2)<=6,IF(KALENDER!X5=\"x\",Labels!$B$118,\"\"),\"\")","v":""},{"$f":"IF(WEEKDAY(V74,2)<=6,IF(KALENDER!Y5=\"x\",Labels!$B$118,\"\"),\"\")","v":""},{"$f":"IF(WEEKDAY(W74,2)<=6,IF(KALENDER!Z5=\"x\",Labels!$B$118,\"\"),\"\")","v":""},{"$f":"IF(WEEKDAY(X74,2)<=6,IF(KALENDER!AA5=\"x\",Labels!$B$118,\"\"),\"\")","v":""},{"$f":"IF(WEEKDAY(Y74,2)<=6,IF(KALENDER!AB5=\"x\",Labels!$B$118,\"\"),\"\")","v":""},{"$f":"IF(WEEKDAY(Z74,2)<=6,IF(KALENDER!AC5=\"x\",Labels!$B$118,\"\"),\"\")","v":""},{"$f":"IF(WEEKDAY(AA74,2)<=6,IF(KALENDER!AD5=\"x\",Labels!$B$118,\"\"),\"\")","v":""},{"$f":"IF(WEEKDAY(AB74,2)<=6,IF(KALENDER!AE5=\"x\",Labels!$B$118,\"\"),\"\")","v":""},{"$f":"IF(WEEKDAY(AC74,2)<=6,IF(KALENDER!AF5=\"x\",Labels!$B$118,\"\"),\"\")","v":""},{"$f":"IF(WEEKDAY(AD74,2)<=6,IF(KALENDER!AG5=\"x\",Labels!$B$118,\"\"),\"\")","v":{"$error":"#VALUE!"}},{"$f":"IF(WEEKDAY(AE74,2)<=6,IF(KALENDER!AH5=\"x\",Labels!$B$118,\"\"),\"\")","v":""},{"$f":"IF(WEEKDAY(AF74,2)<=6,IF(KALENDER!AI5=\"x\",Labels!$B$118,\"\"),\"\")","v":""},0]
[{"$f":"$A$19","v":"Gutschrift \"ft\""},{"$f":"IF(AND(B82=Labels!$B$118,WEEKDAY(B74,2)<6,B$76<>\"\"),($J$7*5/$AR$45)*$B$71%,\"\")","v":""},{"$f":"IF(AND(C82=Labels!$B$118,WEEKDAY(C74,2)<6,C$76<>\"\"),($J$7*5/$AR$45)*$B$71%,\"\")","v":""},{"$f":"IF(AND(D82=Labels!$B$118,WEEKDAY(D74,2)<6,D$76<>\"\"),($J$7*5/$AR$45)*$B$71%,\"\")","v":""},{"$f":"IF(AND(E82=Labels!$B$118,WEEKDAY(E74,2)<6,E$76<>\"\"),($J$7*5/$AR$45)*$B$71%,\"\")","v":""},{"$f":"IF(AND(F82=Labels!$B$118,WEEKDAY(F74,2)<6,F$76<>\"\"),($J$7*5/$AR$45)*$B$71%,\"\")","v":""},{"$f":"IF(AND(G82=Labels!$B$118,WEEKDAY(G74,2)<6,G$76<>\"\"),($J$7*5/$AR$45)*$B$71%,\"\")","v":""},{"$f":"IF(AND(H82=Labels!$B$118,WEEKDAY(H74,2)<6,H$76<>\"\"),($J$7*5/$AR$45)*$B$71%,\"\")","v":""},{"$f":"IF(AND(I82=Labels!$B$118,WEEKDAY(I74,2)<6,I$76<>\"\"),($J$7*5/$AR$45)*$B$71%,\"\")","v":""},{"$f":"IF(AND(J82=Labels!$B$118,WEEKDAY(J74,2)<6,J$76<>\"\"),($J$7*5/$AR$45)*$B$71%,\"\")","v":""},{"$f":"IF(AND(K82=Labels!$B$118,WEEKDAY(K74,2)<6,K$76<>\"\"),($J$7*5/$AR$45)*$B$71%,\"\")","v":""},{"$f":"IF(AND(L82=Labels!$B$118,WEEKDAY(L74,2)<6,L$76<>\"\"),($J$7*5/$AR$45)*$B$71%,\"\")","v":""},{"$f":"IF(AND(M82=Labels!$B$118,WEEKDAY(M74,2)<6,M$76<>\"\"),($J$7*5/$AR$45)*$B$71%,\"\")","v":""},{"$f":"IF(AND(N82=Labels!$B$118,WEEKDAY(N74,2)<6,N$76<>\"\"),($J$7*5/$AR$45)*$B$71%,\"\")","v":""},{"$f":"IF(AND(O82=Labels!$B$118,WEEKDAY(O74,2)<6,O$76<>\"\"),($J$7*5/$AR$45)*$B$71%,\"\")","v":""},{"$f":"IF(AND(P82=Labels!$B$118,WEEKDAY(P74,2)<6,P$76<>\"\"),($J$7*5/$AR$45)*$B$71%,\"\")","v":""},{"$f":"IF(AND(Q82=Labels!$B$118,WEEKDAY(Q74,2)<6,Q$76<>\"\"),($J$7*5/$AR$45)*$B$71%,\"\")","v":""},{"$f":"IF(AND(R82=Labels!$B$118,WEEKDAY(R74,2)<6,R$76<>\"\"),($J$7*5/$AR$45)*$B$71%,\"\")","v":""},{"$f":"IF(AND(S82=Labels!$B$118,WEEKDAY(S74,2)<6,S$76<>\"\"),($J$7*5/$AR$45)*$B$71%,\"\")","v":""},{"$f":"IF(AND(T82=Labels!$B$118,WEEKDAY(T74,2)<6,T$76<>\"\"),($J$7*5/$AR$45)*$B$71%,\"\")","v":""},{"$f":"IF(AND(U82=Labels!$B$118,WEEKDAY(U74,2)<6,U$76<>\"\"),($J$7*5/$AR$45)*$B$71%,\"\")","v":""},{"$f":"IF(AND(V82=Labels!$B$118,WEEKDAY(V74,2)<6,V$76<>\"\"),($J$7*5/$AR$45)*$B$71%,\"\")","v":""},{"$f":"IF(AND(W82=Labels!$B$118,WEEKDAY(W74,2)<6,W$76<>\"\"),($J$7*5/$AR$45)*$B$71%,\"\")","v":""},{"$f":"IF(AND(X82=Labels!$B$118,WEEKDAY(X74,2)<6,X$76<>\"\"),($J$7*5/$AR$45)*$B$71%,\"\")","v":""},{"$f":"IF(AND(Y82=Labels!$B$118,WEEKDAY(Y74,2)<6,Y$76<>\"\"),($J$7*5/$AR$45)*$B$71%,\"\")","v":""},{"$f":"IF(AND(Z82=Labels!$B$118,WEEKDAY(Z74,2)<6,Z$76<>\"\"),($J$7*5/$AR$45)*$B$71%,\"\")","v":""},{"$f":"IF(AND(AA82=Labels!$B$118,WEEKDAY(AA74,2)<6,AA$76<>\"\"),($J$7*5/$AR$45)*$B$71%,\"\")","v":""},{"$f":"IF(AND(AB82=Labels!$B$118,WEEKDAY(AB74,2)<6,AB$76<>\"\"),($J$7*5/$AR$45)*$B$71%,\"\")","v":""},{"$f":"IF(AND(AC82=Labels!$B$118,WEEKDAY(AC74,2)<6,AC$76<>\"\"),($J$7*5/$AR$45)*$B$71%,\"\")","v":""},{"$f":"IF(AND(AD82=Labels!$B$118,WEEKDAY(AD74,2)<6,AD$76<>\"\"),($J$7*5/$AR$45)*$B$71%,\"\")","v":{"$error":"#VALUE!"}},{"$f":"IF(AND(AE82=Labels!$B$118,WEEKDAY(AE74,2)<6),$J$7*$B$71%,\"\")","v":""},{"$f":"IF(AND(AF82=Labels!$B$118,WEEKDAY(AF74,2)<6),$J$7*$B$71%,\"\")","v":""}]
[{"$f":"$A$20","v":"Tagestotal"},{"$f":"SUM(B79:B81)","v":0},{"$f":"SUM(C79:C81)","v":0},0,0,0,0,0,0,0,0,0,0,0,0,0,0,0,0,0,0,0,0,0,0,0,0,0,0,{"$f":"IF(AD74=\"\",\"\",SUM(AD79:AD81))","v":""}]
[{"$f":"$A$21","v":"."}]
[{"$f":"$A$22","v":"."}]
[{"$f":"$A$23","v":"Monatsübergang"},{"$f":"IF(WEEKDAY(B74)=1,TEXT(B74-1,\"MMM\"&Labels!B13),\"\")","v":""},null,null,null,null,null,null,null,null,null,null,null,null,null,null,null,null,null,null,null,null,null,null,null,null,null,null,{"$f":"IF(AND(WEEKDAY(AC74)>1,WEEKDAY(AC74)<7,AD74=\"\"),TEXT(DATE($B$5,MONTH(AC74)+1,1),\"MMM\"&Labels!B13),\"\")","v":"Mär"},{"$f":"IF(ISERROR(WEEKDAY(AD74)),\"\",IF(AND(WEEKDAY(AD74)>1,WEEKDAY(AD74)<7),TEXT(DATE($B$5,MONTH(AD74)+1,1),\"MMM\"&Labels!B13),\"\"))","v":""}]
[{"$f":"$A$24","v":"Wochentotal"},{"$f":"IF(WEEKDAY(B74)=7,SUMIF($B11:$AF11,B75,$B20:$AF20)+SUMIF($B75:$AF75,B75,$B84:$AF84)+SUMIF($B139:$AF139,B75,$B148:$AF148),B87)","v":""},{"$f":"IF(WEEKDAY(C74)=7,SUMIF($B11:$AF11,C75,$B20:$AF20)+SUMIF($B75:$AF75,C75,$B84:$AF84)+SUMIF($B139:$AF139,C75,$B148:$AF148),\"\")","v":""},"","",0,"","","","","","",0,"","","","","","",0,"","","","","","",0,"",{"$f":"IF(WEEKDAY(AC74)=7,SUMIF($B11:$AF11,AC75,$B20:$AF20)+SUMIF($B75:$AF75,AC75,$B84:$AF84)+SUMIF($B139:$AF139,AC75,$B148:$AF148),AC87)","v":"Mär"},{"$f":"IF(ISERROR(WEEKDAY(AD74)=7),\"\",IF(WEEKDAY(AD74)=7,SUMIF($B11:$AF11,AD75,$B20:$AF20)+SUMIF($B75:$AF75,AD75,$B84:$AF84)+SUMIF($B139:$AF139,AD75,$B148:$AF148),AD87))","v":""},null,null,0]
[{"$f":"$A$25","v":"Zeitzuschlag 1)"},{"$f":"IF(B96=\"FALSCH\",\"\",B96)","v":""},{"$f":"IF(C96=\"FALSCH\",\"\",C96)","v":""},"","","","","","","","","","","","","","","","","","","","","","","","","","","",null,null,0,"[1]"]
[{"$f":"$A$26","v":"Zeitzuschlag 2)"},{"$f":"IF((B79+B81)=0,\"\",SUM(B79,B81))","v":""},{"$f":"IF((C79+C81)=0,\"\",SUM(C79,C81))","v":""},"","","","","","","","","","","","","","","","","","","","","","","","","","","",null,null,0,"[2]"]
[{"$f":"$A$27","v":"Zeitzuschlag 3)"},{"$f":"SUM(B92:B95)","v":0},{"$f":"SUM(C92:C95)","v":0},0,0,0,0,0,0,0,0,0,0,0,0,0,0,0,0,0,0,0,0,0,0,0,0,0,0,{"$f":"IF(ISERROR(WEEKDAY(AD74)=1),\"\",SUM(AD92:AD95))","v":""},null,null,0,"[3]"]
[{"$f":"$A$28","v":"Sonntag Tag"},{"$f":"IF(WEEKDAY(B74)=1,B80,\"\")","v":""},{"$f":"IF(WEEKDAY(C74)=1,C80,\"\")","v":""},"","","",0,"","","","","","",0,"","","","","","",0,"","","","","","",0,"",{"$f":"IF(ISERROR(WEEKDAY(AD74)=1),\"\",IF(WEEKDAY(AD74)=1,AD80,\"\"))","v":""},null,null,0,"[4]"]
[{"$f":"$A$29","v":"Sonntag Nacht"},{"$f":"IF(WEEKDAY(B74)=1,SUM(B79+B81),\"\")","v":""},{"$f":"IF(WEEKDAY(C74)=1,SUM(C79+C81),\"\")","v":""},"","","",0,"","","","","","",0,"","","","","","",0,"","","","","","",0,"",{"$f":"IF(ISERROR(WEEKDAY(AD74)=1),\"\",IF(WEEKDAY(AD74)=1,SUM(AD79+AD81),\"\"))","v":""},null,null,0,"[5]"]
[{"$f":"$A$30","v":"ft-Tazuschlag"},{"$f":"IF(B82=Labels!$B$118,B80,\"\")","v":""},{"$f":"IF(C82=Labels!$B$118,C80,\"\")","v":""},{"$f":"IF(D82=Labels!$B$118,D80,\"\")","v":""},{"$f":"IF(E82=Labels!$B$118,E80,\"\")","v":""},{"$f":"IF(F82=Labels!$B$118,F80,\"\")","v":""},{"$f":"IF(G82=Labels!$B$118,G80,\"\")","v":""},{"$f":"IF(H82=Labels!$B$118,H80,\"\")","v":""},{"$f":"IF(I82=Labels!$B$118,I80,\"\")","v":""},{"$f":"IF(J82=Labels!$B$118,J80,\"\")","v":""},{"$f":"IF(K82=Labels!$B$118,K80,\"\")","v":""},{"$f":"IF(L82=Labels!$B$118,L80,\"\")","v":""},{"$f":"IF(M82=Labels!$B$118,M80,\"\")","v":""},{"$f":"IF(N82=Labels!$B$118,N80,\"\")","v":""},{"$f":"IF(O82=Labels!$B$118,O80,\"\")","v":""},{"$f":"IF(P82=Labels!$B$118,P80,\"\")","v":""},{"$f":"IF(Q82=Labels!$B$118,Q80,\"\")","v":""},{"$f":"IF(R82=Labels!$B$118,R80,\"\")","v":""},{"$f":"IF(S82=Labels!$B$118,S80,\"\")","v":""},{"$f":"IF(T82=Labels!$B$118,T80,\"\")","v":""},{"$f":"IF(U82=Labels!$B$118,U80,\"\")","v":""},{"$f":"IF(V82=Labels!$B$118,V80,\"\")","v":""},{"$f":"IF(W82=Labels!$B$118,W80,\"\")","v":""},{"$f":"IF(X82=Labels!$B$118,X80,\"\")","v":""},{"$f":"IF(Y82=Labels!$B$118,Y80,\"\")","v":""},{"$f":"IF(Z82=Labels!$B$118,Z80,\"\")","v":""},{"$f":"IF(AA82=Labels!$B$118,AA80,\"\")","v":""},{"$f":"IF(AB82=Labels!$B$118,AB80,\"\")","v":""},{"$f":"IF(AC82=Labels!$B$118,AC80,\"\")","v":""},{"$f":"IF(AD82=Labels!$B$118,AD80,\"\")","v":{"$error":"#VALUE!"}},null,null,0,"[6]"]
[{"$f":"$A$31","v":"ft-Nazuschlag"},{"$f":"IF(B82=Labels!$B$118,SUM(B79,B81),\"\")","v":""},{"$f":"IF(C82=Labels!$B$118,SUM(C79,C81),\"\")","v":""},{"$f":"IF(D82=Labels!$B$118,SUM(D79,D81),\"\")","v":""},{"$f":"IF(E82=Labels!$B$118,SUM(E79,E81),\"\")","v":""},{"$f":"IF(F82=Labels!$B$118,SUM(F79,F81),\"\")","v":""},{"$f":"IF(G82=Labels!$B$118,SUM(G79,G81),\"\")","v":""},{"$f":"IF(H82=Labels!$B$118,SUM(H79,H81),\"\")","v":""},{"$f":"IF(I82=Labels!$B$118,SUM(I79,I81),\"\")","v":""},{"$f":"IF(J82=Labels!$B$118,SUM(J79,J81),\"\")","v":""},{"$f":"IF(K82=Labels!$B$118,SUM(K79,K81),\"\")","v":""},{"$f":"IF(L82=Labels!$B$118,SUM(L79,L81),\"\")","v":""},{"$f":"IF(M82=Labels!$B$118,SUM(M79,M81),\"\")","v":""},{"$f":"IF(N82=Labels!$B$118,SUM(N79,N81),\"\")","v":""},{"$f":"IF(O82=Labels!$B$118,SUM(O79,O81),\"\")","v":""},{"$f":"IF(P82=Labels!$B$118,SUM(P79,P81),\"\")","v":""},{"$f":"IF(Q82=Labels!$B$118,SUM(Q79,Q81),\"\")","v":""},{"$f":"IF(R82=Labels!$B$118,SUM(R79,R81),\"\")","v":""},{"$f":"IF(S82=Labels!$B$118,SUM(S79,S81),\"\")","v":""},{"$f":"IF(T82=Labels!$B$118,SUM(T79,T81),\"\")","v":""},{"$f":"IF(U82=Labels!$B$118,SUM(U79,U81),\"\")","v":""},{"$f":"IF(V82=Labels!$B$118,SUM(V79,V81),\"\")","v":""},{"$f":"IF(W82=Labels!$B$118,SUM(W79,W81),\"\")","v":""},{"$f":"IF(X82=Labels!$B$118,SUM(X79,X81),\"\")","v":""},{"$f":"IF(Y82=Labels!$B$118,SUM(Y79,Y81),\"\")","v":""},{"$f":"IF(Z82=Labels!$B$118,SUM(Z79,Z81),\"\")","v":""},{"$f":"IF(AA82=Labels!$B$118,SUM(AA79,AA81),\"\")","v":""},{"$f":"IF(AB82=Labels!$B$118,SUM(AB79,AB81),\"\")","v":""},{"$f":"IF(AC82=Labels!$B$118,SUM(AC79,AC81),\"\")","v":""},{"$f":"IF(AD82=Labels!$B$118,SUM(AD79,AD81),\"\")","v":{"$error":"#VALUE!"}},null,null,{"$f":"AG79","v":0},"[7]"]
[{"$f":"$A$32","v":"Zuschlag  blind (Wochentotal)"},{"$f":"IF(OR(ISTEXT(B88),B88=\"\",B88<$B$7),\"\",ROUND(((B88-$B$7)*25%)/25,4)*25)","v":""},{"$f":"IF(OR(ISTEXT(C88),C88=\"\",C88<$B$7),\"\",ROUND(((C88-$B$7)*25%)/25,4)*25)","v":""},"","","","","","","","","","","","","","","","","","","","","","","","","","","",{"$f":"YEAR(AC74)","v":2022},null,{"$f":"SUM(AG78+AG80)","v":0},"[8]"]
[null,{"$f":"$B$33","v":"1)   25% Zeitzuschlag für Überschreitung Wochentotal"},null,null,null,null,null,null,null,null,null,{"$f":"$L$33","v":"2) 100% Zeitzuschlag für Nachtarbeit"},null,null,null,null,null,null,null,{"$f":"$T$33","v":"Eingabe der ausbezahlten Stunden Vorjahressaldo"},null,null,null,null,null,null,null,null,null,null,null,null,{"$f":"SUM(AG78:AG80)","v":0},"[9]"]
[null,{"$f":"$B$34","v":"3) 100% Zeitzuschlag für Sonn- und Feiertagsarbeit"},null,null,null,null,null,null,null,null,null,null,null,null,null,null,null,null,null,{"$f":"$T$34","v":"Eingabe der ausbezahlten Stunden laufendes Jahr (Überstunden)"},null,null,null,null,null,null,null,null,null,null,null,null,{"$f":"SUM(AG76+AG82)","v":0},"[10]"]
[{"$f":"$A$35","v":"Bemerkungen"},null,null,null,null,null,null,null,null,null,null,null,null,null,null,null,null,null,null,null,null,null,null,null,null,null,null,null,null,null,null,null,{"$f":"SUM(AG76:AG90)","v":0},"[11]"]
[null,null,null,null,null,null,null,null,null,null,null,null,null,null,null,null,null,null,null,null,null,null,null,null,null,null,null,null,null,null,null,null,{"$f":"AG75","v":160}]
[null,null,null,null,null,null,null,null,null,null,null,null,null,null,null,null,null,null,null,null,null,null,null,null,null,null,null,null,null,null,null,null,{"$f":"SUM(AG99-AG75)","v":-160}]
[]
[{"$f":"$A$39","v":"Zusammenstellung"},null,null,null,null,null,{"$f":"$G$39","v":"Jan"},null,{"$f":"$I$39","v":"Feb"},null,{"$f":"$K$39","v":"Mrz"},null,{"$f":"$M$39","v":"Apr"},null,{"$f":"$O$39","v":"Mai"},null,{"$f":"$Q$39","v":"Jun"},null,{"$f":"$S$39","v":"Jul"},null,{"$f":"$U$39","v":"Aug"},null,{"$f":"$W$39","v":"Sep"},null,{"$f":"$Y$39","v":"Okt"},null,{"$f":"$AA$39","v":"Nov"},null,{"$f":"$AC$39","v":"Dez"},null,{"$f":"$AE$39","v":"Jahr"}]
[{"$f":"$A$40","v":"Anstellung %"},null,null,null,null,null,{"$f":"IF($B$4=0,0,$B$4)","v":100},null,{"$f":"IF($B$71=0,0,$B$71)","v":100},null,{"$f":"IF($B$135=0,0,$B$135)","v":100},null,{"$f":"IF($B$199=0,0,$B$199)","v":100},null,{"$f":"IF($B$263=0,0,$B$263)","v":100},null,{"$f":"IF($B$327=0,0,$B$327)","v":100},null,{"$f":"IF($B$391=0,0,$B$391)","v":100},null,{"$f":"IF($B$455=0,0,$B$455)","v":100},null,{"$f":"IF($B$519=0,0,$B$519)","v":100},null,{"$f":"IF($B$583=0,0,$B$583)","v":100},null,{"$f":"IF($B$647=0,0,$B$647)","v":100},null,{"$f":"IF($B$711=0,0,$B$711)","v":100}]
[{"$f":"$A$41","v":"Sollstunden gemäss GAV"},null,null,null,null,null,{"$f":"IF($AG$37=0,0,$AG$37)","v":168},null,{"$f":"IF($AG$100=0,0,$AG$100)","v":160},null,{"$f":"IF($AG$139=0,0,$AG$139)","v":184},null,{"$f":"IF($AG$228=0,0,$AG$228)","v":168},null,{"$f":"IF($AG$292=0,0,$AG$292)","v":176},null,{"$f":"IF($AG$356=0,0,$AG$356)","v":176},null,{"$f":"IF($AG$420=0,0,$AG$420)","v":168},null,{"$f":"IF($AG$484=0,0,$AG$484)","v":184},null,{"$f":"IF($AG$548=0,0,$AG$548)","v":176},null,{"$f":"IF($AG$612=0,0,$AG$612)","v":168},null,{"$f":"IF($AG$676=0,0,$AG$676)","v":176},null,{"$f":"IF($AG$740=0,0,$AG$740)","v":176},null,{"$f":"SUM(G105:AD105)","v":2080}]
[{"$f":"$A$42","v":"Produktive Stunden"},{"$f":"$B$42","v":"06.00 - 20.00 Uhr"},null,null,null,null,{"$f":"IF($AG$32=0,0,$AG$32)","v":0},null,{"$f":"IF($AG$95=0,0,$AG$95)","v":0},null,{"$f":"IF($AG$159=0,0,$AG$159)","v":0},null,{"$f":"IF($AG$223=0,0,$AG$223)","v":0},null,{"$f":"IF($AG$287=0,0,$AG$287)","v":0},null,{"$f":"IF($AG$351=0,0,$AG$351)","v":0},null,{"$f":"IF($AG$415=0,0,$AG$415)","v":0},null,{"$f":"IF($AG$479=0,0,$AG$479)","v":0},null,{"$f":"IF($AG$543=0,0,$AG$543)","v":0},null,{"$f":"IF($AG$607=0,0,$AG$607)","v":0},null,{"$f":"IF($AG$671=0,0,$AG$671)","v":0},null,{"$f":"IF($AG$735=0,0,$AG$735)","v":0},null,{"$f":"SUM(G106:AD106)","v":0}]
[null,{"$f":"$B$43","v":"Nacht-, Sonn-, Feiertagsarbeit"},null,null,null,null,{"$f":"IF($AG$33=0,0,$AG$33)","v":0},null,{"$f":"IF($AG$96=0,0,$AG$96)","v":0},null,{"$f":"IF($AG$160=0,0,$AG$160)","v":0},null,{"$f":"IF($AG$224=0,0,$AG$224)","v":0},null,{"$f":"IF($AG$288=0,0,$AG$288)","v":0},null,{"$f":"IF($AG$352=0,0,$AG$352)","v":0},null,{"$f":"IF($AG$416=0,0,$AG$416)","v":0},null,{"$f":"IF($AG$480=0,0,$AG$480)","v":0},null,{"$f":"IF($AG$544=0,0,$AG$544)","v":0},null,{"$f":"IF($AG$608=0,0,$AG$608)","v":0},null,{"$f":"IF($AG$672=0,0,$AG$672)","v":0},null,{"$f":"IF($AG$736=0,0,$AG$736)","v":0},null,{"$f":"SUM(G107:AD107)","v":0}]
[{"$f":"$A$44","v":"Zeitzuschläge"},{"$f":"$B$44","v":"aus Wochentotal"},null,null,null,null,{"$f":"IF($AG$25=0,0,$AG$25)","v":0},null,{"$f":"IF($AG$88=0,0,$AG$88)","v":0},null,{"$f":"IF($AG$152=0,0,$AG$152)","v":0},null,{"$f":"IF($AG$216=0,0,$AG$216)","v":0},null,{"$f":"IF($AG$280=0,0,$AG$280)","v":0},null,{"$f":"IF($AG$344=0,0,$AG$344)","v":0},null,{"$f":"IF($AG$408=0,0,$AG$408)","v":0},null,{"$f":"IF($AG$472=0,0,$AG$472)","v":0},null,{"$f":"IF($AG$536=0,0,$AG$536)","v":0},null,{"$f":"IF($AG$600=0,0,$AG$600)","v":0},null,{"$f":"IF($AG$664=0,0,$AG$664)","v":0},null,{"$f":"IF($AG$728=0,0,$AG$728)","v":0},null,{"$f":"SUM(G108:AD108)","v":0}]
[null,{"$f":"$B$45","v":"aus Nacht-, Sonn-, Feiertagsarbeiten"},null,null,null,null,{"$f":"IF($AJ$21=0,0,$AJ$21)","v":0},null,{"$f":"IF($AK$21=0,0,$AK$21)","v":0},null,{"$f":"IF($AL$21=0,0,$AL$21)","v":0},null,{"$f":"IF($AM$21=0,0,$AM$21)","v":0},null,{"$f":"IF($AN$21=0,0,$AN$21)","v":0},null,{"$f":"IF($AO$21=0,0,$AO$21)","v":0},null,{"$f":"IF($AP$21=0,0,$AP$21)","v":0},null,{"$f":"IF($AQ$21=0,0,$AQ$21)","v":0},null,{"$f":"IF($AR$21=0,0,$AR$21)","v":0},null,{"$f":"IF($AS$21=0,0,$AS$21)","v":0},null,{"$f":"IF($AT$21=0,0,$AT$21)","v":0},null,{"$f":"IF($AU$21=0,0,$AU$21)","v":0},null,{"$f":"SUM(G109:AD109)","v":0}]
[{"$f":"$A$46","v":"Unproduktive Stunden"}]
[{"$f":"$A$47","v":"   Absenzen, Kurzabsenzen Art. 11 GAV"},null,null,null,null,{"$f":"$F$47","v":"a"},{"$f":"IF($AJ$3=0,0,$AJ$3)","v":0},null,{"$f":"IF($AK$3=0,0,$AK$3)","v":0},null,{"$f":"IF($AL$3=0,0,$AL$3)","v":0},null,{"$f":"IF($AM$3=0,0,$AM$3)","v":0},null,{"$f":"IF($AN$3=0,0,$AN$3)","v":0},null,{"$f":"IF($AO$3=0,0,$AO$3)","v":0},null,{"$f":"IF($AP$3=0,0,$AP$3)","v":0},null,{"$f":"IF($AQ$3=0,0,$AQ$3)","v":0},null,{"$f":"IF($AR$3=0,0,$AR$3)","v":0},null,{"$f":"IF($AS$3=0,0,$AS$3)","v":0},null,{"$f":"IF(AT$3=0,0,$AT$3)","v":0},null,{"$f":"IF($AU$3=0,0,$AU$3)","v":0},null,{"$f":"IF($AV$3=0,0,$AV$3)","v":0}]
[{"$f":"$A$48","v":"   Ferien Art. 12.1 GAV"},null,null,null,null,{"$f":"$F$48","v":"f"},{"$f":"IF($AJ$4=0,0,$AJ$4)","v":0},null,{"$f":"IF($AK$4=0,0,$AK$4)","v":0},null,{"$f":"IF($AL$4=0,0,$AL$4)","v":0},null,{"$f":"IF($AM$4=0,0,$AM$4)","v":0},null,{"$f":"IF($AN$4=0,0,$AN$4)","v":0},null,{"$f":"IF($AO$4=0,0,$AO$4)","v":0},null,{"$f":"IF($AP$4=0,0,$AP$4)","v":0},null,{"$f":"IF($AQ$4=0,0,$AQ$4)","v":0},null,{"$f":"IF($AR$4=0,0,$AR$4)","v":0},null,{"$f":"IF($AS$4=0,0,$AS$4)","v":0},null,{"$f":"IF($AT$4=0,0,$AT$4)","v":0},null,{"$f":"IF($AU$4=0,0,$AU$4)","v":0},null,{"$f":"IF($AV$4=0,0,$AV$4)","v":0}]
[{"$f":"Labels!$B$181","v":"   Ferien unbezahlt"},null,null,null,null,{"$f":"Labels!$B$182","v":"fu"},{"$f":"IF($AJ$13=0,0,$AJ$13)","v":0},null,{"$f":"IF($AK$13=0,0,$AK$13)","v":0},null,{"$f":"IF($AL$13=0,0,$AL$13)","v":0},null,{"$f":"IF($AM$13=0,0,$AM$13)","v":0},null,{"$f":"IF($AN$13=0,0,$AN$13)","v":0},null,{"$f":"IF($AO$13=0,0,$AO$13)","v":0},null,{"$f":"IF($AP$13=0,0,$AP$13)","v":0},null,{"$f":"IF($AQ$13=0,0,$AQ$13)","v":0},null,{"$f":"IF($AR$13=0,0,$AR$13)","v":0},null,{"$f":"IF($AS$13=0,0,$AS$13)","v":0},null,{"$f":"IF($AT$13=0,0,$AT$13)","v":0},null,{"$f":"IF($AU$13=0,0,$AU$13)","v":0},null,{"$f":"IF($AV$13=0,0,$AV$13)","v":0}]
[{"$f":"$A$50","v":"   Feiertage Art. 12.2 GAV"},null,{"$f":"IF($AJ$18=\"\",\"\",$AJ$18)","v":""},null,null,{"$f":"$F$50","v":"ft"},{"$f":"IF($AJ$16=0,0,$AJ$16)","v":0},null,{"$f":"IF($AK$16=0,0,$AK$16)","v":0},null,{"$f":"IF($AL$16=0,0,$AL$16)","v":0},null,{"$f":"IF($AM$16=0,0,$AM$16)","v":0},null,{"$f":"IF($AN$16=0,0,$AN$16)","v":0},null,{"$f":"IF($AO$16=0,0,$AO$16)","v":0},null,{"$f":"IF($AP$16=0,0,$AP$16)","v":0},null,{"$f":"IF($AQ$16=0,0,$AQ$16)","v":0},null,{"$f":"IF($AR$16=0,0,$AR$16)","v":0},null,{"$f":"IF($AS$16=0,0,$AS$16)","v":0},null,{"$f":"IF($AT$16=0,0,$AT$16)","v":0},null,{"$f":"IF($AU$16=0,0,$AU$16)","v":0},null,{"$f":"IF($AV$16=0,0,$AV$16)","v":0}]
[{"$f":"$A$51","v":"   Krankheit Art. 13 GAV"},null,null,null,null,{"$f":"$F$51","v":"k"},{"$f":"IF($AJ$5=0,0,$AJ$5)","v":0},null,{"$f":"IF($AK$5=0,0,$AK$5)","v":0},null,{"$f":"IF($AL$5=0,0,$AL$5)","v":0},null,{"$f":"IF($AM$5=0,0,$AM$5)","v":0},null,{"$f":"IF($AN$5=0,0,$AN$5)","v":0},null,{"$f":"IF($AO$5=0,0,$AO$5)","v":0},null,{"$f":"IF($AP$5=0,0,$AP$5)","v":0},null,{"$f":"IF($AQ$5=0,0,$AQ$5)","v":0},null,{"$f":"IF($AR$5=0,0,$AR$5)","v":0},null,{"$f":"IF($AS$5=0,0,$AS$5)","v":0},null,{"$f":"IF($AT$5=0,0,$AT$5)","v":0},null,{"$f":"IF($AU$5=0,0,$AU$5)","v":0},null,{"$f":"IF($AV$5=0,0,$AV$5)","v":0}]
[{"$f":"$A$52","v":"   Unfall Art. 14 GAV"},null,null,null,null,{"$f":"$F$52","v":"u"},{"$f":"IF($AJ$6=0,0,$AJ$6)","v":0},null,{"$f":"IF($AK$6=0,0,$AK$6)","v":0},null,{"$f":"IF($AL$6=0,0,$AL$6)","v":0},null,{"$f":"IF($AM$6=0,0,$AM$6)","v":0},null,{"$f":"IF($AN$6=0,0,$AN$6)","v":0},null,{"$f":"IF($AO$6=0,0,$AO$6)","v":0},null,{"$f":"IF($AP$6=0,0,$AP$6)","v":0},null,{"$f":"IF($AQ$6=0,0,$AQ$6)","v":0},null,{"$f":"IF($AR$6=0,0,$AR$6)","v":0},null,{"$f":"IF($AS$6=0,0,$AS$6)","v":0},null,{"$f":"IF($AT$6=0,0,$AT$6)","v":0},null,{"$f":"IF($AU$6=0,0,$AU$6)","v":0},null,{"$f":"IF($AV$6=0,0,$AV$6)","v":0}]
[{"$f":"$A$53","v":"   Schwangerschaft/Mutterschaft Art. 15 GAV"},null,null,null,null,{"$f":"$F$53","v":"s"},{"$f":"IF($AJ$7=0,0,$AJ$7)","v":0},null,{"$f":"IF($AK$7=0,0,$AK$7)","v":0},null,{"$f":"IF($AL$7=0,0,$AL$7)","v":0},null,{"$f":"IF($AM$7=0,0,$AM$7)","v":0},null,{"$f":"IF($AN$7=0,0,$AN$7)","v":0},null,{"$f":"IF($AO$7=0,0,$AO$7)","v":0},null,{"$f":"IF($AP$7=0,0,$AP$7)","v":0},null,{"$f":"IF($AQ$7=0,0,$AQ$7)","v":0},null,{"$f":"IF($AR$7=0,0,$AR$7)","v":0},null,{"$f":"IF($AS$7=0,0,$AS$7)","v":0},null,{"$f":"IF($AT$7=0,0,$AT$7)","v":0},null,{"$f":"IF($AU$7=0,0,$AU$7)","v":0},null,{"$f":"IF($AV$7=0,0,$AV$7)","v":0}]
[{"$f":"$A$54","v":"   Militär/Beförderung/Zivilschutz Art. 16 GAV"},null,null,null,null,{"$f":"$F$54","v":"m"},{"$f":"IF($AJ$8=0,0,$AJ$8)","v":0},null,{"$f":"IF($AK$8=0,0,$AK$8)","v":0},null,{"$f":"IF($AL$8=0,0,$AL$8)","v":0},null,{"$f":"IF($AM$8=0,0,$AM$8)","v":0},null,{"$f":"IF($AN$8=0,0,$AN$8)","v":0},null,{"$f":"IF($AO$8=0,0,$AO$8)","v":0},null,{"$f":"IF($AP$8=0,0,$AP$8)","v":0},null,{"$f":"IF($AQ$8=0,0,$AQ$8)","v":0},null,{"$f":"IF($AR$8=0,0,$AR$8)","v":0},null,{"$f":"IF($AS$8=0,0,$AS$8)","v":0},null,{"$f":"IF($AT$8=0,0,$AT$8)","v":0},null,{"$f":"IF($AU$8=0,0,$AU$8)","v":0},null,{"$f":"IF($AV$8=0,0,$AV$8)","v":0}]
[{"$f":"$A$55","v":"   Kurzarbeit und Schlechtwetterausfälle"},null,null,null,null,{"$f":"$F$55","v":"ka"},{"$f":"IF($AJ$11=0,0,$AJ$11)","v":0},null,{"$f":"IF($AK$11=0,0,$AK$11)","v":0},null,{"$f":"IF($AL$11=0,0,$AL$11)","v":0},null,{"$f":"IF($AM$11=0,0,$AM$11)","v":0},null,{"$f":"IF($AN$11=0,0,$AN$11)","v":0},null,{"$f":"IF($AO$11=0,0,$AO$11)","v":0},null,{"$f":"IF($AP$11=0,0,$AP$11)","v":0},null,{"$f":"IF($AQ$11=0,0,$AQ$11)","v":0},null,{"$f":"IF($AR$11=0,0,$AR$11)","v":0},null,{"$f":"IF($AS$11=0,0,$AS$11)","v":0},null,{"$f":"IF($AT$11=0,0,$AT$11)","v":0},null,{"$f":"IF($AU$11=0,0,$AU$11)","v":0},null,{"$f":"IF($AV$11=0,0,$AV$11)","v":0}]
[{"$f":"$A$56","v":"   Berufsschule"},null,null,null,null,{"$f":"$F$56","v":"bs"},{"$f":"IF($AJ$9=0,0,$AJ$9)","v":0},null,{"$f":"IF($AK$9=0,0,$AK$9)","v":0},null,{"$f":"IF($AL$9=0,0,$AL$9)","v":0},null,{"$f":"IF($AM$9=0,0,$AM$9)","v":0},null,{"$f":"IF($AN$9=0,0,$AN$9)","v":0},null,{"$f":"IF($AO$9=0,0,$AO$9)","v":0},null,{"$f":"IF($AP$9=0,0,$AP$9)","v":0},null,{"$f":"IF($AQ$9=0,0,$AQ$9)","v":0},null,{"$f":"IF($AR$9=0,0,$AR$9)","v":0},null,{"$f":"IF($AS$9=0,0,$AS$9)","v":0},null,{"$f":"IF($AT$9=0,0,$AT$9)","v":0},null,{"$f":"IF($AU$9=0,0,$AU$9)","v":0},null,{"$f":"IF($AV$9=0,0,$AV$9)","v":0}]
[{"$f":"$A$57","v":"   Kurse"},null,null,null,null,{"$f":"$F$57","v":"ku"},{"$f":"IF($AJ$10=0,0,$AJ$10)","v":0},null,{"$f":"IF($AK$10=0,0,$AK$10)","v":0},null,{"$f":"IF($AL$10=0,0,$AL$10)","v":0},null,{"$f":"IF($AM$10=0,0,$AM$10)","v":0},null,{"$f":"IF($AN$10=0,0,$AN$10)","v":0},null,{"$f":"IF($AO$10=0,0,$AO$10)","v":0},null,{"$f":"IF($AP$10=0,0,$AP$10)","v":0},null,{"$f":"IF($AQ$10=0,0,$AQ$10)","v":0},null,{"$f":"IF($AR$10=0,0,$AR$10)","v":0},null,{"$f":"IF($AS$10=0,0,$AS$10)","v":0},null,{"$f":"IF($AT$10=0,0,$AT$10)","v":0},null,{"$f":"IF($AU$10=0,0,$AU$10)","v":0},null,{"$f":"IF($AV$10=0,0,$AV$10)","v":0}]
[{"$f":"$A$58","v":"Kompensations-Std"},{"$f":"$B$58","v":"aus Vorjahr"},null,null,null,{"$f":"$F$58","v":"kv"},{"$f":"IF($AJ$12=0,0,$AJ$12)","v":0},null,{"$f":"IF($AK$12=0,0,$AK$12)","v":0},null,{"$f":"IF($AL$12=0,0,$AL$12)","v":0},null,{"$f":"IF($AM$12=0,0,$AM$12)","v":0},null,{"$f":"IF($AN$12=0,0,$AN$12)","v":0},null,{"$f":"IF($AO$12=0,0,$AO$12)","v":0},null,{"$f":"IF($AP$12=0,0,$AP$12)","v":0},null,{"$f":"IF($AQ$12=0,0,$AQ$12)","v":0},null,{"$f":"IF($AR$12=0,0,$AR$12)","v":0},null,null,null,null,null,null,null,{"$f":"IF($AV$12=0,0,$AV$12)","v":0}]
[null,{"$f":"$B$59","v":"aus laufendem Jahr (Kontrolle)"},null,null,null,{"$f":"$F$59","v":"kj"},{"$f":"IF($AJ$15=0,0,$AJ$15)","v":0},null,{"$f":"IF($AK$15=0,0,$AK$15)","v":0},null,{"$f":"IF($AL$15=0,0,$AL$15)","v":0},null,{"$f":"IF($AM$15=0,0,$AM$15)","v":0},null,{"$f":"IF($AN$15=0,0,$AN$15)","v":0},null,{"$f":"IF($AO$15=0,0,$AO$15)","v":0},null,{"$f":"IF($AP$15=0,0,$AP$15)","v":0},null,{"$f":"IF($AQ$15=0,0,$AQ$15)","v":0},null,{"$f":"IF($AR$15=0,0,$AR$15)","v":0},null,{"$f":"IF($AS$15=0,0,$AS$15)","v":0},null,{"$f":"IF($AT$15=0,0,$AT$15)","v":0},null,{"$f":"IF($AU$15=0,0,$AU$15)","v":0},null,{"$f":"IF($AV$15=0,0,$AV$15)","v":0}]
[{"$f":"$A$60","v":"Auszahlung"},{"$f":"$B$60","v":"Stunden Vorjahressaldo"},null,null,null,null,{"$f":"IF($AJ$19=0,0,$AJ$19)","v":0},null,{"$f":"IF($AK$19=0,0,$AK$19)","v":0},null,{"$f":"IF($AL$19=0,0,$AL$19)","v":0},null,{"$f":"IF($AM$19=0,0,$AM$19)","v":0},null,{"$f":"IF($AN$19=0,0,$AN$19)","v":0},null,{"$f":"IF($AO$19=0,0,$AO$19)","v":0},null,{"$f":"IF($AP$19=0,0,$AP$19)","v":0},null,{"$f":"IF($AQ$19=0,0,$AQ$19)","v":0},null,{"$f":"IF($AR$19=0,0,$AR$19)","v":0},null,null,null,null,null,null,null,{"$f":"IF($AV$19=0,0,$AV$19)","v":0}]
[{"$f":"$A$61","v":"Differenz"},{"$f":"$B$61","v":"nach Kompensation und Auszahlung"},null,null,null,null,{"$f":"IF(ROUND($P$4,3)=0,0,$P$4-SUM(G122+G124))","v":0},null,{"$f":"IF(ROUND(G125,3)=0,0,G125-(SUM(I124+I122)))","v":0},null,{"$f":"IF(ROUND(I125,3)=0,0,I125-(SUM(K124+K122)))","v":0},null,{"$f":"IF(ROUND(K125,3)=0,0,K125-(SUM(M124+M122)))","v":0},null,{"$f":"IF(ROUND(M125,3)=0,0,M125-(SUM(O124+O122)))","v":0},null,{"$f":"IF(ROUND(O125,3)=0,0,O125-(SUM(Q124+Q122)))","v":0},null,{"$f":"IF(ROUND(Q125,3)=0,0,Q125-(SUM(S124+S122)))","v":0},null,{"$f":"IF(ROUND(S125,3)=0,0,S125-(SUM(U124+U122)))","v":0},null,{"$f":"IF(ROUND(U125,3)=0,0,U125-(SUM(W124+W122)))","v":0},null,{"$f":"$Y$61","v":""}]
[{"$f":"$A$62","v":"Auszahlung"},{"$f":"$B$62","v":"Stunden laufendes Jahr"},null,null,null,null,{"$f":"IF($AJ$20=0,0,$AJ$20)","v":0},null,{"$f":"IF($AK$20=0,0,$AK$20)","v":0},null,{"$f":"IF($AL$20=0,0,$AL$20)","v":0},null,{"$f":"IF($AM$20=0,0,$AM$20)","v":0},null,{"$f":"IF($AN$20=0,0,$AN$20)","v":0},null,{"$f":"IF($AO$20=0,0,$AO$20)","v":0},null,{"$f":"IF($AP$20=0,0,$AP$20)","v":0},null,{"$f":"IF($AQ$20=0,0,$AQ$20)","v":0},null,{"$f":"IF($AR$20=0,0,$AR$20)","v":0},null,{"$f":"IF($AS$20=0,0,$AS$20)","v":0},null,{"$f":"IF($AT$20=0,0,$AT$20)","v":0},null,{"$f":"IF($AU$20=0,0,$AU$20)","v":0},null,{"$f":"IF($AV$20=0,0,$AV$20)","v":0}]
[{"$f":"$A$63","v":"Fehlstunden"},{"$f":"$B$63","v":"laufendes Jahr (Kontrolle)"},null,null,null,{"$f":"$F$63","v":"fe"},{"$f":"IF($AJ$14=0,0,$AJ$14)","v":0},null,{"$f":"IF($AK$14=0,0,$AK$14)","v":0},null,{"$f":"IF($AL$14=0,0,$AL$14)","v":0},null,{"$f":"IF($AM$14=0,0,$AM$14)","v":0},null,{"$f":"IF($AN$14=0,0,$AN$14)","v":0},null,{"$f":"IF($AO$14=0,0,$AO$14)","v":0},null,{"$f":"IF($AP$14=0,0,$AP$14)","v":0},null,{"$f":"IF($AQ$14=0,0,$AQ$14)","v":0},null,{"$f":"IF($AR$14=0,0,$AR$14)","v":0},null,{"$f":"IF($AS$14=0,0,$AS$14)","v":0},null,{"$f":"IF($AT$14=0,0,$AT$14)","v":0},null,{"$f":"IF($AU$14=0,0,$AU$14)","v":0},null,{"$f":"IF($AV$14=0,0,$AV$14)","v":0}]
[{"$f":"$A$64","v":"Total inkl. Zeitzuschläge"},{"$f":"$B$64","v":"Stunden produktiv und unproduktiv"},null,null,null,null,{"$f":"IF($AG$36=0,0,$AG$36)","v":0},null,{"$f":"IF($AG$99=0,0,$AG$99)","v":0},null,{"$f":"IF($AG$163=0,0,$AG$163)","v":0},null,{"$f":"IF($AG$227=0,0,$AG$227)","v":0},null,{"$f":"IF($AG$291=0,0,$AG$291)","v":0},null,{"$f":"IF($AG$355=0,0,$AG$355)","v":0},null,{"$f":"IF($AG$419=0,0,$AG$419)","v":0},null,{"$f":"IF($AG$483=0,0,$AG$483)","v":0},null,{"$f":"IF($AG$547=0,0,$AG$547)","v":0},null,{"$f":"IF($AG$611=0,0,$AG$611)","v":0},null,{"$f":"IF($AG$675=0,0,$AG$675)","v":0},null,{"$f":"IF($AG$739=0,0,$AG$739)","v":0},null,{"$f":"SUM($G$64:$AD$64)","v":0}]
[{"$f":"$A$65","v":"Vergleich"},{"$f":"$B$65","v":"Stunden zu Soll-Stunden (inkl. allfälli-\nge Minusstunden Vorjahr)"},null,null,null,null,{"$f":"$G$65","v":-168},null,{"$f":"$I$65","v":-160},null,{"$f":"$K$65","v":-184},null,{"$f":"$M$65","v":-168},null,{"$f":"$O$65","v":-176},null,{"$f":"$Q$65","v":-176},null,{"$f":"$S$65","v":-168},null,{"$f":"$U$65","v":-184},null,{"$f":"$W$65","v":-176},null,{"$f":"$Y$65","v":-168},null,{"$f":"$AA$65","v":-176},null,{"$f":"$AC$65","v":-176},null,{"$f":"$AE$65","v":-2080}]
[null,{"$f":"$B$66","v":"Stunden zu Soll-Stunden (kumuliert)"},null,null,null,null,{"$f":"$G$66","v":-168},null,{"$f":"$I$66","v":-328},null,{"$f":"$K$66","v":-512},null,{"$f":"$M$66","v":-680},null,{"$f":"$O$66","v":-856},null,{"$f":"$Q$66","v":-1032},null,{"$f":"$S$66","v":-1200},null,{"$f":"$U$66","v":-1384},null,{"$f":"$W$66","v":-1560},null,{"$f":"$Y$66","v":-1728},null,{"$f":"$AA$66","v":-1904},null,{"$f":"$AC$66","v":-2080},null,{"$f":"$AE$66","v":0}]
[{"$f":"$A$67","v":"Ferienkontrolle"},{"$f":"$B$67","v":"Ferienguthaben Vorjahr"},null,null,null,null,{"$f":"IF($AA$4=0,0,$AA$4)","v":0},null,{"$f":"$I$67","v":"Ferienguthaben nach \nArt. 12.1 GAV"},null,null,null,{"$f":"IF($AA$5=0,0,$AA$5)","v":0},null,{"$f":"$O$67","v":"Ferienguthaben total"},null,null,null,{"$f":"SUM(G131+M131)","v":0},null,{"$f":"$U$67","v":"Ferien bezogen"},null,null,null,{"$f":"IF($AV$4=0,0,$AV$4)","v":0},null,{"$f":"$AA$67","v":"Aktuelles Ferienguthaben"},null,null,null,{"$f":"IF(S131=0,0,S131-Y131)","v":0}]
[]
[]
[{"$f":"$A$3","v":"Mitarbeiter/In"},{"$f":"IF($B$3=\"\",\"\",$B$3)","v":"Muster Peter"},null,null,null,null,null,null,null,null,null,null,null,null,null,null,null,null,null,null,null,null,null,null,null,null,null,null,null,null,null,{"$f":"AF3","v":0}]
[{"$f":"$A$4","v":"Anstellung %"},{"$f":"$AL$46","v":100},null,{"$f":"Labels!B91","v":"im März"}]
[{"$f":"$A$5","v":"Saldo für das Jahr"},null,null,{"$f":"IF($AE$65=0,0,$AE$65)","v":-2080}]
[{"$f":"TEXT(DATE(YEAR(AP29),MONTH(AP29)+2,1),\"MMMM\"&Labels!B13)","v":"März"},{"$f":"$B$9","v":"Saldo Monat + / -"},null,null,null,{"$f":"(AG139-(SUM(AG140:AG154)-AE162))*-1","v":-184},null,null,null,null,{"$f":"$K$9","v":" = "},{"$f":"$L$9","v":"Gelbe Felder müssen ausgefüllt werden (die übrigen werden automatisch berechnet)"},null,null,null,null,null,null,null,null,null,null,null,null,null,null,null,null,null,null,null,null,{"$f":"COUNT(B140:AF140)&\" \"&Labels!$B$63","v":"23 Tage"}]
[{"$f":"$A$10","v":"Tag"},{"$f":"IF(MOD($AE$96,4)>=1,$AC$74+1,$AC$74+2)","v":"2022-03-01"},{"$f":"B138+1","v":"2022-03-02"},"2022-03-03","2022-03-04","2022-03-05","2022-03-06","2022-03-07","2022-03-08","2022-03-09","2022-03-10","2022-03-11","2022-03-12","2022-03-13","2022-03-14","2022-03-15","2022-03-16","2022-03-17","2022-03-18","2022-03-19","2022-03-20","2022-03-21","2022-03-22","2022-03-23","2022-03-24","2022-03-25","2022-03-26","2022-03-27","2022-03-28","2022-03-29","2022-03-30","2022-03-31"]
[{"$f":"$A$11","v":"Kalenderwoche"},{"$f":"IF(B138=\"\",\"\",TRUNC((B138-DATE(YEAR(B138+3-MOD(B138-2,7)),1,MOD(B138-2,7)-9))/7))","v":9},9,9,9,9,9,10,10,10,10,10,10,10,11,11,11,11,11,11,11,12,12,12,12,12,12,12,13,13,13,13,{"$f":"SUM(B140:AF140)","v":184}]
[{"$f":"$A$12","v":"Sollstunden"},{"$f":"IF(AND(MOD(B138,7)>=2,SUMPRODUCT(($AM$56:$AQ$56=MOD(B138,7))*$AM$46:$AQ$46)),($J$7*5/$AR$46)*$B$135%,\"\")","v":8},{"$f":"IF(AND(MOD(C138,7)>=2,SUMPRODUCT(($AM$56:$AQ$56=MOD(C138,7))*$AM$46:$AQ$46)),($J$7*5/$AR$46)*$B$135%,\"\")","v":8},{"$f":"IF(AND(MOD(D138,7)>=2,SUMPRODUCT(($AM$56:$AQ$56=MOD(D138,7))*$AM$46:$AQ$46)),($J$7*5/$AR$46)*$B$135%,\"\")","v":8},{"$f":"IF(AND(MOD(E138,7)>=2,SUMPRODUCT(($AM$56:$AQ$56=MOD(E138,7))*$AM$46:$AQ$46)),($J$7*5/$AR$46)*$B$135%,\"\")","v":8},{"$f":"IF(AND(MOD(F138,7)>=2,SUMPRODUCT(($AM$56:$AQ$56=MOD(F138,7))*$AM$46:$AQ$46)),($J$7*5/$AR$46)*$B$135%,\"\")","v":""},{"$f":"IF(AND(MOD(G138,7)>=2,SUMPRODUCT(($AM$56:$AQ$56=MOD(G138,7))*$AM$46:$AQ$46)),($J$7*5/$AR$46)*$B$135%,\"\")","v":""},{"$f":"IF(AND(MOD(H138,7)>=2,SUMPRODUCT(($AM$56:$AQ$56=MOD(H138,7))*$AM$46:$AQ$46)),($J$7*5/$AR$46)*$B$135%,\"\")","v":8},{"$f":"IF(AND(MOD(I138,7)>=2,SUMPRODUCT(($AM$56:$AQ$56=MOD(I138,7))*$AM$46:$AQ$46)),($J$7*5/$AR$46)*$B$135%,\"\")","v":8},{"$f":"IF(AND(MOD(J138,7)>=2,SUMPRODUCT(($AM$56:$AQ$56=MOD(J138,7))*$AM$46:$AQ$46)),($J$7*5/$AR$46)*$B$135%,\"\")","v":8},{"$f":"IF(AND(MOD(K138,7)>=2,SUMPRODUCT(($AM$56:$AQ$56=MOD(K138,7))*$AM$46:$AQ$46)),($J$7*5/$AR$46)*$B$135%,\"\")","v":8},{"$f":"IF(AND(MOD(L138,7)>=2,SUMPRODUCT(($AM$56:$AQ$56=MOD(L138,7))*$AM$46:$AQ$46)),($J$7*5/$AR$46)*$B$135%,\"\")","v":8},{"$f":"IF(AND(MOD(M138,7)>=2,SUMPRODUCT(($AM$56:$AQ$56=MOD(M138,7))*$AM$46:$AQ$46)),($J$7*5/$AR$46)*$B$135%,\"\")","v":""},{"$f":"IF(AND(MOD(N138,7)>=2,SUMPRODUCT(($AM$56:$AQ$56=MOD(N138,7))*$AM$46:$AQ$46)),($J$7*5/$AR$46)*$B$135%,\"\")","v":""},{"$f":"IF(AND(MOD(O138,7)>=2,SUMPRODUCT(($AM$56:$AQ$56=MOD(O138,7))*$AM$46:$AQ$46)),($J$7*5/$AR$46)*$B$135%,\"\")","v":8},{"$f":"IF(AND(MOD(P138,7)>=2,SUMPRODUCT(($AM$56:$AQ$56=MOD(P138,7))*$AM$46:$AQ$46)),($J$7*5/$AR$46)*$B$135%,\"\")","v":8},{"$f":"IF(AND(MOD(Q138,7)>=2,SUMPRODUCT(($AM$56:$AQ$56=MOD(Q138,7))*$AM$46:$AQ$46)),($J$7*5/$AR$46)*$B$135%,\"\")","v":8},{"$f":"IF(AND(MOD(R138,7)>=2,SUMPRODUCT(($AM$56:$AQ$56=MOD(R138,7))*$AM$46:$AQ$46)),($J$7*5/$AR$46)*$B$135%,\"\")","v":8},{"$f":"IF(AND(MOD(S138,7)>=2,SUMPRODUCT(($AM$56:$AQ$56=MOD(S138,7))*$AM$46:$AQ$46)),($J$7*5/$AR$46)*$B$135%,\"\")","v":8},{"$f":"IF(AND(MOD(T138,7)>=2,SUMPRODUCT(($AM$56:$AQ$56=MOD(T138,7))*$AM$46:$AQ$46)),($J$7*5/$AR$46)*$B$135%,\"\")","v":""},{"$f":"IF(AND(MOD(U138,7)>=2,SUMPRODUCT(($AM$56:$AQ$56=MOD(U138,7))*$AM$46:$AQ$46)),($J$7*5/$AR$46)*$B$135%,\"\")","v":""},{"$f":"IF(AND(MOD(V138,7)>=2,SUMPRODUCT(($AM$56:$AQ$56=MOD(V138,7))*$AM$46:$AQ$46)),($J$7*5/$AR$46)*$B$135%,\"\")","v":8},{"$f":"IF(AND(MOD(W138,7)>=2,SUMPRODUCT(($AM$56:$AQ$56=MOD(W138,7))*$AM$46:$AQ$46)),($J$7*5/$AR$46)*$B$135%,\"\")","v":8},{"$f":"IF(AND(MOD(X138,7)>=2,SUMPRODUCT(($AM$56:$AQ$56=MOD(X138,7))*$AM$46:$AQ$46)),($J$7*5/$AR$46)*$B$135%,\"\")","v":8},{"$f":"IF(AND(MOD(Y138,7)>=2,SUMPRODUCT(($AM$56:$AQ$56=MOD(Y138,7))*$AM$46:$AQ$46)),($J$7*5/$AR$46)*$B$135%,\"\")","v":8},{"$f":"IF(AND(MOD(Z138,7)>=2,SUMPRODUCT(($AM$56:$AQ$56=MOD(Z138,7))*$AM$46:$AQ$46)),($J$7*5/$AR$46)*$B$135%,\"\")","v":8},{"$f":"IF(AND(MOD(AA138,7)>=2,SUMPRODUCT(($AM$56:$AQ$56=MOD(AA138,7))*$AM$46:$AQ$46)),($J$7*5/$AR$46)*$B$135%,\"\")","v":""},{"$f":"IF(AND(MOD(AB138,7)>=2,SUMPRODUCT(($AM$56:$AQ$56=MOD(AB138,7))*$AM$46:$AQ$46)),($J$7*5/$AR$46)*$B$135%,\"\")","v":""},{"$f":"IF(AND(MOD(AC138,7)>=2,SUMPRODUCT(($AM$56:$AQ$56=MOD(AC138,7))*$AM$46:$AQ$46)),($J$7*5/$AR$46)*$B$135%,\"\")","v":8},{"$f":"IF(AND(MOD(AD138,7)>=2,SUMPRODUCT(($AM$56:$AQ$56=MOD(AD138,7))*$AM$46:$AQ$46)),($J$7*5/$AR$46)*$B$135%,\"\")","v":8},{"$f":"IF(AND(MOD(AE138,7)>=2,SUMPRODUCT(($AM$56:$AQ$56=MOD(AE138,7))*$AM$46:$AQ$46)),($J$7*5/$AR$46)*$B$135%,\"\")","v":8},{"$f":"IF(AND(MOD(AF138,7)>=2,SUMPRODUCT(($AM$56:$AQ$56=MOD(AF138,7))*$AM$46:$AQ$46)),($J$7*5/$AR$46)*$B$135%,\"\")","v":8},{"$f":"SUM(AL3:AL13)","v":0}]
[{"$f":"$A$13","v":"Absenz in Std"},{"$f":"B877","v":0},{"$f":"C877","v":0},0,0,0,0,0,0,0,0,0,0,0,0,0,0,0,0,0,0,0,0,0,0,0,0,0,0,0,0,0]
[{"$f":"$A$14","v":"Code"},{"$f":"IF(B877<>0,IF(MAX(B864:B876)<B877,Labels!$B$163,INDEX($AH$863:$AH$875,MATCH(MAX(B864:B876),B864:B876,0))),\"\")","v":""},{"$f":"IF(C877<>0,IF(MAX(C864:C876)<C877,Labels!$B$163,INDEX($AH$863:$AH$875,MATCH(MAX(C864:C876),C864:C876,0))),\"\")","v":""},{"$f":"IF(D877<>0,IF(MAX(D864:D876)<D877,Labels!$B$163,INDEX($AH$863:$AH$875,MATCH(MAX(D864:D876),D864:D876,0))),\"\")","v":""},{"$f":"IF(E877<>0,IF(MAX(E864:E876)<E877,Labels!$B$163,INDEX($AH$863:$AH$875,MATCH(MAX(E864:E876),E864:E876,0))),\"\")","v":""},{"$f":"IF(F877<>0,IF(MAX(F864:F876)<F877,Labels!$B$163,INDEX($AH$863:$AH$875,MATCH(MAX(F864:F876),F864:F876,0))),\"\")","v":""},{"$f":"IF(G877<>0,IF(MAX(G864:G876)<G877,Labels!$B$163,INDEX($AH$863:$AH$875,MATCH(MAX(G864:G876),G864:G876,0))),\"\")","v":""},{"$f":"IF(H877<>0,IF(MAX(H864:H876)<H877,Labels!$B$163,INDEX($AH$863:$AH$875,MATCH(MAX(H864:H876),H864:H876,0))),\"\")","v":""},{"$f":"IF(I877<>0,IF(MAX(I864:I876)<I877,Labels!$B$163,INDEX($AH$863:$AH$875,MATCH(MAX(I864:I876),I864:I876,0))),\"\")","v":""},{"$f":"IF(J877<>0,IF(MAX(J864:J876)<J877,Labels!$B$163,INDEX($AH$863:$AH$875,MATCH(MAX(J864:J876),J864:J876,0))),\"\")","v":""},{"$f":"IF(K877<>0,IF(MAX(K864:K876)<K877,Labels!$B$163,INDEX($AH$863:$AH$875,MATCH(MAX(K864:K876),K864:K876,0))),\"\")","v":""},{"$f":"IF(L877<>0,IF(MAX(L864:L876)<L877,Labels!$B$163,INDEX($AH$863:$AH$875,MATCH(MAX(L864:L876),L864:L876,0))),\"\")","v":""},{"$f":"IF(M877<>0,IF(MAX(M864:M876)<M877,Labels!$B$163,INDEX($AH$863:$AH$875,MATCH(MAX(M864:M876),M864:M876,0))),\"\")","v":""},{"$f":"IF(N877<>0,IF(MAX(N864:N876)<N877,Labels!$B$163,INDEX($AH$863:$AH$875,MATCH(MAX(N864:N876),N864:N876,0))),\"\")","v":""},{"$f":"IF(O877<>0,IF(MAX(O864:O876)<O877,Labels!$B$163,INDEX($AH$863:$AH$875,MATCH(MAX(O864:O876),O864:O876,0))),\"\")","v":""},{"$f":"IF(P877<>0,IF(MAX(P864:P876)<P877,Labels!$B$163,INDEX($AH$863:$AH$875,MATCH(MAX(P864:P876),P864:P876,0))),\"\")","v":""},{"$f":"IF(Q877<>0,IF(MAX(Q864:Q876)<Q877,Labels!$B$163,INDEX($AH$863:$AH$875,MATCH(MAX(Q864:Q876),Q864:Q876,0))),\"\")","v":""},{"$f":"IF(R877<>0,IF(MAX(R864:R876)<R877,Labels!$B$163,INDEX($AH$863:$AH$875,MATCH(MAX(R864:R876),R864:R876,0))),\"\")","v":""},{"$f":"IF(S877<>0,IF(MAX(S864:S876)<S877,Labels!$B$163,INDEX($AH$863:$AH$875,MATCH(MAX(S864:S876),S864:S876,0))),\"\")","v":""},{"$f":"IF(T877<>0,IF(MAX(T864:T876)<T877,Labels!$B$163,INDEX($AH$863:$AH$875,MATCH(MAX(T864:T876),T864:T876,0))),\"\")","v":""},{"$f":"IF(U877<>0,IF(MAX(U864:U876)<U877,Labels!$B$163,INDEX($AH$863:$AH$875,MATCH(MAX(U864:U876),U864:U876,0))),\"\")","v":""},{"$f":"IF(V877<>0,IF(MAX(V864:V876)<V877,Labels!$B$163,INDEX($AH$863:$AH$875,MATCH(MAX(V864:V876),V864:V876,0))),\"\")","v":""},{"$f":"IF(W877<>0,IF(MAX(W864:W876)<W877,Labels!$B$163,INDEX($AH$863:$AH$875,MATCH(MAX(W864:W876),W864:W876,0))),\"\")","v":""},{"$f":"IF(X877<>0,IF(MAX(X864:X876)<X877,Labels!$B$163,INDEX($AH$863:$AH$875,MATCH(MAX(X864:X876),X864:X876,0))),\"\")","v":""},{"$f":"IF(Y877<>0,IF(MAX(Y864:Y876)<Y877,Labels!$B$163,INDEX($AH$863:$AH$875,MATCH(MAX(Y864:Y876),Y864:Y876,0))),\"\")","v":""},{"$f":"IF(Z877<>0,IF(MAX(Z864:Z876)<Z877,Labels!$B$163,INDEX($AH$863:$AH$875,MATCH(MAX(Z864:Z876),Z864:Z876,0))),\"\")","v":""},{"$f":"IF(AA877<>0,IF(MAX(AA864:AA876)<AA877,Labels!$B$163,INDEX($AH$863:$AH$875,MATCH(MAX(AA864:AA876),AA864:AA876,0))),\"\")","v":""},{"$f":"IF(AB877<>0,IF(MAX(AB864:AB876)<AB877,Labels!$B$163,INDEX($AH$863:$AH$875,MATCH(MAX(AB864:AB876),AB864:AB876,0))),\"\")","v":""},{"$f":"IF(AC877<>0,IF(MAX(AC864:AC876)<AC877,Labels!$B$163,INDEX($AH$863:$AH$875,MATCH(MAX(AC864:AC876),AC864:AC876,0))),\"\")","v":""},{"$f":"IF(AD877<>0,IF(MAX(AD864:AD876)<AD877,Labels!$B$163,INDEX($AH$863:$AH$875,MATCH(MAX(AD864:AD876),AD864:AD876,0))),\"\")","v":""},{"$f":"IF(AE877<>0,IF(MAX(AE864:AE876)<AE877,Labels!$B$163,INDEX($AH$863:$AH$875,MATCH(MAX(AE864:AE876),AE864:AE876,0))),\"\")","v":""},{"$f":"IF(AF877<>0,IF(MAX(AF864:AF876)<AF877,Labels!$B$163,INDEX($AH$863:$AH$875,MATCH(MAX(AF864:AF876),AF864:AF876,0))),\"\")","v":""},{"$f":"SUM(B143:AF143)","v":0}]
[{"$f":"$A$15","v":"00.00-06.00h"},null,null,null,null,null,null,null,null,null,null,null,null,null,null,null,null,null,null,null,null,null,null,null,null,null,null,null,null,null,null,null,{"$f":"SUM(B144:AF144)","v":0}]
[{"$f":"$A$16","v":"06.00-20.00h"},null,null,null,null,null,null,null,null,null,null,null,null,null,null,null,null,null,null,null,null,null,null,null,null,null,null,null,null,null,null,null,{"$f":"SUM(B145:AF145)","v":0},"[0]"]
[{"$f":"$A$17","v":"20.00-24.00h"}]
[{"$f":"$A$18","v":"Feiertag \"ft\""},{"$f":"IF(WEEKDAY(B138,2)<=6,IF(KALENDER!E7=\"x\",Labels!$B$118,\"\"),\"\")","v":""},{"$f":"IF(WEEKDAY(C138,2)<=6,IF(KALENDER!F7=\"x\",Labels!$B$118,\"\"),\"\")","v":""},{"$f":"IF(WEEKDAY(D138,2)<=6,IF(KALENDER!G7=\"x\",Labels!$B$118,\"\"),\"\")","v":""},{"$f":"IF(WEEKDAY(E138,2)<=6,IF(KALENDER!H7=\"x\",Labels!$B$118,\"\"),\"\")","v":""},{"$f":"IF(WEEKDAY(F138,2)<=6,IF(KALENDER!I7=\"x\",Labels!$B$118,\"\"),\"\")","v":""},{"$f":"IF(WEEKDAY(G138,2)<=6,IF(KALENDER!J7=\"x\",Labels!$B$118,\"\"),\"\")","v":""},{"$f":"IF(WEEKDAY(H138,2)<=6,IF(KALENDER!K7=\"x\",Labels!$B$118,\"\"),\"\")","v":""},{"$f":"IF(WEEKDAY(I138,2)<=6,IF(KALENDER!L7=\"x\",Labels!$B$118,\"\"),\"\")","v":""},{"$f":"IF(WEEKDAY(J138,2)<=6,IF(KALENDER!M7=\"x\",Labels!$B$118,\"\"),\"\")","v":""},{"$f":"IF(WEEKDAY(K138,2)<=6,IF(KALENDER!N7=\"x\",Labels!$B$118,\"\"),\"\")","v":""},{"$f":"IF(WEEKDAY(L138,2)<=6,IF(KALENDER!O7=\"x\",Labels!$B$118,\"\"),\"\")","v":""},{"$f":"IF(WEEKDAY(M138,2)<=6,IF(KALENDER!P7=\"x\",Labels!$B$118,\"\"),\"\")","v":""},{"$f":"IF(WEEKDAY(N138,2)<=6,IF(KALENDER!Q7=\"x\",Labels!$B$118,\"\"),\"\")","v":""},{"$f":"IF(WEEKDAY(O138,2)<=6,IF(KALENDER!R7=\"x\",Labels!$B$118,\"\"),\"\")","v":""},{"$f":"IF(WEEKDAY(P138,2)<=6,IF(KALENDER!S7=\"x\",Labels!$B$118,\"\"),\"\")","v":""},{"$f":"IF(WEEKDAY(Q138,2)<=6,IF(KALENDER!T7=\"x\",Labels!$B$118,\"\"),\"\")","v":""},{"$f":"IF(WEEKDAY(R138,2)<=6,IF(KALENDER!U7=\"x\",Labels!$B$118,\"\"),\"\")","v":""},{"$f":"IF(WEEKDAY(S138,2)<=6,IF(KALENDER!V7=\"x\",Labels!$B$118,\"\"),\"\")","v":""},{"$f":"IF(WEEKDAY(T138,2)<=6,IF(KALENDER!W7=\"x\",Labels!$B$118,\"\"),\"\")","v":""},{"$f":"IF(WEEKDAY(U138,2)<=6,IF(KALENDER!X7=\"x\",Labels!$B$118,\"\"),\"\")","v":""},{"$f":"IF(WEEKDAY(V138,2)<=6,IF(KALENDER!Y7=\"x\",Labels!$B$118,\"\"),\"\")","v":""},{"$f":"IF(WEEKDAY(W138,2)<=6,IF(KALENDER!Z7=\"x\",Labels!$B$118,\"\"),\"\")","v":""},{"$f":"IF(WEEKDAY(X138,2)<=6,IF(KALENDER!AA7=\"x\",Labels!$B$118,\"\"),\"\")","v":""},{"$f":"IF(WEEKDAY(Y138,2)<=6,IF(KALENDER!AB7=\"x\",Labels!$B$118,\"\"),\"\")","v":""},{"$f":"IF(WEEKDAY(Z138,2)<=6,IF(KALENDER!AC7=\"x\",Labels!$B$118,\"\"),\"\")","v":""},{"$f":"IF(WEEKDAY(AA138,2)<=6,IF(KALENDER!AD7=\"x\",Labels!$B$118,\"\"),\"\")","v":""},{"$f":"IF(WEEKDAY(AB138,2)<=6,IF(KALENDER!AE7=\"x\",Labels!$B$118,\"\"),\"\")","v":""},{"$f":"IF(WEEKDAY(AC138,2)<=6,IF(KALENDER!AF7=\"x\",Labels!$B$118,\"\"),\"\")","v":""},{"$f":"IF(WEEKDAY(AD138,2)<=6,IF(KALENDER!AG7=\"x\",Labels!$B$118,\"\"),\"\")","v":""},{"$f":"IF(WEEKDAY(AE138,2)<=6,IF(KALENDER!AH7=\"x\",Labels!$B$118,\"\"),\"\")","v":""},{"$f":"IF(WEEKDAY(AF138,2)<=6,IF(KALENDER!AI7=\"x\",Labels!$B$118,\"\"),\"\")","v":""},{"$f":"SUM(B147:AF147)","v":0}]
[{"$f":"$A$19","v":"Gutschrift \"ft\""},{"$f":"IF(AND(B146=Labels!$B$118,WEEKDAY(B138,2)<6,B$140<>\"\"),($J$7*5/$AR$46)*$B$135%,\"\")","v":""},{"$f":"IF(AND(C146=Labels!$B$118,WEEKDAY(C138,2)<6,C$140<>\"\"),($J$7*5/$AR$46)*$B$135%,\"\")","v":""},{"$f":"IF(AND(D146=Labels!$B$118,WEEKDAY(D138,2)<6,D$140<>\"\"),($J$7*5/$AR$46)*$B$135%,\"\")","v":""},{"$f":"IF(AND(E146=Labels!$B$118,WEEKDAY(E138,2)<6,E$140<>\"\"),($J$7*5/$AR$46)*$B$135%,\"\")","v":""},{"$f":"IF(AND(F146=Labels!$B$118,WEEKDAY(F138,2)<6,F$140<>\"\"),($J$7*5/$AR$46)*$B$135%,\"\")","v":""},{"$f":"IF(AND(G146=Labels!$B$118,WEEKDAY(G138,2)<6,G$140<>\"\"),($J$7*5/$AR$46)*$B$135%,\"\")","v":""},{"$f":"IF(AND(H146=Labels!$B$118,WEEKDAY(H138,2)<6,H$140<>\"\"),($J$7*5/$AR$46)*$B$135%,\"\")","v":""},{"$f":"IF(AND(I146=Labels!$B$118,WEEKDAY(I138,2)<6,I$140<>\"\"),($J$7*5/$AR$46)*$B$135%,\"\")","v":""},{"$f":"IF(AND(J146=Labels!$B$118,WEEKDAY(J138,2)<6,J$140<>\"\"),($J$7*5/$AR$46)*$B$135%,\"\")","v":""},{"$f":"IF(AND(K146=Labels!$B$118,WEEKDAY(K138,2)<6,K$140<>\"\"),($J$7*5/$AR$46)*$B$135%,\"\")","v":""},{"$f":"IF(AND(L146=Labels!$B$118,WEEKDAY(L138,2)<6,L$140<>\"\"),($J$7*5/$AR$46)*$B$135%,\"\")","v":""},{"$f":"IF(AND(M146=Labels!$B$118,WEEKDAY(M138,2)<6,M$140<>\"\"),($J$7*5/$AR$46)*$B$135%,\"\")","v":""},{"$f":"IF(AND(N146=Labels!$B$118,WEEKDAY(N138,2)<6,N$140<>\"\"),($J$7*5/$AR$46)*$B$135%,\"\")","v":""},{"$f":"IF(AND(O146=Labels!$B$118,WEEKDAY(O138,2)<6,O$140<>\"\"),($J$7*5/$AR$46)*$B$135%,\"\")","v":""},{"$f":"IF(AND(P146=Labels!$B$118,WEEKDAY(P138,2)<6,P$140<>\"\"),($J$7*5/$AR$46)*$B$135%,\"\")","v":""},{"$f":"IF(AND(Q146=Labels!$B$118,WEEKDAY(Q138,2)<6,Q$140<>\"\"),($J$7*5/$AR$46)*$B$135%,\"\")","v":""},{"$f":"IF(AND(R146=Labels!$B$118,WEEKDAY(R138,2)<6,R$140<>\"\"),($J$7*5/$AR$46)*$B$135%,\"\")","v":""},{"$f":"IF(AND(S146=Labels!$B$118,WEEKDAY(S138,2)<6,S$140<>\"\"),($J$7*5/$AR$46)*$B$135%,\"\")","v":""},{"$f":"IF(AND(T146=Labels!$B$118,WEEKDAY(T138,2)<6,T$140<>\"\"),($J$7*5/$AR$46)*$B$135%,\"\")","v":""},{"$f":"IF(AND(U146=Labels!$B$118,WEEKDAY(U138,2)<6,U$140<>\"\"),($J$7*5/$AR$46)*$B$135%,\"\")","v":""},{"$f":"IF(AND(V146=Labels!$B$118,WEEKDAY(V138,2)<6,V$140<>\"\"),($J$7*5/$AR$46)*$B$135%,\"\")","v":""},{"$f":"IF(AND(W146=Labels!$B$118,WEEKDAY(W138,2)<6,W$140<>\"\"),($J$7*5/$AR$46)*$B$135%,\"\")","v":""},{"$f":"IF(AND(X146=Labels!$B$118,WEEKDAY(X138,2)<6,X$140<>\"\"),($J$7*5/$AR$46)*$B$135%,\"\")","v":""},{"$f":"IF(AND(Y146=Labels!$B$118,WEEKDAY(Y138,2)<6,Y$140<>\"\"),($J$7*5/$AR$46)*$B$135%,\"\")","v":""},{"$f":"IF(AND(Z146=Labels!$B$118,WEEKDAY(Z138,2)<6,Z$140<>\"\"),($J$7*5/$AR$46)*$B$135%,\"\")","v":""},{"$f":"IF(AND(AA146=Labels!$B$118,WEEKDAY(AA138,2)<6,AA$140<>\"\"),($J$7*5/$AR$46)*$B$135%,\"\")","v":""},{"$f":"IF(AND(AB146=Labels!$B$118,WEEKDAY(AB138,2)<6,AB$140<>\"\"),($J$7*5/$AR$46)*$B$135%,\"\")","v":""},{"$f":"IF(AND(AC146=Labels!$B$118,WEEKDAY(AC138,2)<6,AC$140<>\"\"),($J$7*5/$AR$46)*$B$135%,\"\")","v":""},{"$f":"IF(AND(AD146=Labels!$B$118,WEEKDAY(AD138,2)<6,AD$140<>\"\"),($J$7*5/$AR$46)*$B$135%,\"\")","v":""},{"$f":"IF(AND(AE146=Labels!$B$118,WEEKDAY(AE138,2)<6,AE$140<>\"\"),($J$7*5/$AR$46)*$B$135%,\"\")","v":""},{"$f":"IF(AND(AF146=Labels!$B$118,WEEKDAY(AF138,2)<6,AF$140<>\"\"),($J$7*5/$AR$46)*$B$135%,\"\")","v":""}]
[{"$f":"$A$20","v":"Tagestotal"},{"$f":"SUM(B143:B145)","v":0},{"$f":"SUM(C143:C145)","v":0},0,0,0,0,0,0,0,0,0,0,0,0,0,0,0,0,0,0,0,0,0,0,0,0,0,0,0,0,0]
[{"$f":"$A$21","v":"."}]
[{"$f":"$A$22","v":"."}]
[{"$f":"$A$23","v":"Monatsübergang"},{"$f":"IF(WEEKDAY(B138)=1,TEXT(B138-1,\"MMM\"&Labels!B13),\"\")","v":""},null,null,null,null,null,null,null,null,null,null,null,null,null,null,null,null,null,null,null,null,null,null,null,null,null,null,null,null,null,{"$f":"IF(AND(WEEKDAY(AF138)>1,WEEKDAY(AF138)<7),TEXT(DATE($B$5,MONTH(AF138)+1,1),\"MMM\"&Labels!B13),\"\")","v":"Apr"}]
[{"$f":"$A$24","v":"Wochentotal"},{"$f":"IF(WEEKDAY(B138)=7,SUMIF($B75:$AF75,B139,$B84:$AF84)+SUMIF($B139:$AF139,B139,$B148:$AF148)+SUMIF($B203:$AF203,B139,$B212:$AF212),B151)","v":""},{"$f":"IF(WEEKDAY(C138)=7,SUMIF($B75:$AF75,C139,$B84:$AF84)+SUMIF($B139:$AF139,C139,$B148:$AF148)+SUMIF($B203:$AF203,C139,$B212:$AF212),\"\")","v":""},"","",0,"","","","","","",0,"","","","","","",0,"","","","","","",0,"","","","",{"$f":"IF(WEEKDAY(AF138)=7,SUMIF($B75:$AF75,AF139,$B84:$AF84)+SUMIF($B139:$AF139,AF139,$B148:$AF148)+SUMIF($B203:$AF203,AF139,$B212:$AF212),AF151)","v":"Apr"},{"$f":"SUM(B153:AF153)","v":0}]
[{"$f":"$A$25","v":"Zeitzuschlag 1)"},{"$f":"IF(B160=\"FALSCH\",\"\",B160)","v":""},{"$f":"IF(C160=\"FALSCH\",\"\",C160)","v":""},"","","","","","","","","","","","","","","","","","","","","","","","","","","","","",0,"[1]"]
[{"$f":"$A$26","v":"Zeitzuschlag 2)"},{"$f":"IF((B143+B145)=0,\"\",SUM(B143,B145))","v":""},{"$f":"IF((C143+C145)=0,\"\",SUM(C143,C145))","v":""},"","","","","","","","","","","","","","","","","","","","","","","","","","","","","",{"$f":"SUM(B155:AF155)","v":0},"[2]"]
[{"$f":"$A$27","v":"Zeitzuschlag 3)"},{"$f":"SUM(B156:B159)","v":0},{"$f":"SUM(C156:C159)","v":0},0,0,0,0,0,0,0,0,0,0,0,0,0,0,0,0,0,0,0,0,0,0,0,0,0,0,0,0,0,0,"[3]"]
[{"$f":"$A$28","v":"Sonntag Tag"},{"$f":"IF(WEEKDAY(B138)=1,B144,\"\")","v":""},{"$f":"IF(WEEKDAY(C138)=1,C144,\"\")","v":""},"","","",0,"","","","","","",0,"","","","","","",0,"","","","","","",0,"","","","",0,"[4]"]
[{"$f":"$A$29","v":"Sonntag Nacht"},{"$f":"IF(WEEKDAY(B138)=1,SUM(B143+B145),\"\")","v":""},{"$f":"IF(WEEKDAY(C138)=1,SUM(C143+C145),\"\")","v":""},"","","",0,"","","","","","",0,"","","","","","",0,"","","","","","",0,"","","","",0,"[5]"]
[{"$f":"$A$30","v":"ft-Tazuschlag"},{"$f":"IF(B146=Labels!$B$118,B144,\"\")","v":""},{"$f":"IF(C146=Labels!$B$118,C144,\"\")","v":""},{"$f":"IF(D146=Labels!$B$118,D144,\"\")","v":""},{"$f":"IF(E146=Labels!$B$118,E144,\"\")","v":""},{"$f":"IF(F146=Labels!$B$118,F144,\"\")","v":""},{"$f":"IF(G146=Labels!$B$118,G144,\"\")","v":""},{"$f":"IF(H146=Labels!$B$118,H144,\"\")","v":""},{"$f":"IF(I146=Labels!$B$118,I144,\"\")","v":""},{"$f":"IF(J146=Labels!$B$118,J144,\"\")","v":""},{"$f":"IF(K146=Labels!$B$118,K144,\"\")","v":""},{"$f":"IF(L146=Labels!$B$118,L144,\"\")","v":""},{"$f":"IF(M146=Labels!$B$118,M144,\"\")","v":""},{"$f":"IF(N146=Labels!$B$118,N144,\"\")","v":""},{"$f":"IF(O146=Labels!$B$118,O144,\"\")","v":""},{"$f":"IF(P146=Labels!$B$118,P144,\"\")","v":""},{"$f":"IF(Q146=Labels!$B$118,Q144,\"\")","v":""},{"$f":"IF(R146=Labels!$B$118,R144,\"\")","v":""},{"$f":"IF(S146=Labels!$B$118,S144,\"\")","v":""},{"$f":"IF(T146=Labels!$B$118,T144,\"\")","v":""},{"$f":"IF(U146=Labels!$B$118,U144,\"\")","v":""},{"$f":"IF(V146=Labels!$B$118,V144,\"\")","v":""},{"$f":"IF(W146=Labels!$B$118,W144,\"\")","v":""},{"$f":"IF(X146=Labels!$B$118,X144,\"\")","v":""},{"$f":"IF(Y146=Labels!$B$118,Y144,\"\")","v":""},{"$f":"IF(Z146=Labels!$B$118,Z144,\"\")","v":""},{"$f":"IF(AA146=Labels!$B$118,AA144,\"\")","v":""},{"$f":"IF(AB146=Labels!$B$118,AB144,\"\")","v":""},{"$f":"IF(AC146=Labels!$B$118,AC144,\"\")","v":""},{"$f":"IF(AD146=Labels!$B$118,AD144,\"\")","v":""},{"$f":"IF(AE146=Labels!$B$118,AE144,\"\")","v":""},{"$f":"IF(AF146=Labels!$B$118,AF144,\"\")","v":""},0,"[6]"]
[{"$f":"$A$31","v":"ft-Nazuschlag"},{"$f":"IF(B146=Labels!$B$118,SUM(B143,B145),\"\")","v":""},{"$f":"IF(C146=Labels!$B$118,SUM(C143,C145),\"\")","v":""},{"$f":"IF(D146=Labels!$B$118,SUM(D143,D145),\"\")","v":""},{"$f":"IF(E146=Labels!$B$118,SUM(E143,E145),\"\")","v":""},{"$f":"IF(F146=Labels!$B$118,SUM(F143,F145),\"\")","v":""},{"$f":"IF(G146=Labels!$B$118,SUM(G143,G145),\"\")","v":""},{"$f":"IF(H146=Labels!$B$118,SUM(H143,H145),\"\")","v":""},{"$f":"IF(I146=Labels!$B$118,SUM(I143,I145),\"\")","v":""},{"$f":"IF(J146=Labels!$B$118,SUM(J143,J145),\"\")","v":""},{"$f":"IF(K146=Labels!$B$118,SUM(K143,K145),\"\")","v":""},{"$f":"IF(L146=Labels!$B$118,SUM(L143,L145),\"\")","v":""},{"$f":"IF(M146=Labels!$B$118,SUM(M143,M145),\"\")","v":""},{"$f":"IF(N146=Labels!$B$118,SUM(N143,N145),\"\")","v":""},{"$f":"IF(O146=Labels!$B$118,SUM(O143,O145),\"\")","v":""},{"$f":"IF(P146=Labels!$B$118,SUM(P143,P145),\"\")","v":""},{"$f":"IF(Q146=Labels!$B$118,SUM(Q143,Q145),\"\")","v":""},{"$f":"IF(R146=Labels!$B$118,SUM(R143,R145),\"\")","v":""},{"$f":"IF(S146=Labels!$B$118,SUM(S143,S145),\"\")","v":""},{"$f":"IF(T146=Labels!$B$118,SUM(T143,T145),\"\")","v":""},{"$f":"IF(U146=Labels!$B$118,SUM(U143,U145),\"\")","v":""},{"$f":"IF(V146=Labels!$B$118,SUM(V143,V145),\"\")","v":""},{"$f":"IF(W146=Labels!$B$118,SUM(W143,W145),\"\")","v":""},{"$f":"IF(X146=Labels!$B$118,SUM(X143,X145),\"\")","v":""},{"$f":"IF(Y146=Labels!$B$118,SUM(Y143,Y145),\"\")","v":""},{"$f":"IF(Z146=Labels!$B$118,SUM(Z143,Z145),\"\")","v":""},{"$f":"IF(AA146=Labels!$B$118,SUM(AA143,AA145),\"\")","v":""},{"$f":"IF(AB146=Labels!$B$118,SUM(AB143,AB145),\"\")","v":""},{"$f":"IF(AC146=Labels!$B$118,SUM(AC143,AC145),\"\")","v":""},{"$f":"IF(AD146=Labels!$B$118,SUM(AD143,AD145),\"\")","v":""},{"$f":"IF(AE146=Labels!$B$118,SUM(AE143,AE145),\"\")","v":""},{"$f":"IF(AF146=Labels!$B$118,SUM(AF143,AF145),\"\")","v":""},{"$f":"AG143","v":0},"[7]"]
[{"$f":"$A$32","v":"Zuschlag  blind (Wochentotal)"},{"$f":"IF(OR(ISTEXT(B152),B152=\"\",B152<$B$7),\"\",ROUND(((B152-$B$7)*25%)/25,4)*25)","v":""},{"$f":"IF(OR(ISTEXT(C152),C152=\"\",C152<$B$7),\"\",ROUND(((C152-$B$7)*25%)/25,4)*25)","v":""},"","","","","","","","","","","","","","","","","","","","","","","","","","","","","",{"$f":"SUM(AG142+AG144)","v":0},"[8]"]
[null,{"$f":"$B$33","v":"1)   25% Zeitzuschlag für Überschreitung Wochentotal"},null,null,null,null,null,null,null,null,null,{"$f":"$L$33","v":"2) 100% Zeitzuschlag für Nachtarbeit"},null,null,null,null,null,null,null,{"$f":"$T$33","v":"Eingabe der ausbezahlten Stunden Vorjahressaldo"},null,null,null,null,null,null,null,null,null,null,null,null,{"$f":"SUM(AG142:AG144)","v":0},"[9]"]
[null,{"$f":"$B$34","v":"3) 100% Zeitzuschlag für Sonn- und Feiertagsarbeit"},null,null,null,null,null,null,null,null,null,null,null,null,null,null,null,null,null,{"$f":"$T$34","v":"Eingabe der ausbezahlten Stunden laufendes Jahr (Überstunden)"},null,null,null,null,null,null,null,null,null,null,null,null,{"$f":"SUM(AG140+AG146)","v":0},"[10]"]
[{"$f":"$A$35","v":"Bemerkungen"},null,null,null,null,null,null,null,null,null,null,null,null,null,null,null,null,null,null,null,null,null,null,null,null,null,null,null,null,null,null,null,{"$f":"SUM(AG140:AG154)","v":0},"[11]"]
[null,null,null,null,null,null,null,null,null,null,null,null,null,null,null,null,null,null,null,null,null,null,null,null,null,null,null,null,null,null,null,null,{"$f":"AG139","v":184}]
[null,null,null,null,null,null,null,null,null,null,null,null,null,null,null,null,null,null,null,null,null,null,null,null,null,null,null,null,null,null,null,null,{"$f":"SUM(AG163-AG139)","v":-184}]
[]
[{"$f":"$A$39","v":"Zusammenstellung"},null,null,null,null,null,{"$f":"$G$39","v":"Jan"},null,{"$f":"$I$39","v":"Feb"},null,{"$f":"$K$39","v":"Mrz"},null,{"$f":"$M$39","v":"Apr"},null,{"$f":"$O$39","v":"Mai"},null,{"$f":"$Q$39","v":"Jun"},null,{"$f":"$S$39","v":"Jul"},null,{"$f":"$U$39","v":"Aug"},null,{"$f":"$W$39","v":"Sep"},null,{"$f":"$Y$39","v":"Okt"},null,{"$f":"$AA$39","v":"Nov"},null,{"$f":"$AC$39","v":"Dez"},null,{"$f":"$AE$39","v":"Jahr"}]
[{"$f":"$A$40","v":"Anstellung %"},null,null,null,null,null,{"$f":"IF($B$4=0,0,$B$4)","v":100},null,{"$f":"IF($B$71=0,0,$B$71)","v":100},null,{"$f":"IF($B$135=0,0,$B$135)","v":100},null,{"$f":"IF($B$199=0,0,$B$199)","v":100},null,{"$f":"IF($B$263=0,0,$B$263)","v":100},null,{"$f":"IF($B$327=0,0,$B$327)","v":100},null,{"$f":"IF($B$391=0,0,$B$391)","v":100},null,{"$f":"IF($B$455=0,0,$B$455)","v":100},null,{"$f":"IF($B$519=0,0,$B$519)","v":100},null,{"$f":"IF($B$583=0,0,$B$583)","v":100},null,{"$f":"IF($B$647=0,0,$B$647)","v":100},null,{"$f":"IF($B$711=0,0,$B$711)","v":100}]
[{"$f":"$A$41","v":"Sollstunden gemäss GAV"},null,null,null,null,null,{"$f":"IF($AG$37=0,0,$AG$37)","v":168},null,{"$f":"IF($AG$100=0,0,$AG$100)","v":160},null,{"$f":"IF($AG$139=0,0,$AG$139)","v":184},null,{"$f":"IF($AG$228=0,0,$AG$228)","v":168},null,{"$f":"IF($AG$292=0,0,$AG$292)","v":176},null,{"$f":"IF($AG$356=0,0,$AG$356)","v":176},null,{"$f":"IF($AG$420=0,0,$AG$420)","v":168},null,{"$f":"IF($AG$484=0,0,$AG$484)","v":184},null,{"$f":"IF($AG$548=0,0,$AG$548)","v":176},null,{"$f":"IF($AG$612=0,0,$AG$612)","v":168},null,{"$f":"IF($AG$676=0,0,$AG$676)","v":176},null,{"$f":"IF($AG$740=0,0,$AG$740)","v":176},null,{"$f":"SUM(G169:AD169)","v":2080}]
[{"$f":"$A$42","v":"Produktive Stunden"},{"$f":"$B$42","v":"06.00 - 20.00 Uhr"},null,null,null,null,{"$f":"IF($AG$32=0,0,$AG$32)","v":0},null,{"$f":"IF($AG$95=0,0,$AG$95)","v":0},null,{"$f":"IF($AG$159=0,0,$AG$159)","v":0},null,{"$f":"IF($AG$223=0,0,$AG$223)","v":0},null,{"$f":"IF($AG$287=0,0,$AG$287)","v":0},null,{"$f":"IF($AG$351=0,0,$AG$351)","v":0},null,{"$f":"IF($AG$415=0,0,$AG$415)","v":0},null,{"$f":"IF($AG$479=0,0,$AG$479)","v":0},null,{"$f":"IF($AG$543=0,0,$AG$543)","v":0},null,{"$f":"IF($AG$607=0,0,$AG$607)","v":0},null,{"$f":"IF($AG$671=0,0,$AG$671)","v":0},null,{"$f":"IF($AG$735=0,0,$AG$735)","v":0},null,{"$f":"SUM(G170:AD170)","v":0}]
[null,{"$f":"$B$43","v":"Nacht-, Sonn-, Feiertagsarbeit"},null,null,null,null,{"$f":"IF($AG$33=0,0,$AG$33)","v":0},null,{"$f":"IF($AG$96=0,0,$AG$96)","v":0},null,{"$f":"IF($AG$160=0,0,$AG$160)","v":0},null,{"$f":"IF($AG$224=0,0,$AG$224)","v":0},null,{"$f":"IF($AG$288=0,0,$AG$288)","v":0},null,{"$f":"IF($AG$352=0,0,$AG$352)","v":0},null,{"$f":"IF($AG$416=0,0,$AG$416)","v":0},null,{"$f":"IF($AG$480=0,0,$AG$480)","v":0},null,{"$f":"IF($AG$544=0,0,$AG$544)","v":0},null,{"$f":"IF($AG$608=0,0,$AG$608)","v":0},null,{"$f":"IF($AG$672=0,0,$AG$672)","v":0},null,{"$f":"IF($AG$736=0,0,$AG$736)","v":0},null,{"$f":"SUM(G171:AD171)","v":0}]
[{"$f":"$A$44","v":"Zeitzuschläge"},{"$f":"$B$44","v":"aus Wochentotal"},null,null,null,null,{"$f":"IF($AG$25=0,0,$AG$25)","v":0},null,{"$f":"IF($AG$88=0,0,$AG$88)","v":0},null,{"$f":"IF($AG$152=0,0,$AG$152)","v":0},null,{"$f":"IF($AG$216=0,0,$AG$216)","v":0},null,{"$f":"IF($AG$280=0,0,$AG$280)","v":0},null,{"$f":"IF($AG$344=0,0,$AG$344)","v":0},null,{"$f":"IF($AG$408=0,0,$AG$408)","v":0},null,{"$f":"IF($AG$472=0,0,$AG$472)","v":0},null,{"$f":"IF($AG$536=0,0,$AG$536)","v":0},null,{"$f":"IF($AG$600=0,0,$AG$600)","v":0},null,{"$f":"IF($AG$664=0,0,$AG$664)","v":0},null,{"$f":"IF($AG$728=0,0,$AG$728)","v":0},null,{"$f":"SUM(G172:AD172)","v":0}]
[null,{"$f":"$B$45","v":"aus Nacht-, Sonn-, Feiertagsarbeiten"},null,null,null,null,{"$f":"IF($AJ$21=0,0,$AJ$21)","v":0},null,{"$f":"IF($AK$21=0,0,$AK$21)","v":0},null,{"$f":"IF($AL$21=0,0,$AL$21)","v":0},null,{"$f":"IF($AM$21=0,0,$AM$21)","v":0},null,{"$f":"IF($AN$21=0,0,$AN$21)","v":0},null,{"$f":"IF($AO$21=0,0,$AO$21)","v":0},null,{"$f":"IF($AP$21=0,0,$AP$21)","v":0},null,{"$f":"IF($AQ$21=0,0,$AQ$21)","v":0},null,{"$f":"IF($AR$21=0,0,$AR$21)","v":0},null,{"$f":"IF($AS$21=0,0,$AS$21)","v":0},null,{"$f":"IF($AT$21=0,0,$AT$21)","v":0},null,{"$f":"IF($AU$21=0,0,$AU$21)","v":0},null,{"$f":"SUM(G173:AD173)","v":0}]
[{"$f":"$A$46","v":"Unproduktive Stunden"}]
[{"$f":"$A$47","v":"   Absenzen, Kurzabsenzen Art. 11 GAV"},null,null,null,null,{"$f":"$F$47","v":"a"},{"$f":"IF($AJ$3=0,0,$AJ$3)","v":0},null,{"$f":"IF($AK$3=0,0,$AK$3)","v":0},null,{"$f":"IF($AL$3=0,0,$AL$3)","v":0},null,{"$f":"IF($AM$3=0,0,$AM$3)","v":0},null,{"$f":"IF($AN$3=0,0,$AN$3)","v":0},null,{"$f":"IF($AO$3=0,0,$AO$3)","v":0},null,{"$f":"IF($AP$3=0,0,$AP$3)","v":0},null,{"$f":"IF($AQ$3=0,0,$AQ$3)","v":0},null,{"$f":"IF($AR$3=0,0,$AR$3)","v":0},null,{"$f":"IF($AS$3=0,0,$AS$3)","v":0},null,{"$f":"IF(AT$3=0,0,$AT$3)","v":0},null,{"$f":"IF($AU$3=0,0,$AU$3)","v":0},null,{"$f":"IF($AV$3=0,0,$AV$3)","v":0}]
[{"$f":"$A$48","v":"   Ferien Art. 12.1 GAV"},null,null,null,null,{"$f":"$F$48","v":"f"},{"$f":"IF($AJ$4=0,0,$AJ$4)","v":0},null,{"$f":"IF($AK$4=0,0,$AK$4)","v":0},null,{"$f":"IF($AL$4=0,0,$AL$4)","v":0},null,{"$f":"IF($AM$4=0,0,$AM$4)","v":0},null,{"$f":"IF($AN$4=0,0,$AN$4)","v":0},null,{"$f":"IF($AO$4=0,0,$AO$4)","v":0},null,{"$f":"IF($AP$4=0,0,$AP$4)","v":0},null,{"$f":"IF($AQ$4=0,0,$AQ$4)","v":0},null,{"$f":"IF($AR$4=0,0,$AR$4)","v":0},null,{"$f":"IF($AS$4=0,0,$AS$4)","v":0},null,{"$f":"IF($AT$4=0,0,$AT$4)","v":0},null,{"$f":"IF($AU$4=0,0,$AU$4)","v":0},null,{"$f":"IF($AV$4=0,0,$AV$4)","v":0}]
[{"$f":"Labels!$B$181","v":"   Ferien unbezahlt"},null,null,null,null,{"$f":"Labels!$B$182","v":"fu"},{"$f":"IF($AJ$13=0,0,$AJ$13)","v":0},null,{"$f":"IF($AK$13=0,0,$AK$13)","v":0},null,{"$f":"IF($AL$13=0,0,$AL$13)","v":0},null,{"$f":"IF($AM$13=0,0,$AM$13)","v":0},null,{"$f":"IF($AN$13=0,0,$AN$13)","v":0},null,{"$f":"IF($AO$13=0,0,$AO$13)","v":0},null,{"$f":"IF($AP$13=0,0,$AP$13)","v":0},null,{"$f":"IF($AQ$13=0,0,$AQ$13)","v":0},null,{"$f":"IF($AR$13=0,0,$AR$13)","v":0},null,{"$f":"IF($AS$13=0,0,$AS$13)","v":0},null,{"$f":"IF($AT$13=0,0,$AT$13)","v":0},null,{"$f":"IF($AU$13=0,0,$AU$13)","v":0},null,{"$f":"IF($AV$13=0,0,$AV$13)","v":0}]
[{"$f":"$A$50","v":"   Feiertage Art. 12.2 GAV"},null,{"$f":"IF($AJ$18=\"\",\"\",$AJ$18)","v":""},null,null,{"$f":"$F$50","v":"ft"},{"$f":"IF($AJ$16=0,0,$AJ$16)","v":0},null,{"$f":"IF($AK$16=0,0,$AK$16)","v":0},null,{"$f":"IF($AL$16=0,0,$AL$16)","v":0},null,{"$f":"IF($AM$16=0,0,$AM$16)","v":0},null,{"$f":"IF($AN$16=0,0,$AN$16)","v":0},null,{"$f":"IF($AO$16=0,0,$AO$16)","v":0},null,{"$f":"IF($AP$16=0,0,$AP$16)","v":0},null,{"$f":"IF($AQ$16=0,0,$AQ$16)","v":0},null,{"$f":"IF($AR$16=0,0,$AR$16)","v":0},null,{"$f":"IF($AS$16=0,0,$AS$16)","v":0},null,{"$f":"IF($AT$16=0,0,$AT$16)","v":0},null,{"$f":"IF($AU$16=0,0,$AU$16)","v":0},null,{"$f":"IF($AV$16=0,0,$AV$16)","v":0}]
[{"$f":"$A$51","v":"   Krankheit Art. 13 GAV"},null,null,null,null,{"$f":"$F$51","v":"k"},{"$f":"IF($AJ$5=0,0,$AJ$5)","v":0},null,{"$f":"IF($AK$5=0,0,$AK$5)","v":0},null,{"$f":"IF($AL$5=0,0,$AL$5)","v":0},null,{"$f":"IF($AM$5=0,0,$AM$5)","v":0},null,{"$f":"IF($AN$5=0,0,$AN$5)","v":0},null,{"$f":"IF($AO$5=0,0,$AO$5)","v":0},null,{"$f":"IF($AP$5=0,0,$AP$5)","v":0},null,{"$f":"IF($AQ$5=0,0,$AQ$5)","v":0},null,{"$f":"IF($AR$5=0,0,$AR$5)","v":0},null,{"$f":"IF($AS$5=0,0,$AS$5)","v":0},null,{"$f":"IF($AT$5=0,0,$AT$5)","v":0},null,{"$f":"IF($AU$5=0,0,$AU$5)","v":0},null,{"$f":"IF($AV$5=0,0,$AV$5)","v":0}]
[{"$f":"$A$52","v":"   Unfall Art. 14 GAV"},null,null,null,null,{"$f":"$F$52","v":"u"},{"$f":"IF($AJ$6=0,0,$AJ$6)","v":0},null,{"$f":"IF($AK$6=0,0,$AK$6)","v":0},null,{"$f":"IF($AL$6=0,0,$AL$6)","v":0},null,{"$f":"IF($AM$6=0,0,$AM$6)","v":0},null,{"$f":"IF($AN$6=0,0,$AN$6)","v":0},null,{"$f":"IF($AO$6=0,0,$AO$6)","v":0},null,{"$f":"IF($AP$6=0,0,$AP$6)","v":0},null,{"$f":"IF($AQ$6=0,0,$AQ$6)","v":0},null,{"$f":"IF($AR$6=0,0,$AR$6)","v":0},null,{"$f":"IF($AS$6=0,0,$AS$6)","v":0},null,{"$f":"IF($AT$6=0,0,$AT$6)","v":0},null,{"$f":"IF($AU$6=0,0,$AU$6)","v":0},null,{"$f":"IF($AV$6=0,0,$AV$6)","v":0}]
[{"$f":"$A$53","v":"   Schwangerschaft/Mutterschaft Art. 15 GAV"},null,null,null,null,{"$f":"$F$53","v":"s"},{"$f":"IF($AJ$7=0,0,$AJ$7)","v":0},null,{"$f":"IF($AK$7=0,0,$AK$7)","v":0},null,{"$f":"IF($AL$7=0,0,$AL$7)","v":0},null,{"$f":"IF($AM$7=0,0,$AM$7)","v":0},null,{"$f":"IF($AN$7=0,0,$AN$7)","v":0},null,{"$f":"IF($AO$7=0,0,$AO$7)","v":0},null,{"$f":"IF($AP$7=0,0,$AP$7)","v":0},null,{"$f":"IF($AQ$7=0,0,$AQ$7)","v":0},null,{"$f":"IF($AR$7=0,0,$AR$7)","v":0},null,{"$f":"IF($AS$7=0,0,$AS$7)","v":0},null,{"$f":"IF($AT$7=0,0,$AT$7)","v":0},null,{"$f":"IF($AU$7=0,0,$AU$7)","v":0},null,{"$f":"IF($AV$7=0,0,$AV$7)","v":0}]
[{"$f":"$A$54","v":"   Militär/Beförderung/Zivilschutz Art. 16 GAV"},null,null,null,null,{"$f":"$F$54","v":"m"},{"$f":"IF($AJ$8=0,0,$AJ$8)","v":0},null,{"$f":"IF($AK$8=0,0,$AK$8)","v":0},null,{"$f":"IF($AL$8=0,0,$AL$8)","v":0},null,{"$f":"IF($AM$8=0,0,$AM$8)","v":0},null,{"$f":"IF($AN$8=0,0,$AN$8)","v":0},null,{"$f":"IF($AO$8=0,0,$AO$8)","v":0},null,{"$f":"IF($AP$8=0,0,$AP$8)","v":0},null,{"$f":"IF($AQ$8=0,0,$AQ$8)","v":0},null,{"$f":"IF($AR$8=0,0,$AR$8)","v":0},null,{"$f":"IF($AS$8=0,0,$AS$8)","v":0},null,{"$f":"IF($AT$8=0,0,$AT$8)","v":0},null,{"$f":"IF($AU$8=0,0,$AU$8)","v":0},null,{"$f":"IF($AV$8=0,0,$AV$8)","v":0}]
[{"$f":"$A$55","v":"   Kurzarbeit und Schlechtwetterausfälle"},null,null,null,null,{"$f":"$F$55","v":"ka"},{"$f":"IF($AJ$11=0,0,$AJ$11)","v":0},null,{"$f":"IF($AK$11=0,0,$AK$11)","v":0},null,{"$f":"IF($AL$11=0,0,$AL$11)","v":0},null,{"$f":"IF($AM$11=0,0,$AM$11)","v":0},null,{"$f":"IF($AN$11=0,0,$AN$11)","v":0},null,{"$f":"IF($AO$11=0,0,$AO$11)","v":0},null,{"$f":"IF($AP$11=0,0,$AP$11)","v":0},null,{"$f":"IF($AQ$11=0,0,$AQ$11)","v":0},null,{"$f":"IF($AR$11=0,0,$AR$11)","v":0},null,{"$f":"IF($AS$11=0,0,$AS$11)","v":0},null,{"$f":"IF($AT$11=0,0,$AT$11)","v":0},null,{"$f":"IF($AU$11=0,0,$AU$11)","v":0},null,{"$f":"IF($AV$11=0,0,$AV$11)","v":0}]
[{"$f":"$A$56","v":"   Berufsschule"},null,null,null,null,{"$f":"$F$56","v":"bs"},{"$f":"IF($AJ$9=0,0,$AJ$9)","v":0},null,{"$f":"IF($AK$9=0,0,$AK$9)","v":0},null,{"$f":"IF($AL$9=0,0,$AL$9)","v":0},null,{"$f":"IF($AM$9=0,0,$AM$9)","v":0},null,{"$f":"IF($AN$9=0,0,$AN$9)","v":0},null,{"$f":"IF($AO$9=0,0,$AO$9)","v":0},null,{"$f":"IF($AP$9=0,0,$AP$9)","v":0},null,{"$f":"IF($AQ$9=0,0,$AQ$9)","v":0},null,{"$f":"IF($AR$9=0,0,$AR$9)","v":0},null,{"$f":"IF($AS$9=0,0,$AS$9)","v":0},null,{"$f":"IF($AT$9=0,0,$AT$9)","v":0},null,{"$f":"IF($AU$9=0,0,$AU$9)","v":0},null,{"$f":"IF($AV$9=0,0,$AV$9)","v":0}]
[{"$f":"$A$57","v":"   Kurse"},null,null,null,null,{"$f":"$F$57","v":"ku"},{"$f":"IF($AJ$10=0,0,$AJ$10)","v":0},null,{"$f":"IF($AK$10=0,0,$AK$10)","v":0},null,{"$f":"IF($AL$10=0,0,$AL$10)","v":0},null,{"$f":"IF($AM$10=0,0,$AM$10)","v":0},null,{"$f":"IF($AN$10=0,0,$AN$10)","v":0},null,{"$f":"IF($AO$10=0,0,$AO$10)","v":0},null,{"$f":"IF($AP$10=0,0,$AP$10)","v":0},null,{"$f":"IF($AQ$10=0,0,$AQ$10)","v":0},null,{"$f":"IF($AR$10=0,0,$AR$10)","v":0},null,{"$f":"IF($AS$10=0,0,$AS$10)","v":0},null,{"$f":"IF($AT$10=0,0,$AT$10)","v":0},null,{"$f":"IF($AU$10=0,0,$AU$10)","v":0},null,{"$f":"IF($AV$10=0,0,$AV$10)","v":0}]
[{"$f":"$A$58","v":"Kompensations-Std"},{"$f":"$B$58","v":"aus Vorjahr"},null,null,null,{"$f":"$F$58","v":"kv"},{"$f":"IF($AJ$12=0,0,$AJ$12)","v":0},null,{"$f":"IF($AK$12=0,0,$AK$12)","v":0},null,{"$f":"IF($AL$12=0,0,$AL$12)","v":0},null,{"$f":"IF($AM$12=0,0,$AM$12)","v":0},null,{"$f":"IF($AN$12=0,0,$AN$12)","v":0},null,{"$f":"IF($AO$12=0,0,$AO$12)","v":0},null,{"$f":"IF($AP$12=0,0,$AP$12)","v":0},null,{"$f":"IF($AQ$12=0,0,$AQ$12)","v":0},null,{"$f":"IF($AR$12=0,0,$AR$12)","v":0},null,null,null,null,null,null,null,{"$f":"IF($AV$12=0,0,$AV$12)","v":0}]
[null,{"$f":"$B$59","v":"aus laufendem Jahr (Kontrolle)"},null,null,null,{"$f":"$F$59","v":"kj"},{"$f":"IF($AJ$15=0,0,$AJ$15)","v":0},null,{"$f":"IF($AK$15=0,0,$AK$15)","v":0},null,{"$f":"IF($AL$15=0,0,$AL$15)","v":0},null,{"$f":"IF($AM$15=0,0,$AM$15)","v":0},null,{"$f":"IF($AN$15=0,0,$AN$15)","v":0},null,{"$f":"IF($AO$15=0,0,$AO$15)","v":0},null,{"$f":"IF($AP$15=0,0,$AP$15)","v":0},null,{"$f":"IF($AQ$15=0,0,$AQ$15)","v":0},null,{"$f":"IF($AR$15=0,0,$AR$15)","v":0},null,{"$f":"IF($AS$15=0,0,$AS$15)","v":0},null,{"$f":"IF($AT$15=0,0,$AT$15)","v":0},null,{"$f":"IF($AU$15=0,0,$AU$15)","v":0},null,{"$f":"IF($AV$15=0,0,$AV$15)","v":0}]
[{"$f":"$A$60","v":"Auszahlung"},{"$f":"$B$60","v":"Stunden Vorjahressaldo"},null,null,null,null,{"$f":"IF($AJ$19=0,0,$AJ$19)","v":0},null,{"$f":"IF($AK$19=0,0,$AK$19)","v":0},null,{"$f":"IF($AL$19=0,0,$AL$19)","v":0},null,{"$f":"IF($AM$19=0,0,$AM$19)","v":0},null,{"$f":"IF($AN$19=0,0,$AN$19)","v":0},null,{"$f":"IF($AO$19=0,0,$AO$19)","v":0},null,{"$f":"IF($AP$19=0,0,$AP$19)","v":0},null,{"$f":"IF($AQ$19=0,0,$AQ$19)","v":0},null,{"$f":"IF($AR$19=0,0,$AR$19)","v":0},null,null,null,null,null,null,null,{"$f":"IF($AV$19=0,0,$AV$19)","v":0}]
[{"$f":"$A$61","v":"Differenz"},{"$f":"$B$61","v":"nach Kompensation und Auszahlung"},null,null,null,null,{"$f":"IF(ROUND($P$4,3)=0,0,$P$4-SUM(G186+G188))","v":0},null,{"$f":"IF(ROUND(G189,3)=0,0,G189-(SUM(I188+I186)))","v":0},null,{"$f":"IF(ROUND(I189,3)=0,0,I189-(SUM(K188+K186)))","v":0},null,{"$f":"IF(ROUND(K189,3)=0,0,K189-(SUM(M188+M186)))","v":0},null,{"$f":"IF(ROUND(M189,3)=0,0,M189-(SUM(O188+O186)))","v":0},null,{"$f":"IF(ROUND(O189,3)=0,0,O189-(SUM(Q188+Q186)))","v":0},null,{"$f":"IF(ROUND(Q189,3)=0,0,Q189-(SUM(S188+S186)))","v":0},null,{"$f":"IF(ROUND(S189,3)=0,0,S189-(SUM(U188+U186)))","v":0},null,{"$f":"IF(ROUND(U189,3)=0,0,U189-(SUM(W188+W186)))","v":0},null,{"$f":"$Y$61","v":""}]
[{"$f":"$A$62","v":"Auszahlung"},{"$f":"$B$62","v":"Stunden laufendes Jahr"},null,null,null,null,{"$f":"IF($AJ$20=0,0,$AJ$20)","v":0},null,{"$f":"IF($AK$20=0,0,$AK$20)","v":0},null,{"$f":"IF($AL$20=0,0,$AL$20)","v":0},null,{"$f":"IF($AM$20=0,0,$AM$20)","v":0},null,{"$f":"IF($AN$20=0,0,$AN$20)","v":0},null,{"$f":"IF($AO$20=0,0,$AO$20)","v":0},null,{"$f":"IF($AP$20=0,0,$AP$20)","v":0},null,{"$f":"IF($AQ$20=0,0,$AQ$20)","v":0},null,{"$f":"IF($AR$20=0,0,$AR$20)","v":0},null,{"$f":"IF($AS$20=0,0,$AS$20)","v":0},null,{"$f":"IF($AT$20=0,0,$AT$20)","v":0},null,{"$f":"IF($AU$20=0,0,$AU$20)","v":0},null,{"$f":"IF($AV$20=0,0,$AV$20)","v":0}]
[{"$f":"$A$63","v":"Fehlstunden"},{"$f":"$B$63","v":"laufendes Jahr (Kontrolle)"},null,null,null,{"$f":"$F$63","v":"fe"},{"$f":"IF($AJ$14=0,0,$AJ$14)","v":0},null,{"$f":"IF($AK$14=0,0,$AK$14)","v":0},null,{"$f":"IF($AL$14=0,0,$AL$14)","v":0},null,{"$f":"IF($AM$14=0,0,$AM$14)","v":0},null,{"$f":"IF($AN$14=0,0,$AN$14)","v":0},null,{"$f":"IF($AO$14=0,0,$AO$14)","v":0},null,{"$f":"IF($AP$14=0,0,$AP$14)","v":0},null,{"$f":"IF($AQ$14=0,0,$AQ$14)","v":0},null,{"$f":"IF($AR$14=0,0,$AR$14)","v":0},null,{"$f":"IF($AS$14=0,0,$AS$14)","v":0},null,{"$f":"IF($AT$14=0,0,$AT$14)","v":0},null,{"$f":"IF($AU$14=0,0,$AU$14)","v":0},null,{"$f":"IF($AV$14=0,0,$AV$14)","v":0}]
[{"$f":"$A$64","v":"Total inkl. Zeitzuschläge"},{"$f":"$B$64","v":"Stunden produktiv und unproduktiv"},null,null,null,null,{"$f":"IF($AG$36=0,0,$AG$36)","v":0},null,{"$f":"IF($AG$99=0,0,$AG$99)","v":0},null,{"$f":"IF($AG$163=0,0,$AG$163)","v":0},null,{"$f":"IF($AG$227=0,0,$AG$227)","v":0},null,{"$f":"IF($AG$291=0,0,$AG$291)","v":0},null,{"$f":"IF($AG$355=0,0,$AG$355)","v":0},null,{"$f":"IF($AG$419=0,0,$AG$419)","v":0},null,{"$f":"IF($AG$483=0,0,$AG$483)","v":0},null,{"$f":"IF($AG$547=0,0,$AG$547)","v":0},null,{"$f":"IF($AG$611=0,0,$AG$611)","v":0},null,{"$f":"IF($AG$675=0,0,$AG$675)","v":0},null,{"$f":"IF($AG$739=0,0,$AG$739)","v":0},null,{"$f":"SUM($G$64:$AD$64)","v":0}]
[{"$f":"$A$65","v":"Vergleich"},{"$f":"$B$65","v":"Stunden zu Soll-Stunden (inkl. allfälli-\nge Minusstunden Vorjahr)"},null,null,null,null,{"$f":"IF($AG$38=0,0,$AG$38)-$AE$34+$P$5","v":-168},null,{"$f":"IF($AG$101=0,0,$AG$101)-$AE$98","v":-160},null,{"$f":"IF($AG$165=0,0,$AG$165)-$AE$162","v":-184},null,{"$f":"IF($AG$229=0,0,$AG$229)-$AE$226","v":-168},null,{"$f":"IF($AG$293=0,0,$AG$293)-$AE$290","v":-176},null,{"$f":"IF($AG$357=0,0,$AG$357)-$AE$354","v":-176},null,{"$f":"IF($AG$421=0,0,$AG$421)-$AE$418","v":-168},null,{"$f":"IF($AG$485=0,0,$AG$485)-$AE$482","v":-184},null,{"$f":"IF($AG$549=0,0,$AG$549)-$AE$546","v":-176},null,{"$f":"IF($AG$613=0,0,$AG$613)-$AE$610","v":-168},null,{"$f":"IF($AG$677=0,0,$AG$677)-$AE$674","v":-176},null,{"$f":"IF($AG$741=0,0,$AG$741)-$AE$738","v":-176},null,{"$f":"SUM($G$65:$AD$65)","v":-2080}]
[null,{"$f":"$B$66","v":"Stunden zu Soll-Stunden (kumuliert)"},null,null,null,null,{"$f":"$G$66","v":-168},null,{"$f":"$I$66","v":-328},null,{"$f":"$K$66","v":-512},null,{"$f":"$M$66","v":-680},null,{"$f":"$O$66","v":-856},null,{"$f":"$Q$66","v":-1032},null,{"$f":"$S$66","v":-1200},null,{"$f":"$U$66","v":-1384},null,{"$f":"$W$66","v":-1560},null,{"$f":"$Y$66","v":-1728},null,{"$f":"$AA$66","v":-1904},null,{"$f":"$AC$66","v":-2080}]
[{"$f":"$A$67","v":"Ferienkontrolle"},{"$f":"$B$67","v":"Ferienguthaben Vorjahr"},null,null,null,null,{"$f":"IF($AA$4=0,0,$AA$4)","v":0},null,{"$f":"$I$67","v":"Ferienguthaben nach \nArt. 12.1 GAV"},null,null,null,{"$f":"IF($AA$5=0,0,$AA$5)","v":0},null,{"$f":"$O$67","v":"Ferienguthaben total"},null,null,null,{"$f":"SUM(G195+M195)","v":0},null,{"$f":"$U$67","v":"Ferien bezogen"},null,null,null,{"$f":"IF($AV$4=0,0,$AV$4)","v":0},null,{"$f":"$AA$67","v":"Aktuelles Ferienguthaben"},null,null,null,{"$f":"IF(S195=0,0,S195-Y195)","v":0}]
[]
[]
[{"$f":"$A$3","v":"Mitarbeiter/In"},{"$f":"IF($B$3=\"\",\"\",$B$3)","v":"Muster Peter"},null,null,null,null,null,null,null,null,null,null,null,null,null,null,null,null,null,null,null,null,null,null,null,null,null,null,null,null,null,{"$f":"AF3","v":0}]
[{"$f":"$A$4","v":"Anstellung %"},{"$f":"$AL$47","v":100},null,{"$f":"Labels!B92","v":"im April"}]
[{"$f":"$A$5","v":"Saldo für das Jahr"},null,null,{"$f":"IF($AE$65=0,0,$AE$65)","v":-2080}]
[{"$f":"TEXT(DATE(YEAR(AP29),MONTH(AP29)+3,1),\"MMMM\"&Labels!B13)","v":"April"},{"$f":"$B$9","v":"Saldo Monat + / -"},null,null,null,{"$f":"(AG203-(SUM(AG204:AG218)-AE226))*-1","v":-168},null,null,null,null,{"$f":"$K$9","v":" = "},{"$f":"$L$9","v":"Gelbe Felder müssen ausgefüllt werden (die übrigen werden automatisch berechnet)"},null,null,null,null,null,null,null,null,null,null,null,null,null,null,null,null,null,null,null,null,{"$f":"COUNT(B204:AF204)&\" \"&Labels!$B$63","v":"21 Tage"}]
[{"$f":"$A$10","v":"Tag"},{"$f":"AF138+1","v":"2022-04-01"},{"$f":"B202+1","v":"2022-04-02"},{"$f":"C202+1","v":"2022-04-03"},"2022-04-04","2022-04-05","2022-04-06","2022-04-07","2022-04-08","2022-04-09","2022-04-10","2022-04-11","2022-04-12","2022-04-13","2022-04-14","2022-04-15","2022-04-16","2022-04-17","2022-04-18","2022-04-19","2022-04-20","2022-04-21","2022-04-22","2022-04-23","2022-04-24","2022-04-25","2022-04-26","2022-04-27","2022-04-28","2022-04-29","2022-04-30"]
[{"$f":"$A$11","v":"Kalenderwoche"},{"$f":"IF(B202=\"\",\"\",TRUNC((B202-DATE(YEAR(B202+3-MOD(B202-2,7)),1,MOD(B202-2,7)-9))/7))","v":13},13,13,14,14,14,14,14,14,14,15,15,15,15,15,15,15,16,16,16,16,16,16,16,17,17,17,17,17,17,"",{"$f":"SUM(B204:AF204)","v":168}]
[{"$f":"$A$12","v":"Sollstunden"},{"$f":"IF(AND(MOD(B202,7)>=2,SUMPRODUCT(($AM$56:$AQ$56=MOD(B202,7))*$AM$47:$AQ$47)),($J$7*5/$AR$47)*$B$199%,\"\")","v":8},{"$f":"IF(AND(MOD(C202,7)>=2,SUMPRODUCT(($AM$56:$AQ$56=MOD(C202,7))*$AM$47:$AQ$47)),($J$7*5/$AR$47)*$B$199%,\"\")","v":""},{"$f":"IF(AND(MOD(D202,7)>=2,SUMPRODUCT(($AM$56:$AQ$56=MOD(D202,7))*$AM$47:$AQ$47)),($J$7*5/$AR$47)*$B$199%,\"\")","v":""},{"$f":"IF(AND(MOD(E202,7)>=2,SUMPRODUCT(($AM$56:$AQ$56=MOD(E202,7))*$AM$47:$AQ$47)),($J$7*5/$AR$47)*$B$199%,\"\")","v":8},{"$f":"IF(AND(MOD(F202,7)>=2,SUMPRODUCT(($AM$56:$AQ$56=MOD(F202,7))*$AM$47:$AQ$47)),($J$7*5/$AR$47)*$B$199%,\"\")","v":8},{"$f":"IF(AND(MOD(G202,7)>=2,SUMPRODUCT(($AM$56:$AQ$56=MOD(G202,7))*$AM$47:$AQ$47)),($J$7*5/$AR$47)*$B$199%,\"\")","v":8},{"$f":"IF(AND(MOD(H202,7)>=2,SUMPRODUCT(($AM$56:$AQ$56=MOD(H202,7))*$AM$47:$AQ$47)),($J$7*5/$AR$47)*$B$199%,\"\")","v":8},{"$f":"IF(AND(MOD(I202,7)>=2,SUMPRODUCT(($AM$56:$AQ$56=MOD(I202,7))*$AM$47:$AQ$47)),($J$7*5/$AR$47)*$B$199%,\"\")","v":8},{"$f":"IF(AND(MOD(J202,7)>=2,SUMPRODUCT(($AM$56:$AQ$56=MOD(J202,7))*$AM$47:$AQ$47)),($J$7*5/$AR$47)*$B$199%,\"\")","v":""},{"$f":"IF(AND(MOD(K202,7)>=2,SUMPRODUCT(($AM$56:$AQ$56=MOD(K202,7))*$AM$47:$AQ$47)),($J$7*5/$AR$47)*$B$199%,\"\")","v":""},{"$f":"IF(AND(MOD(L202,7)>=2,SUMPRODUCT(($AM$56:$AQ$56=MOD(L202,7))*$AM$47:$AQ$47)),($J$7*5/$AR$47)*$B$199%,\"\")","v":8},{"$f":"IF(AND(MOD(M202,7)>=2,SUMPRODUCT(($AM$56:$AQ$56=MOD(M202,7))*$AM$47:$AQ$47)),($J$7*5/$AR$47)*$B$199%,\"\")","v":8},{"$f":"IF(AND(MOD(N202,7)>=2,SUMPRODUCT(($AM$56:$AQ$56=MOD(N202,7))*$AM$47:$AQ$47)),($J$7*5/$AR$47)*$B$199%,\"\")","v":8},{"$f":"IF(AND(MOD(O202,7)>=2,SUMPRODUCT(($AM$56:$AQ$56=MOD(O202,7))*$AM$47:$AQ$47)),($J$7*5/$AR$47)*$B$199%,\"\")","v":8},{"$f":"IF(AND(MOD(P202,7)>=2,SUMPRODUCT(($AM$56:$AQ$56=MOD(P202,7))*$AM$47:$AQ$47)),($J$7*5/$AR$47)*$B$199%,\"\")","v":8},{"$f":"IF(AND(MOD(Q202,7)>=2,SUMPRODUCT(($AM$56:$AQ$56=MOD(Q202,7))*$AM$47:$AQ$47)),($J$7*5/$AR$47)*$B$199%,\"\")","v":""},{"$f":"IF(AND(MOD(R202,7)>=2,SUMPRODUCT(($AM$56:$AQ$56=MOD(R202,7))*$AM$47:$AQ$47)),($J$7*5/$AR$47)*$B$199%,\"\")","v":""},{"$f":"IF(AND(MOD(S202,7)>=2,SUMPRODUCT(($AM$56:$AQ$56=MOD(S202,7))*$AM$47:$AQ$47)),($J$7*5/$AR$47)*$B$199%,\"\")","v":8},{"$f":"IF(AND(MOD(T202,7)>=2,SUMPRODUCT(($AM$56:$AQ$56=MOD(T202,7))*$AM$47:$AQ$47)),($J$7*5/$AR$47)*$B$199%,\"\")","v":8},{"$f":"IF(AND(MOD(U202,7)>=2,SUMPRODUCT(($AM$56:$AQ$56=MOD(U202,7))*$AM$47:$AQ$47)),($J$7*5/$AR$47)*$B$199%,\"\")","v":8},{"$f":"IF(AND(MOD(V202,7)>=2,SUMPRODUCT(($AM$56:$AQ$56=MOD(V202,7))*$AM$47:$AQ$47)),($J$7*5/$AR$47)*$B$199%,\"\")","v":8},{"$f":"IF(AND(MOD(W202,7)>=2,SUMPRODUCT(($AM$56:$AQ$56=MOD(W202,7))*$AM$47:$AQ$47)),($J$7*5/$AR$47)*$B$199%,\"\")","v":8},{"$f":"IF(AND(MOD(X202,7)>=2,SUMPRODUCT(($AM$56:$AQ$56=MOD(X202,7))*$AM$47:$AQ$47)),($J$7*5/$AR$47)*$B$199%,\"\")","v":""},{"$f":"IF(AND(MOD(Y202,7)>=2,SUMPRODUCT(($AM$56:$AQ$56=MOD(Y202,7))*$AM$47:$AQ$47)),($J$7*5/$AR$47)*$B$199%,\"\")","v":""},{"$f":"IF(AND(MOD(Z202,7)>=2,SUMPRODUCT(($AM$56:$AQ$56=MOD(Z202,7))*$AM$47:$AQ$47)),($J$7*5/$AR$47)*$B$199%,\"\")","v":8},{"$f":"IF(AND(MOD(AA202,7)>=2,SUMPRODUCT(($AM$56:$AQ$56=MOD(AA202,7))*$AM$47:$AQ$47)),($J$7*5/$AR$47)*$B$199%,\"\")","v":8},{"$f":"IF(AND(MOD(AB202,7)>=2,SUMPRODUCT(($AM$56:$AQ$56=MOD(AB202,7))*$AM$47:$AQ$47)),($J$7*5/$AR$47)*$B$199%,\"\")","v":8},{"$f":"IF(AND(MOD(AC202,7)>=2,SUMPRODUCT(($AM$56:$AQ$56=MOD(AC202,7))*$AM$47:$AQ$47)),($J$7*5/$AR$47)*$B$199%,\"\")","v":8},{"$f":"IF(AND(MOD(AD202,7)>=2,SUMPRODUCT(($AM$56:$AQ$56=MOD(AD202,7))*$AM$47:$AQ$47)),($J$7*5/$AR$47)*$B$199%,\"\")","v":8},{"$f":"IF(AND(MOD(AE202,7)>=2,SUMPRODUCT(($AM$56:$AQ$56=MOD(AE202,7))*$AM$47:$AQ$47)),($J$7*5/$AR$47)*$B$199%,\"\")","v":""},null,{"$f":"SUM(AM3:AM13)","v":0}]
[{"$f":"$A$13","v":"Absenz in Std"},{"$f":"B900","v":0},{"$f":"C900","v":0},0,0,0,0,0,0,0,0,0,0,0,0,0,0,0,0,0,0,0,0,0,0,0,0,0,0,0,0]
[{"$f":"$A$14","v":"Code"},{"$f":"IF(B900<>0,IF(MAX(B887:B899)<B900,Labels!$B$163,INDEX($AH$886:$AH$898,MATCH(MAX(B887:B899),B887:B899,0))),\"\")","v":""},{"$f":"IF(C900<>0,IF(MAX(C887:C899)<C900,Labels!$B$163,INDEX($AH$886:$AH$898,MATCH(MAX(C887:C899),C887:C899,0))),\"\")","v":""},{"$f":"IF(D900<>0,IF(MAX(D887:D899)<D900,Labels!$B$163,INDEX($AH$886:$AH$898,MATCH(MAX(D887:D899),D887:D899,0))),\"\")","v":""},{"$f":"IF(E900<>0,IF(MAX(E887:E899)<E900,Labels!$B$163,INDEX($AH$886:$AH$898,MATCH(MAX(E887:E899),E887:E899,0))),\"\")","v":""},{"$f":"IF(F900<>0,IF(MAX(F887:F899)<F900,Labels!$B$163,INDEX($AH$886:$AH$898,MATCH(MAX(F887:F899),F887:F899,0))),\"\")","v":""},{"$f":"IF(G900<>0,IF(MAX(G887:G899)<G900,Labels!$B$163,INDEX($AH$886:$AH$898,MATCH(MAX(G887:G899),G887:G899,0))),\"\")","v":""},{"$f":"IF(H900<>0,IF(MAX(H887:H899)<H900,Labels!$B$163,INDEX($AH$886:$AH$898,MATCH(MAX(H887:H899),H887:H899,0))),\"\")","v":""},{"$f":"IF(I900<>0,IF(MAX(I887:I899)<I900,Labels!$B$163,INDEX($AH$886:$AH$898,MATCH(MAX(I887:I899),I887:I899,0))),\"\")","v":""},{"$f":"IF(J900<>0,IF(MAX(J887:J899)<J900,Labels!$B$163,INDEX($AH$886:$AH$898,MATCH(MAX(J887:J899),J887:J899,0))),\"\")","v":""},{"$f":"IF(K900<>0,IF(MAX(K887:K899)<K900,Labels!$B$163,INDEX($AH$886:$AH$898,MATCH(MAX(K887:K899),K887:K899,0))),\"\")","v":""},{"$f":"IF(L900<>0,IF(MAX(L887:L899)<L900,Labels!$B$163,INDEX($AH$886:$AH$898,MATCH(MAX(L887:L899),L887:L899,0))),\"\")","v":""},{"$f":"IF(M900<>0,IF(MAX(M887:M899)<M900,Labels!$B$163,INDEX($AH$886:$AH$898,MATCH(MAX(M887:M899),M887:M899,0))),\"\")","v":""},{"$f":"IF(N900<>0,IF(MAX(N887:N899)<N900,Labels!$B$163,INDEX($AH$886:$AH$898,MATCH(MAX(N887:N899),N887:N899,0))),\"\")","v":""},{"$f":"IF(O900<>0,IF(MAX(O887:O899)<O900,Labels!$B$163,INDEX($AH$886:$AH$898,MATCH(MAX(O887:O899),O887:O899,0))),\"\")","v":""},{"$f":"IF(P900<>0,IF(MAX(P887:P899)<P900,Labels!$B$163,INDEX($AH$886:$AH$898,MATCH(MAX(P887:P899),P887:P899,0))),\"\")","v":""},{"$f":"IF(Q900<>0,IF(MAX(Q887:Q899)<Q900,Labels!$B$163,INDEX($AH$886:$AH$898,MATCH(MAX(Q887:Q899),Q887:Q899,0))),\"\")","v":""},{"$f":"IF(R900<>0,IF(MAX(R887:R899)<R900,Labels!$B$163,INDEX($AH$886:$AH$898,MATCH(MAX(R887:R899),R887:R899,0))),\"\")","v":""},{"$f":"IF(S900<>0,IF(MAX(S887:S899)<S900,Labels!$B$163,INDEX($AH$886:$AH$898,MATCH(MAX(S887:S899),S887:S899,0))),\"\")","v":""},{"$f":"IF(T900<>0,IF(MAX(T887:T899)<T900,Labels!$B$163,INDEX($AH$886:$AH$898,MATCH(MAX(T887:T899),T887:T899,0))),\"\")","v":""},{"$f":"IF(U900<>0,IF(MAX(U887:U899)<U900,Labels!$B$163,INDEX($AH$886:$AH$898,MATCH(MAX(U887:U899),U887:U899,0))),\"\")","v":""},{"$f":"IF(V900<>0,IF(MAX(V887:V899)<V900,Labels!$B$163,INDEX($AH$886:$AH$898,MATCH(MAX(V887:V899),V887:V899,0))),\"\")","v":""},{"$f":"IF(W900<>0,IF(MAX(W887:W899)<W900,Labels!$B$163,INDEX($AH$886:$AH$898,MATCH(MAX(W887:W899),W887:W899,0))),\"\")","v":""},{"$f":"IF(X900<>0,IF(MAX(X887:X899)<X900,Labels!$B$163,INDEX($AH$886:$AH$898,MATCH(MAX(X887:X899),X887:X899,0))),\"\")","v":""},{"$f":"IF(Y900<>0,IF(MAX(Y887:Y899)<Y900,Labels!$B$163,INDEX($AH$886:$AH$898,MATCH(MAX(Y887:Y899),Y887:Y899,0))),\"\")","v":""},{"$f":"IF(Z900<>0,IF(MAX(Z887:Z899)<Z900,Labels!$B$163,INDEX($AH$886:$AH$898,MATCH(MAX(Z887:Z899),Z887:Z899,0))),\"\")","v":""},{"$f":"IF(AA900<>0,IF(MAX(AA887:AA899)<AA900,Labels!$B$163,INDEX($AH$886:$AH$898,MATCH(MAX(AA887:AA899),AA887:AA899,0))),\"\")","v":""},{"$f":"IF(AB900<>0,IF(MAX(AB887:AB899)<AB900,Labels!$B$163,INDEX($AH$886:$AH$898,MATCH(MAX(AB887:AB899),AB887:AB899,0))),\"\")","v":""},{"$f":"IF(AC900<>0,IF(MAX(AC887:AC899)<AC900,Labels!$B$163,INDEX($AH$886:$AH$898,MATCH(MAX(AC887:AC899),AC887:AC899,0))),\"\")","v":""},{"$f":"IF(AD900<>0,IF(MAX(AD887:AD899)<AD900,Labels!$B$163,INDEX($AH$886:$AH$898,MATCH(MAX(AD887:AD899),AD887:AD899,0))),\"\")","v":""},{"$f":"IF(AE900<>0,IF(MAX(AE887:AE899)<AE900,Labels!$B$163,INDEX($AH$886:$AH$898,MATCH(MAX(AE887:AE899),AE887:AE899,0))),\"\")","v":""},null,{"$f":"SUM(B207:AF207)","v":0}]
[{"$f":"$A$15","v":"00.00-06.00h"},null,null,null,null,null,null,null,null,null,null,null,null,null,null,null,null,null,null,null,null,null,null,null,null,null,null,null,null,null,null,null,{"$f":"SUM(B208:AF208)","v":0}]
[{"$f":"$A$16","v":"06.00-20.00h"},null,null,null,null,null,null,null,null,null,null,null,null,null,null,null,null,null,null,null,null,null,null,null,null,null,null,null,null,null,null,null,{"$f":"SUM(B209:AF209)","v":0},"[0]"]
[{"$f":"$A$17","v":"20.00-24.00h"}]
[{"$f":"$A$18","v":"Feiertag \"ft\""},{"$f":"IF(WEEKDAY(B202,2)<=6,IF(KALENDER!E9=\"x\",Labels!$B$118,\"\"),\"\")","v":""},{"$f":"IF(WEEKDAY(C202,2)<=6,IF(KALENDER!F9=\"x\",Labels!$B$118,\"\"),\"\")","v":""},{"$f":"IF(WEEKDAY(D202,2)<=6,IF(KALENDER!G9=\"x\",Labels!$B$118,\"\"),\"\")","v":""},{"$f":"IF(WEEKDAY(E202,2)<=6,IF(KALENDER!H9=\"x\",Labels!$B$118,\"\"),\"\")","v":""},{"$f":"IF(WEEKDAY(F202,2)<=6,IF(KALENDER!I9=\"x\",Labels!$B$118,\"\"),\"\")","v":""},{"$f":"IF(WEEKDAY(G202,2)<=6,IF(KALENDER!J9=\"x\",Labels!$B$118,\"\"),\"\")","v":""},{"$f":"IF(WEEKDAY(H202,2)<=6,IF(KALENDER!K9=\"x\",Labels!$B$118,\"\"),\"\")","v":""},{"$f":"IF(WEEKDAY(I202,2)<=6,IF(KALENDER!L9=\"x\",Labels!$B$118,\"\"),\"\")","v":""},{"$f":"IF(WEEKDAY(J202,2)<=6,IF(KALENDER!M9=\"x\",Labels!$B$118,\"\"),\"\")","v":""},{"$f":"IF(WEEKDAY(K202,2)<=6,IF(KALENDER!N9=\"x\",Labels!$B$118,\"\"),\"\")","v":""},{"$f":"IF(WEEKDAY(L202,2)<=6,IF(KALENDER!O9=\"x\",Labels!$B$118,\"\"),\"\")","v":""},{"$f":"IF(WEEKDAY(M202,2)<=6,IF(KALENDER!P9=\"x\",Labels!$B$118,\"\"),\"\")","v":""},{"$f":"IF(WEEKDAY(N202,2)<=6,IF(KALENDER!Q9=\"x\",Labels!$B$118,\"\"),\"\")","v":""},{"$f":"IF(WEEKDAY(O202,2)<=6,IF(KALENDER!R9=\"x\",Labels!$B$118,\"\"),\"\")","v":""},{"$f":"IF(WEEKDAY(P202,2)<=6,IF(KALENDER!S9=\"x\",Labels!$B$118,\"\"),\"\")","v":""},{"$f":"IF(WEEKDAY(Q202,2)<=6,IF(KALENDER!T9=\"x\",Labels!$B$118,\"\"),\"\")","v":""},{"$f":"IF(WEEKDAY(R202,2)<=6,IF(KALENDER!U9=\"x\",Labels!$B$118,\"\"),\"\")","v":""},{"$f":"IF(WEEKDAY(S202,2)<=6,IF(KALENDER!V9=\"x\",Labels!$B$118,\"\"),\"\")","v":""},{"$f":"IF(WEEKDAY(T202,2)<=6,IF(KALENDER!W9=\"x\",Labels!$B$118,\"\"),\"\")","v":""},{"$f":"IF(WEEKDAY(U202,2)<=6,IF(KALENDER!X9=\"x\",Labels!$B$118,\"\"),\"\")","v":""},{"$f":"IF(WEEKDAY(V202,2)<=6,IF(KALENDER!Y9=\"x\",Labels!$B$118,\"\"),\"\")","v":""},{"$f":"IF(WEEKDAY(W202,2)<=6,IF(KALENDER!Z9=\"x\",Labels!$B$118,\"\"),\"\")","v":""},{"$f":"IF(WEEKDAY(X202,2)<=6,IF(KALENDER!AA9=\"x\",Labels!$B$118,\"\"),\"\")","v":""},{"$f":"IF(WEEKDAY(Y202,2)<=6,IF(KALENDER!AB9=\"x\",Labels!$B$118,\"\"),\"\")","v":""},{"$f":"IF(WEEKDAY(Z202,2)<=6,IF(KALENDER!AC9=\"x\",Labels!$B$118,\"\"),\"\")","v":""},{"$f":"IF(WEEKDAY(AA202,2)<=6,IF(KALENDER!AD9=\"x\",Labels!$B$118,\"\"),\"\")","v":""},{"$f":"IF(WEEKDAY(AB202,2)<=6,IF(KALENDER!AE9=\"x\",Labels!$B$118,\"\"),\"\")","v":""},{"$f":"IF(WEEKDAY(AC202,2)<=6,IF(KALENDER!AF9=\"x\",Labels!$B$118,\"\"),\"\")","v":""},{"$f":"IF(WEEKDAY(AD202,2)<=6,IF(KALENDER!AG9=\"x\",Labels!$B$118,\"\"),\"\")","v":""},{"$f":"IF(WEEKDAY(AE202,2)<=6,IF(KALENDER!AH9=\"x\",Labels!$B$118,\"\"),\"\")","v":""},null,{"$f":"SUM(B211:AF211)","v":0}]
[{"$f":"$A$19","v":"Gutschrift \"ft\""},{"$f":"IF(AND(B210=Labels!$B$118,WEEKDAY(B202,2)<6,B$204<>\"\"),($J$7*5/$AR$47)*$B$199%,\"\")","v":""},{"$f":"IF(AND(C210=Labels!$B$118,WEEKDAY(C202,2)<6,C$204<>\"\"),($J$7*5/$AR$47)*$B$199%,\"\")","v":""},{"$f":"IF(AND(D210=Labels!$B$118,WEEKDAY(D202,2)<6,D$204<>\"\"),($J$7*5/$AR$47)*$B$199%,\"\")","v":""},{"$f":"IF(AND(E210=Labels!$B$118,WEEKDAY(E202,2)<6,E$204<>\"\"),($J$7*5/$AR$47)*$B$199%,\"\")","v":""},{"$f":"IF(AND(F210=Labels!$B$118,WEEKDAY(F202,2)<6,F$204<>\"\"),($J$7*5/$AR$47)*$B$199%,\"\")","v":""},{"$f":"IF(AND(G210=Labels!$B$118,WEEKDAY(G202,2)<6,G$204<>\"\"),($J$7*5/$AR$47)*$B$199%,\"\")","v":""},{"$f":"IF(AND(H210=Labels!$B$118,WEEKDAY(H202,2)<6,H$204<>\"\"),($J$7*5/$AR$47)*$B$199%,\"\")","v":""},{"$f":"IF(AND(I210=Labels!$B$118,WEEKDAY(I202,2)<6,I$204<>\"\"),($J$7*5/$AR$47)*$B$199%,\"\")","v":""},{"$f":"IF(AND(J210=Labels!$B$118,WEEKDAY(J202,2)<6,J$204<>\"\"),($J$7*5/$AR$47)*$B$199%,\"\")","v":""},{"$f":"IF(AND(K210=Labels!$B$118,WEEKDAY(K202,2)<6,K$204<>\"\"),($J$7*5/$AR$47)*$B$199%,\"\")","v":""},{"$f":"IF(AND(L210=Labels!$B$118,WEEKDAY(L202,2)<6,L$204<>\"\"),($J$7*5/$AR$47)*$B$199%,\"\")","v":""},{"$f":"IF(AND(M210=Labels!$B$118,WEEKDAY(M202,2)<6,M$204<>\"\"),($J$7*5/$AR$47)*$B$199%,\"\")","v":""},{"$f":"IF(AND(N210=Labels!$B$118,WEEKDAY(N202,2)<6,N$204<>\"\"),($J$7*5/$AR$47)*$B$199%,\"\")","v":""},{"$f":"IF(AND(O210=Labels!$B$118,WEEKDAY(O202,2)<6,O$204<>\"\"),($J$7*5/$AR$47)*$B$199%,\"\")","v":""},{"$f":"IF(AND(P210=Labels!$B$118,WEEKDAY(P202,2)<6,P$204<>\"\"),($J$7*5/$AR$47)*$B$199%,\"\")","v":""},{"$f":"IF(AND(Q210=Labels!$B$118,WEEKDAY(Q202,2)<6,Q$204<>\"\"),($J$7*5/$AR$47)*$B$199%,\"\")","v":""},{"$f":"IF(AND(R210=Labels!$B$118,WEEKDAY(R202,2)<6,R$204<>\"\"),($J$7*5/$AR$47)*$B$199%,\"\")","v":""},{"$f":"IF(AND(S210=Labels!$B$118,WEEKDAY(S202,2)<6,S$204<>\"\"),($J$7*5/$AR$47)*$B$199%,\"\")","v":""},{"$f":"IF(AND(T210=Labels!$B$118,WEEKDAY(T202,2)<6,T$204<>\"\"),($J$7*5/$AR$47)*$B$199%,\"\")","v":""},{"$f":"IF(AND(U210=Labels!$B$118,WEEKDAY(U202,2)<6,U$204<>\"\"),($J$7*5/$AR$47)*$B$199%,\"\")","v":""},{"$f":"IF(AND(V210=Labels!$B$118,WEEKDAY(V202,2)<6,V$204<>\"\"),($J$7*5/$AR$47)*$B$199%,\"\")","v":""},{"$f":"IF(AND(W210=Labels!$B$118,WEEKDAY(W202,2)<6,W$204<>\"\"),($J$7*5/$AR$47)*$B$199%,\"\")","v":""},{"$f":"IF(AND(X210=Labels!$B$118,WEEKDAY(X202,2)<6,X$204<>\"\"),($J$7*5/$AR$47)*$B$199%,\"\")","v":""},{"$f":"IF(AND(Y210=Labels!$B$118,WEEKDAY(Y202,2)<6,Y$204<>\"\"),($J$7*5/$AR$47)*$B$199%,\"\")","v":""},{"$f":"IF(AND(Z210=Labels!$B$118,WEEKDAY(Z202,2)<6,Z$204<>\"\"),($J$7*5/$AR$47)*$B$199%,\"\")","v":""},{"$f":"IF(AND(AA210=Labels!$B$118,WEEKDAY(AA202,2)<6,AA$204<>\"\"),($J$7*5/$AR$47)*$B$199%,\"\")","v":""},{"$f":"IF(AND(AB210=Labels!$B$118,WEEKDAY(AB202,2)<6,AB$204<>\"\"),($J$7*5/$AR$47)*$B$199%,\"\")","v":""},{"$f":"IF(AND(AC210=Labels!$B$118,WEEKDAY(AC202,2)<6,AC$204<>\"\"),($J$7*5/$AR$47)*$B$199%,\"\")","v":""},{"$f":"IF(AND(AD210=Labels!$B$118,WEEKDAY(AD202,2)<6,AD$204<>\"\"),($J$7*5/$AR$47)*$B$199%,\"\")","v":""},{"$f":"IF(AND(AE210=Labels!$B$118,WEEKDAY(AE202,2)<6,AE$204<>\"\"),($J$7*5/$AR$47)*$B$199%,\"\")","v":""},{"$f":"IF(AND(AF210=Labels!$B$118,WEEKDAY(AF202,2)<6),$J$7*$B$199%,\"\")","v":""}]
[{"$f":"$A$20","v":"Tagestotal"},{"$f":"SUM(B207:B209)","v":0},{"$f":"SUM(C207:C209)","v":0},0,0,0,0,0,0,0,0,0,0,0,0,0,0,0,0,0,0,0,0,0,0,0,0,0,0,0,0]
[{"$f":"$A$21","v":"."}]
[{"$f":"$A$22","v":"."}]
[{"$f":"$A$23","v":"Monatsübergang"},{"$f":"IF(WEEKDAY(B202)=1,TEXT(B202-1,\"MMM\"&Labels!B13),\"\")","v":""},null,null,null,null,null,null,null,null,null,null,null,null,null,null,null,null,null,null,null,null,null,null,null,null,null,null,null,null,{"$f":"IF(AND(WEEKDAY(AE202)>1,WEEKDAY(AE202)<7),TEXT(DATE($B$5,MONTH(AE202)+1,1),\"MMM\"&Labels!B13),\"\")","v":""}]
[{"$f":"$A$24","v":"Wochentotal"},{"$f":"IF(WEEKDAY(B202)=7,SUMIF($B139:$AF139,B203,$B148:$AF148)+SUMIF($B203:$AF203,B203,$B212:$AF212)+SUMIF($B267:$AF267,B203,$B276:$AF276),B215)","v":""},{"$f":"IF(WEEKDAY(C202)=7,SUMIF($B139:$AF139,C203,$B148:$AF148)+SUMIF($B203:$AF203,C203,$B212:$AF212)+SUMIF($B267:$AF267,C203,$B276:$AF276),\"\")","v":0},"","","","","","",0,"","","","","","",0,"","","","","","",0,"","","","","","",{"$f":"IF(WEEKDAY(AE202)=7,SUMIF($B139:$AF139,AE203,$B148:$AF148)+SUMIF($B203:$AF203,AE203,$B212:$AF212)+SUMIF($B267:$AF267,AE203,$B276:$AF276),AE215)","v":0},null,{"$f":"SUM(B217:AF217)","v":0}]
[{"$f":"$A$25","v":"Zeitzuschlag 1)"},{"$f":"IF(B224=\"FALSCH\",\"\",B224)","v":""},{"$f":"IF(C224=\"FALSCH\",\"\",C224)","v":""},"","","","","","","","","","","","","","","","","","","","","","","","","","","","",null,0,"[1]"]
[{"$f":"$A$26","v":"Zeitzuschlag 2)"},{"$f":"IF((B207+B209)=0,\"\",SUM(B207,B209))","v":""},{"$f":"IF((C207+C209)=0,\"\",SUM(C207,C209))","v":""},"","","","","","","","","","","","","","","","","","","","","","","","","","","","",null,{"$f":"SUM(B219:AF219)","v":0},"[2]"]
[{"$f":"$A$27","v":"Zeitzuschlag 3)"},{"$f":"SUM(B220:B223)","v":0},{"$f":"SUM(C220:C223)","v":0},0,0,0,0,0,0,0,0,0,0,0,0,0,0,0,0,0,0,0,0,0,0,0,0,0,0,0,0,null,0,"[3]"]
[{"$f":"$A$28","v":"Sonntag Tag"},{"$f":"IF(WEEKDAY(B202)=1,B208,\"\")","v":""},{"$f":"IF(WEEKDAY(C202)=1,C208,\"\")","v":""},0,"","","","","","",0,"","","","","","",0,"","","","","","",0,"","","","","","",null,0,"[4]"]
[{"$f":"$A$29","v":"Sonntag Nacht"},{"$f":"IF(WEEKDAY(B202)=1,SUM(B207+B209),\"\")","v":""},{"$f":"IF(WEEKDAY(C202)=1,SUM(C207+C209),\"\")","v":""},0,"","","","","","",0,"","","","","","",0,"","","","","","",0,"","","","","","",null,0,"[5]"]
[{"$f":"$A$30","v":"ft-Tazuschlag"},{"$f":"IF(B210=Labels!$B$118,B208,\"\")","v":""},{"$f":"IF(C210=Labels!$B$118,C208,\"\")","v":""},{"$f":"IF(D210=Labels!$B$118,D208,\"\")","v":""},{"$f":"IF(E210=Labels!$B$118,E208,\"\")","v":""},{"$f":"IF(F210=Labels!$B$118,F208,\"\")","v":""},{"$f":"IF(G210=Labels!$B$118,G208,\"\")","v":""},{"$f":"IF(H210=Labels!$B$118,H208,\"\")","v":""},{"$f":"IF(I210=Labels!$B$118,I208,\"\")","v":""},{"$f":"IF(J210=Labels!$B$118,J208,\"\")","v":""},{"$f":"IF(K210=Labels!$B$118,K208,\"\")","v":""},{"$f":"IF(L210=Labels!$B$118,L208,\"\")","v":""},{"$f":"IF(M210=Labels!$B$118,M208,\"\")","v":""},{"$f":"IF(N210=Labels!$B$118,N208,\"\")","v":""},{"$f":"IF(O210=Labels!$B$118,O208,\"\")","v":""},{"$f":"IF(P210=Labels!$B$118,P208,\"\")","v":""},{"$f":"IF(Q210=Labels!$B$118,Q208,\"\")","v":""},{"$f":"IF(R210=Labels!$B$118,R208,\"\")","v":""},{"$f":"IF(S210=Labels!$B$118,S208,\"\")","v":""},{"$f":"IF(T210=Labels!$B$118,T208,\"\")","v":""},{"$f":"IF(U210=Labels!$B$118,U208,\"\")","v":""},{"$f":"IF(V210=Labels!$B$118,V208,\"\")","v":""},{"$f":"IF(W210=Labels!$B$118,W208,\"\")","v":""},{"$f":"IF(X210=Labels!$B$118,X208,\"\")","v":""},{"$f":"IF(Y210=Labels!$B$118,Y208,\"\")","v":""},{"$f":"IF(Z210=Labels!$B$118,Z208,\"\")","v":""},{"$f":"IF(AA210=Labels!$B$118,AA208,\"\")","v":""},{"$f":"IF(AB210=Labels!$B$118,AB208,\"\")","v":""},{"$f":"IF(AC210=Labels!$B$118,AC208,\"\")","v":""},{"$f":"IF(AD210=Labels!$B$118,AD208,\"\")","v":""},{"$f":"IF(AE210=Labels!$B$118,AE208,\"\")","v":""},null,0,"[6]"]
[{"$f":"$A$31","v":"ft-Nazuschlag"},{"$f":"IF(B210=Labels!$B$118,SUM(B207,B209),\"\")","v":""},{"$f":"IF(C210=Labels!$B$118,SUM(C207,C209),\"\")","v":""},{"$f":"IF(D210=Labels!$B$118,SUM(D207,D209),\"\")","v":""},{"$f":"IF(E210=Labels!$B$118,SUM(E207,E209),\"\")","v":""},{"$f":"IF(F210=Labels!$B$118,SUM(F207,F209),\"\")","v":""},{"$f":"IF(G210=Labels!$B$118,SUM(G207,G209),\"\")","v":""},{"$f":"IF(H210=Labels!$B$118,SUM(H207,H209),\"\")","v":""},{"$f":"IF(I210=Labels!$B$118,SUM(I207,I209),\"\")","v":""},{"$f":"IF(J210=Labels!$B$118,SUM(J207,J209),\"\")","v":""},{"$f":"IF(K210=Labels!$B$118,SUM(K207,K209),\"\")","v":""},{"$f":"IF(L210=Labels!$B$118,SUM(L207,L209),\"\")","v":""},{"$f":"IF(M210=Labels!$B$118,SUM(M207,M209),\"\")","v":""},{"$f":"IF(N210=Labels!$B$118,SUM(N207,N209),\"\")","v":""},{"$f":"IF(O210=Labels!$B$118,SUM(O207,O209),\"\")","v":""},{"$f":"IF(P210=Labels!$B$118,SUM(P207,P209),\"\")","v":""},{"$f":"IF(Q210=Labels!$B$118,SUM(Q207,Q209),\"\")","v":""},{"$f":"IF(R210=Labels!$B$118,SUM(R207,R209),\"\")","v":""},{"$f":"IF(S210=Labels!$B$118,SUM(S207,S209),\"\")","v":""},{"$f":"IF(T210=Labels!$B$118,SUM(T207,T209),\"\")","v":""},{"$f":"IF(U210=Labels!$B$118,SUM(U207,U209),\"\")","v":""},{"$f":"IF(V210=Labels!$B$118,SUM(V207,V209),\"\")","v":""},{"$f":"IF(W210=Labels!$B$118,SUM(W207,W209),\"\")","v":""},{"$f":"IF(X210=Labels!$B$118,SUM(X207,X209),\"\")","v":""},{"$f":"IF(Y210=Labels!$B$118,SUM(Y207,Y209),\"\")","v":""},{"$f":"IF(Z210=Labels!$B$118,SUM(Z207,Z209),\"\")","v":""},{"$f":"IF(AA210=Labels!$B$118,SUM(AA207,AA209),\"\")","v":""},{"$f":"IF(AB210=Labels!$B$118,SUM(AB207,AB209),\"\")","v":""},{"$f":"IF(AC210=Labels!$B$118,SUM(AC207,AC209),\"\")","v":""},{"$f":"IF(AD210=Labels!$B$118,SUM(AD207,AD209),\"\")","v":""},{"$f":"IF(AE210=Labels!$B$118,SUM(AE207,AE209),\"\")","v":""},null,{"$f":"AG207","v":0},"[7]"]
[{"$f":"$A$32","v":"Zuschlag  blind (Wochentotal)"},{"$f":"IF(OR(ISTEXT(B216),B216=\"\",B216<$B$7),\"\",ROUND(((B216-$B$7)*25%)/25,4)*25)","v":""},{"$f":"IF(OR(ISTEXT(C216),C216=\"\",C216<$B$7),\"\",ROUND(((C216-$B$7)*25%)/25,4)*25)","v":""},"","","","","","","","","","","","","","","","","","","","","","","","","","","","",null,{"$f":"SUM(AG206+AG208)","v":0},"[8]"]
[null,{"$f":"$B$33","v":"1)   25% Zeitzuschlag für Überschreitung Wochentotal"},null,null,null,null,null,null,null,null,null,{"$f":"$L$33","v":"2) 100% Zeitzuschlag für Nachtarbeit"},null,null,null,null,null,null,null,{"$f":"$T$33","v":"Eingabe der ausbezahlten Stunden Vorjahressaldo"},null,null,null,null,null,null,null,null,null,null,null,null,{"$f":"SUM(AG206:AG208)","v":0},"[9]"]
[null,{"$f":"$B$34","v":"3) 100% Zeitzuschlag für Sonn- und Feiertagsarbeit"},null,null,null,null,null,null,null,null,null,null,null,null,null,null,null,null,null,{"$f":"$T$34","v":"Eingabe der ausbezahlten Stunden laufendes Jahr (Überstunden)"},null,null,null,null,null,null,null,null,null,null,null,null,{"$f":"SUM(AG204+AG210)","v":0},"[10]"]
[{"$f":"$A$35","v":"Bemerkungen"},null,null,null,null,null,null,null,null,null,null,null,null,null,null,null,null,null,null,null,null,null,null,null,null,null,null,null,null,null,null,null,{"$f":"SUM(AG204:AG218)","v":0},"[11]"]
[null,null,null,null,null,null,null,null,null,null,null,null,null,null,null,null,null,null,null,null,null,null,null,null,null,null,null,null,null,null,null,null,{"$f":"AG203","v":168}]
[null,null,null,null,null,null,null,null,null,null,null,null,null,null,null,null,null,null,null,null,null,null,null,null,null,null,null,null,null,null,null,null,{"$f":"SUM(AG227-AG203)","v":-168}]
[]
[{"$f":"$A$39","v":"Zusammenstellung"},null,null,null,null,null,{"$f":"$G$39","v":"Jan"},null,{"$f":"$I$39","v":"Feb"},null,{"$f":"$K$39","v":"Mrz"},null,{"$f":"$M$39","v":"Apr"},null,{"$f":"$O$39","v":"Mai"},null,{"$f":"$Q$39","v":"Jun"},null,{"$f":"$S$39","v":"Jul"},null,{"$f":"$U$39","v":"Aug"},null,{"$f":"$W$39","v":"Sep"},null,{"$f":"$Y$39","v":"Okt"},null,{"$f":"$AA$39","v":"Nov"},null,{"$f":"$AC$39","v":"Dez"},null,{"$f":"$AE$39","v":"Jahr"}]
[{"$f":"$A$40","v":"Anstellung %"},null,null,null,null,null,{"$f":"IF($B$4=0,0,$B$4)","v":100},null,{"$f":"IF($B$71=0,0,$B$71)","v":100},null,{"$f":"IF($B$135=0,0,$B$135)","v":100},null,{"$f":"IF($B$199=0,0,$B$199)","v":100},null,{"$f":"IF($B$263=0,0,$B$263)","v":100},null,{"$f":"IF($B$327=0,0,$B$327)","v":100},null,{"$f":"IF($B$391=0,0,$B$391)","v":100},null,{"$f":"IF($B$455=0,0,$B$455)","v":100},null,{"$f":"IF($B$519=0,0,$B$519)","v":100},null,{"$f":"IF($B$583=0,0,$B$583)","v":100},null,{"$f":"IF($B$647=0,0,$B$647)","v":100},null,{"$f":"IF($B$711=0,0,$B$711)","v":100}]
[{"$f":"$A$41","v":"Sollstunden gemäss GAV"},null,null,null,null,null,{"$f":"IF($AG$37=0,0,$AG$37)","v":168},null,{"$f":"IF($AG$100=0,0,$AG$100)","v":160},null,{"$f":"IF($AG$139=0,0,$AG$139)","v":184},null,{"$f":"IF($AG$228=0,0,$AG$228)","v":168},null,{"$f":"IF($AG$292=0,0,$AG$292)","v":176},null,{"$f":"IF($AG$356=0,0,$AG$356)","v":176},null,{"$f":"IF($AG$420=0,0,$AG$420)","v":168},null,{"$f":"IF($AG$484=0,0,$AG$484)","v":184},null,{"$f":"IF($AG$548=0,0,$AG$548)","v":176},null,{"$f":"IF($AG$612=0,0,$AG$612)","v":168},null,{"$f":"IF($AG$676=0,0,$AG$676)","v":176},null,{"$f":"IF($AG$740=0,0,$AG$740)","v":176},null,{"$f":"SUM(G233:AD233)","v":2080}]
[{"$f":"$A$42","v":"Produktive Stunden"},{"$f":"$B$42","v":"06.00 - 20.00 Uhr"},null,null,null,null,{"$f":"IF($AG$32=0,0,$AG$32)","v":0},null,{"$f":"IF($AG$95=0,0,$AG$95)","v":0},null,{"$f":"IF($AG$159=0,0,$AG$159)","v":0},null,{"$f":"IF($AG$223=0,0,$AG$223)","v":0},null,{"$f":"IF($AG$287=0,0,$AG$287)","v":0},null,{"$f":"IF($AG$351=0,0,$AG$351)","v":0},null,{"$f":"IF($AG$415=0,0,$AG$415)","v":0},null,{"$f":"IF($AG$479=0,0,$AG$479)","v":0},null,{"$f":"IF($AG$543=0,0,$AG$543)","v":0},null,{"$f":"IF($AG$607=0,0,$AG$607)","v":0},null,{"$f":"IF($AG$671=0,0,$AG$671)","v":0},null,{"$f":"IF($AG$735=0,0,$AG$735)","v":0},null,{"$f":"SUM(G234:AD234)","v":0}]
[null,{"$f":"$B$43","v":"Nacht-, Sonn-, Feiertagsarbeit"},null,null,null,null,{"$f":"IF($AG$33=0,0,$AG$33)","v":0},null,{"$f":"IF($AG$96=0,0,$AG$96)","v":0},null,{"$f":"IF($AG$160=0,0,$AG$160)","v":0},null,{"$f":"IF($AG$224=0,0,$AG$224)","v":0},null,{"$f":"IF($AG$288=0,0,$AG$288)","v":0},null,{"$f":"IF($AG$352=0,0,$AG$352)","v":0},null,{"$f":"IF($AG$416=0,0,$AG$416)","v":0},null,{"$f":"IF($AG$480=0,0,$AG$480)","v":0},null,{"$f":"IF($AG$544=0,0,$AG$544)","v":0},null,{"$f":"IF($AG$608=0,0,$AG$608)","v":0},null,{"$f":"IF($AG$672=0,0,$AG$672)","v":0},null,{"$f":"IF($AG$736=0,0,$AG$736)","v":0},null,{"$f":"SUM(G235:AD235)","v":0}]
[{"$f":"$A$44","v":"Zeitzuschläge"},{"$f":"$B$44","v":"aus Wochentotal"},null,null,null,null,{"$f":"IF($AG$25=0,0,$AG$25)","v":0},null,{"$f":"IF($AG$88=0,0,$AG$88)","v":0},null,{"$f":"IF($AG$152=0,0,$AG$152)","v":0},null,{"$f":"IF($AG$216=0,0,$AG$216)","v":0},null,{"$f":"IF($AG$280=0,0,$AG$280)","v":0},null,{"$f":"IF($AG$344=0,0,$AG$344)","v":0},null,{"$f":"IF($AG$408=0,0,$AG$408)","v":0},null,{"$f":"IF($AG$472=0,0,$AG$472)","v":0},null,{"$f":"IF($AG$536=0,0,$AG$536)","v":0},null,{"$f":"IF($AG$600=0,0,$AG$600)","v":0},null,{"$f":"IF($AG$664=0,0,$AG$664)","v":0},null,{"$f":"IF($AG$728=0,0,$AG$728)","v":0},null,{"$f":"SUM(G236:AD236)","v":0}]
[null,{"$f":"$B$45","v":"aus Nacht-, Sonn-, Feiertagsarbeiten"},null,null,null,null,{"$f":"IF($AJ$21=0,0,$AJ$21)","v":0},null,{"$f":"IF($AK$21=0,0,$AK$21)","v":0},null,{"$f":"IF($AL$21=0,0,$AL$21)","v":0},null,{"$f":"IF($AM$21=0,0,$AM$21)","v":0},null,{"$f":"IF($AN$21=0,0,$AN$21)","v":0},null,{"$f":"IF($AO$21=0,0,$AO$21)","v":0},null,{"$f":"IF($AP$21=0,0,$AP$21)","v":0},null,{"$f":"IF($AQ$21=0,0,$AQ$21)","v":0},null,{"$f":"IF($AR$21=0,0,$AR$21)","v":0},null,{"$f":"IF($AS$21=0,0,$AS$21)","v":0},null,{"$f":"IF($AT$21=0,0,$AT$21)","v":0},null,{"$f":"IF($AU$21=0,0,$AU$21)","v":0},null,{"$f":"SUM(G237:AD237)","v":0}]
[{"$f":"$A$46","v":"Unproduktive Stunden"}]
[{"$f":"$A$47","v":"   Absenzen, Kurzabsenzen Art. 11 GAV"},null,null,null,null,{"$f":"$F$47","v":"a"},{"$f":"IF($AJ$3=0,0,$AJ$3)","v":0},null,{"$f":"IF($AK$3=0,0,$AK$3)","v":0},null,{"$f":"IF($AL$3=0,0,$AL$3)","v":0},null,{"$f":"IF($AM$3=0,0,$AM$3)","v":0},null,{"$f":"IF($AN$3=0,0,$AN$3)","v":0},null,{"$f":"IF($AO$3=0,0,$AO$3)","v":0},null,{"$f":"IF($AP$3=0,0,$AP$3)","v":0},null,{"$f":"IF($AQ$3=0,0,$AQ$3)","v":0},null,{"$f":"IF($AR$3=0,0,$AR$3)","v":0},null,{"$f":"IF($AS$3=0,0,$AS$3)","v":0},null,{"$f":"IF(AT$3=0,0,$AT$3)","v":0},null,{"$f":"IF($AU$3=0,0,$AU$3)","v":0},null,{"$f":"IF($AV$3=0,0,$AV$3)","v":0}]
[{"$f":"$A$48","v":"   Ferien Art. 12.1 GAV"},null,null,null,null,{"$f":"$F$48","v":"f"},{"$f":"IF($AJ$4=0,0,$AJ$4)","v":0},null,{"$f":"IF($AK$4=0,0,$AK$4)","v":0},null,{"$f":"IF($AL$4=0,0,$AL$4)","v":0},null,{"$f":"IF($AM$4=0,0,$AM$4)","v":0},null,{"$f":"IF($AN$4=0,0,$AN$4)","v":0},null,{"$f":"IF($AO$4=0,0,$AO$4)","v":0},null,{"$f":"IF($AP$4=0,0,$AP$4)","v":0},null,{"$f":"IF($AQ$4=0,0,$AQ$4)","v":0},null,{"$f":"IF($AR$4=0,0,$AR$4)","v":0},null,{"$f":"IF($AS$4=0,0,$AS$4)","v":0},null,{"$f":"IF($AT$4=0,0,$AT$4)","v":0},null,{"$f":"IF($AU$4=0,0,$AU$4)","v":0},null,{"$f":"IF($AV$4=0,0,$AV$4)","v":0}]
[{"$f":"Labels!$B$181","v":"   Ferien unbezahlt"},null,null,null,null,{"$f":"Labels!$B$182","v":"fu"},{"$f":"IF($AJ$13=0,0,$AJ$13)","v":0},null,{"$f":"IF($AK$13=0,0,$AK$13)","v":0},null,{"$f":"IF($AL$13=0,0,$AL$13)","v":0},null,{"$f":"IF($AM$13=0,0,$AM$13)","v":0},null,{"$f":"IF($AN$13=0,0,$AN$13)","v":0},null,{"$f":"IF($AO$13=0,0,$AO$13)","v":0},null,{"$f":"IF($AP$13=0,0,$AP$13)","v":0},null,{"$f":"IF($AQ$13=0,0,$AQ$13)","v":0},null,{"$f":"IF($AR$13=0,0,$AR$13)","v":0},null,{"$f":"IF($AS$13=0,0,$AS$13)","v":0},null,{"$f":"IF($AT$13=0,0,$AT$13)","v":0},null,{"$f":"IF($AU$13=0,0,$AU$13)","v":0},null,{"$f":"IF($AV$13=0,0,$AV$13)","v":0}]
[{"$f":"$A$50","v":"   Feiertage Art. 12.2 GAV"},null,{"$f":"IF($AJ$18=\"\",\"\",$AJ$18)","v":""},null,null,{"$f":"$F$50","v":"ft"},{"$f":"IF($AJ$16=0,0,$AJ$16)","v":0},null,{"$f":"IF($AK$16=0,0,$AK$16)","v":0},null,{"$f":"IF($AL$16=0,0,$AL$16)","v":0},null,{"$f":"IF($AM$16=0,0,$AM$16)","v":0},null,{"$f":"IF($AN$16=0,0,$AN$16)","v":0},null,{"$f":"IF($AO$16=0,0,$AO$16)","v":0},null,{"$f":"IF($AP$16=0,0,$AP$16)","v":0},null,{"$f":"IF($AQ$16=0,0,$AQ$16)","v":0},null,{"$f":"IF($AR$16=0,0,$AR$16)","v":0},null,{"$f":"IF($AS$16=0,0,$AS$16)","v":0},null,{"$f":"IF($AT$16=0,0,$AT$16)","v":0},null,{"$f":"IF($AU$16=0,0,$AU$16)","v":0},null,{"$f":"IF($AV$16=0,0,$AV$16)","v":0}]
[{"$f":"$A$51","v":"   Krankheit Art. 13 GAV"},null,null,null,null,{"$f":"$F$51","v":"k"},{"$f":"IF($AJ$5=0,0,$AJ$5)","v":0},null,{"$f":"IF($AK$5=0,0,$AK$5)","v":0},null,{"$f":"IF($AL$5=0,0,$AL$5)","v":0},null,{"$f":"IF($AM$5=0,0,$AM$5)","v":0},null,{"$f":"IF($AN$5=0,0,$AN$5)","v":0},null,{"$f":"IF($AO$5=0,0,$AO$5)","v":0},null,{"$f":"IF($AP$5=0,0,$AP$5)","v":0},null,{"$f":"IF($AQ$5=0,0,$AQ$5)","v":0},null,{"$f":"IF($AR$5=0,0,$AR$5)","v":0},null,{"$f":"IF($AS$5=0,0,$AS$5)","v":0},null,{"$f":"IF($AT$5=0,0,$AT$5)","v":0},null,{"$f":"IF($AU$5=0,0,$AU$5)","v":0},null,{"$f":"IF($AV$5=0,0,$AV$5)","v":0}]
[{"$f":"$A$52","v":"   Unfall Art. 14 GAV"},null,null,null,null,{"$f":"$F$52","v":"u"},{"$f":"IF($AJ$6=0,0,$AJ$6)","v":0},null,{"$f":"IF($AK$6=0,0,$AK$6)","v":0},null,{"$f":"IF($AL$6=0,0,$AL$6)","v":0},null,{"$f":"IF($AM$6=0,0,$AM$6)","v":0},null,{"$f":"IF($AN$6=0,0,$AN$6)","v":0},null,{"$f":"IF($AO$6=0,0,$AO$6)","v":0},null,{"$f":"IF($AP$6=0,0,$AP$6)","v":0},null,{"$f":"IF($AQ$6=0,0,$AQ$6)","v":0},null,{"$f":"IF($AR$6=0,0,$AR$6)","v":0},null,{"$f":"IF($AS$6=0,0,$AS$6)","v":0},null,{"$f":"IF($AT$6=0,0,$AT$6)","v":0},null,{"$f":"IF($AU$6=0,0,$AU$6)","v":0},null,{"$f":"IF($AV$6=0,0,$AV$6)","v":0}]
[{"$f":"$A$53","v":"   Schwangerschaft/Mutterschaft Art. 15 GAV"},null,null,null,null,{"$f":"$F$53","v":"s"},{"$f":"IF($AJ$7=0,0,$AJ$7)","v":0},null,{"$f":"IF($AK$7=0,0,$AK$7)","v":0},null,{"$f":"IF($AL$7=0,0,$AL$7)","v":0},null,{"$f":"IF($AM$7=0,0,$AM$7)","v":0},null,{"$f":"IF($AN$7=0,0,$AN$7)","v":0},null,{"$f":"IF($AO$7=0,0,$AO$7)","v":0},null,{"$f":"IF($AP$7=0,0,$AP$7)","v":0},null,{"$f":"IF($AQ$7=0,0,$AQ$7)","v":0},null,{"$f":"IF($AR$7=0,0,$AR$7)","v":0},null,{"$f":"IF($AS$7=0,0,$AS$7)","v":0},null,{"$f":"IF($AT$7=0,0,$AT$7)","v":0},null,{"$f":"IF($AU$7=0,0,$AU$7)","v":0},null,{"$f":"IF($AV$7=0,0,$AV$7)","v":0}]
[{"$f":"$A$54","v":"   Militär/Beförderung/Zivilschutz Art. 16 GAV"},null,null,null,null,{"$f":"$F$54","v":"m"},{"$f":"IF($AJ$8=0,0,$AJ$8)","v":0},null,{"$f":"IF($AK$8=0,0,$AK$8)","v":0},null,{"$f":"IF($AL$8=0,0,$AL$8)","v":0},null,{"$f":"IF($AM$8=0,0,$AM$8)","v":0},null,{"$f":"IF($AN$8=0,0,$AN$8)","v":0},null,{"$f":"IF($AO$8=0,0,$AO$8)","v":0},null,{"$f":"IF($AP$8=0,0,$AP$8)","v":0},null,{"$f":"IF($AQ$8=0,0,$AQ$8)","v":0},null,{"$f":"IF($AR$8=0,0,$AR$8)","v":0},null,{"$f":"IF($AS$8=0,0,$AS$8)","v":0},null,{"$f":"IF($AT$8=0,0,$AT$8)","v":0},null,{"$f":"IF($AU$8=0,0,$AU$8)","v":0},null,{"$f":"IF($AV$8=0,0,$AV$8)","v":0}]
[{"$f":"$A$55","v":"   Kurzarbeit und Schlechtwetterausfälle"},null,null,null,null,{"$f":"$F$55","v":"ka"},{"$f":"IF($AJ$11=0,0,$AJ$11)","v":0},null,{"$f":"IF($AK$11=0,0,$AK$11)","v":0},null,{"$f":"IF($AL$11=0,0,$AL$11)","v":0},null,{"$f":"IF($AM$11=0,0,$AM$11)","v":0},null,{"$f":"IF($AN$11=0,0,$AN$11)","v":0},null,{"$f":"IF($AO$11=0,0,$AO$11)","v":0},null,{"$f":"IF($AP$11=0,0,$AP$11)","v":0},null,{"$f":"IF($AQ$11=0,0,$AQ$11)","v":0},null,{"$f":"IF($AR$11=0,0,$AR$11)","v":0},null,{"$f":"IF($AS$11=0,0,$AS$11)","v":0},null,{"$f":"IF($AT$11=0,0,$AT$11)","v":0},null,{"$f":"IF($AU$11=0,0,$AU$11)","v":0},null,{"$f":"IF($AV$11=0,0,$AV$11)","v":0}]
[{"$f":"$A$56","v":"   Berufsschule"},null,null,null,null,{"$f":"$F$56","v":"bs"},{"$f":"IF($AJ$9=0,0,$AJ$9)","v":0},null,{"$f":"IF($AK$9=0,0,$AK$9)","v":0},null,{"$f":"IF($AL$9=0,0,$AL$9)","v":0},null,{"$f":"IF($AM$9=0,0,$AM$9)","v":0},null,{"$f":"IF($AN$9=0,0,$AN$9)","v":0},null,{"$f":"IF($AO$9=0,0,$AO$9)","v":0},null,{"$f":"IF($AP$9=0,0,$AP$9)","v":0},null,{"$f":"IF($AQ$9=0,0,$AQ$9)","v":0},null,{"$f":"IF($AR$9=0,0,$AR$9)","v":0},null,{"$f":"IF($AS$9=0,0,$AS$9)","v":0},null,{"$f":"IF($AT$9=0,0,$AT$9)","v":0},null,{"$f":"IF($AU$9=0,0,$AU$9)","v":0},null,{"$f":"IF($AV$9=0,0,$AV$9)","v":0}]
[{"$f":"$A$57","v":"   Kurse"},null,null,null,null,{"$f":"$F$57","v":"ku"},{"$f":"IF($AJ$10=0,0,$AJ$10)","v":0},null,{"$f":"IF($AK$10=0,0,$AK$10)","v":0},null,{"$f":"IF($AL$10=0,0,$AL$10)","v":0},null,{"$f":"IF($AM$10=0,0,$AM$10)","v":0},null,{"$f":"IF($AN$10=0,0,$AN$10)","v":0},null,{"$f":"IF($AO$10=0,0,$AO$10)","v":0},null,{"$f":"IF($AP$10=0,0,$AP$10)","v":0},null,{"$f":"IF($AQ$10=0,0,$AQ$10)","v":0},null,{"$f":"IF($AR$10=0,0,$AR$10)","v":0},null,{"$f":"IF($AS$10=0,0,$AS$10)","v":0},null,{"$f":"IF($AT$10=0,0,$AT$10)","v":0},null,{"$f":"IF($AU$10=0,0,$AU$10)","v":0},null,{"$f":"IF($AV$10=0,0,$AV$10)","v":0}]
[{"$f":"$A$58","v":"Kompensations-Std"},{"$f":"$B$58","v":"aus Vorjahr"},null,null,null,{"$f":"$F$58","v":"kv"},{"$f":"IF($AJ$12=0,0,$AJ$12)","v":0},null,{"$f":"IF($AK$12=0,0,$AK$12)","v":0},null,{"$f":"IF($AL$12=0,0,$AL$12)","v":0},null,{"$f":"IF($AM$12=0,0,$AM$12)","v":0},null,{"$f":"IF($AN$12=0,0,$AN$12)","v":0},null,{"$f":"IF($AO$12=0,0,$AO$12)","v":0},null,{"$f":"IF($AP$12=0,0,$AP$12)","v":0},null,{"$f":"IF($AQ$12=0,0,$AQ$12)","v":0},null,{"$f":"IF($AR$12=0,0,$AR$12)","v":0},null,null,null,null,null,null,null,{"$f":"IF($AV$12=0,0,$AV$12)","v":0}]
[null,{"$f":"$B$59","v":"aus laufendem Jahr (Kontrolle)"},null,null,null,{"$f":"$F$59","v":"kj"},{"$f":"IF($AJ$15=0,0,$AJ$15)","v":0},null,{"$f":"IF($AK$15=0,0,$AK$15)","v":0},null,{"$f":"IF($AL$15=0,0,$AL$15)","v":0},null,{"$f":"IF($AM$15=0,0,$AM$15)","v":0},null,{"$f":"IF($AN$15=0,0,$AN$15)","v":0},null,{"$f":"IF($AO$15=0,0,$AO$15)","v":0},null,{"$f":"IF($AP$15=0,0,$AP$15)","v":0},null,{"$f":"IF($AQ$15=0,0,$AQ$15)","v":0},null,{"$f":"IF($AR$15=0,0,$AR$15)","v":0},null,{"$f":"IF($AS$15=0,0,$AS$15)","v":0},null,{"$f":"IF($AT$15=0,0,$AT$15)","v":0},null,{"$f":"IF($AU$15=0,0,$AU$15)","v":0},null,{"$f":"IF($AV$15=0,0,$AV$15)","v":0}]
[{"$f":"$A$60","v":"Auszahlung"},{"$f":"$B$60","v":"Stunden Vorjahressaldo"},null,null,null,null,{"$f":"IF($AJ$19=0,0,$AJ$19)","v":0},null,{"$f":"IF($AK$19=0,0,$AK$19)","v":0},null,{"$f":"IF($AL$19=0,0,$AL$19)","v":0},null,{"$f":"IF($AM$19=0,0,$AM$19)","v":0},null,{"$f":"IF($AN$19=0,0,$AN$19)","v":0},null,{"$f":"IF($AO$19=0,0,$AO$19)","v":0},null,{"$f":"IF($AP$19=0,0,$AP$19)","v":0},null,{"$f":"IF($AQ$19=0,0,$AQ$19)","v":0},null,{"$f":"IF($AR$19=0,0,$AR$19)","v":0},null,null,null,null,null,null,null,{"$f":"IF($AV$19=0,0,$AV$19)","v":0}]
[{"$f":"$A$61","v":"Differenz"},{"$f":"$B$61","v":"nach Kompensation und Auszahlung"},null,null,null,null,{"$f":"IF(ROUND($P$4,3)=0,0,$P$4-SUM(G250+G252))","v":0},null,{"$f":"IF(ROUND(G253,3)=0,0,G253-(SUM(I252+I250)))","v":0},null,{"$f":"IF(ROUND(I253,3)=0,0,I253-(SUM(K252+K250)))","v":0},null,{"$f":"IF(ROUND(K253,3)=0,0,K253-(SUM(M252+M250)))","v":0},null,{"$f":"IF(ROUND(M253,3)=0,0,M253-(SUM(O252+O250)))","v":0},null,{"$f":"IF(ROUND(O253,3)=0,0,O253-(SUM(Q252+Q250)))","v":0},null,{"$f":"IF(ROUND(Q253,3)=0,0,Q253-(SUM(S252+S250)))","v":0},null,{"$f":"IF(ROUND(S253,3)=0,0,S253-(SUM(U252+U250)))","v":0},null,{"$f":"IF(ROUND(U253,3)=0,0,U253-(SUM(W252+W250)))","v":0},null,{"$f":"$Y$61","v":""}]
[{"$f":"$A$62","v":"Auszahlung"},{"$f":"$B$62","v":"Stunden laufendes Jahr"},null,null,null,null,{"$f":"IF($AJ$20=0,0,$AJ$20)","v":0},null,{"$f":"IF($AK$20=0,0,$AK$20)","v":0},null,{"$f":"IF($AL$20=0,0,$AL$20)","v":0},null,{"$f":"IF($AM$20=0,0,$AM$20)","v":0},null,{"$f":"IF($AN$20=0,0,$AN$20)","v":0},null,{"$f":"IF($AO$20=0,0,$AO$20)","v":0},null,{"$f":"IF($AP$20=0,0,$AP$20)","v":0},null,{"$f":"IF($AQ$20=0,0,$AQ$20)","v":0},null,{"$f":"IF($AR$20=0,0,$AR$20)","v":0},null,{"$f":"IF($AS$20=0,0,$AS$20)","v":0},null,{"$f":"IF($AT$20=0,0,$AT$20)","v":0},null,{"$f":"IF($AU$20=0,0,$AU$20)","v":0},null,{"$f":"IF($AV$20=0,0,$AV$20)","v":0}]
[{"$f":"$A$63","v":"Fehlstunden"},{"$f":"$B$63","v":"laufendes Jahr (Kontrolle)"},null,null,null,{"$f":"$F$63","v":"fe"},{"$f":"IF($AJ$14=0,0,$AJ$14)","v":0},null,{"$f":"IF($AK$14=0,0,$AK$14)","v":0},null,{"$f":"IF($AL$14=0,0,$AL$14)","v":0},null,{"$f":"IF($AM$14=0,0,$AM$14)","v":0},null,{"$f":"IF($AN$14=0,0,$AN$14)","v":0},null,{"$f":"IF($AO$14=0,0,$AO$14)","v":0},null,{"$f":"IF($AP$14=0,0,$AP$14)","v":0},null,{"$f":"IF($AQ$14=0,0,$AQ$14)","v":0},null,{"$f":"IF($AR$14=0,0,$AR$14)","v":0},null,{"$f":"IF($AS$14=0,0,$AS$14)","v":0},null,{"$f":"IF($AT$14=0,0,$AT$14)","v":0},null,{"$f":"IF($AU$14=0,0,$AU$14)","v":0},null,{"$f":"IF($AV$14=0,0,$AV$14)","v":0}]
[{"$f":"$A$64","v":"Total inkl. Zeitzuschläge"},{"$f":"$B$64","v":"Stunden produktiv und unproduktiv"},null,null,null,null,{"$f":"IF($AG$36=0,0,$AG$36)","v":0},null,{"$f":"IF($AG$99=0,0,$AG$99)","v":0},null,{"$f":"IF($AG$163=0,0,$AG$163)","v":0},null,{"$f":"IF($AG$227=0,0,$AG$227)","v":0},null,{"$f":"IF($AG$291=0,0,$AG$291)","v":0},null,{"$f":"IF($AG$355=0,0,$AG$355)","v":0},null,{"$f":"IF($AG$419=0,0,$AG$419)","v":0},null,{"$f":"IF($AG$483=0,0,$AG$483)","v":0},null,{"$f":"IF($AG$547=0,0,$AG$547)","v":0},null,{"$f":"IF($AG$611=0,0,$AG$611)","v":0},null,{"$f":"IF($AG$675=0,0,$AG$675)","v":0},null,{"$f":"IF($AG$739=0,0,$AG$739)","v":0},null,{"$f":"SUM($G$64:$AD$64)","v":0}]
[{"$f":"$A$65","v":"Vergleich"},{"$f":"$B$65","v":"Stunden zu Soll-Stunden (inkl. allfälli-\nge Minusstunden Vorjahr)"},null,null,null,null,{"$f":"$G$65","v":-168},null,{"$f":"$I$65","v":-160},null,{"$f":"$K$65","v":-184},null,{"$f":"$M$65","v":-168},null,{"$f":"$O$65","v":-176},null,{"$f":"$Q$65","v":-176},null,{"$f":"$S$65","v":-168},null,{"$f":"$U$65","v":-184},null,{"$f":"$W$65","v":-176},null,{"$f":"$Y$65","v":-168},null,{"$f":"$AA$65","v":-176},null,{"$f":"$AC$65","v":-176},null,{"$f":"$AE$65","v":-2080}]
[null,{"$f":"$B$66","v":"Stunden zu Soll-Stunden (kumuliert)"},null,null,null,null,{"$f":"$G$66","v":-168},null,{"$f":"$I$66","v":-328},null,{"$f":"$K$66","v":-512},null,{"$f":"$M$66","v":-680},null,{"$f":"$O$66","v":-856},null,{"$f":"$Q$66","v":-1032},null,{"$f":"$S$66","v":-1200},null,{"$f":"$U$66","v":-1384},null,{"$f":"$W$66","v":-1560},null,{"$f":"$Y$66","v":-1728},null,{"$f":"$AA$66","v":-1904},null,{"$f":"$AC$66","v":-2080},null,{"$f":"$AE$66","v":0}]
[{"$f":"$A$67","v":"Ferienkontrolle"},{"$f":"$B$67","v":"Ferienguthaben Vorjahr"},null,null,null,null,{"$f":"IF($AA$4=0,0,$AA$4)","v":0},null,{"$f":"$I$67","v":"Ferienguthaben nach \nArt. 12.1 GAV"},null,null,null,{"$f":"IF($AA$5=0,0,$AA$5)","v":0},null,{"$f":"$O$67","v":"Ferienguthaben total"},null,null,null,{"$f":"SUM(G259+M259)","v":0},null,{"$f":"$U$67","v":"Ferien bezogen"},null,null,null,{"$f":"IF($AV$4=0,0,$AV$4)","v":0},null,{"$f":"$AA$67","v":"Aktuelles Ferienguthaben"},null,null,null,{"$f":"IF(S259=0,0,S259-Y259)","v":0}]
[]
[]
[{"$f":"$A$3","v":"Mitarbeiter/In"},{"$f":"IF($B$3=\"\",\"\",$B$3)","v":"Muster Peter"},null,null,null,null,null,null,null,null,null,null,null,null,null,null,null,null,null,null,null,null,null,null,null,null,null,null,null,null,null,{"$f":"AF3","v":0}]
[{"$f":"$A$4","v":"Anstellung %"},{"$f":"$AL$48","v":100},null,{"$f":"Labels!B93","v":"im Mai"}]
[{"$f":"$A$5","v":"Saldo für das Jahr"},null,null,{"$f":"IF($AE$65=0,0,$AE$65)","v":-2080}]
[{"$f":"TEXT(DATE(YEAR(AP29),MONTH(AP29)+4,1),\"MMMM\"&Labels!B13)","v":"Mai"},{"$f":"$B$9","v":"Saldo Monat + / -"},null,null,null,{"$f":"(AG267-(SUM(AG268:AG282)-AE290))*-1","v":-176},null,null,null,null,{"$f":"$K$9","v":" = "},{"$f":"$L$9","v":"Gelbe Felder müssen ausgefüllt werden (die übrigen werden automatisch berechnet)"},null,null,null,null,null,null,null,null,null,null,null,null,null,null,null,null,null,null,null,null,{"$f":"COUNT(B268:AF268)&\" \"&Labels!$B$63","v":"22 Tage"}]
[{"$f":"$A$10","v":"Tag"},{"$f":"AE202+1","v":"2022-05-01"},{"$f":"B266+1","v":"2022-05-02"},{"$f":"C266+1","v":"2022-05-03"},"2022-05-04","2022-05-05","2022-05-06","2022-05-07","2022-05-08","2022-05-09","2022-05-10","2022-05-11","2022-05-12","2022-05-13","2022-05-14","2022-05-15","2022-05-16","2022-05-17","2022-05-18","2022-05-19","2022-05-20","2022-05-21","2022-05-22","2022-05-23","2022-05-24","2022-05-25","2022-05-26","2022-05-27","2022-05-28","2022-05-29","2022-05-30","2022-05-31"]
[{"$f":"$A$11","v":"Kalenderwoche"},{"$f":"IF(B266=\"\",\"\",TRUNC((B266-DATE(YEAR(B266+3-MOD(B266-2,7)),1,MOD(B266-2,7)-9))/7))","v":17},18,18,18,18,18,18,18,19,19,19,19,19,19,19,20,20,20,20,20,20,20,21,21,21,21,21,21,21,22,22,{"$f":"SUM(B268:AF268)","v":176}]
[{"$f":"$A$12","v":"Sollstunden"},{"$f":"IF(AND(MOD(B266,7)>=2,SUMPRODUCT(($AM$56:$AQ$56=MOD(B266,7))*$AM$48:$AQ$48)),($J$7*5/$AR$48)*$B$263%,\"\")","v":""},{"$f":"IF(AND(MOD(C266,7)>=2,SUMPRODUCT(($AM$56:$AQ$56=MOD(C266,7))*$AM$48:$AQ$48)),($J$7*5/$AR$48)*$B$263%,\"\")","v":8},{"$f":"IF(AND(MOD(D266,7)>=2,SUMPRODUCT(($AM$56:$AQ$56=MOD(D266,7))*$AM$48:$AQ$48)),($J$7*5/$AR$48)*$B$263%,\"\")","v":8},{"$f":"IF(AND(MOD(E266,7)>=2,SUMPRODUCT(($AM$56:$AQ$56=MOD(E266,7))*$AM$48:$AQ$48)),($J$7*5/$AR$48)*$B$263%,\"\")","v":8},{"$f":"IF(AND(MOD(F266,7)>=2,SUMPRODUCT(($AM$56:$AQ$56=MOD(F266,7))*$AM$48:$AQ$48)),($J$7*5/$AR$48)*$B$263%,\"\")","v":8},{"$f":"IF(AND(MOD(G266,7)>=2,SUMPRODUCT(($AM$56:$AQ$56=MOD(G266,7))*$AM$48:$AQ$48)),($J$7*5/$AR$48)*$B$263%,\"\")","v":8},{"$f":"IF(AND(MOD(H266,7)>=2,SUMPRODUCT(($AM$56:$AQ$56=MOD(H266,7))*$AM$48:$AQ$48)),($J$7*5/$AR$48)*$B$263%,\"\")","v":""},{"$f":"IF(AND(MOD(I266,7)>=2,SUMPRODUCT(($AM$56:$AQ$56=MOD(I266,7))*$AM$48:$AQ$48)),($J$7*5/$AR$48)*$B$263%,\"\")","v":""},{"$f":"IF(AND(MOD(J266,7)>=2,SUMPRODUCT(($AM$56:$AQ$56=MOD(J266,7))*$AM$48:$AQ$48)),($J$7*5/$AR$48)*$B$263%,\"\")","v":8},{"$f":"IF(AND(MOD(K266,7)>=2,SUMPRODUCT(($AM$56:$AQ$56=MOD(K266,7))*$AM$48:$AQ$48)),($J$7*5/$AR$48)*$B$263%,\"\")","v":8},{"$f":"IF(AND(MOD(L266,7)>=2,SUMPRODUCT(($AM$56:$AQ$56=MOD(L266,7))*$AM$48:$AQ$48)),($J$7*5/$AR$48)*$B$263%,\"\")","v":8},{"$f":"IF(AND(MOD(M266,7)>=2,SUMPRODUCT(($AM$56:$AQ$56=MOD(M266,7))*$AM$48:$AQ$48)),($J$7*5/$AR$48)*$B$263%,\"\")","v":8},{"$f":"IF(AND(MOD(N266,7)>=2,SUMPRODUCT(($AM$56:$AQ$56=MOD(N266,7))*$AM$48:$AQ$48)),($J$7*5/$AR$48)*$B$263%,\"\")","v":8},{"$f":"IF(AND(MOD(O266,7)>=2,SUMPRODUCT(($AM$56:$AQ$56=MOD(O266,7))*$AM$48:$AQ$48)),($J$7*5/$AR$48)*$B$263%,\"\")","v":""},{"$f":"IF(AND(MOD(P266,7)>=2,SUMPRODUCT(($AM$56:$AQ$56=MOD(P266,7))*$AM$48:$AQ$48)),($J$7*5/$AR$48)*$B$263%,\"\")","v":""},{"$f":"IF(AND(MOD(Q266,7)>=2,SUMPRODUCT(($AM$56:$AQ$56=MOD(Q266,7))*$AM$48:$AQ$48)),($J$7*5/$AR$48)*$B$263%,\"\")","v":8},{"$f":"IF(AND(MOD(R266,7)>=2,SUMPRODUCT(($AM$56:$AQ$56=MOD(R266,7))*$AM$48:$AQ$48)),($J$7*5/$AR$48)*$B$263%,\"\")","v":8},{"$f":"IF(AND(MOD(S266,7)>=2,SUMPRODUCT(($AM$56:$AQ$56=MOD(S266,7))*$AM$48:$AQ$48)),($J$7*5/$AR$48)*$B$263%,\"\")","v":8},{"$f":"IF(AND(MOD(T266,7)>=2,SUMPRODUCT(($AM$56:$AQ$56=MOD(T266,7))*$AM$48:$AQ$48)),($J$7*5/$AR$48)*$B$263%,\"\")","v":8},{"$f":"IF(AND(MOD(U266,7)>=2,SUMPRODUCT(($AM$56:$AQ$56=MOD(U266,7))*$AM$48:$AQ$48)),($J$7*5/$AR$48)*$B$263%,\"\")","v":8},{"$f":"IF(AND(MOD(V266,7)>=2,SUMPRODUCT(($AM$56:$AQ$56=MOD(V266,7))*$AM$48:$AQ$48)),($J$7*5/$AR$48)*$B$263%,\"\")","v":""},{"$f":"IF(AND(MOD(W266,7)>=2,SUMPRODUCT(($AM$56:$AQ$56=MOD(W266,7))*$AM$48:$AQ$48)),($J$7*5/$AR$48)*$B$263%,\"\")","v":""},{"$f":"IF(AND(MOD(X266,7)>=2,SUMPRODUCT(($AM$56:$AQ$56=MOD(X266,7))*$AM$48:$AQ$48)),($J$7*5/$AR$48)*$B$263%,\"\")","v":8},{"$f":"IF(AND(MOD(Y266,7)>=2,SUMPRODUCT(($AM$56:$AQ$56=MOD(Y266,7))*$AM$48:$AQ$48)),($J$7*5/$AR$48)*$B$263%,\"\")","v":8},{"$f":"IF(AND(MOD(Z266,7)>=2,SUMPRODUCT(($AM$56:$AQ$56=MOD(Z266,7))*$AM$48:$AQ$48)),($J$7*5/$AR$48)*$B$263%,\"\")","v":8},{"$f":"IF(AND(MOD(AA266,7)>=2,SUMPRODUCT(($AM$56:$AQ$56=MOD(AA266,7))*$AM$48:$AQ$48)),($J$7*5/$AR$48)*$B$263%,\"\")","v":8},{"$f":"IF(AND(MOD(AB266,7)>=2,SUMPRODUCT(($AM$56:$AQ$56=MOD(AB266,7))*$AM$48:$AQ$48)),($J$7*5/$AR$48)*$B$263%,\"\")","v":8},{"$f":"IF(AND(MOD(AC266,7)>=2,SUMPRODUCT(($AM$56:$AQ$56=MOD(AC266,7))*$AM$48:$AQ$48)),($J$7*5/$AR$48)*$B$263%,\"\")","v":""},{"$f":"IF(AND(MOD(AD266,7)>=2,SUMPRODUCT(($AM$56:$AQ$56=MOD(AD266,7))*$AM$48:$AQ$48)),($J$7*5/$AR$48)*$B$263%,\"\")","v":""},{"$f":"IF(AND(MOD(AE266,7)>=2,SUMPRODUCT(($AM$56:$AQ$56=MOD(AE266,7))*$AM$48:$AQ$48)),($J$7*5/$AR$48)*$B$263%,\"\")","v":8},{"$f":"IF(AND(MOD(AF266,7)>=2,SUMPRODUCT(($AM$56:$AQ$56=MOD(AF266,7))*$AM$48:$AQ$48)),($J$7*5/$AR$48)*$B$263%,\"\")","v":8},{"$f":"SUM(AN3:AN13)","v":0}]
[{"$f":"$A$13","v":"Absenz in Std"},{"$f":"B923","v":0},{"$f":"C923","v":0},0,0,0,0,0,0,0,0,0,0,0,0,0,0,0,0,0,0,0,0,0,0,0,0,0,0,0,0,0]
[{"$f":"$A$14","v":"Code"},{"$f":"IF(B923<>0,IF(MAX(B910:B922)<B923,Labels!$B$163,INDEX($AH$909:$AH$921,MATCH(MAX(B910:B922),B910:B922,0))),\"\")","v":""},{"$f":"IF(C923<>0,IF(MAX(C910:C922)<C923,Labels!$B$163,INDEX($AH$909:$AH$921,MATCH(MAX(C910:C922),C910:C922,0))),\"\")","v":""},{"$f":"IF(D923<>0,IF(MAX(D910:D922)<D923,Labels!$B$163,INDEX($AH$909:$AH$921,MATCH(MAX(D910:D922),D910:D922,0))),\"\")","v":""},{"$f":"IF(E923<>0,IF(MAX(E910:E922)<E923,Labels!$B$163,INDEX($AH$909:$AH$921,MATCH(MAX(E910:E922),E910:E922,0))),\"\")","v":""},{"$f":"IF(F923<>0,IF(MAX(F910:F922)<F923,Labels!$B$163,INDEX($AH$909:$AH$921,MATCH(MAX(F910:F922),F910:F922,0))),\"\")","v":""},{"$f":"IF(G923<>0,IF(MAX(G910:G922)<G923,Labels!$B$163,INDEX($AH$909:$AH$921,MATCH(MAX(G910:G922),G910:G922,0))),\"\")","v":""},{"$f":"IF(H923<>0,IF(MAX(H910:H922)<H923,Labels!$B$163,INDEX($AH$909:$AH$921,MATCH(MAX(H910:H922),H910:H922,0))),\"\")","v":""},{"$f":"IF(I923<>0,IF(MAX(I910:I922)<I923,Labels!$B$163,INDEX($AH$909:$AH$921,MATCH(MAX(I910:I922),I910:I922,0))),\"\")","v":""},{"$f":"IF(J923<>0,IF(MAX(J910:J922)<J923,Labels!$B$163,INDEX($AH$909:$AH$921,MATCH(MAX(J910:J922),J910:J922,0))),\"\")","v":""},{"$f":"IF(K923<>0,IF(MAX(K910:K922)<K923,Labels!$B$163,INDEX($AH$909:$AH$921,MATCH(MAX(K910:K922),K910:K922,0))),\"\")","v":""},{"$f":"IF(L923<>0,IF(MAX(L910:L922)<L923,Labels!$B$163,INDEX($AH$909:$AH$921,MATCH(MAX(L910:L922),L910:L922,0))),\"\")","v":""},{"$f":"IF(M923<>0,IF(MAX(M910:M922)<M923,Labels!$B$163,INDEX($AH$909:$AH$921,MATCH(MAX(M910:M922),M910:M922,0))),\"\")","v":""},{"$f":"IF(N923<>0,IF(MAX(N910:N922)<N923,Labels!$B$163,INDEX($AH$909:$AH$921,MATCH(MAX(N910:N922),N910:N922,0))),\"\")","v":""},{"$f":"IF(O923<>0,IF(MAX(O910:O922)<O923,Labels!$B$163,INDEX($AH$909:$AH$921,MATCH(MAX(O910:O922),O910:O922,0))),\"\")","v":""},{"$f":"IF(P923<>0,IF(MAX(P910:P922)<P923,Labels!$B$163,INDEX($AH$909:$AH$921,MATCH(MAX(P910:P922),P910:P922,0))),\"\")","v":""},{"$f":"IF(Q923<>0,IF(MAX(Q910:Q922)<Q923,Labels!$B$163,INDEX($AH$909:$AH$921,MATCH(MAX(Q910:Q922),Q910:Q922,0))),\"\")","v":""},{"$f":"IF(R923<>0,IF(MAX(R910:R922)<R923,Labels!$B$163,INDEX($AH$909:$AH$921,MATCH(MAX(R910:R922),R910:R922,0))),\"\")","v":""},{"$f":"IF(S923<>0,IF(MAX(S910:S922)<S923,Labels!$B$163,INDEX($AH$909:$AH$921,MATCH(MAX(S910:S922),S910:S922,0))),\"\")","v":""},{"$f":"IF(T923<>0,IF(MAX(T910:T922)<T923,Labels!$B$163,INDEX($AH$909:$AH$921,MATCH(MAX(T910:T922),T910:T922,0))),\"\")","v":""},{"$f":"IF(U923<>0,IF(MAX(U910:U922)<U923,Labels!$B$163,INDEX($AH$909:$AH$921,MATCH(MAX(U910:U922),U910:U922,0))),\"\")","v":""},{"$f":"IF(V923<>0,IF(MAX(V910:V922)<V923,Labels!$B$163,INDEX($AH$909:$AH$921,MATCH(MAX(V910:V922),V910:V922,0))),\"\")","v":""},{"$f":"IF(W923<>0,IF(MAX(W910:W922)<W923,Labels!$B$163,INDEX($AH$909:$AH$921,MATCH(MAX(W910:W922),W910:W922,0))),\"\")","v":""},{"$f":"IF(X923<>0,IF(MAX(X910:X922)<X923,Labels!$B$163,INDEX($AH$909:$AH$921,MATCH(MAX(X910:X922),X910:X922,0))),\"\")","v":""},{"$f":"IF(Y923<>0,IF(MAX(Y910:Y922)<Y923,Labels!$B$163,INDEX($AH$909:$AH$921,MATCH(MAX(Y910:Y922),Y910:Y922,0))),\"\")","v":""},{"$f":"IF(Z923<>0,IF(MAX(Z910:Z922)<Z923,Labels!$B$163,INDEX($AH$909:$AH$921,MATCH(MAX(Z910:Z922),Z910:Z922,0))),\"\")","v":""},{"$f":"IF(AA923<>0,IF(MAX(AA910:AA922)<AA923,Labels!$B$163,INDEX($AH$909:$AH$921,MATCH(MAX(AA910:AA922),AA910:AA922,0))),\"\")","v":""},{"$f":"IF(AB923<>0,IF(MAX(AB910:AB922)<AB923,Labels!$B$163,INDEX($AH$909:$AH$921,MATCH(MAX(AB910:AB922),AB910:AB922,0))),\"\")","v":""},{"$f":"IF(AC923<>0,IF(MAX(AC910:AC922)<AC923,Labels!$B$163,INDEX($AH$909:$AH$921,MATCH(MAX(AC910:AC922),AC910:AC922,0))),\"\")","v":""},{"$f":"IF(AD923<>0,IF(MAX(AD910:AD922)<AD923,Labels!$B$163,INDEX($AH$909:$AH$921,MATCH(MAX(AD910:AD922),AD910:AD922,0))),\"\")","v":""},{"$f":"IF(AE923<>0,IF(MAX(AE910:AE922)<AE923,Labels!$B$163,INDEX($AH$909:$AH$921,MATCH(MAX(AE910:AE922),AE910:AE922,0))),\"\")","v":""},{"$f":"IF(AF923<>0,IF(MAX(AF910:AF922)<AF923,Labels!$B$163,INDEX($AH$909:$AH$921,MATCH(MAX(AF910:AF922),AF910:AF922,0))),\"\")","v":""},{"$f":"SUM(B271:AF271)","v":0}]
[{"$f":"$A$15","v":"00.00-06.00h"},null,null,null,null,null,null,null,null,null,null,null,null,null,null,null,null,null,null,null,null,null,null,null,null,null,null,null,null,null,null,null,{"$f":"SUM(B272:AF272)","v":0}]
[{"$f":"$A$16","v":"06.00-20.00h"},null,null,null,null,null,null,null,null,null,null,null,null,null,null,null,null,null,null,null,null,null,null,null,null,null,null,null,null,null,null,null,{"$f":"SUM(B273:AF273)","v":0},"[0]"]
[{"$f":"$A$17","v":"20.00-24.00h"}]
[{"$f":"$A$18","v":"Feiertag \"ft\""},{"$f":"IF(WEEKDAY(B266,2)<=6,IF(KALENDER!E11=\"x\",Labels!$B$118,\"\"),\"\")","v":""},{"$f":"IF(WEEKDAY(C266,2)<=6,IF(KALENDER!F11=\"x\",Labels!$B$118,\"\"),\"\")","v":""},{"$f":"IF(WEEKDAY(D266,2)<=6,IF(KALENDER!G11=\"x\",Labels!$B$118,\"\"),\"\")","v":""},{"$f":"IF(WEEKDAY(E266,2)<=6,IF(KALENDER!H11=\"x\",Labels!$B$118,\"\"),\"\")","v":""},{"$f":"IF(WEEKDAY(F266,2)<=6,IF(KALENDER!I11=\"x\",Labels!$B$118,\"\"),\"\")","v":""},{"$f":"IF(WEEKDAY(G266,2)<=6,IF(KALENDER!J11=\"x\",Labels!$B$118,\"\"),\"\")","v":""},{"$f":"IF(WEEKDAY(H266,2)<=6,IF(KALENDER!K11=\"x\",Labels!$B$118,\"\"),\"\")","v":""},{"$f":"IF(WEEKDAY(I266,2)<=6,IF(KALENDER!L11=\"x\",Labels!$B$118,\"\"),\"\")","v":""},{"$f":"IF(WEEKDAY(J266,2)<=6,IF(KALENDER!M11=\"x\",Labels!$B$118,\"\"),\"\")","v":""},{"$f":"IF(WEEKDAY(K266,2)<=6,IF(KALENDER!N11=\"x\",Labels!$B$118,\"\"),\"\")","v":""},{"$f":"IF(WEEKDAY(L266,2)<=6,IF(KALENDER!O11=\"x\",Labels!$B$118,\"\"),\"\")","v":""},{"$f":"IF(WEEKDAY(M266,2)<=6,IF(KALENDER!P11=\"x\",Labels!$B$118,\"\"),\"\")","v":""},{"$f":"IF(WEEKDAY(N266,2)<=6,IF(KALENDER!Q11=\"x\",Labels!$B$118,\"\"),\"\")","v":""},{"$f":"IF(WEEKDAY(O266,2)<=6,IF(KALENDER!R11=\"x\",Labels!$B$118,\"\"),\"\")","v":""},{"$f":"IF(WEEKDAY(P266,2)<=6,IF(KALENDER!S11=\"x\",Labels!$B$118,\"\"),\"\")","v":""},{"$f":"IF(WEEKDAY(Q266,2)<=6,IF(KALENDER!T11=\"x\",Labels!$B$118,\"\"),\"\")","v":""},{"$f":"IF(WEEKDAY(R266,2)<=6,IF(KALENDER!U11=\"x\",Labels!$B$118,\"\"),\"\")","v":""},{"$f":"IF(WEEKDAY(S266,2)<=6,IF(KALENDER!V11=\"x\",Labels!$B$118,\"\"),\"\")","v":""},{"$f":"IF(WEEKDAY(T266,2)<=6,IF(KALENDER!W11=\"x\",Labels!$B$118,\"\"),\"\")","v":""},{"$f":"IF(WEEKDAY(U266,2)<=6,IF(KALENDER!X11=\"x\",Labels!$B$118,\"\"),\"\")","v":""},{"$f":"IF(WEEKDAY(V266,2)<=6,IF(KALENDER!Y11=\"x\",Labels!$B$118,\"\"),\"\")","v":""},{"$f":"IF(WEEKDAY(W266,2)<=6,IF(KALENDER!Z11=\"x\",Labels!$B$118,\"\"),\"\")","v":""},{"$f":"IF(WEEKDAY(X266,2)<=6,IF(KALENDER!AA11=\"x\",Labels!$B$118,\"\"),\"\")","v":""},{"$f":"IF(WEEKDAY(Y266,2)<=6,IF(KALENDER!AB11=\"x\",Labels!$B$118,\"\"),\"\")","v":""},{"$f":"IF(WEEKDAY(Z266,2)<=6,IF(KALENDER!AC11=\"x\",Labels!$B$118,\"\"),\"\")","v":""},{"$f":"IF(WEEKDAY(AA266,2)<=6,IF(KALENDER!AD11=\"x\",Labels!$B$118,\"\"),\"\")","v":""},{"$f":"IF(WEEKDAY(AB266,2)<=6,IF(KALENDER!AE11=\"x\",Labels!$B$118,\"\"),\"\")","v":""},{"$f":"IF(WEEKDAY(AC266,2)<=6,IF(KALENDER!AF11=\"x\",Labels!$B$118,\"\"),\"\")","v":""},{"$f":"IF(WEEKDAY(AD266,2)<=6,IF(KALENDER!AG11=\"x\",Labels!$B$118,\"\"),\"\")","v":""},{"$f":"IF(WEEKDAY(AE266,2)<=6,IF(KALENDER!AH11=\"x\",Labels!$B$118,\"\"),\"\")","v":""},{"$f":"IF(WEEKDAY(AF266,2)<=6,IF(KALENDER!AI11=\"x\",Labels!$B$118,\"\"),\"\")","v":""},{"$f":"SUM(B275:AF275)","v":0}]
[{"$f":"$A$19","v":"Gutschrift \"ft\""},{"$f":"IF(AND(B274=Labels!$B$118,WEEKDAY(B266,2)<6,B$268<>\"\"),($J$7*5/$AR$48)*$B$263%,\"\")","v":""},{"$f":"IF(AND(C274=Labels!$B$118,WEEKDAY(C266,2)<6,C$268<>\"\"),($J$7*5/$AR$48)*$B$263%,\"\")","v":""},{"$f":"IF(AND(D274=Labels!$B$118,WEEKDAY(D266,2)<6,D$268<>\"\"),($J$7*5/$AR$48)*$B$263%,\"\")","v":""},{"$f":"IF(AND(E274=Labels!$B$118,WEEKDAY(E266,2)<6,E$268<>\"\"),($J$7*5/$AR$48)*$B$263%,\"\")","v":""},{"$f":"IF(AND(F274=Labels!$B$118,WEEKDAY(F266,2)<6,F$268<>\"\"),($J$7*5/$AR$48)*$B$263%,\"\")","v":""},{"$f":"IF(AND(G274=Labels!$B$118,WEEKDAY(G266,2)<6,G$268<>\"\"),($J$7*5/$AR$48)*$B$263%,\"\")","v":""},{"$f":"IF(AND(H274=Labels!$B$118,WEEKDAY(H266,2)<6,H$268<>\"\"),($J$7*5/$AR$48)*$B$263%,\"\")","v":""},{"$f":"IF(AND(I274=Labels!$B$118,WEEKDAY(I266,2)<6,I$268<>\"\"),($J$7*5/$AR$48)*$B$263%,\"\")","v":""},{"$f":"IF(AND(J274=Labels!$B$118,WEEKDAY(J266,2)<6,J$268<>\"\"),($J$7*5/$AR$48)*$B$263%,\"\")","v":""},{"$f":"IF(AND(K274=Labels!$B$118,WEEKDAY(K266,2)<6,K$268<>\"\"),($J$7*5/$AR$48)*$B$263%,\"\")","v":""},{"$f":"IF(AND(L274=Labels!$B$118,WEEKDAY(L266,2)<6,L$268<>\"\"),($J$7*5/$AR$48)*$B$263%,\"\")","v":""},{"$f":"IF(AND(M274=Labels!$B$118,WEEKDAY(M266,2)<6,M$268<>\"\"),($J$7*5/$AR$48)*$B$263%,\"\")","v":""},{"$f":"IF(AND(N274=Labels!$B$118,WEEKDAY(N266,2)<6,N$268<>\"\"),($J$7*5/$AR$48)*$B$263%,\"\")","v":""},{"$f":"IF(AND(O274=Labels!$B$118,WEEKDAY(O266,2)<6,O$268<>\"\"),($J$7*5/$AR$48)*$B$263%,\"\")","v":""},{"$f":"IF(AND(P274=Labels!$B$118,WEEKDAY(P266,2)<6,P$268<>\"\"),($J$7*5/$AR$48)*$B$263%,\"\")","v":""},{"$f":"IF(AND(Q274=Labels!$B$118,WEEKDAY(Q266,2)<6,Q$268<>\"\"),($J$7*5/$AR$48)*$B$263%,\"\")","v":""},{"$f":"IF(AND(R274=Labels!$B$118,WEEKDAY(R266,2)<6,R$268<>\"\"),($J$7*5/$AR$48)*$B$263%,\"\")","v":""},{"$f":"IF(AND(S274=Labels!$B$118,WEEKDAY(S266,2)<6,S$268<>\"\"),($J$7*5/$AR$48)*$B$263%,\"\")","v":""},{"$f":"IF(AND(T274=Labels!$B$118,WEEKDAY(T266,2)<6,T$268<>\"\"),($J$7*5/$AR$48)*$B$263%,\"\")","v":""},{"$f":"IF(AND(U274=Labels!$B$118,WEEKDAY(U266,2)<6,U$268<>\"\"),($J$7*5/$AR$48)*$B$263%,\"\")","v":""},{"$f":"IF(AND(V274=Labels!$B$118,WEEKDAY(V266,2)<6,V$268<>\"\"),($J$7*5/$AR$48)*$B$263%,\"\")","v":""},{"$f":"IF(AND(W274=Labels!$B$118,WEEKDAY(W266,2)<6,W$268<>\"\"),($J$7*5/$AR$48)*$B$263%,\"\")","v":""},{"$f":"IF(AND(X274=Labels!$B$118,WEEKDAY(X266,2)<6,X$268<>\"\"),($J$7*5/$AR$48)*$B$263%,\"\")","v":""},{"$f":"IF(AND(Y274=Labels!$B$118,WEEKDAY(Y266,2)<6,Y$268<>\"\"),($J$7*5/$AR$48)*$B$263%,\"\")","v":""},{"$f":"IF(AND(Z274=Labels!$B$118,WEEKDAY(Z266,2)<6,Z$268<>\"\"),($J$7*5/$AR$48)*$B$263%,\"\")","v":""},{"$f":"IF(AND(AA274=Labels!$B$118,WEEKDAY(AA266,2)<6,AA$268<>\"\"),($J$7*5/$AR$48)*$B$263%,\"\")","v":""},{"$f":"IF(AND(AB274=Labels!$B$118,WEEKDAY(AB266,2)<6,AB$268<>\"\"),($J$7*5/$AR$48)*$B$263%,\"\")","v":""},{"$f":"IF(AND(AC274=Labels!$B$118,WEEKDAY(AC266,2)<6,AC$268<>\"\"),($J$7*5/$AR$48)*$B$263%,\"\")","v":""},{"$f":"IF(AND(AD274=Labels!$B$118,WEEKDAY(AD266,2)<6,AD$268<>\"\"),($J$7*5/$AR$48)*$B$263%,\"\")","v":""},{"$f":"IF(AND(AE274=Labels!$B$118,WEEKDAY(AE266,2)<6,AE$268<>\"\"),($J$7*5/$AR$48)*$B$263%,\"\")","v":""},{"$f":"IF(AND(AF274=Labels!$B$118,WEEKDAY(AF266,2)<6,AF$268<>\"\"),($J$7*5/$AR$48)*$B$263%,\"\")","v":""}]
[{"$f":"$A$20","v":"Tagestotal"},{"$f":"SUM(B271:B273)","v":0},{"$f":"SUM(C271:C273)","v":0},0,0,0,0,0,0,0,0,0,0,0,0,0,0,0,0,0,0,0,0,0,0,0,0,0,0,0,0,0]
[{"$f":"$A$21","v":"."}]
[{"$f":"$A$22","v":"."}]
[{"$f":"$A$23","v":"Monatsübergang"},{"$f":"IF(WEEKDAY(B266)=1,TEXT(B266-1,\"MMM\"&Labels!B13),\"\")","v":"Apr"},null,null,null,null,null,null,null,null,null,null,null,null,null,null,null,null,null,null,null,null,null,null,null,null,null,null,null,null,null,{"$f":"IF(AND(WEEKDAY(AF266)>1,WEEKDAY(AF266)<7),TEXT(DATE($B$5,MONTH(AF266)+1,1),\"MMM\"&Labels!B13),\"\")","v":"Jun"}]
[{"$f":"$A$24","v":"Wochentotal"},{"$f":"IF(WEEKDAY(B266)=7,SUMIF($B203:$AF203,B267,$B212:$AF212)+SUMIF($B267:$AF267,B267,$B276:$AF276)+SUMIF($B331:$AF331,B267,$B340:$AF340),B279)","v":"Apr"},{"$f":"IF(WEEKDAY(C266)=7,SUMIF($B203:$AF203,C267,$B212:$AF212)+SUMIF($B267:$AF267,C267,$B276:$AF276)+SUMIF($B331:$AF331,C267,$B340:$AF340),\"\")","v":""},"","","","",0,"","","","","","",0,"","","","","","",0,"","","","","","",0,"","",{"$f":"IF(WEEKDAY(AF266)=7,SUMIF($B203:$AF203,AF267,$B212:$AF212)+SUMIF($B267:$AF267,AF267,$B276:$AF276)+SUMIF($B331:$AF331,AF267,$B340:$AF340),AF279)","v":"Jun"},{"$f":"SUM(B281:AF281)","v":0}]
[{"$f":"$A$25","v":"Zeitzuschlag 1)"},{"$f":"IF(B288=\"FALSCH\",\"\",B288)","v":""},{"$f":"IF(C288=\"FALSCH\",\"\",C288)","v":""},"","","","","","","","","","","","","","","","","","","","","","","","","","","","","",0,"[1]"]
[{"$f":"$A$26","v":"Zeitzuschlag 2)"},{"$f":"IF((B271+B273)=0,\"\",SUM(B271,B273))","v":""},{"$f":"IF((C271+C273)=0,\"\",SUM(C271,C273))","v":""},"","","","","","","","","","","","","","","","","","","","","","","","","","","","","",{"$f":"SUM(B283:AF283)","v":0},"[2]"]
[{"$f":"$A$27","v":"Zeitzuschlag 3)"},{"$f":"SUM(B284:B287)","v":0},{"$f":"SUM(C284:C287)","v":0},0,0,0,0,0,0,0,0,0,0,0,0,0,0,0,0,0,0,0,0,0,0,0,0,0,0,0,0,0,0,"[3]"]
[{"$f":"$A$28","v":"Sonntag Tag"},{"$f":"IF(WEEKDAY(B266)=1,B272,\"\")","v":0},{"$f":"IF(WEEKDAY(C266)=1,C272,\"\")","v":""},"","","","","",0,"","","","","","",0,"","","","","","",0,"","","","","","",0,"","",0,"[4]"]
[{"$f":"$A$29","v":"Sonntag Nacht"},{"$f":"IF(WEEKDAY(B266)=1,SUM(B271+B273),\"\")","v":0},{"$f":"IF(WEEKDAY(C266)=1,SUM(C271+C273),\"\")","v":""},"","","","","",0,"","","","","","",0,"","","","","","",0,"","","","","","",0,"","",0,"[5]"]
[{"$f":"$A$30","v":"ft-Tazuschlag"},{"$f":"IF(B274=Labels!$B$118,B272,\"\")","v":""},{"$f":"IF(C274=Labels!$B$118,C272,\"\")","v":""},{"$f":"IF(D274=Labels!$B$118,D272,\"\")","v":""},{"$f":"IF(E274=Labels!$B$118,E272,\"\")","v":""},{"$f":"IF(F274=Labels!$B$118,F272,\"\")","v":""},{"$f":"IF(G274=Labels!$B$118,G272,\"\")","v":""},{"$f":"IF(H274=Labels!$B$118,H272,\"\")","v":""},{"$f":"IF(I274=Labels!$B$118,I272,\"\")","v":""},{"$f":"IF(J274=Labels!$B$118,J272,\"\")","v":""},{"$f":"IF(K274=Labels!$B$118,K272,\"\")","v":""},{"$f":"IF(L274=Labels!$B$118,L272,\"\")","v":""},{"$f":"IF(M274=Labels!$B$118,M272,\"\")","v":""},{"$f":"IF(N274=Labels!$B$118,N272,\"\")","v":""},{"$f":"IF(O274=Labels!$B$118,O272,\"\")","v":""},{"$f":"IF(P274=Labels!$B$118,P272,\"\")","v":""},{"$f":"IF(Q274=Labels!$B$118,Q272,\"\")","v":""},{"$f":"IF(R274=Labels!$B$118,R272,\"\")","v":""},{"$f":"IF(S274=Labels!$B$118,S272,\"\")","v":""},{"$f":"IF(T274=Labels!$B$118,T272,\"\")","v":""},{"$f":"IF(U274=Labels!$B$118,U272,\"\")","v":""},{"$f":"IF(V274=Labels!$B$118,V272,\"\")","v":""},{"$f":"IF(W274=Labels!$B$118,W272,\"\")","v":""},{"$f":"IF(X274=Labels!$B$118,X272,\"\")","v":""},{"$f":"IF(Y274=Labels!$B$118,Y272,\"\")","v":""},{"$f":"IF(Z274=Labels!$B$118,Z272,\"\")","v":""},{"$f":"IF(AA274=Labels!$B$118,AA272,\"\")","v":""},{"$f":"IF(AB274=Labels!$B$118,AB272,\"\")","v":""},{"$f":"IF(AC274=Labels!$B$118,AC272,\"\")","v":""},{"$f":"IF(AD274=Labels!$B$118,AD272,\"\")","v":""},{"$f":"IF(AE274=Labels!$B$118,AE272,\"\")","v":""},{"$f":"IF(AF274=Labels!$B$118,AF272,\"\")","v":""},0,"[6]"]
[{"$f":"$A$31","v":"ft-Nazuschlag"},{"$f":"IF(B274=Labels!$B$118,SUM(B271,B273),\"\")","v":""},{"$f":"IF(C274=Labels!$B$118,SUM(C271,C273),\"\")","v":""},{"$f":"IF(D274=Labels!$B$118,SUM(D271,D273),\"\")","v":""},{"$f":"IF(E274=Labels!$B$118,SUM(E271,E273),\"\")","v":""},{"$f":"IF(F274=Labels!$B$118,SUM(F271,F273),\"\")","v":""},{"$f":"IF(G274=Labels!$B$118,SUM(G271,G273),\"\")","v":""},{"$f":"IF(H274=Labels!$B$118,SUM(H271,H273),\"\")","v":""},{"$f":"IF(I274=Labels!$B$118,SUM(I271,I273),\"\")","v":""},{"$f":"IF(J274=Labels!$B$118,SUM(J271,J273),\"\")","v":""},{"$f":"IF(K274=Labels!$B$118,SUM(K271,K273),\"\")","v":""},{"$f":"IF(L274=Labels!$B$118,SUM(L271,L273),\"\")","v":""},{"$f":"IF(M274=Labels!$B$118,SUM(M271,M273),\"\")","v":""},{"$f":"IF(N274=Labels!$B$118,SUM(N271,N273),\"\")","v":""},{"$f":"IF(O274=Labels!$B$118,SUM(O271,O273),\"\")","v":""},{"$f":"IF(P274=Labels!$B$118,SUM(P271,P273),\"\")","v":""},{"$f":"IF(Q274=Labels!$B$118,SUM(Q271,Q273),\"\")","v":""},{"$f":"IF(R274=Labels!$B$118,SUM(R271,R273),\"\")","v":""},{"$f":"IF(S274=Labels!$B$118,SUM(S271,S273),\"\")","v":""},{"$f":"IF(T274=Labels!$B$118,SUM(T271,T273),\"\")","v":""},{"$f":"IF(U274=Labels!$B$118,SUM(U271,U273),\"\")","v":""},{"$f":"IF(V274=Labels!$B$118,SUM(V271,V273),\"\")","v":""},{"$f":"IF(W274=Labels!$B$118,SUM(W271,W273),\"\")","v":""},{"$f":"IF(X274=Labels!$B$118,SUM(X271,X273),\"\")","v":""},{"$f":"IF(Y274=Labels!$B$118,SUM(Y271,Y273),\"\")","v":""},{"$f":"IF(Z274=Labels!$B$118,SUM(Z271,Z273),\"\")","v":""},{"$f":"IF(AA274=Labels!$B$118,SUM(AA271,AA273),\"\")","v":""},{"$f":"IF(AB274=Labels!$B$118,SUM(AB271,AB273),\"\")","v":""},{"$f":"IF(AC274=Labels!$B$118,SUM(AC271,AC273),\"\")","v":""},{"$f":"IF(AD274=Labels!$B$118,SUM(AD271,AD273),\"\")","v":""},{"$f":"IF(AE274=Labels!$B$118,SUM(AE271,AE273),\"\")","v":""},{"$f":"IF(AF274=Labels!$B$118,SUM(AF271,AF273),\"\")","v":""},{"$f":"AG271","v":0},"[7]"]
[{"$f":"$A$32","v":"Zuschlag  blind (Wochentotal)"},{"$f":"IF(OR(ISTEXT(B280),B280=\"\",B280<$B$7),\"\",ROUND(((B280-$B$7)*25%)/25,4)*25)","v":""},{"$f":"IF(OR(ISTEXT(C280),C280=\"\",C280<$B$7),\"\",ROUND(((C280-$B$7)*25%)/25,4)*25)","v":""},"","","","","","","","","","","","","","","","","","","","","","","","","","","","","",{"$f":"SUM(AG270+AG272)","v":0},"[8]"]
[null,{"$f":"$B$33","v":"1)   25% Zeitzuschlag für Überschreitung Wochentotal"},null,null,null,null,null,null,null,null,null,{"$f":"$L$33","v":"2) 100% Zeitzuschlag für Nachtarbeit"},null,null,null,null,null,null,null,{"$f":"$T$33","v":"Eingabe der ausbezahlten Stunden Vorjahressaldo"},null,null,null,null,null,null,null,null,null,null,null,null,{"$f":"SUM(AG270:AG272)","v":0},"[9]"]
[null,{"$f":"$B$34","v":"3) 100% Zeitzuschlag für Sonn- und Feiertagsarbeit"},null,null,null,null,null,null,null,null,null,null,null,null,null,null,null,null,null,{"$f":"$T$34","v":"Eingabe der ausbezahlten Stunden laufendes Jahr (Überstunden)"},null,null,null,null,null,null,null,null,null,null,null,null,{"$f":"SUM(AG268+AG274)","v":0},"[10]"]
[{"$f":"$A$35","v":"Bemerkungen"},null,null,null,null,null,null,null,null,null,null,null,null,null,null,null,null,null,null,null,null,null,null,null,null,null,null,null,null,null,null,null,{"$f":"SUM(AG268:AG282)","v":0},"[11]"]
[null,null,null,null,null,null,null,null,null,null,null,null,null,null,null,null,null,null,null,null,null,null,null,null,null,null,null,null,null,null,null,null,{"$f":"AG267","v":176}]
[null,null,null,null,null,null,null,null,null,null,null,null,null,null,null,null,null,null,null,null,null,null,null,null,null,null,null,null,null,null,null,null,{"$f":"SUM(AG291-AG267)","v":-176}]
[]
[{"$f":"$A$39","v":"Zusammenstellung"},null,null,null,null,null,{"$f":"$G$39","v":"Jan"},null,{"$f":"$I$39","v":"Feb"},null,{"$f":"$K$39","v":"Mrz"},null,{"$f":"$M$39","v":"Apr"},null,{"$f":"$O$39","v":"Mai"},null,{"$f":"$Q$39","v":"Jun"},null,{"$f":"$S$39","v":"Jul"},null,{"$f":"$U$39","v":"Aug"},null,{"$f":"$W$39","v":"Sep"},null,{"$f":"$Y$39","v":"Okt"},null,{"$f":"$AA$39","v":"Nov"},null,{"$f":"$AC$39","v":"Dez"},null,{"$f":"$AE$39","v":"Jahr"}]
[{"$f":"$A$40","v":"Anstellung %"},null,null,null,null,null,{"$f":"IF($B$4=0,0,$B$4)","v":100},null,{"$f":"IF($B$71=0,0,$B$71)","v":100},null,{"$f":"IF($B$135=0,0,$B$135)","v":100},null,{"$f":"IF($B$199=0,0,$B$199)","v":100},null,{"$f":"IF($B$263=0,0,$B$263)","v":100},null,{"$f":"IF($B$327=0,0,$B$327)","v":100},null,{"$f":"IF($B$391=0,0,$B$391)","v":100},null,{"$f":"IF($B$455=0,0,$B$455)","v":100},null,{"$f":"IF($B$519=0,0,$B$519)","v":100},null,{"$f":"IF($B$583=0,0,$B$583)","v":100},null,{"$f":"IF($B$647=0,0,$B$647)","v":100},null,{"$f":"IF($B$711=0,0,$B$711)","v":100}]
[{"$f":"$A$41","v":"Sollstunden gemäss GAV"},null,null,null,null,null,{"$f":"IF($AG$37=0,0,$AG$37)","v":168},null,{"$f":"IF($AG$100=0,0,$AG$100)","v":160},null,{"$f":"IF($AG$139=0,0,$AG$139)","v":184},null,{"$f":"IF($AG$228=0,0,$AG$228)","v":168},null,{"$f":"IF($AG$292=0,0,$AG$292)","v":176},null,{"$f":"IF($AG$356=0,0,$AG$356)","v":176},null,{"$f":"IF($AG$420=0,0,$AG$420)","v":168},null,{"$f":"IF($AG$484=0,0,$AG$484)","v":184},null,{"$f":"IF($AG$548=0,0,$AG$548)","v":176},null,{"$f":"IF($AG$612=0,0,$AG$612)","v":168},null,{"$f":"IF($AG$676=0,0,$AG$676)","v":176},null,{"$f":"IF($AG$740=0,0,$AG$740)","v":176},null,{"$f":"SUM(G297:AD297)","v":2080}]
[{"$f":"$A$42","v":"Produktive Stunden"},{"$f":"$B$42","v":"06.00 - 20.00 Uhr"},null,null,null,null,{"$f":"IF($AG$32=0,0,$AG$32)","v":0},null,{"$f":"IF($AG$95=0,0,$AG$95)","v":0},null,{"$f":"IF($AG$159=0,0,$AG$159)","v":0},null,{"$f":"IF($AG$223=0,0,$AG$223)","v":0},null,{"$f":"IF($AG$287=0,0,$AG$287)","v":0},null,{"$f":"IF($AG$351=0,0,$AG$351)","v":0},null,{"$f":"IF($AG$415=0,0,$AG$415)","v":0},null,{"$f":"IF($AG$479=0,0,$AG$479)","v":0},null,{"$f":"IF($AG$543=0,0,$AG$543)","v":0},null,{"$f":"IF($AG$607=0,0,$AG$607)","v":0},null,{"$f":"IF($AG$671=0,0,$AG$671)","v":0},null,{"$f":"IF($AG$735=0,0,$AG$735)","v":0},null,{"$f":"SUM(G298:AD298)","v":0}]
[null,{"$f":"$B$43","v":"Nacht-, Sonn-, Feiertagsarbeit"},null,null,null,null,{"$f":"IF($AG$33=0,0,$AG$33)","v":0},null,{"$f":"IF($AG$96=0,0,$AG$96)","v":0},null,{"$f":"IF($AG$160=0,0,$AG$160)","v":0},null,{"$f":"IF($AG$224=0,0,$AG$224)","v":0},null,{"$f":"IF($AG$288=0,0,$AG$288)","v":0},null,{"$f":"IF($AG$352=0,0,$AG$352)","v":0},null,{"$f":"IF($AG$416=0,0,$AG$416)","v":0},null,{"$f":"IF($AG$480=0,0,$AG$480)","v":0},null,{"$f":"IF($AG$544=0,0,$AG$544)","v":0},null,{"$f":"IF($AG$608=0,0,$AG$608)","v":0},null,{"$f":"IF($AG$672=0,0,$AG$672)","v":0},null,{"$f":"IF($AG$736=0,0,$AG$736)","v":0},null,{"$f":"SUM(G299:AD299)","v":0}]
[{"$f":"$A$44","v":"Zeitzuschläge"},{"$f":"$B$44","v":"aus Wochentotal"},null,null,null,null,{"$f":"IF($AG$25=0,0,$AG$25)","v":0},null,{"$f":"IF($AG$88=0,0,$AG$88)","v":0},null,{"$f":"IF($AG$152=0,0,$AG$152)","v":0},null,{"$f":"IF($AG$216=0,0,$AG$216)","v":0},null,{"$f":"IF($AG$280=0,0,$AG$280)","v":0},null,{"$f":"IF($AG$344=0,0,$AG$344)","v":0},null,{"$f":"IF($AG$408=0,0,$AG$408)","v":0},null,{"$f":"IF($AG$472=0,0,$AG$472)","v":0},null,{"$f":"IF($AG$536=0,0,$AG$536)","v":0},null,{"$f":"IF($AG$600=0,0,$AG$600)","v":0},null,{"$f":"IF($AG$664=0,0,$AG$664)","v":0},null,{"$f":"IF($AG$728=0,0,$AG$728)","v":0},null,{"$f":"SUM(G300:AD300)","v":0}]
[null,{"$f":"$B$45","v":"aus Nacht-, Sonn-, Feiertagsarbeiten"},null,null,null,null,{"$f":"IF($AJ$21=0,0,$AJ$21)","v":0},null,{"$f":"IF($AK$21=0,0,$AK$21)","v":0},null,{"$f":"IF($AL$21=0,0,$AL$21)","v":0},null,{"$f":"IF($AM$21=0,0,$AM$21)","v":0},null,{"$f":"IF($AN$21=0,0,$AN$21)","v":0},null,{"$f":"IF($AO$21=0,0,$AO$21)","v":0},null,{"$f":"IF($AP$21=0,0,$AP$21)","v":0},null,{"$f":"IF($AQ$21=0,0,$AQ$21)","v":0},null,{"$f":"IF($AR$21=0,0,$AR$21)","v":0},null,{"$f":"IF($AS$21=0,0,$AS$21)","v":0},null,{"$f":"IF($AT$21=0,0,$AT$21)","v":0},null,{"$f":"IF($AU$21=0,0,$AU$21)","v":0},null,{"$f":"SUM(G301:AD301)","v":0}]
[{"$f":"$A$46","v":"Unproduktive Stunden"}]
[{"$f":"$A$47","v":"   Absenzen, Kurzabsenzen Art. 11 GAV"},null,null,null,null,{"$f":"$F$47","v":"a"},{"$f":"IF($AJ$3=0,0,$AJ$3)","v":0},null,{"$f":"IF($AK$3=0,0,$AK$3)","v":0},null,{"$f":"IF($AL$3=0,0,$AL$3)","v":0},null,{"$f":"IF($AM$3=0,0,$AM$3)","v":0},null,{"$f":"IF($AN$3=0,0,$AN$3)","v":0},null,{"$f":"IF($AO$3=0,0,$AO$3)","v":0},null,{"$f":"IF($AP$3=0,0,$AP$3)","v":0},null,{"$f":"IF($AQ$3=0,0,$AQ$3)","v":0},null,{"$f":"IF($AR$3=0,0,$AR$3)","v":0},null,{"$f":"IF($AS$3=0,0,$AS$3)","v":0},null,{"$f":"IF(AT$3=0,0,$AT$3)","v":0},null,{"$f":"IF($AU$3=0,0,$AU$3)","v":0},null,{"$f":"IF($AV$3=0,0,$AV$3)","v":0}]
[{"$f":"$A$48","v":"   Ferien Art. 12.1 GAV"},null,null,null,null,{"$f":"$F$48","v":"f"},{"$f":"IF($AJ$4=0,0,$AJ$4)","v":0},null,{"$f":"IF($AK$4=0,0,$AK$4)","v":0},null,{"$f":"IF($AL$4=0,0,$AL$4)","v":0},null,{"$f":"IF($AM$4=0,0,$AM$4)","v":0},null,{"$f":"IF($AN$4=0,0,$AN$4)","v":0},null,{"$f":"IF($AO$4=0,0,$AO$4)","v":0},null,{"$f":"IF($AP$4=0,0,$AP$4)","v":0},null,{"$f":"IF($AQ$4=0,0,$AQ$4)","v":0},null,{"$f":"IF($AR$4=0,0,$AR$4)","v":0},null,{"$f":"IF($AS$4=0,0,$AS$4)","v":0},null,{"$f":"IF($AT$4=0,0,$AT$4)","v":0},null,{"$f":"IF($AU$4=0,0,$AU$4)","v":0},null,{"$f":"IF($AV$4=0,0,$AV$4)","v":0}]
[{"$f":"Labels!$B$181","v":"   Ferien unbezahlt"},null,null,null,null,{"$f":"Labels!$B$182","v":"fu"},{"$f":"IF($AJ$13=0,0,$AJ$13)","v":0},null,{"$f":"IF($AK$13=0,0,$AK$13)","v":0},null,{"$f":"IF($AL$13=0,0,$AL$13)","v":0},null,{"$f":"IF($AM$13=0,0,$AM$13)","v":0},null,{"$f":"IF($AN$13=0,0,$AN$13)","v":0},null,{"$f":"IF($AO$13=0,0,$AO$13)","v":0},null,{"$f":"IF($AP$13=0,0,$AP$13)","v":0},null,{"$f":"IF($AQ$13=0,0,$AQ$13)","v":0},null,{"$f":"IF($AR$13=0,0,$AR$13)","v":0},null,{"$f":"IF($AS$13=0,0,$AS$13)","v":0},null,{"$f":"IF($AT$13=0,0,$AT$13)","v":0},null,{"$f":"IF($AU$13=0,0,$AU$13)","v":0},null,{"$f":"IF($AV$13=0,0,$AV$13)","v":0}]
[{"$f":"$A$50","v":"   Feiertage Art. 12.2 GAV"},null,{"$f":"IF($AJ$18=\"\",\"\",$AJ$18)","v":""},null,null,{"$f":"$F$50","v":"ft"},{"$f":"IF($AJ$16=0,0,$AJ$16)","v":0},null,{"$f":"IF($AK$16=0,0,$AK$16)","v":0},null,{"$f":"IF($AL$16=0,0,$AL$16)","v":0},null,{"$f":"IF($AM$16=0,0,$AM$16)","v":0},null,{"$f":"IF($AN$16=0,0,$AN$16)","v":0},null,{"$f":"IF($AO$16=0,0,$AO$16)","v":0},null,{"$f":"IF($AP$16=0,0,$AP$16)","v":0},null,{"$f":"IF($AQ$16=0,0,$AQ$16)","v":0},null,{"$f":"IF($AR$16=0,0,$AR$16)","v":0},null,{"$f":"IF($AS$16=0,0,$AS$16)","v":0},null,{"$f":"IF($AT$16=0,0,$AT$16)","v":0},null,{"$f":"IF($AU$16=0,0,$AU$16)","v":0},null,{"$f":"IF($AV$16=0,0,$AV$16)","v":0}]
[{"$f":"$A$51","v":"   Krankheit Art. 13 GAV"},null,null,null,null,{"$f":"$F$51","v":"k"},{"$f":"IF($AJ$5=0,0,$AJ$5)","v":0},null,{"$f":"IF($AK$5=0,0,$AK$5)","v":0},null,{"$f":"IF($AL$5=0,0,$AL$5)","v":0},null,{"$f":"IF($AM$5=0,0,$AM$5)","v":0},null,{"$f":"IF($AN$5=0,0,$AN$5)","v":0},null,{"$f":"IF($AO$5=0,0,$AO$5)","v":0},null,{"$f":"IF($AP$5=0,0,$AP$5)","v":0},null,{"$f":"IF($AQ$5=0,0,$AQ$5)","v":0},null,{"$f":"IF($AR$5=0,0,$AR$5)","v":0},null,{"$f":"IF($AS$5=0,0,$AS$5)","v":0},null,{"$f":"IF($AT$5=0,0,$AT$5)","v":0},null,{"$f":"IF($AU$5=0,0,$AU$5)","v":0},null,{"$f":"IF($AV$5=0,0,$AV$5)","v":0}]
[{"$f":"$A$52","v":"   Unfall Art. 14 GAV"},null,null,null,null,{"$f":"$F$52","v":"u"},{"$f":"IF($AJ$6=0,0,$AJ$6)","v":0},null,{"$f":"IF($AK$6=0,0,$AK$6)","v":0},null,{"$f":"IF($AL$6=0,0,$AL$6)","v":0},null,{"$f":"IF($AM$6=0,0,$AM$6)","v":0},null,{"$f":"IF($AN$6=0,0,$AN$6)","v":0},null,{"$f":"IF($AO$6=0,0,$AO$6)","v":0},null,{"$f":"IF($AP$6=0,0,$AP$6)","v":0},null,{"$f":"IF($AQ$6=0,0,$AQ$6)","v":0},null,{"$f":"IF($AR$6=0,0,$AR$6)","v":0},null,{"$f":"IF($AS$6=0,0,$AS$6)","v":0},null,{"$f":"IF($AT$6=0,0,$AT$6)","v":0},null,{"$f":"IF($AU$6=0,0,$AU$6)","v":0},null,{"$f":"IF($AV$6=0,0,$AV$6)","v":0}]
[{"$f":"$A$53","v":"   Schwangerschaft/Mutterschaft Art. 15 GAV"},null,null,null,null,{"$f":"$F$53","v":"s"},{"$f":"IF($AJ$7=0,0,$AJ$7)","v":0},null,{"$f":"IF($AK$7=0,0,$AK$7)","v":0},null,{"$f":"IF($AL$7=0,0,$AL$7)","v":0},null,{"$f":"IF($AM$7=0,0,$AM$7)","v":0},null,{"$f":"IF($AN$7=0,0,$AN$7)","v":0},null,{"$f":"IF($AO$7=0,0,$AO$7)","v":0},null,{"$f":"IF($AP$7=0,0,$AP$7)","v":0},null,{"$f":"IF($AQ$7=0,0,$AQ$7)","v":0},null,{"$f":"IF($AR$7=0,0,$AR$7)","v":0},null,{"$f":"IF($AS$7=0,0,$AS$7)","v":0},null,{"$f":"IF($AT$7=0,0,$AT$7)","v":0},null,{"$f":"IF($AU$7=0,0,$AU$7)","v":0},null,{"$f":"IF($AV$7=0,0,$AV$7)","v":0}]
[{"$f":"$A$54","v":"   Militär/Beförderung/Zivilschutz Art. 16 GAV"},null,null,null,null,{"$f":"$F$54","v":"m"},{"$f":"IF($AJ$8=0,0,$AJ$8)","v":0},null,{"$f":"IF($AK$8=0,0,$AK$8)","v":0},null,{"$f":"IF($AL$8=0,0,$AL$8)","v":0},null,{"$f":"IF($AM$8=0,0,$AM$8)","v":0},null,{"$f":"IF($AN$8=0,0,$AN$8)","v":0},null,{"$f":"IF($AO$8=0,0,$AO$8)","v":0},null,{"$f":"IF($AP$8=0,0,$AP$8)","v":0},null,{"$f":"IF($AQ$8=0,0,$AQ$8)","v":0},null,{"$f":"IF($AR$8=0,0,$AR$8)","v":0},null,{"$f":"IF($AS$8=0,0,$AS$8)","v":0},null,{"$f":"IF($AT$8=0,0,$AT$8)","v":0},null,{"$f":"IF($AU$8=0,0,$AU$8)","v":0},null,{"$f":"IF($AV$8=0,0,$AV$8)","v":0}]
[{"$f":"$A$55","v":"   Kurzarbeit und Schlechtwetterausfälle"},null,null,null,null,{"$f":"$F$55","v":"ka"},{"$f":"IF($AJ$11=0,0,$AJ$11)","v":0},null,{"$f":"IF($AK$11=0,0,$AK$11)","v":0},null,{"$f":"IF($AL$11=0,0,$AL$11)","v":0},null,{"$f":"IF($AM$11=0,0,$AM$11)","v":0},null,{"$f":"IF($AN$11=0,0,$AN$11)","v":0},null,{"$f":"IF($AO$11=0,0,$AO$11)","v":0},null,{"$f":"IF($AP$11=0,0,$AP$11)","v":0},null,{"$f":"IF($AQ$11=0,0,$AQ$11)","v":0},null,{"$f":"IF($AR$11=0,0,$AR$11)","v":0},null,{"$f":"IF($AS$11=0,0,$AS$11)","v":0},null,{"$f":"IF($AT$11=0,0,$AT$11)","v":0},null,{"$f":"IF($AU$11=0,0,$AU$11)","v":0},null,{"$f":"IF($AV$11=0,0,$AV$11)","v":0}]
[{"$f":"$A$56","v":"   Berufsschule"},null,null,null,null,{"$f":"$F$56","v":"bs"},{"$f":"IF($AJ$9=0,0,$AJ$9)","v":0},null,{"$f":"IF($AK$9=0,0,$AK$9)","v":0},null,{"$f":"IF($AL$9=0,0,$AL$9)","v":0},null,{"$f":"IF($AM$9=0,0,$AM$9)","v":0},null,{"$f":"IF($AN$9=0,0,$AN$9)","v":0},null,{"$f":"IF($AO$9=0,0,$AO$9)","v":0},null,{"$f":"IF($AP$9=0,0,$AP$9)","v":0},null,{"$f":"IF($AQ$9=0,0,$AQ$9)","v":0},null,{"$f":"IF($AR$9=0,0,$AR$9)","v":0},null,{"$f":"IF($AS$9=0,0,$AS$9)","v":0},null,{"$f":"IF($AT$9=0,0,$AT$9)","v":0},null,{"$f":"IF($AU$9=0,0,$AU$9)","v":0},null,{"$f":"IF($AV$9=0,0,$AV$9)","v":0}]
[{"$f":"$A$57","v":"   Kurse"},null,null,null,null,{"$f":"$F$57","v":"ku"},{"$f":"IF($AJ$10=0,0,$AJ$10)","v":0},null,{"$f":"IF($AK$10=0,0,$AK$10)","v":0},null,{"$f":"IF($AL$10=0,0,$AL$10)","v":0},null,{"$f":"IF($AM$10=0,0,$AM$10)","v":0},null,{"$f":"IF($AN$10=0,0,$AN$10)","v":0},null,{"$f":"IF($AO$10=0,0,$AO$10)","v":0},null,{"$f":"IF($AP$10=0,0,$AP$10)","v":0},null,{"$f":"IF($AQ$10=0,0,$AQ$10)","v":0},null,{"$f":"IF($AR$10=0,0,$AR$10)","v":0},null,{"$f":"IF($AS$10=0,0,$AS$10)","v":0},null,{"$f":"IF($AT$10=0,0,$AT$10)","v":0},null,{"$f":"IF($AU$10=0,0,$AU$10)","v":0},null,{"$f":"IF($AV$10=0,0,$AV$10)","v":0}]
[{"$f":"$A$58","v":"Kompensations-Std"},{"$f":"$B$58","v":"aus Vorjahr"},null,null,null,{"$f":"$F$58","v":"kv"},{"$f":"IF($AJ$12=0,0,$AJ$12)","v":0},null,{"$f":"IF($AK$12=0,0,$AK$12)","v":0},null,{"$f":"IF($AL$12=0,0,$AL$12)","v":0},null,{"$f":"IF($AM$12=0,0,$AM$12)","v":0},null,{"$f":"IF($AN$12=0,0,$AN$12)","v":0},null,{"$f":"IF($AO$12=0,0,$AO$12)","v":0},null,{"$f":"IF($AP$12=0,0,$AP$12)","v":0},null,{"$f":"IF($AQ$12=0,0,$AQ$12)","v":0},null,{"$f":"IF($AR$12=0,0,$AR$12)","v":0},null,null,null,null,null,null,null,{"$f":"IF($AV$12=0,0,$AV$12)","v":0}]
[null,{"$f":"$B$59","v":"aus laufendem Jahr (Kontrolle)"},null,null,null,{"$f":"$F$59","v":"kj"},{"$f":"IF($AJ$15=0,0,$AJ$15)","v":0},null,{"$f":"IF($AK$15=0,0,$AK$15)","v":0},null,{"$f":"IF($AL$15=0,0,$AL$15)","v":0},null,{"$f":"IF($AM$15=0,0,$AM$15)","v":0},null,{"$f":"IF($AN$15=0,0,$AN$15)","v":0},null,{"$f":"IF($AO$15=0,0,$AO$15)","v":0},null,{"$f":"IF($AP$15=0,0,$AP$15)","v":0},null,{"$f":"IF($AQ$15=0,0,$AQ$15)","v":0},null,{"$f":"IF($AR$15=0,0,$AR$15)","v":0},null,{"$f":"IF($AS$15=0,0,$AS$15)","v":0},null,{"$f":"IF($AT$15=0,0,$AT$15)","v":0},null,{"$f":"IF($AU$15=0,0,$AU$15)","v":0},null,{"$f":"IF($AV$15=0,0,$AV$15)","v":0}]
[{"$f":"$A$60","v":"Auszahlung"},{"$f":"$B$60","v":"Stunden Vorjahressaldo"},null,null,null,null,{"$f":"IF($AJ$19=0,0,$AJ$19)","v":0},null,{"$f":"IF($AK$19=0,0,$AK$19)","v":0},null,{"$f":"IF($AL$19=0,0,$AL$19)","v":0},null,{"$f":"IF($AM$19=0,0,$AM$19)","v":0},null,{"$f":"IF($AN$19=0,0,$AN$19)","v":0},null,{"$f":"IF($AO$19=0,0,$AO$19)","v":0},null,{"$f":"IF($AP$19=0,0,$AP$19)","v":0},null,{"$f":"IF($AQ$19=0,0,$AQ$19)","v":0},null,{"$f":"IF($AR$19=0,0,$AR$19)","v":0},null,null,null,null,null,null,null,{"$f":"IF($AV$19=0,0,$AV$19)","v":0}]
[{"$f":"$A$61","v":"Differenz"},{"$f":"$B$61","v":"nach Kompensation und Auszahlung"},null,null,null,null,{"$f":"IF(ROUND($P$4,3)=0,0,$P$4-SUM(G314+G316))","v":0},null,{"$f":"IF(ROUND(G317,3)=0,0,G317-(SUM(I316+I314)))","v":0},null,{"$f":"IF(ROUND(I317,3)=0,0,I317-(SUM(K316+K314)))","v":0},null,{"$f":"IF(ROUND(K317,3)=0,0,K317-(SUM(M316+M314)))","v":0},null,{"$f":"IF(ROUND(M317,3)=0,0,M317-(SUM(O316+O314)))","v":0},null,{"$f":"IF(ROUND(O317,3)=0,0,O317-(SUM(Q316+Q314)))","v":0},null,{"$f":"IF(ROUND(Q317,3)=0,0,Q317-(SUM(S316+S314)))","v":0},null,{"$f":"IF(ROUND(S317,3)=0,0,S317-(SUM(U316+U314)))","v":0},null,{"$f":"IF(ROUND(U317,3)=0,0,U317-(SUM(W316+W314)))","v":0},null,{"$f":"$Y$61","v":""}]
[{"$f":"$A$62","v":"Auszahlung"},{"$f":"$B$62","v":"Stunden laufendes Jahr"},null,null,null,null,{"$f":"IF($AJ$20=0,0,$AJ$20)","v":0},null,{"$f":"IF($AK$20=0,0,$AK$20)","v":0},null,{"$f":"IF($AL$20=0,0,$AL$20)","v":0},null,{"$f":"IF($AM$20=0,0,$AM$20)","v":0},null,{"$f":"IF($AN$20=0,0,$AN$20)","v":0},null,{"$f":"IF($AO$20=0,0,$AO$20)","v":0},null,{"$f":"IF($AP$20=0,0,$AP$20)","v":0},null,{"$f":"IF($AQ$20=0,0,$AQ$20)","v":0},null,{"$f":"IF($AR$20=0,0,$AR$20)","v":0},null,{"$f":"IF($AS$20=0,0,$AS$20)","v":0},null,{"$f":"IF($AT$20=0,0,$AT$20)","v":0},null,{"$f":"IF($AU$20=0,0,$AU$20)","v":0},null,{"$f":"IF($AV$20=0,0,$AV$20)","v":0}]
[{"$f":"$A$63","v":"Fehlstunden"},{"$f":"$B$63","v":"laufendes Jahr (Kontrolle)"},null,null,null,{"$f":"$F$63","v":"fe"},{"$f":"IF($AJ$14=0,0,$AJ$14)","v":0},null,{"$f":"IF($AK$14=0,0,$AK$14)","v":0},null,{"$f":"IF($AL$14=0,0,$AL$14)","v":0},null,{"$f":"IF($AM$14=0,0,$AM$14)","v":0},null,{"$f":"IF($AN$14=0,0,$AN$14)","v":0},null,{"$f":"IF($AO$14=0,0,$AO$14)","v":0},null,{"$f":"IF($AP$14=0,0,$AP$14)","v":0},null,{"$f":"IF($AQ$14=0,0,$AQ$14)","v":0},null,{"$f":"IF($AR$14=0,0,$AR$14)","v":0},null,{"$f":"IF($AS$14=0,0,$AS$14)","v":0},null,{"$f":"IF($AT$14=0,0,$AT$14)","v":0},null,{"$f":"IF($AU$14=0,0,$AU$14)","v":0},null,{"$f":"IF($AV$14=0,0,$AV$14)","v":0}]
[{"$f":"$A$64","v":"Total inkl. Zeitzuschläge"},{"$f":"$B$64","v":"Stunden produktiv und unproduktiv"},null,null,null,null,{"$f":"IF($AG$36=0,0,$AG$36)","v":0},null,{"$f":"IF($AG$99=0,0,$AG$99)","v":0},null,{"$f":"IF($AG$163=0,0,$AG$163)","v":0},null,{"$f":"IF($AG$227=0,0,$AG$227)","v":0},null,{"$f":"IF($AG$291=0,0,$AG$291)","v":0},null,{"$f":"IF($AG$355=0,0,$AG$355)","v":0},null,{"$f":"IF($AG$419=0,0,$AG$419)","v":0},null,{"$f":"IF($AG$483=0,0,$AG$483)","v":0},null,{"$f":"IF($AG$547=0,0,$AG$547)","v":0},null,{"$f":"IF($AG$611=0,0,$AG$611)","v":0},null,{"$f":"IF($AG$675=0,0,$AG$675)","v":0},null,{"$f":"IF($AG$739=0,0,$AG$739)","v":0},null,{"$f":"SUM($G$64:$AD$64)","v":0}]
[{"$f":"$A$65","v":"Vergleich"},{"$f":"$B$65","v":"Stunden zu Soll-Stunden (inkl. allfälli-\nge Minusstunden Vorjahr)"},null,null,null,null,{"$f":"$G$65","v":-168},null,{"$f":"$I$65","v":-160},null,{"$f":"$K$65","v":-184},null,{"$f":"$M$65","v":-168},null,{"$f":"$O$65","v":-176},null,{"$f":"$Q$65","v":-176},null,{"$f":"$S$65","v":-168},null,{"$f":"$U$65","v":-184},null,{"$f":"$W$65","v":-176},null,{"$f":"$Y$65","v":-168},null,{"$f":"$AA$65","v":-176},null,{"$f":"$AC$65","v":-176},null,{"$f":"$AE$65","v":-2080}]
[null,{"$f":"$B$66","v":"Stunden zu Soll-Stunden (kumuliert)"},null,null,null,null,{"$f":"$G$66","v":-168},null,{"$f":"$I$66","v":-328},null,{"$f":"$K$66","v":-512},null,{"$f":"$M$66","v":-680},null,{"$f":"$O$66","v":-856},null,{"$f":"$Q$66","v":-1032},null,{"$f":"$S$66","v":-1200},null,{"$f":"$U$66","v":-1384},null,{"$f":"$W$66","v":-1560},null,{"$f":"$Y$66","v":-1728},null,{"$f":"$AA$66","v":-1904},null,{"$f":"$AC$66","v":-2080},null,{"$f":"$AE$66","v":0}]
[{"$f":"$A$67","v":"Ferienkontrolle"},{"$f":"$B$67","v":"Ferienguthaben Vorjahr"},null,null,null,null,{"$f":"IF($AA$4=0,0,$AA$4)","v":0},null,{"$f":"$I$67","v":"Ferienguthaben nach \nArt. 12.1 GAV"},null,null,null,{"$f":"IF($AA$5=0,0,$AA$5)","v":0},null,{"$f":"$O$67","v":"Ferienguthaben total"},null,null,null,{"$f":"SUM(G323+M323)","v":0},null,{"$f":"$U$67","v":"Ferien bezogen"},null,null,null,{"$f":"IF($AV$4=0,0,$AV$4)","v":0},null,{"$f":"$AA$67","v":"Aktuelles Ferienguthaben"},null,null,null,{"$f":"IF(S323=0,0,S323-Y323)","v":0}]
[]
[]
[{"$f":"$A$3","v":"Mitarbeiter/In"},{"$f":"IF($B$3=\"\",\"\",$B$3)","v":"Muster Peter"},null,null,null,null,null,null,null,null,null,null,null,null,null,null,null,null,null,null,null,null,null,null,null,null,null,null,null,null,null,{"$f":"AF3","v":0}]
[{"$f":"$A$4","v":"Anstellung %"},{"$f":"$AL$49","v":100},null,{"$f":"Labels!B94","v":"im Juni"}]
[{"$f":"$A$5","v":"Saldo für das Jahr"},null,null,{"$f":"IF($AE$65=0,0,$AE$65)","v":-2080}]
[{"$f":"TEXT(DATE(YEAR(AP29),MONTH(AP29)+5,1),\"MMMM\"&Labels!B13)","v":"Juni"},{"$f":"$B$9","v":"Saldo Monat + / -"},null,null,null,{"$f":"(AG331-(SUM(AG332:AG346)-AE354))*-1","v":-176},null,null,null,null,{"$f":"$K$9","v":" = "},{"$f":"$L$9","v":"Gelbe Felder müssen ausgefüllt werden (die übrigen werden automatisch berechnet)"},null,null,null,null,null,null,null,null,null,null,null,null,null,null,null,null,null,null,null,null,{"$f":"COUNT(B332:AF332)&\" \"&Labels!$B$63","v":"22 Tage"}]
[{"$f":"$A$10","v":"Tag"},{"$f":"AF266+1","v":"2022-06-01"},{"$f":"B330+1","v":"2022-06-02"},{"$f":"C330+1","v":"2022-06-03"},"2022-06-04","2022-06-05","2022-06-06","2022-06-07","2022-06-08","2022-06-09","2022-06-10","2022-06-11","2022-06-12","2022-06-13","2022-06-14","2022-06-15","2022-06-16","2022-06-17","2022-06-18","2022-06-19","2022-06-20","2022-06-21","2022-06-22","2022-06-23","2022-06-24","2022-06-25","2022-06-26","2022-06-27","2022-06-28","2022-06-29","2022-06-30"]
[{"$f":"$A$11","v":"Kalenderwoche"},{"$f":"IF(B330=\"\",\"\",TRUNC((B330-DATE(YEAR(B330+3-MOD(B330-2,7)),1,MOD(B330-2,7)-9))/7))","v":22},22,22,22,22,23,23,23,23,23,23,23,24,24,24,24,24,24,24,25,25,25,25,25,25,25,26,26,26,26,"",{"$f":"SUM(B332:AF332)","v":176}]
[{"$f":"$A$12","v":"Sollstunden"},{"$f":"IF(AND(MOD(B330,7)>=2,SUMPRODUCT(($AM$56:$AQ$56=MOD(B330,7))*$AM$49:$AQ$49)),($J$7*5/$AR$49)*$B$327%,\"\")","v":8},{"$f":"IF(AND(MOD(C330,7)>=2,SUMPRODUCT(($AM$56:$AQ$56=MOD(C330,7))*$AM$49:$AQ$49)),($J$7*5/$AR$49)*$B$327%,\"\")","v":8},{"$f":"IF(AND(MOD(D330,7)>=2,SUMPRODUCT(($AM$56:$AQ$56=MOD(D330,7))*$AM$49:$AQ$49)),($J$7*5/$AR$49)*$B$327%,\"\")","v":8},{"$f":"IF(AND(MOD(E330,7)>=2,SUMPRODUCT(($AM$56:$AQ$56=MOD(E330,7))*$AM$49:$AQ$49)),($J$7*5/$AR$49)*$B$327%,\"\")","v":""},{"$f":"IF(AND(MOD(F330,7)>=2,SUMPRODUCT(($AM$56:$AQ$56=MOD(F330,7))*$AM$49:$AQ$49)),($J$7*5/$AR$49)*$B$327%,\"\")","v":""},{"$f":"IF(AND(MOD(G330,7)>=2,SUMPRODUCT(($AM$56:$AQ$56=MOD(G330,7))*$AM$49:$AQ$49)),($J$7*5/$AR$49)*$B$327%,\"\")","v":8},{"$f":"IF(AND(MOD(H330,7)>=2,SUMPRODUCT(($AM$56:$AQ$56=MOD(H330,7))*$AM$49:$AQ$49)),($J$7*5/$AR$49)*$B$327%,\"\")","v":8},{"$f":"IF(AND(MOD(I330,7)>=2,SUMPRODUCT(($AM$56:$AQ$56=MOD(I330,7))*$AM$49:$AQ$49)),($J$7*5/$AR$49)*$B$327%,\"\")","v":8},{"$f":"IF(AND(MOD(J330,7)>=2,SUMPRODUCT(($AM$56:$AQ$56=MOD(J330,7))*$AM$49:$AQ$49)),($J$7*5/$AR$49)*$B$327%,\"\")","v":8},{"$f":"IF(AND(MOD(K330,7)>=2,SUMPRODUCT(($AM$56:$AQ$56=MOD(K330,7))*$AM$49:$AQ$49)),($J$7*5/$AR$49)*$B$327%,\"\")","v":8},{"$f":"IF(AND(MOD(L330,7)>=2,SUMPRODUCT(($AM$56:$AQ$56=MOD(L330,7))*$AM$49:$AQ$49)),($J$7*5/$AR$49)*$B$327%,\"\")","v":""},{"$f":"IF(AND(MOD(M330,7)>=2,SUMPRODUCT(($AM$56:$AQ$56=MOD(M330,7))*$AM$49:$AQ$49)),($J$7*5/$AR$49)*$B$327%,\"\")","v":""},{"$f":"IF(AND(MOD(N330,7)>=2,SUMPRODUCT(($AM$56:$AQ$56=MOD(N330,7))*$AM$49:$AQ$49)),($J$7*5/$AR$49)*$B$327%,\"\")","v":8},{"$f":"IF(AND(MOD(O330,7)>=2,SUMPRODUCT(($AM$56:$AQ$56=MOD(O330,7))*$AM$49:$AQ$49)),($J$7*5/$AR$49)*$B$327%,\"\")","v":8},{"$f":"IF(AND(MOD(P330,7)>=2,SUMPRODUCT(($AM$56:$AQ$56=MOD(P330,7))*$AM$49:$AQ$49)),($J$7*5/$AR$49)*$B$327%,\"\")","v":8},{"$f":"IF(AND(MOD(Q330,7)>=2,SUMPRODUCT(($AM$56:$AQ$56=MOD(Q330,7))*$AM$49:$AQ$49)),($J$7*5/$AR$49)*$B$327%,\"\")","v":8},{"$f":"IF(AND(MOD(R330,7)>=2,SUMPRODUCT(($AM$56:$AQ$56=MOD(R330,7))*$AM$49:$AQ$49)),($J$7*5/$AR$49)*$B$327%,\"\")","v":8},{"$f":"IF(AND(MOD(S330,7)>=2,SUMPRODUCT(($AM$56:$AQ$56=MOD(S330,7))*$AM$49:$AQ$49)),($J$7*5/$AR$49)*$B$327%,\"\")","v":""},{"$f":"IF(AND(MOD(T330,7)>=2,SUMPRODUCT(($AM$56:$AQ$56=MOD(T330,7))*$AM$49:$AQ$49)),($J$7*5/$AR$49)*$B$327%,\"\")","v":""},{"$f":"IF(AND(MOD(U330,7)>=2,SUMPRODUCT(($AM$56:$AQ$56=MOD(U330,7))*$AM$49:$AQ$49)),($J$7*5/$AR$49)*$B$327%,\"\")","v":8},{"$f":"IF(AND(MOD(V330,7)>=2,SUMPRODUCT(($AM$56:$AQ$56=MOD(V330,7))*$AM$49:$AQ$49)),($J$7*5/$AR$49)*$B$327%,\"\")","v":8},{"$f":"IF(AND(MOD(W330,7)>=2,SUMPRODUCT(($AM$56:$AQ$56=MOD(W330,7))*$AM$49:$AQ$49)),($J$7*5/$AR$49)*$B$327%,\"\")","v":8},{"$f":"IF(AND(MOD(X330,7)>=2,SUMPRODUCT(($AM$56:$AQ$56=MOD(X330,7))*$AM$49:$AQ$49)),($J$7*5/$AR$49)*$B$327%,\"\")","v":8},{"$f":"IF(AND(MOD(Y330,7)>=2,SUMPRODUCT(($AM$56:$AQ$56=MOD(Y330,7))*$AM$49:$AQ$49)),($J$7*5/$AR$49)*$B$327%,\"\")","v":8},{"$f":"IF(AND(MOD(Z330,7)>=2,SUMPRODUCT(($AM$56:$AQ$56=MOD(Z330,7))*$AM$49:$AQ$49)),($J$7*5/$AR$49)*$B$327%,\"\")","v":""},{"$f":"IF(AND(MOD(AA330,7)>=2,SUMPRODUCT(($AM$56:$AQ$56=MOD(AA330,7))*$AM$49:$AQ$49)),($J$7*5/$AR$49)*$B$327%,\"\")","v":""},{"$f":"IF(AND(MOD(AB330,7)>=2,SUMPRODUCT(($AM$56:$AQ$56=MOD(AB330,7))*$AM$49:$AQ$49)),($J$7*5/$AR$49)*$B$327%,\"\")","v":8},{"$f":"IF(AND(MOD(AC330,7)>=2,SUMPRODUCT(($AM$56:$AQ$56=MOD(AC330,7))*$AM$49:$AQ$49)),($J$7*5/$AR$49)*$B$327%,\"\")","v":8},{"$f":"IF(AND(MOD(AD330,7)>=2,SUMPRODUCT(($AM$56:$AQ$56=MOD(AD330,7))*$AM$49:$AQ$49)),($J$7*5/$AR$49)*$B$327%,\"\")","v":8},{"$f":"IF(AND(MOD(AE330,7)>=2,SUMPRODUCT(($AM$56:$AQ$56=MOD(AE330,7))*$AM$49:$AQ$49)),($J$7*5/$AR$49)*$B$327%,\"\")","v":8},null,{"$f":"SUM(AO3:AO13)","v":0}]
[{"$f":"$A$13","v":"Absenz in Std"},{"$f":"B946","v":0},{"$f":"C946","v":0},0,0,0,0,0,0,0,0,0,0,0,0,0,0,0,0,0,0,0,0,0,0,0,0,0,0,0,0]
[{"$f":"$A$14","v":"Code"},{"$f":"IF(B946<>0,IF(MAX(B933:B945)<B946,Labels!$B$163,INDEX($AH$932:$AH$944,MATCH(MAX(B933:B945),B933:B945,0))),\"\")","v":""},{"$f":"IF(C946<>0,IF(MAX(C933:C945)<C946,Labels!$B$163,INDEX($AH$932:$AH$944,MATCH(MAX(C933:C945),C933:C945,0))),\"\")","v":""},{"$f":"IF(D946<>0,IF(MAX(D933:D945)<D946,Labels!$B$163,INDEX($AH$932:$AH$944,MATCH(MAX(D933:D945),D933:D945,0))),\"\")","v":""},{"$f":"IF(E946<>0,IF(MAX(E933:E945)<E946,Labels!$B$163,INDEX($AH$932:$AH$944,MATCH(MAX(E933:E945),E933:E945,0))),\"\")","v":""},{"$f":"IF(F946<>0,IF(MAX(F933:F945)<F946,Labels!$B$163,INDEX($AH$932:$AH$944,MATCH(MAX(F933:F945),F933:F945,0))),\"\")","v":""},{"$f":"IF(G946<>0,IF(MAX(G933:G945)<G946,Labels!$B$163,INDEX($AH$932:$AH$944,MATCH(MAX(G933:G945),G933:G945,0))),\"\")","v":""},{"$f":"IF(H946<>0,IF(MAX(H933:H945)<H946,Labels!$B$163,INDEX($AH$932:$AH$944,MATCH(MAX(H933:H945),H933:H945,0))),\"\")","v":""},{"$f":"IF(I946<>0,IF(MAX(I933:I945)<I946,Labels!$B$163,INDEX($AH$932:$AH$944,MATCH(MAX(I933:I945),I933:I945,0))),\"\")","v":""},{"$f":"IF(J946<>0,IF(MAX(J933:J945)<J946,Labels!$B$163,INDEX($AH$932:$AH$944,MATCH(MAX(J933:J945),J933:J945,0))),\"\")","v":""},{"$f":"IF(K946<>0,IF(MAX(K933:K945)<K946,Labels!$B$163,INDEX($AH$932:$AH$944,MATCH(MAX(K933:K945),K933:K945,0))),\"\")","v":""},{"$f":"IF(L946<>0,IF(MAX(L933:L945)<L946,Labels!$B$163,INDEX($AH$932:$AH$944,MATCH(MAX(L933:L945),L933:L945,0))),\"\")","v":""},{"$f":"IF(M946<>0,IF(MAX(M933:M945)<M946,Labels!$B$163,INDEX($AH$932:$AH$944,MATCH(MAX(M933:M945),M933:M945,0))),\"\")","v":""},{"$f":"IF(N946<>0,IF(MAX(N933:N945)<N946,Labels!$B$163,INDEX($AH$932:$AH$944,MATCH(MAX(N933:N945),N933:N945,0))),\"\")","v":""},{"$f":"IF(O946<>0,IF(MAX(O933:O945)<O946,Labels!$B$163,INDEX($AH$932:$AH$944,MATCH(MAX(O933:O945),O933:O945,0))),\"\")","v":""},{"$f":"IF(P946<>0,IF(MAX(P933:P945)<P946,Labels!$B$163,INDEX($AH$932:$AH$944,MATCH(MAX(P933:P945),P933:P945,0))),\"\")","v":""},{"$f":"IF(Q946<>0,IF(MAX(Q933:Q945)<Q946,Labels!$B$163,INDEX($AH$932:$AH$944,MATCH(MAX(Q933:Q945),Q933:Q945,0))),\"\")","v":""},{"$f":"IF(R946<>0,IF(MAX(R933:R945)<R946,Labels!$B$163,INDEX($AH$932:$AH$944,MATCH(MAX(R933:R945),R933:R945,0))),\"\")","v":""},{"$f":"IF(S946<>0,IF(MAX(S933:S945)<S946,Labels!$B$163,INDEX($AH$932:$AH$944,MATCH(MAX(S933:S945),S933:S945,0))),\"\")","v":""},{"$f":"IF(T946<>0,IF(MAX(T933:T945)<T946,Labels!$B$163,INDEX($AH$932:$AH$944,MATCH(MAX(T933:T945),T933:T945,0))),\"\")","v":""},{"$f":"IF(U946<>0,IF(MAX(U933:U945)<U946,Labels!$B$163,INDEX($AH$932:$AH$944,MATCH(MAX(U933:U945),U933:U945,0))),\"\")","v":""},{"$f":"IF(V946<>0,IF(MAX(V933:V945)<V946,Labels!$B$163,INDEX($AH$932:$AH$944,MATCH(MAX(V933:V945),V933:V945,0))),\"\")","v":""},{"$f":"IF(W946<>0,IF(MAX(W933:W945)<W946,Labels!$B$163,INDEX($AH$932:$AH$944,MATCH(MAX(W933:W945),W933:W945,0))),\"\")","v":""},{"$f":"IF(X946<>0,IF(MAX(X933:X945)<X946,Labels!$B$163,INDEX($AH$932:$AH$944,MATCH(MAX(X933:X945),X933:X945,0))),\"\")","v":""},{"$f":"IF(Y946<>0,IF(MAX(Y933:Y945)<Y946,Labels!$B$163,INDEX($AH$932:$AH$944,MATCH(MAX(Y933:Y945),Y933:Y945,0))),\"\")","v":""},{"$f":"IF(Z946<>0,IF(MAX(Z933:Z945)<Z946,Labels!$B$163,INDEX($AH$932:$AH$944,MATCH(MAX(Z933:Z945),Z933:Z945,0))),\"\")","v":""},{"$f":"IF(AA946<>0,IF(MAX(AA933:AA945)<AA946,Labels!$B$163,INDEX($AH$932:$AH$944,MATCH(MAX(AA933:AA945),AA933:AA945,0))),\"\")","v":""},{"$f":"IF(AB946<>0,IF(MAX(AB933:AB945)<AB946,Labels!$B$163,INDEX($AH$932:$AH$944,MATCH(MAX(AB933:AB945),AB933:AB945,0))),\"\")","v":""},{"$f":"IF(AC946<>0,IF(MAX(AC933:AC945)<AC946,Labels!$B$163,INDEX($AH$932:$AH$944,MATCH(MAX(AC933:AC945),AC933:AC945,0))),\"\")","v":""},{"$f":"IF(AD946<>0,IF(MAX(AD933:AD945)<AD946,Labels!$B$163,INDEX($AH$932:$AH$944,MATCH(MAX(AD933:AD945),AD933:AD945,0))),\"\")","v":""},{"$f":"IF(AE946<>0,IF(MAX(AE933:AE945)<AE946,Labels!$B$163,INDEX($AH$932:$AH$944,MATCH(MAX(AE933:AE945),AE933:AE945,0))),\"\")","v":""},null,{"$f":"SUM(B335:AF335)","v":0}]
[{"$f":"$A$15","v":"00.00-06.00h"},null,null,null,null,null,null,null,null,null,null,null,null,null,null,null,null,null,null,null,null,null,null,null,null,null,null,null,null,null,null,null,{"$f":"SUM(B336:AF336)","v":0}]
[{"$f":"$A$16","v":"06.00-20.00h"},null,null,null,null,null,null,null,null,null,null,null,null,null,null,null,null,null,null,null,null,null,null,null,null,null,null,null,null,null,null,null,{"$f":"SUM(B337:AF337)","v":0},"[0]"]
[{"$f":"$A$17","v":"20.00-24.00h"}]
[{"$f":"$A$18","v":"Feiertag \"ft\""},{"$f":"IF(WEEKDAY(B330,2)<=6,IF(KALENDER!E13=\"x\",Labels!$B$118,\"\"),\"\")","v":""},{"$f":"IF(WEEKDAY(C330,2)<=6,IF(KALENDER!F13=\"x\",Labels!$B$118,\"\"),\"\")","v":""},{"$f":"IF(WEEKDAY(D330,2)<=6,IF(KALENDER!G13=\"x\",Labels!$B$118,\"\"),\"\")","v":""},{"$f":"IF(WEEKDAY(E330,2)<=6,IF(KALENDER!H13=\"x\",Labels!$B$118,\"\"),\"\")","v":""},{"$f":"IF(WEEKDAY(F330,2)<=6,IF(KALENDER!I13=\"x\",Labels!$B$118,\"\"),\"\")","v":""},{"$f":"IF(WEEKDAY(G330,2)<=6,IF(KALENDER!J13=\"x\",Labels!$B$118,\"\"),\"\")","v":""},{"$f":"IF(WEEKDAY(H330,2)<=6,IF(KALENDER!K13=\"x\",Labels!$B$118,\"\"),\"\")","v":""},{"$f":"IF(WEEKDAY(I330,2)<=6,IF(KALENDER!L13=\"x\",Labels!$B$118,\"\"),\"\")","v":""},{"$f":"IF(WEEKDAY(J330,2)<=6,IF(KALENDER!M13=\"x\",Labels!$B$118,\"\"),\"\")","v":""},{"$f":"IF(WEEKDAY(K330,2)<=6,IF(KALENDER!N13=\"x\",Labels!$B$118,\"\"),\"\")","v":""},{"$f":"IF(WEEKDAY(L330,2)<=6,IF(KALENDER!O13=\"x\",Labels!$B$118,\"\"),\"\")","v":""},{"$f":"IF(WEEKDAY(M330,2)<=6,IF(KALENDER!P13=\"x\",Labels!$B$118,\"\"),\"\")","v":""},{"$f":"IF(WEEKDAY(N330,2)<=6,IF(KALENDER!Q13=\"x\",Labels!$B$118,\"\"),\"\")","v":""},{"$f":"IF(WEEKDAY(O330,2)<=6,IF(KALENDER!R13=\"x\",Labels!$B$118,\"\"),\"\")","v":""},{"$f":"IF(WEEKDAY(P330,2)<=6,IF(KALENDER!S13=\"x\",Labels!$B$118,\"\"),\"\")","v":""},{"$f":"IF(WEEKDAY(Q330,2)<=6,IF(KALENDER!T13=\"x\",Labels!$B$118,\"\"),\"\")","v":""},{"$f":"IF(WEEKDAY(R330,2)<=6,IF(KALENDER!U13=\"x\",Labels!$B$118,\"\"),\"\")","v":""},{"$f":"IF(WEEKDAY(S330,2)<=6,IF(KALENDER!V13=\"x\",Labels!$B$118,\"\"),\"\")","v":""},{"$f":"IF(WEEKDAY(T330,2)<=6,IF(KALENDER!W13=\"x\",Labels!$B$118,\"\"),\"\")","v":""},{"$f":"IF(WEEKDAY(U330,2)<=6,IF(KALENDER!X13=\"x\",Labels!$B$118,\"\"),\"\")","v":""},{"$f":"IF(WEEKDAY(V330,2)<=6,IF(KALENDER!Y13=\"x\",Labels!$B$118,\"\"),\"\")","v":""},{"$f":"IF(WEEKDAY(W330,2)<=6,IF(KALENDER!Z13=\"x\",Labels!$B$118,\"\"),\"\")","v":""},{"$f":"IF(WEEKDAY(X330,2)<=6,IF(KALENDER!AA13=\"x\",Labels!$B$118,\"\"),\"\")","v":""},{"$f":"IF(WEEKDAY(Y330,2)<=6,IF(KALENDER!AB13=\"x\",Labels!$B$118,\"\"),\"\")","v":""},{"$f":"IF(WEEKDAY(Z330,2)<=6,IF(KALENDER!AC13=\"x\",Labels!$B$118,\"\"),\"\")","v":""},{"$f":"IF(WEEKDAY(AA330,2)<=6,IF(KALENDER!AD13=\"x\",Labels!$B$118,\"\"),\"\")","v":""},{"$f":"IF(WEEKDAY(AB330,2)<=6,IF(KALENDER!AE13=\"x\",Labels!$B$118,\"\"),\"\")","v":""},{"$f":"IF(WEEKDAY(AC330,2)<=6,IF(KALENDER!AF13=\"x\",Labels!$B$118,\"\"),\"\")","v":""},{"$f":"IF(WEEKDAY(AD330,2)<=6,IF(KALENDER!AG13=\"x\",Labels!$B$118,\"\"),\"\")","v":""},{"$f":"IF(WEEKDAY(AE330,2)<=6,IF(KALENDER!AH13=\"x\",Labels!$B$118,\"\"),\"\")","v":""},{"$f":"IF(WEEKDAY(AF330,2)<=6,IF(KALENDER!AI13=\"x\",Labels!$B$118,\"\"),\"\")","v":""},{"$f":"SUM(B339:AF339)","v":0}]
[{"$f":"$A$19","v":"Gutschrift \"ft\""},{"$f":"IF(AND(B338=Labels!$B$118,WEEKDAY(B330,2)<6,B$332<>\"\"),($J$7*5/$AR$49)*$B$327%,\"\")","v":""},{"$f":"IF(AND(C338=Labels!$B$118,WEEKDAY(C330,2)<6,C$332<>\"\"),($J$7*5/$AR$49)*$B$327%,\"\")","v":""},{"$f":"IF(AND(D338=Labels!$B$118,WEEKDAY(D330,2)<6,D$332<>\"\"),($J$7*5/$AR$49)*$B$327%,\"\")","v":""},{"$f":"IF(AND(E338=Labels!$B$118,WEEKDAY(E330,2)<6,E$332<>\"\"),($J$7*5/$AR$49)*$B$327%,\"\")","v":""},{"$f":"IF(AND(F338=Labels!$B$118,WEEKDAY(F330,2)<6,F$332<>\"\"),($J$7*5/$AR$49)*$B$327%,\"\")","v":""},{"$f":"IF(AND(G338=Labels!$B$118,WEEKDAY(G330,2)<6,G$332<>\"\"),($J$7*5/$AR$49)*$B$327%,\"\")","v":""},{"$f":"IF(AND(H338=Labels!$B$118,WEEKDAY(H330,2)<6,H$332<>\"\"),($J$7*5/$AR$49)*$B$327%,\"\")","v":""},{"$f":"IF(AND(I338=Labels!$B$118,WEEKDAY(I330,2)<6,I$332<>\"\"),($J$7*5/$AR$49)*$B$327%,\"\")","v":""},{"$f":"IF(AND(J338=Labels!$B$118,WEEKDAY(J330,2)<6,J$332<>\"\"),($J$7*5/$AR$49)*$B$327%,\"\")","v":""},{"$f":"IF(AND(K338=Labels!$B$118,WEEKDAY(K330,2)<6,K$332<>\"\"),($J$7*5/$AR$49)*$B$327%,\"\")","v":""},{"$f":"IF(AND(L338=Labels!$B$118,WEEKDAY(L330,2)<6,L$332<>\"\"),($J$7*5/$AR$49)*$B$327%,\"\")","v":""},{"$f":"IF(AND(M338=Labels!$B$118,WEEKDAY(M330,2)<6,M$332<>\"\"),($J$7*5/$AR$49)*$B$327%,\"\")","v":""},{"$f":"IF(AND(N338=Labels!$B$118,WEEKDAY(N330,2)<6,N$332<>\"\"),($J$7*5/$AR$49)*$B$327%,\"\")","v":""},{"$f":"IF(AND(O338=Labels!$B$118,WEEKDAY(O330,2)<6,O$332<>\"\"),($J$7*5/$AR$49)*$B$327%,\"\")","v":""},{"$f":"IF(AND(P338=Labels!$B$118,WEEKDAY(P330,2)<6,P$332<>\"\"),($J$7*5/$AR$49)*$B$327%,\"\")","v":""},{"$f":"IF(AND(Q338=Labels!$B$118,WEEKDAY(Q330,2)<6,Q$332<>\"\"),($J$7*5/$AR$49)*$B$327%,\"\")","v":""},{"$f":"IF(AND(R338=Labels!$B$118,WEEKDAY(R330,2)<6,R$332<>\"\"),($J$7*5/$AR$49)*$B$327%,\"\")","v":""},{"$f":"IF(AND(S338=Labels!$B$118,WEEKDAY(S330,2)<6,S$332<>\"\"),($J$7*5/$AR$49)*$B$327%,\"\")","v":""},{"$f":"IF(AND(T338=Labels!$B$118,WEEKDAY(T330,2)<6,T$332<>\"\"),($J$7*5/$AR$49)*$B$327%,\"\")","v":""},{"$f":"IF(AND(U338=Labels!$B$118,WEEKDAY(U330,2)<6,U$332<>\"\"),($J$7*5/$AR$49)*$B$327%,\"\")","v":""},{"$f":"IF(AND(V338=Labels!$B$118,WEEKDAY(V330,2)<6,V$332<>\"\"),($J$7*5/$AR$49)*$B$327%,\"\")","v":""},{"$f":"IF(AND(W338=Labels!$B$118,WEEKDAY(W330,2)<6,W$332<>\"\"),($J$7*5/$AR$49)*$B$327%,\"\")","v":""},{"$f":"IF(AND(X338=Labels!$B$118,WEEKDAY(X330,2)<6,X$332<>\"\"),($J$7*5/$AR$49)*$B$327%,\"\")","v":""},{"$f":"IF(AND(Y338=Labels!$B$118,WEEKDAY(Y330,2)<6,Y$332<>\"\"),($J$7*5/$AR$49)*$B$327%,\"\")","v":""},{"$f":"IF(AND(Z338=Labels!$B$118,WEEKDAY(Z330,2)<6,Z$332<>\"\"),($J$7*5/$AR$49)*$B$327%,\"\")","v":""},{"$f":"IF(AND(AA338=Labels!$B$118,WEEKDAY(AA330,2)<6,AA$332<>\"\"),($J$7*5/$AR$49)*$B$327%,\"\")","v":""},{"$f":"IF(AND(AB338=Labels!$B$118,WEEKDAY(AB330,2)<6,AB$332<>\"\"),($J$7*5/$AR$49)*$B$327%,\"\")","v":""},{"$f":"IF(AND(AC338=Labels!$B$118,WEEKDAY(AC330,2)<6,AC$332<>\"\"),($J$7*5/$AR$49)*$B$327%,\"\")","v":""},{"$f":"IF(AND(AD338=Labels!$B$118,WEEKDAY(AD330,2)<6,AD$332<>\"\"),($J$7*5/$AR$49)*$B$327%,\"\")","v":""},{"$f":"IF(AND(AE338=Labels!$B$118,WEEKDAY(AE330,2)<6,AE$332<>\"\"),($J$7*5/$AR$49)*$B$327%,\"\")","v":""},{"$f":"IF(AND(AF338=Labels!$B$118,WEEKDAY(AF330,2)<6),$J$7*$B$327%,\"\")","v":""}]
[{"$f":"$A$20","v":"Tagestotal"},{"$f":"SUM(B335:B337)","v":0},{"$f":"SUM(C335:C337)","v":0},0,0,0,0,0,0,0,0,0,0,0,0,0,0,0,0,0,0,0,0,0,0,0,0,0,0,0,0]
[{"$f":"$A$21","v":"."}]
[{"$f":"$A$22","v":"."}]
[{"$f":"$A$23","v":"Monatsübergang"},{"$f":"IF(WEEKDAY(B330)=1,TEXT(B330-1,\"MMM\"&Labels!B13),\"\")","v":""},null,null,null,null,null,null,null,null,null,null,null,null,null,null,null,null,null,null,null,null,null,null,null,null,null,null,null,null,{"$f":"IF(AND(WEEKDAY(AE330)>1,WEEKDAY(AE330)<7),TEXT(DATE($B$5,MONTH(AE330)+1,1),\"MMM\"&Labels!B13),\"\")","v":"Jul"}]
[{"$f":"$A$24","v":"Wochentotal"},{"$f":"IF(WEEKDAY(B330)=7,SUMIF($B267:$AF267,B331,$B276:$AF276)+SUMIF($B331:$AF331,B331,$B340:$AF340)+SUMIF($B395:$AF395,B331,$B404:$AF404),B343)","v":""},{"$f":"IF(WEEKDAY(C330)=7,SUMIF($B267:$AF267,C331,$B276:$AF276)+SUMIF($B331:$AF331,C331,$B340:$AF340)+SUMIF($B395:$AF395,C331,$B404:$AF404),\"\")","v":""},"",0,"","","","","","",0,"","","","","","",0,"","","","","","",0,"","","","",{"$f":"IF(WEEKDAY(AE330)=7,SUMIF($B267:$AF267,AE331,$B276:$AF276)+SUMIF($B331:$AF331,AE331,$B340:$AF340)+SUMIF($B395:$AF395,AE331,$B404:$AF404),AE343)","v":"Jul"},null,{"$f":"SUM(B345:AF345)","v":0}]
[{"$f":"$A$25","v":"Zeitzuschlag 1)"},{"$f":"IF(B352=\"FALSCH\",\"\",B352)","v":""},{"$f":"IF(C352=\"FALSCH\",\"\",C352)","v":""},"","","","","","","","","","","","","","","","","","","","","","","","","","","","",null,0,"[1]"]
[{"$f":"$A$26","v":"Zeitzuschlag 2)"},{"$f":"IF((B335+B337)=0,\"\",SUM(B335,B337))","v":""},{"$f":"IF((C335+C337)=0,\"\",SUM(C335,C337))","v":""},"","","","","","","","","","","","","","","","","","","","","","","","","","","","",null,{"$f":"SUM(B347:AF347)","v":0},"[2]"]
[{"$f":"$A$27","v":"Zeitzuschlag 3)"},{"$f":"SUM(B348:B351)","v":0},{"$f":"SUM(C348:C351)","v":0},0,0,0,0,0,0,0,0,0,0,0,0,0,0,0,0,0,0,0,0,0,0,0,0,0,0,0,0,null,0,"[3]"]
[{"$f":"$A$28","v":"Sonntag Tag"},{"$f":"IF(WEEKDAY(B330)=1,B336,\"\")","v":""},{"$f":"IF(WEEKDAY(C330)=1,C336,\"\")","v":""},"","",0,"","","","","","",0,"","","","","","",0,"","","","","","",0,"","","","",null,0,"[4]"]
[{"$f":"$A$29","v":"Sonntag Nacht"},{"$f":"IF(WEEKDAY(B330)=1,SUM(B335+B337),\"\")","v":""},{"$f":"IF(WEEKDAY(C330)=1,SUM(C335+C337),\"\")","v":""},"","",0,"","","","","","",0,"","","","","","",0,"","","","","","",0,"","","","",null,0,"[5]"]
[{"$f":"$A$30","v":"ft-Tazuschlag"},{"$f":"IF(B338=Labels!$B$118,B336,\"\")","v":""},{"$f":"IF(C338=Labels!$B$118,C336,\"\")","v":""},{"$f":"IF(D338=Labels!$B$118,D336,\"\")","v":""},{"$f":"IF(E338=Labels!$B$118,E336,\"\")","v":""},{"$f":"IF(F338=Labels!$B$118,F336,\"\")","v":""},{"$f":"IF(G338=Labels!$B$118,G336,\"\")","v":""},{"$f":"IF(H338=Labels!$B$118,H336,\"\")","v":""},{"$f":"IF(I338=Labels!$B$118,I336,\"\")","v":""},{"$f":"IF(J338=Labels!$B$118,J336,\"\")","v":""},{"$f":"IF(K338=Labels!$B$118,K336,\"\")","v":""},{"$f":"IF(L338=Labels!$B$118,L336,\"\")","v":""},{"$f":"IF(M338=Labels!$B$118,M336,\"\")","v":""},{"$f":"IF(N338=Labels!$B$118,N336,\"\")","v":""},{"$f":"IF(O338=Labels!$B$118,O336,\"\")","v":""},{"$f":"IF(P338=Labels!$B$118,P336,\"\")","v":""},{"$f":"IF(Q338=Labels!$B$118,Q336,\"\")","v":""},{"$f":"IF(R338=Labels!$B$118,R336,\"\")","v":""},{"$f":"IF(S338=Labels!$B$118,S336,\"\")","v":""},{"$f":"IF(T338=Labels!$B$118,T336,\"\")","v":""},{"$f":"IF(U338=Labels!$B$118,U336,\"\")","v":""},{"$f":"IF(V338=Labels!$B$118,V336,\"\")","v":""},{"$f":"IF(W338=Labels!$B$118,W336,\"\")","v":""},{"$f":"IF(X338=Labels!$B$118,X336,\"\")","v":""},{"$f":"IF(Y338=Labels!$B$118,Y336,\"\")","v":""},{"$f":"IF(Z338=Labels!$B$118,Z336,\"\")","v":""},{"$f":"IF(AA338=Labels!$B$118,AA336,\"\")","v":""},{"$f":"IF(AB338=Labels!$B$118,AB336,\"\")","v":""},{"$f":"IF(AC338=Labels!$B$118,AC336,\"\")","v":""},{"$f":"IF(AD338=Labels!$B$118,AD336,\"\")","v":""},{"$f":"IF(AE338=Labels!$B$118,AE336,\"\")","v":""},null,0,"[6]"]
[{"$f":"$A$31","v":"ft-Nazuschlag"},{"$f":"IF(B338=Labels!$B$118,SUM(B335,B337),\"\")","v":""},{"$f":"IF(C338=Labels!$B$118,SUM(C335,C337),\"\")","v":""},{"$f":"IF(D338=Labels!$B$118,SUM(D335,D337),\"\")","v":""},{"$f":"IF(E338=Labels!$B$118,SUM(E335,E337),\"\")","v":""},{"$f":"IF(F338=Labels!$B$118,SUM(F335,F337),\"\")","v":""},{"$f":"IF(G338=Labels!$B$118,SUM(G335,G337),\"\")","v":""},{"$f":"IF(H338=Labels!$B$118,SUM(H335,H337),\"\")","v":""},{"$f":"IF(I338=Labels!$B$118,SUM(I335,I337),\"\")","v":""},{"$f":"IF(J338=Labels!$B$118,SUM(J335,J337),\"\")","v":""},{"$f":"IF(K338=Labels!$B$118,SUM(K335,K337),\"\")","v":""},{"$f":"IF(L338=Labels!$B$118,SUM(L335,L337),\"\")","v":""},{"$f":"IF(M338=Labels!$B$118,SUM(M335,M337),\"\")","v":""},{"$f":"IF(N338=Labels!$B$118,SUM(N335,N337),\"\")","v":""},{"$f":"IF(O338=Labels!$B$118,SUM(O335,O337),\"\")","v":""},{"$f":"IF(P338=Labels!$B$118,SUM(P335,P337),\"\")","v":""},{"$f":"IF(Q338=Labels!$B$118,SUM(Q335,Q337),\"\")","v":""},{"$f":"IF(R338=Labels!$B$118,SUM(R335,R337),\"\")","v":""},{"$f":"IF(S338=Labels!$B$118,SUM(S335,S337),\"\")","v":""},{"$f":"IF(T338=Labels!$B$118,SUM(T335,T337),\"\")","v":""},{"$f":"IF(U338=Labels!$B$118,SUM(U335,U337),\"\")","v":""},{"$f":"IF(V338=Labels!$B$118,SUM(V335,V337),\"\")","v":""},{"$f":"IF(W338=Labels!$B$118,SUM(W335,W337),\"\")","v":""},{"$f":"IF(X338=Labels!$B$118,SUM(X335,X337),\"\")","v":""},{"$f":"IF(Y338=Labels!$B$118,SUM(Y335,Y337),\"\")","v":""},{"$f":"IF(Z338=Labels!$B$118,SUM(Z335,Z337),\"\")","v":""},{"$f":"IF(AA338=Labels!$B$118,SUM(AA335,AA337),\"\")","v":""},{"$f":"IF(AB338=Labels!$B$118,SUM(AB335,AB337),\"\")","v":""},{"$f":"IF(AC338=Labels!$B$118,SUM(AC335,AC337),\"\")","v":""},{"$f":"IF(AD338=Labels!$B$118,SUM(AD335,AD337),\"\")","v":""},{"$f":"IF(AE338=Labels!$B$118,SUM(AE335,AE337),\"\")","v":""},null,{"$f":"AG335","v":0},"[7]"]
[{"$f":"$A$32","v":"Zuschlag  blind (Wochentotal)"},{"$f":"IF(OR(ISTEXT(B344),B344=\"\",B344<$B$7),\"\",ROUND(((B344-$B$7)*25%)/25,4)*25)","v":""},{"$f":"IF(OR(ISTEXT(C344),C344=\"\",C344<$B$7),\"\",ROUND(((C344-$B$7)*25%)/25,4)*25)","v":""},"","","","","","","","","","","","","","","","","","","","","","","","","","","","",null,{"$f":"SUM(AG334+AG336)","v":0},"[8]"]
[null,{"$f":"$B$33","v":"1)   25% Zeitzuschlag für Überschreitung Wochentotal"},null,null,null,null,null,null,null,null,null,{"$f":"$L$33","v":"2) 100% Zeitzuschlag für Nachtarbeit"},null,null,null,null,null,null,null,{"$f":"$T$33","v":"Eingabe der ausbezahlten Stunden Vorjahressaldo"},null,null,null,null,null,null,null,null,null,null,null,null,{"$f":"SUM(AG334:AG336)","v":0},"[9]"]
[null,{"$f":"$B$34","v":"3) 100% Zeitzuschlag für Sonn- und Feiertagsarbeit"},null,null,null,null,null,null,null,null,null,null,null,null,null,null,null,null,null,{"$f":"$T$34","v":"Eingabe der ausbezahlten Stunden laufendes Jahr (Überstunden)"},null,null,null,null,null,null,null,null,null,null,null,null,{"$f":"SUM(AG332+AG338)","v":0},"[10]"]
[{"$f":"$A$35","v":"Bemerkungen"},null,null,null,null,null,null,null,null,null,null,null,null,null,null,null,null,null,null,null,null,null,null,null,null,null,null,null,null,null,null,null,{"$f":"SUM(AG332:AG346)","v":0},"[11]"]
[null,null,null,null,null,null,null,null,null,null,null,null,null,null,null,null,null,null,null,null,null,null,null,null,null,null,null,null,null,null,null,null,{"$f":"AG331","v":176}]
[null,null,null,null,null,null,null,null,null,null,null,null,null,null,null,null,null,null,null,null,null,null,null,null,null,null,null,null,null,null,null,null,{"$f":"SUM(AG355-AG331)","v":-176}]
[]
[{"$f":"$A$39","v":"Zusammenstellung"},null,null,null,null,null,{"$f":"$G$39","v":"Jan"},null,{"$f":"$I$39","v":"Feb"},null,{"$f":"$K$39","v":"Mrz"},null,{"$f":"$M$39","v":"Apr"},null,{"$f":"$O$39","v":"Mai"},null,{"$f":"$Q$39","v":"Jun"},null,{"$f":"$S$39","v":"Jul"},null,{"$f":"$U$39","v":"Aug"},null,{"$f":"$W$39","v":"Sep"},null,{"$f":"$Y$39","v":"Okt"},null,{"$f":"$AA$39","v":"Nov"},null,{"$f":"$AC$39","v":"Dez"},null,{"$f":"$AE$39","v":"Jahr"}]
[{"$f":"$A$40","v":"Anstellung %"},null,null,null,null,null,{"$f":"IF($B$4=0,0,$B$4)","v":100},null,{"$f":"IF($B$71=0,0,$B$71)","v":100},null,{"$f":"IF($B$135=0,0,$B$135)","v":100},null,{"$f":"IF($B$199=0,0,$B$199)","v":100},null,{"$f":"IF($B$263=0,0,$B$263)","v":100},null,{"$f":"IF($B$327=0,0,$B$327)","v":100},null,{"$f":"IF($B$391=0,0,$B$391)","v":100},null,{"$f":"IF($B$455=0,0,$B$455)","v":100},null,{"$f":"IF($B$519=0,0,$B$519)","v":100},null,{"$f":"IF($B$583=0,0,$B$583)","v":100},null,{"$f":"IF($B$647=0,0,$B$647)","v":100},null,{"$f":"IF($B$711=0,0,$B$711)","v":100}]
[{"$f":"$A$41","v":"Sollstunden gemäss GAV"},null,null,null,null,null,{"$f":"IF($AG$37=0,0,$AG$37)","v":168},null,{"$f":"IF($AG$100=0,0,$AG$100)","v":160},null,{"$f":"IF($AG$139=0,0,$AG$139)","v":184},null,{"$f":"IF($AG$228=0,0,$AG$228)","v":168},null,{"$f":"IF($AG$292=0,0,$AG$292)","v":176},null,{"$f":"IF($AG$356=0,0,$AG$356)","v":176},null,{"$f":"IF($AG$420=0,0,$AG$420)","v":168},null,{"$f":"IF($AG$484=0,0,$AG$484)","v":184},null,{"$f":"IF($AG$548=0,0,$AG$548)","v":176},null,{"$f":"IF($AG$612=0,0,$AG$612)","v":168},null,{"$f":"IF($AG$676=0,0,$AG$676)","v":176},null,{"$f":"IF($AG$740=0,0,$AG$740)","v":176},null,{"$f":"SUM(G361:AD361)","v":2080}]
[{"$f":"$A$42","v":"Produktive Stunden"},{"$f":"$B$42","v":"06.00 - 20.00 Uhr"},null,null,null,null,{"$f":"IF($AG$32=0,0,$AG$32)","v":0},null,{"$f":"IF($AG$95=0,0,$AG$95)","v":0},null,{"$f":"IF($AG$159=0,0,$AG$159)","v":0},null,{"$f":"IF($AG$223=0,0,$AG$223)","v":0},null,{"$f":"IF($AG$287=0,0,$AG$287)","v":0},null,{"$f":"IF($AG$351=0,0,$AG$351)","v":0},null,{"$f":"IF($AG$415=0,0,$AG$415)","v":0},null,{"$f":"IF($AG$479=0,0,$AG$479)","v":0},null,{"$f":"IF($AG$543=0,0,$AG$543)","v":0},null,{"$f":"IF($AG$607=0,0,$AG$607)","v":0},null,{"$f":"IF($AG$671=0,0,$AG$671)","v":0},null,{"$f":"IF($AG$735=0,0,$AG$735)","v":0},null,{"$f":"SUM(G362:AD362)","v":0}]
[null,{"$f":"$B$43","v":"Nacht-, Sonn-, Feiertagsarbeit"},null,null,null,null,{"$f":"IF($AG$33=0,0,$AG$33)","v":0},null,{"$f":"IF($AG$96=0,0,$AG$96)","v":0},null,{"$f":"IF($AG$160=0,0,$AG$160)","v":0},null,{"$f":"IF($AG$224=0,0,$AG$224)","v":0},null,{"$f":"IF($AG$288=0,0,$AG$288)","v":0},null,{"$f":"IF($AG$352=0,0,$AG$352)","v":0},null,{"$f":"IF($AG$416=0,0,$AG$416)","v":0},null,{"$f":"IF($AG$480=0,0,$AG$480)","v":0},null,{"$f":"IF($AG$544=0,0,$AG$544)","v":0},null,{"$f":"IF($AG$608=0,0,$AG$608)","v":0},null,{"$f":"IF($AG$672=0,0,$AG$672)","v":0},null,{"$f":"IF($AG$736=0,0,$AG$736)","v":0},null,{"$f":"SUM(G363:AD363)","v":0}]
[{"$f":"$A$44","v":"Zeitzuschläge"},{"$f":"$B$44","v":"aus Wochentotal"},null,null,null,null,{"$f":"IF($AG$25=0,0,$AG$25)","v":0},null,{"$f":"IF($AG$88=0,0,$AG$88)","v":0},null,{"$f":"IF($AG$152=0,0,$AG$152)","v":0},null,{"$f":"IF($AG$216=0,0,$AG$216)","v":0},null,{"$f":"IF($AG$280=0,0,$AG$280)","v":0},null,{"$f":"IF($AG$344=0,0,$AG$344)","v":0},null,{"$f":"IF($AG$408=0,0,$AG$408)","v":0},null,{"$f":"IF($AG$472=0,0,$AG$472)","v":0},null,{"$f":"IF($AG$536=0,0,$AG$536)","v":0},null,{"$f":"IF($AG$600=0,0,$AG$600)","v":0},null,{"$f":"IF($AG$664=0,0,$AG$664)","v":0},null,{"$f":"IF($AG$728=0,0,$AG$728)","v":0},null,{"$f":"SUM(G364:AD364)","v":0}]
[null,{"$f":"$B$45","v":"aus Nacht-, Sonn-, Feiertagsarbeiten"},null,null,null,null,{"$f":"IF($AJ$21=0,0,$AJ$21)","v":0},null,{"$f":"IF($AK$21=0,0,$AK$21)","v":0},null,{"$f":"IF($AL$21=0,0,$AL$21)","v":0},null,{"$f":"IF($AM$21=0,0,$AM$21)","v":0},null,{"$f":"IF($AN$21=0,0,$AN$21)","v":0},null,{"$f":"IF($AO$21=0,0,$AO$21)","v":0},null,{"$f":"IF($AP$21=0,0,$AP$21)","v":0},null,{"$f":"IF($AQ$21=0,0,$AQ$21)","v":0},null,{"$f":"IF($AR$21=0,0,$AR$21)","v":0},null,{"$f":"IF($AS$21=0,0,$AS$21)","v":0},null,{"$f":"IF($AT$21=0,0,$AT$21)","v":0},null,{"$f":"IF($AU$21=0,0,$AU$21)","v":0},null,{"$f":"SUM(G365:AD365)","v":0}]
[{"$f":"$A$46","v":"Unproduktive Stunden"}]
[{"$f":"$A$47","v":"   Absenzen, Kurzabsenzen Art. 11 GAV"},null,null,null,null,{"$f":"$F$47","v":"a"},{"$f":"IF($AJ$3=0,0,$AJ$3)","v":0},null,{"$f":"IF($AK$3=0,0,$AK$3)","v":0},null,{"$f":"IF($AL$3=0,0,$AL$3)","v":0},null,{"$f":"IF($AM$3=0,0,$AM$3)","v":0},null,{"$f":"IF($AN$3=0,0,$AN$3)","v":0},null,{"$f":"IF($AO$3=0,0,$AO$3)","v":0},null,{"$f":"IF($AP$3=0,0,$AP$3)","v":0},null,{"$f":"IF($AQ$3=0,0,$AQ$3)","v":0},null,{"$f":"IF($AR$3=0,0,$AR$3)","v":0},null,{"$f":"IF($AS$3=0,0,$AS$3)","v":0},null,{"$f":"IF(AT$3=0,0,$AT$3)","v":0},null,{"$f":"IF($AU$3=0,0,$AU$3)","v":0},null,{"$f":"IF($AV$3=0,0,$AV$3)","v":0}]
[{"$f":"$A$48","v":"   Ferien Art. 12.1 GAV"},null,null,null,null,{"$f":"$F$48","v":"f"},{"$f":"IF($AJ$4=0,0,$AJ$4)","v":0},null,{"$f":"IF($AK$4=0,0,$AK$4)","v":0},null,{"$f":"IF($AL$4=0,0,$AL$4)","v":0},null,{"$f":"IF($AM$4=0,0,$AM$4)","v":0},null,{"$f":"IF($AN$4=0,0,$AN$4)","v":0},null,{"$f":"IF($AO$4=0,0,$AO$4)","v":0},null,{"$f":"IF($AP$4=0,0,$AP$4)","v":0},null,{"$f":"IF($AQ$4=0,0,$AQ$4)","v":0},null,{"$f":"IF($AR$4=0,0,$AR$4)","v":0},null,{"$f":"IF($AS$4=0,0,$AS$4)","v":0},null,{"$f":"IF($AT$4=0,0,$AT$4)","v":0},null,{"$f":"IF($AU$4=0,0,$AU$4)","v":0},null,{"$f":"IF($AV$4=0,0,$AV$4)","v":0}]
[{"$f":"Labels!$B$181","v":"   Ferien unbezahlt"},null,null,null,null,{"$f":"Labels!$B$182","v":"fu"},{"$f":"IF($AJ$13=0,0,$AJ$13)","v":0},null,{"$f":"IF($AK$13=0,0,$AK$13)","v":0},null,{"$f":"IF($AL$13=0,0,$AL$13)","v":0},null,{"$f":"IF($AM$13=0,0,$AM$13)","v":0},null,{"$f":"IF($AN$13=0,0,$AN$13)","v":0},null,{"$f":"IF($AO$13=0,0,$AO$13)","v":0},null,{"$f":"IF($AP$13=0,0,$AP$13)","v":0},null,{"$f":"IF($AQ$13=0,0,$AQ$13)","v":0},null,{"$f":"IF($AR$13=0,0,$AR$13)","v":0},null,{"$f":"IF($AS$13=0,0,$AS$13)","v":0},null,{"$f":"IF($AT$13=0,0,$AT$13)","v":0},null,{"$f":"IF($AU$13=0,0,$AU$13)","v":0},null,{"$f":"IF($AV$13=0,0,$AV$13)","v":0}]
[{"$f":"$A$50","v":"   Feiertage Art. 12.2 GAV"},null,{"$f":"IF($AJ$18=\"\",\"\",$AJ$18)","v":""},null,null,{"$f":"$F$50","v":"ft"},{"$f":"IF($AJ$16=0,0,$AJ$16)","v":0},null,{"$f":"IF($AK$16=0,0,$AK$16)","v":0},null,{"$f":"IF($AL$16=0,0,$AL$16)","v":0},null,{"$f":"IF($AM$16=0,0,$AM$16)","v":0},null,{"$f":"IF($AN$16=0,0,$AN$16)","v":0},null,{"$f":"IF($AO$16=0,0,$AO$16)","v":0},null,{"$f":"IF($AP$16=0,0,$AP$16)","v":0},null,{"$f":"IF($AQ$16=0,0,$AQ$16)","v":0},null,{"$f":"IF($AR$16=0,0,$AR$16)","v":0},null,{"$f":"IF($AS$16=0,0,$AS$16)","v":0},null,{"$f":"IF($AT$16=0,0,$AT$16)","v":0},null,{"$f":"IF($AU$16=0,0,$AU$16)","v":0},null,{"$f":"IF($AV$16=0,0,$AV$16)","v":0}]
[{"$f":"$A$51","v":"   Krankheit Art. 13 GAV"},null,null,null,null,{"$f":"$F$51","v":"k"},{"$f":"IF($AJ$5=0,0,$AJ$5)","v":0},null,{"$f":"IF($AK$5=0,0,$AK$5)","v":0},null,{"$f":"IF($AL$5=0,0,$AL$5)","v":0},null,{"$f":"IF($AM$5=0,0,$AM$5)","v":0},null,{"$f":"IF($AN$5=0,0,$AN$5)","v":0},null,{"$f":"IF($AO$5=0,0,$AO$5)","v":0},null,{"$f":"IF($AP$5=0,0,$AP$5)","v":0},null,{"$f":"IF($AQ$5=0,0,$AQ$5)","v":0},null,{"$f":"IF($AR$5=0,0,$AR$5)","v":0},null,{"$f":"IF($AS$5=0,0,$AS$5)","v":0},null,{"$f":"IF($AT$5=0,0,$AT$5)","v":0},null,{"$f":"IF($AU$5=0,0,$AU$5)","v":0},null,{"$f":"IF($AV$5=0,0,$AV$5)","v":0}]
[{"$f":"$A$52","v":"   Unfall Art. 14 GAV"},null,null,null,null,{"$f":"$F$52","v":"u"},{"$f":"IF($AJ$6=0,0,$AJ$6)","v":0},null,{"$f":"IF($AK$6=0,0,$AK$6)","v":0},null,{"$f":"IF($AL$6=0,0,$AL$6)","v":0},null,{"$f":"IF($AM$6=0,0,$AM$6)","v":0},null,{"$f":"IF($AN$6=0,0,$AN$6)","v":0},null,{"$f":"IF($AO$6=0,0,$AO$6)","v":0},null,{"$f":"IF($AP$6=0,0,$AP$6)","v":0},null,{"$f":"IF($AQ$6=0,0,$AQ$6)","v":0},null,{"$f":"IF($AR$6=0,0,$AR$6)","v":0},null,{"$f":"IF($AS$6=0,0,$AS$6)","v":0},null,{"$f":"IF($AT$6=0,0,$AT$6)","v":0},null,{"$f":"IF($AU$6=0,0,$AU$6)","v":0},null,{"$f":"IF($AV$6=0,0,$AV$6)","v":0}]
[{"$f":"$A$53","v":"   Schwangerschaft/Mutterschaft Art. 15 GAV"},null,null,null,null,{"$f":"$F$53","v":"s"},{"$f":"IF($AJ$7=0,0,$AJ$7)","v":0},null,{"$f":"IF($AK$7=0,0,$AK$7)","v":0},null,{"$f":"IF($AL$7=0,0,$AL$7)","v":0},null,{"$f":"IF($AM$7=0,0,$AM$7)","v":0},null,{"$f":"IF($AN$7=0,0,$AN$7)","v":0},null,{"$f":"IF($AO$7=0,0,$AO$7)","v":0},null,{"$f":"IF($AP$7=0,0,$AP$7)","v":0},null,{"$f":"IF($AQ$7=0,0,$AQ$7)","v":0},null,{"$f":"IF($AR$7=0,0,$AR$7)","v":0},null,{"$f":"IF($AS$7=0,0,$AS$7)","v":0},null,{"$f":"IF($AT$7=0,0,$AT$7)","v":0},null,{"$f":"IF($AU$7=0,0,$AU$7)","v":0},null,{"$f":"IF($AV$7=0,0,$AV$7)","v":0}]
[{"$f":"$A$54","v":"   Militär/Beförderung/Zivilschutz Art. 16 GAV"},null,null,null,null,{"$f":"$F$54","v":"m"},{"$f":"IF($AJ$8=0,0,$AJ$8)","v":0},null,{"$f":"IF($AK$8=0,0,$AK$8)","v":0},null,{"$f":"IF($AL$8=0,0,$AL$8)","v":0},null,{"$f":"IF($AM$8=0,0,$AM$8)","v":0},null,{"$f":"IF($AN$8=0,0,$AN$8)","v":0},null,{"$f":"IF($AO$8=0,0,$AO$8)","v":0},null,{"$f":"IF($AP$8=0,0,$AP$8)","v":0},null,{"$f":"IF($AQ$8=0,0,$AQ$8)","v":0},null,{"$f":"IF($AR$8=0,0,$AR$8)","v":0},null,{"$f":"IF($AS$8=0,0,$AS$8)","v":0},null,{"$f":"IF($AT$8=0,0,$AT$8)","v":0},null,{"$f":"IF($AU$8=0,0,$AU$8)","v":0},null,{"$f":"IF($AV$8=0,0,$AV$8)","v":0}]
[{"$f":"$A$55","v":"   Kurzarbeit und Schlechtwetterausfälle"},null,null,null,null,{"$f":"$F$55","v":"ka"},{"$f":"IF($AJ$11=0,0,$AJ$11)","v":0},null,{"$f":"IF($AK$11=0,0,$AK$11)","v":0},null,{"$f":"IF($AL$11=0,0,$AL$11)","v":0},null,{"$f":"IF($AM$11=0,0,$AM$11)","v":0},null,{"$f":"IF($AN$11=0,0,$AN$11)","v":0},null,{"$f":"IF($AO$11=0,0,$AO$11)","v":0},null,{"$f":"IF($AP$11=0,0,$AP$11)","v":0},null,{"$f":"IF($AQ$11=0,0,$AQ$11)","v":0},null,{"$f":"IF($AR$11=0,0,$AR$11)","v":0},null,{"$f":"IF($AS$11=0,0,$AS$11)","v":0},null,{"$f":"IF($AT$11=0,0,$AT$11)","v":0},null,{"$f":"IF($AU$11=0,0,$AU$11)","v":0},null,{"$f":"IF($AV$11=0,0,$AV$11)","v":0}]
[{"$f":"$A$56","v":"   Berufsschule"},null,null,null,null,{"$f":"$F$56","v":"bs"},{"$f":"IF($AJ$9=0,0,$AJ$9)","v":0},null,{"$f":"IF($AK$9=0,0,$AK$9)","v":0},null,{"$f":"IF($AL$9=0,0,$AL$9)","v":0},null,{"$f":"IF($AM$9=0,0,$AM$9)","v":0},null,{"$f":"IF($AN$9=0,0,$AN$9)","v":0},null,{"$f":"IF($AO$9=0,0,$AO$9)","v":0},null,{"$f":"IF($AP$9=0,0,$AP$9)","v":0},null,{"$f":"IF($AQ$9=0,0,$AQ$9)","v":0},null,{"$f":"IF($AR$9=0,0,$AR$9)","v":0},null,{"$f":"IF($AS$9=0,0,$AS$9)","v":0},null,{"$f":"IF($AT$9=0,0,$AT$9)","v":0},null,{"$f":"IF($AU$9=0,0,$AU$9)","v":0},null,{"$f":"IF($AV$9=0,0,$AV$9)","v":0}]
[{"$f":"$A$57","v":"   Kurse"},null,null,null,null,{"$f":"$F$57","v":"ku"},{"$f":"IF($AJ$10=0,0,$AJ$10)","v":0},null,{"$f":"IF($AK$10=0,0,$AK$10)","v":0},null,{"$f":"IF($AL$10=0,0,$AL$10)","v":0},null,{"$f":"IF($AM$10=0,0,$AM$10)","v":0},null,{"$f":"IF($AN$10=0,0,$AN$10)","v":0},null,{"$f":"IF($AO$10=0,0,$AO$10)","v":0},null,{"$f":"IF($AP$10=0,0,$AP$10)","v":0},null,{"$f":"IF($AQ$10=0,0,$AQ$10)","v":0},null,{"$f":"IF($AR$10=0,0,$AR$10)","v":0},null,{"$f":"IF($AS$10=0,0,$AS$10)","v":0},null,{"$f":"IF($AT$10=0,0,$AT$10)","v":0},null,{"$f":"IF($AU$10=0,0,$AU$10)","v":0},null,{"$f":"IF($AV$10=0,0,$AV$10)","v":0}]
[{"$f":"$A$58","v":"Kompensations-Std"},{"$f":"$B$58","v":"aus Vorjahr"},null,null,null,{"$f":"$F$58","v":"kv"},{"$f":"IF($AJ$12=0,0,$AJ$12)","v":0},null,{"$f":"IF($AK$12=0,0,$AK$12)","v":0},null,{"$f":"IF($AL$12=0,0,$AL$12)","v":0},null,{"$f":"IF($AM$12=0,0,$AM$12)","v":0},null,{"$f":"IF($AN$12=0,0,$AN$12)","v":0},null,{"$f":"IF($AO$12=0,0,$AO$12)","v":0},null,{"$f":"IF($AP$12=0,0,$AP$12)","v":0},null,{"$f":"IF($AQ$12=0,0,$AQ$12)","v":0},null,{"$f":"IF($AR$12=0,0,$AR$12)","v":0},null,null,null,null,null,null,null,{"$f":"IF($AV$12=0,0,$AV$12)","v":0}]
[null,{"$f":"$B$59","v":"aus laufendem Jahr (Kontrolle)"},null,null,null,{"$f":"$F$59","v":"kj"},{"$f":"IF($AJ$15=0,0,$AJ$15)","v":0},null,{"$f":"IF($AK$15=0,0,$AK$15)","v":0},null,{"$f":"IF($AL$15=0,0,$AL$15)","v":0},null,{"$f":"IF($AM$15=0,0,$AM$15)","v":0},null,{"$f":"IF($AN$15=0,0,$AN$15)","v":0},null,{"$f":"IF($AO$15=0,0,$AO$15)","v":0},null,{"$f":"IF($AP$15=0,0,$AP$15)","v":0},null,{"$f":"IF($AQ$15=0,0,$AQ$15)","v":0},null,{"$f":"IF($AR$15=0,0,$AR$15)","v":0},null,{"$f":"IF($AS$15=0,0,$AS$15)","v":0},null,{"$f":"IF($AT$15=0,0,$AT$15)","v":0},null,{"$f":"IF($AU$15=0,0,$AU$15)","v":0},null,{"$f":"IF($AV$15=0,0,$AV$15)","v":0}]
[{"$f":"$A$60","v":"Auszahlung"},{"$f":"$B$60","v":"Stunden Vorjahressaldo"},null,null,null,null,{"$f":"IF($AJ$19=0,0,$AJ$19)","v":0},null,{"$f":"IF($AK$19=0,0,$AK$19)","v":0},null,{"$f":"IF($AL$19=0,0,$AL$19)","v":0},null,{"$f":"IF($AM$19=0,0,$AM$19)","v":0},null,{"$f":"IF($AN$19=0,0,$AN$19)","v":0},null,{"$f":"IF($AO$19=0,0,$AO$19)","v":0},null,{"$f":"IF($AP$19=0,0,$AP$19)","v":0},null,{"$f":"IF($AQ$19=0,0,$AQ$19)","v":0},null,{"$f":"IF($AR$19=0,0,$AR$19)","v":0},null,null,null,null,null,null,null,{"$f":"IF($AV$19=0,0,$AV$19)","v":0}]
[{"$f":"$A$61","v":"Differenz"},{"$f":"$B$61","v":"nach Kompensation und Auszahlung"},null,null,null,null,{"$f":"IF(ROUND($P$4,3)=0,0,$P$4-SUM(G378+G380))","v":0},null,{"$f":"IF(ROUND(G381,3)=0,0,G381-(SUM(I380+I378)))","v":0},null,{"$f":"IF(ROUND(I381,3)=0,0,I381-(SUM(K380+K378)))","v":0},null,{"$f":"IF(ROUND(K381,3)=0,0,K381-(SUM(M380+M378)))","v":0},null,{"$f":"IF(ROUND(M381,3)=0,0,M381-(SUM(O380+O378)))","v":0},null,{"$f":"IF(ROUND(O381,3)=0,0,O381-(SUM(Q380+Q378)))","v":0},null,{"$f":"IF(ROUND(Q381,3)=0,0,Q381-(SUM(S380+S378)))","v":0},null,{"$f":"IF(ROUND(S381,3)=0,0,S381-(SUM(U380+U378)))","v":0},null,{"$f":"IF(ROUND(U381,3)=0,0,U381-(SUM(W380+W378)))","v":0},null,{"$f":"$Y$61","v":""}]
[{"$f":"$A$62","v":"Auszahlung"},{"$f":"$B$62","v":"Stunden laufendes Jahr"},null,null,null,null,{"$f":"IF($AJ$20=0,0,$AJ$20)","v":0},null,{"$f":"IF($AK$20=0,0,$AK$20)","v":0},null,{"$f":"IF($AL$20=0,0,$AL$20)","v":0},null,{"$f":"IF($AM$20=0,0,$AM$20)","v":0},null,{"$f":"IF($AN$20=0,0,$AN$20)","v":0},null,{"$f":"IF($AO$20=0,0,$AO$20)","v":0},null,{"$f":"IF($AP$20=0,0,$AP$20)","v":0},null,{"$f":"IF($AQ$20=0,0,$AQ$20)","v":0},null,{"$f":"IF($AR$20=0,0,$AR$20)","v":0},null,{"$f":"IF($AS$20=0,0,$AS$20)","v":0},null,{"$f":"IF($AT$20=0,0,$AT$20)","v":0},null,{"$f":"IF($AU$20=0,0,$AU$20)","v":0},null,{"$f":"IF($AV$20=0,0,$AV$20)","v":0}]
[{"$f":"$A$63","v":"Fehlstunden"},{"$f":"$B$63","v":"laufendes Jahr (Kontrolle)"},null,null,null,{"$f":"$F$63","v":"fe"},{"$f":"IF($AJ$14=0,0,$AJ$14)","v":0},null,{"$f":"IF($AK$14=0,0,$AK$14)","v":0},null,{"$f":"IF($AL$14=0,0,$AL$14)","v":0},null,{"$f":"IF($AM$14=0,0,$AM$14)","v":0},null,{"$f":"IF($AN$14=0,0,$AN$14)","v":0},null,{"$f":"IF($AO$14=0,0,$AO$14)","v":0},null,{"$f":"IF($AP$14=0,0,$AP$14)","v":0},null,{"$f":"IF($AQ$14=0,0,$AQ$14)","v":0},null,{"$f":"IF($AR$14=0,0,$AR$14)","v":0},null,{"$f":"IF($AS$14=0,0,$AS$14)","v":0},null,{"$f":"IF($AT$14=0,0,$AT$14)","v":0},null,{"$f":"IF($AU$14=0,0,$AU$14)","v":0},null,{"$f":"IF($AV$14=0,0,$AV$14)","v":0}]
[{"$f":"$A$64","v":"Total inkl. Zeitzuschläge"},{"$f":"$B$64","v":"Stunden produktiv und unproduktiv"},null,null,null,null,{"$f":"IF($AG$36=0,0,$AG$36)","v":0},null,{"$f":"IF($AG$99=0,0,$AG$99)","v":0},null,{"$f":"IF($AG$163=0,0,$AG$163)","v":0},null,{"$f":"IF($AG$227=0,0,$AG$227)","v":0},null,{"$f":"IF($AG$291=0,0,$AG$291)","v":0},null,{"$f":"IF($AG$355=0,0,$AG$355)","v":0},null,{"$f":"IF($AG$419=0,0,$AG$419)","v":0},null,{"$f":"IF($AG$483=0,0,$AG$483)","v":0},null,{"$f":"IF($AG$547=0,0,$AG$547)","v":0},null,{"$f":"IF($AG$611=0,0,$AG$611)","v":0},null,{"$f":"IF($AG$675=0,0,$AG$675)","v":0},null,{"$f":"IF($AG$739=0,0,$AG$739)","v":0},null,{"$f":"SUM($G$64:$AD$64)","v":0}]
[{"$f":"$A$65","v":"Vergleich"},{"$f":"$B$65","v":"Stunden zu Soll-Stunden (inkl. allfälli-\nge Minusstunden Vorjahr)"},null,null,null,null,{"$f":"$G$65","v":-168},null,{"$f":"$I$65","v":-160},null,{"$f":"$K$65","v":-184},null,{"$f":"$M$65","v":-168},null,{"$f":"$O$65","v":-176},null,{"$f":"$Q$65","v":-176},null,{"$f":"$S$65","v":-168},null,{"$f":"$U$65","v":-184},null,{"$f":"$W$65","v":-176},null,{"$f":"$Y$65","v":-168},null,{"$f":"$AA$65","v":-176},null,{"$f":"$AC$65","v":-176},null,{"$f":"$AE$65","v":-2080}]
[null,{"$f":"$B$66","v":"Stunden zu Soll-Stunden (kumuliert)"},null,null,null,null,{"$f":"$G$66","v":-168},null,{"$f":"$I$66","v":-328},null,{"$f":"$K$66","v":-512},null,{"$f":"$M$66","v":-680},null,{"$f":"$O$66","v":-856},null,{"$f":"$Q$66","v":-1032},null,{"$f":"$S$66","v":-1200},null,{"$f":"$U$66","v":-1384},null,{"$f":"$W$66","v":-1560},null,{"$f":"$Y$66","v":-1728},null,{"$f":"$AA$66","v":-1904},null,{"$f":"$AC$66","v":-2080},null,{"$f":"$AE$66","v":0}]
[{"$f":"$A$67","v":"Ferienkontrolle"},{"$f":"$B$67","v":"Ferienguthaben Vorjahr"},null,null,null,null,{"$f":"IF($AA$4=0,0,$AA$4)","v":0},null,{"$f":"$I$67","v":"Ferienguthaben nach \nArt. 12.1 GAV"},null,null,null,{"$f":"IF($AA$5=0,0,$AA$5)","v":0},null,{"$f":"$O$67","v":"Ferienguthaben total"},null,null,null,{"$f":"SUM(G387+M387)","v":0},null,{"$f":"$U$67","v":"Ferien bezogen"},null,null,null,{"$f":"IF($AV$4=0,0,$AV$4)","v":0},null,{"$f":"$AA$67","v":"Aktuelles Ferienguthaben"},null,null,null,{"$f":"IF(S387=0,0,S387-Y387)","v":0}]
[]
[]
[{"$f":"$A$3","v":"Mitarbeiter/In"},{"$f":"IF($B$3=\"\",\"\",$B$3)","v":"Muster Peter"},null,null,null,null,null,null,null,null,null,null,null,null,null,null,null,null,null,null,null,null,null,null,null,null,null,null,null,null,null,{"$f":"AF3","v":0}]
[{"$f":"$A$4","v":"Anstellung %"},{"$f":"$AL$50","v":100},null,{"$f":"Labels!B95","v":"im Juli"}]
[{"$f":"$A$5","v":"Saldo für das Jahr"},null,null,{"$f":"IF($AE$65=0,0,$AE$65)","v":-2080}]
[{"$f":"TEXT(DATE(YEAR(AP29),MONTH(AP29)+6,1),\"MMMM\"&Labels!B13)","v":"Juli"},{"$f":"$B$9","v":"Saldo Monat + / -"},null,null,null,{"$f":"(AG395-(SUM(AG396:AG410)-AE418))*-1","v":-168},null,null,null,null,{"$f":"$K$9","v":" = "},{"$f":"$L$9","v":"Gelbe Felder müssen ausgefüllt werden (die übrigen werden automatisch berechnet)"},null,null,null,null,null,null,null,null,null,null,null,null,null,null,null,null,null,null,null,null,{"$f":"COUNT(B396:AF396)&\" \"&Labels!$B$63","v":"21 Tage"}]
[{"$f":"$A$10","v":"Tag"},{"$f":"AE330+1","v":"2022-07-01"},{"$f":"B394+1","v":"2022-07-02"},"2022-07-03","2022-07-04","2022-07-05","2022-07-06","2022-07-07","2022-07-08","2022-07-09","2022-07-10","2022-07-11","2022-07-12","2022-07-13","2022-07-14","2022-07-15","2022-07-16","2022-07-17","2022-07-18","2022-07-19","2022-07-20","2022-07-21","2022-07-22","2022-07-23","2022-07-24","2022-07-25","2022-07-26","2022-07-27","2022-07-28","2022-07-29","2022-07-30","2022-07-31"]
[{"$f":"$A$11","v":"Kalenderwoche"},{"$f":"IF(B394=\"\",\"\",TRUNC((B394-DATE(YEAR(B394+3-MOD(B394-2,7)),1,MOD(B394-2,7)-9))/7))","v":26},26,26,27,27,27,27,27,27,27,28,28,28,28,28,28,28,29,29,29,29,29,29,29,30,30,30,30,30,30,30,{"$f":"SUM(B396:AF396)","v":168}]
[{"$f":"$A$12","v":"Sollstunden"},{"$f":"IF(AND(MOD(B394,7)>=2,SUMPRODUCT(($AM$56:$AQ$56=MOD(B394,7))*$AM$50:$AQ$50)),($J$7*5/$AR$50)*$B$391%,\"\")","v":8},{"$f":"IF(AND(MOD(C394,7)>=2,SUMPRODUCT(($AM$56:$AQ$56=MOD(C394,7))*$AM$50:$AQ$50)),($J$7*5/$AR$50)*$B$391%,\"\")","v":""},{"$f":"IF(AND(MOD(D394,7)>=2,SUMPRODUCT(($AM$56:$AQ$56=MOD(D394,7))*$AM$50:$AQ$50)),($J$7*5/$AR$50)*$B$391%,\"\")","v":""},{"$f":"IF(AND(MOD(E394,7)>=2,SUMPRODUCT(($AM$56:$AQ$56=MOD(E394,7))*$AM$50:$AQ$50)),($J$7*5/$AR$50)*$B$391%,\"\")","v":8},{"$f":"IF(AND(MOD(F394,7)>=2,SUMPRODUCT(($AM$56:$AQ$56=MOD(F394,7))*$AM$50:$AQ$50)),($J$7*5/$AR$50)*$B$391%,\"\")","v":8},{"$f":"IF(AND(MOD(G394,7)>=2,SUMPRODUCT(($AM$56:$AQ$56=MOD(G394,7))*$AM$50:$AQ$50)),($J$7*5/$AR$50)*$B$391%,\"\")","v":8},{"$f":"IF(AND(MOD(H394,7)>=2,SUMPRODUCT(($AM$56:$AQ$56=MOD(H394,7))*$AM$50:$AQ$50)),($J$7*5/$AR$50)*$B$391%,\"\")","v":8},{"$f":"IF(AND(MOD(I394,7)>=2,SUMPRODUCT(($AM$56:$AQ$56=MOD(I394,7))*$AM$50:$AQ$50)),($J$7*5/$AR$50)*$B$391%,\"\")","v":8},{"$f":"IF(AND(MOD(J394,7)>=2,SUMPRODUCT(($AM$56:$AQ$56=MOD(J394,7))*$AM$50:$AQ$50)),($J$7*5/$AR$50)*$B$391%,\"\")","v":""},{"$f":"IF(AND(MOD(K394,7)>=2,SUMPRODUCT(($AM$56:$AQ$56=MOD(K394,7))*$AM$50:$AQ$50)),($J$7*5/$AR$50)*$B$391%,\"\")","v":""},{"$f":"IF(AND(MOD(L394,7)>=2,SUMPRODUCT(($AM$56:$AQ$56=MOD(L394,7))*$AM$50:$AQ$50)),($J$7*5/$AR$50)*$B$391%,\"\")","v":8},{"$f":"IF(AND(MOD(M394,7)>=2,SUMPRODUCT(($AM$56:$AQ$56=MOD(M394,7))*$AM$50:$AQ$50)),($J$7*5/$AR$50)*$B$391%,\"\")","v":8},{"$f":"IF(AND(MOD(N394,7)>=2,SUMPRODUCT(($AM$56:$AQ$56=MOD(N394,7))*$AM$50:$AQ$50)),($J$7*5/$AR$50)*$B$391%,\"\")","v":8},{"$f":"IF(AND(MOD(O394,7)>=2,SUMPRODUCT(($AM$56:$AQ$56=MOD(O394,7))*$AM$50:$AQ$50)),($J$7*5/$AR$50)*$B$391%,\"\")","v":8},{"$f":"IF(AND(MOD(P394,7)>=2,SUMPRODUCT(($AM$56:$AQ$56=MOD(P394,7))*$AM$50:$AQ$50)),($J$7*5/$AR$50)*$B$391%,\"\")","v":8},{"$f":"IF(AND(MOD(Q394,7)>=2,SUMPRODUCT(($AM$56:$AQ$56=MOD(Q394,7))*$AM$50:$AQ$50)),($J$7*5/$AR$50)*$B$391%,\"\")","v":""},{"$f":"IF(AND(MOD(R394,7)>=2,SUMPRODUCT(($AM$56:$AQ$56=MOD(R394,7))*$AM$50:$AQ$50)),($J$7*5/$AR$50)*$B$391%,\"\")","v":""},{"$f":"IF(AND(MOD(S394,7)>=2,SUMPRODUCT(($AM$56:$AQ$56=MOD(S394,7))*$AM$50:$AQ$50)),($J$7*5/$AR$50)*$B$391%,\"\")","v":8},{"$f":"IF(AND(MOD(T394,7)>=2,SUMPRODUCT(($AM$56:$AQ$56=MOD(T394,7))*$AM$50:$AQ$50)),($J$7*5/$AR$50)*$B$391%,\"\")","v":8},{"$f":"IF(AND(MOD(U394,7)>=2,SUMPRODUCT(($AM$56:$AQ$56=MOD(U394,7))*$AM$50:$AQ$50)),($J$7*5/$AR$50)*$B$391%,\"\")","v":8},{"$f":"IF(AND(MOD(V394,7)>=2,SUMPRODUCT(($AM$56:$AQ$56=MOD(V394,7))*$AM$50:$AQ$50)),($J$7*5/$AR$50)*$B$391%,\"\")","v":8},{"$f":"IF(AND(MOD(W394,7)>=2,SUMPRODUCT(($AM$56:$AQ$56=MOD(W394,7))*$AM$50:$AQ$50)),($J$7*5/$AR$50)*$B$391%,\"\")","v":8},{"$f":"IF(AND(MOD(X394,7)>=2,SUMPRODUCT(($AM$56:$AQ$56=MOD(X394,7))*$AM$50:$AQ$50)),($J$7*5/$AR$50)*$B$391%,\"\")","v":""},{"$f":"IF(AND(MOD(Y394,7)>=2,SUMPRODUCT(($AM$56:$AQ$56=MOD(Y394,7))*$AM$50:$AQ$50)),($J$7*5/$AR$50)*$B$391%,\"\")","v":""},{"$f":"IF(AND(MOD(Z394,7)>=2,SUMPRODUCT(($AM$56:$AQ$56=MOD(Z394,7))*$AM$50:$AQ$50)),($J$7*5/$AR$50)*$B$391%,\"\")","v":8},{"$f":"IF(AND(MOD(AA394,7)>=2,SUMPRODUCT(($AM$56:$AQ$56=MOD(AA394,7))*$AM$50:$AQ$50)),($J$7*5/$AR$50)*$B$391%,\"\")","v":8},{"$f":"IF(AND(MOD(AB394,7)>=2,SUMPRODUCT(($AM$56:$AQ$56=MOD(AB394,7))*$AM$50:$AQ$50)),($J$7*5/$AR$50)*$B$391%,\"\")","v":8},{"$f":"IF(AND(MOD(AC394,7)>=2,SUMPRODUCT(($AM$56:$AQ$56=MOD(AC394,7))*$AM$50:$AQ$50)),($J$7*5/$AR$50)*$B$391%,\"\")","v":8},{"$f":"IF(AND(MOD(AD394,7)>=2,SUMPRODUCT(($AM$56:$AQ$56=MOD(AD394,7))*$AM$50:$AQ$50)),($J$7*5/$AR$50)*$B$391%,\"\")","v":8},{"$f":"IF(AND(MOD(AE394,7)>=2,SUMPRODUCT(($AM$56:$AQ$56=MOD(AE394,7))*$AM$50:$AQ$50)),($J$7*5/$AR$50)*$B$391%,\"\")","v":""},{"$f":"IF(AND(MOD(AF394,7)>=2,SUMPRODUCT(($AM$56:$AQ$56=MOD(AF394,7))*$AM$50:$AQ$50)),($J$7*5/$AR$50)*$B$391%,\"\")","v":""},{"$f":"SUM(AP3:AP13)","v":0}]
[{"$f":"$A$13","v":"Absenz in Std"},{"$f":"B969","v":0},{"$f":"C969","v":0},0,0,0,0,0,0,0,0,0,0,0,0,0,0,0,0,0,0,0,0,0,0,0,0,0,0,0,0,0]
[{"$f":"$A$14","v":"Code"},{"$f":"IF(B969<>0,IF(MAX(B956:B968)<B969,Labels!$B$163,INDEX($AH$955:$AH$967,MATCH(MAX(B956:B968),B956:B968,0))),\"\")","v":""},{"$f":"IF(C969<>0,IF(MAX(C956:C968)<C969,Labels!$B$163,INDEX($AH$955:$AH$967,MATCH(MAX(C956:C968),C956:C968,0))),\"\")","v":""},{"$f":"IF(D969<>0,IF(MAX(D956:D968)<D969,Labels!$B$163,INDEX($AH$955:$AH$967,MATCH(MAX(D956:D968),D956:D968,0))),\"\")","v":""},{"$f":"IF(E969<>0,IF(MAX(E956:E968)<E969,Labels!$B$163,INDEX($AH$955:$AH$967,MATCH(MAX(E956:E968),E956:E968,0))),\"\")","v":""},{"$f":"IF(F969<>0,IF(MAX(F956:F968)<F969,Labels!$B$163,INDEX($AH$955:$AH$967,MATCH(MAX(F956:F968),F956:F968,0))),\"\")","v":""},{"$f":"IF(G969<>0,IF(MAX(G956:G968)<G969,Labels!$B$163,INDEX($AH$955:$AH$967,MATCH(MAX(G956:G968),G956:G968,0))),\"\")","v":""},{"$f":"IF(H969<>0,IF(MAX(H956:H968)<H969,Labels!$B$163,INDEX($AH$955:$AH$967,MATCH(MAX(H956:H968),H956:H968,0))),\"\")","v":""},{"$f":"IF(I969<>0,IF(MAX(I956:I968)<I969,Labels!$B$163,INDEX($AH$955:$AH$967,MATCH(MAX(I956:I968),I956:I968,0))),\"\")","v":""},{"$f":"IF(J969<>0,IF(MAX(J956:J968)<J969,Labels!$B$163,INDEX($AH$955:$AH$967,MATCH(MAX(J956:J968),J956:J968,0))),\"\")","v":""},{"$f":"IF(K969<>0,IF(MAX(K956:K968)<K969,Labels!$B$163,INDEX($AH$955:$AH$967,MATCH(MAX(K956:K968),K956:K968,0))),\"\")","v":""},{"$f":"IF(L969<>0,IF(MAX(L956:L968)<L969,Labels!$B$163,INDEX($AH$955:$AH$967,MATCH(MAX(L956:L968),L956:L968,0))),\"\")","v":""},{"$f":"IF(M969<>0,IF(MAX(M956:M968)<M969,Labels!$B$163,INDEX($AH$955:$AH$967,MATCH(MAX(M956:M968),M956:M968,0))),\"\")","v":""},{"$f":"IF(N969<>0,IF(MAX(N956:N968)<N969,Labels!$B$163,INDEX($AH$955:$AH$967,MATCH(MAX(N956:N968),N956:N968,0))),\"\")","v":""},{"$f":"IF(O969<>0,IF(MAX(O956:O968)<O969,Labels!$B$163,INDEX($AH$955:$AH$967,MATCH(MAX(O956:O968),O956:O968,0))),\"\")","v":""},{"$f":"IF(P969<>0,IF(MAX(P956:P968)<P969,Labels!$B$163,INDEX($AH$955:$AH$967,MATCH(MAX(P956:P968),P956:P968,0))),\"\")","v":""},{"$f":"IF(Q969<>0,IF(MAX(Q956:Q968)<Q969,Labels!$B$163,INDEX($AH$955:$AH$967,MATCH(MAX(Q956:Q968),Q956:Q968,0))),\"\")","v":""},{"$f":"IF(R969<>0,IF(MAX(R956:R968)<R969,Labels!$B$163,INDEX($AH$955:$AH$967,MATCH(MAX(R956:R968),R956:R968,0))),\"\")","v":""},{"$f":"IF(S969<>0,IF(MAX(S956:S968)<S969,Labels!$B$163,INDEX($AH$955:$AH$967,MATCH(MAX(S956:S968),S956:S968,0))),\"\")","v":""},{"$f":"IF(T969<>0,IF(MAX(T956:T968)<T969,Labels!$B$163,INDEX($AH$955:$AH$967,MATCH(MAX(T956:T968),T956:T968,0))),\"\")","v":""},{"$f":"IF(U969<>0,IF(MAX(U956:U968)<U969,Labels!$B$163,INDEX($AH$955:$AH$967,MATCH(MAX(U956:U968),U956:U968,0))),\"\")","v":""},{"$f":"IF(V969<>0,IF(MAX(V956:V968)<V969,Labels!$B$163,INDEX($AH$955:$AH$967,MATCH(MAX(V956:V968),V956:V968,0))),\"\")","v":""},{"$f":"IF(W969<>0,IF(MAX(W956:W968)<W969,Labels!$B$163,INDEX($AH$955:$AH$967,MATCH(MAX(W956:W968),W956:W968,0))),\"\")","v":""},{"$f":"IF(X969<>0,IF(MAX(X956:X968)<X969,Labels!$B$163,INDEX($AH$955:$AH$967,MATCH(MAX(X956:X968),X956:X968,0))),\"\")","v":""},{"$f":"IF(Y969<>0,IF(MAX(Y956:Y968)<Y969,Labels!$B$163,INDEX($AH$955:$AH$967,MATCH(MAX(Y956:Y968),Y956:Y968,0))),\"\")","v":""},{"$f":"IF(Z969<>0,IF(MAX(Z956:Z968)<Z969,Labels!$B$163,INDEX($AH$955:$AH$967,MATCH(MAX(Z956:Z968),Z956:Z968,0))),\"\")","v":""},{"$f":"IF(AA969<>0,IF(MAX(AA956:AA968)<AA969,Labels!$B$163,INDEX($AH$955:$AH$967,MATCH(MAX(AA956:AA968),AA956:AA968,0))),\"\")","v":""},{"$f":"IF(AB969<>0,IF(MAX(AB956:AB968)<AB969,Labels!$B$163,INDEX($AH$955:$AH$967,MATCH(MAX(AB956:AB968),AB956:AB968,0))),\"\")","v":""},{"$f":"IF(AC969<>0,IF(MAX(AC956:AC968)<AC969,Labels!$B$163,INDEX($AH$955:$AH$967,MATCH(MAX(AC956:AC968),AC956:AC968,0))),\"\")","v":""},{"$f":"IF(AD969<>0,IF(MAX(AD956:AD968)<AD969,Labels!$B$163,INDEX($AH$955:$AH$967,MATCH(MAX(AD956:AD968),AD956:AD968,0))),\"\")","v":""},{"$f":"IF(AE969<>0,IF(MAX(AE956:AE968)<AE969,Labels!$B$163,INDEX($AH$955:$AH$967,MATCH(MAX(AE956:AE968),AE956:AE968,0))),\"\")","v":""},{"$f":"IF(AF969<>0,IF(MAX(AF956:AF968)<AF969,Labels!$B$163,INDEX($AH$955:$AH$967,MATCH(MAX(AF956:AF968),AF956:AF968,0))),\"\")","v":""},{"$f":"SUM(B399:AF399)","v":0}]
[{"$f":"$A$15","v":"00.00-06.00h"},null,null,null,null,null,null,null,null,null,null,null,null,null,null,null,null,null,null,null,null,null,null,null,null,null,null,null,null,null,null,null,{"$f":"SUM(B400:AF400)","v":0}]
[{"$f":"$A$16","v":"06.00-20.00h"},null,null,null,null,null,null,null,null,null,null,null,null,null,null,null,null,null,null,null,null,null,null,null,null,null,null,null,null,null,null,null,{"$f":"SUM(B401:AF401)","v":0},"[0]"]
[{"$f":"$A$17","v":"20.00-24.00h"}]
[{"$f":"$A$18","v":"Feiertag \"ft\""},{"$f":"IF(WEEKDAY(B394,2)<=6,IF(KALENDER!E15=\"x\",Labels!$B$118,\"\"),\"\")","v":""},{"$f":"IF(WEEKDAY(C394,2)<=6,IF(KALENDER!F15=\"x\",Labels!$B$118,\"\"),\"\")","v":""},{"$f":"IF(WEEKDAY(D394,2)<=6,IF(KALENDER!G15=\"x\",Labels!$B$118,\"\"),\"\")","v":""},{"$f":"IF(WEEKDAY(E394,2)<=6,IF(KALENDER!H15=\"x\",Labels!$B$118,\"\"),\"\")","v":""},{"$f":"IF(WEEKDAY(F394,2)<=6,IF(KALENDER!I15=\"x\",Labels!$B$118,\"\"),\"\")","v":""},{"$f":"IF(WEEKDAY(G394,2)<=6,IF(KALENDER!J15=\"x\",Labels!$B$118,\"\"),\"\")","v":""},{"$f":"IF(WEEKDAY(H394,2)<=6,IF(KALENDER!K15=\"x\",Labels!$B$118,\"\"),\"\")","v":""},{"$f":"IF(WEEKDAY(I394,2)<=6,IF(KALENDER!L15=\"x\",Labels!$B$118,\"\"),\"\")","v":""},{"$f":"IF(WEEKDAY(J394,2)<=6,IF(KALENDER!M15=\"x\",Labels!$B$118,\"\"),\"\")","v":""},{"$f":"IF(WEEKDAY(K394,2)<=6,IF(KALENDER!N15=\"x\",Labels!$B$118,\"\"),\"\")","v":""},{"$f":"IF(WEEKDAY(L394,2)<=6,IF(KALENDER!O15=\"x\",Labels!$B$118,\"\"),\"\")","v":""},{"$f":"IF(WEEKDAY(M394,2)<=6,IF(KALENDER!P15=\"x\",Labels!$B$118,\"\"),\"\")","v":""},{"$f":"IF(WEEKDAY(N394,2)<=6,IF(KALENDER!Q15=\"x\",Labels!$B$118,\"\"),\"\")","v":""},{"$f":"IF(WEEKDAY(O394,2)<=6,IF(KALENDER!R15=\"x\",Labels!$B$118,\"\"),\"\")","v":""},{"$f":"IF(WEEKDAY(P394,2)<=6,IF(KALENDER!S15=\"x\",Labels!$B$118,\"\"),\"\")","v":""},{"$f":"IF(WEEKDAY(Q394,2)<=6,IF(KALENDER!T15=\"x\",Labels!$B$118,\"\"),\"\")","v":""},{"$f":"IF(WEEKDAY(R394,2)<=6,IF(KALENDER!U15=\"x\",Labels!$B$118,\"\"),\"\")","v":""},{"$f":"IF(WEEKDAY(S394,2)<=6,IF(KALENDER!V15=\"x\",Labels!$B$118,\"\"),\"\")","v":""},{"$f":"IF(WEEKDAY(T394,2)<=6,IF(KALENDER!W15=\"x\",Labels!$B$118,\"\"),\"\")","v":""},{"$f":"IF(WEEKDAY(U394,2)<=6,IF(KALENDER!X15=\"x\",Labels!$B$118,\"\"),\"\")","v":""},{"$f":"IF(WEEKDAY(V394,2)<=6,IF(KALENDER!Y15=\"x\",Labels!$B$118,\"\"),\"\")","v":""},{"$f":"IF(WEEKDAY(W394,2)<=6,IF(KALENDER!Z15=\"x\",Labels!$B$118,\"\"),\"\")","v":""},{"$f":"IF(WEEKDAY(X394,2)<=6,IF(KALENDER!AA15=\"x\",Labels!$B$118,\"\"),\"\")","v":""},{"$f":"IF(WEEKDAY(Y394,2)<=6,IF(KALENDER!AB15=\"x\",Labels!$B$118,\"\"),\"\")","v":""},{"$f":"IF(WEEKDAY(Z394,2)<=6,IF(KALENDER!AC15=\"x\",Labels!$B$118,\"\"),\"\")","v":""},{"$f":"IF(WEEKDAY(AA394,2)<=6,IF(KALENDER!AD15=\"x\",Labels!$B$118,\"\"),\"\")","v":""},{"$f":"IF(WEEKDAY(AB394,2)<=6,IF(KALENDER!AE15=\"x\",Labels!$B$118,\"\"),\"\")","v":""},{"$f":"IF(WEEKDAY(AC394,2)<=6,IF(KALENDER!AF15=\"x\",Labels!$B$118,\"\"),\"\")","v":""},{"$f":"IF(WEEKDAY(AD394,2)<=6,IF(KALENDER!AG15=\"x\",Labels!$B$118,\"\"),\"\")","v":""},{"$f":"IF(WEEKDAY(AE394,2)<=6,IF(KALENDER!AH15=\"x\",Labels!$B$118,\"\"),\"\")","v":""},{"$f":"IF(WEEKDAY(AF394,2)<=6,IF(KALENDER!AI15=\"x\",Labels!$B$118,\"\"),\"\")","v":""},{"$f":"SUM(B403:AF403)","v":0}]
[{"$f":"$A$19","v":"Gutschrift \"ft\""},{"$f":"IF(AND(B402=Labels!$B$118,WEEKDAY(B394,2)<6,B$396<>\"\"),($J$7*5/$AR$50)*$B$391%,\"\")","v":""},{"$f":"IF(AND(C402=Labels!$B$118,WEEKDAY(C394,2)<6,C$396<>\"\"),($J$7*5/$AR$50)*$B$391%,\"\")","v":""},{"$f":"IF(AND(D402=Labels!$B$118,WEEKDAY(D394,2)<6,D$396<>\"\"),($J$7*5/$AR$50)*$B$391%,\"\")","v":""},{"$f":"IF(AND(E402=Labels!$B$118,WEEKDAY(E394,2)<6,E$396<>\"\"),($J$7*5/$AR$50)*$B$391%,\"\")","v":""},{"$f":"IF(AND(F402=Labels!$B$118,WEEKDAY(F394,2)<6,F$396<>\"\"),($J$7*5/$AR$50)*$B$391%,\"\")","v":""},{"$f":"IF(AND(G402=Labels!$B$118,WEEKDAY(G394,2)<6,G$396<>\"\"),($J$7*5/$AR$50)*$B$391%,\"\")","v":""},{"$f":"IF(AND(H402=Labels!$B$118,WEEKDAY(H394,2)<6,H$396<>\"\"),($J$7*5/$AR$50)*$B$391%,\"\")","v":""},{"$f":"IF(AND(I402=Labels!$B$118,WEEKDAY(I394,2)<6,I$396<>\"\"),($J$7*5/$AR$50)*$B$391%,\"\")","v":""},{"$f":"IF(AND(J402=Labels!$B$118,WEEKDAY(J394,2)<6,J$396<>\"\"),($J$7*5/$AR$50)*$B$391%,\"\")","v":""},{"$f":"IF(AND(K402=Labels!$B$118,WEEKDAY(K394,2)<6,K$396<>\"\"),($J$7*5/$AR$50)*$B$391%,\"\")","v":""},{"$f":"IF(AND(L402=Labels!$B$118,WEEKDAY(L394,2)<6,L$396<>\"\"),($J$7*5/$AR$50)*$B$391%,\"\")","v":""},{"$f":"IF(AND(M402=Labels!$B$118,WEEKDAY(M394,2)<6,M$396<>\"\"),($J$7*5/$AR$50)*$B$391%,\"\")","v":""},{"$f":"IF(AND(N402=Labels!$B$118,WEEKDAY(N394,2)<6,N$396<>\"\"),($J$7*5/$AR$50)*$B$391%,\"\")","v":""},{"$f":"IF(AND(O402=Labels!$B$118,WEEKDAY(O394,2)<6,O$396<>\"\"),($J$7*5/$AR$50)*$B$391%,\"\")","v":""},{"$f":"IF(AND(P402=Labels!$B$118,WEEKDAY(P394,2)<6,P$396<>\"\"),($J$7*5/$AR$50)*$B$391%,\"\")","v":""},{"$f":"IF(AND(Q402=Labels!$B$118,WEEKDAY(Q394,2)<6,Q$396<>\"\"),($J$7*5/$AR$50)*$B$391%,\"\")","v":""},{"$f":"IF(AND(R402=Labels!$B$118,WEEKDAY(R394,2)<6,R$396<>\"\"),($J$7*5/$AR$50)*$B$391%,\"\")","v":""},{"$f":"IF(AND(S402=Labels!$B$118,WEEKDAY(S394,2)<6,S$396<>\"\"),($J$7*5/$AR$50)*$B$391%,\"\")","v":""},{"$f":"IF(AND(T402=Labels!$B$118,WEEKDAY(T394,2)<6,T$396<>\"\"),($J$7*5/$AR$50)*$B$391%,\"\")","v":""},{"$f":"IF(AND(U402=Labels!$B$118,WEEKDAY(U394,2)<6,U$396<>\"\"),($J$7*5/$AR$50)*$B$391%,\"\")","v":""},{"$f":"IF(AND(V402=Labels!$B$118,WEEKDAY(V394,2)<6,V$396<>\"\"),($J$7*5/$AR$50)*$B$391%,\"\")","v":""},{"$f":"IF(AND(W402=Labels!$B$118,WEEKDAY(W394,2)<6,W$396<>\"\"),($J$7*5/$AR$50)*$B$391%,\"\")","v":""},{"$f":"IF(AND(X402=Labels!$B$118,WEEKDAY(X394,2)<6,X$396<>\"\"),($J$7*5/$AR$50)*$B$391%,\"\")","v":""},{"$f":"IF(AND(Y402=Labels!$B$118,WEEKDAY(Y394,2)<6,Y$396<>\"\"),($J$7*5/$AR$50)*$B$391%,\"\")","v":""},{"$f":"IF(AND(Z402=Labels!$B$118,WEEKDAY(Z394,2)<6,Z$396<>\"\"),($J$7*5/$AR$50)*$B$391%,\"\")","v":""},{"$f":"IF(AND(AA402=Labels!$B$118,WEEKDAY(AA394,2)<6,AA$396<>\"\"),($J$7*5/$AR$50)*$B$391%,\"\")","v":""},{"$f":"IF(AND(AB402=Labels!$B$118,WEEKDAY(AB394,2)<6,AB$396<>\"\"),($J$7*5/$AR$50)*$B$391%,\"\")","v":""},{"$f":"IF(AND(AC402=Labels!$B$118,WEEKDAY(AC394,2)<6,AC$396<>\"\"),($J$7*5/$AR$50)*$B$391%,\"\")","v":""},{"$f":"IF(AND(AD402=Labels!$B$118,WEEKDAY(AD394,2)<6,AD$396<>\"\"),($J$7*5/$AR$50)*$B$391%,\"\")","v":""},{"$f":"IF(AND(AE402=Labels!$B$118,WEEKDAY(AE394,2)<6,AE$396<>\"\"),($J$7*5/$AR$50)*$B$391%,\"\")","v":""},{"$f":"IF(AND(AF402=Labels!$B$118,WEEKDAY(AF394,2)<6,AF$396<>\"\"),($J$7*5/$AR$50)*$B$391%,\"\")","v":""}]
[{"$f":"$A$20","v":"Tagestotal"},{"$f":"SUM(B399:B401)","v":0},{"$f":"SUM(C399:C401)","v":0},0,0,0,0,0,0,0,0,0,0,0,0,0,0,0,0,0,0,0,0,0,0,0,0,0,0,0,0,0]
[{"$f":"$A$21","v":"."}]
[{"$f":"$A$22","v":"."}]
[{"$f":"$A$23","v":"Monatsübergang"},{"$f":"IF(WEEKDAY(B394)=1,TEXT(B394-1,\"MMM\"&Labels!B13),\"\")","v":""},null,null,null,null,null,null,null,null,null,null,null,null,null,null,null,null,null,null,null,null,null,null,null,null,null,null,null,null,null,{"$f":"IF(AND(WEEKDAY(AF394)>1,WEEKDAY(AF394)<7),TEXT(DATE($B$5,MONTH(AF394)+1,1),\"MMM\"&Labels!B13),\"\")","v":""}]
[{"$f":"$A$24","v":"Wochentotal"},{"$f":"IF(WEEKDAY(B394)=7,SUMIF($B331:$AF331,B395,$B340:$AF340)+SUMIF($B395:$AF395,B395,$B404:$AF404)+SUMIF($B459:$AF459,B395,$B468:$AF468),B407)","v":""},{"$f":"IF(WEEKDAY(C394)=7,SUMIF($B331:$AF331,C395,$B340:$AF340)+SUMIF($B395:$AF395,C395,$B404:$AF404)+SUMIF($B459:$AF459,C395,$B468:$AF468),\"\")","v":0},"","","","","","",0,"","","","","","",0,"","","","","","",0,"","","","","","",0,{"$f":"IF(WEEKDAY(AF394)=7,SUMIF($B331:$AF331,AF395,$B340:$AF340)+SUMIF($B395:$AF395,AF395,$B404:$AF404)+SUMIF($B459:$AF459,AF395,$B468:$AF468),AF407)","v":""},{"$f":"SUM(B409:AF409)","v":0}]
[{"$f":"$A$25","v":"Zeitzuschlag 1)"},{"$f":"IF(B416=\"FALSCH\",\"\",B416)","v":""},{"$f":"IF(C416=\"FALSCH\",\"\",C416)","v":""},"","","","","","","","","","","","","","","","","","","","","","","","","","","","","",0,"[1]"]
[{"$f":"$A$26","v":"Zeitzuschlag 2)"},{"$f":"IF((B399+B401)=0,\"\",SUM(B399,B401))","v":""},{"$f":"IF((C399+C401)=0,\"\",SUM(C399,C401))","v":""},"","","","","","","","","","","","","","","","","","","","","","","","","","","","","",{"$f":"SUM(B411:AF411)","v":0},"[2]"]
[{"$f":"$A$27","v":"Zeitzuschlag 3)"},{"$f":"SUM(B412:B415)","v":0},{"$f":"SUM(C412:C415)","v":0},0,0,0,0,0,0,0,0,0,0,0,0,0,0,0,0,0,0,0,0,0,0,0,0,0,0,0,0,0,0,"[3]"]
[{"$f":"$A$28","v":"Sonntag Tag"},{"$f":"IF(WEEKDAY(B394)=1,B400,\"\")","v":""},{"$f":"IF(WEEKDAY(C394)=1,C400,\"\")","v":""},0,"","","","","","",0,"","","","","","",0,"","","","","","",0,"","","","","","",0,0,"[4]"]
[{"$f":"$A$29","v":"Sonntag Nacht"},{"$f":"IF(WEEKDAY(B394)=1,SUM(B399+B401),\"\")","v":""},{"$f":"IF(WEEKDAY(C394)=1,SUM(C399+C401),\"\")","v":""},0,"","","","","","",0,"","","","","","",0,"","","","","","",0,"","","","","","",0,0,"[5]"]
[{"$f":"$A$30","v":"ft-Tazuschlag"},{"$f":"IF(B402=Labels!$B$118,B400,\"\")","v":""},{"$f":"IF(C402=Labels!$B$118,C400,\"\")","v":""},{"$f":"IF(D402=Labels!$B$118,D400,\"\")","v":""},{"$f":"IF(E402=Labels!$B$118,E400,\"\")","v":""},{"$f":"IF(F402=Labels!$B$118,F400,\"\")","v":""},{"$f":"IF(G402=Labels!$B$118,G400,\"\")","v":""},{"$f":"IF(H402=Labels!$B$118,H400,\"\")","v":""},{"$f":"IF(I402=Labels!$B$118,I400,\"\")","v":""},{"$f":"IF(J402=Labels!$B$118,J400,\"\")","v":""},{"$f":"IF(K402=Labels!$B$118,K400,\"\")","v":""},{"$f":"IF(L402=Labels!$B$118,L400,\"\")","v":""},{"$f":"IF(M402=Labels!$B$118,M400,\"\")","v":""},{"$f":"IF(N402=Labels!$B$118,N400,\"\")","v":""},{"$f":"IF(O402=Labels!$B$118,O400,\"\")","v":""},{"$f":"IF(P402=Labels!$B$118,P400,\"\")","v":""},{"$f":"IF(Q402=Labels!$B$118,Q400,\"\")","v":""},{"$f":"IF(R402=Labels!$B$118,R400,\"\")","v":""},{"$f":"IF(S402=Labels!$B$118,S400,\"\")","v":""},{"$f":"IF(T402=Labels!$B$118,T400,\"\")","v":""},{"$f":"IF(U402=Labels!$B$118,U400,\"\")","v":""},{"$f":"IF(V402=Labels!$B$118,V400,\"\")","v":""},{"$f":"IF(W402=Labels!$B$118,W400,\"\")","v":""},{"$f":"IF(X402=Labels!$B$118,X400,\"\")","v":""},{"$f":"IF(Y402=Labels!$B$118,Y400,\"\")","v":""},{"$f":"IF(Z402=Labels!$B$118,Z400,\"\")","v":""},{"$f":"IF(AA402=Labels!$B$118,AA400,\"\")","v":""},{"$f":"IF(AB402=Labels!$B$118,AB400,\"\")","v":""},{"$f":"IF(AC402=Labels!$B$118,AC400,\"\")","v":""},{"$f":"IF(AD402=Labels!$B$118,AD400,\"\")","v":""},{"$f":"IF(AE402=Labels!$B$118,AE400,\"\")","v":""},{"$f":"IF(AF402=Labels!$B$118,AF400,\"\")","v":""},0,"[6]"]
[{"$f":"$A$31","v":"ft-Nazuschlag"},{"$f":"IF(B402=Labels!$B$118,SUM(B399,B401),\"\")","v":""},{"$f":"IF(C402=Labels!$B$118,SUM(C399,C401),\"\")","v":""},{"$f":"IF(D402=Labels!$B$118,SUM(D399,D401),\"\")","v":""},{"$f":"IF(E402=Labels!$B$118,SUM(E399,E401),\"\")","v":""},{"$f":"IF(F402=Labels!$B$118,SUM(F399,F401),\"\")","v":""},{"$f":"IF(G402=Labels!$B$118,SUM(G399,G401),\"\")","v":""},{"$f":"IF(H402=Labels!$B$118,SUM(H399,H401),\"\")","v":""},{"$f":"IF(I402=Labels!$B$118,SUM(I399,I401),\"\")","v":""},{"$f":"IF(J402=Labels!$B$118,SUM(J399,J401),\"\")","v":""},{"$f":"IF(K402=Labels!$B$118,SUM(K399,K401),\"\")","v":""},{"$f":"IF(L402=Labels!$B$118,SUM(L399,L401),\"\")","v":""},{"$f":"IF(M402=Labels!$B$118,SUM(M399,M401),\"\")","v":""},{"$f":"IF(N402=Labels!$B$118,SUM(N399,N401),\"\")","v":""},{"$f":"IF(O402=Labels!$B$118,SUM(O399,O401),\"\")","v":""},{"$f":"IF(P402=Labels!$B$118,SUM(P399,P401),\"\")","v":""},{"$f":"IF(Q402=Labels!$B$118,SUM(Q399,Q401),\"\")","v":""},{"$f":"IF(R402=Labels!$B$118,SUM(R399,R401),\"\")","v":""},{"$f":"IF(S402=Labels!$B$118,SUM(S399,S401),\"\")","v":""},{"$f":"IF(T402=Labels!$B$118,SUM(T399,T401),\"\")","v":""},{"$f":"IF(U402=Labels!$B$118,SUM(U399,U401),\"\")","v":""},{"$f":"IF(V402=Labels!$B$118,SUM(V399,V401),\"\")","v":""},{"$f":"IF(W402=Labels!$B$118,SUM(W399,W401),\"\")","v":""},{"$f":"IF(X402=Labels!$B$118,SUM(X399,X401),\"\")","v":""},{"$f":"IF(Y402=Labels!$B$118,SUM(Y399,Y401),\"\")","v":""},{"$f":"IF(Z402=Labels!$B$118,SUM(Z399,Z401),\"\")","v":""},{"$f":"IF(AA402=Labels!$B$118,SUM(AA399,AA401),\"\")","v":""},{"$f":"IF(AB402=Labels!$B$118,SUM(AB399,AB401),\"\")","v":""},{"$f":"IF(AC402=Labels!$B$118,SUM(AC399,AC401),\"\")","v":""},{"$f":"IF(AD402=Labels!$B$118,SUM(AD399,AD401),\"\")","v":""},{"$f":"IF(AE402=Labels!$B$118,SUM(AE399,AE401),\"\")","v":""},{"$f":"IF(AF402=Labels!$B$118,SUM(AF399,AF401),\"\")","v":""},{"$f":"AG399","v":0},"[7]"]
[{"$f":"$A$32","v":"Zuschlag  blind (Wochentotal)"},{"$f":"IF(OR(ISTEXT(B408),B408=\"\",B408<$B$7),\"\",ROUND(((B408-$B$7)*25%)/25,4)*25)","v":""},{"$f":"IF(OR(ISTEXT(C408),C408=\"\",C408<$B$7),\"\",ROUND(((C408-$B$7)*25%)/25,4)*25)","v":""},"","","","","","","","","","","","","","","","","","","","","","","","","","","","","",{"$f":"SUM(AG398+AG400)","v":0},"[8]"]
[null,{"$f":"$B$33","v":"1)   25% Zeitzuschlag für Überschreitung Wochentotal"},null,null,null,null,null,null,null,null,null,{"$f":"$L$33","v":"2) 100% Zeitzuschlag für Nachtarbeit"},null,null,null,null,null,null,null,{"$f":"$T$33","v":"Eingabe der ausbezahlten Stunden Vorjahressaldo"},null,null,null,null,null,null,null,null,null,null,null,null,{"$f":"SUM(AG398:AG400)","v":0},"[9]"]
[null,{"$f":"$B$34","v":"3) 100% Zeitzuschlag für Sonn- und Feiertagsarbeit"},null,null,null,null,null,null,null,null,null,null,null,null,null,null,null,null,null,{"$f":"$T$34","v":"Eingabe der ausbezahlten Stunden laufendes Jahr (Überstunden)"},null,null,null,null,null,null,null,null,null,null,null,null,{"$f":"SUM(AG396+AG402)","v":0},"[10]"]
[{"$f":"$A$35","v":"Bemerkungen"},null,null,null,null,null,null,null,null,null,null,null,null,null,null,null,null,null,null,null,null,null,null,null,null,null,null,null,null,null,null,null,{"$f":"SUM(AG396:AG410)","v":0},"[11]"]
[null,null,null,null,null,null,null,null,null,null,null,null,null,null,null,null,null,null,null,null,null,null,null,null,null,null,null,null,null,null,null,null,{"$f":"AG395","v":168}]
[null,null,null,null,null,null,null,null,null,null,null,null,null,null,null,null,null,null,null,null,null,null,null,null,null,null,null,null,null,null,null,null,{"$f":"SUM(AG419-AG395)","v":-168}]
[]
[{"$f":"$A$39","v":"Zusammenstellung"},null,null,null,null,null,{"$f":"$G$39","v":"Jan"},null,{"$f":"$I$39","v":"Feb"},null,{"$f":"$K$39","v":"Mrz"},null,{"$f":"$M$39","v":"Apr"},null,{"$f":"$O$39","v":"Mai"},null,{"$f":"$Q$39","v":"Jun"},null,{"$f":"$S$39","v":"Jul"},null,{"$f":"$U$39","v":"Aug"},null,{"$f":"$W$39","v":"Sep"},null,{"$f":"$Y$39","v":"Okt"},null,{"$f":"$AA$39","v":"Nov"},null,{"$f":"$AC$39","v":"Dez"},null,{"$f":"$AE$39","v":"Jahr"}]
[{"$f":"$A$40","v":"Anstellung %"},null,null,null,null,null,{"$f":"IF($B$4=0,0,$B$4)","v":100},null,{"$f":"IF($B$71=0,0,$B$71)","v":100},null,{"$f":"IF($B$135=0,0,$B$135)","v":100},null,{"$f":"IF($B$199=0,0,$B$199)","v":100},null,{"$f":"IF($B$263=0,0,$B$263)","v":100},null,{"$f":"IF($B$327=0,0,$B$327)","v":100},null,{"$f":"IF($B$391=0,0,$B$391)","v":100},null,{"$f":"IF($B$455=0,0,$B$455)","v":100},null,{"$f":"IF($B$519=0,0,$B$519)","v":100},null,{"$f":"IF($B$583=0,0,$B$583)","v":100},null,{"$f":"IF($B$647=0,0,$B$647)","v":100},null,{"$f":"IF($B$711=0,0,$B$711)","v":100}]
[{"$f":"$A$41","v":"Sollstunden gemäss GAV"},null,null,null,null,null,{"$f":"IF($AG$37=0,0,$AG$37)","v":168},null,{"$f":"IF($AG$100=0,0,$AG$100)","v":160},null,{"$f":"IF($AG$139=0,0,$AG$139)","v":184},null,{"$f":"IF($AG$228=0,0,$AG$228)","v":168},null,{"$f":"IF($AG$292=0,0,$AG$292)","v":176},null,{"$f":"IF($AG$356=0,0,$AG$356)","v":176},null,{"$f":"IF($AG$420=0,0,$AG$420)","v":168},null,{"$f":"IF($AG$484=0,0,$AG$484)","v":184},null,{"$f":"IF($AG$548=0,0,$AG$548)","v":176},null,{"$f":"IF($AG$612=0,0,$AG$612)","v":168},null,{"$f":"IF($AG$676=0,0,$AG$676)","v":176},null,{"$f":"IF($AG$740=0,0,$AG$740)","v":176},null,{"$f":"SUM(G425:AD425)","v":2080}]
[{"$f":"$A$42","v":"Produktive Stunden"},{"$f":"$B$42","v":"06.00 - 20.00 Uhr"},null,null,null,null,{"$f":"IF($AG$32=0,0,$AG$32)","v":0},null,{"$f":"IF($AG$95=0,0,$AG$95)","v":0},null,{"$f":"IF($AG$159=0,0,$AG$159)","v":0},null,{"$f":"IF($AG$223=0,0,$AG$223)","v":0},null,{"$f":"IF($AG$287=0,0,$AG$287)","v":0},null,{"$f":"IF($AG$351=0,0,$AG$351)","v":0},null,{"$f":"IF($AG$415=0,0,$AG$415)","v":0},null,{"$f":"IF($AG$479=0,0,$AG$479)","v":0},null,{"$f":"IF($AG$543=0,0,$AG$543)","v":0},null,{"$f":"IF($AG$607=0,0,$AG$607)","v":0},null,{"$f":"IF($AG$671=0,0,$AG$671)","v":0},null,{"$f":"IF($AG$735=0,0,$AG$735)","v":0},null,{"$f":"SUM(G426:AD426)","v":0}]
[null,{"$f":"$B$43","v":"Nacht-, Sonn-, Feiertagsarbeit"},null,null,null,null,{"$f":"IF($AG$33=0,0,$AG$33)","v":0},null,{"$f":"IF($AG$96=0,0,$AG$96)","v":0},null,{"$f":"IF($AG$160=0,0,$AG$160)","v":0},null,{"$f":"IF($AG$224=0,0,$AG$224)","v":0},null,{"$f":"IF($AG$288=0,0,$AG$288)","v":0},null,{"$f":"IF($AG$352=0,0,$AG$352)","v":0},null,{"$f":"IF($AG$416=0,0,$AG$416)","v":0},null,{"$f":"IF($AG$480=0,0,$AG$480)","v":0},null,{"$f":"IF($AG$544=0,0,$AG$544)","v":0},null,{"$f":"IF($AG$608=0,0,$AG$608)","v":0},null,{"$f":"IF($AG$672=0,0,$AG$672)","v":0},null,{"$f":"IF($AG$736=0,0,$AG$736)","v":0},null,{"$f":"SUM(G427:AD427)","v":0}]
[{"$f":"$A$44","v":"Zeitzuschläge"},{"$f":"$B$44","v":"aus Wochentotal"},null,null,null,null,{"$f":"IF($AG$25=0,0,$AG$25)","v":0},null,{"$f":"IF($AG$88=0,0,$AG$88)","v":0},null,{"$f":"IF($AG$152=0,0,$AG$152)","v":0},null,{"$f":"IF($AG$216=0,0,$AG$216)","v":0},null,{"$f":"IF($AG$280=0,0,$AG$280)","v":0},null,{"$f":"IF($AG$344=0,0,$AG$344)","v":0},null,{"$f":"IF($AG$408=0,0,$AG$408)","v":0},null,{"$f":"IF($AG$472=0,0,$AG$472)","v":0},null,{"$f":"IF($AG$536=0,0,$AG$536)","v":0},null,{"$f":"IF($AG$600=0,0,$AG$600)","v":0},null,{"$f":"IF($AG$664=0,0,$AG$664)","v":0},null,{"$f":"IF($AG$728=0,0,$AG$728)","v":0},null,{"$f":"SUM(G428:AD428)","v":0}]
[null,{"$f":"$B$45","v":"aus Nacht-, Sonn-, Feiertagsarbeiten"},null,null,null,null,{"$f":"IF($AJ$21=0,0,$AJ$21)","v":0},null,{"$f":"IF($AK$21=0,0,$AK$21)","v":0},null,{"$f":"IF($AL$21=0,0,$AL$21)","v":0},null,{"$f":"IF($AM$21=0,0,$AM$21)","v":0},null,{"$f":"IF($AN$21=0,0,$AN$21)","v":0},null,{"$f":"IF($AO$21=0,0,$AO$21)","v":0},null,{"$f":"IF($AP$21=0,0,$AP$21)","v":0},null,{"$f":"IF($AQ$21=0,0,$AQ$21)","v":0},null,{"$f":"IF($AR$21=0,0,$AR$21)","v":0},null,{"$f":"IF($AS$21=0,0,$AS$21)","v":0},null,{"$f":"IF($AT$21=0,0,$AT$21)","v":0},null,{"$f":"IF($AU$21=0,0,$AU$21)","v":0},null,{"$f":"SUM(G429:AD429)","v":0}]
[{"$f":"$A$46","v":"Unproduktive Stunden"}]
[{"$f":"$A$47","v":"   Absenzen, Kurzabsenzen Art. 11 GAV"},null,null,null,null,{"$f":"$F$47","v":"a"},{"$f":"IF($AJ$3=0,0,$AJ$3)","v":0},null,{"$f":"IF($AK$3=0,0,$AK$3)","v":0},null,{"$f":"IF($AL$3=0,0,$AL$3)","v":0},null,{"$f":"IF($AM$3=0,0,$AM$3)","v":0},null,{"$f":"IF($AN$3=0,0,$AN$3)","v":0},null,{"$f":"IF($AO$3=0,0,$AO$3)","v":0},null,{"$f":"IF($AP$3=0,0,$AP$3)","v":0},null,{"$f":"IF($AQ$3=0,0,$AQ$3)","v":0},null,{"$f":"IF($AR$3=0,0,$AR$3)","v":0},null,{"$f":"IF($AS$3=0,0,$AS$3)","v":0},null,{"$f":"IF(AT$3=0,0,$AT$3)","v":0},null,{"$f":"IF($AU$3=0,0,$AU$3)","v":0},null,{"$f":"IF($AV$3=0,0,$AV$3)","v":0}]
[{"$f":"$A$48","v":"   Ferien Art. 12.1 GAV"},null,null,null,null,{"$f":"$F$48","v":"f"},{"$f":"IF($AJ$4=0,0,$AJ$4)","v":0},null,{"$f":"IF($AK$4=0,0,$AK$4)","v":0},null,{"$f":"IF($AL$4=0,0,$AL$4)","v":0},null,{"$f":"IF($AM$4=0,0,$AM$4)","v":0},null,{"$f":"IF($AN$4=0,0,$AN$4)","v":0},null,{"$f":"IF($AO$4=0,0,$AO$4)","v":0},null,{"$f":"IF($AP$4=0,0,$AP$4)","v":0},null,{"$f":"IF($AQ$4=0,0,$AQ$4)","v":0},null,{"$f":"IF($AR$4=0,0,$AR$4)","v":0},null,{"$f":"IF($AS$4=0,0,$AS$4)","v":0},null,{"$f":"IF($AT$4=0,0,$AT$4)","v":0},null,{"$f":"IF($AU$4=0,0,$AU$4)","v":0},null,{"$f":"IF($AV$4=0,0,$AV$4)","v":0}]
[{"$f":"Labels!$B$181","v":"   Ferien unbezahlt"},null,null,null,null,{"$f":"Labels!$B$182","v":"fu"},{"$f":"IF($AJ$13=0,0,$AJ$13)","v":0},null,{"$f":"IF($AK$13=0,0,$AK$13)","v":0},null,{"$f":"IF($AL$13=0,0,$AL$13)","v":0},null,{"$f":"IF($AM$13=0,0,$AM$13)","v":0},null,{"$f":"IF($AN$13=0,0,$AN$13)","v":0},null,{"$f":"IF($AO$13=0,0,$AO$13)","v":0},null,{"$f":"IF($AP$13=0,0,$AP$13)","v":0},null,{"$f":"IF($AQ$13=0,0,$AQ$13)","v":0},null,{"$f":"IF($AR$13=0,0,$AR$13)","v":0},null,{"$f":"IF($AS$13=0,0,$AS$13)","v":0},null,{"$f":"IF($AT$13=0,0,$AT$13)","v":0},null,{"$f":"IF($AU$13=0,0,$AU$13)","v":0},null,{"$f":"IF($AV$13=0,0,$AV$13)","v":0}]
[{"$f":"$A$50","v":"   Feiertage Art. 12.2 GAV"},null,{"$f":"IF($AJ$18=\"\",\"\",$AJ$18)","v":""},null,null,{"$f":"$F$50","v":"ft"},{"$f":"IF($AJ$16=0,0,$AJ$16)","v":0},null,{"$f":"IF($AK$16=0,0,$AK$16)","v":0},null,{"$f":"IF($AL$16=0,0,$AL$16)","v":0},null,{"$f":"IF($AM$16=0,0,$AM$16)","v":0},null,{"$f":"IF($AN$16=0,0,$AN$16)","v":0},null,{"$f":"IF($AO$16=0,0,$AO$16)","v":0},null,{"$f":"IF($AP$16=0,0,$AP$16)","v":0},null,{"$f":"IF($AQ$16=0,0,$AQ$16)","v":0},null,{"$f":"IF($AR$16=0,0,$AR$16)","v":0},null,{"$f":"IF($AS$16=0,0,$AS$16)","v":0},null,{"$f":"IF($AT$16=0,0,$AT$16)","v":0},null,{"$f":"IF($AU$16=0,0,$AU$16)","v":0},null,{"$f":"IF($AV$16=0,0,$AV$16)","v":0}]
[{"$f":"$A$51","v":"   Krankheit Art. 13 GAV"},null,null,null,null,{"$f":"$F$51","v":"k"},{"$f":"IF($AJ$5=0,0,$AJ$5)","v":0},null,{"$f":"IF($AK$5=0,0,$AK$5)","v":0},null,{"$f":"IF($AL$5=0,0,$AL$5)","v":0},null,{"$f":"IF($AM$5=0,0,$AM$5)","v":0},null,{"$f":"IF($AN$5=0,0,$AN$5)","v":0},null,{"$f":"IF($AO$5=0,0,$AO$5)","v":0},null,{"$f":"IF($AP$5=0,0,$AP$5)","v":0},null,{"$f":"IF($AQ$5=0,0,$AQ$5)","v":0},null,{"$f":"IF($AR$5=0,0,$AR$5)","v":0},null,{"$f":"IF($AS$5=0,0,$AS$5)","v":0},null,{"$f":"IF($AT$5=0,0,$AT$5)","v":0},null,{"$f":"IF($AU$5=0,0,$AU$5)","v":0},null,{"$f":"IF($AV$5=0,0,$AV$5)","v":0}]
[{"$f":"$A$52","v":"   Unfall Art. 14 GAV"},null,null,null,null,{"$f":"$F$52","v":"u"},{"$f":"IF($AJ$6=0,0,$AJ$6)","v":0},null,{"$f":"IF($AK$6=0,0,$AK$6)","v":0},null,{"$f":"IF($AL$6=0,0,$AL$6)","v":0},null,{"$f":"IF($AM$6=0,0,$AM$6)","v":0},null,{"$f":"IF($AN$6=0,0,$AN$6)","v":0},null,{"$f":"IF($AO$6=0,0,$AO$6)","v":0},null,{"$f":"IF($AP$6=0,0,$AP$6)","v":0},null,{"$f":"IF($AQ$6=0,0,$AQ$6)","v":0},null,{"$f":"IF($AR$6=0,0,$AR$6)","v":0},null,{"$f":"IF($AS$6=0,0,$AS$6)","v":0},null,{"$f":"IF($AT$6=0,0,$AT$6)","v":0},null,{"$f":"IF($AU$6=0,0,$AU$6)","v":0},null,{"$f":"IF($AV$6=0,0,$AV$6)","v":0}]
[{"$f":"$A$53","v":"   Schwangerschaft/Mutterschaft Art. 15 GAV"},null,null,null,null,{"$f":"$F$53","v":"s"},{"$f":"IF($AJ$7=0,0,$AJ$7)","v":0},null,{"$f":"IF($AK$7=0,0,$AK$7)","v":0},null,{"$f":"IF($AL$7=0,0,$AL$7)","v":0},null,{"$f":"IF($AM$7=0,0,$AM$7)","v":0},null,{"$f":"IF($AN$7=0,0,$AN$7)","v":0},null,{"$f":"IF($AO$7=0,0,$AO$7)","v":0},null,{"$f":"IF($AP$7=0,0,$AP$7)","v":0},null,{"$f":"IF($AQ$7=0,0,$AQ$7)","v":0},null,{"$f":"IF($AR$7=0,0,$AR$7)","v":0},null,{"$f":"IF($AS$7=0,0,$AS$7)","v":0},null,{"$f":"IF($AT$7=0,0,$AT$7)","v":0},null,{"$f":"IF($AU$7=0,0,$AU$7)","v":0},null,{"$f":"IF($AV$7=0,0,$AV$7)","v":0}]
[{"$f":"$A$54","v":"   Militär/Beförderung/Zivilschutz Art. 16 GAV"},null,null,null,null,{"$f":"$F$54","v":"m"},{"$f":"IF($AJ$8=0,0,$AJ$8)","v":0},null,{"$f":"IF($AK$8=0,0,$AK$8)","v":0},null,{"$f":"IF($AL$8=0,0,$AL$8)","v":0},null,{"$f":"IF($AM$8=0,0,$AM$8)","v":0},null,{"$f":"IF($AN$8=0,0,$AN$8)","v":0},null,{"$f":"IF($AO$8=0,0,$AO$8)","v":0},null,{"$f":"IF($AP$8=0,0,$AP$8)","v":0},null,{"$f":"IF($AQ$8=0,0,$AQ$8)","v":0},null,{"$f":"IF($AR$8=0,0,$AR$8)","v":0},null,{"$f":"IF($AS$8=0,0,$AS$8)","v":0},null,{"$f":"IF($AT$8=0,0,$AT$8)","v":0},null,{"$f":"IF($AU$8=0,0,$AU$8)","v":0},null,{"$f":"IF($AV$8=0,0,$AV$8)","v":0}]
[{"$f":"$A$55","v":"   Kurzarbeit und Schlechtwetterausfälle"},null,null,null,null,{"$f":"$F$55","v":"ka"},{"$f":"IF($AJ$11=0,0,$AJ$11)","v":0},null,{"$f":"IF($AK$11=0,0,$AK$11)","v":0},null,{"$f":"IF($AL$11=0,0,$AL$11)","v":0},null,{"$f":"IF($AM$11=0,0,$AM$11)","v":0},null,{"$f":"IF($AN$11=0,0,$AN$11)","v":0},null,{"$f":"IF($AO$11=0,0,$AO$11)","v":0},null,{"$f":"IF($AP$11=0,0,$AP$11)","v":0},null,{"$f":"IF($AQ$11=0,0,$AQ$11)","v":0},null,{"$f":"IF($AR$11=0,0,$AR$11)","v":0},null,{"$f":"IF($AS$11=0,0,$AS$11)","v":0},null,{"$f":"IF($AT$11=0,0,$AT$11)","v":0},null,{"$f":"IF($AU$11=0,0,$AU$11)","v":0},null,{"$f":"IF($AV$11=0,0,$AV$11)","v":0}]
[{"$f":"$A$56","v":"   Berufsschule"},null,null,null,null,{"$f":"$F$56","v":"bs"},{"$f":"IF($AJ$9=0,0,$AJ$9)","v":0},null,{"$f":"IF($AK$9=0,0,$AK$9)","v":0},null,{"$f":"IF($AL$9=0,0,$AL$9)","v":0},null,{"$f":"IF($AM$9=0,0,$AM$9)","v":0},null,{"$f":"IF($AN$9=0,0,$AN$9)","v":0},null,{"$f":"IF($AO$9=0,0,$AO$9)","v":0},null,{"$f":"IF($AP$9=0,0,$AP$9)","v":0},null,{"$f":"IF($AQ$9=0,0,$AQ$9)","v":0},null,{"$f":"IF($AR$9=0,0,$AR$9)","v":0},null,{"$f":"IF($AS$9=0,0,$AS$9)","v":0},null,{"$f":"IF($AT$9=0,0,$AT$9)","v":0},null,{"$f":"IF($AU$9=0,0,$AU$9)","v":0},null,{"$f":"IF($AV$9=0,0,$AV$9)","v":0}]
[{"$f":"$A$57","v":"   Kurse"},null,null,null,null,{"$f":"$F$57","v":"ku"},{"$f":"IF($AJ$10=0,0,$AJ$10)","v":0},null,{"$f":"IF($AK$10=0,0,$AK$10)","v":0},null,{"$f":"IF($AL$10=0,0,$AL$10)","v":0},null,{"$f":"IF($AM$10=0,0,$AM$10)","v":0},null,{"$f":"IF($AN$10=0,0,$AN$10)","v":0},null,{"$f":"IF($AO$10=0,0,$AO$10)","v":0},null,{"$f":"IF($AP$10=0,0,$AP$10)","v":0},null,{"$f":"IF($AQ$10=0,0,$AQ$10)","v":0},null,{"$f":"IF($AR$10=0,0,$AR$10)","v":0},null,{"$f":"IF($AS$10=0,0,$AS$10)","v":0},null,{"$f":"IF($AT$10=0,0,$AT$10)","v":0},null,{"$f":"IF($AU$10=0,0,$AU$10)","v":0},null,{"$f":"IF($AV$10=0,0,$AV$10)","v":0}]
[{"$f":"$A$58","v":"Kompensations-Std"},{"$f":"$B$58","v":"aus Vorjahr"},null,null,null,{"$f":"$F$58","v":"kv"},{"$f":"IF($AJ$12=0,0,$AJ$12)","v":0},null,{"$f":"IF($AK$12=0,0,$AK$12)","v":0},null,{"$f":"IF($AL$12=0,0,$AL$12)","v":0},null,{"$f":"IF($AM$12=0,0,$AM$12)","v":0},null,{"$f":"IF($AN$12=0,0,$AN$12)","v":0},null,{"$f":"IF($AO$12=0,0,$AO$12)","v":0},null,{"$f":"IF($AP$12=0,0,$AP$12)","v":0},null,{"$f":"IF($AQ$12=0,0,$AQ$12)","v":0},null,{"$f":"IF($AR$12=0,0,$AR$12)","v":0},null,null,null,null,null,null,null,{"$f":"IF($AV$12=0,0,$AV$12)","v":0}]
[null,{"$f":"$B$59","v":"aus laufendem Jahr (Kontrolle)"},null,null,null,{"$f":"$F$59","v":"kj"},{"$f":"IF($AJ$15=0,0,$AJ$15)","v":0},null,{"$f":"IF($AK$15=0,0,$AK$15)","v":0},null,{"$f":"IF($AL$15=0,0,$AL$15)","v":0},null,{"$f":"IF($AM$15=0,0,$AM$15)","v":0},null,{"$f":"IF($AN$15=0,0,$AN$15)","v":0},null,{"$f":"IF($AO$15=0,0,$AO$15)","v":0},null,{"$f":"IF($AP$15=0,0,$AP$15)","v":0},null,{"$f":"IF($AQ$15=0,0,$AQ$15)","v":0},null,{"$f":"IF($AR$15=0,0,$AR$15)","v":0},null,{"$f":"IF($AS$15=0,0,$AS$15)","v":0},null,{"$f":"IF($AT$15=0,0,$AT$15)","v":0},null,{"$f":"IF($AU$15=0,0,$AU$15)","v":0},null,{"$f":"IF($AV$15=0,0,$AV$15)","v":0}]
[{"$f":"$A$60","v":"Auszahlung"},{"$f":"$B$60","v":"Stunden Vorjahressaldo"},null,null,null,null,{"$f":"IF($AJ$19=0,0,$AJ$19)","v":0},null,{"$f":"IF($AK$19=0,0,$AK$19)","v":0},null,{"$f":"IF($AL$19=0,0,$AL$19)","v":0},null,{"$f":"IF($AM$19=0,0,$AM$19)","v":0},null,{"$f":"IF($AN$19=0,0,$AN$19)","v":0},null,{"$f":"IF($AO$19=0,0,$AO$19)","v":0},null,{"$f":"IF($AP$19=0,0,$AP$19)","v":0},null,{"$f":"IF($AQ$19=0,0,$AQ$19)","v":0},null,{"$f":"IF($AR$19=0,0,$AR$19)","v":0},null,null,null,null,null,null,null,{"$f":"IF($AV$19=0,0,$AV$19)","v":0}]
[{"$f":"$A$61","v":"Differenz"},{"$f":"$B$61","v":"nach Kompensation und Auszahlung"},null,null,null,null,{"$f":"IF(ROUND($P$4,3)=0,0,$P$4-SUM(G442+G444))","v":0},null,{"$f":"IF(ROUND(G445,3)=0,0,G445-(SUM(I444+I442)))","v":0},null,{"$f":"IF(ROUND(I445,3)=0,0,I445-(SUM(K444+K442)))","v":0},null,{"$f":"IF(ROUND(K445,3)=0,0,K445-(SUM(M444+M442)))","v":0},null,{"$f":"IF(ROUND(M445,3)=0,0,M445-(SUM(O444+O442)))","v":0},null,{"$f":"IF(ROUND(O445,3)=0,0,O445-(SUM(Q444+Q442)))","v":0},null,{"$f":"IF(ROUND(Q445,3)=0,0,Q445-(SUM(S444+S442)))","v":0},null,{"$f":"IF(ROUND(S445,3)=0,0,S445-(SUM(U444+U442)))","v":0},null,{"$f":"IF(ROUND(U445,3)=0,0,U445-(SUM(W444+W442)))","v":0},null,{"$f":"$Y$61","v":""}]
[{"$f":"$A$62","v":"Auszahlung"},{"$f":"$B$62","v":"Stunden laufendes Jahr"},null,null,null,null,{"$f":"IF($AJ$20=0,0,$AJ$20)","v":0},null,{"$f":"IF($AK$20=0,0,$AK$20)","v":0},null,{"$f":"IF($AL$20=0,0,$AL$20)","v":0},null,{"$f":"IF($AM$20=0,0,$AM$20)","v":0},null,{"$f":"IF($AN$20=0,0,$AN$20)","v":0},null,{"$f":"IF($AO$20=0,0,$AO$20)","v":0},null,{"$f":"IF($AP$20=0,0,$AP$20)","v":0},null,{"$f":"IF($AQ$20=0,0,$AQ$20)","v":0},null,{"$f":"IF($AR$20=0,0,$AR$20)","v":0},null,{"$f":"IF($AS$20=0,0,$AS$20)","v":0},null,{"$f":"IF($AT$20=0,0,$AT$20)","v":0},null,{"$f":"IF($AU$20=0,0,$AU$20)","v":0},null,{"$f":"IF($AV$20=0,0,$AV$20)","v":0}]
[{"$f":"$A$63","v":"Fehlstunden"},{"$f":"$B$63","v":"laufendes Jahr (Kontrolle)"},null,null,null,{"$f":"$F$63","v":"fe"},{"$f":"IF($AJ$14=0,0,$AJ$14)","v":0},null,{"$f":"IF($AK$14=0,0,$AK$14)","v":0},null,{"$f":"IF($AL$14=0,0,$AL$14)","v":0},null,{"$f":"IF($AM$14=0,0,$AM$14)","v":0},null,{"$f":"IF($AN$14=0,0,$AN$14)","v":0},null,{"$f":"IF($AO$14=0,0,$AO$14)","v":0},null,{"$f":"IF($AP$14=0,0,$AP$14)","v":0},null,{"$f":"IF($AQ$14=0,0,$AQ$14)","v":0},null,{"$f":"IF($AR$14=0,0,$AR$14)","v":0},null,{"$f":"IF($AS$14=0,0,$AS$14)","v":0},null,{"$f":"IF($AT$14=0,0,$AT$14)","v":0},null,{"$f":"IF($AU$14=0,0,$AU$14)","v":0},null,{"$f":"IF($AV$14=0,0,$AV$14)","v":0}]
[{"$f":"$A$64","v":"Total inkl. Zeitzuschläge"},{"$f":"$B$64","v":"Stunden produktiv und unproduktiv"},null,null,null,null,{"$f":"IF($AG$36=0,0,$AG$36)","v":0},null,{"$f":"IF($AG$99=0,0,$AG$99)","v":0},null,{"$f":"IF($AG$163=0,0,$AG$163)","v":0},null,{"$f":"IF($AG$227=0,0,$AG$227)","v":0},null,{"$f":"IF($AG$291=0,0,$AG$291)","v":0},null,{"$f":"IF($AG$355=0,0,$AG$355)","v":0},null,{"$f":"IF($AG$419=0,0,$AG$419)","v":0},null,{"$f":"IF($AG$483=0,0,$AG$483)","v":0},null,{"$f":"IF($AG$547=0,0,$AG$547)","v":0},null,{"$f":"IF($AG$611=0,0,$AG$611)","v":0},null,{"$f":"IF($AG$675=0,0,$AG$675)","v":0},null,{"$f":"IF($AG$739=0,0,$AG$739)","v":0},null,{"$f":"SUM($G$64:$AD$64)","v":0}]
[{"$f":"$A$65","v":"Vergleich"},{"$f":"$B$65","v":"Stunden zu Soll-Stunden (inkl. allfälli-\nge Minusstunden Vorjahr)"},null,null,null,null,{"$f":"$G$65","v":-168},null,{"$f":"$I$65","v":-160},null,{"$f":"$K$65","v":-184},null,{"$f":"$M$65","v":-168},null,{"$f":"$O$65","v":-176},null,{"$f":"$Q$65","v":-176},null,{"$f":"$S$65","v":-168},null,{"$f":"$U$65","v":-184},null,{"$f":"$W$65","v":-176},null,{"$f":"$Y$65","v":-168},null,{"$f":"$AA$65","v":-176},null,{"$f":"$AC$65","v":-176},null,{"$f":"$AE$65","v":-2080}]
[null,{"$f":"$B$66","v":"Stunden zu Soll-Stunden (kumuliert)"},null,null,null,null,{"$f":"$G$66","v":-168},null,{"$f":"$I$66","v":-328},null,{"$f":"$K$66","v":-512},null,{"$f":"$M$66","v":-680},null,{"$f":"$O$66","v":-856},null,{"$f":"$Q$66","v":-1032},null,{"$f":"$S$66","v":-1200},null,{"$f":"$U$66","v":-1384},null,{"$f":"$W$66","v":-1560},null,{"$f":"$Y$66","v":-1728},null,{"$f":"$AA$66","v":-1904},null,{"$f":"$AC$66","v":-2080},null,{"$f":"$AE$66","v":0}]
[{"$f":"$A$67","v":"Ferienkontrolle"},{"$f":"$B$67","v":"Ferienguthaben Vorjahr"},null,null,null,null,{"$f":"IF($AA$4=0,0,$AA$4)","v":0},null,{"$f":"$I$67","v":"Ferienguthaben nach \nArt. 12.1 GAV"},null,null,null,{"$f":"IF($AA$5=0,0,$AA$5)","v":0},null,{"$f":"$O$67","v":"Ferienguthaben total"},null,null,null,{"$f":"SUM(G451+M451)","v":0},null,{"$f":"$U$67","v":"Ferien bezogen"},null,null,null,{"$f":"IF($AV$4=0,0,$AV$4)","v":0},null,{"$f":"$AA$67","v":"Aktuelles Ferienguthaben"},null,null,null,{"$f":"IF(S451=0,0,S451-Y451)","v":0}]
[]
[]
[{"$f":"$A$3","v":"Mitarbeiter/In"},{"$f":"IF($B$3=\"\",\"\",$B$3)","v":"Muster Peter"},null,null,null,null,null,null,null,null,null,null,null,null,null,null,null,null,null,null,null,null,null,null,null,null,null,null,null,null,null,{"$f":"AF3","v":0}]
[{"$f":"$A$4","v":"Anstellung %"},{"$f":"$AL$51","v":100},null,{"$f":"Labels!B96","v":"im August"}]
[{"$f":"$A$5","v":"Saldo für das Jahr"},null,null,{"$f":"IF($AE$65=0,0,$AE$65)","v":-2080}]
[{"$f":"TEXT(DATE(YEAR(AP29),MONTH(AP29)+7,1),\"MMMM\"&Labels!B13)","v":"August"},{"$f":"$B$9","v":"Saldo Monat + / -"},null,null,null,{"$f":"(AG459-(SUM(AG460:AG474)-AE482))*-1","v":-184},null,null,null,null,{"$f":"$K$9","v":" = "},{"$f":"$L$9","v":"Gelbe Felder müssen ausgefüllt werden (die übrigen werden automatisch berechnet)"},null,null,null,null,null,null,null,null,null,null,null,null,null,null,null,null,null,null,null,null,{"$f":"COUNT(B460:AF460)&\" \"&Labels!$B$63","v":"23 Tage"}]
[{"$f":"$A$10","v":"Tag"},{"$f":"AF394+1","v":"2022-08-01"},{"$f":"B458+1","v":"2022-08-02"},{"$f":"C458+1","v":"2022-08-03"},"2022-08-04","2022-08-05","2022-08-06","2022-08-07","2022-08-08","2022-08-09","2022-08-10","2022-08-11","2022-08-12","2022-08-13","2022-08-14","2022-08-15","2022-08-16","2022-08-17","2022-08-18","2022-08-19","2022-08-20","2022-08-21","2022-08-22","2022-08-23","2022-08-24","2022-08-25","2022-08-26","2022-08-27","2022-08-28","2022-08-29","2022-08-30","2022-08-31"]
[{"$f":"$A$11","v":"Kalenderwoche"},{"$f":"IF(B458=\"\",\"\",TRUNC((B458-DATE(YEAR(B458+3-MOD(B458-2,7)),1,MOD(B458-2,7)-9))/7))","v":31},31,31,31,31,31,31,32,32,32,32,32,32,32,33,33,33,33,33,33,33,34,34,34,34,34,34,34,35,35,35,{"$f":"SUM(B460:AF460)","v":184}]
[{"$f":"$A$12","v":"Sollstunden"},{"$f":"IF(AND(MOD(B458,7)>=2,SUMPRODUCT(($AM$56:$AQ$56=MOD(B458,7))*$AM$51:$AQ$51)),($J$7*5/$AR$51)*$B$455%,\"\")","v":8},{"$f":"IF(AND(MOD(C458,7)>=2,SUMPRODUCT(($AM$56:$AQ$56=MOD(C458,7))*$AM$51:$AQ$51)),($J$7*5/$AR$51)*$B$455%,\"\")","v":8},{"$f":"IF(AND(MOD(D458,7)>=2,SUMPRODUCT(($AM$56:$AQ$56=MOD(D458,7))*$AM$51:$AQ$51)),($J$7*5/$AR$51)*$B$455%,\"\")","v":8},{"$f":"IF(AND(MOD(E458,7)>=2,SUMPRODUCT(($AM$56:$AQ$56=MOD(E458,7))*$AM$51:$AQ$51)),($J$7*5/$AR$51)*$B$455%,\"\")","v":8},{"$f":"IF(AND(MOD(F458,7)>=2,SUMPRODUCT(($AM$56:$AQ$56=MOD(F458,7))*$AM$51:$AQ$51)),($J$7*5/$AR$51)*$B$455%,\"\")","v":8},{"$f":"IF(AND(MOD(G458,7)>=2,SUMPRODUCT(($AM$56:$AQ$56=MOD(G458,7))*$AM$51:$AQ$51)),($J$7*5/$AR$51)*$B$455%,\"\")","v":""},{"$f":"IF(AND(MOD(H458,7)>=2,SUMPRODUCT(($AM$56:$AQ$56=MOD(H458,7))*$AM$51:$AQ$51)),($J$7*5/$AR$51)*$B$455%,\"\")","v":""},{"$f":"IF(AND(MOD(I458,7)>=2,SUMPRODUCT(($AM$56:$AQ$56=MOD(I458,7))*$AM$51:$AQ$51)),($J$7*5/$AR$51)*$B$455%,\"\")","v":8},{"$f":"IF(AND(MOD(J458,7)>=2,SUMPRODUCT(($AM$56:$AQ$56=MOD(J458,7))*$AM$51:$AQ$51)),($J$7*5/$AR$51)*$B$455%,\"\")","v":8},{"$f":"IF(AND(MOD(K458,7)>=2,SUMPRODUCT(($AM$56:$AQ$56=MOD(K458,7))*$AM$51:$AQ$51)),($J$7*5/$AR$51)*$B$455%,\"\")","v":8},{"$f":"IF(AND(MOD(L458,7)>=2,SUMPRODUCT(($AM$56:$AQ$56=MOD(L458,7))*$AM$51:$AQ$51)),($J$7*5/$AR$51)*$B$455%,\"\")","v":8},{"$f":"IF(AND(MOD(M458,7)>=2,SUMPRODUCT(($AM$56:$AQ$56=MOD(M458,7))*$AM$51:$AQ$51)),($J$7*5/$AR$51)*$B$455%,\"\")","v":8},{"$f":"IF(AND(MOD(N458,7)>=2,SUMPRODUCT(($AM$56:$AQ$56=MOD(N458,7))*$AM$51:$AQ$51)),($J$7*5/$AR$51)*$B$455%,\"\")","v":""},{"$f":"IF(AND(MOD(O458,7)>=2,SUMPRODUCT(($AM$56:$AQ$56=MOD(O458,7))*$AM$51:$AQ$51)),($J$7*5/$AR$51)*$B$455%,\"\")","v":""},{"$f":"IF(AND(MOD(P458,7)>=2,SUMPRODUCT(($AM$56:$AQ$56=MOD(P458,7))*$AM$51:$AQ$51)),($J$7*5/$AR$51)*$B$455%,\"\")","v":8},{"$f":"IF(AND(MOD(Q458,7)>=2,SUMPRODUCT(($AM$56:$AQ$56=MOD(Q458,7))*$AM$51:$AQ$51)),($J$7*5/$AR$51)*$B$455%,\"\")","v":8},{"$f":"IF(AND(MOD(R458,7)>=2,SUMPRODUCT(($AM$56:$AQ$56=MOD(R458,7))*$AM$51:$AQ$51)),($J$7*5/$AR$51)*$B$455%,\"\")","v":8},{"$f":"IF(AND(MOD(S458,7)>=2,SUMPRODUCT(($AM$56:$AQ$56=MOD(S458,7))*$AM$51:$AQ$51)),($J$7*5/$AR$51)*$B$455%,\"\")","v":8},{"$f":"IF(AND(MOD(T458,7)>=2,SUMPRODUCT(($AM$56:$AQ$56=MOD(T458,7))*$AM$51:$AQ$51)),($J$7*5/$AR$51)*$B$455%,\"\")","v":8},{"$f":"IF(AND(MOD(U458,7)>=2,SUMPRODUCT(($AM$56:$AQ$56=MOD(U458,7))*$AM$51:$AQ$51)),($J$7*5/$AR$51)*$B$455%,\"\")","v":""},{"$f":"IF(AND(MOD(V458,7)>=2,SUMPRODUCT(($AM$56:$AQ$56=MOD(V458,7))*$AM$51:$AQ$51)),($J$7*5/$AR$51)*$B$455%,\"\")","v":""},{"$f":"IF(AND(MOD(W458,7)>=2,SUMPRODUCT(($AM$56:$AQ$56=MOD(W458,7))*$AM$51:$AQ$51)),($J$7*5/$AR$51)*$B$455%,\"\")","v":8},{"$f":"IF(AND(MOD(X458,7)>=2,SUMPRODUCT(($AM$56:$AQ$56=MOD(X458,7))*$AM$51:$AQ$51)),($J$7*5/$AR$51)*$B$455%,\"\")","v":8},{"$f":"IF(AND(MOD(Y458,7)>=2,SUMPRODUCT(($AM$56:$AQ$56=MOD(Y458,7))*$AM$51:$AQ$51)),($J$7*5/$AR$51)*$B$455%,\"\")","v":8},{"$f":"IF(AND(MOD(Z458,7)>=2,SUMPRODUCT(($AM$56:$AQ$56=MOD(Z458,7))*$AM$51:$AQ$51)),($J$7*5/$AR$51)*$B$455%,\"\")","v":8},{"$f":"IF(AND(MOD(AA458,7)>=2,SUMPRODUCT(($AM$56:$AQ$56=MOD(AA458,7))*$AM$51:$AQ$51)),($J$7*5/$AR$51)*$B$455%,\"\")","v":8},{"$f":"IF(AND(MOD(AB458,7)>=2,SUMPRODUCT(($AM$56:$AQ$56=MOD(AB458,7))*$AM$51:$AQ$51)),($J$7*5/$AR$51)*$B$455%,\"\")","v":""},{"$f":"IF(AND(MOD(AC458,7)>=2,SUMPRODUCT(($AM$56:$AQ$56=MOD(AC458,7))*$AM$51:$AQ$51)),($J$7*5/$AR$51)*$B$455%,\"\")","v":""},{"$f":"IF(AND(MOD(AD458,7)>=2,SUMPRODUCT(($AM$56:$AQ$56=MOD(AD458,7))*$AM$51:$AQ$51)),($J$7*5/$AR$51)*$B$455%,\"\")","v":8},{"$f":"IF(AND(MOD(AE458,7)>=2,SUMPRODUCT(($AM$56:$AQ$56=MOD(AE458,7))*$AM$51:$AQ$51)),($J$7*5/$AR$51)*$B$455%,\"\")","v":8},{"$f":"IF(AND(MOD(AF458,7)>=2,SUMPRODUCT(($AM$56:$AQ$56=MOD(AF458,7))*$AM$51:$AQ$51)),($J$7*5/$AR$51)*$B$455%,\"\")","v":8},{"$f":"SUM(AQ3:AQ13)","v":0}]
[{"$f":"$A$13","v":"Absenz in Std"},{"$f":"B992","v":0},{"$f":"C992","v":0},0,0,0,0,0,0,0,0,0,0,0,0,0,0,0,0,0,0,0,0,0,0,0,0,0,0,0,0,0]
[{"$f":"$A$14","v":"Code"},{"$f":"IF(B992<>0,IF(MAX(B979:B991)<B992,Labels!$B$163,INDEX($AH$978:$AH$990,MATCH(MAX(B979:B991),B979:B991,0))),\"\")","v":""},{"$f":"IF(C992<>0,IF(MAX(C979:C991)<C992,Labels!$B$163,INDEX($AH$978:$AH$990,MATCH(MAX(C979:C991),C979:C991,0))),\"\")","v":""},{"$f":"IF(D992<>0,IF(MAX(D979:D991)<D992,Labels!$B$163,INDEX($AH$978:$AH$990,MATCH(MAX(D979:D991),D979:D991,0))),\"\")","v":""},{"$f":"IF(E992<>0,IF(MAX(E979:E991)<E992,Labels!$B$163,INDEX($AH$978:$AH$990,MATCH(MAX(E979:E991),E979:E991,0))),\"\")","v":""},{"$f":"IF(F992<>0,IF(MAX(F979:F991)<F992,Labels!$B$163,INDEX($AH$978:$AH$990,MATCH(MAX(F979:F991),F979:F991,0))),\"\")","v":""},{"$f":"IF(G992<>0,IF(MAX(G979:G991)<G992,Labels!$B$163,INDEX($AH$978:$AH$990,MATCH(MAX(G979:G991),G979:G991,0))),\"\")","v":""},{"$f":"IF(H992<>0,IF(MAX(H979:H991)<H992,Labels!$B$163,INDEX($AH$978:$AH$990,MATCH(MAX(H979:H991),H979:H991,0))),\"\")","v":""},{"$f":"IF(I992<>0,IF(MAX(I979:I991)<I992,Labels!$B$163,INDEX($AH$978:$AH$990,MATCH(MAX(I979:I991),I979:I991,0))),\"\")","v":""},{"$f":"IF(J992<>0,IF(MAX(J979:J991)<J992,Labels!$B$163,INDEX($AH$978:$AH$990,MATCH(MAX(J979:J991),J979:J991,0))),\"\")","v":""},{"$f":"IF(K992<>0,IF(MAX(K979:K991)<K992,Labels!$B$163,INDEX($AH$978:$AH$990,MATCH(MAX(K979:K991),K979:K991,0))),\"\")","v":""},{"$f":"IF(L992<>0,IF(MAX(L979:L991)<L992,Labels!$B$163,INDEX($AH$978:$AH$990,MATCH(MAX(L979:L991),L979:L991,0))),\"\")","v":""},{"$f":"IF(M992<>0,IF(MAX(M979:M991)<M992,Labels!$B$163,INDEX($AH$978:$AH$990,MATCH(MAX(M979:M991),M979:M991,0))),\"\")","v":""},{"$f":"IF(N992<>0,IF(MAX(N979:N991)<N992,Labels!$B$163,INDEX($AH$978:$AH$990,MATCH(MAX(N979:N991),N979:N991,0))),\"\")","v":""},{"$f":"IF(O992<>0,IF(MAX(O979:O991)<O992,Labels!$B$163,INDEX($AH$978:$AH$990,MATCH(MAX(O979:O991),O979:O991,0))),\"\")","v":""},{"$f":"IF(P992<>0,IF(MAX(P979:P991)<P992,Labels!$B$163,INDEX($AH$978:$AH$990,MATCH(MAX(P979:P991),P979:P991,0))),\"\")","v":""},{"$f":"IF(Q992<>0,IF(MAX(Q979:Q991)<Q992,Labels!$B$163,INDEX($AH$978:$AH$990,MATCH(MAX(Q979:Q991),Q979:Q991,0))),\"\")","v":""},{"$f":"IF(R992<>0,IF(MAX(R979:R991)<R992,Labels!$B$163,INDEX($AH$978:$AH$990,MATCH(MAX(R979:R991),R979:R991,0))),\"\")","v":""},{"$f":"IF(S992<>0,IF(MAX(S979:S991)<S992,Labels!$B$163,INDEX($AH$978:$AH$990,MATCH(MAX(S979:S991),S979:S991,0))),\"\")","v":""},{"$f":"IF(T992<>0,IF(MAX(T979:T991)<T992,Labels!$B$163,INDEX($AH$978:$AH$990,MATCH(MAX(T979:T991),T979:T991,0))),\"\")","v":""},{"$f":"IF(U992<>0,IF(MAX(U979:U991)<U992,Labels!$B$163,INDEX($AH$978:$AH$990,MATCH(MAX(U979:U991),U979:U991,0))),\"\")","v":""},{"$f":"IF(V992<>0,IF(MAX(V979:V991)<V992,Labels!$B$163,INDEX($AH$978:$AH$990,MATCH(MAX(V979:V991),V979:V991,0))),\"\")","v":""},{"$f":"IF(W992<>0,IF(MAX(W979:W991)<W992,Labels!$B$163,INDEX($AH$978:$AH$990,MATCH(MAX(W979:W991),W979:W991,0))),\"\")","v":""},{"$f":"IF(X992<>0,IF(MAX(X979:X991)<X992,Labels!$B$163,INDEX($AH$978:$AH$990,MATCH(MAX(X979:X991),X979:X991,0))),\"\")","v":""},{"$f":"IF(Y992<>0,IF(MAX(Y979:Y991)<Y992,Labels!$B$163,INDEX($AH$978:$AH$990,MATCH(MAX(Y979:Y991),Y979:Y991,0))),\"\")","v":""},{"$f":"IF(Z992<>0,IF(MAX(Z979:Z991)<Z992,Labels!$B$163,INDEX($AH$978:$AH$990,MATCH(MAX(Z979:Z991),Z979:Z991,0))),\"\")","v":""},{"$f":"IF(AA992<>0,IF(MAX(AA979:AA991)<AA992,Labels!$B$163,INDEX($AH$978:$AH$990,MATCH(MAX(AA979:AA991),AA979:AA991,0))),\"\")","v":""},{"$f":"IF(AB992<>0,IF(MAX(AB979:AB991)<AB992,Labels!$B$163,INDEX($AH$978:$AH$990,MATCH(MAX(AB979:AB991),AB979:AB991,0))),\"\")","v":""},{"$f":"IF(AC992<>0,IF(MAX(AC979:AC991)<AC992,Labels!$B$163,INDEX($AH$978:$AH$990,MATCH(MAX(AC979:AC991),AC979:AC991,0))),\"\")","v":""},{"$f":"IF(AD992<>0,IF(MAX(AD979:AD991)<AD992,Labels!$B$163,INDEX($AH$978:$AH$990,MATCH(MAX(AD979:AD991),AD979:AD991,0))),\"\")","v":""},{"$f":"IF(AE992<>0,IF(MAX(AE979:AE991)<AE992,Labels!$B$163,INDEX($AH$978:$AH$990,MATCH(MAX(AE979:AE991),AE979:AE991,0))),\"\")","v":""},{"$f":"IF(AF992<>0,IF(MAX(AF979:AF991)<AF992,Labels!$B$163,INDEX($AH$978:$AH$990,MATCH(MAX(AF979:AF991),AF979:AF991,0))),\"\")","v":""},{"$f":"SUM(B463:AF463)","v":0}]
[{"$f":"$A$15","v":"00.00-06.00h"},null,null,null,null,null,null,null,null,null,null,null,null,null,null,null,null,null,null,null,null,null,null,null,null,null,null,null,null,null,null,null,{"$f":"SUM(B464:AF464)","v":0}]
[{"$f":"$A$16","v":"06.00-20.00h"},null,null,null,null,null,null,null,null,null,null,null,null,null,null,null,null,null,null,null,null,null,null,null,null,null,null,null,null,null,null,null,{"$f":"SUM(B465:AF465)","v":0},"[0]"]
[{"$f":"$A$17","v":"20.00-24.00h"}]
[{"$f":"$A$18","v":"Feiertag \"ft\""},{"$f":"IF(WEEKDAY(B458,2)<=6,IF(KALENDER!E17=\"x\",Labels!$B$118,\"\"),\"\")","v":""},{"$f":"IF(WEEKDAY(C458,2)<=6,IF(KALENDER!F17=\"x\",Labels!$B$118,\"\"),\"\")","v":""},{"$f":"IF(WEEKDAY(D458,2)<=6,IF(KALENDER!G17=\"x\",Labels!$B$118,\"\"),\"\")","v":""},{"$f":"IF(WEEKDAY(E458,2)<=6,IF(KALENDER!H17=\"x\",Labels!$B$118,\"\"),\"\")","v":""},{"$f":"IF(WEEKDAY(F458,2)<=6,IF(KALENDER!I17=\"x\",Labels!$B$118,\"\"),\"\")","v":""},{"$f":"IF(WEEKDAY(G458,2)<=6,IF(KALENDER!J17=\"x\",Labels!$B$118,\"\"),\"\")","v":""},{"$f":"IF(WEEKDAY(H458,2)<=6,IF(KALENDER!K17=\"x\",Labels!$B$118,\"\"),\"\")","v":""},{"$f":"IF(WEEKDAY(I458,2)<=6,IF(KALENDER!L17=\"x\",Labels!$B$118,\"\"),\"\")","v":""},{"$f":"IF(WEEKDAY(J458,2)<=6,IF(KALENDER!M17=\"x\",Labels!$B$118,\"\"),\"\")","v":""},{"$f":"IF(WEEKDAY(K458,2)<=6,IF(KALENDER!N17=\"x\",Labels!$B$118,\"\"),\"\")","v":""},{"$f":"IF(WEEKDAY(L458,2)<=6,IF(KALENDER!O17=\"x\",Labels!$B$118,\"\"),\"\")","v":""},{"$f":"IF(WEEKDAY(M458,2)<=6,IF(KALENDER!P17=\"x\",Labels!$B$118,\"\"),\"\")","v":""},{"$f":"IF(WEEKDAY(N458,2)<=6,IF(KALENDER!Q17=\"x\",Labels!$B$118,\"\"),\"\")","v":""},{"$f":"IF(WEEKDAY(O458,2)<=6,IF(KALENDER!R17=\"x\",Labels!$B$118,\"\"),\"\")","v":""},{"$f":"IF(WEEKDAY(P458,2)<=6,IF(KALENDER!S17=\"x\",Labels!$B$118,\"\"),\"\")","v":""},{"$f":"IF(WEEKDAY(Q458,2)<=6,IF(KALENDER!T17=\"x\",Labels!$B$118,\"\"),\"\")","v":""},{"$f":"IF(WEEKDAY(R458,2)<=6,IF(KALENDER!U17=\"x\",Labels!$B$118,\"\"),\"\")","v":""},{"$f":"IF(WEEKDAY(S458,2)<=6,IF(KALENDER!V17=\"x\",Labels!$B$118,\"\"),\"\")","v":""},{"$f":"IF(WEEKDAY(T458,2)<=6,IF(KALENDER!W17=\"x\",Labels!$B$118,\"\"),\"\")","v":""},{"$f":"IF(WEEKDAY(U458,2)<=6,IF(KALENDER!X17=\"x\",Labels!$B$118,\"\"),\"\")","v":""},{"$f":"IF(WEEKDAY(V458,2)<=6,IF(KALENDER!Y17=\"x\",Labels!$B$118,\"\"),\"\")","v":""},{"$f":"IF(WEEKDAY(W458,2)<=6,IF(KALENDER!Z17=\"x\",Labels!$B$118,\"\"),\"\")","v":""},{"$f":"IF(WEEKDAY(X458,2)<=6,IF(KALENDER!AA17=\"x\",Labels!$B$118,\"\"),\"\")","v":""},{"$f":"IF(WEEKDAY(Y458,2)<=6,IF(KALENDER!AB17=\"x\",Labels!$B$118,\"\"),\"\")","v":""},{"$f":"IF(WEEKDAY(Z458,2)<=6,IF(KALENDER!AC17=\"x\",Labels!$B$118,\"\"),\"\")","v":""},{"$f":"IF(WEEKDAY(AA458,2)<=6,IF(KALENDER!AD17=\"x\",Labels!$B$118,\"\"),\"\")","v":""},{"$f":"IF(WEEKDAY(AB458,2)<=6,IF(KALENDER!AE17=\"x\",Labels!$B$118,\"\"),\"\")","v":""},{"$f":"IF(WEEKDAY(AC458,2)<=6,IF(KALENDER!AF17=\"x\",Labels!$B$118,\"\"),\"\")","v":""},{"$f":"IF(WEEKDAY(AD458,2)<=6,IF(KALENDER!AG17=\"x\",Labels!$B$118,\"\"),\"\")","v":""},{"$f":"IF(WEEKDAY(AE458,2)<=6,IF(KALENDER!AH17=\"x\",Labels!$B$118,\"\"),\"\")","v":""},{"$f":"IF(WEEKDAY(AF458,2)<=6,IF(KALENDER!AI17=\"x\",Labels!$B$118,\"\"),\"\")","v":""},{"$f":"SUM(B467:AF467)","v":0}]
[{"$f":"$A$19","v":"Gutschrift \"ft\""},{"$f":"IF(AND(B466=Labels!$B$118,WEEKDAY(B458,2)<6,B$460<>\"\"),($J$7*5/$AR$51)*$B$455%,\"\")","v":""},{"$f":"IF(AND(C466=Labels!$B$118,WEEKDAY(C458,2)<6,C$460<>\"\"),($J$7*5/$AR$51)*$B$455%,\"\")","v":""},{"$f":"IF(AND(D466=Labels!$B$118,WEEKDAY(D458,2)<6,D$460<>\"\"),($J$7*5/$AR$51)*$B$455%,\"\")","v":""},{"$f":"IF(AND(E466=Labels!$B$118,WEEKDAY(E458,2)<6,E$460<>\"\"),($J$7*5/$AR$51)*$B$455%,\"\")","v":""},{"$f":"IF(AND(F466=Labels!$B$118,WEEKDAY(F458,2)<6,F$460<>\"\"),($J$7*5/$AR$51)*$B$455%,\"\")","v":""},{"$f":"IF(AND(G466=Labels!$B$118,WEEKDAY(G458,2)<6,G$460<>\"\"),($J$7*5/$AR$51)*$B$455%,\"\")","v":""},{"$f":"IF(AND(H466=Labels!$B$118,WEEKDAY(H458,2)<6,H$460<>\"\"),($J$7*5/$AR$51)*$B$455%,\"\")","v":""},{"$f":"IF(AND(I466=Labels!$B$118,WEEKDAY(I458,2)<6,I$460<>\"\"),($J$7*5/$AR$51)*$B$455%,\"\")","v":""},{"$f":"IF(AND(J466=Labels!$B$118,WEEKDAY(J458,2)<6,J$460<>\"\"),($J$7*5/$AR$51)*$B$455%,\"\")","v":""},{"$f":"IF(AND(K466=Labels!$B$118,WEEKDAY(K458,2)<6,K$460<>\"\"),($J$7*5/$AR$51)*$B$455%,\"\")","v":""},{"$f":"IF(AND(L466=Labels!$B$118,WEEKDAY(L458,2)<6,L$460<>\"\"),($J$7*5/$AR$51)*$B$455%,\"\")","v":""},{"$f":"IF(AND(M466=Labels!$B$118,WEEKDAY(M458,2)<6,M$460<>\"\"),($J$7*5/$AR$51)*$B$455%,\"\")","v":""},{"$f":"IF(AND(N466=Labels!$B$118,WEEKDAY(N458,2)<6,N$460<>\"\"),($J$7*5/$AR$51)*$B$455%,\"\")","v":""},{"$f":"IF(AND(O466=Labels!$B$118,WEEKDAY(O458,2)<6,O$460<>\"\"),($J$7*5/$AR$51)*$B$455%,\"\")","v":""},{"$f":"IF(AND(P466=Labels!$B$118,WEEKDAY(P458,2)<6,P$460<>\"\"),($J$7*5/$AR$51)*$B$455%,\"\")","v":""},{"$f":"IF(AND(Q466=Labels!$B$118,WEEKDAY(Q458,2)<6,Q$460<>\"\"),($J$7*5/$AR$51)*$B$455%,\"\")","v":""},{"$f":"IF(AND(R466=Labels!$B$118,WEEKDAY(R458,2)<6,R$460<>\"\"),($J$7*5/$AR$51)*$B$455%,\"\")","v":""},{"$f":"IF(AND(S466=Labels!$B$118,WEEKDAY(S458,2)<6,S$460<>\"\"),($J$7*5/$AR$51)*$B$455%,\"\")","v":""},{"$f":"IF(AND(T466=Labels!$B$118,WEEKDAY(T458,2)<6,T$460<>\"\"),($J$7*5/$AR$51)*$B$455%,\"\")","v":""},{"$f":"IF(AND(U466=Labels!$B$118,WEEKDAY(U458,2)<6,U$460<>\"\"),($J$7*5/$AR$51)*$B$455%,\"\")","v":""},{"$f":"IF(AND(V466=Labels!$B$118,WEEKDAY(V458,2)<6,V$460<>\"\"),($J$7*5/$AR$51)*$B$455%,\"\")","v":""},{"$f":"IF(AND(W466=Labels!$B$118,WEEKDAY(W458,2)<6,W$460<>\"\"),($J$7*5/$AR$51)*$B$455%,\"\")","v":""},{"$f":"IF(AND(X466=Labels!$B$118,WEEKDAY(X458,2)<6,X$460<>\"\"),($J$7*5/$AR$51)*$B$455%,\"\")","v":""},{"$f":"IF(AND(Y466=Labels!$B$118,WEEKDAY(Y458,2)<6,Y$460<>\"\"),($J$7*5/$AR$51)*$B$455%,\"\")","v":""},{"$f":"IF(AND(Z466=Labels!$B$118,WEEKDAY(Z458,2)<6,Z$460<>\"\"),($J$7*5/$AR$51)*$B$455%,\"\")","v":""},{"$f":"IF(AND(AA466=Labels!$B$118,WEEKDAY(AA458,2)<6,AA$460<>\"\"),($J$7*5/$AR$51)*$B$455%,\"\")","v":""},{"$f":"IF(AND(AB466=Labels!$B$118,WEEKDAY(AB458,2)<6,AB$460<>\"\"),($J$7*5/$AR$51)*$B$455%,\"\")","v":""},{"$f":"IF(AND(AC466=Labels!$B$118,WEEKDAY(AC458,2)<6,AC$460<>\"\"),($J$7*5/$AR$51)*$B$455%,\"\")","v":""},{"$f":"IF(AND(AD466=Labels!$B$118,WEEKDAY(AD458,2)<6,AD$460<>\"\"),($J$7*5/$AR$51)*$B$455%,\"\")","v":""},{"$f":"IF(AND(AE466=Labels!$B$118,WEEKDAY(AE458,2)<6,AE$460<>\"\"),($J$7*5/$AR$51)*$B$455%,\"\")","v":""},{"$f":"IF(AND(AF466=Labels!$B$118,WEEKDAY(AF458,2)<6,AF$460<>\"\"),($J$7*5/$AR$51)*$B$455%,\"\")","v":""}]
[{"$f":"$A$20","v":"Tagestotal"},{"$f":"SUM(B463:B465)","v":0},{"$f":"SUM(C463:C465)","v":0},0,0,0,0,0,0,0,0,0,0,0,0,0,0,0,0,0,0,0,0,0,0,0,0,0,0,0,0,0]
[{"$f":"$A$21","v":"."}]
[{"$f":"$A$22","v":"."}]
[{"$f":"$A$23","v":"Monatsübergang"},{"$f":"IF(WEEKDAY(B458)=1,TEXT(B458-1,\"MMM\"&Labels!B13),\"\")","v":""},null,null,null,null,null,null,null,null,null,null,null,null,null,null,null,null,null,null,null,null,null,null,null,null,null,null,null,null,null,{"$f":"IF(AND(WEEKDAY(AF458)>1,WEEKDAY(AF458)<7),TEXT(DATE($B$5,MONTH(AF458)+1,1),\"MMM\"&Labels!B13),\"\")","v":"Sep"}]
[{"$f":"$A$24","v":"Wochentotal"},{"$f":"IF(WEEKDAY(B458)=7,SUMIF($B395:$AF395,B459,$B404:$AF404)+SUMIF($B459:$AF459,B459,$B468:$AF468)+SUMIF($B523:$AF523,B459,$B532:$AF532),B471)","v":""},{"$f":"IF(WEEKDAY(C458)=7,SUMIF($B395:$AF395,C459,$B404:$AF404)+SUMIF($B459:$AF459,C459,$B468:$AF468)+SUMIF($B523:$AF523,C459,$B532:$AF532),\"\")","v":""},"","","",0,"","","","","","",0,"","","","","","",0,"","","","","","",0,"","","",{"$f":"IF(WEEKDAY(AF458)=7,SUMIF($B395:$AF395,AF459,$B404:$AF404)+SUMIF($B459:$AF459,AF459,$B468:$AF468)+SUMIF($B523:$AF523,AF459,$B532:$AF532),AF471)","v":"Sep"},{"$f":"SUM(B473:AF473)","v":0}]
[{"$f":"$A$25","v":"Zeitzuschlag 1)"},{"$f":"IF(B480=\"FALSCH\",\"\",B480)","v":""},{"$f":"IF(C480=\"FALSCH\",\"\",C480)","v":""},"","","","","","","","","","","","","","","","","","","","","","","","","","","","","",0,"[1]"]
[{"$f":"$A$26","v":"Zeitzuschlag 2)"},{"$f":"IF((B463+B465)=0,\"\",SUM(B463,B465))","v":""},{"$f":"IF((C463+C465)=0,\"\",SUM(C463,C465))","v":""},"","","","","","","","","","","","","","","","","","","","","","","","","","","","","",{"$f":"SUM(B475:AF475)","v":0},"[2]"]
[{"$f":"$A$27","v":"Zeitzuschlag 3)"},{"$f":"SUM(B476:B479)","v":0},{"$f":"SUM(C476:C479)","v":0},0,0,0,0,0,0,0,0,0,0,0,0,0,0,0,0,0,0,0,0,0,0,0,0,0,0,0,0,0,0,"[3]"]
[{"$f":"$A$28","v":"Sonntag Tag"},{"$f":"IF(WEEKDAY(B458)=1,B464,\"\")","v":""},{"$f":"IF(WEEKDAY(C458)=1,C464,\"\")","v":""},"","","","",0,"","","","","","",0,"","","","","","",0,"","","","","","",0,"","","",0,"[4]"]
[{"$f":"$A$29","v":"Sonntag Nacht"},{"$f":"IF(WEEKDAY(B458)=1,SUM(B463+B465),\"\")","v":""},{"$f":"IF(WEEKDAY(C458)=1,SUM(C463+C465),\"\")","v":""},"","","","",0,"","","","","","",0,"","","","","","",0,"","","","","","",0,"","","",0,"[5]"]
[{"$f":"$A$30","v":"ft-Tazuschlag"},{"$f":"IF(B466=Labels!$B$118,B464,\"\")","v":""},{"$f":"IF(C466=Labels!$B$118,C464,\"\")","v":""},{"$f":"IF(D466=Labels!$B$118,D464,\"\")","v":""},{"$f":"IF(E466=Labels!$B$118,E464,\"\")","v":""},{"$f":"IF(F466=Labels!$B$118,F464,\"\")","v":""},{"$f":"IF(G466=Labels!$B$118,G464,\"\")","v":""},{"$f":"IF(H466=Labels!$B$118,H464,\"\")","v":""},{"$f":"IF(I466=Labels!$B$118,I464,\"\")","v":""},{"$f":"IF(J466=Labels!$B$118,J464,\"\")","v":""},{"$f":"IF(K466=Labels!$B$118,K464,\"\")","v":""},{"$f":"IF(L466=Labels!$B$118,L464,\"\")","v":""},{"$f":"IF(M466=Labels!$B$118,M464,\"\")","v":""},{"$f":"IF(N466=Labels!$B$118,N464,\"\")","v":""},{"$f":"IF(O466=Labels!$B$118,O464,\"\")","v":""},{"$f":"IF(P466=Labels!$B$118,P464,\"\")","v":""},{"$f":"IF(Q466=Labels!$B$118,Q464,\"\")","v":""},{"$f":"IF(R466=Labels!$B$118,R464,\"\")","v":""},{"$f":"IF(S466=Labels!$B$118,S464,\"\")","v":""},{"$f":"IF(T466=Labels!$B$118,T464,\"\")","v":""},{"$f":"IF(U466=Labels!$B$118,U464,\"\")","v":""},{"$f":"IF(V466=Labels!$B$118,V464,\"\")","v":""},{"$f":"IF(W466=Labels!$B$118,W464,\"\")","v":""},{"$f":"IF(X466=Labels!$B$118,X464,\"\")","v":""},{"$f":"IF(Y466=Labels!$B$118,Y464,\"\")","v":""},{"$f":"IF(Z466=Labels!$B$118,Z464,\"\")","v":""},{"$f":"IF(AA466=Labels!$B$118,AA464,\"\")","v":""},{"$f":"IF(AB466=Labels!$B$118,AB464,\"\")","v":""},{"$f":"IF(AC466=Labels!$B$118,AC464,\"\")","v":""},{"$f":"IF(AD466=Labels!$B$118,AD464,\"\")","v":""},{"$f":"IF(AE466=Labels!$B$118,AE464,\"\")","v":""},{"$f":"IF(AF466=Labels!$B$118,AF464,\"\")","v":""},0,"[6]"]
[{"$f":"$A$31","v":"ft-Nazuschlag"},{"$f":"IF(B466=Labels!$B$118,SUM(B463,B465),\"\")","v":""},{"$f":"IF(C466=Labels!$B$118,SUM(C463,C465),\"\")","v":""},{"$f":"IF(D466=Labels!$B$118,SUM(D463,D465),\"\")","v":""},{"$f":"IF(E466=Labels!$B$118,SUM(E463,E465),\"\")","v":""},{"$f":"IF(F466=Labels!$B$118,SUM(F463,F465),\"\")","v":""},{"$f":"IF(G466=Labels!$B$118,SUM(G463,G465),\"\")","v":""},{"$f":"IF(H466=Labels!$B$118,SUM(H463,H465),\"\")","v":""},{"$f":"IF(I466=Labels!$B$118,SUM(I463,I465),\"\")","v":""},{"$f":"IF(J466=Labels!$B$118,SUM(J463,J465),\"\")","v":""},{"$f":"IF(K466=Labels!$B$118,SUM(K463,K465),\"\")","v":""},{"$f":"IF(L466=Labels!$B$118,SUM(L463,L465),\"\")","v":""},{"$f":"IF(M466=Labels!$B$118,SUM(M463,M465),\"\")","v":""},{"$f":"IF(N466=Labels!$B$118,SUM(N463,N465),\"\")","v":""},{"$f":"IF(O466=Labels!$B$118,SUM(O463,O465),\"\")","v":""},{"$f":"IF(P466=Labels!$B$118,SUM(P463,P465),\"\")","v":""},{"$f":"IF(Q466=Labels!$B$118,SUM(Q463,Q465),\"\")","v":""},{"$f":"IF(R466=Labels!$B$118,SUM(R463,R465),\"\")","v":""},{"$f":"IF(S466=Labels!$B$118,SUM(S463,S465),\"\")","v":""},{"$f":"IF(T466=Labels!$B$118,SUM(T463,T465),\"\")","v":""},{"$f":"IF(U466=Labels!$B$118,SUM(U463,U465),\"\")","v":""},{"$f":"IF(V466=Labels!$B$118,SUM(V463,V465),\"\")","v":""},{"$f":"IF(W466=Labels!$B$118,SUM(W463,W465),\"\")","v":""},{"$f":"IF(X466=Labels!$B$118,SUM(X463,X465),\"\")","v":""},{"$f":"IF(Y466=Labels!$B$118,SUM(Y463,Y465),\"\")","v":""},{"$f":"IF(Z466=Labels!$B$118,SUM(Z463,Z465),\"\")","v":""},{"$f":"IF(AA466=Labels!$B$118,SUM(AA463,AA465),\"\")","v":""},{"$f":"IF(AB466=Labels!$B$118,SUM(AB463,AB465),\"\")","v":""},{"$f":"IF(AC466=Labels!$B$118,SUM(AC463,AC465),\"\")","v":""},{"$f":"IF(AD466=Labels!$B$118,SUM(AD463,AD465),\"\")","v":""},{"$f":"IF(AE466=Labels!$B$118,SUM(AE463,AE465),\"\")","v":""},{"$f":"IF(AF466=Labels!$B$118,SUM(AF463,AF465),\"\")","v":""},{"$f":"AG463","v":0},"[7]"]
[{"$f":"$A$32","v":"Zuschlag  blind (Wochentotal)"},{"$f":"IF(OR(ISTEXT(B472),B472=\"\",B472<$B$7),\"\",ROUND(((B472-$B$7)*25%)/25,4)*25)","v":""},{"$f":"IF(OR(ISTEXT(C472),C472=\"\",C472<$B$7),\"\",ROUND(((C472-$B$7)*25%)/25,4)*25)","v":""},"","","","","","","","","","","","","","","","","","","","","","","","","","","","","",{"$f":"SUM(AG462+AG464)","v":0},"[8]"]
[null,{"$f":"$B$33","v":"1)   25% Zeitzuschlag für Überschreitung Wochentotal"},null,null,null,null,null,null,null,null,null,{"$f":"$L$33","v":"2) 100% Zeitzuschlag für Nachtarbeit"},null,null,null,null,null,null,null,{"$f":"$T$33","v":"Eingabe der ausbezahlten Stunden Vorjahressaldo"},null,null,null,null,null,null,null,null,null,null,null,null,{"$f":"SUM(AG462:AG464)","v":0},"[9]"]
[null,{"$f":"$B$34","v":"3) 100% Zeitzuschlag für Sonn- und Feiertagsarbeit"},null,null,null,null,null,null,null,null,null,null,null,null,null,null,null,null,null,{"$f":"$T$34","v":"Eingabe der ausbezahlten Stunden laufendes Jahr (Überstunden)"},null,null,null,null,null,null,null,null,null,null,null,null,{"$f":"SUM(AG460+AG466)","v":0},"[10]"]
[{"$f":"$A$35","v":"Bemerkungen"},null,null,null,null,null,null,null,null,null,null,null,null,null,null,null,null,null,null,null,null,null,null,null,null,null,null,null,null,null,null,null,{"$f":"SUM(AG460:AG474)","v":0},"[11]"]
[null,null,null,null,null,null,null,null,null,null,null,null,null,null,null,null,null,null,null,null,null,null,null,null,null,null,null,null,null,null,null,null,{"$f":"AG459","v":184}]
[null,null,null,null,null,null,null,null,null,null,null,null,null,null,null,null,null,null,null,null,null,null,null,null,null,null,null,null,null,null,null,null,{"$f":"SUM(AG483-AG459)","v":-184}]
[]
[{"$f":"$A$39","v":"Zusammenstellung"},null,null,null,null,null,{"$f":"$G$39","v":"Jan"},null,{"$f":"$I$39","v":"Feb"},null,{"$f":"$K$39","v":"Mrz"},null,{"$f":"$M$39","v":"Apr"},null,{"$f":"$O$39","v":"Mai"},null,{"$f":"$Q$39","v":"Jun"},null,{"$f":"$S$39","v":"Jul"},null,{"$f":"$U$39","v":"Aug"},null,{"$f":"$W$39","v":"Sep"},null,{"$f":"$Y$39","v":"Okt"},null,{"$f":"$AA$39","v":"Nov"},null,{"$f":"$AC$39","v":"Dez"},null,{"$f":"$AE$39","v":"Jahr"}]
[{"$f":"$A$40","v":"Anstellung %"},null,null,null,null,null,{"$f":"IF($B$4=0,0,$B$4)","v":100},null,{"$f":"IF($B$71=0,0,$B$71)","v":100},null,{"$f":"IF($B$135=0,0,$B$135)","v":100},null,{"$f":"IF($B$199=0,0,$B$199)","v":100},null,{"$f":"IF($B$263=0,0,$B$263)","v":100},null,{"$f":"IF($B$327=0,0,$B$327)","v":100},null,{"$f":"IF($B$391=0,0,$B$391)","v":100},null,{"$f":"IF($B$455=0,0,$B$455)","v":100},null,{"$f":"IF($B$519=0,0,$B$519)","v":100},null,{"$f":"IF($B$583=0,0,$B$583)","v":100},null,{"$f":"IF($B$647=0,0,$B$647)","v":100},null,{"$f":"IF($B$711=0,0,$B$711)","v":100}]
[{"$f":"$A$41","v":"Sollstunden gemäss GAV"},null,null,null,null,null,{"$f":"IF($AG$37=0,0,$AG$37)","v":168},null,{"$f":"IF($AG$100=0,0,$AG$100)","v":160},null,{"$f":"IF($AG$139=0,0,$AG$139)","v":184},null,{"$f":"IF($AG$228=0,0,$AG$228)","v":168},null,{"$f":"IF($AG$292=0,0,$AG$292)","v":176},null,{"$f":"IF($AG$356=0,0,$AG$356)","v":176},null,{"$f":"IF($AG$420=0,0,$AG$420)","v":168},null,{"$f":"IF($AG$484=0,0,$AG$484)","v":184},null,{"$f":"IF($AG$548=0,0,$AG$548)","v":176},null,{"$f":"IF($AG$612=0,0,$AG$612)","v":168},null,{"$f":"IF($AG$676=0,0,$AG$676)","v":176},null,{"$f":"IF($AG$740=0,0,$AG$740)","v":176},null,{"$f":"SUM(G489:AD489)","v":2080}]
[{"$f":"$A$42","v":"Produktive Stunden"},{"$f":"$B$42","v":"06.00 - 20.00 Uhr"},null,null,null,null,{"$f":"IF($AG$32=0,0,$AG$32)","v":0},null,{"$f":"IF($AG$95=0,0,$AG$95)","v":0},null,{"$f":"IF($AG$159=0,0,$AG$159)","v":0},null,{"$f":"IF($AG$223=0,0,$AG$223)","v":0},null,{"$f":"IF($AG$287=0,0,$AG$287)","v":0},null,{"$f":"IF($AG$351=0,0,$AG$351)","v":0},null,{"$f":"IF($AG$415=0,0,$AG$415)","v":0},null,{"$f":"IF($AG$479=0,0,$AG$479)","v":0},null,{"$f":"IF($AG$543=0,0,$AG$543)","v":0},null,{"$f":"IF($AG$607=0,0,$AG$607)","v":0},null,{"$f":"IF($AG$671=0,0,$AG$671)","v":0},null,{"$f":"IF($AG$735=0,0,$AG$735)","v":0},null,{"$f":"SUM(G490:AD490)","v":0}]
[null,{"$f":"$B$43","v":"Nacht-, Sonn-, Feiertagsarbeit"},null,null,null,null,{"$f":"IF($AG$33=0,0,$AG$33)","v":0},null,{"$f":"IF($AG$96=0,0,$AG$96)","v":0},null,{"$f":"IF($AG$160=0,0,$AG$160)","v":0},null,{"$f":"IF($AG$224=0,0,$AG$224)","v":0},null,{"$f":"IF($AG$288=0,0,$AG$288)","v":0},null,{"$f":"IF($AG$352=0,0,$AG$352)","v":0},null,{"$f":"IF($AG$416=0,0,$AG$416)","v":0},null,{"$f":"IF($AG$480=0,0,$AG$480)","v":0},null,{"$f":"IF($AG$544=0,0,$AG$544)","v":0},null,{"$f":"IF($AG$608=0,0,$AG$608)","v":0},null,{"$f":"IF($AG$672=0,0,$AG$672)","v":0},null,{"$f":"IF($AG$736=0,0,$AG$736)","v":0},null,{"$f":"SUM(G491:AD491)","v":0}]
[{"$f":"$A$44","v":"Zeitzuschläge"},{"$f":"$B$44","v":"aus Wochentotal"},null,null,null,null,{"$f":"IF($AG$25=0,0,$AG$25)","v":0},null,{"$f":"IF($AG$88=0,0,$AG$88)","v":0},null,{"$f":"IF($AG$152=0,0,$AG$152)","v":0},null,{"$f":"IF($AG$216=0,0,$AG$216)","v":0},null,{"$f":"IF($AG$280=0,0,$AG$280)","v":0},null,{"$f":"IF($AG$344=0,0,$AG$344)","v":0},null,{"$f":"IF($AG$408=0,0,$AG$408)","v":0},null,{"$f":"IF($AG$472=0,0,$AG$472)","v":0},null,{"$f":"IF($AG$536=0,0,$AG$536)","v":0},null,{"$f":"IF($AG$600=0,0,$AG$600)","v":0},null,{"$f":"IF($AG$664=0,0,$AG$664)","v":0},null,{"$f":"IF($AG$728=0,0,$AG$728)","v":0},null,{"$f":"SUM(G492:AD492)","v":0}]
[null,{"$f":"$B$45","v":"aus Nacht-, Sonn-, Feiertagsarbeiten"},null,null,null,null,{"$f":"IF($AJ$21=0,0,$AJ$21)","v":0},null,{"$f":"IF($AK$21=0,0,$AK$21)","v":0},null,{"$f":"IF($AL$21=0,0,$AL$21)","v":0},null,{"$f":"IF($AM$21=0,0,$AM$21)","v":0},null,{"$f":"IF($AN$21=0,0,$AN$21)","v":0},null,{"$f":"IF($AO$21=0,0,$AO$21)","v":0},null,{"$f":"IF($AP$21=0,0,$AP$21)","v":0},null,{"$f":"IF($AQ$21=0,0,$AQ$21)","v":0},null,{"$f":"IF($AR$21=0,0,$AR$21)","v":0},null,{"$f":"IF($AS$21=0,0,$AS$21)","v":0},null,{"$f":"IF($AT$21=0,0,$AT$21)","v":0},null,{"$f":"IF($AU$21=0,0,$AU$21)","v":0},null,{"$f":"SUM(G493:AD493)","v":0}]
[{"$f":"$A$46","v":"Unproduktive Stunden"}]
[{"$f":"$A$47","v":"   Absenzen, Kurzabsenzen Art. 11 GAV"},null,null,null,null,{"$f":"$F$47","v":"a"},{"$f":"IF($AJ$3=0,0,$AJ$3)","v":0},null,{"$f":"IF($AK$3=0,0,$AK$3)","v":0},null,{"$f":"IF($AL$3=0,0,$AL$3)","v":0},null,{"$f":"IF($AM$3=0,0,$AM$3)","v":0},null,{"$f":"IF($AN$3=0,0,$AN$3)","v":0},null,{"$f":"IF($AO$3=0,0,$AO$3)","v":0},null,{"$f":"IF($AP$3=0,0,$AP$3)","v":0},null,{"$f":"IF($AQ$3=0,0,$AQ$3)","v":0},null,{"$f":"IF($AR$3=0,0,$AR$3)","v":0},null,{"$f":"IF($AS$3=0,0,$AS$3)","v":0},null,{"$f":"IF(AT$3=0,0,$AT$3)","v":0},null,{"$f":"IF($AU$3=0,0,$AU$3)","v":0},null,{"$f":"IF($AV$3=0,0,$AV$3)","v":0}]
[{"$f":"$A$48","v":"   Ferien Art. 12.1 GAV"},null,null,null,null,{"$f":"$F$48","v":"f"},{"$f":"IF($AJ$4=0,0,$AJ$4)","v":0},null,{"$f":"IF($AK$4=0,0,$AK$4)","v":0},null,{"$f":"IF($AL$4=0,0,$AL$4)","v":0},null,{"$f":"IF($AM$4=0,0,$AM$4)","v":0},null,{"$f":"IF($AN$4=0,0,$AN$4)","v":0},null,{"$f":"IF($AO$4=0,0,$AO$4)","v":0},null,{"$f":"IF($AP$4=0,0,$AP$4)","v":0},null,{"$f":"IF($AQ$4=0,0,$AQ$4)","v":0},null,{"$f":"IF($AR$4=0,0,$AR$4)","v":0},null,{"$f":"IF($AS$4=0,0,$AS$4)","v":0},null,{"$f":"IF($AT$4=0,0,$AT$4)","v":0},null,{"$f":"IF($AU$4=0,0,$AU$4)","v":0},null,{"$f":"IF($AV$4=0,0,$AV$4)","v":0}]
[{"$f":"Labels!$B$181","v":"   Ferien unbezahlt"},null,null,null,null,{"$f":"Labels!$B$182","v":"fu"},{"$f":"IF($AJ$13=0,0,$AJ$13)","v":0},null,{"$f":"IF($AK$13=0,0,$AK$13)","v":0},null,{"$f":"IF($AL$13=0,0,$AL$13)","v":0},null,{"$f":"IF($AM$13=0,0,$AM$13)","v":0},null,{"$f":"IF($AN$13=0,0,$AN$13)","v":0},null,{"$f":"IF($AO$13=0,0,$AO$13)","v":0},null,{"$f":"IF($AP$13=0,0,$AP$13)","v":0},null,{"$f":"IF($AQ$13=0,0,$AQ$13)","v":0},null,{"$f":"IF($AR$13=0,0,$AR$13)","v":0},null,{"$f":"IF($AS$13=0,0,$AS$13)","v":0},null,{"$f":"IF($AT$13=0,0,$AT$13)","v":0},null,{"$f":"IF($AU$13=0,0,$AU$13)","v":0},null,{"$f":"IF($AV$13=0,0,$AV$13)","v":0}]
[{"$f":"$A$50","v":"   Feiertage Art. 12.2 GAV"},null,{"$f":"IF($AJ$18=\"\",\"\",$AJ$18)","v":""},null,null,{"$f":"$F$50","v":"ft"},{"$f":"IF($AJ$16=0,0,$AJ$16)","v":0},null,{"$f":"IF($AK$16=0,0,$AK$16)","v":0},null,{"$f":"IF($AL$16=0,0,$AL$16)","v":0},null,{"$f":"IF($AM$16=0,0,$AM$16)","v":0},null,{"$f":"IF($AN$16=0,0,$AN$16)","v":0},null,{"$f":"IF($AO$16=0,0,$AO$16)","v":0},null,{"$f":"IF($AP$16=0,0,$AP$16)","v":0},null,{"$f":"IF($AQ$16=0,0,$AQ$16)","v":0},null,{"$f":"IF($AR$16=0,0,$AR$16)","v":0},null,{"$f":"IF($AS$16=0,0,$AS$16)","v":0},null,{"$f":"IF($AT$16=0,0,$AT$16)","v":0},null,{"$f":"IF($AU$16=0,0,$AU$16)","v":0},null,{"$f":"IF($AV$16=0,0,$AV$16)","v":0}]
[{"$f":"$A$51","v":"   Krankheit Art. 13 GAV"},null,null,null,null,{"$f":"$F$51","v":"k"},{"$f":"IF($AJ$5=0,0,$AJ$5)","v":0},null,{"$f":"IF($AK$5=0,0,$AK$5)","v":0},null,{"$f":"IF($AL$5=0,0,$AL$5)","v":0},null,{"$f":"IF($AM$5=0,0,$AM$5)","v":0},null,{"$f":"IF($AN$5=0,0,$AN$5)","v":0},null,{"$f":"IF($AO$5=0,0,$AO$5)","v":0},null,{"$f":"IF($AP$5=0,0,$AP$5)","v":0},null,{"$f":"IF($AQ$5=0,0,$AQ$5)","v":0},null,{"$f":"IF($AR$5=0,0,$AR$5)","v":0},null,{"$f":"IF($AS$5=0,0,$AS$5)","v":0},null,{"$f":"IF($AT$5=0,0,$AT$5)","v":0},null,{"$f":"IF($AU$5=0,0,$AU$5)","v":0},null,{"$f":"IF($AV$5=0,0,$AV$5)","v":0}]
[{"$f":"$A$52","v":"   Unfall Art. 14 GAV"},null,null,null,null,{"$f":"$F$52","v":"u"},{"$f":"IF($AJ$6=0,0,$AJ$6)","v":0},null,{"$f":"IF($AK$6=0,0,$AK$6)","v":0},null,{"$f":"IF($AL$6=0,0,$AL$6)","v":0},null,{"$f":"IF($AM$6=0,0,$AM$6)","v":0},null,{"$f":"IF($AN$6=0,0,$AN$6)","v":0},null,{"$f":"IF($AO$6=0,0,$AO$6)","v":0},null,{"$f":"IF($AP$6=0,0,$AP$6)","v":0},null,{"$f":"IF($AQ$6=0,0,$AQ$6)","v":0},null,{"$f":"IF($AR$6=0,0,$AR$6)","v":0},null,{"$f":"IF($AS$6=0,0,$AS$6)","v":0},null,{"$f":"IF($AT$6=0,0,$AT$6)","v":0},null,{"$f":"IF($AU$6=0,0,$AU$6)","v":0},null,{"$f":"IF($AV$6=0,0,$AV$6)","v":0}]
[{"$f":"$A$53","v":"   Schwangerschaft/Mutterschaft Art. 15 GAV"},null,null,null,null,{"$f":"$F$53","v":"s"},{"$f":"IF($AJ$7=0,0,$AJ$7)","v":0},null,{"$f":"IF($AK$7=0,0,$AK$7)","v":0},null,{"$f":"IF($AL$7=0,0,$AL$7)","v":0},null,{"$f":"IF($AM$7=0,0,$AM$7)","v":0},null,{"$f":"IF($AN$7=0,0,$AN$7)","v":0},null,{"$f":"IF($AO$7=0,0,$AO$7)","v":0},null,{"$f":"IF($AP$7=0,0,$AP$7)","v":0},null,{"$f":"IF($AQ$7=0,0,$AQ$7)","v":0},null,{"$f":"IF($AR$7=0,0,$AR$7)","v":0},null,{"$f":"IF($AS$7=0,0,$AS$7)","v":0},null,{"$f":"IF($AT$7=0,0,$AT$7)","v":0},null,{"$f":"IF($AU$7=0,0,$AU$7)","v":0},null,{"$f":"IF($AV$7=0,0,$AV$7)","v":0}]
[{"$f":"$A$54","v":"   Militär/Beförderung/Zivilschutz Art. 16 GAV"},null,null,null,null,{"$f":"$F$54","v":"m"},{"$f":"IF($AJ$8=0,0,$AJ$8)","v":0},null,{"$f":"IF($AK$8=0,0,$AK$8)","v":0},null,{"$f":"IF($AL$8=0,0,$AL$8)","v":0},null,{"$f":"IF($AM$8=0,0,$AM$8)","v":0},null,{"$f":"IF($AN$8=0,0,$AN$8)","v":0},null,{"$f":"IF($AO$8=0,0,$AO$8)","v":0},null,{"$f":"IF($AP$8=0,0,$AP$8)","v":0},null,{"$f":"IF($AQ$8=0,0,$AQ$8)","v":0},null,{"$f":"IF($AR$8=0,0,$AR$8)","v":0},null,{"$f":"IF($AS$8=0,0,$AS$8)","v":0},null,{"$f":"IF($AT$8=0,0,$AT$8)","v":0},null,{"$f":"IF($AU$8=0,0,$AU$8)","v":0},null,{"$f":"IF($AV$8=0,0,$AV$8)","v":0}]
[{"$f":"$A$55","v":"   Kurzarbeit und Schlechtwetterausfälle"},null,null,null,null,{"$f":"$F$55","v":"ka"},{"$f":"IF($AJ$11=0,0,$AJ$11)","v":0},null,{"$f":"IF($AK$11=0,0,$AK$11)","v":0},null,{"$f":"IF($AL$11=0,0,$AL$11)","v":0},null,{"$f":"IF($AM$11=0,0,$AM$11)","v":0},null,{"$f":"IF($AN$11=0,0,$AN$11)","v":0},null,{"$f":"IF($AO$11=0,0,$AO$11)","v":0},null,{"$f":"IF($AP$11=0,0,$AP$11)","v":0},null,{"$f":"IF($AQ$11=0,0,$AQ$11)","v":0},null,{"$f":"IF($AR$11=0,0,$AR$11)","v":0},null,{"$f":"IF($AS$11=0,0,$AS$11)","v":0},null,{"$f":"IF($AT$11=0,0,$AT$11)","v":0},null,{"$f":"IF($AU$11=0,0,$AU$11)","v":0},null,{"$f":"IF($AV$11=0,0,$AV$11)","v":0}]
[{"$f":"$A$56","v":"   Berufsschule"},null,null,null,null,{"$f":"$F$56","v":"bs"},{"$f":"IF($AJ$9=0,0,$AJ$9)","v":0},null,{"$f":"IF($AK$9=0,0,$AK$9)","v":0},null,{"$f":"IF($AL$9=0,0,$AL$9)","v":0},null,{"$f":"IF($AM$9=0,0,$AM$9)","v":0},null,{"$f":"IF($AN$9=0,0,$AN$9)","v":0},null,{"$f":"IF($AO$9=0,0,$AO$9)","v":0},null,{"$f":"IF($AP$9=0,0,$AP$9)","v":0},null,{"$f":"IF($AQ$9=0,0,$AQ$9)","v":0},null,{"$f":"IF($AR$9=0,0,$AR$9)","v":0},null,{"$f":"IF($AS$9=0,0,$AS$9)","v":0},null,{"$f":"IF($AT$9=0,0,$AT$9)","v":0},null,{"$f":"IF($AU$9=0,0,$AU$9)","v":0},null,{"$f":"IF($AV$9=0,0,$AV$9)","v":0}]
[{"$f":"$A$57","v":"   Kurse"},null,null,null,null,{"$f":"$F$57","v":"ku"},{"$f":"IF($AJ$10=0,0,$AJ$10)","v":0},null,{"$f":"IF($AK$10=0,0,$AK$10)","v":0},null,{"$f":"IF($AL$10=0,0,$AL$10)","v":0},null,{"$f":"IF($AM$10=0,0,$AM$10)","v":0},null,{"$f":"IF($AN$10=0,0,$AN$10)","v":0},null,{"$f":"IF($AO$10=0,0,$AO$10)","v":0},null,{"$f":"IF($AP$10=0,0,$AP$10)","v":0},null,{"$f":"IF($AQ$10=0,0,$AQ$10)","v":0},null,{"$f":"IF($AR$10=0,0,$AR$10)","v":0},null,{"$f":"IF($AS$10=0,0,$AS$10)","v":0},null,{"$f":"IF($AT$10=0,0,$AT$10)","v":0},null,{"$f":"IF($AU$10=0,0,$AU$10)","v":0},null,{"$f":"IF($AV$10=0,0,$AV$10)","v":0}]
[{"$f":"$A$58","v":"Kompensations-Std"},{"$f":"$B$58","v":"aus Vorjahr"},null,null,null,{"$f":"$F$58","v":"kv"},{"$f":"IF($AJ$12=0,0,$AJ$12)","v":0},null,{"$f":"IF($AK$12=0,0,$AK$12)","v":0},null,{"$f":"IF($AL$12=0,0,$AL$12)","v":0},null,{"$f":"IF($AM$12=0,0,$AM$12)","v":0},null,{"$f":"IF($AN$12=0,0,$AN$12)","v":0},null,{"$f":"IF($AO$12=0,0,$AO$12)","v":0},null,{"$f":"IF($AP$12=0,0,$AP$12)","v":0},null,{"$f":"IF($AQ$12=0,0,$AQ$12)","v":0},null,{"$f":"IF($AR$12=0,0,$AR$12)","v":0},null,null,null,null,null,null,null,{"$f":"IF($AV$12=0,0,$AV$12)","v":0}]
[null,{"$f":"$B$59","v":"aus laufendem Jahr (Kontrolle)"},null,null,null,{"$f":"$F$59","v":"kj"},{"$f":"IF($AJ$15=0,0,$AJ$15)","v":0},null,{"$f":"IF($AK$15=0,0,$AK$15)","v":0},null,{"$f":"IF($AL$15=0,0,$AL$15)","v":0},null,{"$f":"IF($AM$15=0,0,$AM$15)","v":0},null,{"$f":"IF($AN$15=0,0,$AN$15)","v":0},null,{"$f":"IF($AO$15=0,0,$AO$15)","v":0},null,{"$f":"IF($AP$15=0,0,$AP$15)","v":0},null,{"$f":"IF($AQ$15=0,0,$AQ$15)","v":0},null,{"$f":"IF($AR$15=0,0,$AR$15)","v":0},null,{"$f":"IF($AS$15=0,0,$AS$15)","v":0},null,{"$f":"IF($AT$15=0,0,$AT$15)","v":0},null,{"$f":"IF($AU$15=0,0,$AU$15)","v":0},null,{"$f":"IF($AV$15=0,0,$AV$15)","v":0}]
[{"$f":"$A$60","v":"Auszahlung"},{"$f":"$B$60","v":"Stunden Vorjahressaldo"},null,null,null,null,{"$f":"IF($AJ$19=0,0,$AJ$19)","v":0},null,{"$f":"IF($AK$19=0,0,$AK$19)","v":0},null,{"$f":"IF($AL$19=0,0,$AL$19)","v":0},null,{"$f":"IF($AM$19=0,0,$AM$19)","v":0},null,{"$f":"IF($AN$19=0,0,$AN$19)","v":0},null,{"$f":"IF($AO$19=0,0,$AO$19)","v":0},null,{"$f":"IF($AP$19=0,0,$AP$19)","v":0},null,{"$f":"IF($AQ$19=0,0,$AQ$19)","v":0},null,{"$f":"IF($AR$19=0,0,$AR$19)","v":0},null,null,null,null,null,null,null,{"$f":"IF($AV$19=0,0,$AV$19)","v":0}]
[{"$f":"$A$61","v":"Differenz"},{"$f":"$B$61","v":"nach Kompensation und Auszahlung"},null,null,null,null,{"$f":"IF(ROUND($P$4,3)=0,0,$P$4-SUM(G506+G508))","v":0},null,{"$f":"IF(ROUND(G509,3)=0,0,G509-(SUM(I508+I506)))","v":0},null,{"$f":"IF(ROUND(I509,3)=0,0,I509-(SUM(K508+K506)))","v":0},null,{"$f":"IF(ROUND(K509,3)=0,0,K509-(SUM(M508+M506)))","v":0},null,{"$f":"IF(ROUND(M509,3)=0,0,M509-(SUM(O508+O506)))","v":0},null,{"$f":"IF(ROUND(O509,3)=0,0,O509-(SUM(Q508+Q506)))","v":0},null,{"$f":"IF(ROUND(Q509,3)=0,0,Q509-(SUM(S508+S506)))","v":0},null,{"$f":"IF(ROUND(S509,3)=0,0,S509-(SUM(U508+U506)))","v":0},null,{"$f":"IF(ROUND(U509,3)=0,0,U509-(SUM(W508+W506)))","v":0},null,{"$f":"$Y$61","v":""}]
[{"$f":"$A$62","v":"Auszahlung"},{"$f":"$B$62","v":"Stunden laufendes Jahr"},null,null,null,null,{"$f":"IF($AJ$20=0,0,$AJ$20)","v":0},null,{"$f":"IF($AK$20=0,0,$AK$20)","v":0},null,{"$f":"IF($AL$20=0,0,$AL$20)","v":0},null,{"$f":"IF($AM$20=0,0,$AM$20)","v":0},null,{"$f":"IF($AN$20=0,0,$AN$20)","v":0},null,{"$f":"IF($AO$20=0,0,$AO$20)","v":0},null,{"$f":"IF($AP$20=0,0,$AP$20)","v":0},null,{"$f":"IF($AQ$20=0,0,$AQ$20)","v":0},null,{"$f":"IF($AR$20=0,0,$AR$20)","v":0},null,{"$f":"IF($AS$20=0,0,$AS$20)","v":0},null,{"$f":"IF($AT$20=0,0,$AT$20)","v":0},null,{"$f":"IF($AU$20=0,0,$AU$20)","v":0},null,{"$f":"IF($AV$20=0,0,$AV$20)","v":0}]
[{"$f":"$A$63","v":"Fehlstunden"},{"$f":"$B$63","v":"laufendes Jahr (Kontrolle)"},null,null,null,{"$f":"$F$63","v":"fe"},{"$f":"IF($AJ$14=0,0,$AJ$14)","v":0},null,{"$f":"IF($AK$14=0,0,$AK$14)","v":0},null,{"$f":"IF($AL$14=0,0,$AL$14)","v":0},null,{"$f":"IF($AM$14=0,0,$AM$14)","v":0},null,{"$f":"IF($AN$14=0,0,$AN$14)","v":0},null,{"$f":"IF($AO$14=0,0,$AO$14)","v":0},null,{"$f":"IF($AP$14=0,0,$AP$14)","v":0},null,{"$f":"IF($AQ$14=0,0,$AQ$14)","v":0},null,{"$f":"IF($AR$14=0,0,$AR$14)","v":0},null,{"$f":"IF($AS$14=0,0,$AS$14)","v":0},null,{"$f":"IF($AT$14=0,0,$AT$14)","v":0},null,{"$f":"IF($AU$14=0,0,$AU$14)","v":0},null,{"$f":"IF($AV$14=0,0,$AV$14)","v":0}]
[{"$f":"$A$64","v":"Total inkl. Zeitzuschläge"},{"$f":"$B$64","v":"Stunden produktiv und unproduktiv"},null,null,null,null,{"$f":"IF($AG$36=0,0,$AG$36)","v":0},null,{"$f":"IF($AG$99=0,0,$AG$99)","v":0},null,{"$f":"IF($AG$163=0,0,$AG$163)","v":0},null,{"$f":"IF($AG$227=0,0,$AG$227)","v":0},null,{"$f":"IF($AG$291=0,0,$AG$291)","v":0},null,{"$f":"IF($AG$355=0,0,$AG$355)","v":0},null,{"$f":"IF($AG$419=0,0,$AG$419)","v":0},null,{"$f":"IF($AG$483=0,0,$AG$483)","v":0},null,{"$f":"IF($AG$547=0,0,$AG$547)","v":0},null,{"$f":"IF($AG$611=0,0,$AG$611)","v":0},null,{"$f":"IF($AG$675=0,0,$AG$675)","v":0},null,{"$f":"IF($AG$739=0,0,$AG$739)","v":0},null,{"$f":"SUM($G$64:$AD$64)","v":0}]
[{"$f":"$A$65","v":"Vergleich"},{"$f":"$B$65","v":"Stunden zu Soll-Stunden (inkl. allfälli-\nge Minusstunden Vorjahr)"},null,null,null,null,{"$f":"$G$65","v":-168},null,{"$f":"$I$65","v":-160},null,{"$f":"$K$65","v":-184},null,{"$f":"$M$65","v":-168},null,{"$f":"$O$65","v":-176},null,{"$f":"$Q$65","v":-176},null,{"$f":"$S$65","v":-168},null,{"$f":"$U$65","v":-184},null,{"$f":"$W$65","v":-176},null,{"$f":"$Y$65","v":-168},null,{"$f":"$AA$65","v":-176},null,{"$f":"$AC$65","v":-176},null,{"$f":"$AE$65","v":-2080}]
[null,{"$f":"$B$66","v":"Stunden zu Soll-Stunden (kumuliert)"},null,null,null,null,{"$f":"$G$66","v":-168},null,{"$f":"$I$66","v":-328},null,{"$f":"$K$66","v":-512},null,{"$f":"$M$66","v":-680},null,{"$f":"$O$66","v":-856},null,{"$f":"$Q$66","v":-1032},null,{"$f":"$S$66","v":-1200},null,{"$f":"$U$66","v":-1384},null,{"$f":"$W$66","v":-1560},null,{"$f":"$Y$66","v":-1728},null,{"$f":"$AA$66","v":-1904},null,{"$f":"$AC$66","v":-2080},null,{"$f":"$AE$66","v":0}]
[{"$f":"$A$67","v":"Ferienkontrolle"},{"$f":"$B$67","v":"Ferienguthaben Vorjahr"},null,null,null,null,{"$f":"IF($AA$4=0,0,$AA$4)","v":0},null,{"$f":"$I$67","v":"Ferienguthaben nach \nArt. 12.1 GAV"},null,null,null,{"$f":"IF($AA$5=0,0,$AA$5)","v":0},null,{"$f":"$O$67","v":"Ferienguthaben total"},null,null,null,{"$f":"SUM(G515+M515)","v":0},null,{"$f":"$U$67","v":"Ferien bezogen"},null,null,null,{"$f":"IF($AV$4=0,0,$AV$4)","v":0},null,{"$f":"$AA$67","v":"Aktuelles Ferienguthaben"},null,null,null,{"$f":"IF(S515=0,0,S515-Y515)","v":0}]
[]
[]
[{"$f":"$A$3","v":"Mitarbeiter/In"},{"$f":"IF($B$3=\"\",\"\",$B$3)","v":"Muster Peter"},null,null,null,null,null,null,null,null,null,null,null,null,null,null,null,null,null,null,null,null,null,null,null,null,null,null,null,null,null,{"$f":"AF3","v":0}]
[{"$f":"$A$4","v":"Anstellung %"},{"$f":"$AL$52","v":100},null,{"$f":"Labels!B97","v":"im September"}]
[{"$f":"$A$5","v":"Saldo für das Jahr"},null,null,{"$f":"IF($AE$65=0,0,$AE$65)","v":-2080}]
[{"$f":"TEXT(DATE(YEAR(AP29),MONTH(AP29)+8,1),\"MMMM\"&Labels!B13)","v":"September"},{"$f":"$B$9","v":"Saldo Monat + / -"},null,null,null,{"$f":"(AG523-(SUM(AG524:AG538)-AE546))*-1","v":-176},null,null,null,null,{"$f":"$K$9","v":" = "},{"$f":"$L$9","v":"Gelbe Felder müssen ausgefüllt werden (die übrigen werden automatisch berechnet)"},null,null,null,null,null,null,null,null,null,null,null,null,null,null,null,null,null,null,null,null,{"$f":"COUNT(B524:AF524)&\" \"&Labels!$B$63","v":"22 Tage"}]
[{"$f":"$A$10","v":"Tag"},{"$f":"AF458+1","v":"2022-09-01"},{"$f":"B522+1","v":"2022-09-02"},{"$f":"C522+1","v":"2022-09-03"},"2022-09-04","2022-09-05","2022-09-06","2022-09-07","2022-09-08","2022-09-09","2022-09-10","2022-09-11","2022-09-12","2022-09-13","2022-09-14","2022-09-15","2022-09-16","2022-09-17","2022-09-18","2022-09-19","2022-09-20","2022-09-21","2022-09-22","2022-09-23","2022-09-24","2022-09-25","2022-09-26","2022-09-27","2022-09-28","2022-09-29","2022-09-30"]
[{"$f":"$A$11","v":"Kalenderwoche"},{"$f":"IF(B522=\"\",\"\",TRUNC((B522-DATE(YEAR(B522+3-MOD(B522-2,7)),1,MOD(B522-2,7)-9))/7))","v":35},35,35,35,36,36,36,36,36,36,36,37,37,37,37,37,37,37,38,38,38,38,38,38,38,39,39,39,39,39,"",{"$f":"SUM(B524:AF524)","v":176}]
[{"$f":"$A$12","v":"Sollstunden"},{"$f":"IF(AND(MOD(B522,7)>=2,SUMPRODUCT(($AM$56:$AQ$56=MOD(B522,7))*$AM$52:$AQ$52)),($J$7*5/$AR$52)*$B$519%,\"\")","v":8},{"$f":"IF(AND(MOD(C522,7)>=2,SUMPRODUCT(($AM$56:$AQ$56=MOD(C522,7))*$AM$52:$AQ$52)),($J$7*5/$AR$52)*$B$519%,\"\")","v":8},{"$f":"IF(AND(MOD(D522,7)>=2,SUMPRODUCT(($AM$56:$AQ$56=MOD(D522,7))*$AM$52:$AQ$52)),($J$7*5/$AR$52)*$B$519%,\"\")","v":""},{"$f":"IF(AND(MOD(E522,7)>=2,SUMPRODUCT(($AM$56:$AQ$56=MOD(E522,7))*$AM$52:$AQ$52)),($J$7*5/$AR$52)*$B$519%,\"\")","v":""},{"$f":"IF(AND(MOD(F522,7)>=2,SUMPRODUCT(($AM$56:$AQ$56=MOD(F522,7))*$AM$52:$AQ$52)),($J$7*5/$AR$52)*$B$519%,\"\")","v":8},{"$f":"IF(AND(MOD(G522,7)>=2,SUMPRODUCT(($AM$56:$AQ$56=MOD(G522,7))*$AM$52:$AQ$52)),($J$7*5/$AR$52)*$B$519%,\"\")","v":8},{"$f":"IF(AND(MOD(H522,7)>=2,SUMPRODUCT(($AM$56:$AQ$56=MOD(H522,7))*$AM$52:$AQ$52)),($J$7*5/$AR$52)*$B$519%,\"\")","v":8},{"$f":"IF(AND(MOD(I522,7)>=2,SUMPRODUCT(($AM$56:$AQ$56=MOD(I522,7))*$AM$52:$AQ$52)),($J$7*5/$AR$52)*$B$519%,\"\")","v":8},{"$f":"IF(AND(MOD(J522,7)>=2,SUMPRODUCT(($AM$56:$AQ$56=MOD(J522,7))*$AM$52:$AQ$52)),($J$7*5/$AR$52)*$B$519%,\"\")","v":8},{"$f":"IF(AND(MOD(K522,7)>=2,SUMPRODUCT(($AM$56:$AQ$56=MOD(K522,7))*$AM$52:$AQ$52)),($J$7*5/$AR$52)*$B$519%,\"\")","v":""},{"$f":"IF(AND(MOD(L522,7)>=2,SUMPRODUCT(($AM$56:$AQ$56=MOD(L522,7))*$AM$52:$AQ$52)),($J$7*5/$AR$52)*$B$519%,\"\")","v":""},{"$f":"IF(AND(MOD(M522,7)>=2,SUMPRODUCT(($AM$56:$AQ$56=MOD(M522,7))*$AM$52:$AQ$52)),($J$7*5/$AR$52)*$B$519%,\"\")","v":8},{"$f":"IF(AND(MOD(N522,7)>=2,SUMPRODUCT(($AM$56:$AQ$56=MOD(N522,7))*$AM$52:$AQ$52)),($J$7*5/$AR$52)*$B$519%,\"\")","v":8},{"$f":"IF(AND(MOD(O522,7)>=2,SUMPRODUCT(($AM$56:$AQ$56=MOD(O522,7))*$AM$52:$AQ$52)),($J$7*5/$AR$52)*$B$519%,\"\")","v":8},{"$f":"IF(AND(MOD(P522,7)>=2,SUMPRODUCT(($AM$56:$AQ$56=MOD(P522,7))*$AM$52:$AQ$52)),($J$7*5/$AR$52)*$B$519%,\"\")","v":8},{"$f":"IF(AND(MOD(Q522,7)>=2,SUMPRODUCT(($AM$56:$AQ$56=MOD(Q522,7))*$AM$52:$AQ$52)),($J$7*5/$AR$52)*$B$519%,\"\")","v":8},{"$f":"IF(AND(MOD(R522,7)>=2,SUMPRODUCT(($AM$56:$AQ$56=MOD(R522,7))*$AM$52:$AQ$52)),($J$7*5/$AR$52)*$B$519%,\"\")","v":""},{"$f":"IF(AND(MOD(S522,7)>=2,SUMPRODUCT(($AM$56:$AQ$56=MOD(S522,7))*$AM$52:$AQ$52)),($J$7*5/$AR$52)*$B$519%,\"\")","v":""},{"$f":"IF(AND(MOD(T522,7)>=2,SUMPRODUCT(($AM$56:$AQ$56=MOD(T522,7))*$AM$52:$AQ$52)),($J$7*5/$AR$52)*$B$519%,\"\")","v":8},{"$f":"IF(AND(MOD(U522,7)>=2,SUMPRODUCT(($AM$56:$AQ$56=MOD(U522,7))*$AM$52:$AQ$52)),($J$7*5/$AR$52)*$B$519%,\"\")","v":8},{"$f":"IF(AND(MOD(V522,7)>=2,SUMPRODUCT(($AM$56:$AQ$56=MOD(V522,7))*$AM$52:$AQ$52)),($J$7*5/$AR$52)*$B$519%,\"\")","v":8},{"$f":"IF(AND(MOD(W522,7)>=2,SUMPRODUCT(($AM$56:$AQ$56=MOD(W522,7))*$AM$52:$AQ$52)),($J$7*5/$AR$52)*$B$519%,\"\")","v":8},{"$f":"IF(AND(MOD(X522,7)>=2,SUMPRODUCT(($AM$56:$AQ$56=MOD(X522,7))*$AM$52:$AQ$52)),($J$7*5/$AR$52)*$B$519%,\"\")","v":8},{"$f":"IF(AND(MOD(Y522,7)>=2,SUMPRODUCT(($AM$56:$AQ$56=MOD(Y522,7))*$AM$52:$AQ$52)),($J$7*5/$AR$52)*$B$519%,\"\")","v":""},{"$f":"IF(AND(MOD(Z522,7)>=2,SUMPRODUCT(($AM$56:$AQ$56=MOD(Z522,7))*$AM$52:$AQ$52)),($J$7*5/$AR$52)*$B$519%,\"\")","v":""},{"$f":"IF(AND(MOD(AA522,7)>=2,SUMPRODUCT(($AM$56:$AQ$56=MOD(AA522,7))*$AM$52:$AQ$52)),($J$7*5/$AR$52)*$B$519%,\"\")","v":8},{"$f":"IF(AND(MOD(AB522,7)>=2,SUMPRODUCT(($AM$56:$AQ$56=MOD(AB522,7))*$AM$52:$AQ$52)),($J$7*5/$AR$52)*$B$519%,\"\")","v":8},{"$f":"IF(AND(MOD(AC522,7)>=2,SUMPRODUCT(($AM$56:$AQ$56=MOD(AC522,7))*$AM$52:$AQ$52)),($J$7*5/$AR$52)*$B$519%,\"\")","v":8},{"$f":"IF(AND(MOD(AD522,7)>=2,SUMPRODUCT(($AM$56:$AQ$56=MOD(AD522,7))*$AM$52:$AQ$52)),($J$7*5/$AR$52)*$B$519%,\"\")","v":8},{"$f":"IF(AND(MOD(AE522,7)>=2,SUMPRODUCT(($AM$56:$AQ$56=MOD(AE522,7))*$AM$52:$AQ$52)),($J$7*5/$AR$52)*$B$519%,\"\")","v":8},null,{"$f":"SUM(AR3:AR13)","v":0}]
[{"$f":"$A$13","v":"Absenz in Std"},{"$f":"B1015","v":0},{"$f":"C1015","v":0},0,0,0,0,0,0,0,0,0,0,0,0,0,0,0,0,0,0,0,0,0,0,0,0,0,0,0,0]
[{"$f":"$A$14","v":"Code"},{"$f":"IF(B1015<>0,IF(MAX(B1002:B1014)<B1015,Labels!$B$163,INDEX($AH$1001:$AH$1013,MATCH(MAX(B1002:B1014),B1002:B1014,0))),\"\")","v":""},{"$f":"IF(C1015<>0,IF(MAX(C1002:C1014)<C1015,Labels!$B$163,INDEX($AH$1001:$AH$1013,MATCH(MAX(C1002:C1014),C1002:C1014,0))),\"\")","v":""},{"$f":"IF(D1015<>0,IF(MAX(D1002:D1014)<D1015,Labels!$B$163,INDEX($AH$1001:$AH$1013,MATCH(MAX(D1002:D1014),D1002:D1014,0))),\"\")","v":""},{"$f":"IF(E1015<>0,IF(MAX(E1002:E1014)<E1015,Labels!$B$163,INDEX($AH$1001:$AH$1013,MATCH(MAX(E1002:E1014),E1002:E1014,0))),\"\")","v":""},{"$f":"IF(F1015<>0,IF(MAX(F1002:F1014)<F1015,Labels!$B$163,INDEX($AH$1001:$AH$1013,MATCH(MAX(F1002:F1014),F1002:F1014,0))),\"\")","v":""},{"$f":"IF(G1015<>0,IF(MAX(G1002:G1014)<G1015,Labels!$B$163,INDEX($AH$1001:$AH$1013,MATCH(MAX(G1002:G1014),G1002:G1014,0))),\"\")","v":""},{"$f":"IF(H1015<>0,IF(MAX(H1002:H1014)<H1015,Labels!$B$163,INDEX($AH$1001:$AH$1013,MATCH(MAX(H1002:H1014),H1002:H1014,0))),\"\")","v":""},{"$f":"IF(I1015<>0,IF(MAX(I1002:I1014)<I1015,Labels!$B$163,INDEX($AH$1001:$AH$1013,MATCH(MAX(I1002:I1014),I1002:I1014,0))),\"\")","v":""},{"$f":"IF(J1015<>0,IF(MAX(J1002:J1014)<J1015,Labels!$B$163,INDEX($AH$1001:$AH$1013,MATCH(MAX(J1002:J1014),J1002:J1014,0))),\"\")","v":""},{"$f":"IF(K1015<>0,IF(MAX(K1002:K1014)<K1015,Labels!$B$163,INDEX($AH$1001:$AH$1013,MATCH(MAX(K1002:K1014),K1002:K1014,0))),\"\")","v":""},{"$f":"IF(L1015<>0,IF(MAX(L1002:L1014)<L1015,Labels!$B$163,INDEX($AH$1001:$AH$1013,MATCH(MAX(L1002:L1014),L1002:L1014,0))),\"\")","v":""},{"$f":"IF(M1015<>0,IF(MAX(M1002:M1014)<M1015,Labels!$B$163,INDEX($AH$1001:$AH$1013,MATCH(MAX(M1002:M1014),M1002:M1014,0))),\"\")","v":""},{"$f":"IF(N1015<>0,IF(MAX(N1002:N1014)<N1015,Labels!$B$163,INDEX($AH$1001:$AH$1013,MATCH(MAX(N1002:N1014),N1002:N1014,0))),\"\")","v":""},{"$f":"IF(O1015<>0,IF(MAX(O1002:O1014)<O1015,Labels!$B$163,INDEX($AH$1001:$AH$1013,MATCH(MAX(O1002:O1014),O1002:O1014,0))),\"\")","v":""},{"$f":"IF(P1015<>0,IF(MAX(P1002:P1014)<P1015,Labels!$B$163,INDEX($AH$1001:$AH$1013,MATCH(MAX(P1002:P1014),P1002:P1014,0))),\"\")","v":""},{"$f":"IF(Q1015<>0,IF(MAX(Q1002:Q1014)<Q1015,Labels!$B$163,INDEX($AH$1001:$AH$1013,MATCH(MAX(Q1002:Q1014),Q1002:Q1014,0))),\"\")","v":""},{"$f":"IF(R1015<>0,IF(MAX(R1002:R1014)<R1015,Labels!$B$163,INDEX($AH$1001:$AH$1013,MATCH(MAX(R1002:R1014),R1002:R1014,0))),\"\")","v":""},{"$f":"IF(S1015<>0,IF(MAX(S1002:S1014)<S1015,Labels!$B$163,INDEX($AH$1001:$AH$1013,MATCH(MAX(S1002:S1014),S1002:S1014,0))),\"\")","v":""},{"$f":"IF(T1015<>0,IF(MAX(T1002:T1014)<T1015,Labels!$B$163,INDEX($AH$1001:$AH$1013,MATCH(MAX(T1002:T1014),T1002:T1014,0))),\"\")","v":""},{"$f":"IF(U1015<>0,IF(MAX(U1002:U1014)<U1015,Labels!$B$163,INDEX($AH$1001:$AH$1013,MATCH(MAX(U1002:U1014),U1002:U1014,0))),\"\")","v":""},{"$f":"IF(V1015<>0,IF(MAX(V1002:V1014)<V1015,Labels!$B$163,INDEX($AH$1001:$AH$1013,MATCH(MAX(V1002:V1014),V1002:V1014,0))),\"\")","v":""},{"$f":"IF(W1015<>0,IF(MAX(W1002:W1014)<W1015,Labels!$B$163,INDEX($AH$1001:$AH$1013,MATCH(MAX(W1002:W1014),W1002:W1014,0))),\"\")","v":""},{"$f":"IF(X1015<>0,IF(MAX(X1002:X1014)<X1015,Labels!$B$163,INDEX($AH$1001:$AH$1013,MATCH(MAX(X1002:X1014),X1002:X1014,0))),\"\")","v":""},{"$f":"IF(Y1015<>0,IF(MAX(Y1002:Y1014)<Y1015,Labels!$B$163,INDEX($AH$1001:$AH$1013,MATCH(MAX(Y1002:Y1014),Y1002:Y1014,0))),\"\")","v":""},{"$f":"IF(Z1015<>0,IF(MAX(Z1002:Z1014)<Z1015,Labels!$B$163,INDEX($AH$1001:$AH$1013,MATCH(MAX(Z1002:Z1014),Z1002:Z1014,0))),\"\")","v":""},{"$f":"IF(AA1015<>0,IF(MAX(AA1002:AA1014)<AA1015,Labels!$B$163,INDEX($AH$1001:$AH$1013,MATCH(MAX(AA1002:AA1014),AA1002:AA1014,0))),\"\")","v":""},{"$f":"IF(AB1015<>0,IF(MAX(AB1002:AB1014)<AB1015,Labels!$B$163,INDEX($AH$1001:$AH$1013,MATCH(MAX(AB1002:AB1014),AB1002:AB1014,0))),\"\")","v":""},{"$f":"IF(AC1015<>0,IF(MAX(AC1002:AC1014)<AC1015,Labels!$B$163,INDEX($AH$1001:$AH$1013,MATCH(MAX(AC1002:AC1014),AC1002:AC1014,0))),\"\")","v":""},{"$f":"IF(AD1015<>0,IF(MAX(AD1002:AD1014)<AD1015,Labels!$B$163,INDEX($AH$1001:$AH$1013,MATCH(MAX(AD1002:AD1014),AD1002:AD1014,0))),\"\")","v":""},{"$f":"IF(AE1015<>0,IF(MAX(AE1002:AE1014)<AE1015,Labels!$B$163,INDEX($AH$1001:$AH$1013,MATCH(MAX(AE1002:AE1014),AE1002:AE1014,0))),\"\")","v":""},null,{"$f":"SUM(B527:AF527)","v":0}]
[{"$f":"$A$15","v":"00.00-06.00h"},null,null,null,null,null,null,null,null,null,null,null,null,null,null,null,null,null,null,null,null,null,null,null,null,null,null,null,null,null,null,null,{"$f":"SUM(B528:AF528)","v":0}]
[{"$f":"$A$16","v":"06.00-20.00h"},null,null,null,null,null,null,null,null,null,null,null,null,null,null,null,null,null,null,null,null,null,null,null,null,null,null,null,null,null,null,null,{"$f":"SUM(B529:AF529)","v":0},"[0]"]
[{"$f":"$A$17","v":"20.00-24.00h"}]
[{"$f":"$A$18","v":"Feiertag \"ft\""},{"$f":"IF(WEEKDAY(B522,2)<=6,IF(KALENDER!E19=\"x\",Labels!$B$118,\"\"),\"\")","v":""},{"$f":"IF(WEEKDAY(C522,2)<=6,IF(KALENDER!F19=\"x\",Labels!$B$118,\"\"),\"\")","v":""},{"$f":"IF(WEEKDAY(D522,2)<=6,IF(KALENDER!G19=\"x\",Labels!$B$118,\"\"),\"\")","v":""},{"$f":"IF(WEEKDAY(E522,2)<=6,IF(KALENDER!H19=\"x\",Labels!$B$118,\"\"),\"\")","v":""},{"$f":"IF(WEEKDAY(F522,2)<=6,IF(KALENDER!I19=\"x\",Labels!$B$118,\"\"),\"\")","v":""},{"$f":"IF(WEEKDAY(G522,2)<=6,IF(KALENDER!J19=\"x\",Labels!$B$118,\"\"),\"\")","v":""},{"$f":"IF(WEEKDAY(H522,2)<=6,IF(KALENDER!K19=\"x\",Labels!$B$118,\"\"),\"\")","v":""},{"$f":"IF(WEEKDAY(I522,2)<=6,IF(KALENDER!L19=\"x\",Labels!$B$118,\"\"),\"\")","v":""},{"$f":"IF(WEEKDAY(J522,2)<=6,IF(KALENDER!M19=\"x\",Labels!$B$118,\"\"),\"\")","v":""},{"$f":"IF(WEEKDAY(K522,2)<=6,IF(KALENDER!N19=\"x\",Labels!$B$118,\"\"),\"\")","v":""},{"$f":"IF(WEEKDAY(L522,2)<=6,IF(KALENDER!O19=\"x\",Labels!$B$118,\"\"),\"\")","v":""},{"$f":"IF(WEEKDAY(M522,2)<=6,IF(KALENDER!P19=\"x\",Labels!$B$118,\"\"),\"\")","v":""},{"$f":"IF(WEEKDAY(N522,2)<=6,IF(KALENDER!Q19=\"x\",Labels!$B$118,\"\"),\"\")","v":""},{"$f":"IF(WEEKDAY(O522,2)<=6,IF(KALENDER!R19=\"x\",Labels!$B$118,\"\"),\"\")","v":""},{"$f":"IF(WEEKDAY(P522,2)<=6,IF(KALENDER!S19=\"x\",Labels!$B$118,\"\"),\"\")","v":""},{"$f":"IF(WEEKDAY(Q522,2)<=6,IF(KALENDER!T19=\"x\",Labels!$B$118,\"\"),\"\")","v":""},{"$f":"IF(WEEKDAY(R522,2)<=6,IF(KALENDER!U19=\"x\",Labels!$B$118,\"\"),\"\")","v":""},{"$f":"IF(WEEKDAY(S522,2)<=6,IF(KALENDER!V19=\"x\",Labels!$B$118,\"\"),\"\")","v":""},{"$f":"IF(WEEKDAY(T522,2)<=6,IF(KALENDER!W19=\"x\",Labels!$B$118,\"\"),\"\")","v":""},{"$f":"IF(WEEKDAY(U522,2)<=6,IF(KALENDER!X19=\"x\",Labels!$B$118,\"\"),\"\")","v":""},{"$f":"IF(WEEKDAY(V522,2)<=6,IF(KALENDER!Y19=\"x\",Labels!$B$118,\"\"),\"\")","v":""},{"$f":"IF(WEEKDAY(W522,2)<=6,IF(KALENDER!Z19=\"x\",Labels!$B$118,\"\"),\"\")","v":""},{"$f":"IF(WEEKDAY(X522,2)<=6,IF(KALENDER!AA19=\"x\",Labels!$B$118,\"\"),\"\")","v":""},{"$f":"IF(WEEKDAY(Y522,2)<=6,IF(KALENDER!AB19=\"x\",Labels!$B$118,\"\"),\"\")","v":""},{"$f":"IF(WEEKDAY(Z522,2)<=6,IF(KALENDER!AC19=\"x\",Labels!$B$118,\"\"),\"\")","v":""},{"$f":"IF(WEEKDAY(AA522,2)<=6,IF(KALENDER!AD19=\"x\",Labels!$B$118,\"\"),\"\")","v":""},{"$f":"IF(WEEKDAY(AB522,2)<=6,IF(KALENDER!AE19=\"x\",Labels!$B$118,\"\"),\"\")","v":""},{"$f":"IF(WEEKDAY(AC522,2)<=6,IF(KALENDER!AF19=\"x\",Labels!$B$118,\"\"),\"\")","v":""},{"$f":"IF(WEEKDAY(AD522,2)<=6,IF(KALENDER!AG19=\"x\",Labels!$B$118,\"\"),\"\")","v":""},{"$f":"IF(WEEKDAY(AE522,2)<=6,IF(KALENDER!AH19=\"x\",Labels!$B$118,\"\"),\"\")","v":""},{"$f":"IF(WEEKDAY(AF522,2)<=6,IF(KALENDER!AI19=\"x\",Labels!$B$118,\"\"),\"\")","v":""},{"$f":"SUM(B531:AF531)","v":0}]
[{"$f":"$A$19","v":"Gutschrift \"ft\""},{"$f":"IF(AND(B530=Labels!$B$118,WEEKDAY(B522,2)<6,B$524<>\"\"),($J$7*5/$AR$52)*$B$519%,\"\")","v":""},{"$f":"IF(AND(C530=Labels!$B$118,WEEKDAY(C522,2)<6,C$524<>\"\"),($J$7*5/$AR$52)*$B$519%,\"\")","v":""},{"$f":"IF(AND(D530=Labels!$B$118,WEEKDAY(D522,2)<6,D$524<>\"\"),($J$7*5/$AR$52)*$B$519%,\"\")","v":""},{"$f":"IF(AND(E530=Labels!$B$118,WEEKDAY(E522,2)<6,E$524<>\"\"),($J$7*5/$AR$52)*$B$519%,\"\")","v":""},{"$f":"IF(AND(F530=Labels!$B$118,WEEKDAY(F522,2)<6,F$524<>\"\"),($J$7*5/$AR$52)*$B$519%,\"\")","v":""},{"$f":"IF(AND(G530=Labels!$B$118,WEEKDAY(G522,2)<6,G$524<>\"\"),($J$7*5/$AR$52)*$B$519%,\"\")","v":""},{"$f":"IF(AND(H530=Labels!$B$118,WEEKDAY(H522,2)<6,H$524<>\"\"),($J$7*5/$AR$52)*$B$519%,\"\")","v":""},{"$f":"IF(AND(I530=Labels!$B$118,WEEKDAY(I522,2)<6,I$524<>\"\"),($J$7*5/$AR$52)*$B$519%,\"\")","v":""},{"$f":"IF(AND(J530=Labels!$B$118,WEEKDAY(J522,2)<6,J$524<>\"\"),($J$7*5/$AR$52)*$B$519%,\"\")","v":""},{"$f":"IF(AND(K530=Labels!$B$118,WEEKDAY(K522,2)<6,K$524<>\"\"),($J$7*5/$AR$52)*$B$519%,\"\")","v":""},{"$f":"IF(AND(L530=Labels!$B$118,WEEKDAY(L522,2)<6,L$524<>\"\"),($J$7*5/$AR$52)*$B$519%,\"\")","v":""},{"$f":"IF(AND(M530=Labels!$B$118,WEEKDAY(M522,2)<6,M$524<>\"\"),($J$7*5/$AR$52)*$B$519%,\"\")","v":""},{"$f":"IF(AND(N530=Labels!$B$118,WEEKDAY(N522,2)<6,N$524<>\"\"),($J$7*5/$AR$52)*$B$519%,\"\")","v":""},{"$f":"IF(AND(O530=Labels!$B$118,WEEKDAY(O522,2)<6,O$524<>\"\"),($J$7*5/$AR$52)*$B$519%,\"\")","v":""},{"$f":"IF(AND(P530=Labels!$B$118,WEEKDAY(P522,2)<6,P$524<>\"\"),($J$7*5/$AR$52)*$B$519%,\"\")","v":""},{"$f":"IF(AND(Q530=Labels!$B$118,WEEKDAY(Q522,2)<6,Q$524<>\"\"),($J$7*5/$AR$52)*$B$519%,\"\")","v":""},{"$f":"IF(AND(R530=Labels!$B$118,WEEKDAY(R522,2)<6,R$524<>\"\"),($J$7*5/$AR$52)*$B$519%,\"\")","v":""},{"$f":"IF(AND(S530=Labels!$B$118,WEEKDAY(S522,2)<6,S$524<>\"\"),($J$7*5/$AR$52)*$B$519%,\"\")","v":""},{"$f":"IF(AND(T530=Labels!$B$118,WEEKDAY(T522,2)<6,T$524<>\"\"),($J$7*5/$AR$52)*$B$519%,\"\")","v":""},{"$f":"IF(AND(U530=Labels!$B$118,WEEKDAY(U522,2)<6,U$524<>\"\"),($J$7*5/$AR$52)*$B$519%,\"\")","v":""},{"$f":"IF(AND(V530=Labels!$B$118,WEEKDAY(V522,2)<6,V$524<>\"\"),($J$7*5/$AR$52)*$B$519%,\"\")","v":""},{"$f":"IF(AND(W530=Labels!$B$118,WEEKDAY(W522,2)<6,W$524<>\"\"),($J$7*5/$AR$52)*$B$519%,\"\")","v":""},{"$f":"IF(AND(X530=Labels!$B$118,WEEKDAY(X522,2)<6,X$524<>\"\"),($J$7*5/$AR$52)*$B$519%,\"\")","v":""},{"$f":"IF(AND(Y530=Labels!$B$118,WEEKDAY(Y522,2)<6,Y$524<>\"\"),($J$7*5/$AR$52)*$B$519%,\"\")","v":""},{"$f":"IF(AND(Z530=Labels!$B$118,WEEKDAY(Z522,2)<6,Z$524<>\"\"),($J$7*5/$AR$52)*$B$519%,\"\")","v":""},{"$f":"IF(AND(AA530=Labels!$B$118,WEEKDAY(AA522,2)<6,AA$524<>\"\"),($J$7*5/$AR$52)*$B$519%,\"\")","v":""},{"$f":"IF(AND(AB530=Labels!$B$118,WEEKDAY(AB522,2)<6,AB$524<>\"\"),($J$7*5/$AR$52)*$B$519%,\"\")","v":""},{"$f":"IF(AND(AC530=Labels!$B$118,WEEKDAY(AC522,2)<6,AC$524<>\"\"),($J$7*5/$AR$52)*$B$519%,\"\")","v":""},{"$f":"IF(AND(AD530=Labels!$B$118,WEEKDAY(AD522,2)<6,AD$524<>\"\"),($J$7*5/$AR$52)*$B$519%,\"\")","v":""},{"$f":"IF(AND(AE530=Labels!$B$118,WEEKDAY(AE522,2)<6,AE$524<>\"\"),($J$7*5/$AR$52)*$B$519%,\"\")","v":""},{"$f":"IF(AND(AF530=Labels!$B$118,WEEKDAY(AF522,2)<6),$J$7*$B$519%,\"\")","v":""}]
[{"$f":"$A$20","v":"Tagestotal"},{"$f":"SUM(B527:B529)","v":0},{"$f":"SUM(C527:C529)","v":0},0,0,0,0,0,0,0,0,0,0,0,0,0,0,0,0,0,0,0,0,0,0,0,0,0,0,0,0,0]
[{"$f":"$A$21","v":"."}]
[{"$f":"$A$22","v":"."}]
[{"$f":"$A$23","v":"Monatsübergang"},{"$f":"IF(WEEKDAY(B522)=1,TEXT(B522-1,\"MMM\"&Labels!B13),\"\")","v":""},null,null,null,null,null,null,null,null,null,null,null,null,null,null,null,null,null,null,null,null,null,null,null,null,null,null,null,null,{"$f":"IF(AND(WEEKDAY(AE522)>1,WEEKDAY(AE522)<7),TEXT(DATE($B$5,MONTH(AE522)+1,1),\"MMM\"&Labels!B13),\"\")","v":"Okt"}]
[{"$f":"$A$24","v":"Wochentotal"},{"$f":"IF(WEEKDAY(B522)=7,SUMIF($B459:$AF459,B523,$B468:$AF468)+SUMIF($B523:$AF523,B523,$B532:$AF532)+SUMIF($B587:$AF587,B523,$B596:$AF596),B535)","v":""},{"$f":"IF(WEEKDAY(C522)=7,SUMIF($B459:$AF459,C523,$B468:$AF468)+SUMIF($B523:$AF523,C523,$B532:$AF532)+SUMIF($B587:$AF587,C523,$B596:$AF596),\"\")","v":""},0,"","","","","","",0,"","","","","","",0,"","","","","","",0,"","","","","",{"$f":"IF(WEEKDAY(AE522)=7,SUMIF($B459:$AF459,AE523,$B468:$AF468)+SUMIF($B523:$AF523,AE523,$B532:$AF532)+SUMIF($B587:$AF587,AE523,$B596:$AF596),AE535)","v":"Okt"},null,{"$f":"SUM(B537:AF537)","v":0}]
[{"$f":"$A$25","v":"Zeitzuschlag 1)"},{"$f":"IF(B544=\"FALSCH\",\"\",B544)","v":""},{"$f":"IF(C544=\"FALSCH\",\"\",C544)","v":""},"","","","","","","","","","","","","","","","","","","","","","","","","","","","",null,0,"[1]"]
[{"$f":"$A$26","v":"Zeitzuschlag 2)"},{"$f":"IF((B527+B529)=0,\"\",SUM(B527,B529))","v":""},{"$f":"IF((C527+C529)=0,\"\",SUM(C527,C529))","v":""},"","","","","","","","","","","","","","","","","","","","","","","","","","","","",null,{"$f":"SUM(B539:AF539)","v":0},"[2]"]
[{"$f":"$A$27","v":"Zeitzuschlag 3)"},{"$f":"SUM(B540:B543)","v":0},{"$f":"SUM(C540:C543)","v":0},0,0,0,0,0,0,0,0,0,0,0,0,0,0,0,0,0,0,0,0,0,0,0,0,0,0,0,0,null,0,"[3]"]
[{"$f":"$A$28","v":"Sonntag Tag"},{"$f":"IF(WEEKDAY(B522)=1,B528,\"\")","v":""},{"$f":"IF(WEEKDAY(C522)=1,C528,\"\")","v":""},"",0,"","","","","","",0,"","","","","","",0,"","","","","","",0,"","","","","",null,0,"[4]"]
[{"$f":"$A$29","v":"Sonntag Nacht"},{"$f":"IF(WEEKDAY(B522)=1,SUM(B527+B529),\"\")","v":""},{"$f":"IF(WEEKDAY(C522)=1,SUM(C527+C529),\"\")","v":""},"",0,"","","","","","",0,"","","","","","",0,"","","","","","",0,"","","","","",null,0,"[5]"]
[{"$f":"$A$30","v":"ft-Tazuschlag"},{"$f":"IF(B530=Labels!$B$118,B528,\"\")","v":""},{"$f":"IF(C530=Labels!$B$118,C528,\"\")","v":""},{"$f":"IF(D530=Labels!$B$118,D528,\"\")","v":""},{"$f":"IF(E530=Labels!$B$118,E528,\"\")","v":""},{"$f":"IF(F530=Labels!$B$118,F528,\"\")","v":""},{"$f":"IF(G530=Labels!$B$118,G528,\"\")","v":""},{"$f":"IF(H530=Labels!$B$118,H528,\"\")","v":""},{"$f":"IF(I530=Labels!$B$118,I528,\"\")","v":""},{"$f":"IF(J530=Labels!$B$118,J528,\"\")","v":""},{"$f":"IF(K530=Labels!$B$118,K528,\"\")","v":""},{"$f":"IF(L530=Labels!$B$118,L528,\"\")","v":""},{"$f":"IF(M530=Labels!$B$118,M528,\"\")","v":""},{"$f":"IF(N530=Labels!$B$118,N528,\"\")","v":""},{"$f":"IF(O530=Labels!$B$118,O528,\"\")","v":""},{"$f":"IF(P530=Labels!$B$118,P528,\"\")","v":""},{"$f":"IF(Q530=Labels!$B$118,Q528,\"\")","v":""},{"$f":"IF(R530=Labels!$B$118,R528,\"\")","v":""},{"$f":"IF(S530=Labels!$B$118,S528,\"\")","v":""},{"$f":"IF(T530=Labels!$B$118,T528,\"\")","v":""},{"$f":"IF(U530=Labels!$B$118,U528,\"\")","v":""},{"$f":"IF(V530=Labels!$B$118,V528,\"\")","v":""},{"$f":"IF(W530=Labels!$B$118,W528,\"\")","v":""},{"$f":"IF(X530=Labels!$B$118,X528,\"\")","v":""},{"$f":"IF(Y530=Labels!$B$118,Y528,\"\")","v":""},{"$f":"IF(Z530=Labels!$B$118,Z528,\"\")","v":""},{"$f":"IF(AA530=Labels!$B$118,AA528,\"\")","v":""},{"$f":"IF(AB530=Labels!$B$118,AB528,\"\")","v":""},{"$f":"IF(AC530=Labels!$B$118,AC528,\"\")","v":""},{"$f":"IF(AD530=Labels!$B$118,AD528,\"\")","v":""},{"$f":"IF(AE530=Labels!$B$118,AE528,\"\")","v":""},null,0,"[6]"]
[{"$f":"$A$31","v":"ft-Nazuschlag"},{"$f":"IF(B530=Labels!$B$118,SUM(B527,B529),\"\")","v":""},{"$f":"IF(C530=Labels!$B$118,SUM(C527,C529),\"\")","v":""},{"$f":"IF(D530=Labels!$B$118,SUM(D527,D529),\"\")","v":""},{"$f":"IF(E530=Labels!$B$118,SUM(E527,E529),\"\")","v":""},{"$f":"IF(F530=Labels!$B$118,SUM(F527,F529),\"\")","v":""},{"$f":"IF(G530=Labels!$B$118,SUM(G527,G529),\"\")","v":""},{"$f":"IF(H530=Labels!$B$118,SUM(H527,H529),\"\")","v":""},{"$f":"IF(I530=Labels!$B$118,SUM(I527,I529),\"\")","v":""},{"$f":"IF(J530=Labels!$B$118,SUM(J527,J529),\"\")","v":""},{"$f":"IF(K530=Labels!$B$118,SUM(K527,K529),\"\")","v":""},{"$f":"IF(L530=Labels!$B$118,SUM(L527,L529),\"\")","v":""},{"$f":"IF(M530=Labels!$B$118,SUM(M527,M529),\"\")","v":""},{"$f":"IF(N530=Labels!$B$118,SUM(N527,N529),\"\")","v":""},{"$f":"IF(O530=Labels!$B$118,SUM(O527,O529),\"\")","v":""},{"$f":"IF(P530=Labels!$B$118,SUM(P527,P529),\"\")","v":""},{"$f":"IF(Q530=Labels!$B$118,SUM(Q527,Q529),\"\")","v":""},{"$f":"IF(R530=Labels!$B$118,SUM(R527,R529),\"\")","v":""},{"$f":"IF(S530=Labels!$B$118,SUM(S527,S529),\"\")","v":""},{"$f":"IF(T530=Labels!$B$118,SUM(T527,T529),\"\")","v":""},{"$f":"IF(U530=Labels!$B$118,SUM(U527,U529),\"\")","v":""},{"$f":"IF(V530=Labels!$B$118,SUM(V527,V529),\"\")","v":""},{"$f":"IF(W530=Labels!$B$118,SUM(W527,W529),\"\")","v":""},{"$f":"IF(X530=Labels!$B$118,SUM(X527,X529),\"\")","v":""},{"$f":"IF(Y530=Labels!$B$118,SUM(Y527,Y529),\"\")","v":""},{"$f":"IF(Z530=Labels!$B$118,SUM(Z527,Z529),\"\")","v":""},{"$f":"IF(AA530=Labels!$B$118,SUM(AA527,AA529),\"\")","v":""},{"$f":"IF(AB530=Labels!$B$118,SUM(AB527,AB529),\"\")","v":""},{"$f":"IF(AC530=Labels!$B$118,SUM(AC527,AC529),\"\")","v":""},{"$f":"IF(AD530=Labels!$B$118,SUM(AD527,AD529),\"\")","v":""},{"$f":"IF(AE530=Labels!$B$118,SUM(AE527,AE529),\"\")","v":""},null,{"$f":"AG527","v":0},"[7]"]
[{"$f":"$A$32","v":"Zuschlag  blind (Wochentotal)"},{"$f":"IF(OR(ISTEXT(B536),B536=\"\",B536<$B$7),\"\",ROUND(((B536-$B$7)*25%)/25,4)*25)","v":""},{"$f":"IF(OR(ISTEXT(C536),C536=\"\",C536<$B$7),\"\",ROUND(((C536-$B$7)*25%)/25,4)*25)","v":""},"","","","","","","","","","","","","","","","","","","","","","","","","","","","",null,{"$f":"SUM(AG526+AG528)","v":0},"[8]"]
[null,{"$f":"$B$33","v":"1)   25% Zeitzuschlag für Überschreitung Wochentotal"},null,null,null,null,null,null,null,null,null,{"$f":"$L$33","v":"2) 100% Zeitzuschlag für Nachtarbeit"},null,null,null,null,null,null,null,{"$f":"$T$33","v":"Eingabe der ausbezahlten Stunden Vorjahressaldo"},null,null,null,null,null,null,null,null,null,null,null,null,{"$f":"SUM(AG526:AG528)","v":0},"[9]"]
[null,{"$f":"$B$34","v":"3) 100% Zeitzuschlag für Sonn- und Feiertagsarbeit"},null,null,null,null,null,null,null,null,null,null,null,null,null,null,null,null,null,{"$f":"$T$34","v":"Eingabe der ausbezahlten Stunden laufendes Jahr (Überstunden)"},null,null,null,null,null,null,null,null,null,null,null,null,{"$f":"SUM(AG524+AG530)","v":0},"[10]"]
[{"$f":"$A$35","v":"Bemerkungen"},null,null,null,null,null,null,null,null,null,null,null,null,null,null,null,null,null,null,null,null,null,null,null,null,null,null,null,null,null,null,null,{"$f":"SUM(AG524:AG538)","v":0},"[11]"]
[null,null,null,null,null,null,null,null,null,null,null,null,null,null,null,null,null,null,null,null,null,null,null,null,null,null,null,null,null,null,null,null,{"$f":"AG523","v":176}]
[null,null,null,null,null,null,null,null,null,null,null,null,null,null,null,null,null,null,null,null,null,null,null,null,null,null,null,null,null,null,null,null,{"$f":"SUM(AG547-AG523)","v":-176}]
[]
[{"$f":"$A$39","v":"Zusammenstellung"},null,null,null,null,null,{"$f":"$G$39","v":"Jan"},null,{"$f":"$I$39","v":"Feb"},null,{"$f":"$K$39","v":"Mrz"},null,{"$f":"$M$39","v":"Apr"},null,{"$f":"$O$39","v":"Mai"},null,{"$f":"$Q$39","v":"Jun"},null,{"$f":"$S$39","v":"Jul"},null,{"$f":"$U$39","v":"Aug"},null,{"$f":"$W$39","v":"Sep"},null,{"$f":"$Y$39","v":"Okt"},null,{"$f":"$AA$39","v":"Nov"},null,{"$f":"$AC$39","v":"Dez"},null,{"$f":"$AE$39","v":"Jahr"}]
[{"$f":"$A$40","v":"Anstellung %"},null,null,null,null,null,{"$f":"IF($B$4=0,0,$B$4)","v":100},null,{"$f":"IF($B$71=0,0,$B$71)","v":100},null,{"$f":"IF($B$135=0,0,$B$135)","v":100},null,{"$f":"IF($B$199=0,0,$B$199)","v":100},null,{"$f":"IF($B$263=0,0,$B$263)","v":100},null,{"$f":"IF($B$327=0,0,$B$327)","v":100},null,{"$f":"IF($B$391=0,0,$B$391)","v":100},null,{"$f":"IF($B$455=0,0,$B$455)","v":100},null,{"$f":"IF($B$519=0,0,$B$519)","v":100},null,{"$f":"IF($B$583=0,0,$B$583)","v":100},null,{"$f":"IF($B$647=0,0,$B$647)","v":100},null,{"$f":"IF($B$711=0,0,$B$711)","v":100}]
[{"$f":"$A$41","v":"Sollstunden gemäss GAV"},null,null,null,null,null,{"$f":"IF($AG$37=0,0,$AG$37)","v":168},null,{"$f":"IF($AG$100=0,0,$AG$100)","v":160},null,{"$f":"IF($AG$139=0,0,$AG$139)","v":184},null,{"$f":"IF($AG$228=0,0,$AG$228)","v":168},null,{"$f":"IF($AG$292=0,0,$AG$292)","v":176},null,{"$f":"IF($AG$356=0,0,$AG$356)","v":176},null,{"$f":"IF($AG$420=0,0,$AG$420)","v":168},null,{"$f":"IF($AG$484=0,0,$AG$484)","v":184},null,{"$f":"IF($AG$548=0,0,$AG$548)","v":176},null,{"$f":"IF($AG$612=0,0,$AG$612)","v":168},null,{"$f":"IF($AG$676=0,0,$AG$676)","v":176},null,{"$f":"IF($AG$740=0,0,$AG$740)","v":176},null,{"$f":"SUM(G553:AD553)","v":2080}]
[{"$f":"$A$42","v":"Produktive Stunden"},{"$f":"$B$42","v":"06.00 - 20.00 Uhr"},null,null,null,null,{"$f":"IF($AG$32=0,0,$AG$32)","v":0},null,{"$f":"IF($AG$95=0,0,$AG$95)","v":0},null,{"$f":"IF($AG$159=0,0,$AG$159)","v":0},null,{"$f":"IF($AG$223=0,0,$AG$223)","v":0},null,{"$f":"IF($AG$287=0,0,$AG$287)","v":0},null,{"$f":"IF($AG$351=0,0,$AG$351)","v":0},null,{"$f":"IF($AG$415=0,0,$AG$415)","v":0},null,{"$f":"IF($AG$479=0,0,$AG$479)","v":0},null,{"$f":"IF($AG$543=0,0,$AG$543)","v":0},null,{"$f":"IF($AG$607=0,0,$AG$607)","v":0},null,{"$f":"IF($AG$671=0,0,$AG$671)","v":0},null,{"$f":"IF($AG$735=0,0,$AG$735)","v":0},null,{"$f":"SUM(G554:AD554)","v":0}]
[null,{"$f":"$B$43","v":"Nacht-, Sonn-, Feiertagsarbeit"},null,null,null,null,{"$f":"IF($AG$33=0,0,$AG$33)","v":0},null,{"$f":"IF($AG$96=0,0,$AG$96)","v":0},null,{"$f":"IF($AG$160=0,0,$AG$160)","v":0},null,{"$f":"IF($AG$224=0,0,$AG$224)","v":0},null,{"$f":"IF($AG$288=0,0,$AG$288)","v":0},null,{"$f":"IF($AG$352=0,0,$AG$352)","v":0},null,{"$f":"IF($AG$416=0,0,$AG$416)","v":0},null,{"$f":"IF($AG$480=0,0,$AG$480)","v":0},null,{"$f":"IF($AG$544=0,0,$AG$544)","v":0},null,{"$f":"IF($AG$608=0,0,$AG$608)","v":0},null,{"$f":"IF($AG$672=0,0,$AG$672)","v":0},null,{"$f":"IF($AG$736=0,0,$AG$736)","v":0},null,{"$f":"SUM(G555:AD555)","v":0}]
[{"$f":"$A$44","v":"Zeitzuschläge"},{"$f":"$B$44","v":"aus Wochentotal"},null,null,null,null,{"$f":"IF($AG$25=0,0,$AG$25)","v":0},null,{"$f":"IF($AG$88=0,0,$AG$88)","v":0},null,{"$f":"IF($AG$152=0,0,$AG$152)","v":0},null,{"$f":"IF($AG$216=0,0,$AG$216)","v":0},null,{"$f":"IF($AG$280=0,0,$AG$280)","v":0},null,{"$f":"IF($AG$344=0,0,$AG$344)","v":0},null,{"$f":"IF($AG$408=0,0,$AG$408)","v":0},null,{"$f":"IF($AG$472=0,0,$AG$472)","v":0},null,{"$f":"IF($AG$536=0,0,$AG$536)","v":0},null,{"$f":"IF($AG$600=0,0,$AG$600)","v":0},null,{"$f":"IF($AG$664=0,0,$AG$664)","v":0},null,{"$f":"IF($AG$728=0,0,$AG$728)","v":0},null,{"$f":"SUM(G556:AD556)","v":0}]
[null,{"$f":"$B$45","v":"aus Nacht-, Sonn-, Feiertagsarbeiten"},null,null,null,null,{"$f":"IF($AJ$21=0,0,$AJ$21)","v":0},null,{"$f":"IF($AK$21=0,0,$AK$21)","v":0},null,{"$f":"IF($AL$21=0,0,$AL$21)","v":0},null,{"$f":"IF($AM$21=0,0,$AM$21)","v":0},null,{"$f":"IF($AN$21=0,0,$AN$21)","v":0},null,{"$f":"IF($AO$21=0,0,$AO$21)","v":0},null,{"$f":"IF($AP$21=0,0,$AP$21)","v":0},null,{"$f":"IF($AQ$21=0,0,$AQ$21)","v":0},null,{"$f":"IF($AR$21=0,0,$AR$21)","v":0},null,{"$f":"IF($AS$21=0,0,$AS$21)","v":0},null,{"$f":"IF($AT$21=0,0,$AT$21)","v":0},null,{"$f":"IF($AU$21=0,0,$AU$21)","v":0},null,{"$f":"SUM(G557:AD557)","v":0}]
[{"$f":"$A$46","v":"Unproduktive Stunden"}]
[{"$f":"$A$47","v":"   Absenzen, Kurzabsenzen Art. 11 GAV"},null,null,null,null,{"$f":"$F$47","v":"a"},{"$f":"IF($AJ$3=0,0,$AJ$3)","v":0},null,{"$f":"IF($AK$3=0,0,$AK$3)","v":0},null,{"$f":"IF($AL$3=0,0,$AL$3)","v":0},null,{"$f":"IF($AM$3=0,0,$AM$3)","v":0},null,{"$f":"IF($AN$3=0,0,$AN$3)","v":0},null,{"$f":"IF($AO$3=0,0,$AO$3)","v":0},null,{"$f":"IF($AP$3=0,0,$AP$3)","v":0},null,{"$f":"IF($AQ$3=0,0,$AQ$3)","v":0},null,{"$f":"IF($AR$3=0,0,$AR$3)","v":0},null,{"$f":"IF($AS$3=0,0,$AS$3)","v":0},null,{"$f":"IF(AT$3=0,0,$AT$3)","v":0},null,{"$f":"IF($AU$3=0,0,$AU$3)","v":0},null,{"$f":"IF($AV$3=0,0,$AV$3)","v":0}]
[{"$f":"$A$48","v":"   Ferien Art. 12.1 GAV"},null,null,null,null,{"$f":"$F$48","v":"f"},{"$f":"IF($AJ$4=0,0,$AJ$4)","v":0},null,{"$f":"IF($AK$4=0,0,$AK$4)","v":0},null,{"$f":"IF($AL$4=0,0,$AL$4)","v":0},null,{"$f":"IF($AM$4=0,0,$AM$4)","v":0},null,{"$f":"IF($AN$4=0,0,$AN$4)","v":0},null,{"$f":"IF($AO$4=0,0,$AO$4)","v":0},null,{"$f":"IF($AP$4=0,0,$AP$4)","v":0},null,{"$f":"IF($AQ$4=0,0,$AQ$4)","v":0},null,{"$f":"IF($AR$4=0,0,$AR$4)","v":0},null,{"$f":"IF($AS$4=0,0,$AS$4)","v":0},null,{"$f":"IF($AT$4=0,0,$AT$4)","v":0},null,{"$f":"IF($AU$4=0,0,$AU$4)","v":0},null,{"$f":"IF($AV$4=0,0,$AV$4)","v":0}]
[{"$f":"Labels!$B$181","v":"   Ferien unbezahlt"},null,null,null,null,{"$f":"Labels!$B$182","v":"fu"},{"$f":"IF($AJ$13=0,0,$AJ$13)","v":0},null,{"$f":"IF($AK$13=0,0,$AK$13)","v":0},null,{"$f":"IF($AL$13=0,0,$AL$13)","v":0},null,{"$f":"IF($AM$13=0,0,$AM$13)","v":0},null,{"$f":"IF($AN$13=0,0,$AN$13)","v":0},null,{"$f":"IF($AO$13=0,0,$AO$13)","v":0},null,{"$f":"IF($AP$13=0,0,$AP$13)","v":0},null,{"$f":"IF($AQ$13=0,0,$AQ$13)","v":0},null,{"$f":"IF($AR$13=0,0,$AR$13)","v":0},null,{"$f":"IF($AS$13=0,0,$AS$13)","v":0},null,{"$f":"IF($AT$13=0,0,$AT$13)","v":0},null,{"$f":"IF($AU$13=0,0,$AU$13)","v":0},null,{"$f":"IF($AV$13=0,0,$AV$13)","v":0}]
[{"$f":"$A$50","v":"   Feiertage Art. 12.2 GAV"},null,{"$f":"IF($AJ$18=\"\",\"\",$AJ$18)","v":""},null,null,{"$f":"$F$50","v":"ft"},{"$f":"IF($AJ$16=0,0,$AJ$16)","v":0},null,{"$f":"IF($AK$16=0,0,$AK$16)","v":0},null,{"$f":"IF($AL$16=0,0,$AL$16)","v":0},null,{"$f":"IF($AM$16=0,0,$AM$16)","v":0},null,{"$f":"IF($AN$16=0,0,$AN$16)","v":0},null,{"$f":"IF($AO$16=0,0,$AO$16)","v":0},null,{"$f":"IF($AP$16=0,0,$AP$16)","v":0},null,{"$f":"IF($AQ$16=0,0,$AQ$16)","v":0},null,{"$f":"IF($AR$16=0,0,$AR$16)","v":0},null,{"$f":"IF($AS$16=0,0,$AS$16)","v":0},null,{"$f":"IF($AT$16=0,0,$AT$16)","v":0},null,{"$f":"IF($AU$16=0,0,$AU$16)","v":0},null,{"$f":"IF($AV$16=0,0,$AV$16)","v":0}]
[{"$f":"$A$51","v":"   Krankheit Art. 13 GAV"},null,null,null,null,{"$f":"$F$51","v":"k"},{"$f":"IF($AJ$5=0,0,$AJ$5)","v":0},null,{"$f":"IF($AK$5=0,0,$AK$5)","v":0},null,{"$f":"IF($AL$5=0,0,$AL$5)","v":0},null,{"$f":"IF($AM$5=0,0,$AM$5)","v":0},null,{"$f":"IF($AN$5=0,0,$AN$5)","v":0},null,{"$f":"IF($AO$5=0,0,$AO$5)","v":0},null,{"$f":"IF($AP$5=0,0,$AP$5)","v":0},null,{"$f":"IF($AQ$5=0,0,$AQ$5)","v":0},null,{"$f":"IF($AR$5=0,0,$AR$5)","v":0},null,{"$f":"IF($AS$5=0,0,$AS$5)","v":0},null,{"$f":"IF($AT$5=0,0,$AT$5)","v":0},null,{"$f":"IF($AU$5=0,0,$AU$5)","v":0},null,{"$f":"IF($AV$5=0,0,$AV$5)","v":0}]
[{"$f":"$A$52","v":"   Unfall Art. 14 GAV"},null,null,null,null,{"$f":"$F$52","v":"u"},{"$f":"IF($AJ$6=0,0,$AJ$6)","v":0},null,{"$f":"IF($AK$6=0,0,$AK$6)","v":0},null,{"$f":"IF($AL$6=0,0,$AL$6)","v":0},null,{"$f":"IF($AM$6=0,0,$AM$6)","v":0},null,{"$f":"IF($AN$6=0,0,$AN$6)","v":0},null,{"$f":"IF($AO$6=0,0,$AO$6)","v":0},null,{"$f":"IF($AP$6=0,0,$AP$6)","v":0},null,{"$f":"IF($AQ$6=0,0,$AQ$6)","v":0},null,{"$f":"IF($AR$6=0,0,$AR$6)","v":0},null,{"$f":"IF($AS$6=0,0,$AS$6)","v":0},null,{"$f":"IF($AT$6=0,0,$AT$6)","v":0},null,{"$f":"IF($AU$6=0,0,$AU$6)","v":0},null,{"$f":"IF($AV$6=0,0,$AV$6)","v":0}]
[{"$f":"$A$53","v":"   Schwangerschaft/Mutterschaft Art. 15 GAV"},null,null,null,null,{"$f":"$F$53","v":"s"},{"$f":"IF($AJ$7=0,0,$AJ$7)","v":0},null,{"$f":"IF($AK$7=0,0,$AK$7)","v":0},null,{"$f":"IF($AL$7=0,0,$AL$7)","v":0},null,{"$f":"IF($AM$7=0,0,$AM$7)","v":0},null,{"$f":"IF($AN$7=0,0,$AN$7)","v":0},null,{"$f":"IF($AO$7=0,0,$AO$7)","v":0},null,{"$f":"IF($AP$7=0,0,$AP$7)","v":0},null,{"$f":"IF($AQ$7=0,0,$AQ$7)","v":0},null,{"$f":"IF($AR$7=0,0,$AR$7)","v":0},null,{"$f":"IF($AS$7=0,0,$AS$7)","v":0},null,{"$f":"IF($AT$7=0,0,$AT$7)","v":0},null,{"$f":"IF($AU$7=0,0,$AU$7)","v":0},null,{"$f":"IF($AV$7=0,0,$AV$7)","v":0}]
[{"$f":"$A$54","v":"   Militär/Beförderung/Zivilschutz Art. 16 GAV"},null,null,null,null,{"$f":"$F$54","v":"m"},{"$f":"IF($AJ$8=0,0,$AJ$8)","v":0},null,{"$f":"IF($AK$8=0,0,$AK$8)","v":0},null,{"$f":"IF($AL$8=0,0,$AL$8)","v":0},null,{"$f":"IF($AM$8=0,0,$AM$8)","v":0},null,{"$f":"IF($AN$8=0,0,$AN$8)","v":0},null,{"$f":"IF($AO$8=0,0,$AO$8)","v":0},null,{"$f":"IF($AP$8=0,0,$AP$8)","v":0},null,{"$f":"IF($AQ$8=0,0,$AQ$8)","v":0},null,{"$f":"IF($AR$8=0,0,$AR$8)","v":0},null,{"$f":"IF($AS$8=0,0,$AS$8)","v":0},null,{"$f":"IF($AT$8=0,0,$AT$8)","v":0},null,{"$f":"IF($AU$8=0,0,$AU$8)","v":0},null,{"$f":"IF($AV$8=0,0,$AV$8)","v":0}]
[{"$f":"$A$55","v":"   Kurzarbeit und Schlechtwetterausfälle"},null,null,null,null,{"$f":"$F$55","v":"ka"},{"$f":"IF($AJ$11=0,0,$AJ$11)","v":0},null,{"$f":"IF($AK$11=0,0,$AK$11)","v":0},null,{"$f":"IF($AL$11=0,0,$AL$11)","v":0},null,{"$f":"IF($AM$11=0,0,$AM$11)","v":0},null,{"$f":"IF($AN$11=0,0,$AN$11)","v":0},null,{"$f":"IF($AO$11=0,0,$AO$11)","v":0},null,{"$f":"IF($AP$11=0,0,$AP$11)","v":0},null,{"$f":"IF($AQ$11=0,0,$AQ$11)","v":0},null,{"$f":"IF($AR$11=0,0,$AR$11)","v":0},null,{"$f":"IF($AS$11=0,0,$AS$11)","v":0},null,{"$f":"IF($AT$11=0,0,$AT$11)","v":0},null,{"$f":"IF($AU$11=0,0,$AU$11)","v":0},null,{"$f":"IF($AV$11=0,0,$AV$11)","v":0}]
[{"$f":"$A$56","v":"   Berufsschule"},null,null,null,null,{"$f":"$F$56","v":"bs"},{"$f":"IF($AJ$9=0,0,$AJ$9)","v":0},null,{"$f":"IF($AK$9=0,0,$AK$9)","v":0},null,{"$f":"IF($AL$9=0,0,$AL$9)","v":0},null,{"$f":"IF($AM$9=0,0,$AM$9)","v":0},null,{"$f":"IF($AN$9=0,0,$AN$9)","v":0},null,{"$f":"IF($AO$9=0,0,$AO$9)","v":0},null,{"$f":"IF($AP$9=0,0,$AP$9)","v":0},null,{"$f":"IF($AQ$9=0,0,$AQ$9)","v":0},null,{"$f":"IF($AR$9=0,0,$AR$9)","v":0},null,{"$f":"IF($AS$9=0,0,$AS$9)","v":0},null,{"$f":"IF($AT$9=0,0,$AT$9)","v":0},null,{"$f":"IF($AU$9=0,0,$AU$9)","v":0},null,{"$f":"IF($AV$9=0,0,$AV$9)","v":0}]
[{"$f":"$A$57","v":"   Kurse"},null,null,null,null,{"$f":"$F$57","v":"ku"},{"$f":"IF($AJ$10=0,0,$AJ$10)","v":0},null,{"$f":"IF($AK$10=0,0,$AK$10)","v":0},null,{"$f":"IF($AL$10=0,0,$AL$10)","v":0},null,{"$f":"IF($AM$10=0,0,$AM$10)","v":0},null,{"$f":"IF($AN$10=0,0,$AN$10)","v":0},null,{"$f":"IF($AO$10=0,0,$AO$10)","v":0},null,{"$f":"IF($AP$10=0,0,$AP$10)","v":0},null,{"$f":"IF($AQ$10=0,0,$AQ$10)","v":0},null,{"$f":"IF($AR$10=0,0,$AR$10)","v":0},null,{"$f":"IF($AS$10=0,0,$AS$10)","v":0},null,{"$f":"IF($AT$10=0,0,$AT$10)","v":0},null,{"$f":"IF($AU$10=0,0,$AU$10)","v":0},null,{"$f":"IF($AV$10=0,0,$AV$10)","v":0}]
[{"$f":"$A$58","v":"Kompensations-Std"},{"$f":"$B$58","v":"aus Vorjahr"},null,null,null,{"$f":"$F$58","v":"kv"},{"$f":"IF($AJ$12=0,0,$AJ$12)","v":0},null,{"$f":"IF($AK$12=0,0,$AK$12)","v":0},null,{"$f":"IF($AL$12=0,0,$AL$12)","v":0},null,{"$f":"IF($AM$12=0,0,$AM$12)","v":0},null,{"$f":"IF($AN$12=0,0,$AN$12)","v":0},null,{"$f":"IF($AO$12=0,0,$AO$12)","v":0},null,{"$f":"IF($AP$12=0,0,$AP$12)","v":0},null,{"$f":"IF($AQ$12=0,0,$AQ$12)","v":0},null,{"$f":"IF($AR$12=0,0,$AR$12)","v":0},null,null,null,null,null,null,null,{"$f":"IF($AV$12=0,0,$AV$12)","v":0}]
[null,{"$f":"$B$59","v":"aus laufendem Jahr (Kontrolle)"},null,null,null,{"$f":"$F$59","v":"kj"},{"$f":"IF($AJ$15=0,0,$AJ$15)","v":0},null,{"$f":"IF($AK$15=0,0,$AK$15)","v":0},null,{"$f":"IF($AL$15=0,0,$AL$15)","v":0},null,{"$f":"IF($AM$15=0,0,$AM$15)","v":0},null,{"$f":"IF($AN$15=0,0,$AN$15)","v":0},null,{"$f":"IF($AO$15=0,0,$AO$15)","v":0},null,{"$f":"IF($AP$15=0,0,$AP$15)","v":0},null,{"$f":"IF($AQ$15=0,0,$AQ$15)","v":0},null,{"$f":"IF($AR$15=0,0,$AR$15)","v":0},null,{"$f":"IF($AS$15=0,0,$AS$15)","v":0},null,{"$f":"IF($AT$15=0,0,$AT$15)","v":0},null,{"$f":"IF($AU$15=0,0,$AU$15)","v":0},null,{"$f":"IF($AV$15=0,0,$AV$15)","v":0}]
[{"$f":"$A$60","v":"Auszahlung"},{"$f":"$B$60","v":"Stunden Vorjahressaldo"},null,null,null,null,{"$f":"IF($AJ$19=0,0,$AJ$19)","v":0},null,{"$f":"IF($AK$19=0,0,$AK$19)","v":0},null,{"$f":"IF($AL$19=0,0,$AL$19)","v":0},null,{"$f":"IF($AM$19=0,0,$AM$19)","v":0},null,{"$f":"IF($AN$19=0,0,$AN$19)","v":0},null,{"$f":"IF($AO$19=0,0,$AO$19)","v":0},null,{"$f":"IF($AP$19=0,0,$AP$19)","v":0},null,{"$f":"IF($AQ$19=0,0,$AQ$19)","v":0},null,{"$f":"IF($AR$19=0,0,$AR$19)","v":0},null,null,null,null,null,null,null,{"$f":"IF($AV$19=0,0,$AV$19)","v":0}]
[{"$f":"$A$61","v":"Differenz"},{"$f":"$B$61","v":"nach Kompensation und Auszahlung"},null,null,null,null,{"$f":"IF(ROUND($P$4,3)=0,0,$P$4-SUM(G570+G572))","v":0},null,{"$f":"IF(ROUND(G573,3)=0,0,G573-(SUM(I572+I570)))","v":0},null,{"$f":"IF(ROUND(I573,3)=0,0,I573-(SUM(K572+K570)))","v":0},null,{"$f":"IF(ROUND(K573,3)=0,0,K573-(SUM(M572+M570)))","v":0},null,{"$f":"IF(ROUND(M573,3)=0,0,M573-(SUM(O572+O570)))","v":0},null,{"$f":"IF(ROUND(O573,3)=0,0,O573-(SUM(Q572+Q570)))","v":0},null,{"$f":"IF(ROUND(Q573,3)=0,0,Q573-(SUM(S572+S570)))","v":0},null,{"$f":"IF(ROUND(S573,3)=0,0,S573-(SUM(U572+U570)))","v":0},null,{"$f":"IF(U573=0,0,U573-(SUM(W572+W570)))","v":0},null,{"$f":"$Y$61","v":""}]
[{"$f":"$A$62","v":"Auszahlung"},{"$f":"$B$62","v":"Stunden laufendes Jahr"},null,null,null,null,{"$f":"IF($AJ$20=0,0,$AJ$20)","v":0},null,{"$f":"IF($AK$20=0,0,$AK$20)","v":0},null,{"$f":"IF($AL$20=0,0,$AL$20)","v":0},null,{"$f":"IF($AM$20=0,0,$AM$20)","v":0},null,{"$f":"IF($AN$20=0,0,$AN$20)","v":0},null,{"$f":"IF($AO$20=0,0,$AO$20)","v":0},null,{"$f":"IF($AP$20=0,0,$AP$20)","v":0},null,{"$f":"IF($AQ$20=0,0,$AQ$20)","v":0},null,{"$f":"IF($AR$20=0,0,$AR$20)","v":0},null,{"$f":"IF($AS$20=0,0,$AS$20)","v":0},null,{"$f":"IF($AT$20=0,0,$AT$20)","v":0},null,{"$f":"IF($AU$20=0,0,$AU$20)","v":0},null,{"$f":"IF($AV$20=0,0,$AV$20)","v":0}]
[{"$f":"$A$63","v":"Fehlstunden"},{"$f":"$B$63","v":"laufendes Jahr (Kontrolle)"},null,null,null,{"$f":"$F$63","v":"fe"},{"$f":"IF($AJ$14=0,0,$AJ$14)","v":0},null,{"$f":"IF($AK$14=0,0,$AK$14)","v":0},null,{"$f":"IF($AL$14=0,0,$AL$14)","v":0},null,{"$f":"IF($AM$14=0,0,$AM$14)","v":0},null,{"$f":"IF($AN$14=0,0,$AN$14)","v":0},null,{"$f":"IF($AO$14=0,0,$AO$14)","v":0},null,{"$f":"IF($AP$14=0,0,$AP$14)","v":0},null,{"$f":"IF($AQ$14=0,0,$AQ$14)","v":0},null,{"$f":"IF($AR$14=0,0,$AR$14)","v":0},null,{"$f":"IF($AS$14=0,0,$AS$14)","v":0},null,{"$f":"IF($AT$14=0,0,$AT$14)","v":0},null,{"$f":"IF($AU$14=0,0,$AU$14)","v":0},null,{"$f":"IF($AV$14=0,0,$AV$14)","v":0}]
[{"$f":"$A$64","v":"Total inkl. Zeitzuschläge"},{"$f":"$B$64","v":"Stunden produktiv und unproduktiv"},null,null,null,null,{"$f":"IF($AG$36=0,0,$AG$36)","v":0},null,{"$f":"IF($AG$99=0,0,$AG$99)","v":0},null,{"$f":"IF($AG$163=0,0,$AG$163)","v":0},null,{"$f":"IF($AG$227=0,0,$AG$227)","v":0},null,{"$f":"IF($AG$291=0,0,$AG$291)","v":0},null,{"$f":"IF($AG$355=0,0,$AG$355)","v":0},null,{"$f":"IF($AG$419=0,0,$AG$419)","v":0},null,{"$f":"IF($AG$483=0,0,$AG$483)","v":0},null,{"$f":"IF($AG$547=0,0,$AG$547)","v":0},null,{"$f":"IF($AG$611=0,0,$AG$611)","v":0},null,{"$f":"IF($AG$675=0,0,$AG$675)","v":0},null,{"$f":"IF($AG$739=0,0,$AG$739)","v":0},null,{"$f":"SUM($G$64:$AD$64)","v":0}]
[{"$f":"$A$65","v":"Vergleich"},{"$f":"$B$65","v":"Stunden zu Soll-Stunden (inkl. allfälli-\nge Minusstunden Vorjahr)"},null,null,null,null,{"$f":"$G$65","v":-168},null,{"$f":"$I$65","v":-160},null,{"$f":"$K$65","v":-184},null,{"$f":"$M$65","v":-168},null,{"$f":"$O$65","v":-176},null,{"$f":"$Q$65","v":-176},null,{"$f":"$S$65","v":-168},null,{"$f":"$U$65","v":-184},null,{"$f":"$W$65","v":-176},null,{"$f":"$Y$65","v":-168},null,{"$f":"$AA$65","v":-176},null,{"$f":"$AC$65","v":-176},null,{"$f":"$AE$65","v":-2080}]
[null,{"$f":"$B$66","v":"Stunden zu Soll-Stunden (kumuliert)"},null,null,null,null,{"$f":"$G$66","v":-168},null,{"$f":"$I$66","v":-328},null,{"$f":"$K$66","v":-512},null,{"$f":"$M$66","v":-680},null,{"$f":"$O$66","v":-856},null,{"$f":"$Q$66","v":-1032},null,{"$f":"$S$66","v":-1200},null,{"$f":"$U$66","v":-1384},null,{"$f":"$W$66","v":-1560},null,{"$f":"$Y$66","v":-1728},null,{"$f":"$AA$66","v":-1904},null,{"$f":"$AC$66","v":-2080},null,{"$f":"$AE$66","v":0}]
[{"$f":"$A$67","v":"Ferienkontrolle"},{"$f":"$B$67","v":"Ferienguthaben Vorjahr"},null,null,null,null,{"$f":"IF($AA$4=0,0,$AA$4)","v":0},null,{"$f":"$I$67","v":"Ferienguthaben nach \nArt. 12.1 GAV"},null,null,null,{"$f":"IF($AA$5=0,0,$AA$5)","v":0},null,{"$f":"$O$67","v":"Ferienguthaben total"},null,null,null,{"$f":"SUM(G579+M579)","v":0},null,{"$f":"$U$67","v":"Ferien bezogen"},null,null,null,{"$f":"IF($AV$4=0,0,$AV$4)","v":0},null,{"$f":"$AA$67","v":"Aktuelles Ferienguthaben"},null,null,null,{"$f":"IF(S579=0,0,S579-Y579)","v":0}]
[]
[]
[{"$f":"$A$3","v":"Mitarbeiter/In"},{"$f":"IF($B$3=\"\",\"\",$B$3)","v":"Muster Peter"},null,null,null,null,null,null,null,null,null,null,null,null,null,null,null,null,null,null,null,null,null,null,null,null,null,null,null,null,null,{"$f":"AF3","v":0}]
[{"$f":"$A$4","v":"Anstellung %"},{"$f":"$AL$53","v":100},null,{"$f":"Labels!B98","v":"im Oktober"}]
[{"$f":"$A$5","v":"Saldo für das Jahr"},null,null,{"$f":"IF($AE$65=0,0,$AE$65)","v":-2080}]
[{"$f":"TEXT(DATE(YEAR(AP29),MONTH(AP29)+9,1),\"MMMM\"&Labels!B13)","v":"Oktober"},{"$f":"$B$9","v":"Saldo Monat + / -"},null,null,null,{"$f":"(AG587-(SUM(AG588:AG602)-AE610))*-1","v":-168},null,null,null,null,{"$f":"$K$9","v":" = "},{"$f":"$L$9","v":"Gelbe Felder müssen ausgefüllt werden (die übrigen werden automatisch berechnet)"},null,null,null,null,null,null,null,null,null,null,null,null,null,null,null,null,null,null,null,null,{"$f":"COUNT(B588:AF588)&\" \"&Labels!$B$63","v":"21 Tage"}]
[{"$f":"$A$10","v":"Tag"},{"$f":"AE522+1","v":"2022-10-01"},{"$f":"B586+1","v":"2022-10-02"},{"$f":"C586+1","v":"2022-10-03"},"2022-10-04","2022-10-05","2022-10-06","2022-10-07","2022-10-08","2022-10-09","2022-10-10","2022-10-11","2022-10-12","2022-10-13","2022-10-14","2022-10-15","2022-10-16","2022-10-17","2022-10-18","2022-10-19","2022-10-20","2022-10-21","2022-10-22","2022-10-23","2022-10-24","2022-10-25","2022-10-26","2022-10-27","2022-10-28","2022-10-29","2022-10-30","2022-10-31"]
[{"$f":"$A$11","v":"Kalenderwoche"},{"$f":"IF(B586=\"\",\"\",TRUNC((B586-DATE(YEAR(B586+3-MOD(B586-2,7)),1,MOD(B586-2,7)-9))/7))","v":39},39,40,40,40,40,40,40,40,41,41,41,41,41,41,41,42,42,42,42,42,42,42,43,43,43,43,43,43,43,44,{"$f":"SUM(B588:AF588)","v":168}]
[{"$f":"$A$12","v":"Sollstunden"},{"$f":"IF(AND(MOD(B586,7)>=2,SUMPRODUCT(($AM$56:$AQ$56=MOD(B586,7))*$AM$53:$AQ$53)),($J$7*5/$AR$53)*$B$583%,\"\")","v":""},{"$f":"IF(AND(MOD(C586,7)>=2,SUMPRODUCT(($AM$56:$AQ$56=MOD(C586,7))*$AM$53:$AQ$53)),($J$7*5/$AR$53)*$B$583%,\"\")","v":""},{"$f":"IF(AND(MOD(D586,7)>=2,SUMPRODUCT(($AM$56:$AQ$56=MOD(D586,7))*$AM$53:$AQ$53)),($J$7*5/$AR$53)*$B$583%,\"\")","v":8},{"$f":"IF(AND(MOD(E586,7)>=2,SUMPRODUCT(($AM$56:$AQ$56=MOD(E586,7))*$AM$53:$AQ$53)),($J$7*5/$AR$53)*$B$583%,\"\")","v":8},{"$f":"IF(AND(MOD(F586,7)>=2,SUMPRODUCT(($AM$56:$AQ$56=MOD(F586,7))*$AM$53:$AQ$53)),($J$7*5/$AR$53)*$B$583%,\"\")","v":8},{"$f":"IF(AND(MOD(G586,7)>=2,SUMPRODUCT(($AM$56:$AQ$56=MOD(G586,7))*$AM$53:$AQ$53)),($J$7*5/$AR$53)*$B$583%,\"\")","v":8},{"$f":"IF(AND(MOD(H586,7)>=2,SUMPRODUCT(($AM$56:$AQ$56=MOD(H586,7))*$AM$53:$AQ$53)),($J$7*5/$AR$53)*$B$583%,\"\")","v":8},{"$f":"IF(AND(MOD(I586,7)>=2,SUMPRODUCT(($AM$56:$AQ$56=MOD(I586,7))*$AM$53:$AQ$53)),($J$7*5/$AR$53)*$B$583%,\"\")","v":""},{"$f":"IF(AND(MOD(J586,7)>=2,SUMPRODUCT(($AM$56:$AQ$56=MOD(J586,7))*$AM$53:$AQ$53)),($J$7*5/$AR$53)*$B$583%,\"\")","v":""},{"$f":"IF(AND(MOD(K586,7)>=2,SUMPRODUCT(($AM$56:$AQ$56=MOD(K586,7))*$AM$53:$AQ$53)),($J$7*5/$AR$53)*$B$583%,\"\")","v":8},{"$f":"IF(AND(MOD(L586,7)>=2,SUMPRODUCT(($AM$56:$AQ$56=MOD(L586,7))*$AM$53:$AQ$53)),($J$7*5/$AR$53)*$B$583%,\"\")","v":8},{"$f":"IF(AND(MOD(M586,7)>=2,SUMPRODUCT(($AM$56:$AQ$56=MOD(M586,7))*$AM$53:$AQ$53)),($J$7*5/$AR$53)*$B$583%,\"\")","v":8},{"$f":"IF(AND(MOD(N586,7)>=2,SUMPRODUCT(($AM$56:$AQ$56=MOD(N586,7))*$AM$53:$AQ$53)),($J$7*5/$AR$53)*$B$583%,\"\")","v":8},{"$f":"IF(AND(MOD(O586,7)>=2,SUMPRODUCT(($AM$56:$AQ$56=MOD(O586,7))*$AM$53:$AQ$53)),($J$7*5/$AR$53)*$B$583%,\"\")","v":8},{"$f":"IF(AND(MOD(P586,7)>=2,SUMPRODUCT(($AM$56:$AQ$56=MOD(P586,7))*$AM$53:$AQ$53)),($J$7*5/$AR$53)*$B$583%,\"\")","v":""},{"$f":"IF(AND(MOD(Q586,7)>=2,SUMPRODUCT(($AM$56:$AQ$56=MOD(Q586,7))*$AM$53:$AQ$53)),($J$7*5/$AR$53)*$B$583%,\"\")","v":""},{"$f":"IF(AND(MOD(R586,7)>=2,SUMPRODUCT(($AM$56:$AQ$56=MOD(R586,7))*$AM$53:$AQ$53)),($J$7*5/$AR$53)*$B$583%,\"\")","v":8},{"$f":"IF(AND(MOD(S586,7)>=2,SUMPRODUCT(($AM$56:$AQ$56=MOD(S586,7))*$AM$53:$AQ$53)),($J$7*5/$AR$53)*$B$583%,\"\")","v":8},{"$f":"IF(AND(MOD(T586,7)>=2,SUMPRODUCT(($AM$56:$AQ$56=MOD(T586,7))*$AM$53:$AQ$53)),($J$7*5/$AR$53)*$B$583%,\"\")","v":8},{"$f":"IF(AND(MOD(U586,7)>=2,SUMPRODUCT(($AM$56:$AQ$56=MOD(U586,7))*$AM$53:$AQ$53)),($J$7*5/$AR$53)*$B$583%,\"\")","v":8},{"$f":"IF(AND(MOD(V586,7)>=2,SUMPRODUCT(($AM$56:$AQ$56=MOD(V586,7))*$AM$53:$AQ$53)),($J$7*5/$AR$53)*$B$583%,\"\")","v":8},{"$f":"IF(AND(MOD(W586,7)>=2,SUMPRODUCT(($AM$56:$AQ$56=MOD(W586,7))*$AM$53:$AQ$53)),($J$7*5/$AR$53)*$B$583%,\"\")","v":""},{"$f":"IF(AND(MOD(X586,7)>=2,SUMPRODUCT(($AM$56:$AQ$56=MOD(X586,7))*$AM$53:$AQ$53)),($J$7*5/$AR$53)*$B$583%,\"\")","v":""},{"$f":"IF(AND(MOD(Y586,7)>=2,SUMPRODUCT(($AM$56:$AQ$56=MOD(Y586,7))*$AM$53:$AQ$53)),($J$7*5/$AR$53)*$B$583%,\"\")","v":8},{"$f":"IF(AND(MOD(Z586,7)>=2,SUMPRODUCT(($AM$56:$AQ$56=MOD(Z586,7))*$AM$53:$AQ$53)),($J$7*5/$AR$53)*$B$583%,\"\")","v":8},{"$f":"IF(AND(MOD(AA586,7)>=2,SUMPRODUCT(($AM$56:$AQ$56=MOD(AA586,7))*$AM$53:$AQ$53)),($J$7*5/$AR$53)*$B$583%,\"\")","v":8},{"$f":"IF(AND(MOD(AB586,7)>=2,SUMPRODUCT(($AM$56:$AQ$56=MOD(AB586,7))*$AM$53:$AQ$53)),($J$7*5/$AR$53)*$B$583%,\"\")","v":8},{"$f":"IF(AND(MOD(AC586,7)>=2,SUMPRODUCT(($AM$56:$AQ$56=MOD(AC586,7))*$AM$53:$AQ$53)),($J$7*5/$AR$53)*$B$583%,\"\")","v":8},{"$f":"IF(AND(MOD(AD586,7)>=2,SUMPRODUCT(($AM$56:$AQ$56=MOD(AD586,7))*$AM$53:$AQ$53)),($J$7*5/$AR$53)*$B$583%,\"\")","v":""},{"$f":"IF(AND(MOD(AE586,7)>=2,SUMPRODUCT(($AM$56:$AQ$56=MOD(AE586,7))*$AM$53:$AQ$53)),($J$7*5/$AR$53)*$B$583%,\"\")","v":""},{"$f":"IF(AND(MOD(AF586,7)>=2,SUMPRODUCT(($AM$56:$AQ$56=MOD(AF586,7))*$AM$53:$AQ$53)),($J$7*5/$AR$53)*$B$583%,\"\")","v":8},{"$f":"SUM(AS3:AS13)","v":0}]
[{"$f":"$A$13","v":"Absenz in Std"},{"$f":"B1038","v":0},{"$f":"C1038","v":0},0,0,0,0,0,0,0,0,0,0,0,0,0,0,0,0,0,0,0,0,0,0,0,0,0,0,0,0,0]
[{"$f":"$A$14","v":"Code"},{"$f":"IF(B1038<>0,IF(MAX(B1025:B1037)<B1038,Labels!$B$163,INDEX($AH$1024:$AH$1036,MATCH(MAX(B1025:B1037),B1025:B1037,0))),\"\")","v":""},{"$f":"IF(C1038<>0,IF(MAX(C1025:C1037)<C1038,Labels!$B$163,INDEX($AH$1024:$AH$1036,MATCH(MAX(C1025:C1037),C1025:C1037,0))),\"\")","v":""},{"$f":"IF(D1038<>0,IF(MAX(D1025:D1037)<D1038,Labels!$B$163,INDEX($AH$1024:$AH$1036,MATCH(MAX(D1025:D1037),D1025:D1037,0))),\"\")","v":""},{"$f":"IF(E1038<>0,IF(MAX(E1025:E1037)<E1038,Labels!$B$163,INDEX($AH$1024:$AH$1036,MATCH(MAX(E1025:E1037),E1025:E1037,0))),\"\")","v":""},{"$f":"IF(F1038<>0,IF(MAX(F1025:F1037)<F1038,Labels!$B$163,INDEX($AH$1024:$AH$1036,MATCH(MAX(F1025:F1037),F1025:F1037,0))),\"\")","v":""},{"$f":"IF(G1038<>0,IF(MAX(G1025:G1037)<G1038,Labels!$B$163,INDEX($AH$1024:$AH$1036,MATCH(MAX(G1025:G1037),G1025:G1037,0))),\"\")","v":""},{"$f":"IF(H1038<>0,IF(MAX(H1025:H1037)<H1038,Labels!$B$163,INDEX($AH$1024:$AH$1036,MATCH(MAX(H1025:H1037),H1025:H1037,0))),\"\")","v":""},{"$f":"IF(I1038<>0,IF(MAX(I1025:I1037)<I1038,Labels!$B$163,INDEX($AH$1024:$AH$1036,MATCH(MAX(I1025:I1037),I1025:I1037,0))),\"\")","v":""},{"$f":"IF(J1038<>0,IF(MAX(J1025:J1037)<J1038,Labels!$B$163,INDEX($AH$1024:$AH$1036,MATCH(MAX(J1025:J1037),J1025:J1037,0))),\"\")","v":""},{"$f":"IF(K1038<>0,IF(MAX(K1025:K1037)<K1038,Labels!$B$163,INDEX($AH$1024:$AH$1036,MATCH(MAX(K1025:K1037),K1025:K1037,0))),\"\")","v":""},{"$f":"IF(L1038<>0,IF(MAX(L1025:L1037)<L1038,Labels!$B$163,INDEX($AH$1024:$AH$1036,MATCH(MAX(L1025:L1037),L1025:L1037,0))),\"\")","v":""},{"$f":"IF(M1038<>0,IF(MAX(M1025:M1037)<M1038,Labels!$B$163,INDEX($AH$1024:$AH$1036,MATCH(MAX(M1025:M1037),M1025:M1037,0))),\"\")","v":""},{"$f":"IF(N1038<>0,IF(MAX(N1025:N1037)<N1038,Labels!$B$163,INDEX($AH$1024:$AH$1036,MATCH(MAX(N1025:N1037),N1025:N1037,0))),\"\")","v":""},{"$f":"IF(O1038<>0,IF(MAX(O1025:O1037)<O1038,Labels!$B$163,INDEX($AH$1024:$AH$1036,MATCH(MAX(O1025:O1037),O1025:O1037,0))),\"\")","v":""},{"$f":"IF(P1038<>0,IF(MAX(P1025:P1037)<P1038,Labels!$B$163,INDEX($AH$1024:$AH$1036,MATCH(MAX(P1025:P1037),P1025:P1037,0))),\"\")","v":""},{"$f":"IF(Q1038<>0,IF(MAX(Q1025:Q1037)<Q1038,Labels!$B$163,INDEX($AH$1024:$AH$1036,MATCH(MAX(Q1025:Q1037),Q1025:Q1037,0))),\"\")","v":""},{"$f":"IF(R1038<>0,IF(MAX(R1025:R1037)<R1038,Labels!$B$163,INDEX($AH$1024:$AH$1036,MATCH(MAX(R1025:R1037),R1025:R1037,0))),\"\")","v":""},{"$f":"IF(S1038<>0,IF(MAX(S1025:S1037)<S1038,Labels!$B$163,INDEX($AH$1024:$AH$1036,MATCH(MAX(S1025:S1037),S1025:S1037,0))),\"\")","v":""},{"$f":"IF(T1038<>0,IF(MAX(T1025:T1037)<T1038,Labels!$B$163,INDEX($AH$1024:$AH$1036,MATCH(MAX(T1025:T1037),T1025:T1037,0))),\"\")","v":""},{"$f":"IF(U1038<>0,IF(MAX(U1025:U1037)<U1038,Labels!$B$163,INDEX($AH$1024:$AH$1036,MATCH(MAX(U1025:U1037),U1025:U1037,0))),\"\")","v":""},{"$f":"IF(V1038<>0,IF(MAX(V1025:V1037)<V1038,Labels!$B$163,INDEX($AH$1024:$AH$1036,MATCH(MAX(V1025:V1037),V1025:V1037,0))),\"\")","v":""},{"$f":"IF(W1038<>0,IF(MAX(W1025:W1037)<W1038,Labels!$B$163,INDEX($AH$1024:$AH$1036,MATCH(MAX(W1025:W1037),W1025:W1037,0))),\"\")","v":""},{"$f":"IF(X1038<>0,IF(MAX(X1025:X1037)<X1038,Labels!$B$163,INDEX($AH$1024:$AH$1036,MATCH(MAX(X1025:X1037),X1025:X1037,0))),\"\")","v":""},{"$f":"IF(Y1038<>0,IF(MAX(Y1025:Y1037)<Y1038,Labels!$B$163,INDEX($AH$1024:$AH$1036,MATCH(MAX(Y1025:Y1037),Y1025:Y1037,0))),\"\")","v":""},{"$f":"IF(Z1038<>0,IF(MAX(Z1025:Z1037)<Z1038,Labels!$B$163,INDEX($AH$1024:$AH$1036,MATCH(MAX(Z1025:Z1037),Z1025:Z1037,0))),\"\")","v":""},{"$f":"IF(AA1038<>0,IF(MAX(AA1025:AA1037)<AA1038,Labels!$B$163,INDEX($AH$1024:$AH$1036,MATCH(MAX(AA1025:AA1037),AA1025:AA1037,0))),\"\")","v":""},{"$f":"IF(AB1038<>0,IF(MAX(AB1025:AB1037)<AB1038,Labels!$B$163,INDEX($AH$1024:$AH$1036,MATCH(MAX(AB1025:AB1037),AB1025:AB1037,0))),\"\")","v":""},{"$f":"IF(AC1038<>0,IF(MAX(AC1025:AC1037)<AC1038,Labels!$B$163,INDEX($AH$1024:$AH$1036,MATCH(MAX(AC1025:AC1037),AC1025:AC1037,0))),\"\")","v":""},{"$f":"IF(AD1038<>0,IF(MAX(AD1025:AD1037)<AD1038,Labels!$B$163,INDEX($AH$1024:$AH$1036,MATCH(MAX(AD1025:AD1037),AD1025:AD1037,0))),\"\")","v":""},{"$f":"IF(AE1038<>0,IF(MAX(AE1025:AE1037)<AE1038,Labels!$B$163,INDEX($AH$1024:$AH$1036,MATCH(MAX(AE1025:AE1037),AE1025:AE1037,0))),\"\")","v":""},{"$f":"IF(AF1038<>0,IF(MAX(AF1025:AF1037)<AF1038,Labels!$B$163,INDEX($AH$1024:$AH$1036,MATCH(MAX(AF1025:AF1037),AF1025:AF1037,0))),\"\")","v":""},{"$f":"SUM(B591:AF591)","v":0}]
[{"$f":"$A$15","v":"00.00-06.00h"},null,null,null,null,null,null,null,null,null,null,null,null,null,null,null,null,null,null,null,null,null,null,null,null,null,null,null,null,null,null,null,{"$f":"SUM(B592:AF592)","v":0}]
[{"$f":"$A$16","v":"06.00-20.00h"},null,null,null,null,null,null,null,null,null,null,null,null,null,null,null,null,null,null,null,null,null,null,null,null,null,null,null,null,null,null,null,{"$f":"SUM(B593:AF593)","v":0},"[0]"]
[{"$f":"$A$17","v":"20.00-24.00h"}]
[{"$f":"$A$18","v":"Feiertag \"ft\""},{"$f":"IF(WEEKDAY(B586,2)<=6,IF(KALENDER!E21=\"x\",Labels!$B$118,\"\"),\"\")","v":""},{"$f":"IF(WEEKDAY(C586,2)<=6,IF(KALENDER!F21=\"x\",Labels!$B$118,\"\"),\"\")","v":""},{"$f":"IF(WEEKDAY(D586,2)<=6,IF(KALENDER!G21=\"x\",Labels!$B$118,\"\"),\"\")","v":""},{"$f":"IF(WEEKDAY(E586,2)<=6,IF(KALENDER!H21=\"x\",Labels!$B$118,\"\"),\"\")","v":""},{"$f":"IF(WEEKDAY(F586,2)<=6,IF(KALENDER!I21=\"x\",Labels!$B$118,\"\"),\"\")","v":""},{"$f":"IF(WEEKDAY(G586,2)<=6,IF(KALENDER!J21=\"x\",Labels!$B$118,\"\"),\"\")","v":""},{"$f":"IF(WEEKDAY(H586,2)<=6,IF(KALENDER!K21=\"x\",Labels!$B$118,\"\"),\"\")","v":""},{"$f":"IF(WEEKDAY(I586,2)<=6,IF(KALENDER!L21=\"x\",Labels!$B$118,\"\"),\"\")","v":""},{"$f":"IF(WEEKDAY(J586,2)<=6,IF(KALENDER!M21=\"x\",Labels!$B$118,\"\"),\"\")","v":""},{"$f":"IF(WEEKDAY(K586,2)<=6,IF(KALENDER!N21=\"x\",Labels!$B$118,\"\"),\"\")","v":""},{"$f":"IF(WEEKDAY(L586,2)<=6,IF(KALENDER!O21=\"x\",Labels!$B$118,\"\"),\"\")","v":""},{"$f":"IF(WEEKDAY(M586,2)<=6,IF(KALENDER!P21=\"x\",Labels!$B$118,\"\"),\"\")","v":""},{"$f":"IF(WEEKDAY(N586,2)<=6,IF(KALENDER!Q21=\"x\",Labels!$B$118,\"\"),\"\")","v":""},{"$f":"IF(WEEKDAY(O586,2)<=6,IF(KALENDER!R21=\"x\",Labels!$B$118,\"\"),\"\")","v":""},{"$f":"IF(WEEKDAY(P586,2)<=6,IF(KALENDER!S21=\"x\",Labels!$B$118,\"\"),\"\")","v":""},{"$f":"IF(WEEKDAY(Q586,2)<=6,IF(KALENDER!T21=\"x\",Labels!$B$118,\"\"),\"\")","v":""},{"$f":"IF(WEEKDAY(R586,2)<=6,IF(KALENDER!U21=\"x\",Labels!$B$118,\"\"),\"\")","v":""},{"$f":"IF(WEEKDAY(S586,2)<=6,IF(KALENDER!V21=\"x\",Labels!$B$118,\"\"),\"\")","v":""},{"$f":"IF(WEEKDAY(T586,2)<=6,IF(KALENDER!W21=\"x\",Labels!$B$118,\"\"),\"\")","v":""},{"$f":"IF(WEEKDAY(U586,2)<=6,IF(KALENDER!X21=\"x\",Labels!$B$118,\"\"),\"\")","v":""},{"$f":"IF(WEEKDAY(V586,2)<=6,IF(KALENDER!Y21=\"x\",Labels!$B$118,\"\"),\"\")","v":""},{"$f":"IF(WEEKDAY(W586,2)<=6,IF(KALENDER!Z21=\"x\",Labels!$B$118,\"\"),\"\")","v":""},{"$f":"IF(WEEKDAY(X586,2)<=6,IF(KALENDER!AA21=\"x\",Labels!$B$118,\"\"),\"\")","v":""},{"$f":"IF(WEEKDAY(Y586,2)<=6,IF(KALENDER!AB21=\"x\",Labels!$B$118,\"\"),\"\")","v":""},{"$f":"IF(WEEKDAY(Z586,2)<=6,IF(KALENDER!AC21=\"x\",Labels!$B$118,\"\"),\"\")","v":""},{"$f":"IF(WEEKDAY(AA586,2)<=6,IF(KALENDER!AD21=\"x\",Labels!$B$118,\"\"),\"\")","v":""},{"$f":"IF(WEEKDAY(AB586,2)<=6,IF(KALENDER!AE21=\"x\",Labels!$B$118,\"\"),\"\")","v":""},{"$f":"IF(WEEKDAY(AC586,2)<=6,IF(KALENDER!AF21=\"x\",Labels!$B$118,\"\"),\"\")","v":""},{"$f":"IF(WEEKDAY(AD586,2)<=6,IF(KALENDER!AG21=\"x\",Labels!$B$118,\"\"),\"\")","v":""},{"$f":"IF(WEEKDAY(AE586,2)<=6,IF(KALENDER!AH21=\"x\",Labels!$B$118,\"\"),\"\")","v":""},{"$f":"IF(WEEKDAY(AF586,2)<=6,IF(KALENDER!AI21=\"x\",Labels!$B$118,\"\"),\"\")","v":""},{"$f":"SUM(B595:AF595)","v":0}]
[{"$f":"$A$19","v":"Gutschrift \"ft\""},{"$f":"IF(AND(B594=Labels!$B$118,WEEKDAY(B586,2)<6,B$588<>\"\"),($J$7*5/$AR$53)*$B$583%,\"\")","v":""},{"$f":"IF(AND(C594=Labels!$B$118,WEEKDAY(C586,2)<6,C$588<>\"\"),($J$7*5/$AR$53)*$B$583%,\"\")","v":""},{"$f":"IF(AND(D594=Labels!$B$118,WEEKDAY(D586,2)<6,D$588<>\"\"),($J$7*5/$AR$53)*$B$583%,\"\")","v":""},{"$f":"IF(AND(E594=Labels!$B$118,WEEKDAY(E586,2)<6,E$588<>\"\"),($J$7*5/$AR$53)*$B$583%,\"\")","v":""},{"$f":"IF(AND(F594=Labels!$B$118,WEEKDAY(F586,2)<6,F$588<>\"\"),($J$7*5/$AR$53)*$B$583%,\"\")","v":""},{"$f":"IF(AND(G594=Labels!$B$118,WEEKDAY(G586,2)<6,G$588<>\"\"),($J$7*5/$AR$53)*$B$583%,\"\")","v":""},{"$f":"IF(AND(H594=Labels!$B$118,WEEKDAY(H586,2)<6,H$588<>\"\"),($J$7*5/$AR$53)*$B$583%,\"\")","v":""},{"$f":"IF(AND(I594=Labels!$B$118,WEEKDAY(I586,2)<6,I$588<>\"\"),($J$7*5/$AR$53)*$B$583%,\"\")","v":""},{"$f":"IF(AND(J594=Labels!$B$118,WEEKDAY(J586,2)<6,J$588<>\"\"),($J$7*5/$AR$53)*$B$583%,\"\")","v":""},{"$f":"IF(AND(K594=Labels!$B$118,WEEKDAY(K586,2)<6,K$588<>\"\"),($J$7*5/$AR$53)*$B$583%,\"\")","v":""},{"$f":"IF(AND(L594=Labels!$B$118,WEEKDAY(L586,2)<6,L$588<>\"\"),($J$7*5/$AR$53)*$B$583%,\"\")","v":""},{"$f":"IF(AND(M594=Labels!$B$118,WEEKDAY(M586,2)<6,M$588<>\"\"),($J$7*5/$AR$53)*$B$583%,\"\")","v":""},{"$f":"IF(AND(N594=Labels!$B$118,WEEKDAY(N586,2)<6,N$588<>\"\"),($J$7*5/$AR$53)*$B$583%,\"\")","v":""},{"$f":"IF(AND(O594=Labels!$B$118,WEEKDAY(O586,2)<6,O$588<>\"\"),($J$7*5/$AR$53)*$B$583%,\"\")","v":""},{"$f":"IF(AND(P594=Labels!$B$118,WEEKDAY(P586,2)<6,P$588<>\"\"),($J$7*5/$AR$53)*$B$583%,\"\")","v":""},{"$f":"IF(AND(Q594=Labels!$B$118,WEEKDAY(Q586,2)<6,Q$588<>\"\"),($J$7*5/$AR$53)*$B$583%,\"\")","v":""},{"$f":"IF(AND(R594=Labels!$B$118,WEEKDAY(R586,2)<6,R$588<>\"\"),($J$7*5/$AR$53)*$B$583%,\"\")","v":""},{"$f":"IF(AND(S594=Labels!$B$118,WEEKDAY(S586,2)<6,S$588<>\"\"),($J$7*5/$AR$53)*$B$583%,\"\")","v":""},{"$f":"IF(AND(T594=Labels!$B$118,WEEKDAY(T586,2)<6,T$588<>\"\"),($J$7*5/$AR$53)*$B$583%,\"\")","v":""},{"$f":"IF(AND(U594=Labels!$B$118,WEEKDAY(U586,2)<6,U$588<>\"\"),($J$7*5/$AR$53)*$B$583%,\"\")","v":""},{"$f":"IF(AND(V594=Labels!$B$118,WEEKDAY(V586,2)<6,V$588<>\"\"),($J$7*5/$AR$53)*$B$583%,\"\")","v":""},{"$f":"IF(AND(W594=Labels!$B$118,WEEKDAY(W586,2)<6,W$588<>\"\"),($J$7*5/$AR$53)*$B$583%,\"\")","v":""},{"$f":"IF(AND(X594=Labels!$B$118,WEEKDAY(X586,2)<6,X$588<>\"\"),($J$7*5/$AR$53)*$B$583%,\"\")","v":""},{"$f":"IF(AND(Y594=Labels!$B$118,WEEKDAY(Y586,2)<6,Y$588<>\"\"),($J$7*5/$AR$53)*$B$583%,\"\")","v":""},{"$f":"IF(AND(Z594=Labels!$B$118,WEEKDAY(Z586,2)<6,Z$588<>\"\"),($J$7*5/$AR$53)*$B$583%,\"\")","v":""},{"$f":"IF(AND(AA594=Labels!$B$118,WEEKDAY(AA586,2)<6,AA$588<>\"\"),($J$7*5/$AR$53)*$B$583%,\"\")","v":""},{"$f":"IF(AND(AB594=Labels!$B$118,WEEKDAY(AB586,2)<6,AB$588<>\"\"),($J$7*5/$AR$53)*$B$583%,\"\")","v":""},{"$f":"IF(AND(AC594=Labels!$B$118,WEEKDAY(AC586,2)<6,AC$588<>\"\"),($J$7*5/$AR$53)*$B$583%,\"\")","v":""},{"$f":"IF(AND(AD594=Labels!$B$118,WEEKDAY(AD586,2)<6,AD$588<>\"\"),($J$7*5/$AR$53)*$B$583%,\"\")","v":""},{"$f":"IF(AND(AE594=Labels!$B$118,WEEKDAY(AE586,2)<6,AE$588<>\"\"),($J$7*5/$AR$53)*$B$583%,\"\")","v":""},{"$f":"IF(AND(AF594=Labels!$B$118,WEEKDAY(AF586,2)<6,AF$588<>\"\"),($J$7*5/$AR$53)*$B$583%,\"\")","v":""}]
[{"$f":"$A$20","v":"Tagestotal"},{"$f":"SUM(B591:B593)","v":0},{"$f":"SUM(C591:C593)","v":0},0,0,0,0,0,0,0,0,0,0,0,0,0,0,0,0,0,0,0,0,0,0,0,0,0,0,0,0,0]
[{"$f":"$A$21","v":"."}]
[{"$f":"$A$22","v":"."}]
[{"$f":"$A$23","v":"Monatsübergang"},{"$f":"IF(WEEKDAY(B586)=1,TEXT(B586-1,\"MMM\"&Labels!B13),\"\")","v":""},null,null,null,null,null,null,null,null,null,null,null,null,null,null,null,null,null,null,null,null,null,null,null,null,null,null,null,null,null,{"$f":"IF(AND(WEEKDAY(AF586)>1,WEEKDAY(AF586)<7),TEXT(DATE($B$5,MONTH(AF586)+1,1),\"MMM\"&Labels!B13),\"\")","v":"Nov"}]
[{"$f":"$A$24","v":"Wochentotal"},{"$f":"IF(WEEKDAY(B586)=7,SUMIF($B523:$AF523,B587,$B532:$AF532)+SUMIF($B587:$AF587,B587,$B596:$AF596)+SUMIF($B651:$AF651,B587,$B660:$AF660),B599)","v":0},{"$f":"IF(WEEKDAY(C586)=7,SUMIF($B523:$AF523,C587,$B532:$AF532)+SUMIF($B587:$AF587,C587,$B596:$AF596)+SUMIF($B651:$AF651,C587,$B660:$AF660),\"\")","v":""},"","","","","",0,"","","","","","",0,"","","","","","",0,"","","","","","",0,"",{"$f":"IF(WEEKDAY(AF586)=7,SUMIF($B523:$AF523,AF587,$B532:$AF532)+SUMIF($B587:$AF587,AF587,$B596:$AF596)+SUMIF($B651:$AF651,AF587,$B660:$AF660),AF599)","v":"Nov"},{"$f":"SUM(B601:AF601)","v":0}]
[{"$f":"$A$25","v":"Zeitzuschlag 1)"},{"$f":"IF(B608=\"FALSCH\",\"\",B608)","v":""},{"$f":"IF(C608=\"FALSCH\",\"\",C608)","v":""},"","","","","","","","","","","","","","","","","","","","","","","","","","","","","",0,"[1]"]
[{"$f":"$A$26","v":"Zeitzuschlag 2)"},{"$f":"IF((B591+B593)=0,\"\",SUM(B591,B593))","v":""},{"$f":"IF((C591+C593)=0,\"\",SUM(C591,C593))","v":""},"","","","","","","","","","","","","","","","","","","","","","","","","","","","","",{"$f":"SUM(B603:AF603)","v":0},"[2]"]
[{"$f":"$A$27","v":"Zeitzuschlag 3)"},{"$f":"SUM(B604:B607)","v":0},{"$f":"SUM(C604:C607)","v":0},0,0,0,0,0,0,0,0,0,0,0,0,0,0,0,0,0,0,0,0,0,0,0,0,0,0,0,0,0,0,"[3]"]
[{"$f":"$A$28","v":"Sonntag Tag"},{"$f":"IF(WEEKDAY(B586)=1,B592,\"\")","v":""},{"$f":"IF(WEEKDAY(C586)=1,C592,\"\")","v":0},"","","","","","",0,"","","","","","",0,"","","","","","",0,"","","","","","",0,"",0,"[4]"]
[{"$f":"$A$29","v":"Sonntag Nacht"},{"$f":"IF(WEEKDAY(B586)=1,SUM(B591+B593),\"\")","v":""},{"$f":"IF(WEEKDAY(C586)=1,SUM(C591+C593),\"\")","v":0},"","","","","","",0,"","","","","","",0,"","","","","","",0,"","","","","","",0,"",0,"[5]"]
[{"$f":"$A$30","v":"ft-Tazuschlag"},{"$f":"IF(B594=Labels!$B$118,B592,\"\")","v":""},{"$f":"IF(C594=Labels!$B$118,C592,\"\")","v":""},{"$f":"IF(D594=Labels!$B$118,D592,\"\")","v":""},{"$f":"IF(E594=Labels!$B$118,E592,\"\")","v":""},{"$f":"IF(F594=Labels!$B$118,F592,\"\")","v":""},{"$f":"IF(G594=Labels!$B$118,G592,\"\")","v":""},{"$f":"IF(H594=Labels!$B$118,H592,\"\")","v":""},{"$f":"IF(I594=Labels!$B$118,I592,\"\")","v":""},{"$f":"IF(J594=Labels!$B$118,J592,\"\")","v":""},{"$f":"IF(K594=Labels!$B$118,K592,\"\")","v":""},{"$f":"IF(L594=Labels!$B$118,L592,\"\")","v":""},{"$f":"IF(M594=Labels!$B$118,M592,\"\")","v":""},{"$f":"IF(N594=Labels!$B$118,N592,\"\")","v":""},{"$f":"IF(O594=Labels!$B$118,O592,\"\")","v":""},{"$f":"IF(P594=Labels!$B$118,P592,\"\")","v":""},{"$f":"IF(Q594=Labels!$B$118,Q592,\"\")","v":""},{"$f":"IF(R594=Labels!$B$118,R592,\"\")","v":""},{"$f":"IF(S594=Labels!$B$118,S592,\"\")","v":""},{"$f":"IF(T594=Labels!$B$118,T592,\"\")","v":""},{"$f":"IF(U594=Labels!$B$118,U592,\"\")","v":""},{"$f":"IF(V594=Labels!$B$118,V592,\"\")","v":""},{"$f":"IF(W594=Labels!$B$118,W592,\"\")","v":""},{"$f":"IF(X594=Labels!$B$118,X592,\"\")","v":""},{"$f":"IF(Y594=Labels!$B$118,Y592,\"\")","v":""},{"$f":"IF(Z594=Labels!$B$118,Z592,\"\")","v":""},{"$f":"IF(AA594=Labels!$B$118,AA592,\"\")","v":""},{"$f":"IF(AB594=Labels!$B$118,AB592,\"\")","v":""},{"$f":"IF(AC594=Labels!$B$118,AC592,\"\")","v":""},{"$f":"IF(AD594=Labels!$B$118,AD592,\"\")","v":""},{"$f":"IF(AE594=Labels!$B$118,AE592,\"\")","v":""},{"$f":"IF(AF594=Labels!$B$118,AF592,\"\")","v":""},0,"[6]"]
[{"$f":"$A$31","v":"ft-Nazuschlag"},{"$f":"IF(B594=Labels!$B$118,SUM(B591,B593),\"\")","v":""},{"$f":"IF(C594=Labels!$B$118,SUM(C591,C593),\"\")","v":""},{"$f":"IF(D594=Labels!$B$118,SUM(D591,D593),\"\")","v":""},{"$f":"IF(E594=Labels!$B$118,SUM(E591,E593),\"\")","v":""},{"$f":"IF(F594=Labels!$B$118,SUM(F591,F593),\"\")","v":""},{"$f":"IF(G594=Labels!$B$118,SUM(G591,G593),\"\")","v":""},{"$f":"IF(H594=Labels!$B$118,SUM(H591,H593),\"\")","v":""},{"$f":"IF(I594=Labels!$B$118,SUM(I591,I593),\"\")","v":""},{"$f":"IF(J594=Labels!$B$118,SUM(J591,J593),\"\")","v":""},{"$f":"IF(K594=Labels!$B$118,SUM(K591,K593),\"\")","v":""},{"$f":"IF(L594=Labels!$B$118,SUM(L591,L593),\"\")","v":""},{"$f":"IF(M594=Labels!$B$118,SUM(M591,M593),\"\")","v":""},{"$f":"IF(N594=Labels!$B$118,SUM(N591,N593),\"\")","v":""},{"$f":"IF(O594=Labels!$B$118,SUM(O591,O593),\"\")","v":""},{"$f":"IF(P594=Labels!$B$118,SUM(P591,P593),\"\")","v":""},{"$f":"IF(Q594=Labels!$B$118,SUM(Q591,Q593),\"\")","v":""},{"$f":"IF(R594=Labels!$B$118,SUM(R591,R593),\"\")","v":""},{"$f":"IF(S594=Labels!$B$118,SUM(S591,S593),\"\")","v":""},{"$f":"IF(T594=Labels!$B$118,SUM(T591,T593),\"\")","v":""},{"$f":"IF(U594=Labels!$B$118,SUM(U591,U593),\"\")","v":""},{"$f":"IF(V594=Labels!$B$118,SUM(V591,V593),\"\")","v":""},{"$f":"IF(W594=Labels!$B$118,SUM(W591,W593),\"\")","v":""},{"$f":"IF(X594=Labels!$B$118,SUM(X591,X593),\"\")","v":""},{"$f":"IF(Y594=Labels!$B$118,SUM(Y591,Y593),\"\")","v":""},{"$f":"IF(Z594=Labels!$B$118,SUM(Z591,Z593),\"\")","v":""},{"$f":"IF(AA594=Labels!$B$118,SUM(AA591,AA593),\"\")","v":""},{"$f":"IF(AB594=Labels!$B$118,SUM(AB591,AB593),\"\")","v":""},{"$f":"IF(AC594=Labels!$B$118,SUM(AC591,AC593),\"\")","v":""},{"$f":"IF(AD594=Labels!$B$118,SUM(AD591,AD593),\"\")","v":""},{"$f":"IF(AE594=Labels!$B$118,SUM(AE591,AE593),\"\")","v":""},{"$f":"IF(AF594=Labels!$B$118,SUM(AF591,AF593),\"\")","v":""},{"$f":"AG591","v":0},"[7]"]
[{"$f":"$A$32","v":"Zuschlag  blind (Wochentotal)"},{"$f":"IF(OR(ISTEXT(B600),B600=\"\",B600<$B$7),\"\",ROUND(((B600-$B$7)*25%)/25,4)*25)","v":""},{"$f":"IF(OR(ISTEXT(C600),C600=\"\",C600<$B$7),\"\",ROUND(((C600-$B$7)*25%)/25,4)*25)","v":""},"","","","","","","","","","","","","","","","","","","","","","","","","","","","","",{"$f":"SUM(AG590+AG592)","v":0},"[8]"]
[null,{"$f":"$B$33","v":"1)   25% Zeitzuschlag für Überschreitung Wochentotal"},null,null,null,null,null,null,null,null,null,{"$f":"$L$33","v":"2) 100% Zeitzuschlag für Nachtarbeit"},null,null,null,null,null,null,null,null,null,null,null,null,null,null,null,null,null,null,null,null,{"$f":"SUM(AG590:AG592)","v":0},"[9]"]
[null,{"$f":"$B$34","v":"3) 100% Zeitzuschlag für Sonn- und Feiertagsarbeit"},null,null,null,null,null,null,null,null,null,null,null,null,null,null,null,null,null,{"$f":"$T$34","v":"Eingabe der ausbezahlten Stunden laufendes Jahr (Überstunden)"},null,null,null,null,null,null,null,null,null,null,null,null,{"$f":"SUM(AG588+AG594)","v":0},"[10]"]
[{"$f":"$A$35","v":"Bemerkungen"},null,null,null,null,null,null,null,null,null,null,null,null,null,null,null,null,null,null,null,null,null,null,null,null,null,null,null,null,null,null,null,{"$f":"SUM(AG588:AG602)","v":0},"[11]"]
[null,null,null,null,null,null,null,null,null,null,null,null,null,null,null,null,null,null,null,null,null,null,null,null,null,null,null,null,null,null,null,null,{"$f":"AG587","v":168}]
[null,null,null,null,null,null,null,null,null,null,null,null,null,null,null,null,null,null,null,null,null,null,null,null,null,null,null,null,null,null,null,null,{"$f":"SUM(AG611-AG587)","v":-168}]
[]
[{"$f":"$A$39","v":"Zusammenstellung"},null,null,null,null,null,{"$f":"$G$39","v":"Jan"},null,{"$f":"$I$39","v":"Feb"},null,{"$f":"$K$39","v":"Mrz"},null,{"$f":"$M$39","v":"Apr"},null,{"$f":"$O$39","v":"Mai"},null,{"$f":"$Q$39","v":"Jun"},null,{"$f":"$S$39","v":"Jul"},null,{"$f":"$U$39","v":"Aug"},null,{"$f":"$W$39","v":"Sep"},null,{"$f":"$Y$39","v":"Okt"},null,{"$f":"$AA$39","v":"Nov"},null,{"$f":"$AC$39","v":"Dez"},null,{"$f":"$AE$39","v":"Jahr"}]
[{"$f":"$A$40","v":"Anstellung %"},null,null,null,null,null,{"$f":"IF($B$4=0,0,$B$4)","v":100},null,{"$f":"IF($B$71=0,0,$B$71)","v":100},null,{"$f":"IF($B$135=0,0,$B$135)","v":100},null,{"$f":"IF($B$199=0,0,$B$199)","v":100},null,{"$f":"IF($B$263=0,0,$B$263)","v":100},null,{"$f":"IF($B$327=0,0,$B$327)","v":100},null,{"$f":"IF($B$391=0,0,$B$391)","v":100},null,{"$f":"IF($B$455=0,0,$B$455)","v":100},null,{"$f":"IF($B$519=0,0,$B$519)","v":100},null,{"$f":"IF($B$583=0,0,$B$583)","v":100},null,{"$f":"IF($B$647=0,0,$B$647)","v":100},null,{"$f":"IF($B$711=0,0,$B$711)","v":100}]
[{"$f":"$A$41","v":"Sollstunden gemäss GAV"},null,null,null,null,null,{"$f":"IF($AG$37=0,0,$AG$37)","v":168},null,{"$f":"IF($AG$100=0,0,$AG$100)","v":160},null,{"$f":"IF($AG$139=0,0,$AG$139)","v":184},null,{"$f":"IF($AG$228=0,0,$AG$228)","v":168},null,{"$f":"IF($AG$292=0,0,$AG$292)","v":176},null,{"$f":"IF($AG$356=0,0,$AG$356)","v":176},null,{"$f":"IF($AG$420=0,0,$AG$420)","v":168},null,{"$f":"IF($AG$484=0,0,$AG$484)","v":184},null,{"$f":"IF($AG$548=0,0,$AG$548)","v":176},null,{"$f":"IF($AG$612=0,0,$AG$612)","v":168},null,{"$f":"IF($AG$676=0,0,$AG$676)","v":176},null,{"$f":"IF($AG$740=0,0,$AG$740)","v":176},null,{"$f":"SUM(G617:AD617)","v":2080}]
[{"$f":"$A$42","v":"Produktive Stunden"},{"$f":"$B$42","v":"06.00 - 20.00 Uhr"},null,null,null,null,{"$f":"IF($AG$32=0,0,$AG$32)","v":0},null,{"$f":"IF($AG$95=0,0,$AG$95)","v":0},null,{"$f":"IF($AG$159=0,0,$AG$159)","v":0},null,{"$f":"IF($AG$223=0,0,$AG$223)","v":0},null,{"$f":"IF($AG$287=0,0,$AG$287)","v":0},null,{"$f":"IF($AG$351=0,0,$AG$351)","v":0},null,{"$f":"IF($AG$415=0,0,$AG$415)","v":0},null,{"$f":"IF($AG$479=0,0,$AG$479)","v":0},null,{"$f":"IF($AG$543=0,0,$AG$543)","v":0},null,{"$f":"IF($AG$607=0,0,$AG$607)","v":0},null,{"$f":"IF($AG$671=0,0,$AG$671)","v":0},null,{"$f":"IF($AG$735=0,0,$AG$735)","v":0},null,{"$f":"SUM(G618:AD618)","v":0}]
[null,{"$f":"$B$43","v":"Nacht-, Sonn-, Feiertagsarbeit"},null,null,null,null,{"$f":"IF($AG$33=0,0,$AG$33)","v":0},null,{"$f":"IF($AG$96=0,0,$AG$96)","v":0},null,{"$f":"IF($AG$160=0,0,$AG$160)","v":0},null,{"$f":"IF($AG$224=0,0,$AG$224)","v":0},null,{"$f":"IF($AG$288=0,0,$AG$288)","v":0},null,{"$f":"IF($AG$352=0,0,$AG$352)","v":0},null,{"$f":"IF($AG$416=0,0,$AG$416)","v":0},null,{"$f":"IF($AG$480=0,0,$AG$480)","v":0},null,{"$f":"IF($AG$544=0,0,$AG$544)","v":0},null,{"$f":"IF($AG$608=0,0,$AG$608)","v":0},null,{"$f":"IF($AG$672=0,0,$AG$672)","v":0},null,{"$f":"IF($AG$736=0,0,$AG$736)","v":0},null,{"$f":"SUM(G619:AD619)","v":0}]
[{"$f":"$A$44","v":"Zeitzuschläge"},{"$f":"$B$44","v":"aus Wochentotal"},null,null,null,null,{"$f":"IF($AG$25=0,0,$AG$25)","v":0},null,{"$f":"IF($AG$88=0,0,$AG$88)","v":0},null,{"$f":"IF($AG$152=0,0,$AG$152)","v":0},null,{"$f":"IF($AG$216=0,0,$AG$216)","v":0},null,{"$f":"IF($AG$280=0,0,$AG$280)","v":0},null,{"$f":"IF($AG$344=0,0,$AG$344)","v":0},null,{"$f":"IF($AG$408=0,0,$AG$408)","v":0},null,{"$f":"IF($AG$472=0,0,$AG$472)","v":0},null,{"$f":"IF($AG$536=0,0,$AG$536)","v":0},null,{"$f":"IF($AG$600=0,0,$AG$600)","v":0},null,{"$f":"IF($AG$664=0,0,$AG$664)","v":0},null,{"$f":"IF($AG$728=0,0,$AG$728)","v":0},null,{"$f":"SUM(G620:AD620)","v":0}]
[null,{"$f":"$B$45","v":"aus Nacht-, Sonn-, Feiertagsarbeiten"},null,null,null,null,{"$f":"IF($AJ$21=0,0,$AJ$21)","v":0},null,{"$f":"IF($AK$21=0,0,$AK$21)","v":0},null,{"$f":"IF($AL$21=0,0,$AL$21)","v":0},null,{"$f":"IF($AM$21=0,0,$AM$21)","v":0},null,{"$f":"IF($AN$21=0,0,$AN$21)","v":0},null,{"$f":"IF($AO$21=0,0,$AO$21)","v":0},null,{"$f":"IF($AP$21=0,0,$AP$21)","v":0},null,{"$f":"IF($AQ$21=0,0,$AQ$21)","v":0},null,{"$f":"IF($AR$21=0,0,$AR$21)","v":0},null,{"$f":"IF($AS$21=0,0,$AS$21)","v":0},null,{"$f":"IF($AT$21=0,0,$AT$21)","v":0},null,{"$f":"IF($AU$21=0,0,$AU$21)","v":0},null,{"$f":"SUM(G621:AD621)","v":0}]
[{"$f":"$A$46","v":"Unproduktive Stunden"}]
[{"$f":"$A$47","v":"   Absenzen, Kurzabsenzen Art. 11 GAV"},null,null,null,null,{"$f":"$F$47","v":"a"},{"$f":"IF($AJ$3=0,0,$AJ$3)","v":0},null,{"$f":"IF($AK$3=0,0,$AK$3)","v":0},null,{"$f":"IF($AL$3=0,0,$AL$3)","v":0},null,{"$f":"IF($AM$3=0,0,$AM$3)","v":0},null,{"$f":"IF($AN$3=0,0,$AN$3)","v":0},null,{"$f":"IF($AO$3=0,0,$AO$3)","v":0},null,{"$f":"IF($AP$3=0,0,$AP$3)","v":0},null,{"$f":"IF($AQ$3=0,0,$AQ$3)","v":0},null,{"$f":"IF($AR$3=0,0,$AR$3)","v":0},null,{"$f":"IF($AS$3=0,0,$AS$3)","v":0},null,{"$f":"IF(AT$3=0,0,$AT$3)","v":0},null,{"$f":"IF($AU$3=0,0,$AU$3)","v":0},null,{"$f":"IF($AV$3=0,0,$AV$3)","v":0}]
[{"$f":"$A$48","v":"   Ferien Art. 12.1 GAV"},null,null,null,null,{"$f":"$F$48","v":"f"},{"$f":"IF($AJ$4=0,0,$AJ$4)","v":0},null,{"$f":"IF($AK$4=0,0,$AK$4)","v":0},null,{"$f":"IF($AL$4=0,0,$AL$4)","v":0},null,{"$f":"IF($AM$4=0,0,$AM$4)","v":0},null,{"$f":"IF($AN$4=0,0,$AN$4)","v":0},null,{"$f":"IF($AO$4=0,0,$AO$4)","v":0},null,{"$f":"IF($AP$4=0,0,$AP$4)","v":0},null,{"$f":"IF($AQ$4=0,0,$AQ$4)","v":0},null,{"$f":"IF($AR$4=0,0,$AR$4)","v":0},null,{"$f":"IF($AS$4=0,0,$AS$4)","v":0},null,{"$f":"IF($AT$4=0,0,$AT$4)","v":0},null,{"$f":"IF($AU$4=0,0,$AU$4)","v":0},null,{"$f":"IF($AV$4=0,0,$AV$4)","v":0}]
[{"$f":"Labels!$B$181","v":"   Ferien unbezahlt"},null,null,null,null,{"$f":"Labels!$B$182","v":"fu"},{"$f":"IF($AJ$13=0,0,$AJ$13)","v":0},null,{"$f":"IF($AK$13=0,0,$AK$13)","v":0},null,{"$f":"IF($AL$13=0,0,$AL$13)","v":0},null,{"$f":"IF($AM$13=0,0,$AM$13)","v":0},null,{"$f":"IF($AN$13=0,0,$AN$13)","v":0},null,{"$f":"IF($AO$13=0,0,$AO$13)","v":0},null,{"$f":"IF($AP$13=0,0,$AP$13)","v":0},null,{"$f":"IF($AQ$13=0,0,$AQ$13)","v":0},null,{"$f":"IF($AR$13=0,0,$AR$13)","v":0},null,{"$f":"IF($AS$13=0,0,$AS$13)","v":0},null,{"$f":"IF($AT$13=0,0,$AT$13)","v":0},null,{"$f":"IF($AU$13=0,0,$AU$13)","v":0},null,{"$f":"IF($AV$13=0,0,$AV$13)","v":0}]
[{"$f":"$A$50","v":"   Feiertage Art. 12.2 GAV"},null,{"$f":"IF($AJ$18=\"\",\"\",$AJ$18)","v":""},null,null,{"$f":"$F$50","v":"ft"},{"$f":"IF($AJ$16=0,0,$AJ$16)","v":0},null,{"$f":"IF($AK$16=0,0,$AK$16)","v":0},null,{"$f":"IF($AL$16=0,0,$AL$16)","v":0},null,{"$f":"IF($AM$16=0,0,$AM$16)","v":0},null,{"$f":"IF($AN$16=0,0,$AN$16)","v":0},null,{"$f":"IF($AO$16=0,0,$AO$16)","v":0},null,{"$f":"IF($AP$16=0,0,$AP$16)","v":0},null,{"$f":"IF($AQ$16=0,0,$AQ$16)","v":0},null,{"$f":"IF($AR$16=0,0,$AR$16)","v":0},null,{"$f":"IF($AS$16=0,0,$AS$16)","v":0},null,{"$f":"IF($AT$16=0,0,$AT$16)","v":0},null,{"$f":"IF($AU$16=0,0,$AU$16)","v":0},null,{"$f":"IF($AV$16=0,0,$AV$16)","v":0}]
[{"$f":"$A$51","v":"   Krankheit Art. 13 GAV"},null,null,null,null,{"$f":"$F$51","v":"k"},{"$f":"IF($AJ$5=0,0,$AJ$5)","v":0},null,{"$f":"IF($AK$5=0,0,$AK$5)","v":0},null,{"$f":"IF($AL$5=0,0,$AL$5)","v":0},null,{"$f":"IF($AM$5=0,0,$AM$5)","v":0},null,{"$f":"IF($AN$5=0,0,$AN$5)","v":0},null,{"$f":"IF($AO$5=0,0,$AO$5)","v":0},null,{"$f":"IF($AP$5=0,0,$AP$5)","v":0},null,{"$f":"IF($AQ$5=0,0,$AQ$5)","v":0},null,{"$f":"IF($AR$5=0,0,$AR$5)","v":0},null,{"$f":"IF($AS$5=0,0,$AS$5)","v":0},null,{"$f":"IF($AT$5=0,0,$AT$5)","v":0},null,{"$f":"IF($AU$5=0,0,$AU$5)","v":0},null,{"$f":"IF($AV$5=0,0,$AV$5)","v":0}]
[{"$f":"$A$52","v":"   Unfall Art. 14 GAV"},null,null,null,null,{"$f":"$F$52","v":"u"},{"$f":"IF($AJ$6=0,0,$AJ$6)","v":0},null,{"$f":"IF($AK$6=0,0,$AK$6)","v":0},null,{"$f":"IF($AL$6=0,0,$AL$6)","v":0},null,{"$f":"IF($AM$6=0,0,$AM$6)","v":0},null,{"$f":"IF($AN$6=0,0,$AN$6)","v":0},null,{"$f":"IF($AO$6=0,0,$AO$6)","v":0},null,{"$f":"IF($AP$6=0,0,$AP$6)","v":0},null,{"$f":"IF($AQ$6=0,0,$AQ$6)","v":0},null,{"$f":"IF($AR$6=0,0,$AR$6)","v":0},null,{"$f":"IF($AS$6=0,0,$AS$6)","v":0},null,{"$f":"IF($AT$6=0,0,$AT$6)","v":0},null,{"$f":"IF($AU$6=0,0,$AU$6)","v":0},null,{"$f":"IF($AV$6=0,0,$AV$6)","v":0}]
[{"$f":"$A$53","v":"   Schwangerschaft/Mutterschaft Art. 15 GAV"},null,null,null,null,{"$f":"$F$53","v":"s"},{"$f":"IF($AJ$7=0,0,$AJ$7)","v":0},null,{"$f":"IF($AK$7=0,0,$AK$7)","v":0},null,{"$f":"IF($AL$7=0,0,$AL$7)","v":0},null,{"$f":"IF($AM$7=0,0,$AM$7)","v":0},null,{"$f":"IF($AN$7=0,0,$AN$7)","v":0},null,{"$f":"IF($AO$7=0,0,$AO$7)","v":0},null,{"$f":"IF($AP$7=0,0,$AP$7)","v":0},null,{"$f":"IF($AQ$7=0,0,$AQ$7)","v":0},null,{"$f":"IF($AR$7=0,0,$AR$7)","v":0},null,{"$f":"IF($AS$7=0,0,$AS$7)","v":0},null,{"$f":"IF($AT$7=0,0,$AT$7)","v":0},null,{"$f":"IF($AU$7=0,0,$AU$7)","v":0},null,{"$f":"IF($AV$7=0,0,$AV$7)","v":0}]
[{"$f":"$A$54","v":"   Militär/Beförderung/Zivilschutz Art. 16 GAV"},null,null,null,null,{"$f":"$F$54","v":"m"},{"$f":"IF($AJ$8=0,0,$AJ$8)","v":0},null,{"$f":"IF($AK$8=0,0,$AK$8)","v":0},null,{"$f":"IF($AL$8=0,0,$AL$8)","v":0},null,{"$f":"IF($AM$8=0,0,$AM$8)","v":0},null,{"$f":"IF($AN$8=0,0,$AN$8)","v":0},null,{"$f":"IF($AO$8=0,0,$AO$8)","v":0},null,{"$f":"IF($AP$8=0,0,$AP$8)","v":0},null,{"$f":"IF($AQ$8=0,0,$AQ$8)","v":0},null,{"$f":"IF($AR$8=0,0,$AR$8)","v":0},null,{"$f":"IF($AS$8=0,0,$AS$8)","v":0},null,{"$f":"IF($AT$8=0,0,$AT$8)","v":0},null,{"$f":"IF($AU$8=0,0,$AU$8)","v":0},null,{"$f":"IF($AV$8=0,0,$AV$8)","v":0}]
[{"$f":"$A$55","v":"   Kurzarbeit und Schlechtwetterausfälle"},null,null,null,null,{"$f":"$F$55","v":"ka"},{"$f":"IF($AJ$11=0,0,$AJ$11)","v":0},null,{"$f":"IF($AK$11=0,0,$AK$11)","v":0},null,{"$f":"IF($AL$11=0,0,$AL$11)","v":0},null,{"$f":"IF($AM$11=0,0,$AM$11)","v":0},null,{"$f":"IF($AN$11=0,0,$AN$11)","v":0},null,{"$f":"IF($AO$11=0,0,$AO$11)","v":0},null,{"$f":"IF($AP$11=0,0,$AP$11)","v":0},null,{"$f":"IF($AQ$11=0,0,$AQ$11)","v":0},null,{"$f":"IF($AR$11=0,0,$AR$11)","v":0},null,{"$f":"IF($AS$11=0,0,$AS$11)","v":0},null,{"$f":"IF($AT$11=0,0,$AT$11)","v":0},null,{"$f":"IF($AU$11=0,0,$AU$11)","v":0},null,{"$f":"IF($AV$11=0,0,$AV$11)","v":0}]
[{"$f":"$A$56","v":"   Berufsschule"},null,null,null,null,{"$f":"$F$56","v":"bs"},{"$f":"IF($AJ$9=0,0,$AJ$9)","v":0},null,{"$f":"IF($AK$9=0,0,$AK$9)","v":0},null,{"$f":"IF($AL$9=0,0,$AL$9)","v":0},null,{"$f":"IF($AM$9=0,0,$AM$9)","v":0},null,{"$f":"IF($AN$9=0,0,$AN$9)","v":0},null,{"$f":"IF($AO$9=0,0,$AO$9)","v":0},null,{"$f":"IF($AP$9=0,0,$AP$9)","v":0},null,{"$f":"IF($AQ$9=0,0,$AQ$9)","v":0},null,{"$f":"IF($AR$9=0,0,$AR$9)","v":0},null,{"$f":"IF($AS$9=0,0,$AS$9)","v":0},null,{"$f":"IF($AT$9=0,0,$AT$9)","v":0},null,{"$f":"IF($AU$9=0,0,$AU$9)","v":0},null,{"$f":"IF($AV$9=0,0,$AV$9)","v":0}]
[{"$f":"$A$57","v":"   Kurse"},null,null,null,null,{"$f":"$F$57","v":"ku"},{"$f":"IF($AJ$10=0,0,$AJ$10)","v":0},null,{"$f":"IF($AK$10=0,0,$AK$10)","v":0},null,{"$f":"IF($AL$10=0,0,$AL$10)","v":0},null,{"$f":"IF($AM$10=0,0,$AM$10)","v":0},null,{"$f":"IF($AN$10=0,0,$AN$10)","v":0},null,{"$f":"IF($AO$10=0,0,$AO$10)","v":0},null,{"$f":"IF($AP$10=0,0,$AP$10)","v":0},null,{"$f":"IF($AQ$10=0,0,$AQ$10)","v":0},null,{"$f":"IF($AR$10=0,0,$AR$10)","v":0},null,{"$f":"IF($AS$10=0,0,$AS$10)","v":0},null,{"$f":"IF($AT$10=0,0,$AT$10)","v":0},null,{"$f":"IF($AU$10=0,0,$AU$10)","v":0},null,{"$f":"IF($AV$10=0,0,$AV$10)","v":0}]
[{"$f":"$A$58","v":"Kompensations-Std"},{"$f":"$B$58","v":"aus Vorjahr"},null,null,null,{"$f":"$F$58","v":"kv"},{"$f":"IF($AJ$12=0,0,$AJ$12)","v":0},null,{"$f":"IF($AK$12=0,0,$AK$12)","v":0},null,{"$f":"IF($AL$12=0,0,$AL$12)","v":0},null,{"$f":"IF($AM$12=0,0,$AM$12)","v":0},null,{"$f":"IF($AN$12=0,0,$AN$12)","v":0},null,{"$f":"IF($AO$12=0,0,$AO$12)","v":0},null,{"$f":"IF($AP$12=0,0,$AP$12)","v":0},null,{"$f":"IF($AQ$12=0,0,$AQ$12)","v":0},null,{"$f":"IF($AR$12=0,0,$AR$12)","v":0},null,null,null,null,null,null,null,{"$f":"IF($AV$12=0,0,$AV$12)","v":0}]
[null,{"$f":"$B$59","v":"aus laufendem Jahr (Kontrolle)"},null,null,null,{"$f":"$F$59","v":"kj"},{"$f":"IF($AJ$15=0,0,$AJ$15)","v":0},null,{"$f":"IF($AK$15=0,0,$AK$15)","v":0},null,{"$f":"IF($AL$15=0,0,$AL$15)","v":0},null,{"$f":"IF($AM$15=0,0,$AM$15)","v":0},null,{"$f":"IF($AN$15=0,0,$AN$15)","v":0},null,{"$f":"IF($AO$15=0,0,$AO$15)","v":0},null,{"$f":"IF($AP$15=0,0,$AP$15)","v":0},null,{"$f":"IF($AQ$15=0,0,$AQ$15)","v":0},null,{"$f":"IF($AR$15=0,0,$AR$15)","v":0},null,{"$f":"IF($AS$15=0,0,$AS$15)","v":0},null,{"$f":"IF($AT$15=0,0,$AT$15)","v":0},null,{"$f":"IF($AU$15=0,0,$AU$15)","v":0},null,{"$f":"IF($AV$15=0,0,$AV$15)","v":0}]
[{"$f":"$A$60","v":"Auszahlung"},{"$f":"$B$60","v":"Stunden Vorjahressaldo"},null,null,null,null,{"$f":"IF($AJ$19=0,0,$AJ$19)","v":0},null,{"$f":"IF($AK$19=0,0,$AK$19)","v":0},null,{"$f":"IF($AL$19=0,0,$AL$19)","v":0},null,{"$f":"IF($AM$19=0,0,$AM$19)","v":0},null,{"$f":"IF($AN$19=0,0,$AN$19)","v":0},null,{"$f":"IF($AO$19=0,0,$AO$19)","v":0},null,{"$f":"IF($AP$19=0,0,$AP$19)","v":0},null,{"$f":"IF($AQ$19=0,0,$AQ$19)","v":0},null,{"$f":"IF($AR$19=0,0,$AR$19)","v":0},null,null,null,null,null,null,null,{"$f":"IF($AV$19=0,0,$AV$19)","v":0}]
[{"$f":"$A$61","v":"Differenz"},{"$f":"$B$61","v":"nach Kompensation und Auszahlung"},null,null,null,null,{"$f":"IF(ROUND($P$4,3)=0,0,$P$4-SUM(G634+G636))","v":0},null,{"$f":"IF(ROUND(G637,3)=0,0,G637-(SUM(I636+I634)))","v":0},null,{"$f":"IF(ROUND(I637,3)=0,0,I637-(SUM(K636+K634)))","v":0},null,{"$f":"IF(ROUND(K637,3)=0,0,K637-(SUM(M636+M634)))","v":0},null,{"$f":"IF(ROUND(M637,3)=0,0,M637-(SUM(O636+O634)))","v":0},null,{"$f":"IF(ROUND(O637,3)=0,0,O637-(SUM(Q636+Q634)))","v":0},null,{"$f":"IF(ROUND(Q637,3)=0,0,Q637-(SUM(S636+S634)))","v":0},null,{"$f":"IF(ROUND(S637,3)=0,0,S637-(SUM(U636+U634)))","v":0},null,{"$f":"IF(ROUND(U637,3)=0,0,U637-(SUM(W636+W634)))","v":0},null,{"$f":"$Y$61","v":""}]
[{"$f":"$A$62","v":"Auszahlung"},{"$f":"$B$62","v":"Stunden laufendes Jahr"},null,null,null,null,{"$f":"IF($AJ$20=0,0,$AJ$20)","v":0},null,{"$f":"IF($AK$20=0,0,$AK$20)","v":0},null,{"$f":"IF($AL$20=0,0,$AL$20)","v":0},null,{"$f":"IF($AM$20=0,0,$AM$20)","v":0},null,{"$f":"IF($AN$20=0,0,$AN$20)","v":0},null,{"$f":"IF($AO$20=0,0,$AO$20)","v":0},null,{"$f":"IF($AP$20=0,0,$AP$20)","v":0},null,{"$f":"IF($AQ$20=0,0,$AQ$20)","v":0},null,{"$f":"IF($AR$20=0,0,$AR$20)","v":0},null,{"$f":"IF($AS$20=0,0,$AS$20)","v":0},null,{"$f":"IF($AT$20=0,0,$AT$20)","v":0},null,{"$f":"IF($AU$20=0,0,$AU$20)","v":0},null,{"$f":"IF($AV$20=0,0,$AV$20)","v":0}]
[{"$f":"$A$63","v":"Fehlstunden"},{"$f":"$B$63","v":"laufendes Jahr (Kontrolle)"},null,null,null,{"$f":"$F$63","v":"fe"},{"$f":"IF($AJ$14=0,0,$AJ$14)","v":0},null,{"$f":"IF($AK$14=0,0,$AK$14)","v":0},null,{"$f":"IF($AL$14=0,0,$AL$14)","v":0},null,{"$f":"IF($AM$14=0,0,$AM$14)","v":0},null,{"$f":"IF($AN$14=0,0,$AN$14)","v":0},null,{"$f":"IF($AO$14=0,0,$AO$14)","v":0},null,{"$f":"IF($AP$14=0,0,$AP$14)","v":0},null,{"$f":"IF($AQ$14=0,0,$AQ$14)","v":0},null,{"$f":"IF($AR$14=0,0,$AR$14)","v":0},null,{"$f":"IF($AS$14=0,0,$AS$14)","v":0},null,{"$f":"IF($AT$14=0,0,$AT$14)","v":0},null,{"$f":"IF($AU$14=0,0,$AU$14)","v":0},null,{"$f":"IF($AV$14=0,0,$AV$14)","v":0}]
[{"$f":"$A$64","v":"Total inkl. Zeitzuschläge"},{"$f":"$B$64","v":"Stunden produktiv und unproduktiv"},null,null,null,null,{"$f":"IF($AG$36=0,0,$AG$36)","v":0},null,{"$f":"IF($AG$99=0,0,$AG$99)","v":0},null,{"$f":"IF($AG$163=0,0,$AG$163)","v":0},null,{"$f":"IF($AG$227=0,0,$AG$227)","v":0},null,{"$f":"IF($AG$291=0,0,$AG$291)","v":0},null,{"$f":"IF($AG$355=0,0,$AG$355)","v":0},null,{"$f":"IF($AG$419=0,0,$AG$419)","v":0},null,{"$f":"IF($AG$483=0,0,$AG$483)","v":0},null,{"$f":"IF($AG$547=0,0,$AG$547)","v":0},null,{"$f":"IF($AG$611=0,0,$AG$611)","v":0},null,{"$f":"IF($AG$675=0,0,$AG$675)","v":0},null,{"$f":"IF($AG$739=0,0,$AG$739)","v":0},null,{"$f":"SUM($G$64:$AD$64)","v":0}]
[{"$f":"$A$65","v":"Vergleich"},{"$f":"$B$65","v":"Stunden zu Soll-Stunden (inkl. allfälli-\nge Minusstunden Vorjahr)"},null,null,null,null,{"$f":"$G$65","v":-168},null,{"$f":"$I$65","v":-160},null,{"$f":"$K$65","v":-184},null,{"$f":"$M$65","v":-168},null,{"$f":"$O$65","v":-176},null,{"$f":"$Q$65","v":-176},null,{"$f":"$S$65","v":-168},null,{"$f":"$U$65","v":-184},null,{"$f":"$W$65","v":-176},null,{"$f":"$Y$65","v":-168},null,{"$f":"$AA$65","v":-176},null,{"$f":"$AC$65","v":-176},null,{"$f":"$AE$65","v":-2080}]
[null,{"$f":"$B$66","v":"Stunden zu Soll-Stunden (kumuliert)"},null,null,null,null,{"$f":"$G$66","v":-168},null,{"$f":"$I$66","v":-328},null,{"$f":"$K$66","v":-512},null,{"$f":"$M$66","v":-680},null,{"$f":"$O$66","v":-856},null,{"$f":"$Q$66","v":-1032},null,{"$f":"$S$66","v":-1200},null,{"$f":"$U$66","v":-1384},null,{"$f":"$W$66","v":-1560},null,{"$f":"$Y$66","v":-1728},null,{"$f":"$AA$66","v":-1904},null,{"$f":"$AC$66","v":-2080},null,{"$f":"$AE$66","v":0}]
[{"$f":"$A$67","v":"Ferienkontrolle"},{"$f":"$B$67","v":"Ferienguthaben Vorjahr"},null,null,null,null,{"$f":"IF($AA$4=0,0,$AA$4)","v":0},null,{"$f":"$I$67","v":"Ferienguthaben nach \nArt. 12.1 GAV"},null,null,null,{"$f":"IF($AA$5=0,0,$AA$5)","v":0},null,{"$f":"$O$67","v":"Ferienguthaben total"},null,null,null,{"$f":"SUM(G643+M643)","v":0},null,{"$f":"$U$67","v":"Ferien bezogen"},null,null,null,{"$f":"IF($AV$4=0,0,$AV$4)","v":0},null,{"$f":"$AA$67","v":"Aktuelles Ferienguthaben"},null,null,null,{"$f":"IF(S643=0,0,S643-Y643)","v":0}]
[]
[]
[{"$f":"$A$3","v":"Mitarbeiter/In"},{"$f":"IF($B$3=\"\",\"\",$B$3)","v":"Muster Peter"},null,null,null,null,null,null,null,null,null,null,null,null,null,null,null,null,null,null,null,null,null,null,null,null,null,null,null,null,null,{"$f":"AF3","v":0}]
[{"$f":"$A$4","v":"Anstellung %"},{"$f":"$AL$54","v":100},null,{"$f":"Labels!B99","v":"im November"}]
[{"$f":"$A$5","v":"Saldo für das Jahr"},null,null,{"$f":"IF($AE$65=0,0,$AE$65)","v":-2080}]
[{"$f":"TEXT(DATE(YEAR(AP29),MONTH(AP29)+10,1),\"MMMM\"&Labels!B13)","v":"November"},{"$f":"$B$9","v":"Saldo Monat + / -"},null,null,null,{"$f":"(AG651-(SUM(AG652:AG666)-AE674))*-1","v":-176},null,null,null,null,{"$f":"$K$9","v":" = "},{"$f":"$L$9","v":"Gelbe Felder müssen ausgefüllt werden (die übrigen werden automatisch berechnet)"},null,null,null,null,null,null,null,null,null,null,null,null,null,null,null,null,null,null,null,null,{"$f":"COUNT(B652:AF652)&\" \"&Labels!$B$63","v":"22 Tage"}]
[{"$f":"$A$10","v":"Tag"},{"$f":"AF586+1","v":"2022-11-01"},{"$f":"B650+1","v":"2022-11-02"},{"$f":"C650+1","v":"2022-11-03"},"2022-11-04","2022-11-05","2022-11-06","2022-11-07","2022-11-08","2022-11-09","2022-11-10","2022-11-11","2022-11-12","2022-11-13","2022-11-14","2022-11-15","2022-11-16","2022-11-17","2022-11-18","2022-11-19","2022-11-20","2022-11-21","2022-11-22","2022-11-23","2022-11-24","2022-11-25","2022-11-26","2022-11-27","2022-11-28","2022-11-29","2022-11-30"]
[{"$f":"$A$11","v":"Kalenderwoche"},{"$f":"IF(B650=\"\",\"\",TRUNC((B650-DATE(YEAR(B650+3-MOD(B650-2,7)),1,MOD(B650-2,7)-9))/7))","v":44},44,44,44,44,44,45,45,45,45,45,45,45,46,46,46,46,46,46,46,47,47,47,47,47,47,47,48,48,48,"",{"$f":"SUM(B652:AF652)","v":176}]
[{"$f":"$A$12","v":"Sollstunden"},{"$f":"IF(AND(MOD(B650,7)>=2,SUMPRODUCT(($AM$56:$AQ$56=MOD(B650,7))*$AM$54:$AQ$54)),($J$7*5/$AR$54)*$B$647%,\"\")","v":8},{"$f":"IF(AND(MOD(C650,7)>=2,SUMPRODUCT(($AM$56:$AQ$56=MOD(C650,7))*$AM$54:$AQ$54)),($J$7*5/$AR$54)*$B$647%,\"\")","v":8},{"$f":"IF(AND(MOD(D650,7)>=2,SUMPRODUCT(($AM$56:$AQ$56=MOD(D650,7))*$AM$54:$AQ$54)),($J$7*5/$AR$54)*$B$647%,\"\")","v":8},{"$f":"IF(AND(MOD(E650,7)>=2,SUMPRODUCT(($AM$56:$AQ$56=MOD(E650,7))*$AM$54:$AQ$54)),($J$7*5/$AR$54)*$B$647%,\"\")","v":8},{"$f":"IF(AND(MOD(F650,7)>=2,SUMPRODUCT(($AM$56:$AQ$56=MOD(F650,7))*$AM$54:$AQ$54)),($J$7*5/$AR$54)*$B$647%,\"\")","v":""},{"$f":"IF(AND(MOD(G650,7)>=2,SUMPRODUCT(($AM$56:$AQ$56=MOD(G650,7))*$AM$54:$AQ$54)),($J$7*5/$AR$54)*$B$647%,\"\")","v":""},{"$f":"IF(AND(MOD(H650,7)>=2,SUMPRODUCT(($AM$56:$AQ$56=MOD(H650,7))*$AM$54:$AQ$54)),($J$7*5/$AR$54)*$B$647%,\"\")","v":8},{"$f":"IF(AND(MOD(I650,7)>=2,SUMPRODUCT(($AM$56:$AQ$56=MOD(I650,7))*$AM$54:$AQ$54)),($J$7*5/$AR$54)*$B$647%,\"\")","v":8},{"$f":"IF(AND(MOD(J650,7)>=2,SUMPRODUCT(($AM$56:$AQ$56=MOD(J650,7))*$AM$54:$AQ$54)),($J$7*5/$AR$54)*$B$647%,\"\")","v":8},{"$f":"IF(AND(MOD(K650,7)>=2,SUMPRODUCT(($AM$56:$AQ$56=MOD(K650,7))*$AM$54:$AQ$54)),($J$7*5/$AR$54)*$B$647%,\"\")","v":8},{"$f":"IF(AND(MOD(L650,7)>=2,SUMPRODUCT(($AM$56:$AQ$56=MOD(L650,7))*$AM$54:$AQ$54)),($J$7*5/$AR$54)*$B$647%,\"\")","v":8},{"$f":"IF(AND(MOD(M650,7)>=2,SUMPRODUCT(($AM$56:$AQ$56=MOD(M650,7))*$AM$54:$AQ$54)),($J$7*5/$AR$54)*$B$647%,\"\")","v":""},{"$f":"IF(AND(MOD(N650,7)>=2,SUMPRODUCT(($AM$56:$AQ$56=MOD(N650,7))*$AM$54:$AQ$54)),($J$7*5/$AR$54)*$B$647%,\"\")","v":""},{"$f":"IF(AND(MOD(O650,7)>=2,SUMPRODUCT(($AM$56:$AQ$56=MOD(O650,7))*$AM$54:$AQ$54)),($J$7*5/$AR$54)*$B$647%,\"\")","v":8},{"$f":"IF(AND(MOD(P650,7)>=2,SUMPRODUCT(($AM$56:$AQ$56=MOD(P650,7))*$AM$54:$AQ$54)),($J$7*5/$AR$54)*$B$647%,\"\")","v":8},{"$f":"IF(AND(MOD(Q650,7)>=2,SUMPRODUCT(($AM$56:$AQ$56=MOD(Q650,7))*$AM$54:$AQ$54)),($J$7*5/$AR$54)*$B$647%,\"\")","v":8},{"$f":"IF(AND(MOD(R650,7)>=2,SUMPRODUCT(($AM$56:$AQ$56=MOD(R650,7))*$AM$54:$AQ$54)),($J$7*5/$AR$54)*$B$647%,\"\")","v":8},{"$f":"IF(AND(MOD(S650,7)>=2,SUMPRODUCT(($AM$56:$AQ$56=MOD(S650,7))*$AM$54:$AQ$54)),($J$7*5/$AR$54)*$B$647%,\"\")","v":8},{"$f":"IF(AND(MOD(T650,7)>=2,SUMPRODUCT(($AM$56:$AQ$56=MOD(T650,7))*$AM$54:$AQ$54)),($J$7*5/$AR$54)*$B$647%,\"\")","v":""},{"$f":"IF(AND(MOD(U650,7)>=2,SUMPRODUCT(($AM$56:$AQ$56=MOD(U650,7))*$AM$54:$AQ$54)),($J$7*5/$AR$54)*$B$647%,\"\")","v":""},{"$f":"IF(AND(MOD(V650,7)>=2,SUMPRODUCT(($AM$56:$AQ$56=MOD(V650,7))*$AM$54:$AQ$54)),($J$7*5/$AR$54)*$B$647%,\"\")","v":8},{"$f":"IF(AND(MOD(W650,7)>=2,SUMPRODUCT(($AM$56:$AQ$56=MOD(W650,7))*$AM$54:$AQ$54)),($J$7*5/$AR$54)*$B$647%,\"\")","v":8},{"$f":"IF(AND(MOD(X650,7)>=2,SUMPRODUCT(($AM$56:$AQ$56=MOD(X650,7))*$AM$54:$AQ$54)),($J$7*5/$AR$54)*$B$647%,\"\")","v":8},{"$f":"IF(AND(MOD(Y650,7)>=2,SUMPRODUCT(($AM$56:$AQ$56=MOD(Y650,7))*$AM$54:$AQ$54)),($J$7*5/$AR$54)*$B$647%,\"\")","v":8},{"$f":"IF(AND(MOD(Z650,7)>=2,SUMPRODUCT(($AM$56:$AQ$56=MOD(Z650,7))*$AM$54:$AQ$54)),($J$7*5/$AR$54)*$B$647%,\"\")","v":8},{"$f":"IF(AND(MOD(AA650,7)>=2,SUMPRODUCT(($AM$56:$AQ$56=MOD(AA650,7))*$AM$54:$AQ$54)),($J$7*5/$AR$54)*$B$647%,\"\")","v":""},{"$f":"IF(AND(MOD(AB650,7)>=2,SUMPRODUCT(($AM$56:$AQ$56=MOD(AB650,7))*$AM$54:$AQ$54)),($J$7*5/$AR$54)*$B$647%,\"\")","v":""},{"$f":"IF(AND(MOD(AC650,7)>=2,SUMPRODUCT(($AM$56:$AQ$56=MOD(AC650,7))*$AM$54:$AQ$54)),($J$7*5/$AR$54)*$B$647%,\"\")","v":8},{"$f":"IF(AND(MOD(AD650,7)>=2,SUMPRODUCT(($AM$56:$AQ$56=MOD(AD650,7))*$AM$54:$AQ$54)),($J$7*5/$AR$54)*$B$647%,\"\")","v":8},{"$f":"IF(AND(MOD(AE650,7)>=2,SUMPRODUCT(($AM$56:$AQ$56=MOD(AE650,7))*$AM$54:$AQ$54)),($J$7*5/$AR$54)*$B$647%,\"\")","v":8},null,{"$f":"SUM(AT3:AT13)","v":0}]
[{"$f":"$A$13","v":"Absenz in Std"},{"$f":"B1061","v":0},{"$f":"C1061","v":0},0,0,0,0,0,0,0,0,0,0,0,0,0,0,0,0,0,0,0,0,0,0,0,0,0,0,0,0]
[{"$f":"$A$14","v":"Code"},{"$f":"IF(B1061<>0,IF(MAX(B1048:B1060)<B1061,Labels!$B$163,INDEX($AH$1047:$AH$1059,MATCH(MAX(B1048:B1060),B1048:B1060,0))),\"\")","v":""},{"$f":"IF(C1061<>0,IF(MAX(C1048:C1060)<C1061,Labels!$B$163,INDEX($AH$1047:$AH$1059,MATCH(MAX(C1048:C1060),C1048:C1060,0))),\"\")","v":""},{"$f":"IF(D1061<>0,IF(MAX(D1048:D1060)<D1061,Labels!$B$163,INDEX($AH$1047:$AH$1059,MATCH(MAX(D1048:D1060),D1048:D1060,0))),\"\")","v":""},{"$f":"IF(E1061<>0,IF(MAX(E1048:E1060)<E1061,Labels!$B$163,INDEX($AH$1047:$AH$1059,MATCH(MAX(E1048:E1060),E1048:E1060,0))),\"\")","v":""},{"$f":"IF(F1061<>0,IF(MAX(F1048:F1060)<F1061,Labels!$B$163,INDEX($AH$1047:$AH$1059,MATCH(MAX(F1048:F1060),F1048:F1060,0))),\"\")","v":""},{"$f":"IF(G1061<>0,IF(MAX(G1048:G1060)<G1061,Labels!$B$163,INDEX($AH$1047:$AH$1059,MATCH(MAX(G1048:G1060),G1048:G1060,0))),\"\")","v":""},{"$f":"IF(H1061<>0,IF(MAX(H1048:H1060)<H1061,Labels!$B$163,INDEX($AH$1047:$AH$1059,MATCH(MAX(H1048:H1060),H1048:H1060,0))),\"\")","v":""},{"$f":"IF(I1061<>0,IF(MAX(I1048:I1060)<I1061,Labels!$B$163,INDEX($AH$1047:$AH$1059,MATCH(MAX(I1048:I1060),I1048:I1060,0))),\"\")","v":""},{"$f":"IF(J1061<>0,IF(MAX(J1048:J1060)<J1061,Labels!$B$163,INDEX($AH$1047:$AH$1059,MATCH(MAX(J1048:J1060),J1048:J1060,0))),\"\")","v":""},{"$f":"IF(K1061<>0,IF(MAX(K1048:K1060)<K1061,Labels!$B$163,INDEX($AH$1047:$AH$1059,MATCH(MAX(K1048:K1060),K1048:K1060,0))),\"\")","v":""},{"$f":"IF(L1061<>0,IF(MAX(L1048:L1060)<L1061,Labels!$B$163,INDEX($AH$1047:$AH$1059,MATCH(MAX(L1048:L1060),L1048:L1060,0))),\"\")","v":""},{"$f":"IF(M1061<>0,IF(MAX(M1048:M1060)<M1061,Labels!$B$163,INDEX($AH$1047:$AH$1059,MATCH(MAX(M1048:M1060),M1048:M1060,0))),\"\")","v":""},{"$f":"IF(N1061<>0,IF(MAX(N1048:N1060)<N1061,Labels!$B$163,INDEX($AH$1047:$AH$1059,MATCH(MAX(N1048:N1060),N1048:N1060,0))),\"\")","v":""},{"$f":"IF(O1061<>0,IF(MAX(O1048:O1060)<O1061,Labels!$B$163,INDEX($AH$1047:$AH$1059,MATCH(MAX(O1048:O1060),O1048:O1060,0))),\"\")","v":""},{"$f":"IF(P1061<>0,IF(MAX(P1048:P1060)<P1061,Labels!$B$163,INDEX($AH$1047:$AH$1059,MATCH(MAX(P1048:P1060),P1048:P1060,0))),\"\")","v":""},{"$f":"IF(Q1061<>0,IF(MAX(Q1048:Q1060)<Q1061,Labels!$B$163,INDEX($AH$1047:$AH$1059,MATCH(MAX(Q1048:Q1060),Q1048:Q1060,0))),\"\")","v":""},{"$f":"IF(R1061<>0,IF(MAX(R1048:R1060)<R1061,Labels!$B$163,INDEX($AH$1047:$AH$1059,MATCH(MAX(R1048:R1060),R1048:R1060,0))),\"\")","v":""},{"$f":"IF(S1061<>0,IF(MAX(S1048:S1060)<S1061,Labels!$B$163,INDEX($AH$1047:$AH$1059,MATCH(MAX(S1048:S1060),S1048:S1060,0))),\"\")","v":""},{"$f":"IF(T1061<>0,IF(MAX(T1048:T1060)<T1061,Labels!$B$163,INDEX($AH$1047:$AH$1059,MATCH(MAX(T1048:T1060),T1048:T1060,0))),\"\")","v":""},{"$f":"IF(U1061<>0,IF(MAX(U1048:U1060)<U1061,Labels!$B$163,INDEX($AH$1047:$AH$1059,MATCH(MAX(U1048:U1060),U1048:U1060,0))),\"\")","v":""},{"$f":"IF(V1061<>0,IF(MAX(V1048:V1060)<V1061,Labels!$B$163,INDEX($AH$1047:$AH$1059,MATCH(MAX(V1048:V1060),V1048:V1060,0))),\"\")","v":""},{"$f":"IF(W1061<>0,IF(MAX(W1048:W1060)<W1061,Labels!$B$163,INDEX($AH$1047:$AH$1059,MATCH(MAX(W1048:W1060),W1048:W1060,0))),\"\")","v":""},{"$f":"IF(X1061<>0,IF(MAX(X1048:X1060)<X1061,Labels!$B$163,INDEX($AH$1047:$AH$1059,MATCH(MAX(X1048:X1060),X1048:X1060,0))),\"\")","v":""},{"$f":"IF(Y1061<>0,IF(MAX(Y1048:Y1060)<Y1061,Labels!$B$163,INDEX($AH$1047:$AH$1059,MATCH(MAX(Y1048:Y1060),Y1048:Y1060,0))),\"\")","v":""},{"$f":"IF(Z1061<>0,IF(MAX(Z1048:Z1060)<Z1061,Labels!$B$163,INDEX($AH$1047:$AH$1059,MATCH(MAX(Z1048:Z1060),Z1048:Z1060,0))),\"\")","v":""},{"$f":"IF(AA1061<>0,IF(MAX(AA1048:AA1060)<AA1061,Labels!$B$163,INDEX($AH$1047:$AH$1059,MATCH(MAX(AA1048:AA1060),AA1048:AA1060,0))),\"\")","v":""},{"$f":"IF(AB1061<>0,IF(MAX(AB1048:AB1060)<AB1061,Labels!$B$163,INDEX($AH$1047:$AH$1059,MATCH(MAX(AB1048:AB1060),AB1048:AB1060,0))),\"\")","v":""},{"$f":"IF(AC1061<>0,IF(MAX(AC1048:AC1060)<AC1061,Labels!$B$163,INDEX($AH$1047:$AH$1059,MATCH(MAX(AC1048:AC1060),AC1048:AC1060,0))),\"\")","v":""},{"$f":"IF(AD1061<>0,IF(MAX(AD1048:AD1060)<AD1061,Labels!$B$163,INDEX($AH$1047:$AH$1059,MATCH(MAX(AD1048:AD1060),AD1048:AD1060,0))),\"\")","v":""},{"$f":"IF(AE1061<>0,IF(MAX(AE1048:AE1060)<AE1061,Labels!$B$163,INDEX($AH$1047:$AH$1059,MATCH(MAX(AE1048:AE1060),AE1048:AE1060,0))),\"\")","v":""},null,{"$f":"SUM(B655:AF655)","v":0}]
[{"$f":"$A$15","v":"00.00-06.00h"},null,null,null,null,null,null,null,null,null,null,null,null,null,null,null,null,null,null,null,null,null,null,null,null,null,null,null,null,null,null,null,{"$f":"SUM(B656:AF656)","v":0}]
[{"$f":"$A$16","v":"06.00-20.00h"},null,null,null,null,null,null,null,null,null,null,null,null,null,null,null,null,null,null,null,null,null,null,null,null,null,null,null,null,null,null,null,{"$f":"SUM(B657:AF657)","v":0},"[0]"]
[{"$f":"$A$17","v":"20.00-24.00h"}]
[{"$f":"$A$18","v":"Feiertag \"ft\""},{"$f":"IF(WEEKDAY(B650,2)<=6,IF(KALENDER!E23=\"x\",Labels!$B$118,\"\"),\"\")","v":""},{"$f":"IF(WEEKDAY(C650,2)<=6,IF(KALENDER!F23=\"x\",Labels!$B$118,\"\"),\"\")","v":""},{"$f":"IF(WEEKDAY(D650,2)<=6,IF(KALENDER!G23=\"x\",Labels!$B$118,\"\"),\"\")","v":""},{"$f":"IF(WEEKDAY(E650,2)<=6,IF(KALENDER!H23=\"x\",Labels!$B$118,\"\"),\"\")","v":""},{"$f":"IF(WEEKDAY(F650,2)<=6,IF(KALENDER!I23=\"x\",Labels!$B$118,\"\"),\"\")","v":""},{"$f":"IF(WEEKDAY(G650,2)<=6,IF(KALENDER!J23=\"x\",Labels!$B$118,\"\"),\"\")","v":""},{"$f":"IF(WEEKDAY(H650,2)<=6,IF(KALENDER!K23=\"x\",Labels!$B$118,\"\"),\"\")","v":""},{"$f":"IF(WEEKDAY(I650,2)<=6,IF(KALENDER!L23=\"x\",Labels!$B$118,\"\"),\"\")","v":""},{"$f":"IF(WEEKDAY(J650,2)<=6,IF(KALENDER!M23=\"x\",Labels!$B$118,\"\"),\"\")","v":""},{"$f":"IF(WEEKDAY(K650,2)<=6,IF(KALENDER!N23=\"x\",Labels!$B$118,\"\"),\"\")","v":""},{"$f":"IF(WEEKDAY(L650,2)<=6,IF(KALENDER!O23=\"x\",Labels!$B$118,\"\"),\"\")","v":""},{"$f":"IF(WEEKDAY(M650,2)<=6,IF(KALENDER!P23=\"x\",Labels!$B$118,\"\"),\"\")","v":""},{"$f":"IF(WEEKDAY(N650,2)<=6,IF(KALENDER!Q23=\"x\",Labels!$B$118,\"\"),\"\")","v":""},{"$f":"IF(WEEKDAY(O650,2)<=6,IF(KALENDER!R23=\"x\",Labels!$B$118,\"\"),\"\")","v":""},{"$f":"IF(WEEKDAY(P650,2)<=6,IF(KALENDER!S23=\"x\",Labels!$B$118,\"\"),\"\")","v":""},{"$f":"IF(WEEKDAY(Q650,2)<=6,IF(KALENDER!T23=\"x\",Labels!$B$118,\"\"),\"\")","v":""},{"$f":"IF(WEEKDAY(R650,2)<=6,IF(KALENDER!U23=\"x\",Labels!$B$118,\"\"),\"\")","v":""},{"$f":"IF(WEEKDAY(S650,2)<=6,IF(KALENDER!V23=\"x\",Labels!$B$118,\"\"),\"\")","v":""},{"$f":"IF(WEEKDAY(T650,2)<=6,IF(KALENDER!W23=\"x\",Labels!$B$118,\"\"),\"\")","v":""},{"$f":"IF(WEEKDAY(U650,2)<=6,IF(KALENDER!X23=\"x\",Labels!$B$118,\"\"),\"\")","v":""},{"$f":"IF(WEEKDAY(V650,2)<=6,IF(KALENDER!Y23=\"x\",Labels!$B$118,\"\"),\"\")","v":""},{"$f":"IF(WEEKDAY(W650,2)<=6,IF(KALENDER!Z23=\"x\",Labels!$B$118,\"\"),\"\")","v":""},{"$f":"IF(WEEKDAY(X650,2)<=6,IF(KALENDER!AA23=\"x\",Labels!$B$118,\"\"),\"\")","v":""},{"$f":"IF(WEEKDAY(Y650,2)<=6,IF(KALENDER!AB23=\"x\",Labels!$B$118,\"\"),\"\")","v":""},{"$f":"IF(WEEKDAY(Z650,2)<=6,IF(KALENDER!AC23=\"x\",Labels!$B$118,\"\"),\"\")","v":""},{"$f":"IF(WEEKDAY(AA650,2)<=6,IF(KALENDER!AD23=\"x\",Labels!$B$118,\"\"),\"\")","v":""},{"$f":"IF(WEEKDAY(AB650,2)<=6,IF(KALENDER!AE23=\"x\",Labels!$B$118,\"\"),\"\")","v":""},{"$f":"IF(WEEKDAY(AC650,2)<=6,IF(KALENDER!AF23=\"x\",Labels!$B$118,\"\"),\"\")","v":""},{"$f":"IF(WEEKDAY(AD650,2)<=6,IF(KALENDER!AG23=\"x\",Labels!$B$118,\"\"),\"\")","v":""},{"$f":"IF(WEEKDAY(AE650,2)<=6,IF(KALENDER!AH23=\"x\",Labels!$B$118,\"\"),\"\")","v":""},{"$f":"IF(WEEKDAY(AF650,2)<=6,IF(KALENDER!AI23=\"x\",Labels!$B$118,\"\"),\"\")","v":""},{"$f":"SUM(B659:AF659)","v":0}]
[{"$f":"$A$19","v":"Gutschrift \"ft\""},{"$f":"IF(AND(B658=Labels!$B$118,WEEKDAY(B650,2)<6,B$652<>\"\"),($J$7*5/$AR$54)*$B$647%,\"\")","v":""},{"$f":"IF(AND(C658=Labels!$B$118,WEEKDAY(C650,2)<6,C$652<>\"\"),($J$7*5/$AR$54)*$B$647%,\"\")","v":""},{"$f":"IF(AND(D658=Labels!$B$118,WEEKDAY(D650,2)<6,D$652<>\"\"),($J$7*5/$AR$54)*$B$647%,\"\")","v":""},{"$f":"IF(AND(E658=Labels!$B$118,WEEKDAY(E650,2)<6,E$652<>\"\"),($J$7*5/$AR$54)*$B$647%,\"\")","v":""},{"$f":"IF(AND(F658=Labels!$B$118,WEEKDAY(F650,2)<6,F$652<>\"\"),($J$7*5/$AR$54)*$B$647%,\"\")","v":""},{"$f":"IF(AND(G658=Labels!$B$118,WEEKDAY(G650,2)<6,G$652<>\"\"),($J$7*5/$AR$54)*$B$647%,\"\")","v":""},{"$f":"IF(AND(H658=Labels!$B$118,WEEKDAY(H650,2)<6,H$652<>\"\"),($J$7*5/$AR$54)*$B$647%,\"\")","v":""},{"$f":"IF(AND(I658=Labels!$B$118,WEEKDAY(I650,2)<6,I$652<>\"\"),($J$7*5/$AR$54)*$B$647%,\"\")","v":""},{"$f":"IF(AND(J658=Labels!$B$118,WEEKDAY(J650,2)<6,J$652<>\"\"),($J$7*5/$AR$54)*$B$647%,\"\")","v":""},{"$f":"IF(AND(K658=Labels!$B$118,WEEKDAY(K650,2)<6,K$652<>\"\"),($J$7*5/$AR$54)*$B$647%,\"\")","v":""},{"$f":"IF(AND(L658=Labels!$B$118,WEEKDAY(L650,2)<6,L$652<>\"\"),($J$7*5/$AR$54)*$B$647%,\"\")","v":""},{"$f":"IF(AND(M658=Labels!$B$118,WEEKDAY(M650,2)<6,M$652<>\"\"),($J$7*5/$AR$54)*$B$647%,\"\")","v":""},{"$f":"IF(AND(N658=Labels!$B$118,WEEKDAY(N650,2)<6,N$652<>\"\"),($J$7*5/$AR$54)*$B$647%,\"\")","v":""},{"$f":"IF(AND(O658=Labels!$B$118,WEEKDAY(O650,2)<6,O$652<>\"\"),($J$7*5/$AR$54)*$B$647%,\"\")","v":""},{"$f":"IF(AND(P658=Labels!$B$118,WEEKDAY(P650,2)<6,P$652<>\"\"),($J$7*5/$AR$54)*$B$647%,\"\")","v":""},{"$f":"IF(AND(Q658=Labels!$B$118,WEEKDAY(Q650,2)<6,Q$652<>\"\"),($J$7*5/$AR$54)*$B$647%,\"\")","v":""},{"$f":"IF(AND(R658=Labels!$B$118,WEEKDAY(R650,2)<6,R$652<>\"\"),($J$7*5/$AR$54)*$B$647%,\"\")","v":""},{"$f":"IF(AND(S658=Labels!$B$118,WEEKDAY(S650,2)<6,S$652<>\"\"),($J$7*5/$AR$54)*$B$647%,\"\")","v":""},{"$f":"IF(AND(T658=Labels!$B$118,WEEKDAY(T650,2)<6,T$652<>\"\"),($J$7*5/$AR$54)*$B$647%,\"\")","v":""},{"$f":"IF(AND(U658=Labels!$B$118,WEEKDAY(U650,2)<6,U$652<>\"\"),($J$7*5/$AR$54)*$B$647%,\"\")","v":""},{"$f":"IF(AND(V658=Labels!$B$118,WEEKDAY(V650,2)<6,V$652<>\"\"),($J$7*5/$AR$54)*$B$647%,\"\")","v":""},{"$f":"IF(AND(W658=Labels!$B$118,WEEKDAY(W650,2)<6,W$652<>\"\"),($J$7*5/$AR$54)*$B$647%,\"\")","v":""},{"$f":"IF(AND(X658=Labels!$B$118,WEEKDAY(X650,2)<6,X$652<>\"\"),($J$7*5/$AR$54)*$B$647%,\"\")","v":""},{"$f":"IF(AND(Y658=Labels!$B$118,WEEKDAY(Y650,2)<6,Y$652<>\"\"),($J$7*5/$AR$54)*$B$647%,\"\")","v":""},{"$f":"IF(AND(Z658=Labels!$B$118,WEEKDAY(Z650,2)<6,Z$652<>\"\"),($J$7*5/$AR$54)*$B$647%,\"\")","v":""},{"$f":"IF(AND(AA658=Labels!$B$118,WEEKDAY(AA650,2)<6,AA$652<>\"\"),($J$7*5/$AR$54)*$B$647%,\"\")","v":""},{"$f":"IF(AND(AB658=Labels!$B$118,WEEKDAY(AB650,2)<6,AB$652<>\"\"),($J$7*5/$AR$54)*$B$647%,\"\")","v":""},{"$f":"IF(AND(AC658=Labels!$B$118,WEEKDAY(AC650,2)<6,AC$652<>\"\"),($J$7*5/$AR$54)*$B$647%,\"\")","v":""},{"$f":"IF(AND(AD658=Labels!$B$118,WEEKDAY(AD650,2)<6,AD$652<>\"\"),($J$7*5/$AR$54)*$B$647%,\"\")","v":""},{"$f":"IF(AND(AE658=Labels!$B$118,WEEKDAY(AE650,2)<6,AE$652<>\"\"),($J$7*5/$AR$54)*$B$647%,\"\")","v":""},{"$f":"IF(AND(AF658=Labels!$B$118,WEEKDAY(AF650,2)<6),$J$7*$B$647%,\"\")","v":""}]
[{"$f":"$A$20","v":"Tagestotal"},{"$f":"SUM(B655:B657)","v":0},{"$f":"SUM(C655:C657)","v":0},0,0,0,0,0,0,0,0,0,0,0,0,0,0,0,0,0,0,0,0,0,0,0,0,0,0,0,0]
[{"$f":"$A$21","v":"."}]
[{"$f":"$A$22","v":"."}]
[{"$f":"$A$23","v":"Monatsübergang"},{"$f":"IF(WEEKDAY(B650)=1,TEXT(B650-1,\"MMM\"&Labels!B13),\"\")","v":""},null,null,null,null,null,null,null,null,null,null,null,null,null,null,null,null,null,null,null,null,null,null,null,null,null,null,null,null,{"$f":"IF(AND(WEEKDAY(AE650)>1,WEEKDAY(AE650)<7),TEXT(DATE($B$5,MONTH(AE650)+1,1),\"MMM\"&Labels!B13),\"\")","v":"Dez"}]
[{"$f":"$A$24","v":"Wochentotal"},{"$f":"IF(WEEKDAY(B650)=7,SUMIF($B587:$AF587,B651,$B596:$AF596)+SUMIF($B651:$AF651,B651,$B660:$AF660)+SUMIF($B715:$AF715,B651,$B724:$AF724),B663)","v":""},{"$f":"IF(WEEKDAY(C650)=7,SUMIF($B587:$AF587,C651,$B596:$AF596)+SUMIF($B651:$AF651,C651,$B660:$AF660)+SUMIF($B715:$AF715,C651,$B724:$AF724),\"\")","v":""},"","",0,"","","","","","",0,"","","","","","",0,"","","","","","",0,"","","",{"$f":"IF(WEEKDAY(AE650)=7,SUMIF($B587:$AF587,AE651,$B596:$AF596)+SUMIF($B651:$AF651,AE651,$B660:$AF660)+SUMIF($B715:$AF715,AE651,$B724:$AF724),AE663)","v":"Dez"},null,{"$f":"SUM(B665:AF665)","v":0}]
[{"$f":"$A$25","v":"Zeitzuschlag 1)"},{"$f":"IF(B672=\"FALSCH\",\"\",B672)","v":""},{"$f":"IF(C672=\"FALSCH\",\"\",C672)","v":""},"","","","","","","","","","","","","","","","","","","","","","","","","","","","",null,0,"[1]"]
[{"$f":"$A$26","v":"Zeitzuschlag 2)"},{"$f":"IF((B655+B657)=0,\"\",SUM(B655,B657))","v":""},{"$f":"IF((C655+C657)=0,\"\",SUM(C655,C657))","v":""},"","","","","","","","","","","","","","","","","","","","","","","","","","","","",null,{"$f":"SUM(B667:AF667)","v":0},"[2]"]
[{"$f":"$A$27","v":"Zeitzuschlag 3)"},{"$f":"SUM(B668:B671)","v":0},{"$f":"SUM(C668:C671)","v":0},0,0,0,0,0,0,0,0,0,0,0,0,0,0,0,0,0,0,0,0,0,0,0,0,0,0,0,0,null,0,"[3]"]
[{"$f":"$A$28","v":"Sonntag Tag"},{"$f":"IF(WEEKDAY(B650)=1,B656,\"\")","v":""},{"$f":"IF(WEEKDAY(C650)=1,C656,\"\")","v":""},"","","",0,"","","","","","",0,"","","","","","",0,"","","","","","",0,"","","",null,0,"[4]"]
[{"$f":"$A$29","v":"Sonntag Nacht"},{"$f":"IF(WEEKDAY(B650)=1,SUM(B655+B657),\"\")","v":""},{"$f":"IF(WEEKDAY(C650)=1,SUM(C655+C657),\"\")","v":""},"","","",0,"","","","","","",0,"","","","","","",0,"","","","","","",0,"","","",null,0,"[5]"]
[{"$f":"$A$30","v":"ft-Tazuschlag"},{"$f":"IF(B658=Labels!$B$118,B656,\"\")","v":""},{"$f":"IF(C658=Labels!$B$118,C656,\"\")","v":""},{"$f":"IF(D658=Labels!$B$118,D656,\"\")","v":""},{"$f":"IF(E658=Labels!$B$118,E656,\"\")","v":""},{"$f":"IF(F658=Labels!$B$118,F656,\"\")","v":""},{"$f":"IF(G658=Labels!$B$118,G656,\"\")","v":""},{"$f":"IF(H658=Labels!$B$118,H656,\"\")","v":""},{"$f":"IF(I658=Labels!$B$118,I656,\"\")","v":""},{"$f":"IF(J658=Labels!$B$118,J656,\"\")","v":""},{"$f":"IF(K658=Labels!$B$118,K656,\"\")","v":""},{"$f":"IF(L658=Labels!$B$118,L656,\"\")","v":""},{"$f":"IF(M658=Labels!$B$118,M656,\"\")","v":""},{"$f":"IF(N658=Labels!$B$118,N656,\"\")","v":""},{"$f":"IF(O658=Labels!$B$118,O656,\"\")","v":""},{"$f":"IF(P658=Labels!$B$118,P656,\"\")","v":""},{"$f":"IF(Q658=Labels!$B$118,Q656,\"\")","v":""},{"$f":"IF(R658=Labels!$B$118,R656,\"\")","v":""},{"$f":"IF(S658=Labels!$B$118,S656,\"\")","v":""},{"$f":"IF(T658=Labels!$B$118,T656,\"\")","v":""},{"$f":"IF(U658=Labels!$B$118,U656,\"\")","v":""},{"$f":"IF(V658=Labels!$B$118,V656,\"\")","v":""},{"$f":"IF(W658=Labels!$B$118,W656,\"\")","v":""},{"$f":"IF(X658=Labels!$B$118,X656,\"\")","v":""},{"$f":"IF(Y658=Labels!$B$118,Y656,\"\")","v":""},{"$f":"IF(Z658=Labels!$B$118,Z656,\"\")","v":""},{"$f":"IF(AA658=Labels!$B$118,AA656,\"\")","v":""},{"$f":"IF(AB658=Labels!$B$118,AB656,\"\")","v":""},{"$f":"IF(AC658=Labels!$B$118,AC656,\"\")","v":""},{"$f":"IF(AD658=Labels!$B$118,AD656,\"\")","v":""},{"$f":"IF(AE658=Labels!$B$118,AE656,\"\")","v":""},null,0,"[6]"]
[{"$f":"$A$31","v":"ft-Nazuschlag"},{"$f":"IF(B658=Labels!$B$118,SUM(B655,B657),\"\")","v":""},{"$f":"IF(C658=Labels!$B$118,SUM(C655,C657),\"\")","v":""},{"$f":"IF(D658=Labels!$B$118,SUM(D655,D657),\"\")","v":""},{"$f":"IF(E658=Labels!$B$118,SUM(E655,E657),\"\")","v":""},{"$f":"IF(F658=Labels!$B$118,SUM(F655,F657),\"\")","v":""},{"$f":"IF(G658=Labels!$B$118,SUM(G655,G657),\"\")","v":""},{"$f":"IF(H658=Labels!$B$118,SUM(H655,H657),\"\")","v":""},{"$f":"IF(I658=Labels!$B$118,SUM(I655,I657),\"\")","v":""},{"$f":"IF(J658=Labels!$B$118,SUM(J655,J657),\"\")","v":""},{"$f":"IF(K658=Labels!$B$118,SUM(K655,K657),\"\")","v":""},{"$f":"IF(L658=Labels!$B$118,SUM(L655,L657),\"\")","v":""},{"$f":"IF(M658=Labels!$B$118,SUM(M655,M657),\"\")","v":""},{"$f":"IF(N658=Labels!$B$118,SUM(N655,N657),\"\")","v":""},{"$f":"IF(O658=Labels!$B$118,SUM(O655,O657),\"\")","v":""},{"$f":"IF(P658=Labels!$B$118,SUM(P655,P657),\"\")","v":""},{"$f":"IF(Q658=Labels!$B$118,SUM(Q655,Q657),\"\")","v":""},{"$f":"IF(R658=Labels!$B$118,SUM(R655,R657),\"\")","v":""},{"$f":"IF(S658=Labels!$B$118,SUM(S655,S657),\"\")","v":""},{"$f":"IF(T658=Labels!$B$118,SUM(T655,T657),\"\")","v":""},{"$f":"IF(U658=Labels!$B$118,SUM(U655,U657),\"\")","v":""},{"$f":"IF(V658=Labels!$B$118,SUM(V655,V657),\"\")","v":""},{"$f":"IF(W658=Labels!$B$118,SUM(W655,W657),\"\")","v":""},{"$f":"IF(X658=Labels!$B$118,SUM(X655,X657),\"\")","v":""},{"$f":"IF(Y658=Labels!$B$118,SUM(Y655,Y657),\"\")","v":""},{"$f":"IF(Z658=Labels!$B$118,SUM(Z655,Z657),\"\")","v":""},{"$f":"IF(AA658=Labels!$B$118,SUM(AA655,AA657),\"\")","v":""},{"$f":"IF(AB658=Labels!$B$118,SUM(AB655,AB657),\"\")","v":""},{"$f":"IF(AC658=Labels!$B$118,SUM(AC655,AC657),\"\")","v":""},{"$f":"IF(AD658=Labels!$B$118,SUM(AD655,AD657),\"\")","v":""},{"$f":"IF(AE658=Labels!$B$118,SUM(AE655,AE657),\"\")","v":""},null,{"$f":"AG655","v":0},"[7]"]
[{"$f":"$A$32","v":"Zuschlag  blind (Wochentotal)"},{"$f":"IF(OR(ISTEXT(B664),B664=\"\",B664<$B$7),\"\",ROUND(((B664-$B$7)*25%)/25,4)*25)","v":""},{"$f":"IF(OR(ISTEXT(C664),C664=\"\",C664<$B$7),\"\",ROUND(((C664-$B$7)*25%)/25,4)*25)","v":""},"","","","","","","","","","","","","","","","","","","","","","","","","","","","",null,{"$f":"SUM(AG654+AG656)","v":0},"[8]"]
[null,{"$f":"$B$33","v":"1)   25% Zeitzuschlag für Überschreitung Wochentotal"},null,null,null,null,null,null,null,null,null,{"$f":"$L$33","v":"2) 100% Zeitzuschlag für Nachtarbeit"},null,null,null,null,null,null,null,null,null,null,null,null,null,null,null,null,null,null,null,null,{"$f":"SUM(AG654:AG656)","v":0},"[9]"]
[null,{"$f":"$B$34","v":"3) 100% Zeitzuschlag für Sonn- und Feiertagsarbeit"},null,null,null,null,null,null,null,null,null,null,null,null,null,null,null,null,null,{"$f":"$T$34","v":"Eingabe der ausbezahlten Stunden laufendes Jahr (Überstunden)"},null,null,null,null,null,null,null,null,null,null,null,null,{"$f":"SUM(AG652+AG658)","v":0},"[10]"]
[{"$f":"$A$35","v":"Bemerkungen"},null,null,null,null,null,null,null,null,null,null,null,null,null,null,null,null,null,null,null,null,null,null,null,null,null,null,null,null,null,null,null,{"$f":"SUM(AG652:AG666)","v":0},"[11]"]
[null,null,null,null,null,null,null,null,null,null,null,null,null,null,null,null,null,null,null,null,null,null,null,null,null,null,null,null,null,null,null,null,{"$f":"AG651","v":176}]
[null,null,null,null,null,null,null,null,null,null,null,null,null,null,null,null,null,null,null,null,null,null,null,null,null,null,null,null,null,null,null,null,{"$f":"SUM(AG675-AG651)","v":-176}]
[]
[{"$f":"$A$39","v":"Zusammenstellung"},null,null,null,null,null,{"$f":"$G$39","v":"Jan"},null,{"$f":"$I$39","v":"Feb"},null,{"$f":"$K$39","v":"Mrz"},null,{"$f":"$M$39","v":"Apr"},null,{"$f":"$O$39","v":"Mai"},null,{"$f":"$Q$39","v":"Jun"},null,{"$f":"$S$39","v":"Jul"},null,{"$f":"$U$39","v":"Aug"},null,{"$f":"$W$39","v":"Sep"},null,{"$f":"$Y$39","v":"Okt"},null,{"$f":"$AA$39","v":"Nov"},null,{"$f":"$AC$39","v":"Dez"},null,{"$f":"$AE$39","v":"Jahr"}]
[{"$f":"$A$40","v":"Anstellung %"},null,null,null,null,null,{"$f":"IF($B$4=0,0,$B$4)","v":100},null,{"$f":"IF($B$71=0,0,$B$71)","v":100},null,{"$f":"IF($B$135=0,0,$B$135)","v":100},null,{"$f":"IF($B$199=0,0,$B$199)","v":100},null,{"$f":"IF($B$263=0,0,$B$263)","v":100},null,{"$f":"IF($B$327=0,0,$B$327)","v":100},null,{"$f":"IF($B$391=0,0,$B$391)","v":100},null,{"$f":"IF($B$455=0,0,$B$455)","v":100},null,{"$f":"IF($B$519=0,0,$B$519)","v":100},null,{"$f":"IF($B$583=0,0,$B$583)","v":100},null,{"$f":"IF($B$647=0,0,$B$647)","v":100},null,{"$f":"IF($B$711=0,0,$B$711)","v":100}]
[{"$f":"$A$41","v":"Sollstunden gemäss GAV"},null,null,null,null,null,{"$f":"IF($AG$37=0,0,$AG$37)","v":168},null,{"$f":"IF($AG$100=0,0,$AG$100)","v":160},null,{"$f":"IF($AG$139=0,0,$AG$139)","v":184},null,{"$f":"IF($AG$228=0,0,$AG$228)","v":168},null,{"$f":"IF($AG$292=0,0,$AG$292)","v":176},null,{"$f":"IF($AG$356=0,0,$AG$356)","v":176},null,{"$f":"IF($AG$420=0,0,$AG$420)","v":168},null,{"$f":"IF($AG$484=0,0,$AG$484)","v":184},null,{"$f":"IF($AG$548=0,0,$AG$548)","v":176},null,{"$f":"IF($AG$612=0,0,$AG$612)","v":168},null,{"$f":"IF($AG$676=0,0,$AG$676)","v":176},null,{"$f":"IF($AG$740=0,0,$AG$740)","v":176},null,{"$f":"SUM(G681:AD681)","v":2080}]
[{"$f":"$A$42","v":"Produktive Stunden"},{"$f":"$B$42","v":"06.00 - 20.00 Uhr"},null,null,null,null,{"$f":"IF($AG$32=0,0,$AG$32)","v":0},null,{"$f":"IF($AG$95=0,0,$AG$95)","v":0},null,{"$f":"IF($AG$159=0,0,$AG$159)","v":0},null,{"$f":"IF($AG$223=0,0,$AG$223)","v":0},null,{"$f":"IF($AG$287=0,0,$AG$287)","v":0},null,{"$f":"IF($AG$351=0,0,$AG$351)","v":0},null,{"$f":"IF($AG$415=0,0,$AG$415)","v":0},null,{"$f":"IF($AG$479=0,0,$AG$479)","v":0},null,{"$f":"IF($AG$543=0,0,$AG$543)","v":0},null,{"$f":"IF($AG$607=0,0,$AG$607)","v":0},null,{"$f":"IF($AG$671=0,0,$AG$671)","v":0},null,{"$f":"IF($AG$735=0,0,$AG$735)","v":0},null,{"$f":"SUM(G682:AD682)","v":0}]
[null,{"$f":"$B$43","v":"Nacht-, Sonn-, Feiertagsarbeit"},null,null,null,null,{"$f":"IF($AG$33=0,0,$AG$33)","v":0},null,{"$f":"IF($AG$96=0,0,$AG$96)","v":0},null,{"$f":"IF($AG$160=0,0,$AG$160)","v":0},null,{"$f":"IF($AG$224=0,0,$AG$224)","v":0},null,{"$f":"IF($AG$288=0,0,$AG$288)","v":0},null,{"$f":"IF($AG$352=0,0,$AG$352)","v":0},null,{"$f":"IF($AG$416=0,0,$AG$416)","v":0},null,{"$f":"IF($AG$480=0,0,$AG$480)","v":0},null,{"$f":"IF($AG$544=0,0,$AG$544)","v":0},null,{"$f":"IF($AG$608=0,0,$AG$608)","v":0},null,{"$f":"IF($AG$672=0,0,$AG$672)","v":0},null,{"$f":"IF($AG$736=0,0,$AG$736)","v":0},null,{"$f":"SUM(G683:AD683)","v":0}]
[{"$f":"$A$44","v":"Zeitzuschläge"},{"$f":"$B$44","v":"aus Wochentotal"},null,null,null,null,{"$f":"IF($AG$25=0,0,$AG$25)","v":0},null,{"$f":"IF($AG$88=0,0,$AG$88)","v":0},null,{"$f":"IF($AG$152=0,0,$AG$152)","v":0},null,{"$f":"IF($AG$216=0,0,$AG$216)","v":0},null,{"$f":"IF($AG$280=0,0,$AG$280)","v":0},null,{"$f":"IF($AG$344=0,0,$AG$344)","v":0},null,{"$f":"IF($AG$408=0,0,$AG$408)","v":0},null,{"$f":"IF($AG$472=0,0,$AG$472)","v":0},null,{"$f":"IF($AG$536=0,0,$AG$536)","v":0},null,{"$f":"IF($AG$600=0,0,$AG$600)","v":0},null,{"$f":"IF($AG$664=0,0,$AG$664)","v":0},null,{"$f":"IF($AG$728=0,0,$AG$728)","v":0},null,{"$f":"SUM(G684:AD684)","v":0}]
[null,{"$f":"$B$45","v":"aus Nacht-, Sonn-, Feiertagsarbeiten"},null,null,null,null,{"$f":"IF($AJ$21=0,0,$AJ$21)","v":0},null,{"$f":"IF($AK$21=0,0,$AK$21)","v":0},null,{"$f":"IF($AL$21=0,0,$AL$21)","v":0},null,{"$f":"IF($AM$21=0,0,$AM$21)","v":0},null,{"$f":"IF($AN$21=0,0,$AN$21)","v":0},null,{"$f":"IF($AO$21=0,0,$AO$21)","v":0},null,{"$f":"IF($AP$21=0,0,$AP$21)","v":0},null,{"$f":"IF($AQ$21=0,0,$AQ$21)","v":0},null,{"$f":"IF($AR$21=0,0,$AR$21)","v":0},null,{"$f":"IF($AS$21=0,0,$AS$21)","v":0},null,{"$f":"IF($AT$21=0,0,$AT$21)","v":0},null,{"$f":"IF($AU$21=0,0,$AU$21)","v":0},null,{"$f":"SUM(G685:AD685)","v":0}]
[{"$f":"$A$46","v":"Unproduktive Stunden"}]
[{"$f":"$A$47","v":"   Absenzen, Kurzabsenzen Art. 11 GAV"},null,null,null,null,{"$f":"$F$47","v":"a"},{"$f":"IF($AJ$3=0,0,$AJ$3)","v":0},null,{"$f":"IF($AK$3=0,0,$AK$3)","v":0},null,{"$f":"IF($AL$3=0,0,$AL$3)","v":0},null,{"$f":"IF($AM$3=0,0,$AM$3)","v":0},null,{"$f":"IF($AN$3=0,0,$AN$3)","v":0},null,{"$f":"IF($AO$3=0,0,$AO$3)","v":0},null,{"$f":"IF($AP$3=0,0,$AP$3)","v":0},null,{"$f":"IF($AQ$3=0,0,$AQ$3)","v":0},null,{"$f":"IF($AR$3=0,0,$AR$3)","v":0},null,{"$f":"IF($AS$3=0,0,$AS$3)","v":0},null,{"$f":"IF(AT$3=0,0,$AT$3)","v":0},null,{"$f":"IF($AU$3=0,0,$AU$3)","v":0},null,{"$f":"IF($AV$3=0,0,$AV$3)","v":0}]
[{"$f":"$A$48","v":"   Ferien Art. 12.1 GAV"},null,null,null,null,{"$f":"$F$48","v":"f"},{"$f":"IF($AJ$4=0,0,$AJ$4)","v":0},null,{"$f":"IF($AK$4=0,0,$AK$4)","v":0},null,{"$f":"IF($AL$4=0,0,$AL$4)","v":0},null,{"$f":"IF($AM$4=0,0,$AM$4)","v":0},null,{"$f":"IF($AN$4=0,0,$AN$4)","v":0},null,{"$f":"IF($AO$4=0,0,$AO$4)","v":0},null,{"$f":"IF($AP$4=0,0,$AP$4)","v":0},null,{"$f":"IF($AQ$4=0,0,$AQ$4)","v":0},null,{"$f":"IF($AR$4=0,0,$AR$4)","v":0},null,{"$f":"IF($AS$4=0,0,$AS$4)","v":0},null,{"$f":"IF($AT$4=0,0,$AT$4)","v":0},null,{"$f":"IF($AU$4=0,0,$AU$4)","v":0},null,{"$f":"IF($AV$4=0,0,$AV$4)","v":0}]
[{"$f":"Labels!$B$181","v":"   Ferien unbezahlt"},null,null,null,null,{"$f":"Labels!$B$182","v":"fu"},{"$f":"IF($AJ$13=0,0,$AJ$13)","v":0},null,{"$f":"IF($AK$13=0,0,$AK$13)","v":0},null,{"$f":"IF($AL$13=0,0,$AL$13)","v":0},null,{"$f":"IF($AM$13=0,0,$AM$13)","v":0},null,{"$f":"IF($AN$13=0,0,$AN$13)","v":0},null,{"$f":"IF($AO$13=0,0,$AO$13)","v":0},null,{"$f":"IF($AP$13=0,0,$AP$13)","v":0},null,{"$f":"IF($AQ$13=0,0,$AQ$13)","v":0},null,{"$f":"IF($AR$13=0,0,$AR$13)","v":0},null,{"$f":"IF($AS$13=0,0,$AS$13)","v":0},null,{"$f":"IF($AT$13=0,0,$AT$13)","v":0},null,{"$f":"IF($AU$13=0,0,$AU$13)","v":0},null,{"$f":"IF($AV$13=0,0,$AV$13)","v":0}]
[{"$f":"$A$50","v":"   Feiertage Art. 12.2 GAV"},null,{"$f":"IF($AJ$18=\"\",\"\",$AJ$18)","v":""},null,null,{"$f":"$F$50","v":"ft"},{"$f":"IF($AJ$16=0,0,$AJ$16)","v":0},null,{"$f":"IF($AK$16=0,0,$AK$16)","v":0},null,{"$f":"IF($AL$16=0,0,$AL$16)","v":0},null,{"$f":"IF($AM$16=0,0,$AM$16)","v":0},null,{"$f":"IF($AN$16=0,0,$AN$16)","v":0},null,{"$f":"IF($AO$16=0,0,$AO$16)","v":0},null,{"$f":"IF($AP$16=0,0,$AP$16)","v":0},null,{"$f":"IF($AQ$16=0,0,$AQ$16)","v":0},null,{"$f":"IF($AR$16=0,0,$AR$16)","v":0},null,{"$f":"IF($AS$16=0,0,$AS$16)","v":0},null,{"$f":"IF($AT$16=0,0,$AT$16)","v":0},null,{"$f":"IF($AU$16=0,0,$AU$16)","v":0},null,{"$f":"IF($AV$16=0,0,$AV$16)","v":0}]
[{"$f":"$A$51","v":"   Krankheit Art. 13 GAV"},null,null,null,null,{"$f":"$F$51","v":"k"},{"$f":"IF($AJ$5=0,0,$AJ$5)","v":0},null,{"$f":"IF($AK$5=0,0,$AK$5)","v":0},null,{"$f":"IF($AL$5=0,0,$AL$5)","v":0},null,{"$f":"IF($AM$5=0,0,$AM$5)","v":0},null,{"$f":"IF($AN$5=0,0,$AN$5)","v":0},null,{"$f":"IF($AO$5=0,0,$AO$5)","v":0},null,{"$f":"IF($AP$5=0,0,$AP$5)","v":0},null,{"$f":"IF($AQ$5=0,0,$AQ$5)","v":0},null,{"$f":"IF($AR$5=0,0,$AR$5)","v":0},null,{"$f":"IF($AS$5=0,0,$AS$5)","v":0},null,{"$f":"IF($AT$5=0,0,$AT$5)","v":0},null,{"$f":"IF($AU$5=0,0,$AU$5)","v":0},null,{"$f":"IF($AV$5=0,0,$AV$5)","v":0}]
[{"$f":"$A$52","v":"   Unfall Art. 14 GAV"},null,null,null,null,{"$f":"$F$52","v":"u"},{"$f":"IF($AJ$6=0,0,$AJ$6)","v":0},null,{"$f":"IF($AK$6=0,0,$AK$6)","v":0},null,{"$f":"IF($AL$6=0,0,$AL$6)","v":0},null,{"$f":"IF($AM$6=0,0,$AM$6)","v":0},null,{"$f":"IF($AN$6=0,0,$AN$6)","v":0},null,{"$f":"IF($AO$6=0,0,$AO$6)","v":0},null,{"$f":"IF($AP$6=0,0,$AP$6)","v":0},null,{"$f":"IF($AQ$6=0,0,$AQ$6)","v":0},null,{"$f":"IF($AR$6=0,0,$AR$6)","v":0},null,{"$f":"IF($AS$6=0,0,$AS$6)","v":0},null,{"$f":"IF($AT$6=0,0,$AT$6)","v":0},null,{"$f":"IF($AU$6=0,0,$AU$6)","v":0},null,{"$f":"IF($AV$6=0,0,$AV$6)","v":0}]
[{"$f":"$A$53","v":"   Schwangerschaft/Mutterschaft Art. 15 GAV"},null,null,null,null,{"$f":"$F$53","v":"s"},{"$f":"IF($AJ$7=0,0,$AJ$7)","v":0},null,{"$f":"IF($AK$7=0,0,$AK$7)","v":0},null,{"$f":"IF($AL$7=0,0,$AL$7)","v":0},null,{"$f":"IF($AM$7=0,0,$AM$7)","v":0},null,{"$f":"IF($AN$7=0,0,$AN$7)","v":0},null,{"$f":"IF($AO$7=0,0,$AO$7)","v":0},null,{"$f":"IF($AP$7=0,0,$AP$7)","v":0},null,{"$f":"IF($AQ$7=0,0,$AQ$7)","v":0},null,{"$f":"IF($AR$7=0,0,$AR$7)","v":0},null,{"$f":"IF($AS$7=0,0,$AS$7)","v":0},null,{"$f":"IF($AT$7=0,0,$AT$7)","v":0},null,{"$f":"IF($AU$7=0,0,$AU$7)","v":0},null,{"$f":"IF($AV$7=0,0,$AV$7)","v":0}]
[{"$f":"$A$54","v":"   Militär/Beförderung/Zivilschutz Art. 16 GAV"},null,null,null,null,{"$f":"$F$54","v":"m"},{"$f":"IF($AJ$8=0,0,$AJ$8)","v":0},null,{"$f":"IF($AK$8=0,0,$AK$8)","v":0},null,{"$f":"IF($AL$8=0,0,$AL$8)","v":0},null,{"$f":"IF($AM$8=0,0,$AM$8)","v":0},null,{"$f":"IF($AN$8=0,0,$AN$8)","v":0},null,{"$f":"IF($AO$8=0,0,$AO$8)","v":0},null,{"$f":"IF($AP$8=0,0,$AP$8)","v":0},null,{"$f":"IF($AQ$8=0,0,$AQ$8)","v":0},null,{"$f":"IF($AR$8=0,0,$AR$8)","v":0},null,{"$f":"IF($AS$8=0,0,$AS$8)","v":0},null,{"$f":"IF($AT$8=0,0,$AT$8)","v":0},null,{"$f":"IF($AU$8=0,0,$AU$8)","v":0},null,{"$f":"IF($AV$8=0,0,$AV$8)","v":0}]
[{"$f":"$A$55","v":"   Kurzarbeit und Schlechtwetterausfälle"},null,null,null,null,{"$f":"$F$55","v":"ka"},{"$f":"IF($AJ$11=0,0,$AJ$11)","v":0},null,{"$f":"IF($AK$11=0,0,$AK$11)","v":0},null,{"$f":"IF($AL$11=0,0,$AL$11)","v":0},null,{"$f":"IF($AM$11=0,0,$AM$11)","v":0},null,{"$f":"IF($AN$11=0,0,$AN$11)","v":0},null,{"$f":"IF($AO$11=0,0,$AO$11)","v":0},null,{"$f":"IF($AP$11=0,0,$AP$11)","v":0},null,{"$f":"IF($AQ$11=0,0,$AQ$11)","v":0},null,{"$f":"IF($AR$11=0,0,$AR$11)","v":0},null,{"$f":"IF($AS$11=0,0,$AS$11)","v":0},null,{"$f":"IF($AT$11=0,0,$AT$11)","v":0},null,{"$f":"IF($AU$11=0,0,$AU$11)","v":0},null,{"$f":"IF($AV$11=0,0,$AV$11)","v":0}]
[{"$f":"$A$56","v":"   Berufsschule"},null,null,null,null,{"$f":"$F$56","v":"bs"},{"$f":"IF($AJ$9=0,0,$AJ$9)","v":0},null,{"$f":"IF($AK$9=0,0,$AK$9)","v":0},null,{"$f":"IF($AL$9=0,0,$AL$9)","v":0},null,{"$f":"IF($AM$9=0,0,$AM$9)","v":0},null,{"$f":"IF($AN$9=0,0,$AN$9)","v":0},null,{"$f":"IF($AO$9=0,0,$AO$9)","v":0},null,{"$f":"IF($AP$9=0,0,$AP$9)","v":0},null,{"$f":"IF($AQ$9=0,0,$AQ$9)","v":0},null,{"$f":"IF($AR$9=0,0,$AR$9)","v":0},null,{"$f":"IF($AS$9=0,0,$AS$9)","v":0},null,{"$f":"IF($AT$9=0,0,$AT$9)","v":0},null,{"$f":"IF($AU$9=0,0,$AU$9)","v":0},null,{"$f":"IF($AV$9=0,0,$AV$9)","v":0}]
[{"$f":"$A$57","v":"   Kurse"},null,null,null,null,{"$f":"$F$57","v":"ku"},{"$f":"IF($AJ$10=0,0,$AJ$10)","v":0},null,{"$f":"IF($AK$10=0,0,$AK$10)","v":0},null,{"$f":"IF($AL$10=0,0,$AL$10)","v":0},null,{"$f":"IF($AM$10=0,0,$AM$10)","v":0},null,{"$f":"IF($AN$10=0,0,$AN$10)","v":0},null,{"$f":"IF($AO$10=0,0,$AO$10)","v":0},null,{"$f":"IF($AP$10=0,0,$AP$10)","v":0},null,{"$f":"IF($AQ$10=0,0,$AQ$10)","v":0},null,{"$f":"IF($AR$10=0,0,$AR$10)","v":0},null,{"$f":"IF($AS$10=0,0,$AS$10)","v":0},null,{"$f":"IF($AT$10=0,0,$AT$10)","v":0},null,{"$f":"IF($AU$10=0,0,$AU$10)","v":0},null,{"$f":"IF($AV$10=0,0,$AV$10)","v":0}]
[{"$f":"$A$58","v":"Kompensations-Std"},{"$f":"$B$58","v":"aus Vorjahr"},null,null,null,{"$f":"$F$58","v":"kv"},{"$f":"IF($AJ$12=0,0,$AJ$12)","v":0},null,{"$f":"IF($AK$12=0,0,$AK$12)","v":0},null,{"$f":"IF($AL$12=0,0,$AL$12)","v":0},null,{"$f":"IF($AM$12=0,0,$AM$12)","v":0},null,{"$f":"IF($AN$12=0,0,$AN$12)","v":0},null,{"$f":"IF($AO$12=0,0,$AO$12)","v":0},null,{"$f":"IF($AP$12=0,0,$AP$12)","v":0},null,{"$f":"IF($AQ$12=0,0,$AQ$12)","v":0},null,{"$f":"IF($AR$12=0,0,$AR$12)","v":0},null,null,null,null,null,null,null,{"$f":"IF($AV$12=0,0,$AV$12)","v":0}]
[null,{"$f":"$B$59","v":"aus laufendem Jahr (Kontrolle)"},null,null,null,{"$f":"$F$59","v":"kj"},{"$f":"IF($AJ$15=0,0,$AJ$15)","v":0},null,{"$f":"IF($AK$15=0,0,$AK$15)","v":0},null,{"$f":"IF($AL$15=0,0,$AL$15)","v":0},null,{"$f":"IF($AM$15=0,0,$AM$15)","v":0},null,{"$f":"IF($AN$15=0,0,$AN$15)","v":0},null,{"$f":"IF($AO$15=0,0,$AO$15)","v":0},null,{"$f":"IF($AP$15=0,0,$AP$15)","v":0},null,{"$f":"IF($AQ$15=0,0,$AQ$15)","v":0},null,{"$f":"IF($AR$15=0,0,$AR$15)","v":0},null,{"$f":"IF($AS$15=0,0,$AS$15)","v":0},null,{"$f":"IF($AT$15=0,0,$AT$15)","v":0},null,{"$f":"IF($AU$15=0,0,$AU$15)","v":0},null,{"$f":"IF($AV$15=0,0,$AV$15)","v":0}]
[{"$f":"$A$60","v":"Auszahlung"},{"$f":"$B$60","v":"Stunden Vorjahressaldo"},null,null,null,null,{"$f":"IF($AJ$19=0,0,$AJ$19)","v":0},null,{"$f":"IF($AK$19=0,0,$AK$19)","v":0},null,{"$f":"IF($AL$19=0,0,$AL$19)","v":0},null,{"$f":"IF($AM$19=0,0,$AM$19)","v":0},null,{"$f":"IF($AN$19=0,0,$AN$19)","v":0},null,{"$f":"IF($AO$19=0,0,$AO$19)","v":0},null,{"$f":"IF($AP$19=0,0,$AP$19)","v":0},null,{"$f":"IF($AQ$19=0,0,$AQ$19)","v":0},null,{"$f":"IF($AR$19=0,0,$AR$19)","v":0},null,null,null,null,null,null,null,{"$f":"IF($AV$19=0,0,$AV$19)","v":0}]
[{"$f":"$A$61","v":"Differenz"},{"$f":"$B$61","v":"nach Kompensation und Auszahlung"},null,null,null,null,{"$f":"IF(ROUND($P$4,3)=0,0,$P$4-SUM(G698+G700))","v":0},null,{"$f":"IF(ROUND(G701,3)=0,0,G701-(SUM(I700+I698)))","v":0},null,{"$f":"IF(ROUND(I701,3)=0,0,I701-(SUM(K700+K698)))","v":0},null,{"$f":"IF(ROUND(K701,3)=0,0,K701-(SUM(M700+M698)))","v":0},null,{"$f":"IF(ROUND(M701,3)=0,0,M701-(SUM(O700+O698)))","v":0},null,{"$f":"IF(ROUND(O701,3)=0,0,O701-(SUM(Q700+Q698)))","v":0},null,{"$f":"IF(ROUND(Q701,3)=0,0,Q701-(SUM(S700+S698)))","v":0},null,{"$f":"IF(ROUND(S701,3)=0,0,S701-(SUM(U700+U698)))","v":0},null,{"$f":"IF(ROUND(U701,3)=0,0,U701-(SUM(W700+W698)))","v":0},null,{"$f":"$Y$61","v":""}]
[{"$f":"$A$62","v":"Auszahlung"},{"$f":"$B$62","v":"Stunden laufendes Jahr"},null,null,null,null,{"$f":"IF($AJ$20=0,0,$AJ$20)","v":0},null,{"$f":"IF($AK$20=0,0,$AK$20)","v":0},null,{"$f":"IF($AL$20=0,0,$AL$20)","v":0},null,{"$f":"IF($AM$20=0,0,$AM$20)","v":0},null,{"$f":"IF($AN$20=0,0,$AN$20)","v":0},null,{"$f":"IF($AO$20=0,0,$AO$20)","v":0},null,{"$f":"IF($AP$20=0,0,$AP$20)","v":0},null,{"$f":"IF($AQ$20=0,0,$AQ$20)","v":0},null,{"$f":"IF($AR$20=0,0,$AR$20)","v":0},null,{"$f":"IF($AS$20=0,0,$AS$20)","v":0},null,{"$f":"IF($AT$20=0,0,$AT$20)","v":0},null,{"$f":"IF($AU$20=0,0,$AU$20)","v":0},null,{"$f":"IF($AV$20=0,0,$AV$20)","v":0}]
[{"$f":"$A$63","v":"Fehlstunden"},{"$f":"$B$63","v":"laufendes Jahr (Kontrolle)"},null,null,null,{"$f":"$F$63","v":"fe"},{"$f":"IF($AJ$14=0,0,$AJ$14)","v":0},null,{"$f":"IF($AK$14=0,0,$AK$14)","v":0},null,{"$f":"IF($AL$14=0,0,$AL$14)","v":0},null,{"$f":"IF($AM$14=0,0,$AM$14)","v":0},null,{"$f":"IF($AN$14=0,0,$AN$14)","v":0},null,{"$f":"IF($AO$14=0,0,$AO$14)","v":0},null,{"$f":"IF($AP$14=0,0,$AP$14)","v":0},null,{"$f":"IF($AQ$14=0,0,$AQ$14)","v":0},null,{"$f":"IF($AR$14=0,0,$AR$14)","v":0},null,{"$f":"IF($AS$14=0,0,$AS$14)","v":0},null,{"$f":"IF($AT$14=0,0,$AT$14)","v":0},null,{"$f":"IF($AU$14=0,0,$AU$14)","v":0},null,{"$f":"IF($AV$14=0,0,$AV$14)","v":0}]
[{"$f":"$A$64","v":"Total inkl. Zeitzuschläge"},{"$f":"$B$64","v":"Stunden produktiv und unproduktiv"},null,null,null,null,{"$f":"IF($AG$36=0,0,$AG$36)","v":0},null,{"$f":"IF($AG$99=0,0,$AG$99)","v":0},null,{"$f":"IF($AG$163=0,0,$AG$163)","v":0},null,{"$f":"IF($AG$227=0,0,$AG$227)","v":0},null,{"$f":"IF($AG$291=0,0,$AG$291)","v":0},null,{"$f":"IF($AG$355=0,0,$AG$355)","v":0},null,{"$f":"IF($AG$419=0,0,$AG$419)","v":0},null,{"$f":"IF($AG$483=0,0,$AG$483)","v":0},null,{"$f":"IF($AG$547=0,0,$AG$547)","v":0},null,{"$f":"IF($AG$611=0,0,$AG$611)","v":0},null,{"$f":"IF($AG$675=0,0,$AG$675)","v":0},null,{"$f":"IF($AG$739=0,0,$AG$739)","v":0},null,{"$f":"SUM($G$64:$AD$64)","v":0}]
[{"$f":"$A$65","v":"Vergleich"},{"$f":"$B$65","v":"Stunden zu Soll-Stunden (inkl. allfälli-\nge Minusstunden Vorjahr)"},null,null,null,null,{"$f":"$G$65","v":-168},null,{"$f":"$I$65","v":-160},null,{"$f":"$K$65","v":-184},null,{"$f":"$M$65","v":-168},null,{"$f":"$O$65","v":-176},null,{"$f":"$Q$65","v":-176},null,{"$f":"$S$65","v":-168},null,{"$f":"$U$65","v":-184},null,{"$f":"$W$65","v":-176},null,{"$f":"$Y$65","v":-168},null,{"$f":"$AA$65","v":-176},null,{"$f":"$AC$65","v":-176},null,{"$f":"$AE$65","v":-2080}]
[null,{"$f":"$B$66","v":"Stunden zu Soll-Stunden (kumuliert)"},null,null,null,null,{"$f":"$G$66","v":-168},null,{"$f":"$I$66","v":-328},null,{"$f":"$K$66","v":-512},null,{"$f":"$M$66","v":-680},null,{"$f":"$O$66","v":-856},null,{"$f":"$Q$66","v":-1032},null,{"$f":"$S$66","v":-1200},null,{"$f":"$U$66","v":-1384},null,{"$f":"$W$66","v":-1560},null,{"$f":"$Y$66","v":-1728},null,{"$f":"$AA$66","v":-1904},null,{"$f":"$AC$66","v":-2080},null,{"$f":"$AE$66","v":0}]
[{"$f":"$A$67","v":"Ferienkontrolle"},{"$f":"$B$67","v":"Ferienguthaben Vorjahr"},null,null,null,null,{"$f":"IF($AA$4=0,0,$AA$4)","v":0},null,{"$f":"$I$67","v":"Ferienguthaben nach \nArt. 12.1 GAV"},null,null,null,{"$f":"IF($AA$5=0,0,$AA$5)","v":0},null,{"$f":"$O$67","v":"Ferienguthaben total"},null,null,null,{"$f":"SUM(G707+M707)","v":0},null,{"$f":"$U$67","v":"Ferien bezogen"},null,null,null,{"$f":"IF($AV$4=0,0,$AV$4)","v":0},null,{"$f":"$AA$67","v":"Aktuelles Ferienguthaben"},null,null,null,{"$f":"IF(S707=0,0,S707-Y707)","v":0}]
[]
[]
[{"$f":"$A$3","v":"Mitarbeiter/In"},{"$f":"IF($B$3=\"\",\"\",$B$3)","v":"Muster Peter"},null,null,null,null,null,null,null,null,null,null,null,null,null,null,null,null,null,null,null,null,null,null,null,null,null,null,null,null,null,{"$f":"AF3","v":0}]
[{"$f":"$A$4","v":"Anstellung %"},{"$f":"$AL$55","v":100},null,{"$f":"Labels!B100","v":"im Dezember"}]
[{"$f":"$A$5","v":"Saldo für das Jahr"},null,null,{"$f":"IF($AE$65=0,0,$AE$65)","v":-2080}]
[{"$f":"TEXT(DATE(YEAR(AP29),MONTH(AP29)+11,1),\"MMMM\"&Labels!B13)","v":"Dezember"},{"$f":"$B$9","v":"Saldo Monat + / -"},null,null,null,{"$f":"(AG715-(SUM(AG716:AG730)-AE738))*-1","v":-176},null,null,null,null,{"$f":"$K$9","v":" = "},{"$f":"$L$9","v":"Gelbe Felder müssen ausgefüllt werden (die übrigen werden automatisch berechnet)"},null,null,null,null,null,null,null,null,null,null,null,null,null,null,null,null,null,null,null,null,{"$f":"COUNT(B716:AF716)&\" \"&Labels!$B$63","v":"22 Tage"}]
[{"$f":"$A$10","v":"Tag"},{"$f":"AE650+1","v":"2022-12-01"},{"$f":"B714+1","v":"2022-12-02"},{"$f":"C714+1","v":"2022-12-03"},"2022-12-04","2022-12-05","2022-12-06","2022-12-07","2022-12-08","2022-12-09","2022-12-10","2022-12-11","2022-12-12","2022-12-13","2022-12-14","2022-12-15","2022-12-16","2022-12-17","2022-12-18","2022-12-19","2022-12-20","2022-12-21","2022-12-22","2022-12-23","2022-12-24","2022-12-25","2022-12-26","2022-12-27","2022-12-28","2022-12-29","2022-12-30","2022-12-31"]
[{"$f":"$A$11","v":"Kalenderwoche"},{"$f":"IF(B714=\"\",\"\",TRUNC((B714-DATE(YEAR(B714+3-MOD(B714-2,7)),1,MOD(B714-2,7)-9))/7))","v":48},48,48,48,49,49,49,49,49,49,49,50,50,50,50,50,50,50,51,51,51,51,51,51,51,52,52,52,52,52,52,{"$f":"SUM(B716:AF716)","v":176}]
[{"$f":"$A$12","v":"Sollstunden"},{"$f":"IF(AND(MOD(B714,7)>=2,SUMPRODUCT(($AM$56:$AQ$56=MOD(B714,7))*$AM$55:$AQ$55)),($J$7*5/$AR$55)*$B$711%,\"\")","v":8},{"$f":"IF(AND(MOD(C714,7)>=2,SUMPRODUCT(($AM$56:$AQ$56=MOD(C714,7))*$AM$55:$AQ$55)),($J$7*5/$AR$55)*$B$711%,\"\")","v":8},{"$f":"IF(AND(MOD(D714,7)>=2,SUMPRODUCT(($AM$56:$AQ$56=MOD(D714,7))*$AM$55:$AQ$55)),($J$7*5/$AR$55)*$B$711%,\"\")","v":""},{"$f":"IF(AND(MOD(E714,7)>=2,SUMPRODUCT(($AM$56:$AQ$56=MOD(E714,7))*$AM$55:$AQ$55)),($J$7*5/$AR$55)*$B$711%,\"\")","v":""},{"$f":"IF(AND(MOD(F714,7)>=2,SUMPRODUCT(($AM$56:$AQ$56=MOD(F714,7))*$AM$55:$AQ$55)),($J$7*5/$AR$55)*$B$711%,\"\")","v":8},{"$f":"IF(AND(MOD(G714,7)>=2,SUMPRODUCT(($AM$56:$AQ$56=MOD(G714,7))*$AM$55:$AQ$55)),($J$7*5/$AR$55)*$B$711%,\"\")","v":8},{"$f":"IF(AND(MOD(H714,7)>=2,SUMPRODUCT(($AM$56:$AQ$56=MOD(H714,7))*$AM$55:$AQ$55)),($J$7*5/$AR$55)*$B$711%,\"\")","v":8},{"$f":"IF(AND(MOD(I714,7)>=2,SUMPRODUCT(($AM$56:$AQ$56=MOD(I714,7))*$AM$55:$AQ$55)),($J$7*5/$AR$55)*$B$711%,\"\")","v":8},{"$f":"IF(AND(MOD(J714,7)>=2,SUMPRODUCT(($AM$56:$AQ$56=MOD(J714,7))*$AM$55:$AQ$55)),($J$7*5/$AR$55)*$B$711%,\"\")","v":8},{"$f":"IF(AND(MOD(K714,7)>=2,SUMPRODUCT(($AM$56:$AQ$56=MOD(K714,7))*$AM$55:$AQ$55)),($J$7*5/$AR$55)*$B$711%,\"\")","v":""},{"$f":"IF(AND(MOD(L714,7)>=2,SUMPRODUCT(($AM$56:$AQ$56=MOD(L714,7))*$AM$55:$AQ$55)),($J$7*5/$AR$55)*$B$711%,\"\")","v":""},{"$f":"IF(AND(MOD(M714,7)>=2,SUMPRODUCT(($AM$56:$AQ$56=MOD(M714,7))*$AM$55:$AQ$55)),($J$7*5/$AR$55)*$B$711%,\"\")","v":8},{"$f":"IF(AND(MOD(N714,7)>=2,SUMPRODUCT(($AM$56:$AQ$56=MOD(N714,7))*$AM$55:$AQ$55)),($J$7*5/$AR$55)*$B$711%,\"\")","v":8},{"$f":"IF(AND(MOD(O714,7)>=2,SUMPRODUCT(($AM$56:$AQ$56=MOD(O714,7))*$AM$55:$AQ$55)),($J$7*5/$AR$55)*$B$711%,\"\")","v":8},{"$f":"IF(AND(MOD(P714,7)>=2,SUMPRODUCT(($AM$56:$AQ$56=MOD(P714,7))*$AM$55:$AQ$55)),($J$7*5/$AR$55)*$B$711%,\"\")","v":8},{"$f":"IF(AND(MOD(Q714,7)>=2,SUMPRODUCT(($AM$56:$AQ$56=MOD(Q714,7))*$AM$55:$AQ$55)),($J$7*5/$AR$55)*$B$711%,\"\")","v":8},{"$f":"IF(AND(MOD(R714,7)>=2,SUMPRODUCT(($AM$56:$AQ$56=MOD(R714,7))*$AM$55:$AQ$55)),($J$7*5/$AR$55)*$B$711%,\"\")","v":""},{"$f":"IF(AND(MOD(S714,7)>=2,SUMPRODUCT(($AM$56:$AQ$56=MOD(S714,7))*$AM$55:$AQ$55)),($J$7*5/$AR$55)*$B$711%,\"\")","v":""},{"$f":"IF(AND(MOD(T714,7)>=2,SUMPRODUCT(($AM$56:$AQ$56=MOD(T714,7))*$AM$55:$AQ$55)),($J$7*5/$AR$55)*$B$711%,\"\")","v":8},{"$f":"IF(AND(MOD(U714,7)>=2,SUMPRODUCT(($AM$56:$AQ$56=MOD(U714,7))*$AM$55:$AQ$55)),($J$7*5/$AR$55)*$B$711%,\"\")","v":8},{"$f":"IF(AND(MOD(V714,7)>=2,SUMPRODUCT(($AM$56:$AQ$56=MOD(V714,7))*$AM$55:$AQ$55)),($J$7*5/$AR$55)*$B$711%,\"\")","v":8},{"$f":"IF(AND(MOD(W714,7)>=2,SUMPRODUCT(($AM$56:$AQ$56=MOD(W714,7))*$AM$55:$AQ$55)),($J$7*5/$AR$55)*$B$711%,\"\")","v":8},{"$f":"IF(AND(MOD(X714,7)>=2,SUMPRODUCT(($AM$56:$AQ$56=MOD(X714,7))*$AM$55:$AQ$55)),($J$7*5/$AR$55)*$B$711%,\"\")","v":8},{"$f":"IF(AND(MOD(Y714,7)>=2,SUMPRODUCT(($AM$56:$AQ$56=MOD(Y714,7))*$AM$55:$AQ$55)),($J$7*5/$AR$55)*$B$711%,\"\")","v":""},{"$f":"IF(AND(MOD(Z714,7)>=2,SUMPRODUCT(($AM$56:$AQ$56=MOD(Z714,7))*$AM$55:$AQ$55)),($J$7*5/$AR$55)*$B$711%,\"\")","v":""},{"$f":"IF(AND(MOD(AA714,7)>=2,SUMPRODUCT(($AM$56:$AQ$56=MOD(AA714,7))*$AM$55:$AQ$55)),($J$7*5/$AR$55)*$B$711%,\"\")","v":8},{"$f":"IF(AND(MOD(AB714,7)>=2,SUMPRODUCT(($AM$56:$AQ$56=MOD(AB714,7))*$AM$55:$AQ$55)),($J$7*5/$AR$55)*$B$711%,\"\")","v":8},{"$f":"IF(AND(MOD(AC714,7)>=2,SUMPRODUCT(($AM$56:$AQ$56=MOD(AC714,7))*$AM$55:$AQ$55)),($J$7*5/$AR$55)*$B$711%,\"\")","v":8},{"$f":"IF(AND(MOD(AD714,7)>=2,SUMPRODUCT(($AM$56:$AQ$56=MOD(AD714,7))*$AM$55:$AQ$55)),($J$7*5/$AR$55)*$B$711%,\"\")","v":8},{"$f":"IF(AND(MOD(AE714,7)>=2,SUMPRODUCT(($AM$56:$AQ$56=MOD(AE714,7))*$AM$55:$AQ$55)),($J$7*5/$AR$55)*$B$711%,\"\")","v":8},{"$f":"IF(AND(MOD(AF714,7)>=2,SUMPRODUCT(($AM$56:$AQ$56=MOD(AF714,7))*$AM$55:$AQ$55)),($J$7*5/$AR$55)*$B$711%,\"\")","v":""},{"$f":"SUM(AU3:AU13)","v":0}]
[{"$f":"$A$13","v":"Absenz in Std"},{"$f":"B1084","v":0},{"$f":"C1084","v":0},0,0,0,0,0,0,0,0,0,0,0,0,0,0,0,0,0,0,0,0,0,0,0,0,0,0,0,0,0]
[{"$f":"$A$14","v":"Code"},{"$f":"IF(B1084<>0,IF(MAX(B1071:B1083)<B1084,Labels!$B$163,INDEX($AH$1070:$AH$1082,MATCH(MAX(B1071:B1083),B1071:B1083,0))),\"\")","v":""},{"$f":"IF(C1084<>0,IF(MAX(C1071:C1083)<C1084,Labels!$B$163,INDEX($AH$1070:$AH$1082,MATCH(MAX(C1071:C1083),C1071:C1083,0))),\"\")","v":""},{"$f":"IF(D1084<>0,IF(MAX(D1071:D1083)<D1084,Labels!$B$163,INDEX($AH$1070:$AH$1082,MATCH(MAX(D1071:D1083),D1071:D1083,0))),\"\")","v":""},{"$f":"IF(E1084<>0,IF(MAX(E1071:E1083)<E1084,Labels!$B$163,INDEX($AH$1070:$AH$1082,MATCH(MAX(E1071:E1083),E1071:E1083,0))),\"\")","v":""},{"$f":"IF(F1084<>0,IF(MAX(F1071:F1083)<F1084,Labels!$B$163,INDEX($AH$1070:$AH$1082,MATCH(MAX(F1071:F1083),F1071:F1083,0))),\"\")","v":""},{"$f":"IF(G1084<>0,IF(MAX(G1071:G1083)<G1084,Labels!$B$163,INDEX($AH$1070:$AH$1082,MATCH(MAX(G1071:G1083),G1071:G1083,0))),\"\")","v":""},{"$f":"IF(H1084<>0,IF(MAX(H1071:H1083)<H1084,Labels!$B$163,INDEX($AH$1070:$AH$1082,MATCH(MAX(H1071:H1083),H1071:H1083,0))),\"\")","v":""},{"$f":"IF(I1084<>0,IF(MAX(I1071:I1083)<I1084,Labels!$B$163,INDEX($AH$1070:$AH$1082,MATCH(MAX(I1071:I1083),I1071:I1083,0))),\"\")","v":""},{"$f":"IF(J1084<>0,IF(MAX(J1071:J1083)<J1084,Labels!$B$163,INDEX($AH$1070:$AH$1082,MATCH(MAX(J1071:J1083),J1071:J1083,0))),\"\")","v":""},{"$f":"IF(K1084<>0,IF(MAX(K1071:K1083)<K1084,Labels!$B$163,INDEX($AH$1070:$AH$1082,MATCH(MAX(K1071:K1083),K1071:K1083,0))),\"\")","v":""},{"$f":"IF(L1084<>0,IF(MAX(L1071:L1083)<L1084,Labels!$B$163,INDEX($AH$1070:$AH$1082,MATCH(MAX(L1071:L1083),L1071:L1083,0))),\"\")","v":""},{"$f":"IF(M1084<>0,IF(MAX(M1071:M1083)<M1084,Labels!$B$163,INDEX($AH$1070:$AH$1082,MATCH(MAX(M1071:M1083),M1071:M1083,0))),\"\")","v":""},{"$f":"IF(N1084<>0,IF(MAX(N1071:N1083)<N1084,Labels!$B$163,INDEX($AH$1070:$AH$1082,MATCH(MAX(N1071:N1083),N1071:N1083,0))),\"\")","v":""},{"$f":"IF(O1084<>0,IF(MAX(O1071:O1083)<O1084,Labels!$B$163,INDEX($AH$1070:$AH$1082,MATCH(MAX(O1071:O1083),O1071:O1083,0))),\"\")","v":""},{"$f":"IF(P1084<>0,IF(MAX(P1071:P1083)<P1084,Labels!$B$163,INDEX($AH$1070:$AH$1082,MATCH(MAX(P1071:P1083),P1071:P1083,0))),\"\")","v":""},{"$f":"IF(Q1084<>0,IF(MAX(Q1071:Q1083)<Q1084,Labels!$B$163,INDEX($AH$1070:$AH$1082,MATCH(MAX(Q1071:Q1083),Q1071:Q1083,0))),\"\")","v":""},{"$f":"IF(R1084<>0,IF(MAX(R1071:R1083)<R1084,Labels!$B$163,INDEX($AH$1070:$AH$1082,MATCH(MAX(R1071:R1083),R1071:R1083,0))),\"\")","v":""},{"$f":"IF(S1084<>0,IF(MAX(S1071:S1083)<S1084,Labels!$B$163,INDEX($AH$1070:$AH$1082,MATCH(MAX(S1071:S1083),S1071:S1083,0))),\"\")","v":""},{"$f":"IF(T1084<>0,IF(MAX(T1071:T1083)<T1084,Labels!$B$163,INDEX($AH$1070:$AH$1082,MATCH(MAX(T1071:T1083),T1071:T1083,0))),\"\")","v":""},{"$f":"IF(U1084<>0,IF(MAX(U1071:U1083)<U1084,Labels!$B$163,INDEX($AH$1070:$AH$1082,MATCH(MAX(U1071:U1083),U1071:U1083,0))),\"\")","v":""},{"$f":"IF(V1084<>0,IF(MAX(V1071:V1083)<V1084,Labels!$B$163,INDEX($AH$1070:$AH$1082,MATCH(MAX(V1071:V1083),V1071:V1083,0))),\"\")","v":""},{"$f":"IF(W1084<>0,IF(MAX(W1071:W1083)<W1084,Labels!$B$163,INDEX($AH$1070:$AH$1082,MATCH(MAX(W1071:W1083),W1071:W1083,0))),\"\")","v":""},{"$f":"IF(X1084<>0,IF(MAX(X1071:X1083)<X1084,Labels!$B$163,INDEX($AH$1070:$AH$1082,MATCH(MAX(X1071:X1083),X1071:X1083,0))),\"\")","v":""},{"$f":"IF(Y1084<>0,IF(MAX(Y1071:Y1083)<Y1084,Labels!$B$163,INDEX($AH$1070:$AH$1082,MATCH(MAX(Y1071:Y1083),Y1071:Y1083,0))),\"\")","v":""},{"$f":"IF(Z1084<>0,IF(MAX(Z1071:Z1083)<Z1084,Labels!$B$163,INDEX($AH$1070:$AH$1082,MATCH(MAX(Z1071:Z1083),Z1071:Z1083,0))),\"\")","v":""},{"$f":"IF(AA1084<>0,IF(MAX(AA1071:AA1083)<AA1084,Labels!$B$163,INDEX($AH$1070:$AH$1082,MATCH(MAX(AA1071:AA1083),AA1071:AA1083,0))),\"\")","v":""},{"$f":"IF(AB1084<>0,IF(MAX(AB1071:AB1083)<AB1084,Labels!$B$163,INDEX($AH$1070:$AH$1082,MATCH(MAX(AB1071:AB1083),AB1071:AB1083,0))),\"\")","v":""},{"$f":"IF(AC1084<>0,IF(MAX(AC1071:AC1083)<AC1084,Labels!$B$163,INDEX($AH$1070:$AH$1082,MATCH(MAX(AC1071:AC1083),AC1071:AC1083,0))),\"\")","v":""},{"$f":"IF(AD1084<>0,IF(MAX(AD1071:AD1083)<AD1084,Labels!$B$163,INDEX($AH$1070:$AH$1082,MATCH(MAX(AD1071:AD1083),AD1071:AD1083,0))),\"\")","v":""},{"$f":"IF(AE1084<>0,IF(MAX(AE1071:AE1083)<AE1084,Labels!$B$163,INDEX($AH$1070:$AH$1082,MATCH(MAX(AE1071:AE1083),AE1071:AE1083,0))),\"\")","v":""},{"$f":"IF(AF1084<>0,IF(MAX(AF1071:AF1083)<AF1084,Labels!$B$163,INDEX($AH$1070:$AH$1082,MATCH(MAX(AF1071:AF1083),AF1071:AF1083,0))),\"\")","v":""},{"$f":"SUM(B719:AF719)","v":0}]
[{"$f":"$A$15","v":"00.00-06.00h"},null,null,null,null,null,null,null,null,null,null,null,null,null,null,null,null,null,null,null,null,null,null,null,null,null,null,null,null,null,null,null,{"$f":"SUM(B720:AF720)","v":0}]
[{"$f":"$A$16","v":"06.00-20.00h"},null,null,null,null,null,null,null,null,null,null,null,null,null,null,null,null,null,null,null,null,null,null,null,null,null,null,null,null,null,null,null,{"$f":"SUM(B721:AF721)","v":0},"[0]"]
[{"$f":"$A$17","v":"20.00-24.00h"}]
[{"$f":"$A$18","v":"Feiertag \"ft\""},{"$f":"IF(WEEKDAY(B714,2)<=6,IF(KALENDER!E25=\"x\",Labels!$B$118,\"\"),\"\")","v":""},{"$f":"IF(WEEKDAY(C714,2)<=6,IF(KALENDER!F25=\"x\",Labels!$B$118,\"\"),\"\")","v":""},{"$f":"IF(WEEKDAY(D714,2)<=6,IF(KALENDER!G25=\"x\",Labels!$B$118,\"\"),\"\")","v":""},{"$f":"IF(WEEKDAY(E714,2)<=6,IF(KALENDER!H25=\"x\",Labels!$B$118,\"\"),\"\")","v":""},{"$f":"IF(WEEKDAY(F714,2)<=6,IF(KALENDER!I25=\"x\",Labels!$B$118,\"\"),\"\")","v":""},{"$f":"IF(WEEKDAY(G714,2)<=6,IF(KALENDER!J25=\"x\",Labels!$B$118,\"\"),\"\")","v":""},{"$f":"IF(WEEKDAY(H714,2)<=6,IF(KALENDER!K25=\"x\",Labels!$B$118,\"\"),\"\")","v":""},{"$f":"IF(WEEKDAY(I714,2)<=6,IF(KALENDER!L25=\"x\",Labels!$B$118,\"\"),\"\")","v":""},{"$f":"IF(WEEKDAY(J714,2)<=6,IF(KALENDER!M25=\"x\",Labels!$B$118,\"\"),\"\")","v":""},{"$f":"IF(WEEKDAY(K714,2)<=6,IF(KALENDER!N25=\"x\",Labels!$B$118,\"\"),\"\")","v":""},{"$f":"IF(WEEKDAY(L714,2)<=6,IF(KALENDER!O25=\"x\",Labels!$B$118,\"\"),\"\")","v":""},{"$f":"IF(WEEKDAY(M714,2)<=6,IF(KALENDER!P25=\"x\",Labels!$B$118,\"\"),\"\")","v":""},{"$f":"IF(WEEKDAY(N714,2)<=6,IF(KALENDER!Q25=\"x\",Labels!$B$118,\"\"),\"\")","v":""},{"$f":"IF(WEEKDAY(O714,2)<=6,IF(KALENDER!R25=\"x\",Labels!$B$118,\"\"),\"\")","v":""},{"$f":"IF(WEEKDAY(P714,2)<=6,IF(KALENDER!S25=\"x\",Labels!$B$118,\"\"),\"\")","v":""},{"$f":"IF(WEEKDAY(Q714,2)<=6,IF(KALENDER!T25=\"x\",Labels!$B$118,\"\"),\"\")","v":""},{"$f":"IF(WEEKDAY(R714,2)<=6,IF(KALENDER!U25=\"x\",Labels!$B$118,\"\"),\"\")","v":""},{"$f":"IF(WEEKDAY(S714,2)<=6,IF(KALENDER!V25=\"x\",Labels!$B$118,\"\"),\"\")","v":""},{"$f":"IF(WEEKDAY(T714,2)<=6,IF(KALENDER!W25=\"x\",Labels!$B$118,\"\"),\"\")","v":""},{"$f":"IF(WEEKDAY(U714,2)<=6,IF(KALENDER!X25=\"x\",Labels!$B$118,\"\"),\"\")","v":""},{"$f":"IF(WEEKDAY(V714,2)<=6,IF(KALENDER!Y25=\"x\",Labels!$B$118,\"\"),\"\")","v":""},{"$f":"IF(WEEKDAY(W714,2)<=6,IF(KALENDER!Z25=\"x\",Labels!$B$118,\"\"),\"\")","v":""},{"$f":"IF(WEEKDAY(X714,2)<=6,IF(KALENDER!AA25=\"x\",Labels!$B$118,\"\"),\"\")","v":""},{"$f":"IF(WEEKDAY(Y714,2)<=6,IF(KALENDER!AB25=\"x\",Labels!$B$118,\"\"),\"\")","v":""},{"$f":"IF(WEEKDAY(Z714,2)<=6,IF(KALENDER!AC25=\"x\",Labels!$B$118,\"\"),\"\")","v":""},{"$f":"IF(WEEKDAY(AA714,2)<=6,IF(KALENDER!AD25=\"x\",Labels!$B$118,\"\"),\"\")","v":""},{"$f":"IF(WEEKDAY(AB714,2)<=6,IF(KALENDER!AE25=\"x\",Labels!$B$118,\"\"),\"\")","v":""},{"$f":"IF(WEEKDAY(AC714,2)<=6,IF(KALENDER!AF25=\"x\",Labels!$B$118,\"\"),\"\")","v":""},{"$f":"IF(WEEKDAY(AD714,2)<=6,IF(KALENDER!AG25=\"x\",Labels!$B$118,\"\"),\"\")","v":""},{"$f":"IF(WEEKDAY(AE714,2)<=6,IF(KALENDER!AH25=\"x\",Labels!$B$118,\"\"),\"\")","v":""},{"$f":"IF(WEEKDAY(AF714,2)<=6,IF(KALENDER!AI25=\"x\",Labels!$B$118,\"\"),\"\")","v":""},{"$f":"SUM(B723:AF723)","v":0}]
[{"$f":"$A$19","v":"Gutschrift \"ft\""},{"$f":"IF(AND(B722=Labels!$B$118,WEEKDAY(B714,2)<6,B$716<>\"\"),($J$7*5/$AR$55)*$B$711%,\"\")","v":""},{"$f":"IF(AND(C722=Labels!$B$118,WEEKDAY(C714,2)<6,C$716<>\"\"),($J$7*5/$AR$55)*$B$711%,\"\")","v":""},{"$f":"IF(AND(D722=Labels!$B$118,WEEKDAY(D714,2)<6,D$716<>\"\"),($J$7*5/$AR$55)*$B$711%,\"\")","v":""},{"$f":"IF(AND(E722=Labels!$B$118,WEEKDAY(E714,2)<6,E$716<>\"\"),($J$7*5/$AR$55)*$B$711%,\"\")","v":""},{"$f":"IF(AND(F722=Labels!$B$118,WEEKDAY(F714,2)<6,F$716<>\"\"),($J$7*5/$AR$55)*$B$711%,\"\")","v":""},{"$f":"IF(AND(G722=Labels!$B$118,WEEKDAY(G714,2)<6,G$716<>\"\"),($J$7*5/$AR$55)*$B$711%,\"\")","v":""},{"$f":"IF(AND(H722=Labels!$B$118,WEEKDAY(H714,2)<6,H$716<>\"\"),($J$7*5/$AR$55)*$B$711%,\"\")","v":""},{"$f":"IF(AND(I722=Labels!$B$118,WEEKDAY(I714,2)<6,I$716<>\"\"),($J$7*5/$AR$55)*$B$711%,\"\")","v":""},{"$f":"IF(AND(J722=Labels!$B$118,WEEKDAY(J714,2)<6,J$716<>\"\"),($J$7*5/$AR$55)*$B$711%,\"\")","v":""},{"$f":"IF(AND(K722=Labels!$B$118,WEEKDAY(K714,2)<6,K$716<>\"\"),($J$7*5/$AR$55)*$B$711%,\"\")","v":""},{"$f":"IF(AND(L722=Labels!$B$118,WEEKDAY(L714,2)<6,L$716<>\"\"),($J$7*5/$AR$55)*$B$711%,\"\")","v":""},{"$f":"IF(AND(M722=Labels!$B$118,WEEKDAY(M714,2)<6,M$716<>\"\"),($J$7*5/$AR$55)*$B$711%,\"\")","v":""},{"$f":"IF(AND(N722=Labels!$B$118,WEEKDAY(N714,2)<6,N$716<>\"\"),($J$7*5/$AR$55)*$B$711%,\"\")","v":""},{"$f":"IF(AND(O722=Labels!$B$118,WEEKDAY(O714,2)<6,O$716<>\"\"),($J$7*5/$AR$55)*$B$711%,\"\")","v":""},{"$f":"IF(AND(P722=Labels!$B$118,WEEKDAY(P714,2)<6,P$716<>\"\"),($J$7*5/$AR$55)*$B$711%,\"\")","v":""},{"$f":"IF(AND(Q722=Labels!$B$118,WEEKDAY(Q714,2)<6,Q$716<>\"\"),($J$7*5/$AR$55)*$B$711%,\"\")","v":""},{"$f":"IF(AND(R722=Labels!$B$118,WEEKDAY(R714,2)<6,R$716<>\"\"),($J$7*5/$AR$55)*$B$711%,\"\")","v":""},{"$f":"IF(AND(S722=Labels!$B$118,WEEKDAY(S714,2)<6,S$716<>\"\"),($J$7*5/$AR$55)*$B$711%,\"\")","v":""},{"$f":"IF(AND(T722=Labels!$B$118,WEEKDAY(T714,2)<6,T$716<>\"\"),($J$7*5/$AR$55)*$B$711%,\"\")","v":""},{"$f":"IF(AND(U722=Labels!$B$118,WEEKDAY(U714,2)<6,U$716<>\"\"),($J$7*5/$AR$55)*$B$711%,\"\")","v":""},{"$f":"IF(AND(V722=Labels!$B$118,WEEKDAY(V714,2)<6,V$716<>\"\"),($J$7*5/$AR$55)*$B$711%,\"\")","v":""},{"$f":"IF(AND(W722=Labels!$B$118,WEEKDAY(W714,2)<6,W$716<>\"\"),($J$7*5/$AR$55)*$B$711%,\"\")","v":""},{"$f":"IF(AND(X722=Labels!$B$118,WEEKDAY(X714,2)<6,X$716<>\"\"),($J$7*5/$AR$55)*$B$711%,\"\")","v":""},{"$f":"IF(AND(Y722=Labels!$B$118,WEEKDAY(Y714,2)<6,Y$716<>\"\"),($J$7*5/$AR$55)*$B$711%,\"\")","v":""},{"$f":"IF(AND(Z722=Labels!$B$118,WEEKDAY(Z714,2)<6,Z$716<>\"\"),($J$7*5/$AR$55)*$B$711%,\"\")","v":""},{"$f":"IF(AND(AA722=Labels!$B$118,WEEKDAY(AA714,2)<6,AA$716<>\"\"),($J$7*5/$AR$55)*$B$711%,\"\")","v":""},{"$f":"IF(AND(AB722=Labels!$B$118,WEEKDAY(AB714,2)<6,AB$716<>\"\"),($J$7*5/$AR$55)*$B$711%,\"\")","v":""},{"$f":"IF(AND(AC722=Labels!$B$118,WEEKDAY(AC714,2)<6,AC$716<>\"\"),($J$7*5/$AR$55)*$B$711%,\"\")","v":""},{"$f":"IF(AND(AD722=Labels!$B$118,WEEKDAY(AD714,2)<6,AD$716<>\"\"),($J$7*5/$AR$55)*$B$711%,\"\")","v":""},{"$f":"IF(AND(AE722=Labels!$B$118,WEEKDAY(AE714,2)<6,AE$716<>\"\"),($J$7*5/$AR$55)*$B$711%,\"\")","v":""},{"$f":"IF(AND(AF722=Labels!$B$118,WEEKDAY(AF714,2)<6,AF$716<>\"\"),($J$7*5/$AR$55)*$B$711%,\"\")","v":""}]
[{"$f":"$A$20","v":"Tagestotal"},{"$f":"SUM(B719:B721)","v":0},{"$f":"SUM(C719:C721)","v":0},0,0,0,0,0,0,0,0,0,0,0,0,0,0,0,0,0,0,0,0,0,0,0,0,0,0,0,0,0]
[{"$f":"$A$21","v":"."}]
[{"$f":"$A$22","v":"."}]
[{"$f":"$A$23","v":"Monatsübergang"},{"$f":"IF(WEEKDAY(B714)=1,TEXT(B714-1,\"MMM\"&Labels!B13),\"\")","v":""}]
[{"$f":"$A$24","v":"Wochentotal"},{"$f":"IF(WEEKDAY(B714)=7,SUMIF($B651:$AF651,B715,$B660:$AF660)+SUMIF($B715:$AF715,B715,$B724:$AF724),B727)","v":""},{"$f":"IF(WEEKDAY(C714)=7,SUMIF($B651:$AF651,C715,$B660:$AF660)+SUMIF($B715:$AF715,C715,$B724:$AF724),\"\")","v":""},0,"","","","","","",0,"","","","","","",0,"","","","","","",0,"","","","","","",{"$f":"IF(WEEKDAY(AF714)>1,SUMIF($B651:$AF651,AF715,$B660:$AF660)+SUMIF($B715:$AF715,AF715,$B724:$AF724),\"\")","v":0},{"$f":"SUM(B729:AF729)","v":0}]
[{"$f":"$A$25","v":"Zeitzuschlag 1)"},{"$f":"IF(B736=\"FALSCH\",\"\",B736)","v":""},{"$f":"IF(C736=\"FALSCH\",\"\",C736)","v":""},"","","","","","","","","","","","","","","","","","","","","","","","","","","","","",0,"[1]"]
[{"$f":"$A$26","v":"Zeitzuschlag 2)"},{"$f":"IF((B719+B721)=0,\"\",SUM(B719,B721))","v":""},{"$f":"IF((C719+C721)=0,\"\",SUM(C719,C721))","v":""},"","","","","","","","","","","","","","","","","","","","","","","","","","","","","",{"$f":"SUM(B731:AF731)","v":0},"[2]"]
[{"$f":"$A$27","v":"Zeitzuschlag 3)"},{"$f":"SUM(B732:B735)","v":0},{"$f":"SUM(C732:C735)","v":0},0,0,0,0,0,0,0,0,0,0,0,0,0,0,0,0,0,0,0,0,0,0,0,0,0,0,0,0,0,0,"[3]"]
[{"$f":"$A$28","v":"Sonntag Tag"},{"$f":"IF(WEEKDAY(B714)=1,B720,\"\")","v":""},{"$f":"IF(WEEKDAY(C714)=1,C720,\"\")","v":""},"",0,"","","","","","",0,"","","","","","",0,"","","","","","",0,"","","","","","",0,"[4]"]
[{"$f":"$A$29","v":"Sonntag Nacht"},{"$f":"IF(WEEKDAY(B714)=1,SUM(B719+B721),\"\")","v":""},{"$f":"IF(WEEKDAY(C714)=1,SUM(C719+C721),\"\")","v":""},"",0,"","","","","","",0,"","","","","","",0,"","","","","","",0,"","","","","","",0,"[5]"]
[{"$f":"$A$30","v":"ft-Tazuschlag"},{"$f":"IF(B722=Labels!$B$118,B720,\"\")","v":""},{"$f":"IF(C722=Labels!$B$118,C720,\"\")","v":""},{"$f":"IF(D722=Labels!$B$118,D720,\"\")","v":""},{"$f":"IF(E722=Labels!$B$118,E720,\"\")","v":""},{"$f":"IF(F722=Labels!$B$118,F720,\"\")","v":""},{"$f":"IF(G722=Labels!$B$118,G720,\"\")","v":""},{"$f":"IF(H722=Labels!$B$118,H720,\"\")","v":""},{"$f":"IF(I722=Labels!$B$118,I720,\"\")","v":""},{"$f":"IF(J722=Labels!$B$118,J720,\"\")","v":""},{"$f":"IF(K722=Labels!$B$118,K720,\"\")","v":""},{"$f":"IF(L722=Labels!$B$118,L720,\"\")","v":""},{"$f":"IF(M722=Labels!$B$118,M720,\"\")","v":""},{"$f":"IF(N722=Labels!$B$118,N720,\"\")","v":""},{"$f":"IF(O722=Labels!$B$118,O720,\"\")","v":""},{"$f":"IF(P722=Labels!$B$118,P720,\"\")","v":""},{"$f":"IF(Q722=Labels!$B$118,Q720,\"\")","v":""},{"$f":"IF(R722=Labels!$B$118,R720,\"\")","v":""},{"$f":"IF(S722=Labels!$B$118,S720,\"\")","v":""},{"$f":"IF(T722=Labels!$B$118,T720,\"\")","v":""},{"$f":"IF(U722=Labels!$B$118,U720,\"\")","v":""},{"$f":"IF(V722=Labels!$B$118,V720,\"\")","v":""},{"$f":"IF(W722=Labels!$B$118,W720,\"\")","v":""},{"$f":"IF(X722=Labels!$B$118,X720,\"\")","v":""},{"$f":"IF(Y722=Labels!$B$118,Y720,\"\")","v":""},{"$f":"IF(Z722=Labels!$B$118,Z720,\"\")","v":""},{"$f":"IF(AA722=Labels!$B$118,AA720,\"\")","v":""},{"$f":"IF(AB722=Labels!$B$118,AB720,\"\")","v":""},{"$f":"IF(AC722=Labels!$B$118,AC720,\"\")","v":""},{"$f":"IF(AD722=Labels!$B$118,AD720,\"\")","v":""},{"$f":"IF(AE722=Labels!$B$118,AE720,\"\")","v":""},{"$f":"IF(AF722=Labels!$B$118,AF720,\"\")","v":""},0,"[6]"]
[{"$f":"$A$31","v":"ft-Nazuschlag"},{"$f":"IF(B722=Labels!$B$118,SUM(B719,B721),\"\")","v":""},{"$f":"IF(C722=Labels!$B$118,SUM(C719,C721),\"\")","v":""},{"$f":"IF(D722=Labels!$B$118,SUM(D719,D721),\"\")","v":""},{"$f":"IF(E722=Labels!$B$118,SUM(E719,E721),\"\")","v":""},{"$f":"IF(F722=Labels!$B$118,SUM(F719,F721),\"\")","v":""},{"$f":"IF(G722=Labels!$B$118,SUM(G719,G721),\"\")","v":""},{"$f":"IF(H722=Labels!$B$118,SUM(H719,H721),\"\")","v":""},{"$f":"IF(I722=Labels!$B$118,SUM(I719,I721),\"\")","v":""},{"$f":"IF(J722=Labels!$B$118,SUM(J719,J721),\"\")","v":""},{"$f":"IF(K722=Labels!$B$118,SUM(K719,K721),\"\")","v":""},{"$f":"IF(L722=Labels!$B$118,SUM(L719,L721),\"\")","v":""},{"$f":"IF(M722=Labels!$B$118,SUM(M719,M721),\"\")","v":""},{"$f":"IF(N722=Labels!$B$118,SUM(N719,N721),\"\")","v":""},{"$f":"IF(O722=Labels!$B$118,SUM(O719,O721),\"\")","v":""},{"$f":"IF(P722=Labels!$B$118,SUM(P719,P721),\"\")","v":""},{"$f":"IF(Q722=Labels!$B$118,SUM(Q719,Q721),\"\")","v":""},{"$f":"IF(R722=Labels!$B$118,SUM(R719,R721),\"\")","v":""},{"$f":"IF(S722=Labels!$B$118,SUM(S719,S721),\"\")","v":""},{"$f":"IF(T722=Labels!$B$118,SUM(T719,T721),\"\")","v":""},{"$f":"IF(U722=Labels!$B$118,SUM(U719,U721),\"\")","v":""},{"$f":"IF(V722=Labels!$B$118,SUM(V719,V721),\"\")","v":""},{"$f":"IF(W722=Labels!$B$118,SUM(W719,W721),\"\")","v":""},{"$f":"IF(X722=Labels!$B$118,SUM(X719,X721),\"\")","v":""},{"$f":"IF(Y722=Labels!$B$118,SUM(Y719,Y721),\"\")","v":""},{"$f":"IF(Z722=Labels!$B$118,SUM(Z719,Z721),\"\")","v":""},{"$f":"IF(AA722=Labels!$B$118,SUM(AA719,AA721),\"\")","v":""},{"$f":"IF(AB722=Labels!$B$118,SUM(AB719,AB721),\"\")","v":""},{"$f":"IF(AC722=Labels!$B$118,SUM(AC719,AC721),\"\")","v":""},{"$f":"IF(AD722=Labels!$B$118,SUM(AD719,AD721),\"\")","v":""},{"$f":"IF(AE722=Labels!$B$118,SUM(AE719,AE721),\"\")","v":""},{"$f":"IF(AF722=Labels!$B$118,SUM(AF719,AF721),\"\")","v":""},{"$f":"AG719","v":0},"[7]"]
[{"$f":"$A$32","v":"Zuschlag  blind (Wochentotal)"},{"$f":"IF(OR(ISTEXT(B728),B728=\"\",B728<$B$7),\"\",ROUND(((B728-$B$7)*25%)/25,4)*25)","v":""},{"$f":"IF(OR(ISTEXT(C728),C728=\"\",C728<$B$7),\"\",ROUND(((C728-$B$7)*25%)/25,4)*25)","v":""},"","","","","","","","","","","","","","","","","","","","","","","","","","","","","",{"$f":"SUM(AG718+AG720)","v":0},"[8]"]
[null,{"$f":"$B$33","v":"1)   25% Zeitzuschlag für Überschreitung Wochentotal"},null,null,null,null,null,null,null,null,null,{"$f":"$L$33","v":"2) 100% Zeitzuschlag für Nachtarbeit"},null,null,null,null,null,null,null,null,null,null,null,null,null,null,null,null,null,null,null,null,{"$f":"SUM(AG718:AG720)","v":0},"[9]"]
[null,{"$f":"$B$34","v":"3) 100% Zeitzuschlag für Sonn- und Feiertagsarbeit"},null,null,null,null,null,null,null,null,null,null,null,null,null,null,null,null,null,{"$f":"$T$34","v":"Eingabe der ausbezahlten Stunden laufendes Jahr (Überstunden)"},null,null,null,null,null,null,null,null,null,null,null,null,{"$f":"SUM(AG716+AG722)","v":0},"[10]"]
[{"$f":"$A$35","v":"Bemerkungen"},null,null,null,null,null,null,null,null,null,null,null,null,null,null,null,null,null,null,null,null,null,null,null,null,null,null,null,null,null,null,null,{"$f":"SUM(AG716:AG730)","v":0},"[11]"]
[null,null,null,null,null,null,null,null,null,null,null,null,null,null,null,null,null,null,null,null,null,null,null,null,null,null,null,null,null,null,null,null,{"$f":"AG715","v":176}]
[null,null,null,null,null,null,null,null,null,null,null,null,null,null,null,null,null,null,null,null,null,null,null,null,null,null,null,null,null,null,null,null,{"$f":"SUM(AG739-AG715)","v":-176}]
[]
[{"$f":"$A$39","v":"Zusammenstellung"},null,null,null,null,null,{"$f":"$G$39","v":"Jan"},null,{"$f":"$I$39","v":"Feb"},null,{"$f":"$K$39","v":"Mrz"},null,{"$f":"$M$39","v":"Apr"},null,{"$f":"$O$39","v":"Mai"},null,{"$f":"$Q$39","v":"Jun"},null,{"$f":"$S$39","v":"Jul"},null,{"$f":"$U$39","v":"Aug"},null,{"$f":"$W$39","v":"Sep"},null,{"$f":"$Y$39","v":"Okt"},null,{"$f":"$AA$39","v":"Nov"},null,{"$f":"$AC$39","v":"Dez"},null,{"$f":"$AE$39","v":"Jahr"}]
[{"$f":"$A$40","v":"Anstellung %"},null,null,null,null,null,{"$f":"IF($B$4=0,0,$B$4)","v":100},null,{"$f":"IF($B$71=0,0,$B$71)","v":100},null,{"$f":"IF($B$135=0,0,$B$135)","v":100},null,{"$f":"IF($B$199=0,0,$B$199)","v":100},null,{"$f":"IF($B$263=0,0,$B$263)","v":100},null,{"$f":"IF($B$327=0,0,$B$327)","v":100},null,{"$f":"IF($B$391=0,0,$B$391)","v":100},null,{"$f":"IF($B$455=0,0,$B$455)","v":100},null,{"$f":"IF($B$519=0,0,$B$519)","v":100},null,{"$f":"IF($B$583=0,0,$B$583)","v":100},null,{"$f":"IF($B$647=0,0,$B$647)","v":100},null,{"$f":"IF($B$711=0,0,$B$711)","v":100}]
[{"$f":"$A$41","v":"Sollstunden gemäss GAV"},null,null,null,null,null,{"$f":"IF($AG$37=0,0,$AG$37)","v":168},null,{"$f":"IF($AG$100=0,0,$AG$100)","v":160},null,{"$f":"IF($AG$139=0,0,$AG$139)","v":184},null,{"$f":"IF($AG$228=0,0,$AG$228)","v":168},null,{"$f":"IF($AG$292=0,0,$AG$292)","v":176},null,{"$f":"IF($AG$356=0,0,$AG$356)","v":176},null,{"$f":"IF($AG$420=0,0,$AG$420)","v":168},null,{"$f":"IF($AG$484=0,0,$AG$484)","v":184},null,{"$f":"IF($AG$548=0,0,$AG$548)","v":176},null,{"$f":"IF($AG$612=0,0,$AG$612)","v":168},null,{"$f":"IF($AG$676=0,0,$AG$676)","v":176},null,{"$f":"IF($AG$740=0,0,$AG$740)","v":176},null,{"$f":"SUM(G681:AD681)","v":2080}]
[{"$f":"$A$42","v":"Produktive Stunden"},{"$f":"$B$42","v":"06.00 - 20.00 Uhr"},null,null,null,null,{"$f":"IF($AG$32=0,0,$AG$32)","v":0},null,{"$f":"IF($AG$95=0,0,$AG$95)","v":0},null,{"$f":"IF($AG$159=0,0,$AG$159)","v":0},null,{"$f":"IF($AG$223=0,0,$AG$223)","v":0},null,{"$f":"IF($AG$287=0,0,$AG$287)","v":0},null,{"$f":"IF($AG$351=0,0,$AG$351)","v":0},null,{"$f":"IF($AG$415=0,0,$AG$415)","v":0},null,{"$f":"IF($AG$479=0,0,$AG$479)","v":0},null,{"$f":"IF($AG$543=0,0,$AG$543)","v":0},null,{"$f":"IF($AG$607=0,0,$AG$607)","v":0},null,{"$f":"IF($AG$671=0,0,$AG$671)","v":0},null,{"$f":"IF($AG$735=0,0,$AG$735)","v":0},null,{"$f":"SUM(G682:AD682)","v":0}]
[null,{"$f":"$B$43","v":"Nacht-, Sonn-, Feiertagsarbeit"},null,null,null,null,{"$f":"IF($AG$33=0,0,$AG$33)","v":0},null,{"$f":"IF($AG$96=0,0,$AG$96)","v":0},null,{"$f":"IF($AG$160=0,0,$AG$160)","v":0},null,{"$f":"IF($AG$224=0,0,$AG$224)","v":0},null,{"$f":"IF($AG$288=0,0,$AG$288)","v":0},null,{"$f":"IF($AG$352=0,0,$AG$352)","v":0},null,{"$f":"IF($AG$416=0,0,$AG$416)","v":0},null,{"$f":"IF($AG$480=0,0,$AG$480)","v":0},null,{"$f":"IF($AG$544=0,0,$AG$544)","v":0},null,{"$f":"IF($AG$608=0,0,$AG$608)","v":0},null,{"$f":"IF($AG$672=0,0,$AG$672)","v":0},null,{"$f":"IF($AG$736=0,0,$AG$736)","v":0},null,{"$f":"SUM(G683:AD683)","v":0}]
[{"$f":"$A$44","v":"Zeitzuschläge"},{"$f":"$B$44","v":"aus Wochentotal"},null,null,null,null,{"$f":"IF($AG$25=0,0,$AG$25)","v":0},null,{"$f":"IF($AG$88=0,0,$AG$88)","v":0},null,{"$f":"IF($AG$152=0,0,$AG$152)","v":0},null,{"$f":"IF($AG$216=0,0,$AG$216)","v":0},null,{"$f":"IF($AG$280=0,0,$AG$280)","v":0},null,{"$f":"IF($AG$344=0,0,$AG$344)","v":0},null,{"$f":"IF($AG$408=0,0,$AG$408)","v":0},null,{"$f":"IF($AG$472=0,0,$AG$472)","v":0},null,{"$f":"IF($AG$536=0,0,$AG$536)","v":0},null,{"$f":"IF($AG$600=0,0,$AG$600)","v":0},null,{"$f":"IF($AG$664=0,0,$AG$664)","v":0},null,{"$f":"IF($AG$728=0,0,$AG$728)","v":0},null,{"$f":"SUM(G684:AD684)","v":0}]
[null,{"$f":"$B$45","v":"aus Nacht-, Sonn-, Feiertagsarbeiten"},null,null,null,null,{"$f":"IF($AJ$21=0,0,$AJ$21)","v":0},null,{"$f":"IF($AK$21=0,0,$AK$21)","v":0},null,{"$f":"IF($AL$21=0,0,$AL$21)","v":0},null,{"$f":"IF($AM$21=0,0,$AM$21)","v":0},null,{"$f":"IF($AN$21=0,0,$AN$21)","v":0},null,{"$f":"IF($AO$21=0,0,$AO$21)","v":0},null,{"$f":"IF($AP$21=0,0,$AP$21)","v":0},null,{"$f":"IF($AQ$21=0,0,$AQ$21)","v":0},null,{"$f":"IF($AR$21=0,0,$AR$21)","v":0},null,{"$f":"IF($AS$21=0,0,$AS$21)","v":0},null,{"$f":"IF($AT$21=0,0,$AT$21)","v":0},null,{"$f":"IF($AU$21=0,0,$AU$21)","v":0},null,{"$f":"SUM(G685:AD685)","v":0}]
[{"$f":"$A$46","v":"Unproduktive Stunden"}]
[{"$f":"$A$47","v":"   Absenzen, Kurzabsenzen Art. 11 GAV"},null,null,null,null,{"$f":"$F$47","v":"a"},{"$f":"IF($AJ$3=0,0,$AJ$3)","v":0},null,{"$f":"IF($AK$3=0,0,$AK$3)","v":0},null,{"$f":"IF($AL$3=0,0,$AL$3)","v":0},null,{"$f":"IF($AM$3=0,0,$AM$3)","v":0},null,{"$f":"IF($AN$3=0,0,$AN$3)","v":0},null,{"$f":"IF($AO$3=0,0,$AO$3)","v":0},null,{"$f":"IF($AP$3=0,0,$AP$3)","v":0},null,{"$f":"IF($AQ$3=0,0,$AQ$3)","v":0},null,{"$f":"IF($AR$3=0,0,$AR$3)","v":0},null,{"$f":"IF($AS$3=0,0,$AS$3)","v":0},null,{"$f":"IF(AT$3=0,0,$AT$3)","v":0},null,{"$f":"IF($AU$3=0,0,$AU$3)","v":0},null,{"$f":"IF($AV$3=0,0,$AV$3)","v":0}]
[{"$f":"$A$48","v":"   Ferien Art. 12.1 GAV"},null,null,null,null,{"$f":"$F$48","v":"f"},{"$f":"IF($AJ$4=0,0,$AJ$4)","v":0},null,{"$f":"IF($AK$4=0,0,$AK$4)","v":0},null,{"$f":"IF($AL$4=0,0,$AL$4)","v":0},null,{"$f":"IF($AM$4=0,0,$AM$4)","v":0},null,{"$f":"IF($AN$4=0,0,$AN$4)","v":0},null,{"$f":"IF($AO$4=0,0,$AO$4)","v":0},null,{"$f":"IF($AP$4=0,0,$AP$4)","v":0},null,{"$f":"IF($AQ$4=0,0,$AQ$4)","v":0},null,{"$f":"IF($AR$4=0,0,$AR$4)","v":0},null,{"$f":"IF($AS$4=0,0,$AS$4)","v":0},null,{"$f":"IF($AT$4=0,0,$AT$4)","v":0},null,{"$f":"IF($AU$4=0,0,$AU$4)","v":0},null,{"$f":"IF($AV$4=0,0,$AV$4)","v":0}]
[{"$f":"Labels!$B$181","v":"   Ferien unbezahlt"},null,null,null,null,{"$f":"Labels!$B$182","v":"fu"},{"$f":"IF($AJ$13=0,0,$AJ$13)","v":0},null,{"$f":"IF($AK$13=0,0,$AK$13)","v":0},null,{"$f":"IF($AL$13=0,0,$AL$13)","v":0},null,{"$f":"IF($AM$13=0,0,$AM$13)","v":0},null,{"$f":"IF($AN$13=0,0,$AN$13)","v":0},null,{"$f":"IF($AO$13=0,0,$AO$13)","v":0},null,{"$f":"IF($AP$13=0,0,$AP$13)","v":0},null,{"$f":"IF($AQ$13=0,0,$AQ$13)","v":0},null,{"$f":"IF($AR$13=0,0,$AR$13)","v":0},null,{"$f":"IF($AS$13=0,0,$AS$13)","v":0},null,{"$f":"IF($AT$13=0,0,$AT$13)","v":0},null,{"$f":"IF($AU$13=0,0,$AU$13)","v":0},null,{"$f":"IF($AV$13=0,0,$AV$13)","v":0}]
[{"$f":"$A$50","v":"   Feiertage Art. 12.2 GAV"},null,{"$f":"IF($AJ$18=\"\",\"\",$AJ$18)","v":""},null,null,{"$f":"$F$50","v":"ft"},{"$f":"IF($AJ$16=0,0,$AJ$16)","v":0},null,{"$f":"IF($AK$16=0,0,$AK$16)","v":0},null,{"$f":"IF($AL$16=0,0,$AL$16)","v":0},null,{"$f":"IF($AM$16=0,0,$AM$16)","v":0},null,{"$f":"IF($AN$16=0,0,$AN$16)","v":0},null,{"$f":"IF($AO$16=0,0,$AO$16)","v":0},null,{"$f":"IF($AP$16=0,0,$AP$16)","v":0},null,{"$f":"IF($AQ$16=0,0,$AQ$16)","v":0},null,{"$f":"IF($AR$16=0,0,$AR$16)","v":0},null,{"$f":"IF($AS$16=0,0,$AS$16)","v":0},null,{"$f":"IF($AT$16=0,0,$AT$16)","v":0},null,{"$f":"IF($AU$16=0,0,$AU$16)","v":0},null,{"$f":"IF($AV$16=0,0,$AV$16)","v":0}]
[{"$f":"$A$51","v":"   Krankheit Art. 13 GAV"},null,null,null,null,{"$f":"$F$51","v":"k"},{"$f":"IF($AJ$5=0,0,$AJ$5)","v":0},null,{"$f":"IF($AK$5=0,0,$AK$5)","v":0},null,{"$f":"IF($AL$5=0,0,$AL$5)","v":0},null,{"$f":"IF($AM$5=0,0,$AM$5)","v":0},null,{"$f":"IF($AN$5=0,0,$AN$5)","v":0},null,{"$f":"IF($AO$5=0,0,$AO$5)","v":0},null,{"$f":"IF($AP$5=0,0,$AP$5)","v":0},null,{"$f":"IF($AQ$5=0,0,$AQ$5)","v":0},null,{"$f":"IF($AR$5=0,0,$AR$5)","v":0},null,{"$f":"IF($AS$5=0,0,$AS$5)","v":0},null,{"$f":"IF($AT$5=0,0,$AT$5)","v":0},null,{"$f":"IF($AU$5=0,0,$AU$5)","v":0},null,{"$f":"IF($AV$5=0,0,$AV$5)","v":0}]
[{"$f":"$A$52","v":"   Unfall Art. 14 GAV"},null,null,null,null,{"$f":"$F$52","v":"u"},{"$f":"IF($AJ$6=0,0,$AJ$6)","v":0},null,{"$f":"IF($AK$6=0,0,$AK$6)","v":0},null,{"$f":"IF($AL$6=0,0,$AL$6)","v":0},null,{"$f":"IF($AM$6=0,0,$AM$6)","v":0},null,{"$f":"IF($AN$6=0,0,$AN$6)","v":0},null,{"$f":"IF($AO$6=0,0,$AO$6)","v":0},null,{"$f":"IF($AP$6=0,0,$AP$6)","v":0},null,{"$f":"IF($AQ$6=0,0,$AQ$6)","v":0},null,{"$f":"IF($AR$6=0,0,$AR$6)","v":0},null,{"$f":"IF($AS$6=0,0,$AS$6)","v":0},null,{"$f":"IF($AT$6=0,0,$AT$6)","v":0},null,{"$f":"IF($AU$6=0,0,$AU$6)","v":0},null,{"$f":"IF($AV$6=0,0,$AV$6)","v":0}]
[{"$f":"$A$53","v":"   Schwangerschaft/Mutterschaft Art. 15 GAV"},null,null,null,null,{"$f":"$F$53","v":"s"},{"$f":"IF($AJ$7=0,0,$AJ$7)","v":0},null,{"$f":"IF($AK$7=0,0,$AK$7)","v":0},null,{"$f":"IF($AL$7=0,0,$AL$7)","v":0},null,{"$f":"IF($AM$7=0,0,$AM$7)","v":0},null,{"$f":"IF($AN$7=0,0,$AN$7)","v":0},null,{"$f":"IF($AO$7=0,0,$AO$7)","v":0},null,{"$f":"IF($AP$7=0,0,$AP$7)","v":0},null,{"$f":"IF($AQ$7=0,0,$AQ$7)","v":0},null,{"$f":"IF($AR$7=0,0,$AR$7)","v":0},null,{"$f":"IF($AS$7=0,0,$AS$7)","v":0},null,{"$f":"IF($AT$7=0,0,$AT$7)","v":0},null,{"$f":"IF($AU$7=0,0,$AU$7)","v":0},null,{"$f":"IF($AV$7=0,0,$AV$7)","v":0}]
[{"$f":"$A$54","v":"   Militär/Beförderung/Zivilschutz Art. 16 GAV"},null,null,null,null,{"$f":"$F$54","v":"m"},{"$f":"IF($AJ$8=0,0,$AJ$8)","v":0},null,{"$f":"IF($AK$8=0,0,$AK$8)","v":0},null,{"$f":"IF($AL$8=0,0,$AL$8)","v":0},null,{"$f":"IF($AM$8=0,0,$AM$8)","v":0},null,{"$f":"IF($AN$8=0,0,$AN$8)","v":0},null,{"$f":"IF($AO$8=0,0,$AO$8)","v":0},null,{"$f":"IF($AP$8=0,0,$AP$8)","v":0},null,{"$f":"IF($AQ$8=0,0,$AQ$8)","v":0},null,{"$f":"IF($AR$8=0,0,$AR$8)","v":0},null,{"$f":"IF($AS$8=0,0,$AS$8)","v":0},null,{"$f":"IF($AT$8=0,0,$AT$8)","v":0},null,{"$f":"IF($AU$8=0,0,$AU$8)","v":0},null,{"$f":"IF($AV$8=0,0,$AV$8)","v":0}]
[{"$f":"$A$55","v":"   Kurzarbeit und Schlechtwetterausfälle"},null,null,null,null,{"$f":"$F$55","v":"ka"},{"$f":"IF($AJ$11=0,0,$AJ$11)","v":0},null,{"$f":"IF($AK$11=0,0,$AK$11)","v":0},null,{"$f":"IF($AL$11=0,0,$AL$11)","v":0},null,{"$f":"IF($AM$11=0,0,$AM$11)","v":0},null,{"$f":"IF($AN$11=0,0,$AN$11)","v":0},null,{"$f":"IF($AO$11=0,0,$AO$11)","v":0},null,{"$f":"IF($AP$11=0,0,$AP$11)","v":0},null,{"$f":"IF($AQ$11=0,0,$AQ$11)","v":0},null,{"$f":"IF($AR$11=0,0,$AR$11)","v":0},null,{"$f":"IF($AS$11=0,0,$AS$11)","v":0},null,{"$f":"IF($AT$11=0,0,$AT$11)","v":0},null,{"$f":"IF($AU$11=0,0,$AU$11)","v":0},null,{"$f":"IF($AV$11=0,0,$AV$11)","v":0}]
[{"$f":"$A$56","v":"   Berufsschule"},null,null,null,null,{"$f":"$F$56","v":"bs"},{"$f":"IF($AJ$9=0,0,$AJ$9)","v":0},null,{"$f":"IF($AK$9=0,0,$AK$9)","v":0},null,{"$f":"IF($AL$9=0,0,$AL$9)","v":0},null,{"$f":"IF($AM$9=0,0,$AM$9)","v":0},null,{"$f":"IF($AN$9=0,0,$AN$9)","v":0},null,{"$f":"IF($AO$9=0,0,$AO$9)","v":0},null,{"$f":"IF($AP$9=0,0,$AP$9)","v":0},null,{"$f":"IF($AQ$9=0,0,$AQ$9)","v":0},null,{"$f":"IF($AR$9=0,0,$AR$9)","v":0},null,{"$f":"IF($AS$9=0,0,$AS$9)","v":0},null,{"$f":"IF($AT$9=0,0,$AT$9)","v":0},null,{"$f":"IF($AU$9=0,0,$AU$9)","v":0},null,{"$f":"IF($AV$9=0,0,$AV$9)","v":0}]
[{"$f":"$A$57","v":"   Kurse"},null,null,null,null,{"$f":"$F$57","v":"ku"},{"$f":"IF($AJ$10=0,0,$AJ$10)","v":0},null,{"$f":"IF($AK$10=0,0,$AK$10)","v":0},null,{"$f":"IF($AL$10=0,0,$AL$10)","v":0},null,{"$f":"IF($AM$10=0,0,$AM$10)","v":0},null,{"$f":"IF($AN$10=0,0,$AN$10)","v":0},null,{"$f":"IF($AO$10=0,0,$AO$10)","v":0},null,{"$f":"IF($AP$10=0,0,$AP$10)","v":0},null,{"$f":"IF($AQ$10=0,0,$AQ$10)","v":0},null,{"$f":"IF($AR$10=0,0,$AR$10)","v":0},null,{"$f":"IF($AS$10=0,0,$AS$10)","v":0},null,{"$f":"IF($AT$10=0,0,$AT$10)","v":0},null,{"$f":"IF($AU$10=0,0,$AU$10)","v":0},null,{"$f":"IF($AV$10=0,0,$AV$10)","v":0}]
[{"$f":"$A$58","v":"Kompensations-Std"},{"$f":"$B$58","v":"aus Vorjahr"},null,null,null,{"$f":"$F$58","v":"kv"},{"$f":"IF($AJ$12=0,0,$AJ$12)","v":0},null,{"$f":"IF($AK$12=0,0,$AK$12)","v":0},null,{"$f":"IF($AL$12=0,0,$AL$12)","v":0},null,{"$f":"IF($AM$12=0,0,$AM$12)","v":0},null,{"$f":"IF($AN$12=0,0,$AN$12)","v":0},null,{"$f":"IF($AO$12=0,0,$AO$12)","v":0},null,{"$f":"IF($AP$12=0,0,$AP$12)","v":0},null,{"$f":"IF($AQ$12=0,0,$AQ$12)","v":0},null,{"$f":"IF($AR$12=0,0,$AR$12)","v":0},null,null,null,null,null,null,null,{"$f":"IF($AV$12=0,0,$AV$12)","v":0}]
[null,{"$f":"$B$59","v":"aus laufendem Jahr (Kontrolle)"},null,null,null,{"$f":"$F$59","v":"kj"},{"$f":"IF($AJ$15=0,0,$AJ$15)","v":0},null,{"$f":"IF($AK$15=0,0,$AK$15)","v":0},null,{"$f":"IF($AL$15=0,0,$AL$15)","v":0},null,{"$f":"IF($AM$15=0,0,$AM$15)","v":0},null,{"$f":"IF($AN$15=0,0,$AN$15)","v":0},null,{"$f":"IF($AO$15=0,0,$AO$15)","v":0},null,{"$f":"IF($AP$15=0,0,$AP$15)","v":0},null,{"$f":"IF($AQ$15=0,0,$AQ$15)","v":0},null,{"$f":"IF($AR$15=0,0,$AR$15)","v":0},null,{"$f":"IF($AS$15=0,0,$AS$15)","v":0},null,{"$f":"IF($AT$15=0,0,$AT$15)","v":0},null,{"$f":"IF($AU$15=0,0,$AU$15)","v":0},null,{"$f":"IF($AV$15=0,0,$AV$15)","v":0}]
[{"$f":"$A$60","v":"Auszahlung"},{"$f":"$B$60","v":"Stunden Vorjahressaldo"},null,null,null,null,{"$f":"IF($AJ$19=0,0,$AJ$19)","v":0},null,{"$f":"IF($AK$19=0,0,$AK$19)","v":0},null,{"$f":"IF($AL$19=0,0,$AL$19)","v":0},null,{"$f":"IF($AM$19=0,0,$AM$19)","v":0},null,{"$f":"IF($AN$19=0,0,$AN$19)","v":0},null,{"$f":"IF($AO$19=0,0,$AO$19)","v":0},null,{"$f":"IF($AP$19=0,0,$AP$19)","v":0},null,{"$f":"IF($AQ$19=0,0,$AQ$19)","v":0},null,{"$f":"IF($AR$19=0,0,$AR$19)","v":0},null,null,null,null,null,null,null,{"$f":"IF($AV$19=0,0,$AV$19)","v":0}]
[{"$f":"$A$61","v":"Differenz"},{"$f":"$B$61","v":"nach Kompensation und Auszahlung"},null,null,null,null,{"$f":"IF(ROUND($P$4,3)=0,0,$P$4-SUM(G698+G700))","v":0},null,{"$f":"IF(ROUND(G701,3)=0,0,G701-(SUM(I700+I698)))","v":0},null,{"$f":"IF(ROUND(I701,3)=0,0,I701-(SUM(K700+K698)))","v":0},null,{"$f":"IF(ROUND(K701,3)=0,0,K701-(SUM(M700+M698)))","v":0},null,{"$f":"IF(ROUND(M701,3)=0,0,M701-(SUM(O700+O698)))","v":0},null,{"$f":"IF(ROUND(O701,3)=0,0,O701-(SUM(Q700+Q698)))","v":0},null,{"$f":"IF(ROUND(Q701,3)=0,0,Q701-(SUM(S700+S698)))","v":0},null,{"$f":"IF(ROUND(S701,3)=0,0,S701-(SUM(U700+U698)))","v":0},null,{"$f":"IF(ROUND(U701,3)=0,0,U701-(SUM(W700+W698)))","v":0},null,{"$f":"$Y$61","v":""}]
[{"$f":"$A$62","v":"Auszahlung"},{"$f":"$B$62","v":"Stunden laufendes Jahr"},null,null,null,null,{"$f":"IF($AJ$20=0,0,$AJ$20)","v":0},null,{"$f":"IF($AK$20=0,0,$AK$20)","v":0},null,{"$f":"IF($AL$20=0,0,$AL$20)","v":0},null,{"$f":"IF($AM$20=0,0,$AM$20)","v":0},null,{"$f":"IF($AN$20=0,0,$AN$20)","v":0},null,{"$f":"IF($AO$20=0,0,$AO$20)","v":0},null,{"$f":"IF($AP$20=0,0,$AP$20)","v":0},null,{"$f":"IF($AQ$20=0,0,$AQ$20)","v":0},null,{"$f":"IF($AR$20=0,0,$AR$20)","v":0},null,{"$f":"IF($AS$20=0,0,$AS$20)","v":0},null,{"$f":"IF($AT$20=0,0,$AT$20)","v":0},null,{"$f":"IF($AU$20=0,0,$AU$20)","v":0},null,{"$f":"IF($AV$20=0,0,$AV$20)","v":0}]
[{"$f":"$A$63","v":"Fehlstunden"},{"$f":"$B$63","v":"laufendes Jahr (Kontrolle)"},null,null,null,{"$f":"$F$63","v":"fe"},{"$f":"IF($AJ$14=0,0,$AJ$14)","v":0},null,{"$f":"IF($AK$14=0,0,$AK$14)","v":0},null,{"$f":"IF($AL$14=0,0,$AL$14)","v":0},null,{"$f":"IF($AM$14=0,0,$AM$14)","v":0},null,{"$f":"IF($AN$14=0,0,$AN$14)","v":0},null,{"$f":"IF($AO$14=0,0,$AO$14)","v":0},null,{"$f":"IF($AP$14=0,0,$AP$14)","v":0},null,{"$f":"IF($AQ$14=0,0,$AQ$14)","v":0},null,{"$f":"IF($AR$14=0,0,$AR$14)","v":0},null,{"$f":"IF($AS$14=0,0,$AS$14)","v":0},null,{"$f":"IF($AT$14=0,0,$AT$14)","v":0},null,{"$f":"IF($AU$14=0,0,$AU$14)","v":0},null,{"$f":"IF($AV$14=0,0,$AV$14)","v":0}]
[{"$f":"$A$64","v":"Total inkl. Zeitzuschläge"},{"$f":"$B$64","v":"Stunden produktiv und unproduktiv"},null,null,null,null,{"$f":"IF($AG$36=0,0,$AG$36)","v":0},null,{"$f":"IF($AG$99=0,0,$AG$99)","v":0},null,{"$f":"IF($AG$163=0,0,$AG$163)","v":0},null,{"$f":"IF($AG$227=0,0,$AG$227)","v":0},null,{"$f":"IF($AG$291=0,0,$AG$291)","v":0},null,{"$f":"IF($AG$355=0,0,$AG$355)","v":0},null,{"$f":"IF($AG$419=0,0,$AG$419)","v":0},null,{"$f":"IF($AG$483=0,0,$AG$483)","v":0},null,{"$f":"IF($AG$547=0,0,$AG$547)","v":0},null,{"$f":"IF($AG$611=0,0,$AG$611)","v":0},null,{"$f":"IF($AG$675=0,0,$AG$675)","v":0},null,{"$f":"IF($AG$739=0,0,$AG$739)","v":0},null,{"$f":"SUM($G$64:$AD$64)","v":0}]
[{"$f":"$A$65","v":"Vergleich"},{"$f":"$B$65","v":"Stunden zu Soll-Stunden (inkl. allfälli-\nge Minusstunden Vorjahr)"},null,null,null,null,{"$f":"$G$65","v":-168},null,{"$f":"$I$65","v":-160},null,{"$f":"$K$65","v":-184},null,{"$f":"$M$65","v":-168},null,{"$f":"$O$65","v":-176},null,{"$f":"$Q$65","v":-176},null,{"$f":"$S$65","v":-168},null,{"$f":"$U$65","v":-184},null,{"$f":"$W$65","v":-176},null,{"$f":"$Y$65","v":-168},null,{"$f":"$AA$65","v":-176},null,{"$f":"$AC$65","v":-176},null,{"$f":"$AE$65","v":-2080}]
[null,{"$f":"$B$66","v":"Stunden zu Soll-Stunden (kumuliert)"},null,null,null,null,{"$f":"$G$66","v":-168},null,{"$f":"$I$66","v":-328},null,{"$f":"$K$66","v":-512},null,{"$f":"$M$66","v":-680},null,{"$f":"$O$66","v":-856},null,{"$f":"$Q$66","v":-1032},null,{"$f":"$S$66","v":-1200},null,{"$f":"$U$66","v":-1384},null,{"$f":"$W$66","v":-1560},null,{"$f":"$Y$66","v":-1728},null,{"$f":"$AA$66","v":-1904},null,{"$f":"$AC$66","v":-2080},null,{"$f":"$AE$66","v":0}]
[{"$f":"$A$67","v":"Ferienkontrolle"},{"$f":"$B$67","v":"Ferienguthaben Vorjahr"},null,null,null,null,{"$f":"IF($AA$4=0,0,$AA$4)","v":0},null,{"$f":"$I$67","v":"Ferienguthaben nach \nArt. 12.1 GAV"},null,null,null,{"$f":"IF($AA$5=0,0,$AA$5)","v":0},null,{"$f":"$O$67","v":"Ferienguthaben total"},null,null,null,{"$f":"SUM(G771+M771)","v":0},null,{"$f":"$U$67","v":"Ferien bezogen"},null,null,null,{"$f":"IF($AV$4=0,0,$AV$4)","v":0},null,{"$f":"$AA$67","v":"Aktuelles Ferienguthaben"},null,null,null,{"$f":"IF(S771=0,0,S771-Y771)","v":0}]
[]
[]
[]
[]
[]
[]
[]
[]
[]
[]
[]
[]
[]
[]
[]
[]
[]
[]
[]
[]
[]
[]
[]
[]
[]
[]
[]
[]
[]
[]
[]
[]
[]
[]
["Testbereich Absenzen"]
[null,{"$f":"B831","v":0},{"$f":"C831","v":0}]
[null,{"$f":"IF(B831<>0,IF(MAX(B818:B830)<B831,\"div\",INDEX($AH$817:$AH$829,MATCH(MAX(B818:B830),B818:B830,0))),\"\")","v":""},{"$f":"IF(C831<>0,IF(MAX(C818:C830)<C831,\"div\",INDEX($AH$817:$AH$829,MATCH(MAX(C818:C830),C818:C830,0))),\"\")","v":""}]
[]
["Code für Max-Wert",{"$f":"INDEX($AH$817:$AH$829,MATCH(MAX(B818:B830),B818:B830,0))","v":{"$error":"#N/A"}},null,null,"Jahressaldo",null,null,{"$f":"D5","v":-2080}]
[]
[{"$f":"A9","v":"Januar"},{"$f":"Labels!B32","v":"Saldo Monat + / -"},null,null,null,{"$f":"F9","v":-168},null,null,null,null,null,null,null,null,null,null,null,null,null,null,null,null,null,null,null,null,null,{"$f":"Labels!B38","v":"Absenz in Std"},null,null,{"$f":"Labels!B77","v":"Jan"},null,{"$f":"COUNT(B815:AF815)&\" \"&Labels!$B$63","v":"21 Tage"}]
[{"$f":"Labels!B35","v":"Tag"},{"$f":"B10","v":"2022-01-01"},{"$f":"B813+1","v":"2022-01-02"},"2022-01-03","2022-01-04","2022-01-05","2022-01-06","2022-01-07","2022-01-08","2022-01-09","2022-01-10","2022-01-11","2022-01-12","2022-01-13","2022-01-14","2022-01-15","2022-01-16","2022-01-17","2022-01-18","2022-01-19","2022-01-20","2022-01-21","2022-01-22","2022-01-23","2022-01-24","2022-01-25","2022-01-26","2022-01-27","2022-01-28","2022-01-29","2022-01-30","2022-01-31"]
[{"$f":"Labels!B36","v":"Kalenderwoche"},{"$f":"IF(B813=\"\",\"\",TRUNC((B813-DATE(YEAR(B813+3-MOD(B813-2,7)),1,MOD(B813-2,7)-9))/7))","v":52},{"$f":"IF(C813=\"\",\"\",TRUNC((C813-DATE(YEAR(C813+3-MOD(C813-2,7)),1,MOD(C813-2,7)-9))/7))","v":52},1,1,1,1,1,1,1,2,2,2,2,2,2,2,3,3,3,3,3,3,3,4,4,4,4,4,4,4,5,{"$f":"SUM(B815:AF815)","v":168}]
[{"$f":"Labels!B37","v":"Sollstunden"},{"$f":"B12","v":""},{"$f":"C12","v":""},8,8,8,8,8,"","",8,8,8,8,8,"","",8,8,8,8,8,"","",8,8,8,8,8,"","",8]
[{"$f":"Labels!B165","v":"Produktivstunden"},{"$f":"SUM(B15:B17)","v":0},0,0,0,0,0,0,0,0,0,0,0,0,0,0,0,0,0,0,0,0,0,0,0,0,0,0,0,0,0,0,{"$f":"SUM(B817:AF817)","v":0},null,null,"Legende Absenztypen (DE)"]
[{"$f":"Labels!B166","v":"Feiertage [ft]"},{"$f":"B18","v":""},"","","","","","","","","","","","","","","","","","","","","","","","","","","","","","",{"$f":"SUM(B818:AF818)","v":0},{"$f":"Labels!B115","v":"f"}]
[{"$f":"Labels!B167","v":"Ferien [f]"},null,null,null,null,null,null,null,null,null,null,null,null,null,null,null,null,null,null,null,null,null,null,null,null,null,null,null,null,null,null,null,0,{"$f":"Labels!B135","v":"kv"},null,"f","Ferien Art. 12.1. GAV"]
[{"$f":"Labels!B168","v":"Kompensation (Vorjahr) [kv]"},null,null,null,null,null,null,null,null,null,null,null,null,null,null,null,null,null,null,null,null,null,null,null,null,null,null,null,null,null,null,null,0,{"$f":"Labels!B137","v":"kj"},null,"kv","Kompensation Vorjahressaldo für Abrechnung in der Zusammenfassung"]
[{"$f":"Labels!B169","v":"Kompensation (laufend) [kj]"},null,null,null,null,null,null,null,null,null,null,null,null,null,null,null,null,null,null,null,null,null,null,null,null,null,null,null,null,null,null,null,{"$f":"SUM(B821:AF821)","v":0},{"$f":"Labels!B113","v":"a"},null,"kj","Kompensation laufendes Jahr siehe  Zusammenfassung"]
[{"$f":"Labels!B170","v":"Absenzen, Kurzabsenzen [a]"},null,null,null,null,null,null,null,null,null,null,null,null,null,null,null,null,null,null,null,null,null,null,null,null,null,null,null,null,null,null,null,0,{"$f":"Labels!B120","v":"k"},null,"a","Absenzen, Kurzabsenzen\nArt. 11 GAV"]
[{"$f":"Labels!B171","v":"Krankheit [k]"},null,null,null,null,null,null,null,null,null,null,null,null,null,null,null,null,null,null,null,null,null,null,null,null,null,null,null,null,null,null,null,0,{"$f":"Labels!B122","v":"u"},null,"k","Krankheit Art. 13 GAV"]
[{"$f":"Labels!B172","v":"Unfall [u]"},null,null,null,null,null,null,null,null,null,null,null,null,null,null,null,null,null,null,null,null,null,null,null,null,null,null,null,null,null,null,null,0,{"$f":"Labels!B124","v":"s"},null,"u","Unfall Art. 14 GAV"]
[{"$f":"Labels!B173","v":"Schwangerschaft/Mutterschaft [s]"},null,null,null,null,null,null,null,null,null,null,null,null,null,null,null,null,null,null,null,null,null,null,null,null,null,null,null,null,null,null,null,0,{"$f":"Labels!B126","v":"m"},null,"s","Schwanger-/Mutterschaft\nArt. 15 GAV"]
[{"$f":"Labels!B174","v":"Militär/Beförderung/Zivilschutz [m]"},null,null,null,null,null,null,null,null,null,null,null,null,null,null,null,null,null,null,null,null,null,null,null,null,null,null,null,null,null,null,null,0,{"$f":"Labels!B130","v":"bs"},null,"m","Militär, Zivilschutz\nArt. 16 GAV"]
[{"$f":"Labels!B175","v":"Berufsschule [bs]"},null,null,null,null,null,null,null,null,null,null,null,null,null,null,null,null,null,null,null,null,null,null,null,null,null,null,null,null,null,null,null,0,{"$f":"Labels!B132","v":"ku"},null,"bs","Berufsschule"]
[{"$f":"Labels!B176","v":"Kurse [ku]"},null,null,null,null,null,null,null,null,null,null,null,null,null,null,null,null,null,null,null,null,null,null,null,null,null,null,null,null,null,null,null,0,{"$f":"Labels!B128","v":"ka"},null,"ku","Kurse"]
[{"$f":"Labels!B177","v":"Kurzarbeit und Schlechtwetter [ka]"},null,null,null,null,null,null,null,null,null,null,null,null,null,null,null,null,null,null,null,null,null,null,null,null,null,null,null,null,null,null,null,0,{"$f":"Labels!B180","v":"fu"},null,"ka","Kurzabeit, Schlechtwetterausfälle"]
[{"$f":"Labels!B179","v":"Ferien unbezahlt [fu]"},null,null,null,null,null,null,null,null,null,null,null,null,null,null,null,null,null,null,null,null,null,null,null,null,null,null,null,null,null,null,null,0,{"$f":"Labels!B145","v":"fe"}]
[{"$f":"Labels!B178","v":"Fehlstunden (unbezahlt) [fe]"},null,null,null,null,null,null,null,null,null,null,null,null,null,null,null,null,null,null,null,null,null,null,null,null,null,null,null,null,null,null,null,null,null,null,"fe","Fehlstunden zur Information ohne Berechnung in der Zusammenfassung"]
[{"$f":"Labels!B102","v":"Total"},{"$f":"SUM(B818:B830)","v":0},{"$f":"SUM(C818:C830)","v":0},0,0,0,0,0,0,0,0,0,0,0,0,0,0,0,0,0,0,0,0,0,0,0,0,0,0,0,0,0]
[]
[]
[]
[{"$f":"A73","v":"Februar"},{"$f":"$B$812","v":"Saldo Monat + / -"},null,null,null,{"$f":"F73","v":-160},null,null,null,null,null,null,null,null,null,null,null,null,null,null,null,null,null,null,null,null,null,{"$f":"$AB$812","v":"Absenz in Std"},null,null,{"$f":"Labels!B78","v":"Feb"},null,{"$f":"COUNT(B838:AF838)&\" \"&Labels!$B$63","v":"20 Tage"}]
[{"$f":"$A$813","v":"Tag"},{"$f":"B74","v":"2022-02-01"},{"$f":"B836+1","v":"2022-02-02"},"2022-02-03","2022-02-04","2022-02-05","2022-02-06","2022-02-07","2022-02-08","2022-02-09","2022-02-10","2022-02-11","2022-02-12","2022-02-13","2022-02-14","2022-02-15","2022-02-16","2022-02-17","2022-02-18","2022-02-19","2022-02-20","2022-02-21","2022-02-22","2022-02-23","2022-02-24","2022-02-25","2022-02-26","2022-02-27","2022-02-28",{"$f":"IF(AD74=\"\",\"\",AC836+1)","v":""}]
[{"$f":"$A$814","v":"Kalenderwoche"},{"$f":"IF(B836=\"\",\"\",TRUNC((B836-DATE(YEAR(B836+3-MOD(B836-2,7)),1,MOD(B836-2,7)-9))/7))","v":5},{"$f":"IF(C836=\"\",\"\",TRUNC((C836-DATE(YEAR(C836+3-MOD(C836-2,7)),1,MOD(C836-2,7)-9))/7))","v":5},5,5,5,5,6,6,6,6,6,6,6,7,7,7,7,7,7,7,8,8,8,8,8,8,8,9,"",null,null,{"$f":"IF($AD$836=\"\",SUM(A838:AC838),SUM(B838:AF838))","v":160}]
[{"$f":"$A$815","v":"Sollstunden"},{"$f":"B76","v":8},{"$f":"C76","v":8},8,8,"","",8,8,8,8,8,"","",8,8,8,8,8,"","",8,8,8,8,8,"","",8,{"$error":"#VALUE!"},null,null,{"$f":"IF($AD$836=\"\",SUM(A839:AC839),SUM(B839:AF839))","v":0}]
[{"$f":"$A$816","v":"Produktivstunden"},{"$f":"SUM(B79:B81)","v":0},{"$f":"SUM(C79:C81)","v":0},0,0,0,0,0,0,0,0,0,0,0,0,0,0,0,0,0,0,0,0,0,0,0,0,0,0,{"$f":"IF(AD836=\"\",\"\",SUM(AD79:AD81))","v":""},null,null,0]
[{"$f":"$A$817","v":"Feiertage [ft]"},{"$f":"B82","v":""},{"$f":"C82","v":""},"","","","","","","","","","","","","","","","","","","","","","","","","","",{"$f":"IF(AD836=\"\",\"\",AD82)","v":""},null,null,0,{"$f":"$AH$817","v":"f"}]
[{"$f":"$A$818","v":"Ferien [f]"},null,null,null,null,null,null,null,null,null,null,null,null,null,null,null,null,null,null,null,null,null,null,null,null,null,null,null,null,null,null,null,0,{"$f":"$AH$818","v":"kv"}]
[{"$f":"$A$819","v":"Kompensation (Vorjahr) [kv]"},null,null,null,null,null,null,null,null,null,null,null,null,null,null,null,null,null,null,null,null,null,null,null,null,null,null,null,null,null,null,null,0,{"$f":"$AH$819","v":"kj"}]
[{"$f":"$A$820","v":"Kompensation (laufend) [kj]"},null,null,null,null,null,null,null,null,null,null,null,null,null,null,null,null,null,null,null,null,null,null,null,null,null,null,null,null,null,null,null,0,{"$f":"$AH$820","v":"a"}]
[{"$f":"$A$821","v":"Absenzen, Kurzabsenzen [a]"},null,null,null,null,null,null,null,null,null,null,null,null,null,null,null,null,null,null,null,null,null,null,null,null,null,null,null,null,null,null,null,0,{"$f":"$AH$821","v":"k"}]
[{"$f":"$A$822","v":"Krankheit [k]"},null,null,null,null,null,null,null,null,null,null,null,null,null,null,null,null,null,null,null,null,null,null,null,null,null,null,null,null,null,null,null,0,{"$f":"$AH$822","v":"u"}]
[{"$f":"$A$823","v":"Unfall [u]"},null,null,null,null,null,null,null,null,null,null,null,null,null,null,null,null,null,null,null,null,null,null,null,null,null,null,null,null,null,null,null,0,{"$f":"$AH$823","v":"s"}]
[{"$f":"$A$824","v":"Schwangerschaft/Mutterschaft [s]"},null,null,null,null,null,null,null,null,null,null,null,null,null,null,null,null,null,null,null,null,null,null,null,null,null,null,null,null,null,null,null,0,{"$f":"$AH$824","v":"m"}]
[{"$f":"$A$825","v":"Militär/Beförderung/Zivilschutz [m]"},null,null,null,null,null,null,null,null,null,null,null,null,null,null,null,null,null,null,null,null,null,null,null,null,null,null,null,null,null,null,null,0,{"$f":"$AH$825","v":"bs"}]
[{"$f":"$A$826","v":"Berufsschule [bs]"},null,null,null,null,null,null,null,null,null,null,null,null,null,null,null,null,null,null,null,null,null,null,null,null,null,null,null,null,null,null,null,0,{"$f":"$AH$826","v":"ku"}]
[{"$f":"$A$827","v":"Kurse [ku]"},null,null,null,null,null,null,null,null,null,null,null,null,null,null,null,null,null,null,null,null,null,null,null,null,null,null,null,null,null,null,null,0,{"$f":"$AH$827","v":"ka"}]
[{"$f":"$A$828","v":"Kurzarbeit und Schlechtwetter [ka]"},null,null,null,null,null,null,null,null,null,null,null,null,null,null,null,null,null,null,null,null,null,null,null,null,null,null,null,null,null,null,null,0,{"$f":"$AH$828","v":"fu"}]
[{"$f":"$A$829","v":"Ferien unbezahlt [fu]"},null,null,null,null,null,null,null,null,null,null,null,null,null,null,null,null,null,null,null,null,null,null,null,null,null,null,null,null,null,null,null,0,{"$f":"$AH$829","v":"fe"}]
[{"$f":"$A$830","v":"Fehlstunden (unbezahlt) [fe]"},null,null,null,null,null,null,null,null,null,null,null,null,null,null,null,null,null,null,null,null,null,null,null,null,null,null,null,null,null,null,null,0]
[{"$f":"$A$831","v":"Total"},{"$f":"SUM(B841:B853)","v":0},{"$f":"SUM(C841:C853)","v":0},0,0,0,0,0,0,0,0,0,0,0,0,0,0,0,0,0,0,0,0,0,0,0,0,0,0,{"$f":"IF(AD836=\"\",\"\",SUM(AD841:AD853))","v":""}]
[]
[]
[]
[{"$f":"A137","v":"März"},{"$f":"$B$812","v":"Saldo Monat + / -"},null,null,null,{"$f":"F137","v":-184},null,null,null,null,null,null,null,null,null,null,null,null,null,null,null,null,null,null,null,null,null,{"$f":"$AB$812","v":"Absenz in Std"},null,null,{"$f":"Labels!B79","v":"Mrz"},null,{"$f":"COUNT(B861:AF861)&\" \"&Labels!$B$63","v":"23 Tage"}]
[{"$f":"$A$813","v":"Tag"},{"$f":"B138","v":"2022-03-01"},{"$f":"B859+1","v":"2022-03-02"},"2022-03-03","2022-03-04","2022-03-05","2022-03-06","2022-03-07","2022-03-08","2022-03-09","2022-03-10","2022-03-11","2022-03-12","2022-03-13","2022-03-14","2022-03-15","2022-03-16","2022-03-17","2022-03-18","2022-03-19","2022-03-20","2022-03-21","2022-03-22","2022-03-23","2022-03-24","2022-03-25","2022-03-26","2022-03-27","2022-03-28","2022-03-29","2022-03-30","2022-03-31"]
[{"$f":"$A$814","v":"Kalenderwoche"},{"$f":"IF(B859=\"\",\"\",TRUNC((B859-DATE(YEAR(B859+3-MOD(B859-2,7)),1,MOD(B859-2,7)-9))/7))","v":9},{"$f":"IF(C859=\"\",\"\",TRUNC((C859-DATE(YEAR(C859+3-MOD(C859-2,7)),1,MOD(C859-2,7)-9))/7))","v":9},9,9,9,9,10,10,10,10,10,10,10,11,11,11,11,11,11,11,12,12,12,12,12,12,12,13,13,13,13,{"$f":"SUM(B861:AF861)","v":184}]
[{"$f":"$A$815","v":"Sollstunden"},{"$f":"B140","v":8},{"$f":"C140","v":8},8,8,"","",8,8,8,8,8,"","",8,8,8,8,8,"","",8,8,8,8,8,"","",8,8,8,8]
[{"$f":"$A$816","v":"Produktivstunden"},{"$f":"SUM(B143:B145)","v":0},{"$f":"SUM(C143:C145)","v":0},0,0,0,0,0,0,0,0,0,0,0,0,0,0,0,0,0,0,0,0,0,0,0,0,0,0,0,0,0,{"$f":"SUM(B863:AF863)","v":0}]
[{"$f":"$A$817","v":"Feiertage [ft]"},{"$f":"B146","v":""},{"$f":"C146","v":""},"","","","","","","","","","","","","","","","","","","","","","","","","","","","","",{"$f":"SUM(B864:AF864)","v":0},{"$f":"$AH$817","v":"f"}]
[{"$f":"$A$818","v":"Ferien [f]"},null,null,null,null,null,null,null,null,null,null,null,null,null,null,null,null,null,null,null,null,null,null,null,null,null,null,null,null,null,null,null,{"$f":"SUM(B865:AF865)","v":0},{"$f":"$AH$818","v":"kv"}]
[{"$f":"$A$819","v":"Kompensation (Vorjahr) [kv]"},null,null,null,null,null,null,null,null,null,null,null,null,null,null,null,null,null,null,null,null,null,null,null,null,null,null,null,null,null,null,null,{"$f":"SUM(B866:AF866)","v":0},{"$f":"$AH$819","v":"kj"}]
[{"$f":"$A$820","v":"Kompensation (laufend) [kj]"},null,null,null,null,null,null,null,null,null,null,null,null,null,null,null,null,null,null,null,null,null,null,null,null,null,null,null,null,null,null,null,{"$f":"SUM(B867:AF867)","v":0},{"$f":"$AH$820","v":"a"}]
[{"$f":"$A$821","v":"Absenzen, Kurzabsenzen [a]"},null,null,null,null,null,null,null,null,null,null,null,null,null,null,null,null,null,null,null,null,null,null,null,null,null,null,null,null,null,null,null,{"$f":"SUM(B868:AF868)","v":0},{"$f":"$AH$821","v":"k"}]
[{"$f":"$A$822","v":"Krankheit [k]"},null,null,null,null,null,null,null,null,null,null,null,null,null,null,null,null,null,null,null,null,null,null,null,null,null,null,null,null,null,null,null,0,{"$f":"$AH$822","v":"u"}]
[{"$f":"$A$823","v":"Unfall [u]"},null,null,null,null,null,null,null,null,null,null,null,null,null,null,null,null,null,null,null,null,null,null,null,null,null,null,null,null,null,null,null,0,{"$f":"$AH$823","v":"s"}]
[{"$f":"$A$824","v":"Schwangerschaft/Mutterschaft [s]"},null,null,null,null,null,null,null,null,null,null,null,null,null,null,null,null,null,null,null,null,null,null,null,null,null,null,null,null,null,null,null,0,{"$f":"$AH$824","v":"m"}]
[{"$f":"$A$825","v":"Militär/Beförderung/Zivilschutz [m]"},null,null,null,null,null,null,null,null,null,null,null,null,null,null,null,null,null,null,null,null,null,null,null,null,null,null,null,null,null,null,null,0,{"$f":"$AH$825","v":"bs"}]
[{"$f":"$A$826","v":"Berufsschule [bs]"},null,null,null,null,null,null,null,null,null,null,null,null,null,null,null,null,null,null,null,null,null,null,null,null,null,null,null,null,null,null,null,0,{"$f":"$AH$826","v":"ku"}]
[{"$f":"$A$827","v":"Kurse [ku]"},null,null,null,null,null,null,null,null,null,null,null,null,null,null,null,null,null,null,null,null,null,null,null,null,null,null,null,null,null,null,null,0,{"$f":"$AH$827","v":"ka"}]
[{"$f":"$A$828","v":"Kurzarbeit und Schlechtwetter [ka]"},null,null,null,null,null,null,null,null,null,null,null,null,null,null,null,null,null,null,null,null,null,null,null,null,null,null,null,null,null,null,null,0,{"$f":"$AH$828","v":"fu"}]
[{"$f":"$A$829","v":"Ferien unbezahlt [fu]"},null,null,null,null,null,null,null,null,null,null,null,null,null,null,null,null,null,null,null,null,null,null,null,null,null,null,null,null,null,null,null,0,{"$f":"$AH$829","v":"fe"}]
[{"$f":"$A$830","v":"Fehlstunden (unbezahlt) [fe]"}]
[{"$f":"$A$831","v":"Total"},{"$f":"SUM(B864:B876)","v":0},{"$f":"SUM(C864:C876)","v":0},0,0,0,0,0,0,0,0,0,0,0,0,0,0,0,0,0,0,0,0,0,0,0,0,0,0,0,0,0]
[]
[]
[]
[{"$f":"A201","v":"April"},{"$f":"$B$812","v":"Saldo Monat + / -"},null,null,null,{"$f":"F201","v":-168},null,null,null,null,null,null,null,null,null,null,null,null,null,null,null,null,null,null,null,null,null,{"$f":"$AB$812","v":"Absenz in Std"},null,null,{"$f":"Labels!B80","v":"Apr"},null,{"$f":"COUNT(B884:AF884)&\" \"&Labels!$B$63","v":"21 Tage"}]
[{"$f":"$A$813","v":"Tag"},{"$f":"B202","v":"2022-04-01"},{"$f":"B882+1","v":"2022-04-02"},"2022-04-03","2022-04-04","2022-04-05","2022-04-06","2022-04-07","2022-04-08","2022-04-09","2022-04-10","2022-04-11","2022-04-12","2022-04-13","2022-04-14","2022-04-15","2022-04-16","2022-04-17","2022-04-18","2022-04-19","2022-04-20","2022-04-21","2022-04-22","2022-04-23","2022-04-24","2022-04-25","2022-04-26","2022-04-27","2022-04-28","2022-04-29","2022-04-30"]
[{"$f":"$A$814","v":"Kalenderwoche"},{"$f":"IF(B882=\"\",\"\",TRUNC((B882-DATE(YEAR(B882+3-MOD(B882-2,7)),1,MOD(B882-2,7)-9))/7))","v":13},{"$f":"IF(C882=\"\",\"\",TRUNC((C882-DATE(YEAR(C882+3-MOD(C882-2,7)),1,MOD(C882-2,7)-9))/7))","v":13},13,14,14,14,14,14,14,14,15,15,15,15,15,15,15,16,16,16,16,16,16,16,17,17,17,17,17,17,null,{"$f":"SUM(B884:AF884)","v":168}]
[{"$f":"$A$815","v":"Sollstunden"},{"$f":"B204","v":8},{"$f":"C204","v":""},"",8,8,8,8,8,"","",8,8,8,8,8,"","",8,8,8,8,8,"","",8,8,8,8,8,""]
[{"$f":"$A$816","v":"Produktivstunden"},{"$f":"SUM(B207:B209)","v":0},{"$f":"SUM(C207:C209)","v":0},0,0,0,0,0,0,0,0,0,0,0,0,0,0,0,0,0,0,0,0,0,0,0,0,0,0,0,0,null,{"$f":"SUM(B886:AF886)","v":0}]
[{"$f":"$A$817","v":"Feiertage [ft]"},{"$f":"B210","v":""},{"$f":"C210","v":""},"","","","","","","","","","","","","","","","","","","","","","","","","","","","",null,{"$f":"SUM(B887:AF887)","v":0},{"$f":"$AH$817","v":"f"}]
[{"$f":"$A$818","v":"Ferien [f]"},null,null,null,null,null,null,null,null,null,null,null,null,null,null,null,null,null,null,null,null,null,null,null,null,null,null,null,null,null,null,null,{"$f":"SUM(B888:AF888)","v":0},{"$f":"$AH$818","v":"kv"}]
[{"$f":"$A$819","v":"Kompensation (Vorjahr) [kv]"},null,null,null,null,null,null,null,null,null,null,null,null,null,null,null,null,null,null,null,null,null,null,null,null,null,null,null,null,null,null,null,{"$f":"SUM(B889:AF889)","v":0},{"$f":"$AH$819","v":"kj"}]
[{"$f":"$A$820","v":"Kompensation (laufend) [kj]"},null,null,null,null,null,null,null,null,null,null,null,null,null,null,null,null,null,null,null,null,null,null,null,null,null,null,null,null,null,null,null,{"$f":"SUM(B890:AF890)","v":0},{"$f":"$AH$820","v":"a"}]
[{"$f":"$A$821","v":"Absenzen, Kurzabsenzen [a]"},null,null,null,null,null,null,null,null,null,null,null,null,null,null,null,null,null,null,null,null,null,null,null,null,null,null,null,null,null,null,null,{"$f":"SUM(B891:AF891)","v":0},{"$f":"$AH$821","v":"k"}]
[{"$f":"$A$822","v":"Krankheit [k]"},null,null,null,null,null,null,null,null,null,null,null,null,null,null,null,null,null,null,null,null,null,null,null,null,null,null,null,null,null,null,null,0,{"$f":"$AH$822","v":"u"}]
[{"$f":"$A$823","v":"Unfall [u]"},null,null,null,null,null,null,null,null,null,null,null,null,null,null,null,null,null,null,null,null,null,null,null,null,null,null,null,null,null,null,null,0,{"$f":"$AH$823","v":"s"}]
[{"$f":"$A$824","v":"Schwangerschaft/Mutterschaft [s]"},null,null,null,null,null,null,null,null,null,null,null,null,null,null,null,null,null,null,null,null,null,null,null,null,null,null,null,null,null,null,null,0,{"$f":"$AH$824","v":"m"}]
[{"$f":"$A$825","v":"Militär/Beförderung/Zivilschutz [m]"},null,null,null,null,null,null,null,null,null,null,null,null,null,null,null,null,null,null,null,null,null,null,null,null,null,null,null,null,null,null,null,0,{"$f":"$AH$825","v":"bs"}]
[{"$f":"$A$826","v":"Berufsschule [bs]"},null,null,null,null,null,null,null,null,null,null,null,null,null,null,null,null,null,null,null,null,null,null,null,null,null,null,null,null,null,null,null,0,{"$f":"$AH$826","v":"ku"}]
[{"$f":"$A$827","v":"Kurse [ku]"},null,null,null,null,null,null,null,null,null,null,null,null,null,null,null,null,null,null,null,null,null,null,null,null,null,null,null,null,null,null,null,0,{"$f":"$AH$827","v":"ka"}]
[{"$f":"$A$828","v":"Kurzarbeit und Schlechtwetter [ka]"},null,null,null,null,null,null,null,null,null,null,null,null,null,null,null,null,null,null,null,null,null,null,null,null,null,null,null,null,null,null,null,0,{"$f":"$AH$828","v":"fu"}]
[{"$f":"$A$829","v":"Ferien unbezahlt [fu]"},null,null,null,null,null,null,null,null,null,null,null,null,null,null,null,null,null,null,null,null,null,null,null,null,null,null,null,null,null,null,null,0,{"$f":"$AH$829","v":"fe"}]
[{"$f":"$A$830","v":"Fehlstunden (unbezahlt) [fe]"}]
[{"$f":"$A$831","v":"Total"},{"$f":"SUM(B887:B899)","v":0},{"$f":"SUM(C887:C899)","v":0},0,0,0,0,0,0,0,0,0,0,0,0,0,0,0,0,0,0,0,0,0,0,0,0,0,0,0,0]
[]
[]
[]
[{"$f":"A265","v":"Mai"},{"$f":"$B$812","v":"Saldo Monat + / -"},null,null,null,{"$f":"F265","v":-176},null,null,null,null,null,null,null,null,null,null,null,null,null,null,null,null,null,null,null,null,null,{"$f":"$AB$812","v":"Absenz in Std"},null,null,{"$f":"Labels!B81","v":"Mai"},null,{"$f":"COUNT(B907:AF907)&\" \"&Labels!$B$63","v":"22 Tage"}]
[{"$f":"$A$813","v":"Tag"},{"$f":"B266","v":"2022-05-01"},{"$f":"B905+1","v":"2022-05-02"},"2022-05-03","2022-05-04","2022-05-05","2022-05-06","2022-05-07","2022-05-08","2022-05-09","2022-05-10","2022-05-11","2022-05-12","2022-05-13","2022-05-14","2022-05-15","2022-05-16","2022-05-17","2022-05-18","2022-05-19","2022-05-20","2022-05-21","2022-05-22","2022-05-23","2022-05-24","2022-05-25","2022-05-26","2022-05-27","2022-05-28","2022-05-29","2022-05-30","2022-05-31"]
[{"$f":"$A$814","v":"Kalenderwoche"},{"$f":"IF(B905=\"\",\"\",TRUNC((B905-DATE(YEAR(B905+3-MOD(B905-2,7)),1,MOD(B905-2,7)-9))/7))","v":17},{"$f":"IF(C905=\"\",\"\",TRUNC((C905-DATE(YEAR(C905+3-MOD(C905-2,7)),1,MOD(C905-2,7)-9))/7))","v":18},18,18,18,18,18,18,19,19,19,19,19,19,19,20,20,20,20,20,20,20,21,21,21,21,21,21,21,22,22,{"$f":"SUM(B907:AF907)","v":176}]
[{"$f":"$A$815","v":"Sollstunden"},{"$f":"B268","v":""},{"$f":"C268","v":8},8,8,8,8,"","",8,8,8,8,8,"","",8,8,8,8,8,"","",8,8,8,8,8,"","",8,8]
[{"$f":"$A$816","v":"Produktivstunden"},{"$f":"SUM(B271:B273)","v":0},{"$f":"SUM(C271:C273)","v":0},0,0,0,0,0,0,0,0,0,0,0,0,0,0,0,0,0,0,0,0,0,0,0,0,0,0,0,0,0,{"$f":"SUM(B909:AF909)","v":0}]
[{"$f":"$A$817","v":"Feiertage [ft]"},{"$f":"B274","v":""},{"$f":"C274","v":""},"","","","","","","","","","","","","","","","","","","","","","","","","","","","","",{"$f":"SUM(B910:AF910)","v":0},{"$f":"$AH$817","v":"f"}]
[{"$f":"$A$818","v":"Ferien [f]"},null,null,null,null,null,null,null,null,null,null,null,null,null,null,null,null,null,null,null,null,null,null,null,null,null,null,null,null,null,null,null,{"$f":"SUM(B911:AF911)","v":0},{"$f":"$AH$818","v":"kv"}]
[{"$f":"$A$819","v":"Kompensation (Vorjahr) [kv]"},null,null,null,null,null,null,null,null,null,null,null,null,null,null,null,null,null,null,null,null,null,null,null,null,null,null,null,null,null,null,null,{"$f":"SUM(B912:AF912)","v":0},{"$f":"$AH$819","v":"kj"}]
[{"$f":"$A$820","v":"Kompensation (laufend) [kj]"},null,null,null,null,null,null,null,null,null,null,null,null,null,null,null,null,null,null,null,null,null,null,null,null,null,null,null,null,null,null,null,{"$f":"SUM(B913:AF913)","v":0},{"$f":"$AH$820","v":"a"}]
[{"$f":"$A$821","v":"Absenzen, Kurzabsenzen [a]"},null,null,null,null,null,null,null,null,null,null,null,null,null,null,null,null,null,null,null,null,null,null,null,null,null,null,null,null,null,null,null,{"$f":"SUM(B914:AF914)","v":0},{"$f":"$AH$821","v":"k"}]
[{"$f":"$A$822","v":"Krankheit [k]"},null,null,null,null,null,null,null,null,null,null,null,null,null,null,null,null,null,null,null,null,null,null,null,null,null,null,null,null,null,null,null,0,{"$f":"$AH$822","v":"u"}]
[{"$f":"$A$823","v":"Unfall [u]"},null,null,null,null,null,null,null,null,null,null,null,null,null,null,null,null,null,null,null,null,null,null,null,null,null,null,null,null,null,null,null,0,{"$f":"$AH$823","v":"s"}]
[{"$f":"$A$824","v":"Schwangerschaft/Mutterschaft [s]"},null,null,null,null,null,null,null,null,null,null,null,null,null,null,null,null,null,null,null,null,null,null,null,null,null,null,null,null,null,null,null,0,{"$f":"$AH$824","v":"m"}]
[{"$f":"$A$825","v":"Militär/Beförderung/Zivilschutz [m]"},null,null,null,null,null,null,null,null,null,null,null,null,null,null,null,null,null,null,null,null,null,null,null,null,null,null,null,null,null,null,null,0,{"$f":"$AH$825","v":"bs"}]
[{"$f":"$A$826","v":"Berufsschule [bs]"},null,null,null,null,null,null,null,null,null,null,null,null,null,null,null,null,null,null,null,null,null,null,null,null,null,null,null,null,null,null,null,0,{"$f":"$AH$826","v":"ku"}]
[{"$f":"$A$827","v":"Kurse [ku]"},null,null,null,null,null,null,null,null,null,null,null,null,null,null,null,null,null,null,null,null,null,null,null,null,null,null,null,null,null,null,null,0,{"$f":"$AH$827","v":"ka"}]
[{"$f":"$A$828","v":"Kurzarbeit und Schlechtwetter [ka]"},null,null,null,null,null,null,null,null,null,null,null,null,null,null,null,null,null,null,null,null,null,null,null,null,null,null,null,null,null,null,null,0,{"$f":"$AH$828","v":"fu"}]
[{"$f":"$A$829","v":"Ferien unbezahlt [fu]"},null,null,null,null,null,null,null,null,null,null,null,null,null,null,null,null,null,null,null,null,null,null,null,null,null,null,null,null,null,null,null,0,{"$f":"$AH$829","v":"fe"}]
[{"$f":"$A$830","v":"Fehlstunden (unbezahlt) [fe]"}]
[{"$f":"$A$831","v":"Total"},{"$f":"SUM(B910:B922)","v":0},{"$f":"SUM(C910:C922)","v":0},0,0,0,0,0,0,0,0,0,0,0,0,0,0,0,0,0,0,0,0,0,0,0,0,0,0,0,0,0]
[]
[]
[]
[{"$f":"A329","v":"Juni"},{"$f":"$B$812","v":"Saldo Monat + / -"},null,null,null,{"$f":"F329","v":-176},null,null,null,null,null,null,null,null,null,null,null,null,null,null,null,null,null,null,null,null,null,{"$f":"$AB$812","v":"Absenz in Std"},null,null,{"$f":"Labels!B82","v":"Jun"},null,{"$f":"COUNT(B930:AF930)&\" \"&Labels!$B$63","v":"22 Tage"}]
[{"$f":"$A$813","v":"Tag"},{"$f":"B330","v":"2022-06-01"},{"$f":"B928+1","v":"2022-06-02"},"2022-06-03","2022-06-04","2022-06-05","2022-06-06","2022-06-07","2022-06-08","2022-06-09","2022-06-10","2022-06-11","2022-06-12","2022-06-13","2022-06-14","2022-06-15","2022-06-16","2022-06-17","2022-06-18","2022-06-19","2022-06-20","2022-06-21","2022-06-22","2022-06-23","2022-06-24","2022-06-25","2022-06-26","2022-06-27","2022-06-28","2022-06-29","2022-06-30"]
[{"$f":"$A$814","v":"Kalenderwoche"},{"$f":"IF(B928=\"\",\"\",TRUNC((B928-DATE(YEAR(B928+3-MOD(B928-2,7)),1,MOD(B928-2,7)-9))/7))","v":22},{"$f":"IF(C928=\"\",\"\",TRUNC((C928-DATE(YEAR(C928+3-MOD(C928-2,7)),1,MOD(C928-2,7)-9))/7))","v":22},22,22,22,23,23,23,23,23,23,23,24,24,24,24,24,24,24,25,25,25,25,25,25,25,26,26,26,26,null,{"$f":"SUM(B930:AF930)","v":176}]
[{"$f":"$A$815","v":"Sollstunden"},{"$f":"B332","v":8},{"$f":"C332","v":8},8,"","",8,8,8,8,8,"","",8,8,8,8,8,"","",8,8,8,8,8,"","",8,8,8,8]
[{"$f":"$A$816","v":"Produktivstunden"},{"$f":"SUM(B335:B337)","v":0},{"$f":"SUM(C335:C337)","v":0},0,0,0,0,0,0,0,0,0,0,0,0,0,0,0,0,0,0,0,0,0,0,0,0,0,0,0,0,null,{"$f":"SUM(B932:AF932)","v":0}]
[{"$f":"$A$817","v":"Feiertage [ft]"},{"$f":"B338","v":""},{"$f":"C338","v":""},"","","","","","","","","","","","","","","","","","","","","","","","","","","","",null,{"$f":"SUM(B933:AF933)","v":0},{"$f":"$AH$817","v":"f"}]
[{"$f":"$A$818","v":"Ferien [f]"},null,null,null,null,null,null,null,null,null,null,null,null,null,null,null,null,null,null,null,null,null,null,null,null,null,null,null,null,null,null,null,{"$f":"SUM(B934:AF934)","v":0},{"$f":"$AH$818","v":"kv"}]
[{"$f":"$A$819","v":"Kompensation (Vorjahr) [kv]"},null,null,null,null,null,null,null,null,null,null,null,null,null,null,null,null,null,null,null,null,null,null,null,null,null,null,null,null,null,null,null,{"$f":"SUM(B935:AF935)","v":0},{"$f":"$AH$819","v":"kj"}]
[{"$f":"$A$820","v":"Kompensation (laufend) [kj]"},null,null,null,null,null,null,null,null,null,null,null,null,null,null,null,null,null,null,null,null,null,null,null,null,null,null,null,null,null,null,null,{"$f":"SUM(B936:AF936)","v":0},{"$f":"$AH$820","v":"a"}]
[{"$f":"$A$821","v":"Absenzen, Kurzabsenzen [a]"},null,null,null,null,null,null,null,null,null,null,null,null,null,null,null,null,null,null,null,null,null,null,null,null,null,null,null,null,null,null,null,{"$f":"SUM(B937:AF937)","v":0},{"$f":"$AH$821","v":"k"}]
[{"$f":"$A$822","v":"Krankheit [k]"},null,null,null,null,null,null,null,null,null,null,null,null,null,null,null,null,null,null,null,null,null,null,null,null,null,null,null,null,null,null,null,0,{"$f":"$AH$822","v":"u"}]
[{"$f":"$A$823","v":"Unfall [u]"},null,null,null,null,null,null,null,null,null,null,null,null,null,null,null,null,null,null,null,null,null,null,null,null,null,null,null,null,null,null,null,0,{"$f":"$AH$823","v":"s"}]
[{"$f":"$A$824","v":"Schwangerschaft/Mutterschaft [s]"},null,null,null,null,null,null,null,null,null,null,null,null,null,null,null,null,null,null,null,null,null,null,null,null,null,null,null,null,null,null,null,0,{"$f":"$AH$824","v":"m"}]
[{"$f":"$A$825","v":"Militär/Beförderung/Zivilschutz [m]"},null,null,null,null,null,null,null,null,null,null,null,null,null,null,null,null,null,null,null,null,null,null,null,null,null,null,null,null,null,null,null,0,{"$f":"$AH$825","v":"bs"}]
[{"$f":"$A$826","v":"Berufsschule [bs]"},null,null,null,null,null,null,null,null,null,null,null,null,null,null,null,null,null,null,null,null,null,null,null,null,null,null,null,null,null,null,null,0,{"$f":"$AH$826","v":"ku"}]
[{"$f":"$A$827","v":"Kurse [ku]"},null,null,null,null,null,null,null,null,null,null,null,null,null,null,null,null,null,null,null,null,null,null,null,null,null,null,null,null,null,null,null,0,{"$f":"$AH$827","v":"ka"}]
[{"$f":"$A$828","v":"Kurzarbeit und Schlechtwetter [ka]"},null,null,null,null,null,null,null,null,null,null,null,null,null,null,null,null,null,null,null,null,null,null,null,null,null,null,null,null,null,null,null,0,{"$f":"$AH$828","v":"fu"}]
[{"$f":"$A$829","v":"Ferien unbezahlt [fu]"},null,null,null,null,null,null,null,null,null,null,null,null,null,null,null,null,null,null,null,null,null,null,null,null,null,null,null,null,null,null,null,0,{"$f":"$AH$829","v":"fe"}]
[{"$f":"$A$830","v":"Fehlstunden (unbezahlt) [fe]"}]
[{"$f":"$A$831","v":"Total"},{"$f":"SUM(B933:B945)","v":0},{"$f":"SUM(C933:C945)","v":0},0,0,0,0,0,0,0,0,0,0,0,0,0,0,0,0,0,0,0,0,0,0,0,0,0,0,0,0]
[]
[]
[]
[{"$f":"A393","v":"Juli"},{"$f":"$B$812","v":"Saldo Monat + / -"},null,null,null,{"$f":"F393","v":-168},null,null,null,null,null,null,null,null,null,null,null,null,null,null,null,null,null,null,null,null,null,{"$f":"$AB$812","v":"Absenz in Std"},null,null,{"$f":"Labels!B83","v":"Jul"},null,{"$f":"COUNT(B953:AF953)&\" \"&Labels!$B$63","v":"21 Tage"}]
[{"$f":"$A$813","v":"Tag"},{"$f":"B394","v":"2022-07-01"},{"$f":"B951+1","v":"2022-07-02"},"2022-07-03","2022-07-04","2022-07-05","2022-07-06","2022-07-07","2022-07-08","2022-07-09","2022-07-10","2022-07-11","2022-07-12","2022-07-13","2022-07-14","2022-07-15","2022-07-16","2022-07-17","2022-07-18","2022-07-19","2022-07-20","2022-07-21","2022-07-22","2022-07-23","2022-07-24","2022-07-25","2022-07-26","2022-07-27","2022-07-28","2022-07-29","2022-07-30","2022-07-31"]
[{"$f":"$A$814","v":"Kalenderwoche"},{"$f":"IF(B951=\"\",\"\",TRUNC((B951-DATE(YEAR(B951+3-MOD(B951-2,7)),1,MOD(B951-2,7)-9))/7))","v":26},{"$f":"IF(C951=\"\",\"\",TRUNC((C951-DATE(YEAR(C951+3-MOD(C951-2,7)),1,MOD(C951-2,7)-9))/7))","v":26},26,27,27,27,27,27,27,27,28,28,28,28,28,28,28,29,29,29,29,29,29,29,30,30,30,30,30,30,30,{"$f":"SUM(B953:AF953)","v":168}]
[{"$f":"$A$815","v":"Sollstunden"},{"$f":"B396","v":8},{"$f":"C396","v":""},"",8,8,8,8,8,"","",8,8,8,8,8,"","",8,8,8,8,8,"","",8,8,8,8,8,"",""]
[{"$f":"$A$816","v":"Produktivstunden"},{"$f":"SUM(B399:B401)","v":0},{"$f":"SUM(C399:C401)","v":0},0,0,0,0,0,0,0,0,0,0,0,0,0,0,0,0,0,0,0,0,0,0,0,0,0,0,0,0,0,{"$f":"SUM(B955:AF955)","v":0}]
[{"$f":"$A$817","v":"Feiertage [ft]"},{"$f":"B402","v":""},{"$f":"C402","v":""},"","","","","","","","","","","","","","","","","","","","","","","","","","","","","",{"$f":"SUM(B956:AF956)","v":0},{"$f":"$AH$817","v":"f"}]
[{"$f":"$A$818","v":"Ferien [f]"},null,null,null,null,null,null,null,null,null,null,null,null,null,null,null,null,null,null,null,null,null,null,null,null,null,null,null,null,null,null,null,{"$f":"SUM(B957:AF957)","v":0},{"$f":"$AH$818","v":"kv"}]
[{"$f":"$A$819","v":"Kompensation (Vorjahr) [kv]"},null,null,null,null,null,null,null,null,null,null,null,null,null,null,null,null,null,null,null,null,null,null,null,null,null,null,null,null,null,null,null,{"$f":"SUM(B958:AF958)","v":0},{"$f":"$AH$819","v":"kj"}]
[{"$f":"$A$820","v":"Kompensation (laufend) [kj]"},null,null,null,null,null,null,null,null,null,null,null,null,null,null,null,null,null,null,null,null,null,null,null,null,null,null,null,null,null,null,null,{"$f":"SUM(B959:AF959)","v":0},{"$f":"$AH$820","v":"a"}]
[{"$f":"$A$821","v":"Absenzen, Kurzabsenzen [a]"},null,null,null,null,null,null,null,null,null,null,null,null,null,null,null,null,null,null,null,null,null,null,null,null,null,null,null,null,null,null,null,{"$f":"SUM(B960:AF960)","v":0},{"$f":"$AH$821","v":"k"}]
[{"$f":"$A$822","v":"Krankheit [k]"},null,null,null,null,null,null,null,null,null,null,null,null,null,null,null,null,null,null,null,null,null,null,null,null,null,null,null,null,null,null,null,0,{"$f":"$AH$822","v":"u"}]
[{"$f":"$A$823","v":"Unfall [u]"},null,null,null,null,null,null,null,null,null,null,null,null,null,null,null,null,null,null,null,null,null,null,null,null,null,null,null,null,null,null,null,0,{"$f":"$AH$823","v":"s"}]
[{"$f":"$A$824","v":"Schwangerschaft/Mutterschaft [s]"},null,null,null,null,null,null,null,null,null,null,null,null,null,null,null,null,null,null,null,null,null,null,null,null,null,null,null,null,null,null,null,0,{"$f":"$AH$824","v":"m"}]
[{"$f":"$A$825","v":"Militär/Beförderung/Zivilschutz [m]"},null,null,null,null,null,null,null,null,null,null,null,null,null,null,null,null,null,null,null,null,null,null,null,null,null,null,null,null,null,null,null,0,{"$f":"$AH$825","v":"bs"}]
[{"$f":"$A$826","v":"Berufsschule [bs]"},null,null,null,null,null,null,null,null,null,null,null,null,null,null,null,null,null,null,null,null,null,null,null,null,null,null,null,null,null,null,null,0,{"$f":"$AH$826","v":"ku"}]
[{"$f":"$A$827","v":"Kurse [ku]"},null,null,null,null,null,null,null,null,null,null,null,null,null,null,null,null,null,null,null,null,null,null,null,null,null,null,null,null,null,null,null,0,{"$f":"$AH$827","v":"ka"}]
[{"$f":"$A$828","v":"Kurzarbeit und Schlechtwetter [ka]"},null,null,null,null,null,null,null,null,null,null,null,null,null,null,null,null,null,null,null,null,null,null,null,null,null,null,null,null,null,null,null,0,{"$f":"$AH$828","v":"fu"}]
[{"$f":"$A$829","v":"Ferien unbezahlt [fu]"},null,null,null,null,null,null,null,null,null,null,null,null,null,null,null,null,null,null,null,null,null,null,null,null,null,null,null,null,null,null,null,0,{"$f":"$AH$829","v":"fe"}]
[{"$f":"$A$830","v":"Fehlstunden (unbezahlt) [fe]"}]
[{"$f":"$A$831","v":"Total"},{"$f":"SUM(B956:B968)","v":0},{"$f":"SUM(C956:C968)","v":0},0,0,0,0,0,0,0,0,0,0,0,0,0,0,0,0,0,0,0,0,0,0,0,0,0,0,0,0,0]
[]
[]
[]
[{"$f":"A457","v":"August"},{"$f":"$B$812","v":"Saldo Monat + / -"},null,null,null,{"$f":"F457","v":-184},null,null,null,null,null,null,null,null,null,null,null,null,null,null,null,null,null,null,null,null,null,{"$f":"$AB$812","v":"Absenz in Std"},null,null,{"$f":"Labels!B84","v":"Aug"},null,{"$f":"COUNT(B976:AF976)&\" \"&Labels!$B$63","v":"23 Tage"}]
[{"$f":"$A$813","v":"Tag"},{"$f":"B458","v":"2022-08-01"},{"$f":"B974+1","v":"2022-08-02"},"2022-08-03","2022-08-04","2022-08-05","2022-08-06","2022-08-07","2022-08-08","2022-08-09","2022-08-10","2022-08-11","2022-08-12","2022-08-13","2022-08-14","2022-08-15","2022-08-16","2022-08-17","2022-08-18","2022-08-19","2022-08-20","2022-08-21","2022-08-22","2022-08-23","2022-08-24","2022-08-25","2022-08-26","2022-08-27","2022-08-28","2022-08-29","2022-08-30","2022-08-31"]
[{"$f":"$A$814","v":"Kalenderwoche"},{"$f":"IF(B974=\"\",\"\",TRUNC((B974-DATE(YEAR(B974+3-MOD(B974-2,7)),1,MOD(B974-2,7)-9))/7))","v":31},{"$f":"IF(C974=\"\",\"\",TRUNC((C974-DATE(YEAR(C974+3-MOD(C974-2,7)),1,MOD(C974-2,7)-9))/7))","v":31},31,31,31,31,31,32,32,32,32,32,32,32,33,33,33,33,33,33,33,34,34,34,34,34,34,34,35,35,35,{"$f":"SUM(B976:AF976)","v":184}]
[{"$f":"$A$815","v":"Sollstunden"},{"$f":"B460","v":8},{"$f":"C460","v":8},8,8,8,"","",8,8,8,8,8,"","",8,8,8,8,8,"","",8,8,8,8,8,"","",8,8,8]
[{"$f":"$A$816","v":"Produktivstunden"},{"$f":"SUM(B463:B465)","v":0},{"$f":"SUM(C463:C465)","v":0},0,0,0,0,0,0,0,0,0,0,0,0,0,0,0,0,0,0,0,0,0,0,0,0,0,0,0,0,0,{"$f":"SUM(B978:AF978)","v":0}]
[{"$f":"$A$817","v":"Feiertage [ft]"},{"$f":"B466","v":""},{"$f":"C466","v":""},"","","","","","","","","","","","","","","","","","","","","","","","","","","","","",{"$f":"SUM(B979:AF979)","v":0},{"$f":"$AH$817","v":"f"}]
[{"$f":"$A$818","v":"Ferien [f]"},null,null,null,null,null,null,null,null,null,null,null,null,null,null,null,null,null,null,null,null,null,null,null,null,null,null,null,null,null,null,null,{"$f":"SUM(B980:AF980)","v":0},{"$f":"$AH$818","v":"kv"}]
[{"$f":"$A$819","v":"Kompensation (Vorjahr) [kv]"},null,null,null,null,null,null,null,null,null,null,null,null,null,null,null,null,null,null,null,null,null,null,null,null,null,null,null,null,null,null,null,{"$f":"SUM(B981:AF981)","v":0},{"$f":"$AH$819","v":"kj"}]
[{"$f":"$A$820","v":"Kompensation (laufend) [kj]"},null,null,null,null,null,null,null,null,null,null,null,null,null,null,null,null,null,null,null,null,null,null,null,null,null,null,null,null,null,null,null,{"$f":"SUM(B982:AF982)","v":0},{"$f":"$AH$820","v":"a"}]
[{"$f":"$A$821","v":"Absenzen, Kurzabsenzen [a]"},null,null,null,null,null,null,null,null,null,null,null,null,null,null,null,null,null,null,null,null,null,null,null,null,null,null,null,null,null,null,null,{"$f":"SUM(B983:AF983)","v":0},{"$f":"$AH$821","v":"k"}]
[{"$f":"$A$822","v":"Krankheit [k]"},null,null,null,null,null,null,null,null,null,null,null,null,null,null,null,null,null,null,null,null,null,null,null,null,null,null,null,null,null,null,null,0,{"$f":"$AH$822","v":"u"}]
[{"$f":"$A$823","v":"Unfall [u]"},null,null,null,null,null,null,null,null,null,null,null,null,null,null,null,null,null,null,null,null,null,null,null,null,null,null,null,null,null,null,null,0,{"$f":"$AH$823","v":"s"}]
[{"$f":"$A$824","v":"Schwangerschaft/Mutterschaft [s]"},null,null,null,null,null,null,null,null,null,null,null,null,null,null,null,null,null,null,null,null,null,null,null,null,null,null,null,null,null,null,null,0,{"$f":"$AH$824","v":"m"}]
[{"$f":"$A$825","v":"Militär/Beförderung/Zivilschutz [m]"},null,null,null,null,null,null,null,null,null,null,null,null,null,null,null,null,null,null,null,null,null,null,null,null,null,null,null,null,null,null,null,0,{"$f":"$AH$825","v":"bs"}]
[{"$f":"$A$826","v":"Berufsschule [bs]"},null,null,null,null,null,null,null,null,null,null,null,null,null,null,null,null,null,null,null,null,null,null,null,null,null,null,null,null,null,null,null,0,{"$f":"$AH$826","v":"ku"}]
[{"$f":"$A$827","v":"Kurse [ku]"},null,null,null,null,null,null,null,null,null,null,null,null,null,null,null,null,null,null,null,null,null,null,null,null,null,null,null,null,null,null,null,0,{"$f":"$AH$827","v":"ka"}]
[{"$f":"$A$828","v":"Kurzarbeit und Schlechtwetter [ka]"},null,null,null,null,null,null,null,null,null,null,null,null,null,null,null,null,null,null,null,null,null,null,null,null,null,null,null,null,null,null,null,0,{"$f":"$AH$828","v":"fu"}]
[{"$f":"$A$829","v":"Ferien unbezahlt [fu]"},null,null,null,null,null,null,null,null,null,null,null,null,null,null,null,null,null,null,null,null,null,null,null,null,null,null,null,null,null,null,null,0,{"$f":"$AH$829","v":"fe"}]
[{"$f":"$A$830","v":"Fehlstunden (unbezahlt) [fe]"}]
[{"$f":"$A$831","v":"Total"},{"$f":"SUM(B979:B991)","v":0},{"$f":"SUM(C979:C991)","v":0},0,0,0,0,0,0,0,0,0,0,0,0,0,0,0,0,0,0,0,0,0,0,0,0,0,0,0,0,0]
[]
[]
[]
[{"$f":"A521","v":"September"},{"$f":"$B$812","v":"Saldo Monat + / -"},null,null,null,{"$f":"F521","v":-176},null,null,null,null,null,null,null,null,null,null,null,null,null,null,null,null,null,null,null,null,null,{"$f":"$AB$812","v":"Absenz in Std"},null,null,{"$f":"Labels!B85","v":"Sep"},null,{"$f":"COUNT(B999:AF999)&\" \"&Labels!$B$63","v":"22 Tage"}]
[{"$f":"$A$813","v":"Tag"},{"$f":"B522","v":"2022-09-01"},{"$f":"B997+1","v":"2022-09-02"},"2022-09-03","2022-09-04","2022-09-05","2022-09-06","2022-09-07","2022-09-08","2022-09-09","2022-09-10","2022-09-11","2022-09-12","2022-09-13","2022-09-14","2022-09-15","2022-09-16","2022-09-17","2022-09-18","2022-09-19","2022-09-20","2022-09-21","2022-09-22","2022-09-23","2022-09-24","2022-09-25","2022-09-26","2022-09-27","2022-09-28","2022-09-29","2022-09-30"]
[{"$f":"$A$814","v":"Kalenderwoche"},{"$f":"IF(B997=\"\",\"\",TRUNC((B997-DATE(YEAR(B997+3-MOD(B997-2,7)),1,MOD(B997-2,7)-9))/7))","v":35},{"$f":"IF(C997=\"\",\"\",TRUNC((C997-DATE(YEAR(C997+3-MOD(C997-2,7)),1,MOD(C997-2,7)-9))/7))","v":35},35,35,36,36,36,36,36,36,36,37,37,37,37,37,37,37,38,38,38,38,38,38,38,39,39,39,39,39,null,{"$f":"SUM(B999:AF999)","v":176}]
[{"$f":"$A$815","v":"Sollstunden"},{"$f":"B524","v":8},{"$f":"C524","v":8},"","",8,8,8,8,8,"","",8,8,8,8,8,"","",8,8,8,8,8,"","",8,8,8,8,8]
[{"$f":"$A$816","v":"Produktivstunden"},{"$f":"SUM(B527:B529)","v":0},{"$f":"SUM(C527:C529)","v":0},0,0,0,0,0,0,0,0,0,0,0,0,0,0,0,0,0,0,0,0,0,0,0,0,0,0,0,0,null,{"$f":"SUM(B1001:AF1001)","v":0}]
[{"$f":"$A$817","v":"Feiertage [ft]"},{"$f":"B530","v":""},{"$f":"C530","v":""},"","","","","","","","","","","","","","","","","","","","","","","","","","","","",null,{"$f":"SUM(B1002:AF1002)","v":0},{"$f":"$AH$817","v":"f"}]
[{"$f":"$A$818","v":"Ferien [f]"},null,null,null,null,null,null,null,null,null,null,null,null,null,null,null,null,null,null,null,null,null,null,null,null,null,null,null,null,null,null,null,{"$f":"SUM(B1003:AF1003)","v":0},{"$f":"$AH$818","v":"kv"}]
[{"$f":"$A$819","v":"Kompensation (Vorjahr) [kv]"},null,null,null,null,null,null,null,null,null,null,null,null,null,null,null,null,null,null,null,null,null,null,null,null,null,null,null,null,null,null,null,{"$f":"SUM(B1004:AF1004)","v":0},{"$f":"$AH$819","v":"kj"}]
[{"$f":"$A$820","v":"Kompensation (laufend) [kj]"},null,null,null,null,null,null,null,null,null,null,null,null,null,null,null,null,null,null,null,null,null,null,null,null,null,null,null,null,null,null,null,{"$f":"SUM(B1005:AF1005)","v":0},{"$f":"$AH$820","v":"a"}]
[{"$f":"$A$821","v":"Absenzen, Kurzabsenzen [a]"},null,null,null,null,null,null,null,null,null,null,null,null,null,null,null,null,null,null,null,null,null,null,null,null,null,null,null,null,null,null,null,{"$f":"SUM(B1006:AF1006)","v":0},{"$f":"$AH$821","v":"k"}]
[{"$f":"$A$822","v":"Krankheit [k]"},null,null,null,null,null,null,null,null,null,null,null,null,null,null,null,null,null,null,null,null,null,null,null,null,null,null,null,null,null,null,null,0,{"$f":"$AH$822","v":"u"}]
[{"$f":"$A$823","v":"Unfall [u]"},null,null,null,null,null,null,null,null,null,null,null,null,null,null,null,null,null,null,null,null,null,null,null,null,null,null,null,null,null,null,null,0,{"$f":"$AH$823","v":"s"}]
[{"$f":"$A$824","v":"Schwangerschaft/Mutterschaft [s]"},null,null,null,null,null,null,null,null,null,null,null,null,null,null,null,null,null,null,null,null,null,null,null,null,null,null,null,null,null,null,null,0,{"$f":"$AH$824","v":"m"}]
[{"$f":"$A$825","v":"Militär/Beförderung/Zivilschutz [m]"},null,null,null,null,null,null,null,null,null,null,null,null,null,null,null,null,null,null,null,null,null,null,null,null,null,null,null,null,null,null,null,0,{"$f":"$AH$825","v":"bs"}]
[{"$f":"$A$826","v":"Berufsschule [bs]"},null,null,null,null,null,null,null,null,null,null,null,null,null,null,null,null,null,null,null,null,null,null,null,null,null,null,null,null,null,null,null,0,{"$f":"$AH$826","v":"ku"}]
[{"$f":"$A$827","v":"Kurse [ku]"},null,null,null,null,null,null,null,null,null,null,null,null,null,null,null,null,null,null,null,null,null,null,null,null,null,null,null,null,null,null,null,0,{"$f":"$AH$827","v":"ka"}]
[{"$f":"$A$828","v":"Kurzarbeit und Schlechtwetter [ka]"},null,null,null,null,null,null,null,null,null,null,null,null,null,null,null,null,null,null,null,null,null,null,null,null,null,null,null,null,null,null,null,0,{"$f":"$AH$828","v":"fu"}]
[{"$f":"$A$829","v":"Ferien unbezahlt [fu]"},null,null,null,null,null,null,null,null,null,null,null,null,null,null,null,null,null,null,null,null,null,null,null,null,null,null,null,null,null,null,null,0,{"$f":"$AH$829","v":"fe"}]
[{"$f":"$A$830","v":"Fehlstunden (unbezahlt) [fe]"}]
[{"$f":"$A$831","v":"Total"},{"$f":"SUM(B1002:B1014)","v":0},{"$f":"SUM(C1002:C1014)","v":0},0,0,0,0,0,0,0,0,0,0,0,0,0,0,0,0,0,0,0,0,0,0,0,0,0,0,0,0]
[]
[]
[]
[{"$f":"A585","v":"Oktober"},{"$f":"$B$812","v":"Saldo Monat + / -"},null,null,null,{"$f":"F585","v":-168},null,null,null,null,null,null,null,null,null,null,null,null,null,null,null,null,null,null,null,null,null,{"$f":"$AB$812","v":"Absenz in Std"},null,null,{"$f":"Labels!B86","v":"Okt"},null,{"$f":"COUNT(B1022:AF1022)&\" \"&Labels!$B$63","v":"21 Tage"}]
[{"$f":"$A$813","v":"Tag"},{"$f":"B586","v":"2022-10-01"},{"$f":"B1020+1","v":"2022-10-02"},"2022-10-03","2022-10-04","2022-10-05","2022-10-06","2022-10-07","2022-10-08","2022-10-09","2022-10-10","2022-10-11","2022-10-12","2022-10-13","2022-10-14","2022-10-15","2022-10-16","2022-10-17","2022-10-18","2022-10-19","2022-10-20","2022-10-21","2022-10-22","2022-10-23","2022-10-24","2022-10-25","2022-10-26","2022-10-27","2022-10-28","2022-10-29","2022-10-30","2022-10-31"]
[{"$f":"$A$814","v":"Kalenderwoche"},{"$f":"IF(B1020=\"\",\"\",TRUNC((B1020-DATE(YEAR(B1020+3-MOD(B1020-2,7)),1,MOD(B1020-2,7)-9))/7))","v":39},{"$f":"IF(C1020=\"\",\"\",TRUNC((C1020-DATE(YEAR(C1020+3-MOD(C1020-2,7)),1,MOD(C1020-2,7)-9))/7))","v":39},40,40,40,40,40,40,40,41,41,41,41,41,41,41,42,42,42,42,42,42,42,43,43,43,43,43,43,43,44,{"$f":"SUM(B1022:AF1022)","v":168}]
[{"$f":"$A$815","v":"Sollstunden"},{"$f":"B588","v":""},{"$f":"C588","v":""},8,8,8,8,8,"","",8,8,8,8,8,"","",8,8,8,8,8,"","",8,8,8,8,8,"","",8]
[{"$f":"$A$816","v":"Produktivstunden"},{"$f":"SUM(B591:B593)","v":0},{"$f":"SUM(C591:C593)","v":0},0,0,0,0,0,0,0,0,0,0,0,0,0,0,0,0,0,0,0,0,0,0,0,0,0,0,0,0,0,{"$f":"SUM(B1024:AF1024)","v":0}]
[{"$f":"$A$817","v":"Feiertage [ft]"},{"$f":"B594","v":""},{"$f":"C594","v":""},"","","","","","","","","","","","","","","","","","","","","","","","","","","","","",{"$f":"SUM(B1025:AF1025)","v":0},{"$f":"$AH$817","v":"f"}]
[{"$f":"$A$818","v":"Ferien [f]"},null,null,null,null,null,null,null,null,null,null,null,null,null,null,null,null,null,null,null,null,null,null,null,null,null,null,null,null,null,null,null,{"$f":"SUM(B1026:AF1026)","v":0},{"$f":"$AH$818","v":"kv"}]
[{"$f":"$A$819","v":"Kompensation (Vorjahr) [kv]"},null,null,null,null,null,null,null,null,null,null,null,null,null,null,null,null,null,null,null,null,null,null,null,null,null,null,null,null,null,null,null,{"$f":"SUM(B1027:AF1027)","v":0},{"$f":"$AH$819","v":"kj"}]
[{"$f":"$A$820","v":"Kompensation (laufend) [kj]"},null,null,null,null,null,null,null,null,null,null,null,null,null,null,null,null,null,null,null,null,null,null,null,null,null,null,null,null,null,null,null,{"$f":"SUM(B1028:AF1028)","v":0},{"$f":"$AH$820","v":"a"}]
[{"$f":"$A$821","v":"Absenzen, Kurzabsenzen [a]"},null,null,null,null,null,null,null,null,null,null,null,null,null,null,null,null,null,null,null,null,null,null,null,null,null,null,null,null,null,null,null,{"$f":"SUM(B1029:AF1029)","v":0},{"$f":"$AH$821","v":"k"}]
[{"$f":"$A$822","v":"Krankheit [k]"},null,null,null,null,null,null,null,null,null,null,null,null,null,null,null,null,null,null,null,null,null,null,null,null,null,null,null,null,null,null,null,0,{"$f":"$AH$822","v":"u"}]
[{"$f":"$A$823","v":"Unfall [u]"},null,null,null,null,null,null,null,null,null,null,null,null,null,null,null,null,null,null,null,null,null,null,null,null,null,null,null,null,null,null,null,0,{"$f":"$AH$823","v":"s"}]
[{"$f":"$A$824","v":"Schwangerschaft/Mutterschaft [s]"},null,null,null,null,null,null,null,null,null,null,null,null,null,null,null,null,null,null,null,null,null,null,null,null,null,null,null,null,null,null,null,0,{"$f":"$AH$824","v":"m"}]
[{"$f":"$A$825","v":"Militär/Beförderung/Zivilschutz [m]"},null,null,null,null,null,null,null,null,null,null,null,null,null,null,null,null,null,null,null,null,null,null,null,null,null,null,null,null,null,null,null,0,{"$f":"$AH$825","v":"bs"}]
[{"$f":"$A$826","v":"Berufsschule [bs]"},null,null,null,null,null,null,null,null,null,null,null,null,null,null,null,null,null,null,null,null,null,null,null,null,null,null,null,null,null,null,null,0,{"$f":"$AH$826","v":"ku"}]
[{"$f":"$A$827","v":"Kurse [ku]"},null,null,null,null,null,null,null,null,null,null,null,null,null,null,null,null,null,null,null,null,null,null,null,null,null,null,null,null,null,null,null,0,{"$f":"$AH$827","v":"ka"}]
[{"$f":"$A$828","v":"Kurzarbeit und Schlechtwetter [ka]"},null,null,null,null,null,null,null,null,null,null,null,null,null,null,null,null,null,null,null,null,null,null,null,null,null,null,null,null,null,null,null,0,{"$f":"$AH$828","v":"fu"}]
[{"$f":"$A$829","v":"Ferien unbezahlt [fu]"},null,null,null,null,null,null,null,null,null,null,null,null,null,null,null,null,null,null,null,null,null,null,null,null,null,null,null,null,null,null,null,0,{"$f":"$AH$829","v":"fe"}]
[{"$f":"$A$830","v":"Fehlstunden (unbezahlt) [fe]"}]
[{"$f":"$A$831","v":"Total"},{"$f":"SUM(B1025:B1037)","v":0},{"$f":"SUM(C1025:C1037)","v":0},0,0,0,0,0,0,0,0,0,0,0,0,0,0,0,0,0,0,0,0,0,0,0,0,0,0,0,0,0]
[]
[]
[]
[{"$f":"A649","v":"November"},{"$f":"$B$812","v":"Saldo Monat + / -"},null,null,null,{"$f":"F649","v":-176},null,null,null,null,null,null,null,null,null,null,null,null,null,null,null,null,null,null,null,null,null,{"$f":"$AB$812","v":"Absenz in Std"},null,null,{"$f":"Labels!B87","v":"Nov"},null,{"$f":"COUNT(B1045:AF1045)&\" \"&Labels!$B$63","v":"22 Tage"}]
[{"$f":"$A$813","v":"Tag"},{"$f":"B650","v":"2022-11-01"},{"$f":"B1043+1","v":"2022-11-02"},"2022-11-03","2022-11-04","2022-11-05","2022-11-06","2022-11-07","2022-11-08","2022-11-09","2022-11-10","2022-11-11","2022-11-12","2022-11-13","2022-11-14","2022-11-15","2022-11-16","2022-11-17","2022-11-18","2022-11-19","2022-11-20","2022-11-21","2022-11-22","2022-11-23","2022-11-24","2022-11-25","2022-11-26","2022-11-27","2022-11-28","2022-11-29","2022-11-30"]
[{"$f":"$A$814","v":"Kalenderwoche"},{"$f":"IF(B1043=\"\",\"\",TRUNC((B1043-DATE(YEAR(B1043+3-MOD(B1043-2,7)),1,MOD(B1043-2,7)-9))/7))","v":44},{"$f":"IF(C1043=\"\",\"\",TRUNC((C1043-DATE(YEAR(C1043+3-MOD(C1043-2,7)),1,MOD(C1043-2,7)-9))/7))","v":44},44,44,44,44,45,45,45,45,45,45,45,46,46,46,46,46,46,46,47,47,47,47,47,47,47,48,48,48,null,{"$f":"SUM(B1045:AF1045)","v":176}]
[{"$f":"$A$815","v":"Sollstunden"},{"$f":"B652","v":8},{"$f":"C652","v":8},8,8,"","",8,8,8,8,8,"","",8,8,8,8,8,"","",8,8,8,8,8,"","",8,8,8]
[{"$f":"$A$816","v":"Produktivstunden"},{"$f":"SUM(B655:B657)","v":0},{"$f":"SUM(C655:C657)","v":0},0,0,0,0,0,0,0,0,0,0,0,0,0,0,0,0,0,0,0,0,0,0,0,0,0,0,0,0,null,{"$f":"SUM(B1047:AF1047)","v":0}]
[{"$f":"$A$817","v":"Feiertage [ft]"},{"$f":"B658","v":""},{"$f":"C658","v":""},"","","","","","","","","","","","","","","","","","","","","","","","","","","","",null,{"$f":"SUM(B1048:AF1048)","v":0},{"$f":"$AH$817","v":"f"}]
[{"$f":"$A$818","v":"Ferien [f]"},null,null,null,null,null,null,null,null,null,null,null,null,null,null,null,null,null,null,null,null,null,null,null,null,null,null,null,null,null,null,null,{"$f":"SUM(B1049:AF1049)","v":0},{"$f":"$AH$818","v":"kv"}]
[{"$f":"$A$819","v":"Kompensation (Vorjahr) [kv]"},null,null,null,null,null,null,null,null,null,null,null,null,null,null,null,null,null,null,null,null,null,null,null,null,null,null,null,null,null,null,null,{"$f":"SUM(B1050:AF1050)","v":0},{"$f":"$AH$819","v":"kj"}]
[{"$f":"$A$820","v":"Kompensation (laufend) [kj]"},null,null,null,null,null,null,null,null,null,null,null,null,null,null,null,null,null,null,null,null,null,null,null,null,null,null,null,null,null,null,null,{"$f":"SUM(B1051:AF1051)","v":0},{"$f":"$AH$820","v":"a"}]
[{"$f":"$A$821","v":"Absenzen, Kurzabsenzen [a]"},null,null,null,null,null,null,null,null,null,null,null,null,null,null,null,null,null,null,null,null,null,null,null,null,null,null,null,null,null,null,null,{"$f":"SUM(B1052:AF1052)","v":0},{"$f":"$AH$821","v":"k"}]
[{"$f":"$A$822","v":"Krankheit [k]"},null,null,null,null,null,null,null,null,null,null,null,null,null,null,null,null,null,null,null,null,null,null,null,null,null,null,null,null,null,null,null,0,{"$f":"$AH$822","v":"u"}]
[{"$f":"$A$823","v":"Unfall [u]"},null,null,null,null,null,null,null,null,null,null,null,null,null,null,null,null,null,null,null,null,null,null,null,null,null,null,null,null,null,null,null,0,{"$f":"$AH$823","v":"s"}]
[{"$f":"$A$824","v":"Schwangerschaft/Mutterschaft [s]"},null,null,null,null,null,null,null,null,null,null,null,null,null,null,null,null,null,null,null,null,null,null,null,null,null,null,null,null,null,null,null,0,{"$f":"$AH$824","v":"m"}]
[{"$f":"$A$825","v":"Militär/Beförderung/Zivilschutz [m]"},null,null,null,null,null,null,null,null,null,null,null,null,null,null,null,null,null,null,null,null,null,null,null,null,null,null,null,null,null,null,null,0,{"$f":"$AH$825","v":"bs"}]
[{"$f":"$A$826","v":"Berufsschule [bs]"},null,null,null,null,null,null,null,null,null,null,null,null,null,null,null,null,null,null,null,null,null,null,null,null,null,null,null,null,null,null,null,0,{"$f":"$AH$826","v":"ku"}]
[{"$f":"$A$827","v":"Kurse [ku]"},null,null,null,null,null,null,null,null,null,null,null,null,null,null,null,null,null,null,null,null,null,null,null,null,null,null,null,null,null,null,null,0,{"$f":"$AH$827","v":"ka"}]
[{"$f":"$A$828","v":"Kurzarbeit und Schlechtwetter [ka]"},null,null,null,null,null,null,null,null,null,null,null,null,null,null,null,null,null,null,null,null,null,null,null,null,null,null,null,null,null,null,null,0,{"$f":"$AH$828","v":"fu"}]
[{"$f":"$A$829","v":"Ferien unbezahlt [fu]"},null,null,null,null,null,null,null,null,null,null,null,null,null,null,null,null,null,null,null,null,null,null,null,null,null,null,null,null,null,null,null,0,{"$f":"$AH$829","v":"fe"}]
[{"$f":"$A$830","v":"Fehlstunden (unbezahlt) [fe]"}]
[{"$f":"$A$831","v":"Total"},{"$f":"SUM(B1048:B1060)","v":0},{"$f":"SUM(C1048:C1060)","v":0},0,0,0,0,0,0,0,0,0,0,0,0,0,0,0,0,0,0,0,0,0,0,0,0,0,0,0,0]
[]
[]
[]
[{"$f":"A713","v":"Dezember"},{"$f":"$B$812","v":"Saldo Monat + / -"},null,null,null,{"$f":"F713","v":-176},null,null,null,null,null,null,null,null,null,null,null,null,null,null,null,null,null,null,null,null,null,{"$f":"$AB$812","v":"Absenz in Std"},null,null,{"$f":"Labels!B88","v":"Dez"},null,{"$f":"COUNT(B1068:AF1068)&\" \"&Labels!$B$63","v":"22 Tage"}]
[{"$f":"$A$813","v":"Tag"},{"$f":"B714","v":"2022-12-01"},{"$f":"B1066+1","v":"2022-12-02"},"2022-12-03","2022-12-04","2022-12-05","2022-12-06","2022-12-07","2022-12-08","2022-12-09","2022-12-10","2022-12-11","2022-12-12","2022-12-13","2022-12-14","2022-12-15","2022-12-16","2022-12-17","2022-12-18","2022-12-19","2022-12-20","2022-12-21","2022-12-22","2022-12-23","2022-12-24","2022-12-25","2022-12-26","2022-12-27","2022-12-28","2022-12-29","2022-12-30","2022-12-31"]
[{"$f":"$A$814","v":"Kalenderwoche"},{"$f":"IF(B1066=\"\",\"\",TRUNC((B1066-DATE(YEAR(B1066+3-MOD(B1066-2,7)),1,MOD(B1066-2,7)-9))/7))","v":48},{"$f":"IF(C1066=\"\",\"\",TRUNC((C1066-DATE(YEAR(C1066+3-MOD(C1066-2,7)),1,MOD(C1066-2,7)-9))/7))","v":48},48,48,49,49,49,49,49,49,49,50,50,50,50,50,50,50,51,51,51,51,51,51,51,52,52,52,52,52,52,{"$f":"SUM(B1068:AF1068)","v":176}]
[{"$f":"$A$815","v":"Sollstunden"},{"$f":"B716","v":8},{"$f":"C716","v":8},"","",8,8,8,8,8,"","",8,8,8,8,8,"","",8,8,8,8,8,"","",8,8,8,8,8,""]
[{"$f":"$A$816","v":"Produktivstunden"},{"$f":"SUM(B719:B721)","v":0},{"$f":"SUM(C719:C721)","v":0},0,0,0,0,0,0,0,0,0,0,0,0,0,0,0,0,0,0,0,0,0,0,0,0,0,0,0,0,0,{"$f":"SUM(B1070:AF1070)","v":0}]
[{"$f":"$A$817","v":"Feiertage [ft]"},{"$f":"B722","v":""},{"$f":"C722","v":""},"","","","","","","","","","","","","","","","","","","","","","","","","","","","","",{"$f":"SUM(B1071:AF1071)","v":0},{"$f":"$AH$817","v":"f"}]
[{"$f":"$A$818","v":"Ferien [f]"},null,null,null,null,null,null,null,null,null,null,null,null,null,null,null,null,null,null,null,null,null,null,null,null,null,null,null,null,null,null,null,{"$f":"SUM(B1072:AF1072)","v":0},{"$f":"$AH$818","v":"kv"}]
[{"$f":"$A$819","v":"Kompensation (Vorjahr) [kv]"},null,null,null,null,null,null,null,null,null,null,null,null,null,null,null,null,null,null,null,null,null,null,null,null,null,null,null,null,null,null,null,{"$f":"SUM(B1073:AF1073)","v":0},{"$f":"$AH$819","v":"kj"}]
[{"$f":"$A$820","v":"Kompensation (laufend) [kj]"},null,null,null,null,null,null,null,null,null,null,null,null,null,null,null,null,null,null,null,null,null,null,null,null,null,null,null,null,null,null,null,{"$f":"SUM(B1074:AF1074)","v":0},{"$f":"$AH$820","v":"a"}]
[{"$f":"$A$821","v":"Absenzen, Kurzabsenzen [a]"},null,null,null,null,null,null,null,null,null,null,null,null,null,null,null,null,null,null,null,null,null,null,null,null,null,null,null,null,null,null,null,{"$f":"SUM(B1075:AF1075)","v":0},{"$f":"$AH$821","v":"k"}]
[{"$f":"$A$822","v":"Krankheit [k]"},null,null,null,null,null,null,null,null,null,null,null,null,null,null,null,null,null,null,null,null,null,null,null,null,null,null,null,null,null,null,null,0,{"$f":"$AH$822","v":"u"}]
[{"$f":"$A$823","v":"Unfall [u]"},null,null,null,null,null,null,null,null,null,null,null,null,null,null,null,null,null,null,null,null,null,null,null,null,null,null,null,null,null,null,null,0,{"$f":"$AH$823","v":"s"}]
[{"$f":"$A$824","v":"Schwangerschaft/Mutterschaft [s]"},null,null,null,null,null,null,null,null,null,null,null,null,null,null,null,null,null,null,null,null,null,null,null,null,null,null,null,null,null,null,null,0,{"$f":"$AH$824","v":"m"}]
[{"$f":"$A$825","v":"Militär/Beförderung/Zivilschutz [m]"},null,null,null,null,null,null,null,null,null,null,null,null,null,null,null,null,null,null,null,null,null,null,null,null,null,null,null,null,null,null,null,0,{"$f":"$AH$825","v":"bs"}]
[{"$f":"$A$826","v":"Berufsschule [bs]"},null,null,null,null,null,null,null,null,null,null,null,null,null,null,null,null,null,null,null,null,null,null,null,null,null,null,null,null,null,null,null,0,{"$f":"$AH$826","v":"ku"}]
[{"$f":"$A$827","v":"Kurse [ku]"},null,null,null,null,null,null,null,null,null,null,null,null,null,null,null,null,null,null,null,null,null,null,null,null,null,null,null,null,null,null,null,0,{"$f":"$AH$827","v":"ka"}]
[{"$f":"$A$828","v":"Kurzarbeit und Schlechtwetter [ka]"},null,null,null,null,null,null,null,null,null,null,null,null,null,null,null,null,null,null,null,null,null,null,null,null,null,null,null,null,null,null,null,0,{"$f":"$AH$828","v":"fu"}]
[{"$f":"$A$829","v":"Ferien unbezahlt [fu]"},null,null,null,null,null,null,null,null,null,null,null,null,null,null,null,null,null,null,null,null,null,null,null,null,null,null,null,null,null,null,null,0,{"$f":"$AH$829","v":"fe"}]
[{"$f":"$A$830","v":"Fehlstunden (unbezahlt) [fe]"}]
[{"$f":"$A$831","v":"Total"},{"$f":"SUM(B1071:B1083)","v":0},{"$f":"SUM(C1071:C1083)","v":0},0,0,0,0,0,0,0,0,0,0,0,0,0,0,0,0,0,0,0,0,0,0,0,0,0,0,0,0,0]

{"sheet":"KONTROLLE","index":7,"n_rows":1084,"n_cols":51,"rows_kept":1084,"cut":false,"hidden":false,"merged":[[1064,1,1064,4],[1064,5,1064,6],[1064,27,1064,29],[1064,30,1064,31],[1018,1,1018,4],[1018,5,1018,6],[1018,27,1018,29],[1018,30,1018,31],[1041,1,1041,4],[1041,5,1041,6],[1041,27,1041,29],[1041,30,1041,31],[972,1,972,4],[972,5,972,6],[972,27,972,29],[972,30,972,31],[995,1,995,4],[995,5,995,6],[995,27,995,29],[995,30,995,31],[926,1,926,4],[926,5,926,6],[926,27,926,29],[926,30,926,31],[949,1,949,4],[949,5,949,6],[949,27,949,29],[949,30,949,31],[880,1,880,4],[880,5,880,6],[880,27,880,29],[880,30,880,31],[903,1,903,4],[903,5,903,6],[903,27,903,29],[903,30,903,31],[818,36,818,44],[834,1,834,4],[834,5,834,6],[834,27,834,29],[834,30,834,31],[857,1,857,4],[857,5,857,6],[857,27,857,29],[857,30,857,31],[770,24,771,25],[770,26,771,29],[770,30,771,31],[809,7,809,10],[811,1,811,4],[811,5,811,6],[811,27,811,29],[811,30,811,31],[769,28,769,29],[769,30,769,31],[770,0,771,0],[770,1,771,5],[770,6,771,7],[770,8,771,11],[770,12,771,13],[770,14,771,17],[770,18,771,19],[770,20,771,23],[769,16,769,17],[769,18,769,19],[769,20,769,21],[769,22,769,23],[769,24,769,25],[769,26,769,27],[769,1,769,5],[769,6,769,7],[769,8,769,9],[769,10,769,11],[769,12,769,13],[769,14,769,15],[768,20,768,21],[768,22,768,23],[768,24,768,25],[768,26,768,27],[768,28,768,29],[768,30,768,31],[767,28,767,29],[767,30,767,31],[768,1,768,5],[768,6,768,7],[768,8,768,9],[768,10,768,11],[768,12,768,13],[768,14,768,15],[768,16,768,17],[768,18,768,19],[767,16,767,17],[767,18,767,19],[767,20,767,21],[767,22,767,23],[767,24,767,25],[767,26,767,27],[767,1,767,5],[767,6,767,7],[767,8,767,9],[767,10,767,11],[767,12,767,13],[767,14,767,15],[766,20,766,21],[766,22,766,23],[766,24,766,25],[766,26,766,27],[766,28,766,29],[766,30,766,31],[765,28,765,29],[765,30,765,31],[766,1,766,4],[766,6,766,7],[766,8,766,9],[766,10,766,11],[766,12,766,13],[766,14,766,15],[766,16,766,17],[766,18,766,19],[765,16,765,17],[765,18,765,19],[765,20,765,21],[765,22,765,23],[765,24,765,25],[765,26,765,27],[764,18,764,19],[764,20,764,21],[764,22,764,23],[764,24,764,31],[765,1,765,5],[765,6,765,7],[765,8,765,9],[765,10,765,11],[765,12,765,13],[765,14,765,15],[763,22,763,23],[763,24,763,29],[763,30,763,31],[764,1,764,5],[764,6,764,7],[764,8,764,9],[764,10,764,11],[764,12,764,13],[764,14,764,15],[764,16,764,17],[762,30,762,31],[763,1,763,5],[763,6,763,7],[763,8,763,9],[763,10,763,11],[763,12,763,13],[763,14,763,15],[763,16,763,17],[763,18,763,19],[763,20,763,21],[762,18,762,19],[762,20,762,21],[762,22,762,23],[762,24,762,25],[762,26,762,27],[762,28,762,29],[761,26,761,27],[761,28,761,29],[761,30,761,31],[762,1,762,4],[762,6,762,7],[762,8,762,9],[762,10,762,11],[762,12,762,13],[762,14,762,15],[762,16,762,17],[761,14,761,15],[761,16,761,17],[761,18,761,19],[761,20,761,21],[761,22,761,23],[761,24,761,25],[760,22,760,23],[760,24,760,25],[760,26,760,27],[760,28,760,29],[760,30,760,31],[761,1,761,4],[761,6,761,7],[761,8,761,9],[761,10,761,11],[761,12,761,13],[759,30,759,31],[760,0,760,4],[760,6,760,7],[760,8,760,9],[760,10,760,11],[760,12,760,13],[760,14,760,15],[760,16,760,17],[760,18,760,19],[760,20,760,21],[759,18,759,19],[759,20,759,21],[759,22,759,23],[759,24,759,25],[759,26,759,27],[759,28,759,29],[758,26,758,27],[758,28,758,29],[758,30,758,31],[759,0,759,4],[759,6,759,7],[759,8,759,9],[759,10,759,11],[759,12,759,13],[759,14,759,15],[759,16,759,17],[758,14,758,15],[758,16,758,17],[758,18,758,19],[758,20,758,21],[758,22,758,23],[758,24,758,25],[757,22,757,23],[757,24,757,25],[757,26,757,27],[757,28,757,29],[757,30,757,31],[758,0,758,4],[758,6,758,7],[758,8,758,9],[758,10,758,11],[758,12,758,13],[756,30,756,31],[757,0,757,4],[757,6,757,7],[757,8,757,9],[757,10,757,11],[757,12,757,13],[757,14,757,15],[757,16,757,17],[757,18,757,19],[757,20,757,21],[756,18,756,19],[756,20,756,21],[756,22,756,23],[756,24,756,25],[756,26,756,27],[756,28,756,29],[755,26,755,27],[755,28,755,29],[755,30,755,31],[756,0,756,4],[756,6,756,7],[756,8,756,9],[756,10,756,11],[756,12,756,13],[756,14,756,15],[756,16,756,17],[755,14,755,15],[755,16,755,17],[755,18,755,19],[755,20,755,21],[755,22,755,23],[755,24,755,25],[754,22,754,23],[754,24,754,25],[754,26,754,27],[754,28,754,29],[754,30,754,31],[755,0,755,4],[755,6,755,7],[755,8,755,9],[755,10,755,11],[755,12,755,13],[753,30,753,31],[754,0,754,4],[754,6,754,7],[754,8,754,9],[754,10,754,11],[754,12,754,13],[754,14,754,15],[754,16,754,17],[754,18,754,19],[754,20,754,21],[753,18,753,19],[753,20,753,21],[753,22,753,23],[753,24,753,25],[753,26,753,27],[753,28,753,29],[751,26,751,27],[751,28,751,29],[751,30,751,31],[753,0,753,1],[753,6,753,7],[753,8,753,9],[753,10,753,11],[753,12,753,13],[753,14,753,15],[753,16,753,17],[751,14,751,15],[751,16,751,17],[751,18,751,19],[751,20,751,21],[751,22,751,23],[751,24,751,25],[750,22,750,23],[750,24,750,25],[750,26,750,27],[750,28,750,29],[750,30,750,31],[751,0,751,4],[751,6,751,7],[751,8,751,9],[751,10,751,11],[751,12,751,13],[752,0,752,4],[752,6,752,7],[752,8,752,9],[752,10,752,11],[752,12,752,13],[752,14,752,15],[749,30,749,31],[750,0,750,4],[750,6,750,7],[750,8,750,9],[750,10,750,11],[750,12,750,13],[750,14,750,15],[750,16,750,17],[750,18,750,19],[750,20,750,21],[749,18,749,19],[749,20,749,21],[749,22,749,23],[749,24,749,25],[749,26,749,27],[749,28,749,29],[748,26,748,27],[748,28,748,29],[748,30,748,31],[749,0,749,5],[749,6,749,7],[749,8,749,9],[749,10,749,11],[749,12,749,13],[749,14,749,15],[749,16,749,17],[748,14,748,15],[748,16,748,17],[748,18,748,19],[748,20,748,21],[748,22,748,23],[748,24,748,25],[747,22,747,23],[747,24,747,25],[747,26,747,27],[747,28,747,29],[747,30,747,31],[748,1,748,5],[748,6,748,7],[748,8,748,9],[748,10,748,11],[748,12,748,13],[746,30,746,31],[747,1,747,5],[747,6,747,7],[747,8,747,9],[747,10,747,11],[747,12,747,13],[747,14,747,15],[747,16,747,17],[747,18,747,19],[747,20,747,21],[746,18,746,19],[746,20,746,21],[746,22,746,23],[746,24,746,25],[746,26,746,27],[746,28,746,29],[745,26,745,27],[745,28,745,29],[745,30,745,31],[746,1,746,5],[746,6,746,7],[746,8,746,9],[746,10,746,11],[746,12,746,13],[746,14,746,15],[746,16,746,17],[745,14,745,15],[745,16,745,17],[745,18,745,19],[745,20,745,21],[745,22,745,23],[745,24,745,25],[744,22,744,23],[744,24,744,25],[744,26,744,27],[744,28,744,29],[744,30,744,31],[745,1,745,5],[745,6,745,7],[745,8,745,9],[745,10,745,11],[745,12,745,13],[743,30,743,31],[744,0,744,5],[744,6,744,7],[744,8,744,9],[744,10,744,11],[744,12,744,13],[744,14,744,15],[744,16,744,17],[744,18,744,19],[744,20,744,21],[743,18,743,19],[743,20,743,21],[743,22,743,23],[743,24,743,25],[743,26,743,27],[743,28,743,29],[742,26,742,27],[742,28,742,29],[742,30,742,31],[743,0,743,5],[743,6,743,7],[743,8,743,9],[743,10,743,11],[743,12,743,13],[743,14,743,15],[743,16,743,17],[742,14,742,15],[742,16,742,17],[742,18,742,19],[742,20,742,21],[742,22,742,23],[742,24,742,25],[737,30,737,31],[738,1,738,31],[739,1,739,31],[740,1,740,31],[742,0,742,5],[742,6,742,7],[742,8,742,9],[742,10,742,11],[742,12,742,13],[711,3,711,6],[712,1,712,4],[712,5,712,6],[712,27,712,31],[706,26,707,29],[706,30,707,31],[708,7,708,31],[709,1,709,6],[710,1,710,2],[710,3,710,6],[705,30,705,31],[706,0,707,0],[706,1,707,5],[706,6,707,7],[706,8,707,11],[706,12,707,13],[706,14,707,17],[706,18,707,19],[706,20,707,23],[706,24,707,25],[705,18,705,19],[705,20,705,21],[705,22,705,23],[705,24,705,25],[705,26,705,27],[705,28,705,29],[704,26,704,27],[704,28,704,29],[704,30,704,31],[705,1,705,5],[705,6,705,7],[705,8,705,9],[705,10,705,11],[705,12,705,13],[705,14,705,15],[705,16,705,17],[704,14,704,15],[704,16,704,17],[704,18,704,19],[704,20,704,21],[704,22,704,23],[704,24,704,25],[703,22,703,23],[703,24,703,25],[703,26,703,27],[703,28,703,29],[703,30,703,31],[704,1,704,5],[704,6,704,7],[704,8,704,9],[704,10,704,11],[704,12,704,13],[702,30,702,31],[703,1,703,5],[703,6,703,7],[703,8,703,9],[703,10,703,11],[703,12,703,13],[703,14,703,15],[703,16,703,17],[703,18,703,19],[703,20,703,21],[702,18,702,19],[702,20,702,21],[702,22,702,23],[702,24,702,25],[702,26,702,27],[702,28,702,29],[701,26,701,27],[701,28,701,29],[701,30,701,31],[702,1,702,4],[702,6,702,7],[702,8,702,9],[702,10,702,11],[702,12,702,13],[702,14,702,15],[702,16,702,17],[701,14,701,15],[701,16,701,17],[701,18,701,19],[701,20,701,21],[701,22,701,23],[701,24,701,25],[700,16,700,17],[700,18,700,19],[700,20,700,21],[700,22,700,23],[700,24,700,31],[701,1,701,5],[701,6,701,7],[701,8,701,9],[701,10,701,11],[701,12,701,13],[700,1,700,5],[700,6,700,7],[700,8,700,9],[700,10,700,11],[700,12,700,13],[700,14,700,15],[699,16,699,17],[699,18,699,19],[699,20,699,21],[699,22,699,23],[699,24,699,29],[699,30,699,31],[699,1,699,5],[699,6,699,7],[699,8,699,9],[699,10,699,11],[699,12,699,13],[699,14,699,15],[698,20,698,21],[698,22,698,23],[698,24,698,25],[698,26,698,27],[698,28,698,29],[698,30,698,31],[697,28,697,29],[697,30,697,31],[698,1,698,4],[698,6,698,7],[698,8,698,9],[698,10,698,11],[698,12,698,13],[698,14,698,15],[698,16,698,17],[698,18,698,19],[697,16,697,17],[697,18,697,19],[697,20,697,21],[697,22,697,23],[697,24,697,25],[697,26,697,27],[697,1,697,4],[697,6,697,7],[697,8,697,9],[697,10,697,11],[697,12,697,13],[697,14,697,15],[696,20,696,21],[696,22,696,23],[696,24,696,25],[696,26,696,27],[696,28,696,29],[696,30,696,31],[695,28,695,29],[695,30,695,31],[696,0,696,4],[696,6,696,7],[696,8,696,9],[696,10,696,11],[696,12,696,13],[696,14,696,15],[696,16,696,17],[696,18,696,19],[695,16,695,17],[695,18,695,19],[695,20,695,21],[695,22,695,23],[695,24,695,25],[695,26,695,27],[695,0,695,4],[695,6,695,7],[695,8,695,9],[695,10,695,11],[695,12,695,13],[695,14,695,15],[694,20,694,21],[694,22,694,23],[694,24,694,25],[694,26,694,27],[694,28,694,29],[694,30,694,31],[693,28,693,29],[693,30,693,31],[694,0,694,4],[694,6,694,7],[694,8,694,9],[694,10,694,11],[694,12,694,13],[694,14,694,15],[694,16,694,17],[694,18,694,19],[693,16,693,17],[693,18,693,19],[693,20,693,21],[693,22,693,23],[693,24,693,25],[693,26,693,27],[693,0,693,4],[693,6,693,7],[693,8,693,9],[693,10,693,11],[693,12,693,13],[693,14,693,15],[692,20,692,21],[692,22,692,23],[692,24,692,25],[692,26,692,27],[692,28,692,29],[692,30,692,31],[691,28,691,29],[691,30,691,31],[692,0,692,4],[692,6,692,7],[692,8,692,9],[692,10,692,11],[692,12,692,13],[692,14,692,15],[692,16,692,17],[692,18,692,19],[691,16,691,17],[691,18,691,19],[691,20,691,21],[691,22,691,23],[691,24,691,25],[691,26,691,27],[691,0,691,4],[691,6,691,7],[691,8,691,9],[691,10,691,11],[691,12,691,13],[691,14,691,15],[690,20,690,21],[690,22,690,23],[690,24,690,25],[690,26,690,27],[690,28,690,29],[690,30,690,31],[689,28,689,29],[689,30,689,31],[690,0,690,4],[690,6,690,7],[690,8,690,9],[690,10,690,11],[690,12,690,13],[690,14,690,15],[690,16,690,17],[690,18,690,19],[689,16,689,17],[689,18,689,19],[689,20,689,21],[689,22,689,23],[689,24,689,25],[689,26,689,27],[689,0,689,1],[689,6,689,7],[689,8,689,9],[689,10,689,11],[689,12,689,13],[689,14,689,15],[687,20,687,21],[687,22,687,23],[687,24,687,25],[687,26,687,27],[687,28,687,29],[687,30,687,31],[686,28,686,29],[686,30,686,31],[687,0,687,4],[687,6,687,7],[687,8,687,9],[687,10,687,11],[687,12,687,13],[687,14,687,15],[687,16,687,17],[687,18,687,19],[686,16,686,17],[686,18,686,19],[686,20,686,21],[686,22,686,23],[686,24,686,25],[686,26,686,27],[686,0,686,4],[686,6,686,7],[686,8,686,9],[686,10,686,11],[686,12,686,13],[686,14,686,15],[685,20,685,21],[685,22,685,23],[685,24,685,25],[685,26,685,27],[685,28,685,29],[685,30,685,31],[684,28,684,29],[684,30,684,31],[685,0,685,5],[685,6,685,7],[685,8,685,9],[685,10,685,11],[685,12,685,13],[685,14,685,15],[685,16,685,17],[685,18,685,19],[684,16,684,17],[684,18,684,19],[684,20,684,21],[684,22,684,23],[684,24,684,25],[684,26,684,27],[684,1,684,5],[684,6,684,7],[684,8,684,9],[684,10,684,11],[684,12,684,13],[684,14,684,15],[683,20,683,21],[683,22,683,23],[683,24,683,25],[683,26,683,27],[683,28,683,29],[683,30,683,31],[682,28,682,29],[682,30,682,31],[683,1,683,5],[683,6,683,7],[683,8,683,9],[683,10,683,11],[683,12,683,13],[683,14,683,15],[683,16,683,17],[683,18,683,19],[682,16,682,17],[682,18,682,19],[682,20,682,21],[682,22,682,23],[682,24,682,25],[682,26,682,27],[682,1,682,5],[682,6,682,7],[682,8,682,9],[682,10,682,11],[682,12,682,13],[682,14,682,15],[681,20,681,21],[681,22,681,23],[681,24,681,25],[681,26,681,27],[681,28,681,29],[681,30,681,31],[680,28,680,29],[680,30,680,31],[681,1,681,5],[681,6,681,7],[681,8,681,9],[681,10,681,11],[681,12,681,13],[681,14,681,15],[681,16,681,17],[681,18,681,19],[680,16,680,17],[680,18,680,19],[680,20,680,21],[680,22,680,23],[680,24,680,25],[680,26,680,27],[680,0,680,5],[680,6,680,7],[680,8,680,9],[680,10,680,11],[680,12,680,13],[680,14,680,15],[679,20,679,21],[679,22,679,23],[679,24,679,25],[679,26,679,27],[679,28,679,29],[679,30,679,31],[678,28,678,29],[678,30,678,31],[679,0,679,5],[679,6,679,7],[679,8,679,9],[679,10,679,11],[679,12,679,13],[679,14,679,15],[679,16,679,17],[679,18,679,19],[678,16,678,17],[678,18,678,19],[678,20,678,21],[678,22,678,23],[678,24,678,25],[678,26,678,27],[673,30,673,31],[674,1,674,31],[675,1,675,31],[676,1,676,31],[678,0,678,5],[678,6,678,7],[678,8,678,9],[678,10,678,11],[678,12,678,13],[678,14,678,15],[648,1,648,4],[648,5,648,6],[648,27,648,31],[646,9,646,12],[646,14,646,17],[646,19,646,22],[646,24,646,31],[647,3,647,6],[647,9,647,12],[647,14,647,17],[647,19,647,22],[647,24,647,31],[642,24,643,25],[642,26,643,29],[642,30,643,31],[644,7,644,31],[645,1,645,6],[645,7,647,7],[645,9,645,12],[645,14,645,17],[646,1,646,2],[646,3,646,6],[641,28,641,29],[641,30,641,31],[642,0,643,0],[642,1,643,5],[642,6,643,7],[642,8,643,11],[642,12,643,13],[642,14,643,17],[642,18,643,19],[642,20,643,23],[641,16,641,17],[641,18,641,19],[641,20,641,21],[641,22,641,23],[641,24,641,25],[641,26,641,27],[641,1,641,5],[641,6,641,7],[641,8,641,9],[641,10,641,11],[641,12,641,13],[641,14,641,15],[640,20,640,21],[640,22,640,23],[640,24,640,25],[640,26,640,27],[640,28,640,29],[640,30,640,31],[639,28,639,29],[639,30,639,31],[640,1,640,5],[640,6,640,7],[640,8,640,9],[640,10,640,11],[640,12,640,13],[640,14,640,15],[640,16,640,17],[640,18,640,19],[639,16,639,17],[639,18,639,19],[639,20,639,21],[639,22,639,23],[639,24,639,25],[639,26,639,27],[639,1,639,5],[639,6,639,7],[639,8,639,9],[639,10,639,11],[639,12,639,13],[639,14,639,15],[638,20,638,21],[638,22,638,23],[638,24,638,25],[638,26,638,27],[638,28,638,29],[638,30,638,31],[637,28,637,29],[637,30,637,31],[638,1,638,4],[638,6,638,7],[638,8,638,9],[638,10,638,11],[638,12,638,13],[638,14,638,15],[638,16,638,17],[638,18,638,19],[637,16,637,17],[637,18,637,19],[637,20,637,21],[637,22,637,23],[637,24,637,25],[637,26,637,27],[636,18,636,19],[636,20,636,21],[636,22,636,23],[636,24,636,31],[637,1,637,5],[637,6,637,7],[637,8,637,9],[637,10,637,11],[637,12,637,13],[637,14,637,15],[635,22,635,23],[635,24,635,29],[635,30,635,31],[636,1,636,5],[636,6,636,7],[636,8,636,9],[636,10,636,11],[636,12,636,13],[636,14,636,15],[636,16,636,17],[634,30,634,31],[635,1,635,5],[635,6,635,7],[635,8,635,9],[635,10,635,11],[635,12,635,13],[635,14,635,15],[635,16,635,17],[635,18,635,19],[635,20,635,21],[634,18,634,19],[634,20,634,21],[634,22,634,23],[634,24,634,25],[634,26,634,27],[634,28,634,29],[633,26,633,27],[633,28,633,29],[633,30,633,31],[634,1,634,4],[634,6,634,7],[634,8,634,9],[634,10,634,11],[634,12,634,13],[634,14,634,15],[634,16,634,17],[633,14,633,15],[633,16,633,17],[633,18,633,19],[633,20,633,21],[633,22,633,23],[633,24,633,25],[632,22,632,23],[632,24,632,25],[632,26,632,27],[632,28,632,29],[632,30,632,31],[633,1,633,4],[633,6,633,7],[633,8,633,9],[633,10,633,11],[633,12,633,13],[631,30,631,31],[632,0,632,4],[632,6,632,7],[632,8,632,9]],"merged_total":5057,"flags":["merged_cut"]}
[{"$f":"Labels!B164","v":"\nDen gewünschten Monat mit einem Klick\nwählen (gehe zu)\n\n\nDen gewünschten Monat mit einem Klick\nin die Druckvorschau versetzen (für Druck)"}]
[{"$f":"Labels!B17 &B5","v":"A r b e i t s z e i t k o n t r o l l e 2022"},null,null,null,null,null,null,null,null,null,null,null,null,null,null,null,null,null,null,null,null,null,null,null,null,null,null,null,null,null,null,null,2022,null,"Hilfstabelle",{"$f":"Labels!B77","v":"Jan"},{"$f":"Labels!B78","v":"Feb"},{"$f":"Labels!B79","v":"Mrz"},{"$f":"Labels!B80","v":"Apr"},{"$f":"Labels!B81","v":"Mai"},{"$f":"Labels!B82","v":"Jun"},{"$f":"Labels!B83","v":"Jul"},{"$f":"Labels!B84","v":"Aug"},{"$f":"Labels!B85","v":"Sep"},{"$f":"Labels!B86","v":"Okt"},{"$f":"Labels!B87","v":"Nov"},{"$f":"Labels!B88","v":"Dez"},{"$f":"Labels!B102","v":"Total"},null,"Legenden, Erklärungen & Meldungen"]
[{"$f":"Labels!B18","v":"Mitarbeiter/In"},{"$f":"Labels!B19","v":"Muster Peter"},null,null,null,null,null,null,null,null,null,null,null,null,null,null,null,null,null,null,null,null,null,null,null,null,null,null,null,null,null,null,null,null,{"$f":"Labels!B113","v":"a"},{"$f":"AG820","v":0},{"$f":"AG843","v":0},{"$f":"AG866","v":0},{"$f":"AG889","v":0},{"$f":"AG912","v":0},{"$f":"AG935","v":0},{"$f":"AG958","v":0},{"$f":"AG981","v":0},{"$f":"AG1004","v":0},{"$f":"AG1027","v":0},{"$f":"AG1050","v":0},{"$f":"AG1073","v":0},{"$f":"SUM(AJ3:AU3)","v":0}]
[{"$f":"Labels!B20","v":"Anstellung %"},{"$f":"$AL$44","v":100},null,{"$f":"Labels!B89","v":"im Januar"},null,null,null,null,null,null,{"$f":"Labels!B22","v":"Saldo Vorjahresstunden (+)"},null,null,null,null,null,null,null,null,null,{"$f":"Labels!B24","v":"Ferienguthaben Vorjahr"},null,null,null,null,null,null,null,{"$f":"Labels!B26","v":"Stunden"},null,null,null,null,null,{"$f":"Labels!B115","v":"f"},{"$f":"AG817","v":0},{"$f":"AG840","v":0},{"$f":"AG863","v":0},{"$f":"AG886","v":0},{"$f":"AG909","v":0},{"$f":"AG932","v":0},{"$f":"AG955","v":0},{"$f":"AG978","v":0},{"$f":"AG1001","v":0},{"$f":"AG1024","v":0},{"$f":"AG1047","v":0},{"$f":"AG1070","v":0},0,null,"Legende Stunden zu Zuschläge (DE)"]
[{"$f":"Labels!B21","v":"Saldo für das Jahr"},{"$f":"AG2","v":2022},null,{"$f":"IF($AE$65=0,0,$AE$65)","v":-2080},null,null,null,null,null,null,{"$f":"Labels!B23","v":"Saldo Vorjahresstunden (-)"},null,null,null,null,null,null,null,null,null,{"$f":"Labels!B25","v":"Ferienguthaben laufendes Jahr"},null,null,null,null,null,null,null,{"$f":"Labels!B26","v":"Stunden"},null,null,null,null,null,{"$f":"Labels!B120","v":"k"},{"$f":"AG821","v":0},{"$f":"AG844","v":0},{"$f":"AG867","v":0},{"$f":"AG890","v":0},{"$f":"AG913","v":0},{"$f":"AG936","v":0},{"$f":"AG959","v":0},{"$f":"AG982","v":0},{"$f":"AG1005","v":0},{"$f":"AG1028","v":0},{"$f":"AG1051","v":0},{"$f":"AG1074","v":0},0]
[null,null,null,null,null,null,null,null,null,null,null,null,null,null,null,null,null,null,null,null,null,null,null,null,null,null,null,null,null,null,null,null,null,null,{"$f":"Labels!B122","v":"u"},0,0,0,0,0,0,0,0,0,0,0,0,0,null,"[0]","Feiertagzuschläge gemäss Anstellungsprozent"]
[{"$f":"IF(ISERROR(DATEVALUE(TEXT(\"01.01.\"&B5,\"TT.MM.JJ\"))),\"01/01/\"&B5,\"01.01.\"&B5)","v":"01.01.2022"},48,{"$f":"Labels!B27","v":"Max. Std / Woche gemäss GAV"},null,null,null,null,null,null,8,{"$f":"Labels!B28","v":"Std/Tag gemäss GAV"},null,null,null,null,{"$f":"IF(MOD(YEAR($A$7),400)=0,\"n\",IF(MOD(YEAR($A$7),100)=0,\"n\",IF(MOD(YEAR($A$7),4)=0,\"j\",\"n\")))","v":"n"},{"$f":"Labels!B29","v":"Schaltjahr (j/n)"},null,null,null,{"$f":"NETWORKDAYS(DATE(B5,1,1),DATE(B5,12,31))","v":260},{"$f":"Labels!B30","v":"Arbeitstage (Jahr)"},null,null,null,{"$f":"J7*U7","v":2080},{"$f":"Labels!B31","v":"Jahresbruttosollstunden"},null,null,null,null,null,null,null,{"$f":"Labels!B124","v":"s"},0,0,0,0,0,0,0,0,0,0,0,0,0,null,"[1]","Sonntag Tag Zuschlag"]
[null,null,null,null,null,null,null,null,null,null,null,null,null,null,null,null,null,null,null,null,null,null,null,null,null,null,null,null,null,null,null,null,null,null,{"$f":"Labels!B126","v":"m"},0,0,0,0,0,0,0,0,0,0,0,0,0,null,"[2]","Sonntag Nacht Zuschlag"]
[{"$f":"TEXT(AP29,\"MMMM\"&Labels!B13)","v":"Januar"},{"$f":"Labels!B32","v":"Saldo Monat + / -"},null,null,null,{"$f":"(AG12-(SUM(AG13:AG27)-AE34))*-1","v":-168},null,null,null,null,{"$f":"Labels!B33","v":" = "},{"$f":"Labels!B34","v":"Gelbe Felder müssen ausgefüllt werden (die übrigen werden automatisch berechnet)"},null,null,null,null,null,null,null,null,null,null,null,null,null,null,null,null,null,null,null,null,null,null,{"$f":"Labels!B130","v":"bs"},0,0,0,0,0,0,0,0,0,0,0,0,0,null,"[3]","Zuschläge für ft-Tagarbeit"]
[{"$f":"Labels!B35","v":"Tag"},{"$f":"AP29","v":"2022-01-01"},{"$f":"B10+1","v":"2022-01-02"},"2022-01-03","2022-01-04","2022-01-05","2022-01-06","2022-01-07","2022-01-08","2022-01-09","2022-01-10","2022-01-11","2022-01-12","2022-01-13","2022-01-14","2022-01-15","2022-01-16","2022-01-17","2022-01-18","2022-01-19","2022-01-20","2022-01-21","2022-01-22","2022-01-23","2022-01-24","2022-01-25","2022-01-26","2022-01-27","2022-01-28","2022-01-29","2022-01-30","2022-01-31",{"$f":"COUNT(B12:AF12)&\" \"&Labels!$B$63","v":"21 Tage"},null,{"$f":"Labels!B132","v":"ku"},0,0,0,0,0,0,0,0,0,0,0,0,0,null,"[4]","Zuschläge für ft-Nachtarbeit"]
[{"$f":"Labels!B36","v":"Kalenderwoche"},{"$f":"IF(B10=\"\",\"\",TRUNC((B10-DATE(YEAR(B10+3-MOD(B10-2,7)),1,MOD(B10-2,7)-9))/7))","v":52},{"$f":"IF(C10=\"\",\"\",TRUNC((C10-DATE(YEAR(C10+3-MOD(C10-2,7)),1,MOD(C10-2,7)-9))/7))","v":52},1,1,1,1,1,1,1,2,2,2,2,2,2,2,3,3,3,3,3,3,3,4,4,4,4,4,4,4,5,null,null,{"$f":"Labels!B128","v":"ka"},0,0,0,0,0,0,0,0,0,0,0,0,0,null,"[5]","Produktive Stunden Tag 06.00-20.00 Uhr"]
[{"$f":"Labels!B37","v":"Sollstunden"},{"$f":"IF(AND(MOD(B10,7)>=2,SUMPRODUCT(($AM$56:$AQ$56=MOD(B10,7))*$AM$44:$AQ$44)),($J$7*5/$AR$44)*$B$4%,\"\")","v":""},{"$f":"IF(AND(MOD(C10,7)>=2,SUMPRODUCT(($AM$56:$AQ$56=MOD(C10,7))*$AM$44:$AQ$44)),($J$7*5/$AR$44)*$B$4%,\"\")","v":""},{"$f":"IF(AND(MOD(D10,7)>=2,SUMPRODUCT(($AM$56:$AQ$56=MOD(D10,7))*$AM$44:$AQ$44)),($J$7*5/$AR$44)*$B$4%,\"\")","v":8},{"$f":"IF(AND(MOD(E10,7)>=2,SUMPRODUCT(($AM$56:$AQ$56=MOD(E10,7))*$AM$44:$AQ$44)),($J$7*5/$AR$44)*$B$4%,\"\")","v":8},{"$f":"IF(AND(MOD(F10,7)>=2,SUMPRODUCT(($AM$56:$AQ$56=MOD(F10,7))*$AM$44:$AQ$44)),($J$7*5/$AR$44)*$B$4%,\"\")","v":8},{"$f":"IF(AND(MOD(G10,7)>=2,SUMPRODUCT(($AM$56:$AQ$56=MOD(G10,7))*$AM$44:$AQ$44)),($J$7*5/$AR$44)*$B$4%,\"\")","v":8},{"$f":"IF(AND(MOD(H10,7)>=2,SUMPRODUCT(($AM$56:$AQ$56=MOD(H10,7))*$AM$44:$AQ$44)),($J$7*5/$AR$44)*$B$4%,\"\")","v":8},{"$f":"IF(AND(MOD(I10,7)>=2,SUMPRODUCT(($AM$56:$AQ$56=MOD(I10,7))*$AM$44:$AQ$44)),($J$7*5/$AR$44)*$B$4%,\"\")","v":""},{"$f":"IF(AND(MOD(J10,7)>=2,SUMPRODUCT(($AM$56:$AQ$56=MOD(J10,7))*$AM$44:$AQ$44)),($J$7*5/$AR$44)*$B$4%,\"\")","v":""},{"$f":"IF(AND(MOD(K10,7)>=2,SUMPRODUCT(($AM$56:$AQ$56=MOD(K10,7))*$AM$44:$AQ$44)),($J$7*5/$AR$44)*$B$4%,\"\")","v":8},{"$f":"IF(AND(MOD(L10,7)>=2,SUMPRODUCT(($AM$56:$AQ$56=MOD(L10,7))*$AM$44:$AQ$44)),($J$7*5/$AR$44)*$B$4%,\"\")","v":8},{"$f":"IF(AND(MOD(M10,7)>=2,SUMPRODUCT(($AM$56:$AQ$56=MOD(M10,7))*$AM$44:$AQ$44)),($J$7*5/$AR$44)*$B$4%,\"\")","v":8},{"$f":"IF(AND(MOD(N10,7)>=2,SUMPRODUCT(($AM$56:$AQ$56=MOD(N10,7))*$AM$44:$AQ$44)),($J$7*5/$AR$44)*$B$4%,\"\")","v":8},{"$f":"IF(AND(MOD(O10,7)>=2,SUMPRODUCT(($AM$56:$AQ$56=MOD(O10,7))*$AM$44:$AQ$44)),($J$7*5/$AR$44)*$B$4%,\"\")","v":8},{"$f":"IF(AND(MOD(P10,7)>=2,SUMPRODUCT(($AM$56:$AQ$56=MOD(P10,7))*$AM$44:$AQ$44)),($J$7*5/$AR$44)*$B$4%,\"\")","v":""},{"$f":"IF(AND(MOD(Q10,7)>=2,SUMPRODUCT(($AM$56:$AQ$56=MOD(Q10,7))*$AM$44:$AQ$44)),($J$7*5/$AR$44)*$B$4%,\"\")","v":""},{"$f":"IF(AND(MOD(R10,7)>=2,SUMPRODUCT(($AM$56:$AQ$56=MOD(R10,7))*$AM$44:$AQ$44)),($J$7*5/$AR$44)*$B$4%,\"\")","v":8},{"$f":"IF(AND(MOD(S10,7)>=2,SUMPRODUCT(($AM$56:$AQ$56=MOD(S10,7))*$AM$44:$AQ$44)),($J$7*5/$AR$44)*$B$4%,\"\")","v":8},{"$f":"IF(AND(MOD(T10,7)>=2,SUMPRODUCT(($AM$56:$AQ$56=MOD(T10,7))*$AM$44:$AQ$44)),($J$7*5/$AR$44)*$B$4%,\"\")","v":8},{"$f":"IF(AND(MOD(U10,7)>=2,SUMPRODUCT(($AM$56:$AQ$56=MOD(U10,7))*$AM$44:$AQ$44)),($J$7*5/$AR$44)*$B$4%,\"\")","v":8},{"$f":"IF(AND(MOD(V10,7)>=2,SUMPRODUCT(($AM$56:$AQ$56=MOD(V10,7))*$AM$44:$AQ$44)),($J$7*5/$AR$44)*$B$4%,\"\")","v":8},{"$f":"IF(AND(MOD(W10,7)>=2,SUMPRODUCT(($AM$56:$AQ$56=MOD(W10,7))*$AM$44:$AQ$44)),($J$7*5/$AR$44)*$B$4%,\"\")","v":""},{"$f":"IF(AND(MOD(X10,7)>=2,SUMPRODUCT(($AM$56:$AQ$56=MOD(X10,7))*$AM$44:$AQ$44)),($J$7*5/$AR$44)*$B$4%,\"\")","v":""},{"$f":"IF(AND(MOD(Y10,7)>=2,SUMPRODUCT(($AM$56:$AQ$56=MOD(Y10,7))*$AM$44:$AQ$44)),($J$7*5/$AR$44)*$B$4%,\"\")","v":8},{"$f":"IF(AND(MOD(Z10,7)>=2,SUMPRODUCT(($AM$56:$AQ$56=MOD(Z10,7))*$AM$44:$AQ$44)),($J$7*5/$AR$44)*$B$4%,\"\")","v":8},{"$f":"IF(AND(MOD(AA10,7)>=2,SUMPRODUCT(($AM$56:$AQ$56=MOD(AA10,7))*$AM$44:$AQ$44)),($J$7*5/$AR$44)*$B$4%,\"\")","v":8},{"$f":"IF(AND(MOD(AB10,7)>=2,SUMPRODUCT(($AM$56:$AQ$56=MOD(AB10,7))*$AM$44:$AQ$44)),($J$7*5/$AR$44)*$B$4%,\"\")","v":8},{"$f":"IF(AND(MOD(AC10,7)>=2,SUMPRODUCT(($AM$56:$AQ$56=MOD(AC10,7))*$AM$44:$AQ$44)),($J$7*5/$AR$44)*$B$4%,\"\")","v":8},{"$f":"IF(AND(MOD(AD10,7)>=2,SUMPRODUCT(($AM$56:$AQ$56=MOD(AD10,7))*$AM$44:$AQ$44)),($J$7*5/$AR$44)*$B$4%,\"\")","v":""},{"$f":"IF(AND(MOD(AE10,7)>=2,SUMPRODUCT(($AM$56:$AQ$56=MOD(AE10,7))*$AM$44:$AQ$44)),($J$7*5/$AR$44)*$B$4%,\"\")","v":""},{"$f":"IF(AND(MOD(AF10,7)>=2,SUMPRODUCT(($AM$56:$AQ$56=MOD(AF10,7))*$AM$44:$AQ$44)),($J$7*5/$AR$44)*$B$4%,\"\")","v":8},{"$f":"SUM(B12:AF12)","v":168},null,{"$f":"Labels!B135","v":"kv"},{"$f":"AG818","v":0},{"$f":"AG841","v":0},{"$f":"AG864","v":0},{"$f":"AG887","v":0},{"$f":"AG910","v":0},{"$f":"AG933","v":0},{"$f":"AG956","v":0},{"$f":"AG979","v":0},{"$f":"AG1002","v":0},{"$f":"AG1025","v":0},{"$f":"AG1048","v":0},{"$f":"AG1071","v":0},{"$f":"SUM(AJ12:AU12)","v":0},null,"[6]","Produktive Stunden Nacht  20.00-06.00 Uhr"]
[{"$f":"Labels!B38","v":"Absenz in Std"},{"$f":"B831","v":0},{"$f":"C831","v":0},0,0,0,0,0,0,0,0,0,0,0,0,0,0,0,0,0,0,0,0,0,0,0,0,0,0,0,0,0,{"$f":"SUM(AJ3:AJ13)","v":0},null,{"$f":"Labels!B180","v":"fu"},{"$f":"AG828","v":0},{"$f":"AG851","v":0},{"$f":"AG874","v":0},{"$f":"AG897","v":0},{"$f":"AG920","v":0},{"$f":"AG943","v":0},{"$f":"AG966","v":0},{"$f":"AG989","v":0},{"$f":"AG1012","v":0},{"$f":"AG1035","v":0},{"$f":"AG1058","v":0},{"$f":"AG1081","v":0},{"$f":"SUM(AJ13:AU13)","v":0},null,"[7]","Produktive Stunden im Monat ohne Zeitzuschläge und Absenzen"]
[{"$f":"Labels!B39","v":"Code"},{"$f":"IF(B831<>0,IF(MAX(B818:B830)<B831,Labels!$B$163,INDEX($AH$817:$AH$829,MATCH(MAX(B818:B830),B818:B830,0))),\"\")","v":""},{"$f":"IF(C831<>0,IF(MAX(C818:C830)<C831,Labels!$B$163,INDEX($AH$817:$AH$829,MATCH(MAX(C818:C830),C818:C830,0))),\"\")","v":""},{"$f":"IF(D831<>0,IF(MAX(D818:D830)<D831,Labels!$B$163,INDEX($AH$817:$AH$829,MATCH(MAX(D818:D830),D818:D830,0))),\"\")","v":""},{"$f":"IF(E831<>0,IF(MAX(E818:E830)<E831,Labels!$B$163,INDEX($AH$817:$AH$829,MATCH(MAX(E818:E830),E818:E830,0))),\"\")","v":""},{"$f":"IF(F831<>0,IF(MAX(F818:F830)<F831,Labels!$B$163,INDEX($AH$817:$AH$829,MATCH(MAX(F818:F830),F818:F830,0))),\"\")","v":""},{"$f":"IF(G831<>0,IF(MAX(G818:G830)<G831,Labels!$B$163,INDEX($AH$817:$AH$829,MATCH(MAX(G818:G830),G818:G830,0))),\"\")","v":""},{"$f":"IF(H831<>0,IF(MAX(H818:H830)<H831,Labels!$B$163,INDEX($AH$817:$AH$829,MATCH(MAX(H818:H830),H818:H830,0))),\"\")","v":""},{"$f":"IF(I831<>0,IF(MAX(I818:I830)<I831,Labels!$B$163,INDEX($AH$817:$AH$829,MATCH(MAX(I818:I830),I818:I830,0))),\"\")","v":""},{"$f":"IF(J831<>0,IF(MAX(J818:J830)<J831,Labels!$B$163,INDEX($AH$817:$AH$829,MATCH(MAX(J818:J830),J818:J830,0))),\"\")","v":""},{"$f":"IF(K831<>0,IF(MAX(K818:K830)<K831,Labels!$B$163,INDEX($AH$817:$AH$829,MATCH(MAX(K818:K830),K818:K830,0))),\"\")","v":""},{"$f":"IF(L831<>0,IF(MAX(L818:L830)<L831,Labels!$B$163,INDEX($AH$817:$AH$829,MATCH(MAX(L818:L830),L818:L830,0))),\"\")","v":""},{"$f":"IF(M831<>0,IF(MAX(M818:M830)<M831,Labels!$B$163,INDEX($AH$817:$AH$829,MATCH(MAX(M818:M830),M818:M830,0))),\"\")","v":""},{"$f":"IF(N831<>0,IF(MAX(N818:N830)<N831,Labels!$B$163,INDEX($AH$817:$AH$829,MATCH(MAX(N818:N830),N818:N830,0))),\"\")","v":""},{"$f":"IF(O831<>0,IF(MAX(O818:O830)<O831,Labels!$B$163,INDEX($AH$817:$AH$829,MATCH(MAX(O818:O830),O818:O830,0))),\"\")","v":""},{"$f":"IF(P831<>0,IF(MAX(P818:P830)<P831,Labels!$B$163,INDEX($AH$817:$AH$829,MATCH(MAX(P818:P830),P818:P830,0))),\"\")","v":""},{"$f":"IF(Q831<>0,IF(MAX(Q818:Q830)<Q831,Labels!$B$163,INDEX($AH$817:$AH$829,MATCH(MAX(Q818:Q830),Q818:Q830,0))),\"\")","v":""},{"$f":"IF(R831<>0,IF(MAX(R818:R830)<R831,Labels!$B$163,INDEX($AH$817:$AH$829,MATCH(MAX(R818:R830),R818:R830,0))),\"\")","v":""},{"$f":"IF(S831<>0,IF(MAX(S818:S830)<S831,Labels!$B$163,INDEX($AH$817:$AH$829,MATCH(MAX(S818:S830),S818:S830,0))),\"\")","v":""},{"$f":"IF(T831<>0,IF(MAX(T818:T830)<T831,Labels!$B$163,INDEX($AH$817:$AH$829,MATCH(MAX(T818:T830),T818:T830,0))),\"\")","v":""},{"$f":"IF(U831<>0,IF(MAX(U818:U830)<U831,Labels!$B$163,INDEX($AH$817:$AH$829,MATCH(MAX(U818:U830),U818:U830,0))),\"\")","v":""},{"$f":"IF(V831<>0,IF(MAX(V818:V830)<V831,Labels!$B$163,INDEX($AH$817:$AH$829,MATCH(MAX(V818:V830),V818:V830,0))),\"\")","v":""},{"$f":"IF(W831<>0,IF(MAX(W818:W830)<W831,Labels!$B$163,INDEX($AH$817:$AH$829,MATCH(MAX(W818:W830),W818:W830,0))),\"\")","v":""},{"$f":"IF(X831<>0,IF(MAX(X818:X830)<X831,Labels!$B$163,INDEX($AH$817:$AH$829,MATCH(MAX(X818:X830),X818:X830,0))),\"\")","v":""},{"$f":"IF(Y831<>0,IF(MAX(Y818:Y830)<Y831,Labels!$B$163,INDEX($AH$817:$AH$829,MATCH(MAX(Y818:Y830),Y818:Y830,0))),\"\")","v":""},{"$f":"IF(Z831<>0,IF(MAX(Z818:Z830)<Z831,Labels!$B$163,INDEX($AH$817:$AH$829,MATCH(MAX(Z818:Z830),Z818:Z830,0))),\"\")","v":""},{"$f":"IF(AA831<>0,IF(MAX(AA818:AA830)<AA831,Labels!$B$163,INDEX($AH$817:$AH$829,MATCH(MAX(AA818:AA830),AA818:AA830,0))),\"\")","v":""},{"$f":"IF(AB831<>0,IF(MAX(AB818:AB830)<AB831,Labels!$B$163,INDEX($AH$817:$AH$829,MATCH(MAX(AB818:AB830),AB818:AB830,0))),\"\")","v":""},{"$f":"IF(AC831<>0,IF(MAX(AC818:AC830)<AC831,Labels!$B$163,INDEX($AH$817:$AH$829,MATCH(MAX(AC818:AC830),AC818:AC830,0))),\"\")","v":""},{"$f":"IF(AD831<>0,IF(MAX(AD818:AD830)<AD831,Labels!$B$163,INDEX($AH$817:$AH$829,MATCH(MAX(AD818:AD830),AD818:AD830,0))),\"\")","v":""},{"$f":"IF(AE831<>0,IF(MAX(AE818:AE830)<AE831,Labels!$B$163,INDEX($AH$817:$AH$829,MATCH(MAX(AE818:AE830),AE818:AE830,0))),\"\")","v":""},{"$f":"IF(AF831<>0,IF(MAX(AF818:AF830)<AF831,Labels!$B$163,INDEX($AH$817:$AH$829,MATCH(MAX(AF818:AF830),AF818:AF830,0))),\"\")","v":""},null,null,{"$f":"Labels!B145","v":"fe"},{"$f":"AG829","v":0},{"$f":"AG852","v":0},{"$f":"AG875","v":0},{"$f":"AG898","v":0},{"$f":"AG921","v":0},{"$f":"AG944","v":0},{"$f":"AG967","v":0},{"$f":"AG990","v":0},{"$f":"AG1013","v":0},{"$f":"AG1036","v":0},{"$f":"AG1059","v":0},{"$f":"AG1082","v":0},{"$f":"SUM(AJ14:AU14)","v":0},null,"[8]","Unproduktive Stunden (Feiertag, Absenzen)"]
[{"$f":"Labels!B40","v":"00.00-06.00h"},null,null,null,null,null,null,null,null,null,null,null,null,null,null,null,null,null,null,null,null,null,null,null,null,null,null,null,null,null,null,null,{"$f":"SUM(B15:AF15)","v":0},null,{"$f":"Labels!B137","v":"kj"},{"$f":"AG819","v":0},{"$f":"AG842","v":0},{"$f":"AG865","v":0},{"$f":"AG888","v":0},{"$f":"AG911","v":0},{"$f":"AG934","v":0},{"$f":"AG957","v":0},{"$f":"AG980","v":0},{"$f":"AG1003","v":0},{"$f":"AG1026","v":0},{"$f":"AG1049","v":0},{"$f":"AG1072","v":0},{"$f":"SUM(AJ15:AU15)","v":0},null,"[9]","Total  gearbeitete Std. im Monat mit Zeitzuschlägen und Absenzen abz. ausbezahlte Stunden"]
[{"$f":"Labels!B41","v":"06.00-20.00h"},null,null,null,null,null,null,null,null,null,null,null,null,null,null,null,null,null,null,null,null,null,null,null,null,null,null,null,null,null,null,null,{"$f":"SUM(B16:AF16)","v":0},null,{"$f":"Labels!B118","v":"ft"},{"$f":"SUMIF($B$18:$AF$18,$AI$16,$B$19:$AF$19)","v":0},{"$f":"SUMIF($B$82:$AD$82,$AI$16,$B$83:$AD$83)","v":0},{"$f":"SUMIF($B$146:$AF$146,$AI$16,$B$147:$AF$147)","v":0},{"$f":"SUMIF($B$210:$AE$210,$AI$16,$B$211:$AE$211)","v":0},{"$f":"SUMIF($B$274:$AF$274,$AI$16,$B$275:$AF$275)","v":0},{"$f":"SUMIF($B$338:$AE$338,$AI$16,$B$339:$AE$339)","v":0},{"$f":"SUMIF($B$402:$AF$402,$AI$16,$B$403:$AF$403)","v":0},{"$f":"SUMIF($B$466:$AF$466,$AI$16,$B$467:$AF$467)","v":0},{"$f":"SUMIF($B$530:$AE$530,$AI$16,$B$531:$AE$531)","v":0},{"$f":"SUMIF($B$594:$AF$594,$AI$16,$B$595:$AF$595)","v":0},{"$f":"SUMIF($B$658:$AE$658,$AI$16,$B$659:$AE$659)","v":0},{"$f":"SUMIF($B$722:$AF$722,$AI$16,$B$723:$AF$723)","v":0},0,null,"[10]","Soll-Stunden"]
[{"$f":"Labels!B42","v":"20.00-24.00h"},null,null,null,null,null,null,null,null,null,null,null,null,null,null,null,null,null,null,null,null,null,null,null,null,null,null,null,null,null,null,null,{"$f":"SUM(B17:AF17)","v":0},null,{"$f":"Labels!B160","v":"Anzahl ft"},{"$f":"COUNTIF($B$18:$AF$18,$AI$16)","v":0},{"$f":"COUNTIF($B$82:$AD$82,$AI$16)","v":0},{"$f":"COUNTIF($B$146:$AF$146,$AI$16)","v":0},{"$f":"COUNTIF($B$210:$AE$210,$AI$16)","v":0},{"$f":"COUNTIF($B$274:$AF$274,$AI$16)","v":0},{"$f":"COUNTIF($B$338:$AE$338,$AI$16)","v":0},{"$f":"COUNTIF($B$402:$AF$402,$AI$16)","v":0},{"$f":"COUNTIF($B$466:$AF$466,$AI$16)","v":0},{"$f":"COUNTIF($B$530:$AE$530,$AI$16)","v":0},{"$f":"COUNTIF($B$594:$AF$594,$AI$16)","v":0},{"$f":"COUNTIF($B$658:$AE$658,$AI$16)","v":0},{"$f":"COUNTIF($B$722:$AF$722,$AI$16)","v":0},0,null,"[11]","Vergleich im Monat gearbeitete Std. inkl. Zeitzuschläge minus Zahlung Vorjahr zu Soll-Stunden + / -"]
[{"$f":"Labels!B43","v":"Feiertag \"ft\""},{"$f":"IF(WEEKDAY(B10,2)<=6,IF(KALENDER!E3=\"x\",Labels!$B$118,\"\"),\"\")","v":""},{"$f":"IF(WEEKDAY(C10,2)<=6,IF(KALENDER!F3=\"x\",Labels!$B$118,\"\"),\"\")","v":""},{"$f":"IF(WEEKDAY(D10,2)<=6,IF(KALENDER!G3=\"x\",Labels!$B$118,\"\"),\"\")","v":""},{"$f":"IF(WEEKDAY(E10,2)<=6,IF(KALENDER!H3=\"x\",Labels!$B$118,\"\"),\"\")","v":""},{"$f":"IF(WEEKDAY(F10,2)<=6,IF(KALENDER!I3=\"x\",Labels!$B$118,\"\"),\"\")","v":""},{"$f":"IF(WEEKDAY(G10,2)<=6,IF(KALENDER!J3=\"x\",Labels!$B$118,\"\"),\"\")","v":""},{"$f":"IF(WEEKDAY(H10,2)<=6,IF(KALENDER!K3=\"x\",Labels!$B$118,\"\"),\"\")","v":""},{"$f":"IF(WEEKDAY(I10,2)<=6,IF(KALENDER!L3=\"x\",Labels!$B$118,\"\"),\"\")","v":""},{"$f":"IF(WEEKDAY(J10,2)<=6,IF(KALENDER!M3=\"x\",Labels!$B$118,\"\"),\"\")","v":""},{"$f":"IF(WEEKDAY(K10,2)<=6,IF(KALENDER!N3=\"x\",Labels!$B$118,\"\"),\"\")","v":""},{"$f":"IF(WEEKDAY(L10,2)<=6,IF(KALENDER!O3=\"x\",Labels!$B$118,\"\"),\"\")","v":""},{"$f":"IF(WEEKDAY(M10,2)<=6,IF(KALENDER!P3=\"x\",Labels!$B$118,\"\"),\"\")","v":""},{"$f":"IF(WEEKDAY(N10,2)<=6,IF(KALENDER!Q3=\"x\",Labels!$B$118,\"\"),\"\")","v":""},{"$f":"IF(WEEKDAY(O10,2)<=6,IF(KALENDER!R3=\"x\",Labels!$B$118,\"\"),\"\")","v":""},{"$f":"IF(WEEKDAY(P10,2)<=6,IF(KALENDER!S3=\"x\",Labels!$B$118,\"\"),\"\")","v":""},{"$f":"IF(WEEKDAY(Q10,2)<=6,IF(KALENDER!T3=\"x\",Labels!$B$118,\"\"),\"\")","v":""},{"$f":"IF(WEEKDAY(R10,2)<=6,IF(KALENDER!U3=\"x\",Labels!$B$118,\"\"),\"\")","v":""},{"$f":"IF(WEEKDAY(S10,2)<=6,IF(KALENDER!V3=\"x\",Labels!$B$118,\"\"),\"\")","v":""},{"$f":"IF(WEEKDAY(T10,2)<=6,IF(KALENDER!W3=\"x\",Labels!$B$118,\"\"),\"\")","v":""},{"$f":"IF(WEEKDAY(U10,2)<=6,IF(KALENDER!X3=\"x\",Labels!$B$118,\"\"),\"\")","v":""},{"$f":"IF(WEEKDAY(V10,2)<=6,IF(KALENDER!Y3=\"x\",Labels!$B$118,\"\"),\"\")","v":""},{"$f":"IF(WEEKDAY(W10,2)<=6,IF(KALENDER!Z3=\"x\",Labels!$B$118,\"\"),\"\")","v":""},{"$f":"IF(WEEKDAY(X10,2)<=6,IF(KALENDER!AA3=\"x\",Labels!$B$118,\"\"),\"\")","v":""},{"$f":"IF(WEEKDAY(Y10,2)<=6,IF(KALENDER!AB3=\"x\",Labels!$B$118,\"\"),\"\")","v":""},{"$f":"IF(WEEKDAY(Z10,2)<=6,IF(KALENDER!AC3=\"x\",Labels!$B$118,\"\"),\"\")","v":""},{"$f":"IF(WEEKDAY(AA10,2)<=6,IF(KALENDER!AD3=\"x\",Labels!$B$118,\"\"),\"\")","v":""},{"$f":"IF(WEEKDAY(AB10,2)<=6,IF(KALENDER!AE3=\"x\",Labels!$B$118,\"\"),\"\")","v":""},{"$f":"IF(WEEKDAY(AC10,2)<=6,IF(KALENDER!AF3=\"x\",Labels!$B$118,\"\"),\"\")","v":""},{"$f":"IF(WEEKDAY(AD10,2)<=6,IF(KALENDER!AG3=\"x\",Labels!$B$118,\"\"),\"\")","v":""},{"$f":"IF(WEEKDAY(AE10,2)<=6,IF(KALENDER!AH3=\"x\",Labels!$B$118,\"\"),\"\")","v":""},{"$f":"IF(WEEKDAY(AF10,2)<=6,IF(KALENDER!AI3=\"x\",Labels!$B$118,\"\"),\"\")","v":""},null,"[0]",{"$f":"Labels!B161","v":"Meldung"},{"$f":"IF($AV$17>9,\"(\" & $AV$17 & \" = \" & Labels!B117,\"\")","v":""}]
[{"$f":"Labels!B44","v":"Gutschrift \"ft\""},{"$f":"IF(AND(B18=Labels!$B$118,WEEKDAY(B10,2)<6,B$12<>\"\"),($J$7*5/$AR$44)*$B$4%,\"\")","v":""},{"$f":"IF(AND(C18=Labels!$B$118,WEEKDAY(C10,2)<6,C$12<>\"\"),($J$7*5/$AR$44)*$B$4%,\"\")","v":""},{"$f":"IF(AND(D18=Labels!$B$118,WEEKDAY(D10,2)<6,D$12<>\"\"),($J$7*5/$AR$44)*$B$4%,\"\")","v":""},{"$f":"IF(AND(E18=Labels!$B$118,WEEKDAY(E10,2)<6,E$12<>\"\"),($J$7*5/$AR$44)*$B$4%,\"\")","v":""},{"$f":"IF(AND(F18=Labels!$B$118,WEEKDAY(F10,2)<6,F$12<>\"\"),($J$7*5/$AR$44)*$B$4%,\"\")","v":""},{"$f":"IF(AND(G18=Labels!$B$118,WEEKDAY(G10,2)<6,G$12<>\"\"),($J$7*5/$AR$44)*$B$4%,\"\")","v":""},{"$f":"IF(AND(H18=Labels!$B$118,WEEKDAY(H10,2)<6,H$12<>\"\"),($J$7*5/$AR$44)*$B$4%,\"\")","v":""},{"$f":"IF(AND(I18=Labels!$B$118,WEEKDAY(I10,2)<6,I$12<>\"\"),($J$7*5/$AR$44)*$B$4%,\"\")","v":""},{"$f":"IF(AND(J18=Labels!$B$118,WEEKDAY(J10,2)<6,J$12<>\"\"),($J$7*5/$AR$44)*$B$4%,\"\")","v":""},{"$f":"IF(AND(K18=Labels!$B$118,WEEKDAY(K10,2)<6,K$12<>\"\"),($J$7*5/$AR$44)*$B$4%,\"\")","v":""},{"$f":"IF(AND(L18=Labels!$B$118,WEEKDAY(L10,2)<6,L$12<>\"\"),($J$7*5/$AR$44)*$B$4%,\"\")","v":""},{"$f":"IF(AND(M18=Labels!$B$118,WEEKDAY(M10,2)<6,M$12<>\"\"),($J$7*5/$AR$44)*$B$4%,\"\")","v":""},{"$f":"IF(AND(N18=Labels!$B$118,WEEKDAY(N10,2)<6,N$12<>\"\"),($J$7*5/$AR$44)*$B$4%,\"\")","v":""},{"$f":"IF(AND(O18=Labels!$B$118,WEEKDAY(O10,2)<6,O$12<>\"\"),($J$7*5/$AR$44)*$B$4%,\"\")","v":""},{"$f":"IF(AND(P18=Labels!$B$118,WEEKDAY(P10,2)<6,P$12<>\"\"),($J$7*5/$AR$44)*$B$4%,\"\")","v":""},{"$f":"IF(AND(Q18=Labels!$B$118,WEEKDAY(Q10,2)<6,Q$12<>\"\"),($J$7*5/$AR$44)*$B$4%,\"\")","v":""},{"$f":"IF(AND(R18=Labels!$B$118,WEEKDAY(R10,2)<6,R$12<>\"\"),($J$7*5/$AR$44)*$B$4%,\"\")","v":""},{"$f":"IF(AND(S18=Labels!$B$118,WEEKDAY(S10,2)<6,S$12<>\"\"),($J$7*5/$AR$44)*$B$4%,\"\")","v":""},{"$f":"IF(AND(T18=Labels!$B$118,WEEKDAY(T10,2)<6,T$12<>\"\"),($J$7*5/$AR$44)*$B$4%,\"\")","v":""},{"$f":"IF(AND(U18=Labels!$B$118,WEEKDAY(U10,2)<6,U$12<>\"\"),($J$7*5/$AR$44)*$B$4%,\"\")","v":""},{"$f":"IF(AND(V18=Labels!$B$118,WEEKDAY(V10,2)<6,V$12<>\"\"),($J$7*5/$AR$44)*$B$4%,\"\")","v":""},{"$f":"IF(AND(W18=Labels!$B$118,WEEKDAY(W10,2)<6,W$12<>\"\"),($J$7*5/$AR$44)*$B$4%,\"\")","v":""},{"$f":"IF(AND(X18=Labels!$B$118,WEEKDAY(X10,2)<6,X$12<>\"\"),($J$7*5/$AR$44)*$B$4%,\"\")","v":""},{"$f":"IF(AND(Y18=Labels!$B$118,WEEKDAY(Y10,2)<6,Y$12<>\"\"),($J$7*5/$AR$44)*$B$4%,\"\")","v":""},{"$f":"IF(AND(Z18=Labels!$B$118,WEEKDAY(Z10,2)<6,Z$12<>\"\"),($J$7*5/$AR$44)*$B$4%,\"\")","v":""},{"$f":"IF(AND(AA18=Labels!$B$118,WEEKDAY(AA10,2)<6,AA$12<>\"\"),($J$7*5/$AR$44)*$B$4%,\"\")","v":""},{"$f":"IF(AND(AB18=Labels!$B$118,WEEKDAY(AB10,2)<6,AB$12<>\"\"),($J$7*5/$AR$44)*$B$4%,\"\")","v":""},{"$f":"IF(AND(AC18=Labels!$B$118,WEEKDAY(AC10,2)<6,AC$12<>\"\"),($J$7*5/$AR$44)*$B$4%,\"\")","v":""},{"$f":"IF(AND(AD18=Labels!$B$118,WEEKDAY(AD10,2)<6,AD$12<>\"\"),($J$7*5/$AR$44)*$B$4%,\"\")","v":""},{"$f":"IF(AND(AE18=Labels!$B$118,WEEKDAY(AE10,2)<6,AE$12<>\"\"),($J$7*5/$AR$44)*$B$4%,\"\")","v":""},{"$f":"IF(AND(AF18=Labels!$B$118,WEEKDAY(AF10,2)<6,AF$12<>\"\"),($J$7*5/$AR$44)*$B$4%,\"\")","v":""},{"$f":"SUM(B19:AF19)","v":0},null,"Bez VoJa",{"$f":"$AE$33","v":0},{"$f":"$AE$97","v":0},{"$f":"$AE$161","v":0},{"$f":"$AE$225","v":0},{"$f":"$AE$289","v":0},{"$f":"$AE$353","v":0},{"$f":"$AE$417","v":0},{"$f":"$AE$481","v":0},{"$f":"$AE$545","v":0},null,null,null,{"$f":"SUM(AJ19:AU19)","v":0}]
[{"$f":"Labels!B45","v":"Tagestotal"},{"$f":"SUM(B15:B17)","v":0},{"$f":"SUM(C15:C17)","v":0},0,0,0,0,0,0,0,0,0,0,0,0,0,0,0,0,0,0,0,0,0,0,0,0,0,0,0,0,0,null,null,"Bez LaJa",{"$f":"$AE$34","v":0},{"$f":"$AE$98","v":0},{"$f":"$AE$162","v":0},{"$f":"$AE$226","v":0},{"$f":"$AE$290","v":0},{"$f":"$AE$354","v":0},{"$f":"$AE$418","v":0},{"$f":"$AE$482","v":0},{"$f":"$AE$546","v":0},{"$f":"$AE$610","v":0},{"$f":"$AE$674","v":0},{"$f":"$AE$738","v":0},{"$f":"SUM(AJ20:AU20)","v":0},null,"Legende Absenztypen (DE)"]
[{"$f":"Labels!B46","v":"."},null,null,null,null,null,null,null,null,null,null,null,null,null,null,null,null,null,null,null,null,null,null,null,null,null,null,null,null,null,null,null,null,null,"Zuschläge Nacht/Sonn-/Feiertag",{"$f":"SUM(AG26+AG27)","v":0},{"$f":"SUM(AG89+AG90)","v":0},{"$f":"SUM(AG153+AG154)","v":0},{"$f":"SUM(AG217+AG218)","v":0},{"$f":"SUM(AG281+AG282)","v":0},{"$f":"SUM(AG345+AG346)","v":0},{"$f":"SUM(AG409+AG410)","v":0},{"$f":"SUM(AG473+AG474)","v":0},{"$f":"SUM(AG537+AG538)","v":0},{"$f":"SUM(AG601+AG602)","v":0},{"$f":"SUM(AG665+AG666)","v":0},{"$f":"SUM(AG729+AG730)","v":0},{"$f":"SUM(AJ21:AU21)","v":0}]
[{"$f":"Labels!B47","v":"."},null,null,null,null,null,null,null,null,null,null,null,null,null,null,null,null,null,null,null,null,null,null,null,null,null,null,null,null,null,null,null,null,null,null,null,null,null,null,null,null,null,null,null,null,null,null,null,null,"a","Absenzen, Kurzabsenzen\nArt. 11 GAV"]
[{"$f":"Labels!B48","v":"Monatsübergang"},{"$f":"IF(WEEKDAY(B10)=1,TEXT(B10-1,\"MMM\"&Labels!B13),\"\")","v":""},null,null,null,null,null,null,null,null,null,null,null,null,null,null,null,null,null,null,null,null,null,null,null,null,null,null,null,null,null,{"$f":"IF(AND(WEEKDAY(AF10)>1,WEEKDAY(AF10)<7),TEXT(DATE($B$5,MONTH(AF10)+1,1),\"MMM\"&Labels!B13),\"\")","v":"Feb"},null,null,null,null,null,null,null,null,null,null,null,null,null,null,null,null,null,"f","Ferien Art. 12.1. GAV"]
[{"$f":"Labels!B49","v":"Wochentotal"},{"$f":"IF(WEEKDAY(B10)=7,SUMIF($B11:$AF11,B11,$B20:$AF20)+SUMIF($B75:$AD75,B11,$B84:$AD84),IF(WEEKDAY(B10)=1,SUMIF($B11:$AF11,B11,$B20:$AF20)+SUMIF($B75:$AD75,B11,$B84:$AD84),\"\"))","v":0},{"$f":"IF(WEEKDAY(C10)=7,SUMIF($B11:$AF11,C11,$B20:$AF20)+SUMIF($B75:$AD75,C11,$B84:$AD84),\"\")","v":""},"","","","","",0,"","","","","","",0,"","","","","","",0,"","","","","","",0,"",{"$f":"IF(WEEKDAY(AF10)=7,SUMIF($B11:$AF11,AF11,$B20:$AF20)+SUMIF($B75:$AD75,AF11,$B84:$AD84),AF23)","v":"Feb"},null,null,null,null,null,null,null,null,null,null,null,null,null,null,null,null,null,"k","Krankheit Art. 13 GAV"]
[{"$f":"Labels!B50","v":"Zeitzuschlag 1)"},{"$f":"IF(B32=\"FALSCH\",\"\",B32)","v":""},{"$f":"IF(C32=\"FALSCH\",\"\",C32)","v":""},"","","","","","","","","","","","","","","","","","","","","","","","","","","","","",{"$f":"SUM(B25:AF25)","v":0},null,null,null,null,null,null,null,null,null,null,null,null,null,null,null,null,"m","Militär, Zivilschutz\nArt. 16 GAV"]
[{"$f":"Labels!B51","v":"Zeitzuschlag 2)"},{"$f":"IF((B15+B17)=0,\"\",SUM(B15,B17))","v":""},{"$f":"IF((C15+C17)=0,\"\",SUM(C15,C17))","v":""},{"$f":"IF((D15+D17)=0,\"\",SUM(D15,D17))","v":""},{"$f":"IF((E15+E17)=0,\"\",SUM(E15,E17))","v":""},"","","","","","","","","","","","","","","","","","","","","","","","","","","",0,"[1]",null,null,null,null,null,null,null,null,null,null,null,null,null,null,null,"s","Schwanger-/Mutterschaft\nArt. 15 GAV"]
[{"$f":"Labels!B52","v":"Zeitzuschlag 3)"},{"$f":"SUM(B28:B31)","v":0},0,0,0,0,0,0,0,0,0,0,0,0,0,0,0,0,0,0,0,0,0,0,0,0,0,0,0,0,0,0,{"$f":"SUM(B27:AF27)","v":0},"[2]","Konfiguration (lokal)",null,null,null,null,null,null,null,null,null,null,null,null,null,null,"u","Unfall Art. 14 GAV"]
[{"$f":"Labels!B53","v":"Sonntag Tag"},{"$f":"IF(WEEKDAY(B10)=1,B16,\"\")","v":""},{"$f":"IF(WEEKDAY(C10)=1,C16,\"\")","v":0},"","","","","","",0,"","","","","","",0,"","","","","","",0,"","","","","","",0,"",0,"[3]",null,null,null,null,null,null,null,null,null,null,null,null,null,null,null,"bs","Berufsschule"]
[{"$f":"Labels!B54","v":"Sonntag Nacht"},{"$f":"IF(WEEKDAY(B10)=1,SUM(B15+B17),\"\")","v":""},{"$f":"IF(WEEKDAY(C10)=1,SUM(C15+C17),\"\")","v":0},"","","","","","",0,"","","","","","",0,"","","","","","",0,"","","","","","",0,"",0,"[4]","Erster Januar aktuelles Jahr",null,null,null,null,null,null,{"$f":"DATE(YEAR($A$7),MONTH($A$7),DAY($A$7))","v":"2022-01-01"},null,null,null,null,null,null,null,"fe","Fehlstunden zur Information ohne Berechnung in der Zusammenfassung"]
[{"$f":"Labels!B55","v":"ft-Tazuschlag"},{"$f":"IF(B18=Labels!$B$118,B16,\"\")","v":""},{"$f":"IF(C18=Labels!$B$118,C16,\"\")","v":""},{"$f":"IF(D18=Labels!$B$118,D16,\"\")","v":""},{"$f":"IF(E18=Labels!$B$118,E16,\"\")","v":""},{"$f":"IF(F18=Labels!$B$118,F16,\"\")","v":""},{"$f":"IF(G18=Labels!$B$118,G16,\"\")","v":""},{"$f":"IF(H18=Labels!$B$118,H16,\"\")","v":""},{"$f":"IF(I18=Labels!$B$118,I16,\"\")","v":""},{"$f":"IF(J18=Labels!$B$118,J16,\"\")","v":""},{"$f":"IF(K18=Labels!$B$118,K16,\"\")","v":""},{"$f":"IF(L18=Labels!$B$118,L16,\"\")","v":""},{"$f":"IF(M18=Labels!$B$118,M16,\"\")","v":""},{"$f":"IF(N18=Labels!$B$118,N16,\"\")","v":""},{"$f":"IF(O18=Labels!$B$118,O16,\"\")","v":""},{"$f":"IF(P18=Labels!$B$118,P16,\"\")","v":""},{"$f":"IF(Q18=Labels!$B$118,Q16,\"\")","v":""},{"$f":"IF(R18=Labels!$B$118,R16,\"\")","v":""},{"$f":"IF(S18=Labels!$B$118,S16,\"\")","v":""},{"$f":"IF(T18=Labels!$B$118,T16,\"\")","v":""},{"$f":"IF(U18=Labels!$B$118,U16,\"\")","v":""},{"$f":"IF(V18=Labels!$B$118,V16,\"\")","v":""},{"$f":"IF(W18=Labels!$B$118,W16,\"\")","v":""},{"$f":"IF(X18=Labels!$B$118,X16,\"\")","v":""},{"$f":"IF(Y18=Labels!$B$118,Y16,\"\")","v":""},{"$f":"IF(Z18=Labels!$B$118,Z16,\"\")","v":""},{"$f":"IF(AA18=Labels!$B$118,AA16,\"\")","v":""},{"$f":"IF(AB18=Labels!$B$118,AB16,\"\")","v":""},{"$f":"IF(AC18=Labels!$B$118,AC16,\"\")","v":""},{"$f":"IF(AD18=Labels!$B$118,AD16,\"\")","v":""},{"$f":"IF(AE18=Labels!$B$118,AE16,\"\")","v":""},{"$f":"IF(AF18=Labels!$B$118,AF16,\"\")","v":""},0,"[5]","(Berechnungsgrundlage Kalender)",null,null,null,null,null,null,null,null,null,null,null,null,null,null,"ka","Kurzabeit, Schlechtwetterausfälle"]
[{"$f":"Labels!B56","v":"ft-Nazuschlag"},{"$f":"IF(B18=Labels!$B$118,SUM(B15,B17),\"\")","v":""},{"$f":"IF(C18=Labels!$B$118,SUM(C15,C17),\"\")","v":""},{"$f":"IF(D18=Labels!$B$118,SUM(D15,D17),\"\")","v":""},{"$f":"IF(E18=Labels!$B$118,SUM(E15,E17),\"\")","v":""},{"$f":"IF(F18=Labels!$B$118,SUM(F15,F17),\"\")","v":""},{"$f":"IF(G18=Labels!$B$118,SUM(G15,G17),\"\")","v":""},{"$f":"IF(H18=Labels!$B$118,SUM(H15,H17),\"\")","v":""},{"$f":"IF(I18=Labels!$B$118,SUM(I15,I17),\"\")","v":""},{"$f":"IF(J18=Labels!$B$118,SUM(J15,J17),\"\")","v":""},{"$f":"IF(K18=Labels!$B$118,SUM(K15,K17),\"\")","v":""},{"$f":"IF(L18=Labels!$B$118,SUM(L15,L17),\"\")","v":""},{"$f":"IF(M18=Labels!$B$118,SUM(M15,M17),\"\")","v":""},{"$f":"IF(N18=Labels!$B$118,SUM(N15,N17),\"\")","v":""},{"$f":"IF(O18=Labels!$B$118,SUM(O15,O17),\"\")","v":""},{"$f":"IF(P18=Labels!$B$118,SUM(P15,P17),\"\")","v":""},{"$f":"IF(Q18=Labels!$B$118,SUM(Q15,Q17),\"\")","v":""},{"$f":"IF(R18=Labels!$B$118,SUM(R15,R17),\"\")","v":""},{"$f":"IF(S18=Labels!$B$118,SUM(S15,S17),\"\")","v":""},{"$f":"IF(T18=Labels!$B$118,SUM(T15,T17),\"\")","v":""},{"$f":"IF(U18=Labels!$B$118,SUM(U15,U17),\"\")","v":""},{"$f":"IF(V18=Labels!$B$118,SUM(V15,V17),\"\")","v":""},{"$f":"IF(W18=Labels!$B$118,SUM(W15,W17),\"\")","v":""},{"$f":"IF(X18=Labels!$B$118,SUM(X15,X17),\"\")","v":""},{"$f":"IF(Y18=Labels!$B$118,SUM(Y15,Y17),\"\")","v":""},{"$f":"IF(Z18=Labels!$B$118,SUM(Z15,Z17),\"\")","v":""},{"$f":"IF(AA18=Labels!$B$118,SUM(AA15,AA17),\"\")","v":""},{"$f":"IF(AB18=Labels!$B$118,SUM(AB15,AB17),\"\")","v":""},{"$f":"IF(AC18=Labels!$B$118,SUM(AC15,AC17),\"\")","v":""},{"$f":"IF(AD18=Labels!$B$118,SUM(AD15,AD17),\"\")","v":""},{"$f":"IF(AE18=Labels!$B$118,SUM(AE15,AE17),\"\")","v":""},{"$f":"IF(AF18=Labels!$B$118,SUM(AF15,AF17),\"\")","v":""},0,"[6]",null,null,null,null,null,null,null,null,null,null,null,null,null,null,null,"kj","Kompensation laufendes Jahr siehe  Zusammenfassung"]
[{"$f":"Labels!B57","v":"Zuschlag  blind (Wochentotal)"},{"$f":"IF(OR(ISTEXT(B24),B24=\"\",B24<$B$7),\"\",ROUND(((B24-$B$7)*25%)/25,4)*25)","v":""},{"$f":"IF(OR(ISTEXT(C24),C24=\"\",C24<$B$7),\"\",ROUND(((C24-$B$7)*25%)/25,4)*25)","v":""},"","","","","","","","","","","","","","","","","","","","","","","","","","","","","",{"$f":"AG16","v":0},"[7]","Hilfszelle Feiertage",null,null,null,null,null,null,null,{"$f":"Labels!$B$118","v":"ft"},null,null,null,null,null,null,"ku","Kurse"]
[null,{"$f":"Labels!B58","v":"1)   25% Zeitzuschlag für Überschreitung Wochentotal"},null,null,null,null,null,null,null,null,null,{"$f":"Labels!B59","v":"2) 100% Zeitzuschlag für Nachtarbeit"},null,null,null,null,null,null,null,{"$f":"Labels!B61","v":"Eingabe der ausbezahlten Stunden Vorjahressaldo"},null,null,null,null,null,null,null,null,null,null,null,null,{"$f":"SUM(AG15+AG17)","v":0},"[8]",null,null,null,null,null,null,null,null,null,null,null,null,null,null,null,"kv","Kompensation Vorjahressaldo für Abrechnung in der Zusammenfassung"]
[null,{"$f":"Labels!B60","v":"3) 100% Zeitzuschlag für Sonn- und Feiertagsarbeit"},null,null,null,null,null,null,null,null,null,null,null,null,null,null,null,null,null,{"$f":"Labels!B62","v":"Eingabe der ausbezahlten Stunden laufendes Jahr (Überstunden)"},null,null,null,null,null,null,null,null,null,null,null,null,{"$f":"SUM(AG15:AG17)","v":0},"[9]","aktueller Kalender",null,"calendar",null,null,null,null,null,"KALENDER",null,null,null,null,null,null,"fu","Ferien unbezahlt"]
[{"$f":"Labels!B159","v":"Bemerkungen"},null,null,null,null,null,null,null,null,null,null,null,null,null,null,null,null,null,null,null,null,null,null,null,null,null,null,null,null,null,null,null,{"$f":"SUM(AG13+AG19)","v":0},"[10]"]
[null,null,null,null,null,null,null,null,null,null,null,null,null,null,null,null,null,null,null,null,null,null,null,null,null,null,null,null,null,null,null,null,{"$f":"SUM(AG13:AG27)","v":0},"[11]"]
[null,null,null,null,null,null,null,null,null,null,null,null,null,null,null,null,null,null,null,null,null,null,null,null,null,null,null,null,null,null,null,null,{"$f":"AG12","v":168},null,"alter Kalender",null,"calendar1",null,null,null,null,null,"Kalender Müller",null,null,null,null,null,null,"Meldungen & Beschriftungen"]
[null,null,null,null,null,null,null,null,null,null,null,null,null,null,null,null,null,null,null,null,null,null,null,null,null,null,null,null,null,null,null,null,{"$f":"SUM(AG36-AG12)","v":-168},null,"neuer Kalender",null,"calendar",null,null,null,null,null,"KALENDER"]
[{"$f":"Labels!B103","v":"Zusammenstellung"},null,null,null,null,null,{"$f":"Labels!B77","v":"Jan"},null,{"$f":"Labels!B78","v":"Feb"},null,{"$f":"Labels!B79","v":"Mrz"},null,{"$f":"Labels!B80","v":"Apr"},null,{"$f":"Labels!B81","v":"Mai"},null,{"$f":"Labels!B82","v":"Jun"},null,{"$f":"Labels!B83","v":"Jul"},null,{"$f":"Labels!B84","v":"Aug"},null,{"$f":"Labels!B85","v":"Sep"},null,{"$f":"Labels!B86","v":"Okt"},null,{"$f":"Labels!B87","v":"Nov"},null,{"$f":"Labels!B88","v":"Dez"},null,{"$f":"Labels!B101","v":"Jahr"},null,null,null,null,null,null,null,null,null,null,null,null,null,null,null,null,null,null,null,{"$f":"\"Das Vorjahresguthaben beträgt noch \"&TEXT(W61,\"0.0000\")&\" Std.\"","v":"Das Vorjahresguthaben beträgt noch 0.0000 Std."}]
[{"$f":"Labels!B20","v":"Anstellung %"},null,null,null,null,null,{"$f":"IF($B$4=0,0,$B$4)","v":100},null,{"$f":"IF($B$71=0,0,$B$71)","v":100},null,{"$f":"IF($B$135=0,0,$B$135)","v":100},null,{"$f":"IF($B$199=0,0,$B$199)","v":100},null,{"$f":"IF($B$263=0,0,$B$263)","v":100},null,{"$f":"IF($B$327=0,0,$B$327)","v":100},null,{"$f":"IF($B$391=0,0,$B$391)","v":100},null,{"$f":"IF($B$455=0,0,$B$455)","v":100},null,{"$f":"IF($B$519=0,0,$B$519)","v":100},null,{"$f":"IF($B$583=0,0,$B$583)","v":100},null,{"$f":"IF($B$647=0,0,$B$647)","v":100},null,{"$f":"IF($B$711=0,0,$B$711)","v":100},null,null,null,null,null,null,null,null,null,null,null,null,null,null,null,null,null,null,null,null,null,"Total"]
[{"$f":"Labels!B104","v":"Sollstunden gemäss GAV"},null,null,null,null,null,{"$f":"IF($AG$37=0,0,$AG$37)","v":168},null,{"$f":"IF($AG$100=0,0,$AG$100)","v":160},null,{"$f":"IF($AG$139=0,0,$AG$139)","v":184},null,{"$f":"IF($AG$228=0,0,$AG$228)","v":168},null,{"$f":"IF($AG$292=0,0,$AG$292)","v":176},null,{"$f":"IF($AG$356=0,0,$AG$356)","v":176},null,{"$f":"IF($AG$420=0,0,$AG$420)","v":168},null,{"$f":"IF($AG$484=0,0,$AG$484)","v":184},null,{"$f":"IF($AG$548=0,0,$AG$548)","v":176},null,{"$f":"IF($AG$612=0,0,$AG$612)","v":168},null,{"$f":"IF($AG$676=0,0,$AG$676)","v":176},null,{"$f":"IF($AG$740=0,0,$AG$740)","v":176},null,{"$f":"SUM(G41:AD41)","v":2080},null,null,null,"Anstellungsdetails",null,"Name:","Muster Peter",null,null,"Default-%",null,100]
[{"$f":"Labels!B105","v":"Produktive Stunden"},{"$f":"Labels!B106","v":"06.00 - 20.00 Uhr"},null,null,null,null,{"$f":"IF($AG$32=0,0,$AG$32)","v":0},null,{"$f":"IF($AG$95=0,0,$AG$95)","v":0},null,{"$f":"IF($AG$159=0,0,$AG$159)","v":0},null,{"$f":"IF($AG$223=0,0,$AG$223)","v":0},null,{"$f":"IF($AG$287=0,0,$AG$287)","v":0},null,{"$f":"IF($AG$351=0,0,$AG$351)","v":0},null,{"$f":"IF($AG$415=0,0,$AG$415)","v":0},null,{"$f":"IF($AG$479=0,0,$AG$479)","v":0},null,{"$f":"IF($AG$543=0,0,$AG$543)","v":0},null,{"$f":"IF($AG$607=0,0,$AG$607)","v":0},null,{"$f":"IF($AG$671=0,0,$AG$671)","v":0},null,{"$f":"IF($AG$735=0,0,$AG$735)","v":0},null,{"$f":"SUM(G42:AD42)","v":0}]
[null,{"$f":"Labels!B107","v":"Nacht-, Sonn-, Feiertagsarbeit"},null,null,null,null,{"$f":"IF($AG$33=0,0,$AG$33)","v":0},null,{"$f":"IF($AG$96=0,0,$AG$96)","v":0},null,{"$f":"IF($AG$160=0,0,$AG$160)","v":0},null,{"$f":"IF($AG$224=0,0,$AG$224)","v":0},null,{"$f":"IF($AG$288=0,0,$AG$288)","v":0},null,{"$f":"IF($AG$352=0,0,$AG$352)","v":0},null,{"$f":"IF($AG$416=0,0,$AG$416)","v":0},null,{"$f":"IF($AG$480=0,0,$AG$480)","v":0},null,{"$f":"IF($AG$544=0,0,$AG$544)","v":0},null,{"$f":"IF($AG$608=0,0,$AG$608)","v":0},null,{"$f":"IF($AG$672=0,0,$AG$672)","v":0},null,{"$f":"IF($AG$736=0,0,$AG$736)","v":0},null,{"$f":"SUM(G43:AD43)","v":0},null,null,null,"Ganzes Jahr gleich?",true,null,"%","MO","DI","MI","DO","FR","Arbeitst."]
[{"$f":"Labels!B108","v":"Zeitzuschläge"},{"$f":"Labels!B109","v":"aus Wochentotal"},null,null,null,null,{"$f":"IF($AG$25=0,0,$AG$25)","v":0},null,{"$f":"IF($AG$88=0,0,$AG$88)","v":0},null,{"$f":"IF($AG$152=0,0,$AG$152)","v":0},null,{"$f":"IF($AG$216=0,0,$AG$216)","v":0},null,{"$f":"IF($AG$280=0,0,$AG$280)","v":0},null,{"$f":"IF($AG$344=0,0,$AG$344)","v":0},null,{"$f":"IF($AG$408=0,0,$AG$408)","v":0},null,{"$f":"IF($AG$472=0,0,$AG$472)","v":0},null,{"$f":"IF($AG$536=0,0,$AG$536)","v":0},null,{"$f":"IF($AG$600=0,0,$AG$600)","v":0},null,{"$f":"IF($AG$664=0,0,$AG$664)","v":0},null,{"$f":"IF($AG$728=0,0,$AG$728)","v":0},null,{"$f":"SUM(G44:AD44)","v":0},null,null,null,null,null,"Jan",100,true,true,true,true,true,{"$f":"COUNTIF(AM44:AQ44,TRUE)","v":5}]
[null,{"$f":"Labels!B110","v":"aus Nacht-, Sonn-, Feiertagsarbeiten"},null,null,null,null,{"$f":"IF($AJ$21=0,0,$AJ$21)","v":0},null,{"$f":"IF($AK$21=0,0,$AK$21)","v":0},null,{"$f":"IF($AL$21=0,0,$AL$21)","v":0},null,{"$f":"IF($AM$21=0,0,$AM$21)","v":0},null,{"$f":"IF($AN$21=0,0,$AN$21)","v":0},null,{"$f":"IF($AO$21=0,0,$AO$21)","v":0},null,{"$f":"IF($AP$21=0,0,$AP$21)","v":0},null,{"$f":"IF($AQ$21=0,0,$AQ$21)","v":0},null,{"$f":"IF($AR$21=0,0,$AR$21)","v":0},null,{"$f":"IF($AS$21=0,0,$AS$21)","v":0},null,{"$f":"IF($AT$21=0,0,$AT$21)","v":0},null,{"$f":"IF($AU$21=0,0,$AU$21)","v":0},null,{"$f":"SUM(G45:AD45)","v":0},null,null,null,null,null,"Feb",100,true,true,true,true,true,{"$f":"COUNTIF(AM45:AQ45,TRUE)","v":5}]
[{"$f":"Labels!B111","v":"Unproduktive Stunden"},null,null,null,null,null,null,null,null,null,null,null,null,null,null,null,null,null,null,null,null,null,null,null,null,null,null,null,null,null,null,null,null,null,null,null,"Mrz",100,true,true,true,true,true,5]
[{"$f":"Labels!B112","v":"   Absenzen, Kurzabsenzen Art. 11 GAV"},null,null,null,null,{"$f":"Labels!B113","v":"a"},{"$f":"IF($AJ$3=0,0,$AJ$3)","v":0},null,{"$f":"IF($AK$3=0,0,$AK$3)","v":0},null,{"$f":"IF($AL$3=0,0,$AL$3)","v":0},null,{"$f":"IF($AM$3=0,0,$AM$3)","v":0},null,{"$f":"IF($AN$3=0,0,$AN$3)","v":0},null,{"$f":"IF($AO$3=0,0,$AO$3)","v":0},null,{"$f":"IF($AP$3=0,0,$AP$3)","v":0},null,{"$f":"IF($AQ$3=0,0,$AQ$3)","v":0},null,{"$f":"IF($AR$3=0,0,$AR$3)","v":0},null,{"$f":"IF($AS$3=0,0,$AS$3)","v":0},null,{"$f":"IF(AT$3=0,0,$AT$3)","v":0},null,{"$f":"IF($AU$3=0,0,$AU$3)","v":0},null,{"$f":"IF($AV$3=0,0,$AV$3)","v":0},null,null,null,null,null,"Apr",100,true,true,true,true,true,5]
[{"$f":"Labels!B114","v":"   Ferien Art. 12.1 GAV"},null,null,null,null,{"$f":"Labels!B115","v":"f"},{"$f":"IF($AJ$4=0,0,$AJ$4)","v":0},null,{"$f":"IF($AK$4=0,0,$AK$4)","v":0},null,{"$f":"IF($AL$4=0,0,$AL$4)","v":0},null,{"$f":"IF($AM$4=0,0,$AM$4)","v":0},null,{"$f":"IF($AN$4=0,0,$AN$4)","v":0},null,{"$f":"IF($AO$4=0,0,$AO$4)","v":0},null,{"$f":"IF($AP$4=0,0,$AP$4)","v":0},null,{"$f":"IF($AQ$4=0,0,$AQ$4)","v":0},null,{"$f":"IF($AR$4=0,0,$AR$4)","v":0},null,{"$f":"IF($AS$4=0,0,$AS$4)","v":0},null,{"$f":"IF($AT$4=0,0,$AT$4)","v":0},null,{"$f":"IF($AU$4=0,0,$AU$4)","v":0},null,{"$f":"IF($AV$4=0,0,$AV$4)","v":0},null,null,null,null,null,"Mai",100,true,true,true,true,true,5]
[{"$f":"Labels!$B$181","v":"   Ferien unbezahlt"},null,null,null,null,{"$f":"Labels!$B$182","v":"fu"},{"$f":"IF($AJ$13=0,0,$AJ$13)","v":0},null,{"$f":"IF($AK$13=0,0,$AK$13)","v":0},null,{"$f":"IF($AL$13=0,0,$AL$13)","v":0},null,{"$f":"IF($AM$13=0,0,$AM$13)","v":0},null,{"$f":"IF($AN$13=0,0,$AN$13)","v":0},null,{"$f":"IF($AO$13=0,0,$AO$13)","v":0},null,{"$f":"IF($AP$13=0,0,$AP$13)","v":0},null,{"$f":"IF($AQ$13=0,0,$AQ$13)","v":0},null,{"$f":"IF($AR$13=0,0,$AR$13)","v":0},null,{"$f":"IF($AS$13=0,0,$AS$13)","v":0},null,{"$f":"IF($AT$13=0,0,$AT$13)","v":0},null,{"$f":"IF($AU$13=0,0,$AU$13)","v":0},null,{"$f":"IF($AV$13=0,0,$AV$13)","v":0},null,null,null,null,null,"Jun",100,true,true,true,true,true,5]
[{"$f":"Labels!B116","v":"   Feiertage Art. 12.2 GAV"},null,{"$f":"IF($AJ$18=\"\",\"\",$AJ$18)","v":""},null,null,{"$f":"Labels!B118","v":"ft"},{"$f":"IF($AJ$16=0,0,$AJ$16)","v":0},null,{"$f":"IF($AK$16=0,0,$AK$16)","v":0},null,{"$f":"IF($AL$16=0,0,$AL$16)","v":0},null,{"$f":"IF($AM$16=0,0,$AM$16)","v":0},null,{"$f":"IF($AN$16=0,0,$AN$16)","v":0},null,{"$f":"IF($AO$16=0,0,$AO$16)","v":0},null,{"$f":"IF($AP$16=0,0,$AP$16)","v":0},null,{"$f":"IF($AQ$16=0,0,$AQ$16)","v":0},null,{"$f":"IF($AR$16=0,0,$AR$16)","v":0},null,{"$f":"IF($AS$16=0,0,$AS$16)","v":0},null,{"$f":"IF($AT$16=0,0,$AT$16)","v":0},null,{"$f":"IF($AU$16=0,0,$AU$16)","v":0},null,{"$f":"IF($AV$16=0,0,$AV$16)","v":0},null,null,null,null,null,"Jul",100,true,true,true,true,true,5]
[{"$f":"Labels!B119","v":"   Krankheit Art. 13 GAV"},null,null,null,null,{"$f":"Labels!B120","v":"k"},{"$f":"IF($AJ$5=0,0,$AJ$5)","v":0},null,{"$f":"IF($AK$5=0,0,$AK$5)","v":0},null,{"$f":"IF($AL$5=0,0,$AL$5)","v":0},null,{"$f":"IF($AM$5=0,0,$AM$5)","v":0},null,{"$f":"IF($AN$5=0,0,$AN$5)","v":0},null,{"$f":"IF($AO$5=0,0,$AO$5)","v":0},null,{"$f":"IF($AP$5=0,0,$AP$5)","v":0},null,{"$f":"IF($AQ$5=0,0,$AQ$5)","v":0},null,{"$f":"IF($AR$5=0,0,$AR$5)","v":0},null,{"$f":"IF($AS$5=0,0,$AS$5)","v":0},null,{"$f":"IF($AT$5=0,0,$AT$5)","v":0},null,{"$f":"IF($AU$5=0,0,$AU$5)","v":0},null,{"$f":"IF($AV$5=0,0,$AV$5)","v":0},null,null,null,null,null,"Aug",100,true,true,true,true,true,5]
[{"$f":"Labels!B121","v":"   Unfall Art. 14 GAV"},null,null,null,null,{"$f":"Labels!B122","v":"u"},{"$f":"IF($AJ$6=0,0,$AJ$6)","v":0},null,{"$f":"IF($AK$6=0,0,$AK$6)","v":0},null,{"$f":"IF($AL$6=0,0,$AL$6)","v":0},null,{"$f":"IF($AM$6=0,0,$AM$6)","v":0},null,{"$f":"IF($AN$6=0,0,$AN$6)","v":0},null,{"$f":"IF($AO$6=0,0,$AO$6)","v":0},null,{"$f":"IF($AP$6=0,0,$AP$6)","v":0},null,{"$f":"IF($AQ$6=0,0,$AQ$6)","v":0},null,{"$f":"IF($AR$6=0,0,$AR$6)","v":0},null,{"$f":"IF($AS$6=0,0,$AS$6)","v":0},null,{"$f":"IF($AT$6=0,0,$AT$6)","v":0},null,{"$f":"IF($AU$6=0,0,$AU$6)","v":0},null,{"$f":"IF($AV$6=0,0,$AV$6)","v":0},null,null,null,null,null,"Sep",100,true,true,true,true,true,5]
[{"$f":"Labels!B123","v":"   Schwangerschaft/Mutterschaft Art. 15 GAV"},null,null,null,null,{"$f":"Labels!B124","v":"s"},{"$f":"IF($AJ$7=0,0,$AJ$7)","v":0},null,{"$f":"IF($AK$7=0,0,$AK$7)","v":0},null,{"$f":"IF($AL$7=0,0,$AL$7)","v":0},null,{"$f":"IF($AM$7=0,0,$AM$7)","v":0},null,{"$f":"IF($AN$7=0,0,$AN$7)","v":0},null,{"$f":"IF($AO$7=0,0,$AO$7)","v":0},null,{"$f":"IF($AP$7=0,0,$AP$7)","v":0},null,{"$f":"IF($AQ$7=0,0,$AQ$7)","v":0},null,{"$f":"IF($AR$7=0,0,$AR$7)","v":0},null,{"$f":"IF($AS$7=0,0,$AS$7)","v":0},null,{"$f":"IF($AT$7=0,0,$AT$7)","v":0},null,{"$f":"IF($AU$7=0,0,$AU$7)","v":0},null,{"$f":"IF($AV$7=0,0,$AV$7)","v":0},null,null,null,null,null,"Okt",100,true,true,true,true,true,5]
[{"$f":"Labels!B125","v":"   Militär/Beförderung/Zivilschutz Art. 16 GAV"},null,null,null,null,{"$f":"Labels!B126","v":"m"},{"$f":"IF($AJ$8=0,0,$AJ$8)","v":0},null,{"$f":"IF($AK$8=0,0,$AK$8)","v":0},null,{"$f":"IF($AL$8=0,0,$AL$8)","v":0},null,{"$f":"IF($AM$8=0,0,$AM$8)","v":0},null,{"$f":"IF($AN$8=0,0,$AN$8)","v":0},null,{"$f":"IF($AO$8=0,0,$AO$8)","v":0},null,{"$f":"IF($AP$8=0,0,$AP$8)","v":0},null,{"$f":"IF($AQ$8=0,0,$AQ$8)","v":0},null,{"$f":"IF($AR$8=0,0,$AR$8)","v":0},null,{"$f":"IF($AS$8=0,0,$AS$8)","v":0},null,{"$f":"IF($AT$8=0,0,$AT$8)","v":0},null,{"$f":"IF($AU$8=0,0,$AU$8)","v":0},null,{"$f":"IF($AV$8=0,0,$AV$8)","v":0},null,null,null,null,null,"Nov",100,true,true,true,true,true,5]
[{"$f":"Labels!B127","v":"   Kurzarbeit und Schlechtwetterausfälle"},null,null,null,null,{"$f":"Labels!B128","v":"ka"},{"$f":"IF($AJ$11=0,0,$AJ$11)","v":0},null,{"$f":"IF($AK$11=0,0,$AK$11)","v":0},null,{"$f":"IF($AL$11=0,0,$AL$11)","v":0},null,{"$f":"IF($AM$11=0,0,$AM$11)","v":0},null,{"$f":"IF($AN$11=0,0,$AN$11)","v":0},null,{"$f":"IF($AO$11=0,0,$AO$11)","v":0},null,{"$f":"IF($AP$11=0,0,$AP$11)","v":0},null,{"$f":"IF($AQ$11=0,0,$AQ$11)","v":0},null,{"$f":"IF($AR$11=0,0,$AR$11)","v":0},null,{"$f":"IF($AS$11=0,0,$AS$11)","v":0},null,{"$f":"IF($AT$11=0,0,$AT$11)","v":0},null,{"$f":"IF($AU$11=0,0,$AU$11)","v":0},null,{"$f":"IF($AV$11=0,0,$AV$11)","v":0},null,null,null,null,null,"Dez",100,true,true,true,true,true,5]
[{"$f":"Labels!B129","v":"   Berufsschule"},null,null,null,null,{"$f":"Labels!B130","v":"bs"},{"$f":"IF($AJ$9=0,0,$AJ$9)","v":0},null,{"$f":"IF($AK$9=0,0,$AK$9)","v":0},null,{"$f":"IF($AL$9=0,0,$AL$9)","v":0},null,{"$f":"IF($AM$9=0,0,$AM$9)","v":0},null,{"$f":"IF($AN$9=0,0,$AN$9)","v":0},null,{"$f":"IF($AO$9=0,0,$AO$9)","v":0},null,{"$f":"IF($AP$9=0,0,$AP$9)","v":0},null,{"$f":"IF($AQ$9=0,0,$AQ$9)","v":0},null,{"$f":"IF($AR$9=0,0,$AR$9)","v":0},null,{"$f":"IF($AS$9=0,0,$AS$9)","v":0},null,{"$f":"IF($AT$9=0,0,$AT$9)","v":0},null,{"$f":"IF($AU$9=0,0,$AU$9)","v":0},null,{"$f":"IF($AV$9=0,0,$AV$9)","v":0},null,null,null,null,null,"Avg",{"$f":"SUM(AL44:AL55)/12","v":100},2,3,4,5,6]
[{"$f":"Labels!B131","v":"   Kurse"},null,null,null,null,{"$f":"Labels!B132","v":"ku"},{"$f":"IF($AJ$10=0,0,$AJ$10)","v":0},null,{"$f":"IF($AK$10=0,0,$AK$10)","v":0},null,{"$f":"IF($AL$10=0,0,$AL$10)","v":0},null,{"$f":"IF($AM$10=0,0,$AM$10)","v":0},null,{"$f":"IF($AN$10=0,0,$AN$10)","v":0},null,{"$f":"IF($AO$10=0,0,$AO$10)","v":0},null,{"$f":"IF($AP$10=0,0,$AP$10)","v":0},null,{"$f":"IF($AQ$10=0,0,$AQ$10)","v":0},null,{"$f":"IF($AR$10=0,0,$AR$10)","v":0},null,{"$f":"IF($AS$10=0,0,$AS$10)","v":0},null,{"$f":"IF($AT$10=0,0,$AT$10)","v":0},null,{"$f":"IF($AU$10=0,0,$AU$10)","v":0},null,{"$f":"IF($AV$10=0,0,$AV$10)","v":0}]
[{"$f":"Labels!B133","v":"Kompensations-Std"},{"$f":"Labels!B134","v":"aus Vorjahr"},null,null,null,{"$f":"Labels!B135","v":"kv"},{"$f":"IF($AJ$12=0,0,$AJ$12)","v":0},null,{"$f":"IF($AK$12=0,0,$AK$12)","v":0},null,{"$f":"IF($AL$12=0,0,$AL$12)","v":0},null,{"$f":"IF($AM$12=0,0,$AM$12)","v":0},null,{"$f":"IF($AN$12=0,0,$AN$12)","v":0},null,{"$f":"IF($AO$12=0,0,$AO$12)","v":0},null,{"$f":"IF($AP$12=0,0,$AP$12)","v":0},null,{"$f":"IF($AQ$12=0,0,$AQ$12)","v":0},null,{"$f":"IF($AR$12=0,0,$AR$12)","v":0},null,null,null,null,null,null,null,{"$f":"IF($AV$12=0,0,$AV$12)","v":0}]
[null,{"$f":"Labels!B136","v":"aus laufendem Jahr (Kontrolle)"},null,null,null,{"$f":"Labels!B137","v":"kj"},{"$f":"IF($AJ$15=0,0,$AJ$15)","v":0},null,{"$f":"IF($AK$15=0,0,$AK$15)","v":0},null,{"$f":"IF($AL$15=0,0,$AL$15)","v":0},null,{"$f":"IF($AM$15=0,0,$AM$15)","v":0},null,{"$f":"IF($AN$15=0,0,$AN$15)","v":0},null,{"$f":"IF($AO$15=0,0,$AO$15)","v":0},null,{"$f":"IF($AP$15=0,0,$AP$15)","v":0},null,{"$f":"IF($AQ$15=0,0,$AQ$15)","v":0},null,{"$f":"IF($AR$15=0,0,$AR$15)","v":0},null,{"$f":"IF($AS$15=0,0,$AS$15)","v":0},null,{"$f":"IF($AT$15=0,0,$AT$15)","v":0},null,{"$f":"IF($AU$15=0,0,$AU$15)","v":0},null,{"$f":"IF($AV$15=0,0,$AV$15)","v":0}]
[{"$f":"Labels!B138","v":"Auszahlung"},{"$f":"Labels!B139","v":"Stunden Vorjahressaldo"},null,null,null,null,{"$f":"IF($AJ$19=0,0,$AJ$19)","v":0},null,{"$f":"IF($AK$19=0,0,$AK$19)","v":0},null,{"$f":"IF($AL$19=0,0,$AL$19)","v":0},null,{"$f":"IF($AM$19=0,0,$AM$19)","v":0},null,{"$f":"IF($AN$19=0,0,$AN$19)","v":0},null,{"$f":"IF($AO$19=0,0,$AO$19)","v":0},null,{"$f":"IF($AP$19=0,0,$AP$19)","v":0},null,{"$f":"IF($AQ$19=0,0,$AQ$19)","v":0},null,{"$f":"IF($AR$19=0,0,$AR$19)","v":0},null,null,null,null,null,null,null,{"$f":"IF($AV$19=0,0,$AV$19)","v":0}]
[{"$f":"Labels!B140","v":"Differenz"},{"$f":"Labels!B141","v":"nach Kompensation und Auszahlung"},null,null,null,null,{"$f":"IF(ROUND($P$4,3)=0,0,$P$4-G58-G60)","v":0},null,{"$f":"IF(ROUND(G61,3)=0,0,G61-(SUM(I58+I60)))","v":0},null,{"$f":"IF(ROUND(I61,3)=0,0,I61-K60-K58)","v":0},null,{"$f":"IF(ROUND(K61,3)=0,0,K61-(SUM(M60+M58)))","v":0},null,{"$f":"IF(ROUND(M61,3)=0,0,M61-(SUM(O60+O58)))","v":0},null,{"$f":"IF(ROUND(O61,3)=0,0,O61-(SUM(Q60+Q58)))","v":0},null,{"$f":"IF(ROUND(Q61,3)=0,0,Q61-(SUM(S60+S58)))","v":0},null,{"$f":"IF(ROUND(S61,3)=0,0,S61-(SUM(U60+U58)))","v":0},null,{"$f":"IF(ROUND(U61,3)=0,0,U61-(SUM(W60+W58)))","v":0},null,{"$f":"IF($W$61<0.1,\"\",AY39)","v":""}]
[{"$f":"Labels!B138","v":"Auszahlung"},{"$f":"Labels!B142","v":"Stunden laufendes Jahr"},null,null,null,null,{"$f":"IF($AJ$20=0,0,$AJ$20)","v":0},null,{"$f":"IF($AK$20=0,0,$AK$20)","v":0},null,{"$f":"IF($AL$20=0,0,$AL$20)","v":0},null,{"$f":"IF($AM$20=0,0,$AM$20)","v":0},null,{"$f":"IF($AN$20=0,0,$AN$20)","v":0},null,{"$f":"IF($AO$20=0,0,$AO$20)","v":0},null,{"$f":"IF($AP$20=0,0,$AP$20)","v":0},null,{"$f":"IF($AQ$20=0,0,$AQ$20)","v":0},null,{"$f":"IF($AR$20=0,0,$AR$20)","v":0},null,{"$f":"IF($AS$20=0,0,$AS$20)","v":0},null,{"$f":"IF($AT$20=0,0,$AT$20)","v":0},null,{"$f":"IF($AU$20=0,0,$AU$20)","v":0},null,{"$f":"IF($AV$20=0,0,$AV$20)","v":0}]
[{"$f":"Labels!B143","v":"Fehlstunden"},{"$f":"Labels!B144","v":"laufendes Jahr (Kontrolle)"},null,null,null,{"$f":"Labels!B145","v":"fe"},{"$f":"IF($AJ$14=0,0,$AJ$14)","v":0},null,{"$f":"IF($AK$14=0,0,$AK$14)","v":0},null,{"$f":"IF($AL$14=0,0,$AL$14)","v":0},null,{"$f":"IF($AM$14=0,0,$AM$14)","v":0},null,{"$f":"IF($AN$14=0,0,$AN$14)","v":0},null,{"$f":"IF($AO$14=0,0,$AO$14)","v":0},null,{"$f":"IF($AP$14=0,0,$AP$14)","v":0},null,{"$f":"IF($AQ$14=0,0,$AQ$14)","v":0},null,{"$f":"IF($AR$14=0,0,$AR$14)","v":0},null,{"$f":"IF($AS$14=0,0,$AS$14)","v":0},null,{"$f":"IF($AT$14=0,0,$AT$14)","v":0},null,{"$f":"IF($AU$14=0,0,$AU$14)","v":0},null,{"$f":"IF($AV$14=0,0,$AV$14)","v":0}]
[{"$f":"Labels!B146","v":"Total inkl. Zeitzuschläge"},{"$f":"Labels!B147","v":"Stunden produktiv und unproduktiv"},null,null,null,null,{"$f":"IF($AG$36=0,0,$AG$36)","v":0},null,{"$f":"IF($AG$99=0,0,$AG$99)","v":0},null,{"$f":"IF($AG$163=0,0,$AG$163)","v":0},null,{"$f":"IF($AG$227=0,0,$AG$227)","v":0},null,{"$f":"IF($AG$291=0,0,$AG$291)","v":0},null,{"$f":"IF($AG$355=0,0,$AG$355)","v":0},null,{"$f":"IF($AG$419=0,0,$AG$419)","v":0},null,{"$f":"IF($AG$483=0,0,$AG$483)","v":0},null,{"$f":"IF($AG$547=0,0,$AG$547)","v":0},null,{"$f":"IF($AG$611=0,0,$AG$611)","v":0},null,{"$f":"IF($AG$675=0,0,$AG$675)","v":0},null,{"$f":"IF($AG$739=0,0,$AG$739)","v":0},null,{"$f":"SUM($G$64:$AD$64)","v":0}]
[{"$f":"Labels!B148","v":"Vergleich"},{"$f":"Labels!B149","v":"Stunden zu Soll-Stunden (inkl. allfälli-\nge Minusstunden Vorjahr)"},null,null,null,null,{"$f":"IF($AG$38=0,0,$AG$38)-$AE$34+$P$5","v":-168},null,{"$f":"IF($AG$101=0,0,$AG$101)-$AE$98","v":-160},null,{"$f":"IF($AG$165=0,0,$AG$165)-$AE$162","v":-184},null,{"$f":"IF($AG$229=0,0,$AG$229)-$AE$226","v":-168},null,{"$f":"IF($AG$293=0,0,$AG$293)-$AE$290","v":-176},null,{"$f":"IF($AG$357=0,0,$AG$357)-$AE$354","v":-176},null,{"$f":"IF($AG$421=0,0,$AG$421)-$AE$418","v":-168},null,{"$f":"IF($AG$485=0,0,$AG$485)-$AE$482","v":-184},null,{"$f":"IF($AG$549=0,0,$AG$549)-$AE$546","v":-176},null,{"$f":"IF($AG$613=0,0,$AG$613)-$AE$610","v":-168},null,{"$f":"IF($AG$677=0,0,$AG$677)-$AE$674","v":-176},null,{"$f":"IF($AG$741=0,0,$AG$741)-$AE$738","v":-176},null,{"$f":"SUM($G$65:$AD$65)","v":-2080}]
[null,{"$f":"Labels!B151","v":"Stunden zu Soll-Stunden (kumuliert)"},null,null,null,null,{"$f":"IF(G40=0,0,$G$65)","v":-168},null,{"$f":"IF(I40=0,0,SUM($G$65:$J$65))","v":-328},null,{"$f":"IF(K40=0,0,SUM($G$65:$L$65))","v":-512},null,{"$f":"IF(M40=0,0,SUM($G$65:$N$65))","v":-680},null,{"$f":"IF(O40=0,0,SUM($G$65:$P$65))","v":-856},null,{"$f":"IF(Q40=0,0,SUM($G$65:$R$65))","v":-1032},null,{"$f":"IF(S40=0,0,SUM($G$65:$T$65))","v":-1200},null,{"$f":"IF(U40=0,0,SUM($G$65:$V$65))","v":-1384},null,{"$f":"IF(W40=0,0,SUM($G$65:$X$65))","v":-1560},null,{"$f":"IF(Y40=0,0,SUM($G$65:$Z$65))","v":-1728},null,{"$f":"IF(AA40=0,0,SUM($G$65:$AB$65))","v":-1904},null,{"$f":"IF(AC40=0,0,SUM($G$65:$AD$65))","v":-2080}]
[{"$f":"Labels!B153","v":"Ferienkontrolle"},{"$f":"Labels!B154","v":"Ferienguthaben Vorjahr"},null,null,null,null,{"$f":"IF($AA$4=0,0,$AA$4)","v":0},null,{"$f":"Labels!B155","v":"Ferienguthaben nach \nArt. 12.1 GAV"},null,null,null,{"$f":"IF($AA$5=0,0,$AA$5)","v":0},null,{"$f":"Labels!B156","v":"Ferienguthaben total"},null,null,null,{"$f":"SUM(G67+M67)","v":0},null,{"$f":"Labels!B157","v":"Ferien bezogen"},null,null,null,{"$f":"IF($AV$4=0,0,$AV$4)","v":0},null,{"$f":"Labels!B158","v":"Aktuelles Ferienguthaben"},null,null,null,{"$f":"IF(S67=0,0,S67-Y67)","v":0}]
[]
[]
[{"$f":"$A$3","v":"Mitarbeiter/In"},{"$f":"IF($B$3=\"\",\"\",$B$3)","v":"Muster Peter"},null,null,null,null,null,null,null,null,null,null,null,null,null,null,null,null,null,null,null,null,null,null,null,null,null,null,null,null,null,{"$f":"AF3","v":0}]
[{"$f":"$A$4","v":"Anstellung %"},{"$f":"$AL$45","v":100},null,{"$f":"Labels!B90","v":"im Februar"}]
[{"$f":"$A$5","v":"Saldo für das Jahr"},null,null,{"$f":"IF($AE$65=0,0,$AE$65)","v":-2080}]
[{"$f":"TEXT(DATE(YEAR(AP29),MONTH(AP29)+1,1),\"MMMM\"&Labels!B13)","v":"Februar"},{"$f":"$B$9","v":"Saldo Monat + / -"},null,null,null,{"$f":"(AG75-(SUM(AG76:AG90)-AE98))*-1","v":-160},null,null,null,null,{"$f":"$K$9","v":" = "},{"$f":"$L$9","v":"Gelbe Felder müssen ausgefüllt werden (die übrigen werden automatisch berechnet)"},null,null,null,null,null,null,null,null,null,null,null,null,null,null,null,null,null,null,null,null,{"$f":"COUNT(B76:AF76)&\" \"&Labels!$B$63","v":"20 Tage"}]
[{"$f":"$A$10","v":"Tag"},{"$f":"AF10+1","v":"2022-02-01"},{"$f":"B74+1","v":"2022-02-02"},"2022-02-03","2022-02-04","2022-02-05","2022-02-06","2022-02-07","2022-02-08","2022-02-09","2022-02-10","2022-02-11","2022-02-12","2022-02-13","2022-02-14","2022-02-15","2022-02-16","2022-02-17","2022-02-18","2022-02-19","2022-02-20","2022-02-21","2022-02-22","2022-02-23","2022-02-24","2022-02-25","2022-02-26","2022-02-27","2022-02-28",{"$f":"IF(MOD($AE$96,4)=0,$AC$74+1,\"\")","v":""}]
[{"$f":"$A$11","v":"Kalenderwoche"},{"$f":"IF(B74=\"\",\"\",TRUNC((B74-DATE(YEAR(B74+3-MOD(B74-2,7)),1,MOD(B74-2,7)-9))/7))","v":5},5,5,5,5,5,6,6,6,6,6,6,6,7,7,7,7,7,7,7,8,8,8,8,8,8,8,9,"","",null,{"$f":"IF($AD$74=\"\",SUM(B76:AC76),SUM(B76:AF76))","v":160}]
[{"$f":"$A$12","v":"Sollstunden"},{"$f":"IF(AND(MOD(B74,7)>=2,SUMPRODUCT(($AM$56:$AQ$56=MOD(B74,7))*$AM$45:$AQ$45)),($J$7*5/$AR$45)*$B$71%,\"\")","v":8},{"$f":"IF(AND(MOD(C74,7)>=2,SUMPRODUCT(($AM$56:$AQ$56=MOD(C74,7))*$AM$45:$AQ$45)),($J$7*5/$AR$45)*$B$71%,\"\")","v":8},{"$f":"IF(AND(MOD(D74,7)>=2,SUMPRODUCT(($AM$56:$AQ$56=MOD(D74,7))*$AM$45:$AQ$45)),($J$7*5/$AR$45)*$B$71%,\"\")","v":8},{"$f":"IF(AND(MOD(E74,7)>=2,SUMPRODUCT(($AM$56:$AQ$56=MOD(E74,7))*$AM$45:$AQ$45)),($J$7*5/$AR$45)*$B$71%,\"\")","v":8},{"$f":"IF(AND(MOD(F74,7)>=2,SUMPRODUCT(($AM$56:$AQ$56=MOD(F74,7))*$AM$45:$AQ$45)),($J$7*5/$AR$45)*$B$71%,\"\")","v":""},{"$f":"IF(AND(MOD(G74,7)>=2,SUMPRODUCT(($AM$56:$AQ$56=MOD(G74,7))*$AM$45:$AQ$45)),($J$7*5/$AR$45)*$B$71%,\"\")","v":""},{"$f":"IF(AND(MOD(H74,7)>=2,SUMPRODUCT(($AM$56:$AQ$56=MOD(H74,7))*$AM$45:$AQ$45)),($J$7*5/$AR$45)*$B$71%,\"\")","v":8},{"$f":"IF(AND(MOD(I74,7)>=2,SUMPRODUCT(($AM$56:$AQ$56=MOD(I74,7))*$AM$45:$AQ$45)),($J$7*5/$AR$45)*$B$71%,\"\")","v":8},{"$f":"IF(AND(MOD(J74,7)>=2,SUMPRODUCT(($AM$56:$AQ$56=MOD(J74,7))*$AM$45:$AQ$45)),($J$7*5/$AR$45)*$B$71%,\"\")","v":8},{"$f":"IF(AND(MOD(K74,7)>=2,SUMPRODUCT(($AM$56:$AQ$56=MOD(K74,7))*$AM$45:$AQ$45)),($J$7*5/$AR$45)*$B$71%,\"\")","v":8},{"$f":"IF(AND(MOD(L74,7)>=2,SUMPRODUCT(($AM$56:$AQ$56=MOD(L74,7))*$AM$45:$AQ$45)),($J$7*5/$AR$45)*$B$71%,\"\")","v":8},{"$f":"IF(AND(MOD(M74,7)>=2,SUMPRODUCT(($AM$56:$AQ$56=MOD(M74,7))*$AM$45:$AQ$45)),($J$7*5/$AR$45)*$B$71%,\"\")","v":""},{"$f":"IF(AND(MOD(N74,7)>=2,SUMPRODUCT(($AM$56:$AQ$56=MOD(N74,7))*$AM$45:$AQ$45)),($J$7*5/$AR$45)*$B$71%,\"\")","v":""},{"$f":"IF(AND(MOD(O74,7)>=2,SUMPRODUCT(($AM$56:$AQ$56=MOD(O74,7))*$AM$45:$AQ$45)),($J$7*5/$AR$45)*$B$71%,\"\")","v":8},{"$f":"IF(AND(MOD(P74,7)>=2,SUMPRODUCT(($AM$56:$AQ$56=MOD(P74,7))*$AM$45:$AQ$45)),($J$7*5/$AR$45)*$B$71%,\"\")","v":8},{"$f":"IF(AND(MOD(Q74,7)>=2,SUMPRODUCT(($AM$56:$AQ$56=MOD(Q74,7))*$AM$45:$AQ$45)),($J$7*5/$AR$45)*$B$71%,\"\")","v":8},{"$f":"IF(AND(MOD(R74,7)>=2,SUMPRODUCT(($AM$56:$AQ$56=MOD(R74,7))*$AM$45:$AQ$45)),($J$7*5/$AR$45)*$B$71%,\"\")","v":8},{"$f":"IF(AND(MOD(S74,7)>=2,SUMPRODUCT(($AM$56:$AQ$56=MOD(S74,7))*$AM$45:$AQ$45)),($J$7*5/$AR$45)*$B$71%,\"\")","v":8},{"$f":"IF(AND(MOD(T74,7)>=2,SUMPRODUCT(($AM$56:$AQ$56=MOD(T74,7))*$AM$45:$AQ$45)),($J$7*5/$AR$45)*$B$71%,\"\")","v":""},{"$f":"IF(AND(MOD(U74,7)>=2,SUMPRODUCT(($AM$56:$AQ$56=MOD(U74,7))*$AM$45:$AQ$45)),($J$7*5/$AR$45)*$B$71%,\"\")","v":""},{"$f":"IF(AND(MOD(V74,7)>=2,SUMPRODUCT(($AM$56:$AQ$56=MOD(V74,7))*$AM$45:$AQ$45)),($J$7*5/$AR$45)*$B$71%,\"\")","v":8},{"$f":"IF(AND(MOD(W74,7)>=2,SUMPRODUCT(($AM$56:$AQ$56=MOD(W74,7))*$AM$45:$AQ$45)),($J$7*5/$AR$45)*$B$71%,\"\")","v":8},{"$f":"IF(AND(MOD(X74,7)>=2,SUMPRODUCT(($AM$56:$AQ$56=MOD(X74,7))*$AM$45:$AQ$45)),($J$7*5/$AR$45)*$B$71%,\"\")","v":8},{"$f":"IF(AND(MOD(Y74,7)>=2,SUMPRODUCT(($AM$56:$AQ$56=MOD(Y74,7))*$AM$45:$AQ$45)),($J$7*5/$AR$45)*$B$71%,\"\")","v":8},{"$f":"IF(AND(MOD(Z74,7)>=2,SUMPRODUCT(($AM$56:$AQ$56=MOD(Z74,7))*$AM$45:$AQ$45)),($J$7*5/$AR$45)*$B$71%,\"\")","v":8},{"$f":"IF(AND(MOD(AA74,7)>=2,SUMPRODUCT(($AM$56:$AQ$56=MOD(AA74,7))*$AM$45:$AQ$45)),($J$7*5/$AR$45)*$B$71%,\"\")","v":""},{"$f":"IF(AND(MOD(AB74,7)>=2,SUMPRODUCT(($AM$56:$AQ$56=MOD(AB74,7))*$AM$45:$AQ$45)),($J$7*5/$AR$45)*$B$71%,\"\")","v":""},{"$f":"IF(AND(MOD(AC74,7)>=2,SUMPRODUCT(($AM$56:$AQ$56=MOD(AC74,7))*$AM$45:$AQ$45)),($J$7*5/$AR$45)*$B$71%,\"\")","v":8},{"$f":"IF(AND(MOD(AD74,7)>=2,SUMPRODUCT(($AM$56:$AQ$56=MOD(AD74,7))*$AM$45:$AQ$45)),($J$7*5/$AR$45)*$B$71%,\"\")","v":{"$error":"#VALUE!"}},null,null,{"$f":"SUM(AK3:AK13)","v":0}]
[{"$f":"$A$13","v":"Absenz in Std"},{"$f":"B854","v":0},{"$f":"C854","v":0},0,0,0,0,0,0,0,0,0,0,0,0,0,0,0,0,0,0,0,0,0,0,0,0,0,0,{"$f":"IF(AD74<>\"\",AD854,\"\")","v":""}]
[{"$f":"$A$14","v":"Code"},{"$f":"IF(B854<>0,IF(MAX(B841:B853)<B854,Labels!$B$163,INDEX($AH$840:$AH$852,MATCH(MAX(B841:B853),B841:B853,0))),\"\")","v":""},{"$f":"IF(C854<>0,IF(MAX(C841:C853)<C854,Labels!$B$163,INDEX($AH$840:$AH$852,MATCH(MAX(C841:C853),C841:C853,0))),\"\")","v":""},{"$f":"IF(D854<>0,IF(MAX(D841:D853)<D854,Labels!$B$163,INDEX($AH$840:$AH$852,MATCH(MAX(D841:D853),D841:D853,0))),\"\")","v":""},{"$f":"IF(E854<>0,IF(MAX(E841:E853)<E854,Labels!$B$163,INDEX($AH$840:$AH$852,MATCH(MAX(E841:E853),E841:E853,0))),\"\")","v":""},{"$f":"IF(F854<>0,IF(MAX(F841:F853)<F854,Labels!$B$163,INDEX($AH$840:$AH$852,MATCH(MAX(F841:F853),F841:F853,0))),\"\")","v":""},{"$f":"IF(G854<>0,IF(MAX(G841:G853)<G854,Labels!$B$163,INDEX($AH$840:$AH$852,MATCH(MAX(G841:G853),G841:G853,0))),\"\")","v":""},{"$f":"IF(H854<>0,IF(MAX(H841:H853)<H854,Labels!$B$163,INDEX($AH$840:$AH$852,MATCH(MAX(H841:H853),H841:H853,0))),\"\")","v":""},{"$f":"IF(I854<>0,IF(MAX(I841:I853)<I854,Labels!$B$163,INDEX($AH$840:$AH$852,MATCH(MAX(I841:I853),I841:I853,0))),\"\")","v":""},{"$f":"IF(J854<>0,IF(MAX(J841:J853)<J854,Labels!$B$163,INDEX($AH$840:$AH$852,MATCH(MAX(J841:J853),J841:J853,0))),\"\")","v":""},{"$f":"IF(K854<>0,IF(MAX(K841:K853)<K854,Labels!$B$163,INDEX($AH$840:$AH$852,MATCH(MAX(K841:K853),K841:K853,0))),\"\")","v":""},{"$f":"IF(L854<>0,IF(MAX(L841:L853)<L854,Labels!$B$163,INDEX($AH$840:$AH$852,MATCH(MAX(L841:L853),L841:L853,0))),\"\")","v":""},{"$f":"IF(M854<>0,IF(MAX(M841:M853)<M854,Labels!$B$163,INDEX($AH$840:$AH$852,MATCH(MAX(M841:M853),M841:M853,0))),\"\")","v":""},{"$f":"IF(N854<>0,IF(MAX(N841:N853)<N854,Labels!$B$163,INDEX($AH$840:$AH$852,MATCH(MAX(N841:N853),N841:N853,0))),\"\")","v":""},{"$f":"IF(O854<>0,IF(MAX(O841:O853)<O854,Labels!$B$163,INDEX($AH$840:$AH$852,MATCH(MAX(O841:O853),O841:O853,0))),\"\")","v":""},{"$f":"IF(P854<>0,IF(MAX(P841:P853)<P854,Labels!$B$163,INDEX($AH$840:$AH$852,MATCH(MAX(P841:P853),P841:P853,0))),\"\")","v":""},{"$f":"IF(Q854<>0,IF(MAX(Q841:Q853)<Q854,Labels!$B$163,INDEX($AH$840:$AH$852,MATCH(MAX(Q841:Q853),Q841:Q853,0))),\"\")","v":""},{"$f":"IF(R854<>0,IF(MAX(R841:R853)<R854,Labels!$B$163,INDEX($AH$840:$AH$852,MATCH(MAX(R841:R853),R841:R853,0))),\"\")","v":""},{"$f":"IF(S854<>0,IF(MAX(S841:S853)<S854,Labels!$B$163,INDEX($AH$840:$AH$852,MATCH(MAX(S841:S853),S841:S853,0))),\"\")","v":""},{"$f":"IF(T854<>0,IF(MAX(T841:T853)<T854,Labels!$B$163,INDEX($AH$840:$AH$852,MATCH(MAX(T841:T853),T841:T853,0))),\"\")","v":""},{"$f":"IF(U854<>0,IF(MAX(U841:U853)<U854,Labels!$B$163,INDEX($AH$840:$AH$852,MATCH(MAX(U841:U853),U841:U853,0))),\"\")","v":""},{"$f":"IF(V854<>0,IF(MAX(V841:V853)<V854,Labels!$B$163,INDEX($AH$840:$AH$852,MATCH(MAX(V841:V853),V841:V853,0))),\"\")","v":""},{"$f":"IF(W854<>0,IF(MAX(W841:W853)<W854,Labels!$B$163,INDEX($AH$840:$AH$852,MATCH(MAX(W841:W853),W841:W853,0))),\"\")","v":""},{"$f":"IF(X854<>0,IF(MAX(X841:X853)<X854,Labels!$B$163,INDEX($AH$840:$AH$852,MATCH(MAX(X841:X853),X841:X853,0))),\"\")","v":""},{"$f":"IF(Y854<>0,IF(MAX(Y841:Y853)<Y854,Labels!$B$163,INDEX($AH$840:$AH$852,MATCH(MAX(Y841:Y853),Y841:Y853,0))),\"\")","v":""},{"$f":"IF(Z854<>0,IF(MAX(Z841:Z853)<Z854,Labels!$B$163,INDEX($AH$840:$AH$852,MATCH(MAX(Z841:Z853),Z841:Z853,0))),\"\")","v":""},{"$f":"IF(AA854<>0,IF(MAX(AA841:AA853)<AA854,Labels!$B$163,INDEX($AH$840:$AH$852,MATCH(MAX(AA841:AA853),AA841:AA853,0))),\"\")","v":""},{"$f":"IF(AB854<>0,IF(MAX(AB841:AB853)<AB854,Labels!$B$163,INDEX($AH$840:$AH$852,MATCH(MAX(AB841:AB853),AB841:AB853,0))),\"\")","v":""},{"$f":"IF(AC854<>0,IF(MAX(AC841:AC853)<AC854,Labels!$B$163,INDEX($AH$840:$AH$852,MATCH(MAX(AC841:AC853),AC841:AC853,0))),\"\")","v":""},{"$f":"IF(AD854<>0,IF(MAX(AD841:AD853)<AD854,Labels!$B$163,INDEX($AH$840:$AH$852,MATCH(MAX(AD841:AD853),AD841:AD853,0))),\"\")","v":"div"},null,null,{"$f":"IF($AD$74=\"\",SUM(B79:AC79),SUM(B79:AF79))","v":0}]
[{"$f":"$A$15","v":"00.00-06.00h"},null,null,null,null,null,null,null,null,null,null,null,null,null,null,null,null,null,null,null,null,null,null,null,null,null,null,null,null,null,null,null,{"$f":"IF($AD$74=\"\",SUM(B80:AC80),SUM(B80:AF80))","v":0}]
[{"$f":"$A$16","v":"06.00-20.00h"},null,null,null,null,null,null,null,null,null,null,null,null,null,null,null,null,null,null,null,null,null,null,null,null,null,null,null,null,null,null,null,{"$f":"IF($AD$74=\"\",SUM(B81:AC81),SUM(B81:AF81))","v":0},"[0]"]
[{"$f":"$A$17","v":"20.00-24.00h"}]
[{"$f":"$A$18","v":"Feiertag \"ft\""},{"$f":"IF(WEEKDAY(B74,2)<=6,IF(KALENDER!E5=\"x\",Labels!$B$118,\"\"),\"\")","v":""},{"$f":"IF(WEEKDAY(C74,2)<=6,IF(KALENDER!F5=\"x\",Labels!$B$118,\"\"),\"\")","v":""},{"$f":"IF(WEEKDAY(D74,2)<=6,IF(KALENDER!G5=\"x\",Labels!$B$118,\"\"),\"\")","v":""},{"$f":"IF(WEEKDAY(E74,2)<=6,IF(KALENDER!H5=\"x\",Labels!$B$118,\"\"),\"\")","v":""},{"$f":"IF(WEEKDAY(F74,2)<=6,IF(KALENDER!I5=\"x\",Labels!$B$118,\"\"),\"\")","v":""},{"$f":"IF(WEEKDAY(G74,2)<=6,IF(KALENDER!J5=\"x\",Labels!$B$118,\"\"),\"\")","v":""},{"$f":"IF(WEEKDAY(H74,2)<=6,IF(KALENDER!K5=\"x\",Labels!$B$118,\"\"),\"\")","v":""},{"$f":"IF(WEEKDAY(I74,2)<=6,IF(KALENDER!L5=\"x\",Labels!$B$118,\"\"),\"\")","v":""},{"$f":"IF(WEEKDAY(J74,2)<=6,IF(KALENDER!M5=\"x\",Labels!$B$118,\"\"),\"\")","v":""},{"$f":"IF(WEEKDAY(K74,2)<=6,IF(KALENDER!N5=\"x\",Labels!$B$118,\"\"),\"\")","v":""},{"$f":"IF(WEEKDAY(L74,2)<=6,IF(KALENDER!O5=\"x\",Labels!$B$118,\"\"),\"\")","v":""},{"$f":"IF(WEEKDAY(M74,2)<=6,IF(KALENDER!P5=\"x\",Labels!$B$118,\"\"),\"\")","v":""},{"$f":"IF(WEEKDAY(N74,2)<=6,IF(KALENDER!Q5=\"x\",Labels!$B$118,\"\"),\"\")","v":""},{"$f":"IF(WEEKDAY(O74,2)<=6,IF(KALENDER!R5=\"x\",Labels!$B$118,\"\"),\"\")","v":""},{"$f":"IF(WEEKDAY(P74,2)<=6,IF(KALENDER!S5=\"x\",Labels!$B$118,\"\"),\"\")","v":""},{"$f":"IF(WEEKDAY(Q74,2)<=6,IF(KALENDER!T5=\"x\",Labels!$B$118,\"\"),\"\")","v":""},{"$f":"IF(WEEKDAY(R74,2)<=6,IF(KALENDER!U5=\"x\",Labels!$B$118,\"\"),\"\")","v":""},{"$f":"IF(WEEKDAY(S74,2)<=6,IF(KALENDER!V5=\"x\",Labels!$B$118,\"\"),\"\")","v":""},{"$f":"IF(WEEKDAY(T74,2)<=6,IF(KALENDER!W5=\"x\",Labels!$B$118,\"\"),\"\")","v":""},{"$f":"IF(WEEKDAY(U74,2)<=6,IF(KALENDER!X5=\"x\",Labels!$B$118,\"\"),\"\")","v":""},{"$f":"IF(WEEKDAY(V74,2)<=6,IF(KALENDER!Y5=\"x\",Labels!$B$118,\"\"),\"\")","v":""},{"$f":"IF(WEEKDAY(W74,2)<=6,IF(KALENDER!Z5=\"x\",Labels!$B$118,\"\"),\"\")","v":""},{"$f":"IF(WEEKDAY(X74,2)<=6,IF(KALENDER!AA5=\"x\",Labels!$B$118,\"\"),\"\")","v":""},{"$f":"IF(WEEKDAY(Y74,2)<=6,IF(KALENDER!AB5=\"x\",Labels!$B$118,\"\"),\"\")","v":""},{"$f":"IF(WEEKDAY(Z74,2)<=6,IF(KALENDER!AC5=\"x\",Labels!$B$118,\"\"),\"\")","v":""},{"$f":"IF(WEEKDAY(AA74,2)<=6,IF(KALENDER!AD5=\"x\",Labels!$B$118,\"\"),\"\")","v":""},{"$f":"IF(WEEKDAY(AB74,2)<=6,IF(KALENDER!AE5=\"x\",Labels!$B$118,\"\"),\"\")","v":""},{"$f":"IF(WEEKDAY(AC74,2)<=6,IF(KALENDER!AF5=\"x\",Labels!$B$118,\"\"),\"\")","v":""},{"$f":"IF(WEEKDAY(AD74,2)<=6,IF(KALENDER!AG5=\"x\",Labels!$B$118,\"\"),\"\")","v":{"$error":"#VALUE!"}},{"$f":"IF(WEEKDAY(AE74,2)<=6,IF(KALENDER!AH5=\"x\",Labels!$B$118,\"\"),\"\")","v":""},{"$f":"IF(WEEKDAY(AF74,2)<=6,IF(KALENDER!AI5=\"x\",Labels!$B$118,\"\"),\"\")","v":""},0]
[{"$f":"$A$19","v":"Gutschrift \"ft\""},{"$f":"IF(AND(B82=Labels!$B$118,WEEKDAY(B74,2)<6,B$76<>\"\"),($J$7*5/$AR$45)*$B$71%,\"\")","v":""},{"$f":"IF(AND(C82=Labels!$B$118,WEEKDAY(C74,2)<6,C$76<>\"\"),($J$7*5/$AR$45)*$B$71%,\"\")","v":""},{"$f":"IF(AND(D82=Labels!$B$118,WEEKDAY(D74,2)<6,D$76<>\"\"),($J$7*5/$AR$45)*$B$71%,\"\")","v":""},{"$f":"IF(AND(E82=Labels!$B$118,WEEKDAY(E74,2)<6,E$76<>\"\"),($J$7*5/$AR$45)*$B$71%,\"\")","v":""},{"$f":"IF(AND(F82=Labels!$B$118,WEEKDAY(F74,2)<6,F$76<>\"\"),($J$7*5/$AR$45)*$B$71%,\"\")","v":""},{"$f":"IF(AND(G82=Labels!$B$118,WEEKDAY(G74,2)<6,G$76<>\"\"),($J$7*5/$AR$45)*$B$71%,\"\")","v":""},{"$f":"IF(AND(H82=Labels!$B$118,WEEKDAY(H74,2)<6,H$76<>\"\"),($J$7*5/$AR$45)*$B$71%,\"\")","v":""},{"$f":"IF(AND(I82=Labels!$B$118,WEEKDAY(I74,2)<6,I$76<>\"\"),($J$7*5/$AR$45)*$B$71%,\"\")","v":""},{"$f":"IF(AND(J82=Labels!$B$118,WEEKDAY(J74,2)<6,J$76<>\"\"),($J$7*5/$AR$45)*$B$71%,\"\")","v":""},{"$f":"IF(AND(K82=Labels!$B$118,WEEKDAY(K74,2)<6,K$76<>\"\"),($J$7*5/$AR$45)*$B$71%,\"\")","v":""},{"$f":"IF(AND(L82=Labels!$B$118,WEEKDAY(L74,2)<6,L$76<>\"\"),($J$7*5/$AR$45)*$B$71%,\"\")","v":""},{"$f":"IF(AND(M82=Labels!$B$118,WEEKDAY(M74,2)<6,M$76<>\"\"),($J$7*5/$AR$45)*$B$71%,\"\")","v":""},{"$f":"IF(AND(N82=Labels!$B$118,WEEKDAY(N74,2)<6,N$76<>\"\"),($J$7*5/$AR$45)*$B$71%,\"\")","v":""},{"$f":"IF(AND(O82=Labels!$B$118,WEEKDAY(O74,2)<6,O$76<>\"\"),($J$7*5/$AR$45)*$B$71%,\"\")","v":""},{"$f":"IF(AND(P82=Labels!$B$118,WEEKDAY(P74,2)<6,P$76<>\"\"),($J$7*5/$AR$45)*$B$71%,\"\")","v":""},{"$f":"IF(AND(Q82=Labels!$B$118,WEEKDAY(Q74,2)<6,Q$76<>\"\"),($J$7*5/$AR$45)*$B$71%,\"\")","v":""},{"$f":"IF(AND(R82=Labels!$B$118,WEEKDAY(R74,2)<6,R$76<>\"\"),($J$7*5/$AR$45)*$B$71%,\"\")","v":""},{"$f":"IF(AND(S82=Labels!$B$118,WEEKDAY(S74,2)<6,S$76<>\"\"),($J$7*5/$AR$45)*$B$71%,\"\")","v":""},{"$f":"IF(AND(T82=Labels!$B$118,WEEKDAY(T74,2)<6,T$76<>\"\"),($J$7*5/$AR$45)*$B$71%,\"\")","v":""},{"$f":"IF(AND(U82=Labels!$B$118,WEEKDAY(U74,2)<6,U$76<>\"\"),($J$7*5/$AR$45)*$B$71%,\"\")","v":""},{"$f":"IF(AND(V82=Labels!$B$118,WEEKDAY(V74,2)<6,V$76<>\"\"),($J$7*5/$AR$45)*$B$71%,\"\")","v":""},{"$f":"IF(AND(W82=Labels!$B$118,WEEKDAY(W74,2)<6,W$76<>\"\"),($J$7*5/$AR$45)*$B$71%,\"\")","v":""},{"$f":"IF(AND(X82=Labels!$B$118,WEEKDAY(X74,2)<6,X$76<>\"\"),($J$7*5/$AR$45)*$B$71%,\"\")","v":""},{"$f":"IF(AND(Y82=Labels!$B$118,WEEKDAY(Y74,2)<6,Y$76<>\"\"),($J$7*5/$AR$45)*$B$71%,\"\")","v":""},{"$f":"IF(AND(Z82=Labels!$B$118,WEEKDAY(Z74,2)<6,Z$76<>\"\"),($J$7*5/$AR$45)*$B$71%,\"\")","v":""},{"$f":"IF(AND(AA82=Labels!$B$118,WEEKDAY(AA74,2)<6,AA$76<>\"\"),($J$7*5/$AR$45)*$B$71%,\"\")","v":""},{"$f":"IF(AND(AB82=Labels!$B$118,WEEKDAY(AB74,2)<6,AB$76<>\"\"),($J$7*5/$AR$45)*$B$71%,\"\")","v":""},{"$f":"IF(AND(AC82=Labels!$B$118,WEEKDAY(AC74,2)<6,AC$76<>\"\"),($J$7*5/$AR$45)*$B$71%,\"\")","v":""},{"$f":"IF(AND(AD82=Labels!$B$118,WEEKDAY(AD74,2)<6,AD$76<>\"\"),($J$7*5/$AR$45)*$B$71%,\"\")","v":{"$error":"#VALUE!"}},{"$f":"IF(AND(AE82=Labels!$B$118,WEEKDAY(AE74,2)<6),$J$7*$B$71%,\"\")","v":""},{"$f":"IF(AND(AF82=Labels!$B$118,WEEKDAY(AF74,2)<6),$J$7*$B$71%,\"\")","v":""}]
[{"$f":"$A$20","v":"Tagestotal"},{"$f":"SUM(B79:B81)","v":0},{"$f":"SUM(C79:C81)","v":0},0,0,0,0,0,0,0,0,0,0,0,0,0,0,0,0,0,0,0,0,0,0,0,0,0,0,{"$f":"IF(AD74=\"\",\"\",SUM(AD79:AD81))","v":""}]
[{"$f":"$A$21","v":"."}]
[{"$f":"$A$22","v":"."}]
[{"$f":"$A$23","v":"Monatsübergang"},{"$f":"IF(WEEKDAY(B74)=1,TEXT(B74-1,\"MMM\"&Labels!B13),\"\")","v":""},null,null,null,null,null,null,null,null,null,null,null,null,null,null,null,null,null,null,null,null,null,null,null,null,null,null,{"$f":"IF(AND(WEEKDAY(AC74)>1,WEEKDAY(AC74)<7,AD74=\"\"),TEXT(DATE($B$5,MONTH(AC74)+1,1),\"MMM\"&Labels!B13),\"\")","v":"Mär"},{"$f":"IF(ISERROR(WEEKDAY(AD74)),\"\",IF(AND(WEEKDAY(AD74)>1,WEEKDAY(AD74)<7),TEXT(DATE($B$5,MONTH(AD74)+1,1),\"MMM\"&Labels!B13),\"\"))","v":""}]
[{"$f":"$A$24","v":"Wochentotal"},{"$f":"IF(WEEKDAY(B74)=7,SUMIF($B11:$AF11,B75,$B20:$AF20)+SUMIF($B75:$AF75,B75,$B84:$AF84)+SUMIF($B139:$AF139,B75,$B148:$AF148),B87)","v":""},{"$f":"IF(WEEKDAY(C74)=7,SUMIF($B11:$AF11,C75,$B20:$AF20)+SUMIF($B75:$AF75,C75,$B84:$AF84)+SUMIF($B139:$AF139,C75,$B148:$AF148),\"\")","v":""},"","",0,"","","","","","",0,"","","","","","",0,"","","","","","",0,"",{"$f":"IF(WEEKDAY(AC74)=7,SUMIF($B11:$AF11,AC75,$B20:$AF20)+SUMIF($B75:$AF75,AC75,$B84:$AF84)+SUMIF($B139:$AF139,AC75,$B148:$AF148),AC87)","v":"Mär"},{"$f":"IF(ISERROR(WEEKDAY(AD74)=7),\"\",IF(WEEKDAY(AD74)=7,SUMIF($B11:$AF11,AD75,$B20:$AF20)+SUMIF($B75:$AF75,AD75,$B84:$AF84)+SUMIF($B139:$AF139,AD75,$B148:$AF148),AD87))","v":""},null,null,0]
[{"$f":"$A$25","v":"Zeitzuschlag 1)"},{"$f":"IF(B96=\"FALSCH\",\"\",B96)","v":""},{"$f":"IF(C96=\"FALSCH\",\"\",C96)","v":""},"","","","","","","","","","","","","","","","","","","","","","","","","","","",null,null,0,"[1]"]
[{"$f":"$A$26","v":"Zeitzuschlag 2)"},{"$f":"IF((B79+B81)=0,\"\",SUM(B79,B81))","v":""},{"$f":"IF((C79+C81)=0,\"\",SUM(C79,C81))","v":""},"","","","","","","","","","","","","","","","","","","","","","","","","","","",null,null,0,"[2]"]
[{"$f":"$A$27","v":"Zeitzuschlag 3)"},{"$f":"SUM(B92:B95)","v":0},{"$f":"SUM(C92:C95)","v":0},0,0,0,0,0,0,0,0,0,0,0,0,0,0,0,0,0,0,0,0,0,0,0,0,0,0,{"$f":"IF(ISERROR(WEEKDAY(AD74)=1),\"\",SUM(AD92:AD95))","v":""},null,null,0,"[3]"]
[{"$f":"$A$28","v":"Sonntag Tag"},{"$f":"IF(WEEKDAY(B74)=1,B80,\"\")","v":""},{"$f":"IF(WEEKDAY(C74)=1,C80,\"\")","v":""},"","","",0,"","","","","","",0,"","","","","","",0,"","","","","","",0,"",{"$f":"IF(ISERROR(WEEKDAY(AD74)=1),\"\",IF(WEEKDAY(AD74)=1,AD80,\"\"))","v":""},null,null,0,"[4]"]
[{"$f":"$A$29","v":"Sonntag Nacht"},{"$f":"IF(WEEKDAY(B74)=1,SUM(B79+B81),\"\")","v":""},{"$f":"IF(WEEKDAY(C74)=1,SUM(C79+C81),\"\")","v":""},"","","",0,"","","","","","",0,"","","","","","",0,"","","","","","",0,"",{"$f":"IF(ISERROR(WEEKDAY(AD74)=1),\"\",IF(WEEKDAY(AD74)=1,SUM(AD79+AD81),\"\"))","v":""},null,null,0,"[5]"]
[{"$f":"$A$30","v":"ft-Tazuschlag"},{"$f":"IF(B82=Labels!$B$118,B80,\"\")","v":""},{"$f":"IF(C82=Labels!$B$118,C80,\"\")","v":""},{"$f":"IF(D82=Labels!$B$118,D80,\"\")","v":""},{"$f":"IF(E82=Labels!$B$118,E80,\"\")","v":""},{"$f":"IF(F82=Labels!$B$118,F80,\"\")","v":""},{"$f":"IF(G82=Labels!$B$118,G80,\"\")","v":""},{"$f":"IF(H82=Labels!$B$118,H80,\"\")","v":""},{"$f":"IF(I82=Labels!$B$118,I80,\"\")","v":""},{"$f":"IF(J82=Labels!$B$118,J80,\"\")","v":""},{"$f":"IF(K82=Labels!$B$118,K80,\"\")","v":""},{"$f":"IF(L82=Labels!$B$118,L80,\"\")","v":""},{"$f":"IF(M82=Labels!$B$118,M80,\"\")","v":""},{"$f":"IF(N82=Labels!$B$118,N80,\"\")","v":""},{"$f":"IF(O82=Labels!$B$118,O80,\"\")","v":""},{"$f":"IF(P82=Labels!$B$118,P80,\"\")","v":""},{"$f":"IF(Q82=Labels!$B$118,Q80,\"\")","v":""},{"$f":"IF(R82=Labels!$B$118,R80,\"\")","v":""},{"$f":"IF(S82=Labels!$B$118,S80,\"\")","v":""},{"$f":"IF(T82=Labels!$B$118,T80,\"\")","v":""},{"$f":"IF(U82=Labels!$B$118,U80,\"\")","v":""},{"$f":"IF(V82=Labels!$B$118,V80,\"\")","v":""},{"$f":"IF(W82=Labels!$B$118,W80,\"\")","v":""},{"$f":"IF(X82=Labels!$B$118,X80,\"\")","v":""},{"$f":"IF(Y82=Labels!$B$118,Y80,\"\")","v":""},{"$f":"IF(Z82=Labels!$B$118,Z80,\"\")","v":""},{"$f":"IF(AA82=Labels!$B$118,AA80,\"\")","v":""},{"$f":"IF(AB82=Labels!$B$118,AB80,\"\")","v":""},{"$f":"IF(AC82=Labels!$B$118,AC80,\"\")","v":""},{"$f":"IF(AD82=Labels!$B$118,AD80,\"\")","v":{"$error":"#VALUE!"}},null,null,0,"[6]"]
[{"$f":"$A$31","v":"ft-Nazuschlag"},{"$f":"IF(B82=Labels!$B$118,SUM(B79,B81),\"\")","v":""},{"$f":"IF(C82=Labels!$B$118,SUM(C79,C81),\"\")","v":""},{"$f":"IF(D82=Labels!$B$118,SUM(D79,D81),\"\")","v":""},{"$f":"IF(E82=Labels!$B$118,SUM(E79,E81),\"\")","v":""},{"$f":"IF(F82=Labels!$B$118,SUM(F79,F81),\"\")","v":""},{"$f":"IF(G82=Labels!$B$118,SUM(G79,G81),\"\")","v":""},{"$f":"IF(H82=Labels!$B$118,SUM(H79,H81),\"\")","v":""},{"$f":"IF(I82=Labels!$B$118,SUM(I79,I81),\"\")","v":""},{"$f":"IF(J82=Labels!$B$118,SUM(J79,J81),\"\")","v":""},{"$f":"IF(K82=Labels!$B$118,SUM(K79,K81),\"\")","v":""},{"$f":"IF(L82=Labels!$B$118,SUM(L79,L81),\"\")","v":""},{"$f":"IF(M82=Labels!$B$118,SUM(M79,M81),\"\")","v":""},{"$f":"IF(N82=Labels!$B$118,SUM(N79,N81),\"\")","v":""},{"$f":"IF(O82=Labels!$B$118,SUM(O79,O81),\"\")","v":""},{"$f":"IF(P82=Labels!$B$118,SUM(P79,P81),\"\")","v":""},{"$f":"IF(Q82=Labels!$B$118,SUM(Q79,Q81),\"\")","v":""},{"$f":"IF(R82=Labels!$B$118,SUM(R79,R81),\"\")","v":""},{"$f":"IF(S82=Labels!$B$118,SUM(S79,S81),\"\")","v":""},{"$f":"IF(T82=Labels!$B$118,SUM(T79,T81),\"\")","v":""},{"$f":"IF(U82=Labels!$B$118,SUM(U79,U81),\"\")","v":""},{"$f":"IF(V82=Labels!$B$118,SUM(V79,V81),\"\")","v":""},{"$f":"IF(W82=Labels!$B$118,SUM(W79,W81),\"\")","v":""},{"$f":"IF(X82=Labels!$B$118,SUM(X79,X81),\"\")","v":""},{"$f":"IF(Y82=Labels!$B$118,SUM(Y79,Y81),\"\")","v":""},{"$f":"IF(Z82=Labels!$B$118,SUM(Z79,Z81),\"\")","v":""},{"$f":"IF(AA82=Labels!$B$118,SUM(AA79,AA81),\"\")","v":""},{"$f":"IF(AB82=Labels!$B$118,SUM(AB79,AB81),\"\")","v":""},{"$f":"IF(AC82=Labels!$B$118,SUM(AC79,AC81),\"\")","v":""},{"$f":"IF(AD82=Labels!$B$118,SUM(AD79,AD81),\"\")","v":{"$error":"#VALUE!"}},null,null,{"$f":"AG79","v":0},"[7]"]
[{"$f":"$A$32","v":"Zuschlag  blind (Wochentotal)"},{"$f":"IF(OR(ISTEXT(B88),B88=\"\",B88<$B$7),\"\",ROUND(((B88-$B$7)*25%)/25,4)*25)","v":""},{"$f":"IF(OR(ISTEXT(C88),C88=\"\",C88<$B$7),\"\",ROUND(((C88-$B$7)*25%)/25,4)*25)","v":""},"","","","","","","","","","","","","","","","","","","","","","","","","","","",{"$f":"YEAR(AC74)","v":2022},null,{"$f":"SUM(AG78+AG80)","v":0},"[8]"]
[null,{"$f":"$B$33","v":"1)   25% Zeitzuschlag für Überschreitung Wochentotal"},null,null,null,null,null,null,null,null,null,{"$f":"$L$33","v":"2) 100% Zeitzuschlag für Nachtarbeit"},null,null,null,null,null,null,null,{"$f":"$T$33","v":"Eingabe der ausbezahlten Stunden Vorjahressaldo"},null,null,null,null,null,null,null,null,null,null,null,null,{"$f":"SUM(AG78:AG80)","v":0},"[9]"]
[null,{"$f":"$B$34","v":"3) 100% Zeitzuschlag für Sonn- und Feiertagsarbeit"},null,null,null,null,null,null,null,null,null,null,null,null,null,null,null,null,null,{"$f":"$T$34","v":"Eingabe der ausbezahlten Stunden laufendes Jahr (Überstunden)"},null,null,null,null,null,null,null,null,null,null,null,null,{"$f":"SUM(AG76+AG82)","v":0},"[10]"]
[{"$f":"$A$35","v":"Bemerkungen"},null,null,null,null,null,null,null,null,null,null,null,null,null,null,null,null,null,null,null,null,null,null,null,null,null,null,null,null,null,null,null,{"$f":"SUM(AG76:AG90)","v":0},"[11]"]
[null,null,null,null,null,null,null,null,null,null,null,null,null,null,null,null,null,null,null,null,null,null,null,null,null,null,null,null,null,null,null,null,{"$f":"AG75","v":160}]
[null,null,null,null,null,null,null,null,null,null,null,null,null,null,null,null,null,null,null,null,null,null,null,null,null,null,null,null,null,null,null,null,{"$f":"SUM(AG99-AG75)","v":-160}]
[]
[{"$f":"$A$39","v":"Zusammenstellung"},null,null,null,null,null,{"$f":"$G$39","v":"Jan"},null,{"$f":"$I$39","v":"Feb"},null,{"$f":"$K$39","v":"Mrz"},null,{"$f":"$M$39","v":"Apr"},null,{"$f":"$O$39","v":"Mai"},null,{"$f":"$Q$39","v":"Jun"},null,{"$f":"$S$39","v":"Jul"},null,{"$f":"$U$39","v":"Aug"},null,{"$f":"$W$39","v":"Sep"},null,{"$f":"$Y$39","v":"Okt"},null,{"$f":"$AA$39","v":"Nov"},null,{"$f":"$AC$39","v":"Dez"},null,{"$f":"$AE$39","v":"Jahr"}]
[{"$f":"$A$40","v":"Anstellung %"},null,null,null,null,null,{"$f":"IF($B$4=0,0,$B$4)","v":100},null,{"$f":"IF($B$71=0,0,$B$71)","v":100},null,{"$f":"IF($B$135=0,0,$B$135)","v":100},null,{"$f":"IF($B$199=0,0,$B$199)","v":100},null,{"$f":"IF($B$263=0,0,$B$263)","v":100},null,{"$f":"IF($B$327=0,0,$B$327)","v":100},null,{"$f":"IF($B$391=0,0,$B$391)","v":100},null,{"$f":"IF($B$455=0,0,$B$455)","v":100},null,{"$f":"IF($B$519=0,0,$B$519)","v":100},null,{"$f":"IF($B$583=0,0,$B$583)","v":100},null,{"$f":"IF($B$647=0,0,$B$647)","v":100},null,{"$f":"IF($B$711=0,0,$B$711)","v":100}]
[{"$f":"$A$41","v":"Sollstunden gemäss GAV"},null,null,null,null,null,{"$f":"IF($AG$37=0,0,$AG$37)","v":168},null,{"$f":"IF($AG$100=0,0,$AG$100)","v":160},null,{"$f":"IF($AG$139=0,0,$AG$139)","v":184},null,{"$f":"IF($AG$228=0,0,$AG$228)","v":168},null,{"$f":"IF($AG$292=0,0,$AG$292)","v":176},null,{"$f":"IF($AG$356=0,0,$AG$356)","v":176},null,{"$f":"IF($AG$420=0,0,$AG$420)","v":168},null,{"$f":"IF($AG$484=0,0,$AG$484)","v":184},null,{"$f":"IF($AG$548=0,0,$AG$548)","v":176},null,{"$f":"IF($AG$612=0,0,$AG$612)","v":168},null,{"$f":"IF($AG$676=0,0,$AG$676)","v":176},null,{"$f":"IF($AG$740=0,0,$AG$740)","v":176},null,{"$f":"SUM(G105:AD105)","v":2080}]
[{"$f":"$A$42","v":"Produktive Stunden"},{"$f":"$B$42","v":"06.00 - 20.00 Uhr"},null,null,null,null,{"$f":"IF($AG$32=0,0,$AG$32)","v":0},null,{"$f":"IF($AG$95=0,0,$AG$95)","v":0},null,{"$f":"IF($AG$159=0,0,$AG$159)","v":0},null,{"$f":"IF($AG$223=0,0,$AG$223)","v":0},null,{"$f":"IF($AG$287=0,0,$AG$287)","v":0},null,{"$f":"IF($AG$351=0,0,$AG$351)","v":0},null,{"$f":"IF($AG$415=0,0,$AG$415)","v":0},null,{"$f":"IF($AG$479=0,0,$AG$479)","v":0},null,{"$f":"IF($AG$543=0,0,$AG$543)","v":0},null,{"$f":"IF($AG$607=0,0,$AG$607)","v":0},null,{"$f":"IF($AG$671=0,0,$AG$671)","v":0},null,{"$f":"IF($AG$735=0,0,$AG$735)","v":0},null,{"$f":"SUM(G106:AD106)","v":0}]
[null,{"$f":"$B$43","v":"Nacht-, Sonn-, Feiertagsarbeit"},null,null,null,null,{"$f":"IF($AG$33=0,0,$AG$33)","v":0},null,{"$f":"IF($AG$96=0,0,$AG$96)","v":0},null,{"$f":"IF($AG$160=0,0,$AG$160)","v":0},null,{"$f":"IF($AG$224=0,0,$AG$224)","v":0},null,{"$f":"IF($AG$288=0,0,$AG$288)","v":0},null,{"$f":"IF($AG$352=0,0,$AG$352)","v":0},null,{"$f":"IF($AG$416=0,0,$AG$416)","v":0},null,{"$f":"IF($AG$480=0,0,$AG$480)","v":0},null,{"$f":"IF($AG$544=0,0,$AG$544)","v":0},null,{"$f":"IF($AG$608=0,0,$AG$608)","v":0},null,{"$f":"IF($AG$672=0,0,$AG$672)","v":0},null,{"$f":"IF($AG$736=0,0,$AG$736)","v":0},null,{"$f":"SUM(G107:AD107)","v":0}]
[{"$f":"$A$44","v":"Zeitzuschläge"},{"$f":"$B$44","v":"aus Wochentotal"},null,null,null,null,{"$f":"IF($AG$25=0,0,$AG$25)","v":0},null,{"$f":"IF($AG$88=0,0,$AG$88)","v":0},null,{"$f":"IF($AG$152=0,0,$AG$152)","v":0},null,{"$f":"IF($AG$216=0,0,$AG$216)","v":0},null,{"$f":"IF($AG$280=0,0,$AG$280)","v":0},null,{"$f":"IF($AG$344=0,0,$AG$344)","v":0},null,{"$f":"IF($AG$408=0,0,$AG$408)","v":0},null,{"$f":"IF($AG$472=0,0,$AG$472)","v":0},null,{"$f":"IF($AG$536=0,0,$AG$536)","v":0},null,{"$f":"IF($AG$600=0,0,$AG$600)","v":0},null,{"$f":"IF($AG$664=0,0,$AG$664)","v":0},null,{"$f":"IF($AG$728=0,0,$AG$728)","v":0},null,{"$f":"SUM(G108:AD108)","v":0}]
[null,{"$f":"$B$45","v":"aus Nacht-, Sonn-, Feiertagsarbeiten"},null,null,null,null,{"$f":"IF($AJ$21=0,0,$AJ$21)","v":0},null,{"$f":"IF($AK$21=0,0,$AK$21)","v":0},null,{"$f":"IF($AL$21=0,0,$AL$21)","v":0},null,{"$f":"IF($AM$21=0,0,$AM$21)","v":0},null,{"$f":"IF($AN$21=0,0,$AN$21)","v":0},null,{"$f":"IF($AO$21=0,0,$AO$21)","v":0},null,{"$f":"IF($AP$21=0,0,$AP$21)","v":0},null,{"$f":"IF($AQ$21=0,0,$AQ$21)","v":0},null,{"$f":"IF($AR$21=0,0,$AR$21)","v":0},null,{"$f":"IF($AS$21=0,0,$AS$21)","v":0},null,{"$f":"IF($AT$21=0,0,$AT$21)","v":0},null,{"$f":"IF($AU$21=0,0,$AU$21)","v":0},null,{"$f":"SUM(G109:AD109)","v":0}]
[{"$f":"$A$46","v":"Unproduktive Stunden"}]
[{"$f":"$A$47","v":"   Absenzen, Kurzabsenzen Art. 11 GAV"},null,null,null,null,{"$f":"$F$47","v":"a"},{"$f":"IF($AJ$3=0,0,$AJ$3)","v":0},null,{"$f":"IF($AK$3=0,0,$AK$3)","v":0},null,{"$f":"IF($AL$3=0,0,$AL$3)","v":0},null,{"$f":"IF($AM$3=0,0,$AM$3)","v":0},null,{"$f":"IF($AN$3=0,0,$AN$3)","v":0},null,{"$f":"IF($AO$3=0,0,$AO$3)","v":0},null,{"$f":"IF($AP$3=0,0,$AP$3)","v":0},null,{"$f":"IF($AQ$3=0,0,$AQ$3)","v":0},null,{"$f":"IF($AR$3=0,0,$AR$3)","v":0},null,{"$f":"IF($AS$3=0,0,$AS$3)","v":0},null,{"$f":"IF(AT$3=0,0,$AT$3)","v":0},null,{"$f":"IF($AU$3=0,0,$AU$3)","v":0},null,{"$f":"IF($AV$3=0,0,$AV$3)","v":0}]
[{"$f":"$A$48","v":"   Ferien Art. 12.1 GAV"},null,null,null,null,{"$f":"$F$48","v":"f"},{"$f":"IF($AJ$4=0,0,$AJ$4)","v":0},null,{"$f":"IF($AK$4=0,0,$AK$4)","v":0},null,{"$f":"IF($AL$4=0,0,$AL$4)","v":0},null,{"$f":"IF($AM$4=0,0,$AM$4)","v":0},null,{"$f":"IF($AN$4=0,0,$AN$4)","v":0},null,{"$f":"IF($AO$4=0,0,$AO$4)","v":0},null,{"$f":"IF($AP$4=0,0,$AP$4)","v":0},null,{"$f":"IF($AQ$4=0,0,$AQ$4)","v":0},null,{"$f":"IF($AR$4=0,0,$AR$4)","v":0},null,{"$f":"IF($AS$4=0,0,$AS$4)","v":0},null,{"$f":"IF($AT$4=0,0,$AT$4)","v":0},null,{"$f":"IF($AU$4=0,0,$AU$4)","v":0},null,{"$f":"IF($AV$4=0,0,$AV$4)","v":0}]
[{"$f":"Labels!$B$181","v":"   Ferien unbezahlt"},null,null,null,null,{"$f":"Labels!$B$182","v":"fu"},{"$f":"IF($AJ$13=0,0,$AJ$13)","v":0},null,{"$f":"IF($AK$13=0,0,$AK$13)","v":0},null,{"$f":"IF($AL$13=0,0,$AL$13)","v":0},null,{"$f":"IF($AM$13=0,0,$AM$13)","v":0},null,{"$f":"IF($AN$13=0,0,$AN$13)","v":0},null,{"$f":"IF($AO$13=0,0,$AO$13)","v":0},null,{"$f":"IF($AP$13=0,0,$AP$13)","v":0},null,{"$f":"IF($AQ$13=0,0,$AQ$13)","v":0},null,{"$f":"IF($AR$13=0,0,$AR$13)","v":0},null,{"$f":"IF($AS$13=0,0,$AS$13)","v":0},null,{"$f":"IF($AT$13=0,0,$AT$13)","v":0},null,{"$f":"IF($AU$13=0,0,$AU$13)","v":0},null,{"$f":"IF($AV$13=0,0,$AV$13)","v":0}]
[{"$f":"$A$50","v":"   Feiertage Art. 12.2 GAV"},null,{"$f":"IF($AJ$18=\"\",\"\",$AJ$18)","v":""},null,null,{"$f":"$F$50","v":"ft"},{"$f":"IF($AJ$16=0,0,$AJ$16)","v":0},null,{"$f":"IF($AK$16=0,0,$AK$16)","v":0},null,{"$f":"IF($AL$16=0,0,$AL$16)","v":0},null,{"$f":"IF($AM$16=0,0,$AM$16)","v":0},null,{"$f":"IF($AN$16=0,0,$AN$16)","v":0},null,{"$f":"IF($AO$16=0,0,$AO$16)","v":0},null,{"$f":"IF($AP$16=0,0,$AP$16)","v":0},null,{"$f":"IF($AQ$16=0,0,$AQ$16)","v":0},null,{"$f":"IF($AR$16=0,0,$AR$16)","v":0},null,{"$f":"IF($AS$16=0,0,$AS$16)","v":0},null,{"$f":"IF($AT$16=0,0,$AT$16)","v":0},null,{"$f":"IF($AU$16=0,0,$AU$16)","v":0},null,{"$f":"IF($AV$16=0,0,$AV$16)","v":0}]
[{"$f":"$A$51","v":"   Krankheit Art. 13 GAV"},null,null,null,null,{"$f":"$F$51","v":"k"},{"$f":"IF($AJ$5=0,0,$AJ$5)","v":0},null,{"$f":"IF($AK$5=0,0,$AK$5)","v":0},null,{"$f":"IF($AL$5=0,0,$AL$5)","v":0},null,{"$f":"IF($AM$5=0,0,$AM$5)","v":0},null,{"$f":"IF($AN$5=0,0,$AN$5)","v":0},null,{"$f":"IF($AO$5=0,0,$AO$5)","v":0},null,{"$f":"IF($AP$5=0,0,$AP$5)","v":0},null,{"$f":"IF($AQ$5=0,0,$AQ$5)","v":0},null,{"$f":"IF($AR$5=0,0,$AR$5)","v":0},null,{"$f":"IF($AS$5=0,0,$AS$5)","v":0},null,{"$f":"IF($AT$5=0,0,$AT$5)","v":0},null,{"$f":"IF($AU$5=0,0,$AU$5)","v":0},null,{"$f":"IF($AV$5=0,0,$AV$5)","v":0}]
[{"$f":"$A$52","v":"   Unfall Art. 14 GAV"},null,null,null,null,{"$f":"$F$52","v":"u"},{"$f":"IF($AJ$6=0,0,$AJ$6)","v":0},null,{"$f":"IF($AK$6=0,0,$AK$6)","v":0},null,{"$f":"IF($AL$6=0,0,$AL$6)","v":0},null,{"$f":"IF($AM$6=0,0,$AM$6)","v":0},null,{"$f":"IF($AN$6=0,0,$AN$6)","v":0},null,{"$f":"IF($AO$6=0,0,$AO$6)","v":0},null,{"$f":"IF($AP$6=0,0,$AP$6)","v":0},null,{"$f":"IF($AQ$6=0,0,$AQ$6)","v":0},null,{"$f":"IF($AR$6=0,0,$AR$6)","v":0},null,{"$f":"IF($AS$6=0,0,$AS$6)","v":0},null,{"$f":"IF($AT$6=0,0,$AT$6)","v":0},null,{"$f":"IF($AU$6=0,0,$AU$6)","v":0},null,{"$f":"IF($AV$6=0,0,$AV$6)","v":0}]
[{"$f":"$A$53","v":"   Schwangerschaft/Mutterschaft Art. 15 GAV"},null,null,null,null,{"$f":"$F$53","v":"s"},{"$f":"IF($AJ$7=0,0,$AJ$7)","v":0},null,{"$f":"IF($AK$7=0,0,$AK$7)","v":0},null,{"$f":"IF($AL$7=0,0,$AL$7)","v":0},null,{"$f":"IF($AM$7=0,0,$AM$7)","v":0},null,{"$f":"IF($AN$7=0,0,$AN$7)","v":0},null,{"$f":"IF($AO$7=0,0,$AO$7)","v":0},null,{"$f":"IF($AP$7=0,0,$AP$7)","v":0},null,{"$f":"IF($AQ$7=0,0,$AQ$7)","v":0},null,{"$f":"IF($AR$7=0,0,$AR$7)","v":0},null,{"$f":"IF($AS$7=0,0,$AS$7)","v":0},null,{"$f":"IF($AT$7=0,0,$AT$7)","v":0},null,{"$f":"IF($AU$7=0,0,$AU$7)","v":0},null,{"$f":"IF($AV$7=0,0,$AV$7)","v":0}]
[{"$f":"$A$54","v":"   Militär/Beförderung/Zivilschutz Art. 16 GAV"},null,null,null,null,{"$f":"$F$54","v":"m"},{"$f":"IF($AJ$8=0,0,$AJ$8)","v":0},null,{"$f":"IF($AK$8=0,0,$AK$8)","v":0},null,{"$f":"IF($AL$8=0,0,$AL$8)","v":0},null,{"$f":"IF($AM$8=0,0,$AM$8)","v":0},null,{"$f":"IF($AN$8=0,0,$AN$8)","v":0},null,{"$f":"IF($AO$8=0,0,$AO$8)","v":0},null,{"$f":"IF($AP$8=0,0,$AP$8)","v":0},null,{"$f":"IF($AQ$8=0,0,$AQ$8)","v":0},null,{"$f":"IF($AR$8=0,0,$AR$8)","v":0},null,{"$f":"IF($AS$8=0,0,$AS$8)","v":0},null,{"$f":"IF($AT$8=0,0,$AT$8)","v":0},null,{"$f":"IF($AU$8=0,0,$AU$8)","v":0},null,{"$f":"IF($AV$8=0,0,$AV$8)","v":0}]
[{"$f":"$A$55","v":"   Kurzarbeit und Schlechtwetterausfälle"},null,null,null,null,{"$f":"$F$55","v":"ka"},{"$f":"IF($AJ$11=0,0,$AJ$11)","v":0},null,{"$f":"IF($AK$11=0,0,$AK$11)","v":0},null,{"$f":"IF($AL$11=0,0,$AL$11)","v":0},null,{"$f":"IF($AM$11=0,0,$AM$11)","v":0},null,{"$f":"IF($AN$11=0,0,$AN$11)","v":0},null,{"$f":"IF($AO$11=0,0,$AO$11)","v":0},null,{"$f":"IF($AP$11=0,0,$AP$11)","v":0},null,{"$f":"IF($AQ$11=0,0,$AQ$11)","v":0},null,{"$f":"IF($AR$11=0,0,$AR$11)","v":0},null,{"$f":"IF($AS$11=0,0,$AS$11)","v":0},null,{"$f":"IF($AT$11=0,0,$AT$11)","v":0},null,{"$f":"IF($AU$11=0,0,$AU$11)","v":0},null,{"$f":"IF($AV$11=0,0,$AV$11)","v":0}]
[{"$f":"$A$56","v":"   Berufsschule"},null,null,null,null,{"$f":"$F$56","v":"bs"},{"$f":"IF($AJ$9=0,0,$AJ$9)","v":0},null,{"$f":"IF($AK$9=0,0,$AK$9)","v":0},null,{"$f":"IF($AL$9=0,0,$AL$9)","v":0},null,{"$f":"IF($AM$9=0,0,$AM$9)","v":0},null,{"$f":"IF($AN$9=0,0,$AN$9)","v":0},null,{"$f":"IF($AO$9=0,0,$AO$9)","v":0},null,{"$f":"IF($AP$9=0,0,$AP$9)","v":0},null,{"$f":"IF($AQ$9=0,0,$AQ$9)","v":0},null,{"$f":"IF($AR$9=0,0,$AR$9)","v":0},null,{"$f":"IF($AS$9=0,0,$AS$9)","v":0},null,{"$f":"IF($AT$9=0,0,$AT$9)","v":0},null,{"$f":"IF($AU$9=0,0,$AU$9)","v":0},null,{"$f":"IF($AV$9=0,0,$AV$9)","v":0}]
[{"$f":"$A$57","v":"   Kurse"},null,null,null,null,{"$f":"$F$57","v":"ku"},{"$f":"IF($AJ$10=0,0,$AJ$10)","v":0},null,{"$f":"IF($AK$10=0,0,$AK$10)","v":0},null,{"$f":"IF($AL$10=0,0,$AL$10)","v":0},null,{"$f":"IF($AM$10=0,0,$AM$10)","v":0},null,{"$f":"IF($AN$10=0,0,$AN$10)","v":0},null,{"$f":"IF($AO$10=0,0,$AO$10)","v":0},null,{"$f":"IF($AP$10=0,0,$AP$10)","v":0},null,{"$f":"IF($AQ$10=0,0,$AQ$10)","v":0},null,{"$f":"IF($AR$10=0,0,$AR$10)","v":0},null,{"$f":"IF($AS$10=0,0,$AS$10)","v":0},null,{"$f":"IF($AT$10=0,0,$AT$10)","v":0},null,{"$f":"IF($AU$10=0,0,$AU$10)","v":0},null,{"$f":"IF($AV$10=0,0,$AV$10)","v":0}]
[{"$f":"$A$58","v":"Kompensations-Std"},{"$f":"$B$58","v":"aus Vorjahr"},null,null,null,{"$f":"$F$58","v":"kv"},{"$f":"IF($AJ$12=0,0,$AJ$12)","v":0},null,{"$f":"IF($AK$12=0,0,$AK$12)","v":0},null,{"$f":"IF($AL$12=0,0,$AL$12)","v":0},null,{"$f":"IF($AM$12=0,0,$AM$12)","v":0},null,{"$f":"IF($AN$12=0,0,$AN$12)","v":0},null,{"$f":"IF($AO$12=0,0,$AO$12)","v":0},null,{"$f":"IF($AP$12=0,0,$AP$12)","v":0},null,{"$f":"IF($AQ$12=0,0,$AQ$12)","v":0},null,{"$f":"IF($AR$12=0,0,$AR$12)","v":0},null,null,null,null,null,null,null,{"$f":"IF($AV$12=0,0,$AV$12)","v":0}]
[null,{"$f":"$B$59","v":"aus laufendem Jahr (Kontrolle)"},null,null,null,{"$f":"$F$59","v":"kj"},{"$f":"IF($AJ$15=0,0,$AJ$15)","v":0},null,{"$f":"IF($AK$15=0,0,$AK$15)","v":0},null,{"$f":"IF($AL$15=0,0,$AL$15)","v":0},null,{"$f":"IF($AM$15=0,0,$AM$15)","v":0},null,{"$f":"IF($AN$15=0,0,$AN$15)","v":0},null,{"$f":"IF($AO$15=0,0,$AO$15)","v":0},null,{"$f":"IF($AP$15=0,0,$AP$15)","v":0},null,{"$f":"IF($AQ$15=0,0,$AQ$15)","v":0},null,{"$f":"IF($AR$15=0,0,$AR$15)","v":0},null,{"$f":"IF($AS$15=0,0,$AS$15)","v":0},null,{"$f":"IF($AT$15=0,0,$AT$15)","v":0},null,{"$f":"IF($AU$15=0,0,$AU$15)","v":0},null,{"$f":"IF($AV$15=0,0,$AV$15)","v":0}]
[{"$f":"$A$60","v":"Auszahlung"},{"$f":"$B$60","v":"Stunden Vorjahressaldo"},null,null,null,null,{"$f":"IF($AJ$19=0,0,$AJ$19)","v":0},null,{"$f":"IF($AK$19=0,0,$AK$19)","v":0},null,{"$f":"IF($AL$19=0,0,$AL$19)","v":0},null,{"$f":"IF($AM$19=0,0,$AM$19)","v":0},null,{"$f":"IF($AN$19=0,0,$AN$19)","v":0},null,{"$f":"IF($AO$19=0,0,$AO$19)","v":0},null,{"$f":"IF($AP$19=0,0,$AP$19)","v":0},null,{"$f":"IF($AQ$19=0,0,$AQ$19)","v":0},null,{"$f":"IF($AR$19=0,0,$AR$19)","v":0},null,null,null,null,null,null,null,{"$f":"IF($AV$19=0,0,$AV$19)","v":0}]
[{"$f":"$A$61","v":"Differenz"},{"$f":"$B$61","v":"nach Kompensation und Auszahlung"},null,null,null,null,{"$f":"IF(ROUND($P$4,3)=0,0,$P$4-SUM(G122+G124))","v":0},null,{"$f":"IF(ROUND(G125,3)=0,0,G125-(SUM(I124+I122)))","v":0},null,{"$f":"IF(ROUND(I125,3)=0,0,I125-(SUM(K124+K122)))","v":0},null,{"$f":"IF(ROUND(K125,3)=0,0,K125-(SUM(M124+M122)))","v":0},null,{"$f":"IF(ROUND(M125,3)=0,0,M125-(SUM(O124+O122)))","v":0},null,{"$f":"IF(ROUND(O125,3)=0,0,O125-(SUM(Q124+Q122)))","v":0},null,{"$f":"IF(ROUND(Q125,3)=0,0,Q125-(SUM(S124+S122)))","v":0},null,{"$f":"IF(ROUND(S125,3)=0,0,S125-(SUM(U124+U122)))","v":0},null,{"$f":"IF(ROUND(U125,3)=0,0,U125-(SUM(W124+W122)))","v":0},null,{"$f":"$Y$61","v":""}]
[{"$f":"$A$62","v":"Auszahlung"},{"$f":"$B$62","v":"Stunden laufendes Jahr"},null,null,null,null,{"$f":"IF($AJ$20=0,0,$AJ$20)","v":0},null,{"$f":"IF($AK$20=0,0,$AK$20)","v":0},null,{"$f":"IF($AL$20=0,0,$AL$20)","v":0},null,{"$f":"IF($AM$20=0,0,$AM$20)","v":0},null,{"$f":"IF($AN$20=0,0,$AN$20)","v":0},null,{"$f":"IF($AO$20=0,0,$AO$20)","v":0},null,{"$f":"IF($AP$20=0,0,$AP$20)","v":0},null,{"$f":"IF($AQ$20=0,0,$AQ$20)","v":0},null,{"$f":"IF($AR$20=0,0,$AR$20)","v":0},null,{"$f":"IF($AS$20=0,0,$AS$20)","v":0},null,{"$f":"IF($AT$20=0,0,$AT$20)","v":0},null,{"$f":"IF($AU$20=0,0,$AU$20)","v":0},null,{"$f":"IF($AV$20=0,0,$AV$20)","v":0}]
[{"$f":"$A$63","v":"Fehlstunden"},{"$f":"$B$63","v":"laufendes Jahr (Kontrolle)"},null,null,null,{"$f":"$F$63","v":"fe"},{"$f":"IF($AJ$14=0,0,$AJ$14)","v":0},null,{"$f":"IF($AK$14=0,0,$AK$14)","v":0},null,{"$f":"IF($AL$14=0,0,$AL$14)","v":0},null,{"$f":"IF($AM$14=0,0,$AM$14)","v":0},null,{"$f":"IF($AN$14=0,0,$AN$14)","v":0},null,{"$f":"IF($AO$14=0,0,$AO$14)","v":0},null,{"$f":"IF($AP$14=0,0,$AP$14)","v":0},null,{"$f":"IF($AQ$14=0,0,$AQ$14)","v":0},null,{"$f":"IF($AR$14=0,0,$AR$14)","v":0},null,{"$f":"IF($AS$14=0,0,$AS$14)","v":0},null,{"$f":"IF($AT$14=0,0,$AT$14)","v":0},null,{"$f":"IF($AU$14=0,0,$AU$14)","v":0},null,{"$f":"IF($AV$14=0,0,$AV$14)","v":0}]
[{"$f":"$A$64","v":"Total inkl. Zeitzuschläge"},{"$f":"$B$64","v":"Stunden produktiv und unproduktiv"},null,null,null,null,{"$f":"IF($AG$36=0,0,$AG$36)","v":0},null,{"$f":"IF($AG$99=0,0,$AG$99)","v":0},null,{"$f":"IF($AG$163=0,0,$AG$163)","v":0},null,{"$f":"IF($AG$227=0,0,$AG$227)","v":0},null,{"$f":"IF($AG$291=0,0,$AG$291)","v":0},null,{"$f":"IF($AG$355=0,0,$AG$355)","v":0},null,{"$f":"IF($AG$419=0,0,$AG$419)","v":0},null,{"$f":"IF($AG$483=0,0,$AG$483)","v":0},null,{"$f":"IF($AG$547=0,0,$AG$547)","v":0},null,{"$f":"IF($AG$611=0,0,$AG$611)","v":0},null,{"$f":"IF($AG$675=0,0,$AG$675)","v":0},null,{"$f":"IF($AG$739=0,0,$AG$739)","v":0},null,{"$f":"SUM($G$64:$AD$64)","v":0}]
[{"$f":"$A$65","v":"Vergleich"},{"$f":"$B$65","v":"Stunden zu Soll-Stunden (inkl. allfälli-\nge Minusstunden Vorjahr)"},null,null,null,null,{"$f":"$G$65","v":-168},null,{"$f":"$I$65","v":-160},null,{"$f":"$K$65","v":-184},null,{"$f":"$M$65","v":-168},null,{"$f":"$O$65","v":-176},null,{"$f":"$Q$65","v":-176},null,{"$f":"$S$65","v":-168},null,{"$f":"$U$65","v":-184},null,{"$f":"$W$65","v":-176},null,{"$f":"$Y$65","v":-168},null,{"$f":"$AA$65","v":-176},null,{"$f":"$AC$65","v":-176},null,{"$f":"$AE$65","v":-2080}]
[null,{"$f":"$B$66","v":"Stunden zu Soll-Stunden (kumuliert)"},null,null,null,null,{"$f":"$G$66","v":-168},null,{"$f":"$I$66","v":-328},null,{"$f":"$K$66","v":-512},null,{"$f":"$M$66","v":-680},null,{"$f":"$O$66","v":-856},null,{"$f":"$Q$66","v":-1032},null,{"$f":"$S$66","v":-1200},null,{"$f":"$U$66","v":-1384},null,{"$f":"$W$66","v":-1560},null,{"$f":"$Y$66","v":-1728},null,{"$f":"$AA$66","v":-1904},null,{"$f":"$AC$66","v":-2080},null,{"$f":"$AE$66","v":0}]
[{"$f":"$A$67","v":"Ferienkontrolle"},{"$f":"$B$67","v":"Ferienguthaben Vorjahr"},null,null,null,null,{"$f":"IF($AA$4=0,0,$AA$4)","v":0},null,{"$f":"$I$67","v":"Ferienguthaben nach \nArt. 12.1 GAV"},null,null,null,{"$f":"IF($AA$5=0,0,$AA$5)","v":0},null,{"$f":"$O$67","v":"Ferienguthaben total"},null,null,null,{"$f":"SUM(G131+M131)","v":0},null,{"$f":"$U$67","v":"Ferien bezogen"},null,null,null,{"$f":"IF($AV$4=0,0,$AV$4)","v":0},null,{"$f":"$AA$67","v":"Aktuelles Ferienguthaben"},null,null,null,{"$f":"IF(S131=0,0,S131-Y131)","v":0}]
[]
[]
[{"$f":"$A$3","v":"Mitarbeiter/In"},{"$f":"IF($B$3=\"\",\"\",$B$3)","v":"Muster Peter"},null,null,null,null,null,null,null,null,null,null,null,null,null,null,null,null,null,null,null,null,null,null,null,null,null,null,null,null,null,{"$f":"AF3","v":0}]
[{"$f":"$A$4","v":"Anstellung %"},{"$f":"$AL$46","v":100},null,{"$f":"Labels!B91","v":"im März"}]
[{"$f":"$A$5","v":"Saldo für das Jahr"},null,null,{"$f":"IF($AE$65=0,0,$AE$65)","v":-2080}]
[{"$f":"TEXT(DATE(YEAR(AP29),MONTH(AP29)+2,1),\"MMMM\"&Labels!B13)","v":"März"},{"$f":"$B$9","v":"Saldo Monat + / -"},null,null,null,{"$f":"(AG139-(SUM(AG140:AG154)-AE162))*-1","v":-184},null,null,null,null,{"$f":"$K$9","v":" = "},{"$f":"$L$9","v":"Gelbe Felder müssen ausgefüllt werden (die übrigen werden automatisch berechnet)"},null,null,null,null,null,null,null,null,null,null,null,null,null,null,null,null,null,null,null,null,{"$f":"COUNT(B140:AF140)&\" \"&Labels!$B$63","v":"23 Tage"}]
[{"$f":"$A$10","v":"Tag"},{"$f":"IF(MOD($AE$96,4)>=1,$AC$74+1,$AC$74+2)","v":"2022-03-01"},{"$f":"B138+1","v":"2022-03-02"},"2022-03-03","2022-03-04","2022-03-05","2022-03-06","2022-03-07","2022-03-08","2022-03-09","2022-03-10","2022-03-11","2022-03-12","2022-03-13","2022-03-14","2022-03-15","2022-03-16","2022-03-17","2022-03-18","2022-03-19","2022-03-20","2022-03-21","2022-03-22","2022-03-23","2022-03-24","2022-03-25","2022-03-26","2022-03-27","2022-03-28","2022-03-29","2022-03-30","2022-03-31"]
[{"$f":"$A$11","v":"Kalenderwoche"},{"$f":"IF(B138=\"\",\"\",TRUNC((B138-DATE(YEAR(B138+3-MOD(B138-2,7)),1,MOD(B138-2,7)-9))/7))","v":9},9,9,9,9,9,10,10,10,10,10,10,10,11,11,11,11,11,11,11,12,12,12,12,12,12,12,13,13,13,13,{"$f":"SUM(B140:AF140)","v":184}]
[{"$f":"$A$12","v":"Sollstunden"},{"$f":"IF(AND(MOD(B138,7)>=2,SUMPRODUCT(($AM$56:$AQ$56=MOD(B138,7))*$AM$46:$AQ$46)),($J$7*5/$AR$46)*$B$135%,\"\")","v":8},{"$f":"IF(AND(MOD(C138,7)>=2,SUMPRODUCT(($AM$56:$AQ$56=MOD(C138,7))*$AM$46:$AQ$46)),($J$7*5/$AR$46)*$B$135%,\"\")","v":8},{"$f":"IF(AND(MOD(D138,7)>=2,SUMPRODUCT(($AM$56:$AQ$56=MOD(D138,7))*$AM$46:$AQ$46)),($J$7*5/$AR$46)*$B$135%,\"\")","v":8},{"$f":"IF(AND(MOD(E138,7)>=2,SUMPRODUCT(($AM$56:$AQ$56=MOD(E138,7))*$AM$46:$AQ$46)),($J$7*5/$AR$46)*$B$135%,\"\")","v":8},{"$f":"IF(AND(MOD(F138,7)>=2,SUMPRODUCT(($AM$56:$AQ$56=MOD(F138,7))*$AM$46:$AQ$46)),($J$7*5/$AR$46)*$B$135%,\"\")","v":""},{"$f":"IF(AND(MOD(G138,7)>=2,SUMPRODUCT(($AM$56:$AQ$56=MOD(G138,7))*$AM$46:$AQ$46)),($J$7*5/$AR$46)*$B$135%,\"\")","v":""},{"$f":"IF(AND(MOD(H138,7)>=2,SUMPRODUCT(($AM$56:$AQ$56=MOD(H138,7))*$AM$46:$AQ$46)),($J$7*5/$AR$46)*$B$135%,\"\")","v":8},{"$f":"IF(AND(MOD(I138,7)>=2,SUMPRODUCT(($AM$56:$AQ$56=MOD(I138,7))*$AM$46:$AQ$46)),($J$7*5/$AR$46)*$B$135%,\"\")","v":8},{"$f":"IF(AND(MOD(J138,7)>=2,SUMPRODUCT(($AM$56:$AQ$56=MOD(J138,7))*$AM$46:$AQ$46)),($J$7*5/$AR$46)*$B$135%,\"\")","v":8},{"$f":"IF(AND(MOD(K138,7)>=2,SUMPRODUCT(($AM$56:$AQ$56=MOD(K138,7))*$AM$46:$AQ$46)),($J$7*5/$AR$46)*$B$135%,\"\")","v":8},{"$f":"IF(AND(MOD(L138,7)>=2,SUMPRODUCT(($AM$56:$AQ$56=MOD(L138,7))*$AM$46:$AQ$46)),($J$7*5/$AR$46)*$B$135%,\"\")","v":8},{"$f":"IF(AND(MOD(M138,7)>=2,SUMPRODUCT(($AM$56:$AQ$56=MOD(M138,7))*$AM$46:$AQ$46)),($J$7*5/$AR$46)*$B$135%,\"\")","v":""},{"$f":"IF(AND(MOD(N138,7)>=2,SUMPRODUCT(($AM$56:$AQ$56=MOD(N138,7))*$AM$46:$AQ$46)),($J$7*5/$AR$46)*$B$135%,\"\")","v":""},{"$f":"IF(AND(MOD(O138,7)>=2,SUMPRODUCT(($AM$56:$AQ$56=MOD(O138,7))*$AM$46:$AQ$46)),($J$7*5/$AR$46)*$B$135%,\"\")","v":8},{"$f":"IF(AND(MOD(P138,7)>=2,SUMPRODUCT(($AM$56:$AQ$56=MOD(P138,7))*$AM$46:$AQ$46)),($J$7*5/$AR$46)*$B$135%,\"\")","v":8},{"$f":"IF(AND(MOD(Q138,7)>=2,SUMPRODUCT(($AM$56:$AQ$56=MOD(Q138,7))*$AM$46:$AQ$46)),($J$7*5/$AR$46)*$B$135%,\"\")","v":8},{"$f":"IF(AND(MOD(R138,7)>=2,SUMPRODUCT(($AM$56:$AQ$56=MOD(R138,7))*$AM$46:$AQ$46)),($J$7*5/$AR$46)*$B$135%,\"\")","v":8},{"$f":"IF(AND(MOD(S138,7)>=2,SUMPRODUCT(($AM$56:$AQ$56=MOD(S138,7))*$AM$46:$AQ$46)),($J$7*5/$AR$46)*$B$135%,\"\")","v":8},{"$f":"IF(AND(MOD(T138,7)>=2,SUMPRODUCT(($AM$56:$AQ$56=MOD(T138,7))*$AM$46:$AQ$46)),($J$7*5/$AR$46)*$B$135%,\"\")","v":""},{"$f":"IF(AND(MOD(U138,7)>=2,SUMPRODUCT(($AM$56:$AQ$56=MOD(U138,7))*$AM$46:$AQ$46)),($J$7*5/$AR$46)*$B$135%,\"\")","v":""},{"$f":"IF(AND(MOD(V138,7)>=2,SUMPRODUCT(($AM$56:$AQ$56=MOD(V138,7))*$AM$46:$AQ$46)),($J$7*5/$AR$46)*$B$135%,\"\")","v":8},{"$f":"IF(AND(MOD(W138,7)>=2,SUMPRODUCT(($AM$56:$AQ$56=MOD(W138,7))*$AM$46:$AQ$46)),($J$7*5/$AR$46)*$B$135%,\"\")","v":8},{"$f":"IF(AND(MOD(X138,7)>=2,SUMPRODUCT(($AM$56:$AQ$56=MOD(X138,7))*$AM$46:$AQ$46)),($J$7*5/$AR$46)*$B$135%,\"\")","v":8},{"$f":"IF(AND(MOD(Y138,7)>=2,SUMPRODUCT(($AM$56:$AQ$56=MOD(Y138,7))*$AM$46:$AQ$46)),($J$7*5/$AR$46)*$B$135%,\"\")","v":8},{"$f":"IF(AND(MOD(Z138,7)>=2,SUMPRODUCT(($AM$56:$AQ$56=MOD(Z138,7))*$AM$46:$AQ$46)),($J$7*5/$AR$46)*$B$135%,\"\")","v":8},{"$f":"IF(AND(MOD(AA138,7)>=2,SUMPRODUCT(($AM$56:$AQ$56=MOD(AA138,7))*$AM$46:$AQ$46)),($J$7*5/$AR$46)*$B$135%,\"\")","v":""},{"$f":"IF(AND(MOD(AB138,7)>=2,SUMPRODUCT(($AM$56:$AQ$56=MOD(AB138,7))*$AM$46:$AQ$46)),($J$7*5/$AR$46)*$B$135%,\"\")","v":""},{"$f":"IF(AND(MOD(AC138,7)>=2,SUMPRODUCT(($AM$56:$AQ$56=MOD(AC138,7))*$AM$46:$AQ$46)),($J$7*5/$AR$46)*$B$135%,\"\")","v":8},{"$f":"IF(AND(MOD(AD138,7)>=2,SUMPRODUCT(($AM$56:$AQ$56=MOD(AD138,7))*$AM$46:$AQ$46)),($J$7*5/$AR$46)*$B$135%,\"\")","v":8},{"$f":"IF(AND(MOD(AE138,7)>=2,SUMPRODUCT(($AM$56:$AQ$56=MOD(AE138,7))*$AM$46:$AQ$46)),($J$7*5/$AR$46)*$B$135%,\"\")","v":8},{"$f":"IF(AND(MOD(AF138,7)>=2,SUMPRODUCT(($AM$56:$AQ$56=MOD(AF138,7))*$AM$46:$AQ$46)),($J$7*5/$AR$46)*$B$135%,\"\")","v":8},{"$f":"SUM(AL3:AL13)","v":0}]
[{"$f":"$A$13","v":"Absenz in Std"},{"$f":"B877","v":0},{"$f":"C877","v":0},0,0,0,0,0,0,0,0,0,0,0,0,0,0,0,0,0,0,0,0,0,0,0,0,0,0,0,0,0]
[{"$f":"$A$14","v":"Code"},{"$f":"IF(B877<>0,IF(MAX(B864:B876)<B877,Labels!$B$163,INDEX($AH$863:$AH$875,MATCH(MAX(B864:B876),B864:B876,0))),\"\")","v":""},{"$f":"IF(C877<>0,IF(MAX(C864:C876)<C877,Labels!$B$163,INDEX($AH$863:$AH$875,MATCH(MAX(C864:C876),C864:C876,0))),\"\")","v":""},{"$f":"IF(D877<>0,IF(MAX(D864:D876)<D877,Labels!$B$163,INDEX($AH$863:$AH$875,MATCH(MAX(D864:D876),D864:D876,0))),\"\")","v":""},{"$f":"IF(E877<>0,IF(MAX(E864:E876)<E877,Labels!$B$163,INDEX($AH$863:$AH$875,MATCH(MAX(E864:E876),E864:E876,0))),\"\")","v":""},{"$f":"IF(F877<>0,IF(MAX(F864:F876)<F877,Labels!$B$163,INDEX($AH$863:$AH$875,MATCH(MAX(F864:F876),F864:F876,0))),\"\")","v":""},{"$f":"IF(G877<>0,IF(MAX(G864:G876)<G877,Labels!$B$163,INDEX($AH$863:$AH$875,MATCH(MAX(G864:G876),G864:G876,0))),\"\")","v":""},{"$f":"IF(H877<>0,IF(MAX(H864:H876)<H877,Labels!$B$163,INDEX($AH$863:$AH$875,MATCH(MAX(H864:H876),H864:H876,0))),\"\")","v":""},{"$f":"IF(I877<>0,IF(MAX(I864:I876)<I877,Labels!$B$163,INDEX($AH$863:$AH$875,MATCH(MAX(I864:I876),I864:I876,0))),\"\")","v":""},{"$f":"IF(J877<>0,IF(MAX(J864:J876)<J877,Labels!$B$163,INDEX($AH$863:$AH$875,MATCH(MAX(J864:J876),J864:J876,0))),\"\")","v":""},{"$f":"IF(K877<>0,IF(MAX(K864:K876)<K877,Labels!$B$163,INDEX($AH$863:$AH$875,MATCH(MAX(K864:K876),K864:K876,0))),\"\")","v":""},{"$f":"IF(L877<>0,IF(MAX(L864:L876)<L877,Labels!$B$163,INDEX($AH$863:$AH$875,MATCH(MAX(L864:L876),L864:L876,0))),\"\")","v":""},{"$f":"IF(M877<>0,IF(MAX(M864:M876)<M877,Labels!$B$163,INDEX($AH$863:$AH$875,MATCH(MAX(M864:M876),M864:M876,0))),\"\")","v":""},{"$f":"IF(N877<>0,IF(MAX(N864:N876)<N877,Labels!$B$163,INDEX($AH$863:$AH$875,MATCH(MAX(N864:N876),N864:N876,0))),\"\")","v":""},{"$f":"IF(O877<>0,IF(MAX(O864:O876)<O877,Labels!$B$163,INDEX($AH$863:$AH$875,MATCH(MAX(O864:O876),O864:O876,0))),\"\")","v":""},{"$f":"IF(P877<>0,IF(MAX(P864:P876)<P877,Labels!$B$163,INDEX($AH$863:$AH$875,MATCH(MAX(P864:P876),P864:P876,0))),\"\")","v":""},{"$f":"IF(Q877<>0,IF(MAX(Q864:Q876)<Q877,Labels!$B$163,INDEX($AH$863:$AH$875,MATCH(MAX(Q864:Q876),Q864:Q876,0))),\"\")","v":""},{"$f":"IF(R877<>0,IF(MAX(R864:R876)<R877,Labels!$B$163,INDEX($AH$863:$AH$875,MATCH(MAX(R864:R876),R864:R876,0))),\"\")","v":""},{"$f":"IF(S877<>0,IF(MAX(S864:S876)<S877,Labels!$B$163,INDEX($AH$863:$AH$875,MATCH(MAX(S864:S876),S864:S876,0))),\"\")","v":""},{"$f":"IF(T877<>0,IF(MAX(T864:T876)<T877,Labels!$B$163,INDEX($AH$863:$AH$875,MATCH(MAX(T864:T876),T864:T876,0))),\"\")","v":""},{"$f":"IF(U877<>0,IF(MAX(U864:U876)<U877,Labels!$B$163,INDEX($AH$863:$AH$875,MATCH(MAX(U864:U876),U864:U876,0))),\"\")","v":""},{"$f":"IF(V877<>0,IF(MAX(V864:V876)<V877,Labels!$B$163,INDEX($AH$863:$AH$875,MATCH(MAX(V864:V876),V864:V876,0))),\"\")","v":""},{"$f":"IF(W877<>0,IF(MAX(W864:W876)<W877,Labels!$B$163,INDEX($AH$863:$AH$875,MATCH(MAX(W864:W876),W864:W876,0))),\"\")","v":""},{"$f":"IF(X877<>0,IF(MAX(X864:X876)<X877,Labels!$B$163,INDEX($AH$863:$AH$875,MATCH(MAX(X864:X876),X864:X876,0))),\"\")","v":""},{"$f":"IF(Y877<>0,IF(MAX(Y864:Y876)<Y877,Labels!$B$163,INDEX($AH$863:$AH$875,MATCH(MAX(Y864:Y876),Y864:Y876,0))),\"\")","v":""},{"$f":"IF(Z877<>0,IF(MAX(Z864:Z876)<Z877,Labels!$B$163,INDEX($AH$863:$AH$875,MATCH(MAX(Z864:Z876),Z864:Z876,0))),\"\")","v":""},{"$f":"IF(AA877<>0,IF(MAX(AA864:AA876)<AA877,Labels!$B$163,INDEX($AH$863:$AH$875,MATCH(MAX(AA864:AA876),AA864:AA876,0))),\"\")","v":""},{"$f":"IF(AB877<>0,IF(MAX(AB864:AB876)<AB877,Labels!$B$163,INDEX($AH$863:$AH$875,MATCH(MAX(AB864:AB876),AB864:AB876,0))),\"\")","v":""},{"$f":"IF(AC877<>0,IF(MAX(AC864:AC876)<AC877,Labels!$B$163,INDEX($AH$863:$AH$875,MATCH(MAX(AC864:AC876),AC864:AC876,0))),\"\")","v":""},{"$f":"IF(AD877<>0,IF(MAX(AD864:AD876)<AD877,Labels!$B$163,INDEX($AH$863:$AH$875,MATCH(MAX(AD864:AD876),AD864:AD876,0))),\"\")","v":""},{"$f":"IF(AE877<>0,IF(MAX(AE864:AE876)<AE877,Labels!$B$163,INDEX($AH$863:$AH$875,MATCH(MAX(AE864:AE876),AE864:AE876,0))),\"\")","v":""},{"$f":"IF(AF877<>0,IF(MAX(AF864:AF876)<AF877,Labels!$B$163,INDEX($AH$863:$AH$875,MATCH(MAX(AF864:AF876),AF864:AF876,0))),\"\")","v":""},{"$f":"SUM(B143:AF143)","v":0}]
[{"$f":"$A$15","v":"00.00-06.00h"},null,null,null,null,null,null,null,null,null,null,null,null,null,null,null,null,null,null,null,null,null,null,null,null,null,null,null,null,null,null,null,{"$f":"SUM(B144:AF144)","v":0}]
[{"$f":"$A$16","v":"06.00-20.00h"},null,null,null,null,null,null,null,null,null,null,null,null,null,null,null,null,null,null,null,null,null,null,null,null,null,null,null,null,null,null,null,{"$f":"SUM(B145:AF145)","v":0},"[0]"]
[{"$f":"$A$17","v":"20.00-24.00h"}]
[{"$f":"$A$18","v":"Feiertag \"ft\""},{"$f":"IF(WEEKDAY(B138,2)<=6,IF(KALENDER!E7=\"x\",Labels!$B$118,\"\"),\"\")","v":""},{"$f":"IF(WEEKDAY(C138,2)<=6,IF(KALENDER!F7=\"x\",Labels!$B$118,\"\"),\"\")","v":""},{"$f":"IF(WEEKDAY(D138,2)<=6,IF(KALENDER!G7=\"x\",Labels!$B$118,\"\"),\"\")","v":""},{"$f":"IF(WEEKDAY(E138,2)<=6,IF(KALENDER!H7=\"x\",Labels!$B$118,\"\"),\"\")","v":""},{"$f":"IF(WEEKDAY(F138,2)<=6,IF(KALENDER!I7=\"x\",Labels!$B$118,\"\"),\"\")","v":""},{"$f":"IF(WEEKDAY(G138,2)<=6,IF(KALENDER!J7=\"x\",Labels!$B$118,\"\"),\"\")","v":""},{"$f":"IF(WEEKDAY(H138,2)<=6,IF(KALENDER!K7=\"x\",Labels!$B$118,\"\"),\"\")","v":""},{"$f":"IF(WEEKDAY(I138,2)<=6,IF(KALENDER!L7=\"x\",Labels!$B$118,\"\"),\"\")","v":""},{"$f":"IF(WEEKDAY(J138,2)<=6,IF(KALENDER!M7=\"x\",Labels!$B$118,\"\"),\"\")","v":""},{"$f":"IF(WEEKDAY(K138,2)<=6,IF(KALENDER!N7=\"x\",Labels!$B$118,\"\"),\"\")","v":""},{"$f":"IF(WEEKDAY(L138,2)<=6,IF(KALENDER!O7=\"x\",Labels!$B$118,\"\"),\"\")","v":""},{"$f":"IF(WEEKDAY(M138,2)<=6,IF(KALENDER!P7=\"x\",Labels!$B$118,\"\"),\"\")","v":""},{"$f":"IF(WEEKDAY(N138,2)<=6,IF(KALENDER!Q7=\"x\",Labels!$B$118,\"\"),\"\")","v":""},{"$f":"IF(WEEKDAY(O138,2)<=6,IF(KALENDER!R7=\"x\",Labels!$B$118,\"\"),\"\")","v":""},{"$f":"IF(WEEKDAY(P138,2)<=6,IF(KALENDER!S7=\"x\",Labels!$B$118,\"\"),\"\")","v":""},{"$f":"IF(WEEKDAY(Q138,2)<=6,IF(KALENDER!T7=\"x\",Labels!$B$118,\"\"),\"\")","v":""},{"$f":"IF(WEEKDAY(R138,2)<=6,IF(KALENDER!U7=\"x\",Labels!$B$118,\"\"),\"\")","v":""},{"$f":"IF(WEEKDAY(S138,2)<=6,IF(KALENDER!V7=\"x\",Labels!$B$118,\"\"),\"\")","v":""},{"$f":"IF(WEEKDAY(T138,2)<=6,IF(KALENDER!W7=\"x\",Labels!$B$118,\"\"),\"\")","v":""},{"$f":"IF(WEEKDAY(U138,2)<=6,IF(KALENDER!X7=\"x\",Labels!$B$118,\"\"),\"\")","v":""},{"$f":"IF(WEEKDAY(V138,2)<=6,IF(KALENDER!Y7=\"x\",Labels!$B$118,\"\"),\"\")","v":""},{"$f":"IF(WEEKDAY(W138,2)<=6,IF(KALENDER!Z7=\"x\",Labels!$B$118,\"\"),\"\")","v":""},{"$f":"IF(WEEKDAY(X138,2)<=6,IF(KALENDER!AA7=\"x\",Labels!$B$118,\"\"),\"\")","v":""},{"$f":"IF(WEEKDAY(Y138,2)<=6,IF(KALENDER!AB7=\"x\",Labels!$B$118,\"\"),\"\")","v":""},{"$f":"IF(WEEKDAY(Z138,2)<=6,IF(KALENDER!AC7=\"x\",Labels!$B$118,\"\"),\"\")","v":""},{"$f":"IF(WEEKDAY(AA138,2)<=6,IF(KALENDER!AD7=\"x\",Labels!$B$118,\"\"),\"\")","v":""},{"$f":"IF(WEEKDAY(AB138,2)<=6,IF(KALENDER!AE7=\"x\",Labels!$B$118,\"\"),\"\")","v":""},{"$f":"IF(WEEKDAY(AC138,2)<=6,IF(KALENDER!AF7=\"x\",Labels!$B$118,\"\"),\"\")","v":""},{"$f":"IF(WEEKDAY(AD138,2)<=6,IF(KALENDER!AG7=\"x\",Labels!$B$118,\"\"),\"\")","v":""},{"$f":"IF(WEEKDAY(AE138,2)<=6,IF(KALENDER!AH7=\"x\",Labels!$B$118,\"\"),\"\")","v":""},{"$f":"IF(WEEKDAY(AF138,2)<=6,IF(KALENDER!AI7=\"x\",Labels!$B$118,\"\"),\"\")","v":""},{"$f":"SUM(B147:AF147)","v":0}]
[{"$f":"$A$19","v":"Gutschrift \"ft\""},{"$f":"IF(AND(B146=Labels!$B$118,WEEKDAY(B138,2)<6,B$140<>\"\"),($J$7*5/$AR$46)*$B$135%,\"\")","v":""},{"$f":"IF(AND(C146=Labels!$B$118,WEEKDAY(C138,2)<6,C$140<>\"\"),($J$7*5/$AR$46)*$B$135%,\"\")","v":""},{"$f":"IF(AND(D146=Labels!$B$118,WEEKDAY(D138,2)<6,D$140<>\"\"),($J$7*5/$AR$46)*$B$135%,\"\")","v":""},{"$f":"IF(AND(E146=Labels!$B$118,WEEKDAY(E138,2)<6,E$140<>\"\"),($J$7*5/$AR$46)*$B$135%,\"\")","v":""},{"$f":"IF(AND(F146=Labels!$B$118,WEEKDAY(F138,2)<6,F$140<>\"\"),($J$7*5/$AR$46)*$B$135%,\"\")","v":""},{"$f":"IF(AND(G146=Labels!$B$118,WEEKDAY(G138,2)<6,G$140<>\"\"),($J$7*5/$AR$46)*$B$135%,\"\")","v":""},{"$f":"IF(AND(H146=Labels!$B$118,WEEKDAY(H138,2)<6,H$140<>\"\"),($J$7*5/$AR$46)*$B$135%,\"\")","v":""},{"$f":"IF(AND(I146=Labels!$B$118,WEEKDAY(I138,2)<6,I$140<>\"\"),($J$7*5/$AR$46)*$B$135%,\"\")","v":""},{"$f":"IF(AND(J146=Labels!$B$118,WEEKDAY(J138,2)<6,J$140<>\"\"),($J$7*5/$AR$46)*$B$135%,\"\")","v":""},{"$f":"IF(AND(K146=Labels!$B$118,WEEKDAY(K138,2)<6,K$140<>\"\"),($J$7*5/$AR$46)*$B$135%,\"\")","v":""},{"$f":"IF(AND(L146=Labels!$B$118,WEEKDAY(L138,2)<6,L$140<>\"\"),($J$7*5/$AR$46)*$B$135%,\"\")","v":""},{"$f":"IF(AND(M146=Labels!$B$118,WEEKDAY(M138,2)<6,M$140<>\"\"),($J$7*5/$AR$46)*$B$135%,\"\")","v":""},{"$f":"IF(AND(N146=Labels!$B$118,WEEKDAY(N138,2)<6,N$140<>\"\"),($J$7*5/$AR$46)*$B$135%,\"\")","v":""},{"$f":"IF(AND(O146=Labels!$B$118,WEEKDAY(O138,2)<6,O$140<>\"\"),($J$7*5/$AR$46)*$B$135%,\"\")","v":""},{"$f":"IF(AND(P146=Labels!$B$118,WEEKDAY(P138,2)<6,P$140<>\"\"),($J$7*5/$AR$46)*$B$135%,\"\")","v":""},{"$f":"IF(AND(Q146=Labels!$B$118,WEEKDAY(Q138,2)<6,Q$140<>\"\"),($J$7*5/$AR$46)*$B$135%,\"\")","v":""},{"$f":"IF(AND(R146=Labels!$B$118,WEEKDAY(R138,2)<6,R$140<>\"\"),($J$7*5/$AR$46)*$B$135%,\"\")","v":""},{"$f":"IF(AND(S146=Labels!$B$118,WEEKDAY(S138,2)<6,S$140<>\"\"),($J$7*5/$AR$46)*$B$135%,\"\")","v":""},{"$f":"IF(AND(T146=Labels!$B$118,WEEKDAY(T138,2)<6,T$140<>\"\"),($J$7*5/$AR$46)*$B$135%,\"\")","v":""},{"$f":"IF(AND(U146=Labels!$B$118,WEEKDAY(U138,2)<6,U$140<>\"\"),($J$7*5/$AR$46)*$B$135%,\"\")","v":""},{"$f":"IF(AND(V146=Labels!$B$118,WEEKDAY(V138,2)<6,V$140<>\"\"),($J$7*5/$AR$46)*$B$135%,\"\")","v":""},{"$f":"IF(AND(W146=Labels!$B$118,WEEKDAY(W138,2)<6,W$140<>\"\"),($J$7*5/$AR$46)*$B$135%,\"\")","v":""},{"$f":"IF(AND(X146=Labels!$B$118,WEEKDAY(X138,2)<6,X$140<>\"\"),($J$7*5/$AR$46)*$B$135%,\"\")","v":""},{"$f":"IF(AND(Y146=Labels!$B$118,WEEKDAY(Y138,2)<6,Y$140<>\"\"),($J$7*5/$AR$46)*$B$135%,\"\")","v":""},{"$f":"IF(AND(Z146=Labels!$B$118,WEEKDAY(Z138,2)<6,Z$140<>\"\"),($J$7*5/$AR$46)*$B$135%,\"\")","v":""},{"$f":"IF(AND(AA146=Labels!$B$118,WEEKDAY(AA138,2)<6,AA$140<>\"\"),($J$7*5/$AR$46)*$B$135%,\"\")","v":""},{"$f":"IF(AND(AB146=Labels!$B$118,WEEKDAY(AB138,2)<6,AB$140<>\"\"),($J$7*5/$AR$46)*$B$135%,\"\")","v":""},{"$f":"IF(AND(AC146=Labels!$B$118,WEEKDAY(AC138,2)<6,AC$140<>\"\"),($J$7*5/$AR$46)*$B$135%,\"\")","v":""},{"$f":"IF(AND(AD146=Labels!$B$118,WEEKDAY(AD138,2)<6,AD$140<>\"\"),($J$7*5/$AR$46)*$B$135%,\"\")","v":""},{"$f":"IF(AND(AE146=Labels!$B$118,WEEKDAY(AE138,2)<6,AE$140<>\"\"),($J$7*5/$AR$46)*$B$135%,\"\")","v":""},{"$f":"IF(AND(AF146=Labels!$B$118,WEEKDAY(AF138,2)<6,AF$140<>\"\"),($J$7*5/$AR$46)*$B$135%,\"\")","v":""}]
[{"$f":"$A$20","v":"Tagestotal"},{"$f":"SUM(B143:B145)","v":0},{"$f":"SUM(C143:C145)","v":0},0,0,0,0,0,0,0,0,0,0,0,0,0,0,0,0,0,0,0,0,0,0,0,0,0,0,0,0,0]
[{"$f":"$A$21","v":"."}]
[{"$f":"$A$22","v":"."}]
[{"$f":"$A$23","v":"Monatsübergang"},{"$f":"IF(WEEKDAY(B138)=1,TEXT(B138-1,\"MMM\"&Labels!B13),\"\")","v":""},null,null,null,null,null,null,null,null,null,null,null,null,null,null,null,null,null,null,null,null,null,null,null,null,null,null,null,null,null,{"$f":"IF(AND(WEEKDAY(AF138)>1,WEEKDAY(AF138)<7),TEXT(DATE($B$5,MONTH(AF138)+1,1),\"MMM\"&Labels!B13),\"\")","v":"Apr"}]
[{"$f":"$A$24","v":"Wochentotal"},{"$f":"IF(WEEKDAY(B138)=7,SUMIF($B75:$AF75,B139,$B84:$AF84)+SUMIF($B139:$AF139,B139,$B148:$AF148)+SUMIF($B203:$AF203,B139,$B212:$AF212),B151)","v":""},{"$f":"IF(WEEKDAY(C138)=7,SUMIF($B75:$AF75,C139,$B84:$AF84)+SUMIF($B139:$AF139,C139,$B148:$AF148)+SUMIF($B203:$AF203,C139,$B212:$AF212),\"\")","v":""},"","",0,"","","","","","",0,"","","","","","",0,"","","","","","",0,"","","","",{"$f":"IF(WEEKDAY(AF138)=7,SUMIF($B75:$AF75,AF139,$B84:$AF84)+SUMIF($B139:$AF139,AF139,$B148:$AF148)+SUMIF($B203:$AF203,AF139,$B212:$AF212),AF151)","v":"Apr"},{"$f":"SUM(B153:AF153)","v":0}]
[{"$f":"$A$25","v":"Zeitzuschlag 1)"},{"$f":"IF(B160=\"FALSCH\",\"\",B160)","v":""},{"$f":"IF(C160=\"FALSCH\",\"\",C160)","v":""},"","","","","","","","","","","","","","","","","","","","","","","","","","","","","",0,"[1]"]
[{"$f":"$A$26","v":"Zeitzuschlag 2)"},{"$f":"IF((B143+B145)=0,\"\",SUM(B143,B145))","v":""},{"$f":"IF((C143+C145)=0,\"\",SUM(C143,C145))","v":""},"","","","","","","","","","","","","","","","","","","","","","","","","","","","","",{"$f":"SUM(B155:AF155)","v":0},"[2]"]
[{"$f":"$A$27","v":"Zeitzuschlag 3)"},{"$f":"SUM(B156:B159)","v":0},{"$f":"SUM(C156:C159)","v":0},0,0,0,0,0,0,0,0,0,0,0,0,0,0,0,0,0,0,0,0,0,0,0,0,0,0,0,0,0,0,"[3]"]
[{"$f":"$A$28","v":"Sonntag Tag"},{"$f":"IF(WEEKDAY(B138)=1,B144,\"\")","v":""},{"$f":"IF(WEEKDAY(C138)=1,C144,\"\")","v":""},"","","",0,"","","","","","",0,"","","","","","",0,"","","","","","",0,"","","","",0,"[4]"]
[{"$f":"$A$29","v":"Sonntag Nacht"},{"$f":"IF(WEEKDAY(B138)=1,SUM(B143+B145),\"\")","v":""},{"$f":"IF(WEEKDAY(C138)=1,SUM(C143+C145),\"\")","v":""},"","","",0,"","","","","","",0,"","","","","","",0,"","","","","","",0,"","","","",0,"[5]"]
[{"$f":"$A$30","v":"ft-Tazuschlag"},{"$f":"IF(B146=Labels!$B$118,B144,\"\")","v":""},{"$f":"IF(C146=Labels!$B$118,C144,\"\")","v":""},{"$f":"IF(D146=Labels!$B$118,D144,\"\")","v":""},{"$f":"IF(E146=Labels!$B$118,E144,\"\")","v":""},{"$f":"IF(F146=Labels!$B$118,F144,\"\")","v":""},{"$f":"IF(G146=Labels!$B$118,G144,\"\")","v":""},{"$f":"IF(H146=Labels!$B$118,H144,\"\")","v":""},{"$f":"IF(I146=Labels!$B$118,I144,\"\")","v":""},{"$f":"IF(J146=Labels!$B$118,J144,\"\")","v":""},{"$f":"IF(K146=Labels!$B$118,K144,\"\")","v":""},{"$f":"IF(L146=Labels!$B$118,L144,\"\")","v":""},{"$f":"IF(M146=Labels!$B$118,M144,\"\")","v":""},{"$f":"IF(N146=Labels!$B$118,N144,\"\")","v":""},{"$f":"IF(O146=Labels!$B$118,O144,\"\")","v":""},{"$f":"IF(P146=Labels!$B$118,P144,\"\")","v":""},{"$f":"IF(Q146=Labels!$B$118,Q144,\"\")","v":""},{"$f":"IF(R146=Labels!$B$118,R144,\"\")","v":""},{"$f":"IF(S146=Labels!$B$118,S144,\"\")","v":""},{"$f":"IF(T146=Labels!$B$118,T144,\"\")","v":""},{"$f":"IF(U146=Labels!$B$118,U144,\"\")","v":""},{"$f":"IF(V146=Labels!$B$118,V144,\"\")","v":""},{"$f":"IF(W146=Labels!$B$118,W144,\"\")","v":""},{"$f":"IF(X146=Labels!$B$118,X144,\"\")","v":""},{"$f":"IF(Y146=Labels!$B$118,Y144,\"\")","v":""},{"$f":"IF(Z146=Labels!$B$118,Z144,\"\")","v":""},{"$f":"IF(AA146=Labels!$B$118,AA144,\"\")","v":""},{"$f":"IF(AB146=Labels!$B$118,AB144,\"\")","v":""},{"$f":"IF(AC146=Labels!$B$118,AC144,\"\")","v":""},{"$f":"IF(AD146=Labels!$B$118,AD144,\"\")","v":""},{"$f":"IF(AE146=Labels!$B$118,AE144,\"\")","v":""},{"$f":"IF(AF146=Labels!$B$118,AF144,\"\")","v":""},0,"[6]"]
[{"$f":"$A$31","v":"ft-Nazuschlag"},{"$f":"IF(B146=Labels!$B$118,SUM(B143,B145),\"\")","v":""},{"$f":"IF(C146=Labels!$B$118,SUM(C143,C145),\"\")","v":""},{"$f":"IF(D146=Labels!$B$118,SUM(D143,D145),\"\")","v":""},{"$f":"IF(E146=Labels!$B$118,SUM(E143,E145),\"\")","v":""},{"$f":"IF(F146=Labels!$B$118,SUM(F143,F145),\"\")","v":""},{"$f":"IF(G146=Labels!$B$118,SUM(G143,G145),\"\")","v":""},{"$f":"IF(H146=Labels!$B$118,SUM(H143,H145),\"\")","v":""},{"$f":"IF(I146=Labels!$B$118,SUM(I143,I145),\"\")","v":""},{"$f":"IF(J146=Labels!$B$118,SUM(J143,J145),\"\")","v":""},{"$f":"IF(K146=Labels!$B$118,SUM(K143,K145),\"\")","v":""},{"$f":"IF(L146=Labels!$B$118,SUM(L143,L145),\"\")","v":""},{"$f":"IF(M146=Labels!$B$118,SUM(M143,M145),\"\")","v":""},{"$f":"IF(N146=Labels!$B$118,SUM(N143,N145),\"\")","v":""},{"$f":"IF(O146=Labels!$B$118,SUM(O143,O145),\"\")","v":""},{"$f":"IF(P146=Labels!$B$118,SUM(P143,P145),\"\")","v":""},{"$f":"IF(Q146=Labels!$B$118,SUM(Q143,Q145),\"\")","v":""},{"$f":"IF(R146=Labels!$B$118,SUM(R143,R145),\"\")","v":""},{"$f":"IF(S146=Labels!$B$118,SUM(S143,S145),\"\")","v":""},{"$f":"IF(T146=Labels!$B$118,SUM(T143,T145),\"\")","v":""},{"$f":"IF(U146=Labels!$B$118,SUM(U143,U145),\"\")","v":""},{"$f":"IF(V146=Labels!$B$118,SUM(V143,V145),\"\")","v":""},{"$f":"IF(W146=Labels!$B$118,SUM(W143,W145),\"\")","v":""},{"$f":"IF(X146=Labels!$B$118,SUM(X143,X145),\"\")","v":""},{"$f":"IF(Y146=Labels!$B$118,SUM(Y143,Y145),\"\")","v":""},{"$f":"IF(Z146=Labels!$B$118,SUM(Z143,Z145),\"\")","v":""},{"$f":"IF(AA146=Labels!$B$118,SUM(AA143,AA145),\"\")","v":""},{"$f":"IF(AB146=Labels!$B$118,SUM(AB143,AB145),\"\")","v":""},{"$f":"IF(AC146=Labels!$B$118,SUM(AC143,AC145),\"\")","v":""},{"$f":"IF(AD146=Labels!$B$118,SUM(AD143,AD145),\"\")","v":""},{"$f":"IF(AE146=Labels!$B$118,SUM(AE143,AE145),\"\")","v":""},{"$f":"IF(AF146=Labels!$B$118,SUM(AF143,AF145),\"\")","v":""},{"$f":"AG143","v":0},"[7]"]
[{"$f":"$A$32","v":"Zuschlag  blind (Wochentotal)"},{"$f":"IF(OR(ISTEXT(B152),B152=\"\",B152<$B$7),\"\",ROUND(((B152-$B$7)*25%)/25,4)*25)","v":""},{"$f":"IF(OR(ISTEXT(C152),C152=\"\",C152<$B$7),\"\",ROUND(((C152-$B$7)*25%)/25,4)*25)","v":""},"","","","","","","","","","","","","","","","","","","","","","","","","","","","","",{"$f":"SUM(AG142+AG144)","v":0},"[8]"]
[null,{"$f":"$B$33","v":"1)   25% Zeitzuschlag für Überschreitung Wochentotal"},null,null,null,null,null,null,null,null,null,{"$f":"$L$33","v":"2) 100% Zeitzuschlag für Nachtarbeit"},null,null,null,null,null,null,null,{"$f":"$T$33","v":"Eingabe der ausbezahlten Stunden Vorjahressaldo"},null,null,null,null,null,null,null,null,null,null,null,null,{"$f":"SUM(AG142:AG144)","v":0},"[9]"]
[null,{"$f":"$B$34","v":"3) 100% Zeitzuschlag für Sonn- und Feiertagsarbeit"},null,null,null,null,null,null,null,null,null,null,null,null,null,null,null,null,null,{"$f":"$T$34","v":"Eingabe der ausbezahlten Stunden laufendes Jahr (Überstunden)"},null,null,null,null,null,null,null,null,null,null,null,null,{"$f":"SUM(AG140+AG146)","v":0},"[10]"]
[{"$f":"$A$35","v":"Bemerkungen"},null,null,null,null,null,null,null,null,null,null,null,null,null,null,null,null,null,null,null,null,null,null,null,null,null,null,null,null,null,null,null,{"$f":"SUM(AG140:AG154)","v":0},"[11]"]
[null,null,null,null,null,null,null,null,null,null,null,null,null,null,null,null,null,null,null,null,null,null,null,null,null,null,null,null,null,null,null,null,{"$f":"AG139","v":184}]
[null,null,null,null,null,null,null,null,null,null,null,null,null,null,null,null,null,null,null,null,null,null,null,null,null,null,null,null,null,null,null,null,{"$f":"SUM(AG163-AG139)","v":-184}]
[]
[{"$f":"$A$39","v":"Zusammenstellung"},null,null,null,null,null,{"$f":"$G$39","v":"Jan"},null,{"$f":"$I$39","v":"Feb"},null,{"$f":"$K$39","v":"Mrz"},null,{"$f":"$M$39","v":"Apr"},null,{"$f":"$O$39","v":"Mai"},null,{"$f":"$Q$39","v":"Jun"},null,{"$f":"$S$39","v":"Jul"},null,{"$f":"$U$39","v":"Aug"},null,{"$f":"$W$39","v":"Sep"},null,{"$f":"$Y$39","v":"Okt"},null,{"$f":"$AA$39","v":"Nov"},null,{"$f":"$AC$39","v":"Dez"},null,{"$f":"$AE$39","v":"Jahr"}]
[{"$f":"$A$40","v":"Anstellung %"},null,null,null,null,null,{"$f":"IF($B$4=0,0,$B$4)","v":100},null,{"$f":"IF($B$71=0,0,$B$71)","v":100},null,{"$f":"IF($B$135=0,0,$B$135)","v":100},null,{"$f":"IF($B$199=0,0,$B$199)","v":100},null,{"$f":"IF($B$263=0,0,$B$263)","v":100},null,{"$f":"IF($B$327=0,0,$B$327)","v":100},null,{"$f":"IF($B$391=0,0,$B$391)","v":100},null,{"$f":"IF($B$455=0,0,$B$455)","v":100},null,{"$f":"IF($B$519=0,0,$B$519)","v":100},null,{"$f":"IF($B$583=0,0,$B$583)","v":100},null,{"$f":"IF($B$647=0,0,$B$647)","v":100},null,{"$f":"IF($B$711=0,0,$B$711)","v":100}]
[{"$f":"$A$41","v":"Sollstunden gemäss GAV"},null,null,null,null,null,{"$f":"IF($AG$37=0,0,$AG$37)","v":168},null,{"$f":"IF($AG$100=0,0,$AG$100)","v":160},null,{"$f":"IF($AG$139=0,0,$AG$139)","v":184},null,{"$f":"IF($AG$228=0,0,$AG$228)","v":168},null,{"$f":"IF($AG$292=0,0,$AG$292)","v":176},null,{"$f":"IF($AG$356=0,0,$AG$356)","v":176},null,{"$f":"IF($AG$420=0,0,$AG$420)","v":168},null,{"$f":"IF($AG$484=0,0,$AG$484)","v":184},null,{"$f":"IF($AG$548=0,0,$AG$548)","v":176},null,{"$f":"IF($AG$612=0,0,$AG$612)","v":168},null,{"$f":"IF($AG$676=0,0,$AG$676)","v":176},null,{"$f":"IF($AG$740=0,0,$AG$740)","v":176},null,{"$f":"SUM(G169:AD169)","v":2080}]
[{"$f":"$A$42","v":"Produktive Stunden"},{"$f":"$B$42","v":"06.00 - 20.00 Uhr"},null,null,null,null,{"$f":"IF($AG$32=0,0,$AG$32)","v":0},null,{"$f":"IF($AG$95=0,0,$AG$95)","v":0},null,{"$f":"IF($AG$159=0,0,$AG$159)","v":0},null,{"$f":"IF($AG$223=0,0,$AG$223)","v":0},null,{"$f":"IF($AG$287=0,0,$AG$287)","v":0},null,{"$f":"IF($AG$351=0,0,$AG$351)","v":0},null,{"$f":"IF($AG$415=0,0,$AG$415)","v":0},null,{"$f":"IF($AG$479=0,0,$AG$479)","v":0},null,{"$f":"IF($AG$543=0,0,$AG$543)","v":0},null,{"$f":"IF($AG$607=0,0,$AG$607)","v":0},null,{"$f":"IF($AG$671=0,0,$AG$671)","v":0},null,{"$f":"IF($AG$735=0,0,$AG$735)","v":0},null,{"$f":"SUM(G170:AD170)","v":0}]
[null,{"$f":"$B$43","v":"Nacht-, Sonn-, Feiertagsarbeit"},null,null,null,null,{"$f":"IF($AG$33=0,0,$AG$33)","v":0},null,{"$f":"IF($AG$96=0,0,$AG$96)","v":0},null,{"$f":"IF($AG$160=0,0,$AG$160)","v":0},null,{"$f":"IF($AG$224=0,0,$AG$224)","v":0},null,{"$f":"IF($AG$288=0,0,$AG$288)","v":0},null,{"$f":"IF($AG$352=0,0,$AG$352)","v":0},null,{"$f":"IF($AG$416=0,0,$AG$416)","v":0},null,{"$f":"IF($AG$480=0,0,$AG$480)","v":0},null,{"$f":"IF($AG$544=0,0,$AG$544)","v":0},null,{"$f":"IF($AG$608=0,0,$AG$608)","v":0},null,{"$f":"IF($AG$672=0,0,$AG$672)","v":0},null,{"$f":"IF($AG$736=0,0,$AG$736)","v":0},null,{"$f":"SUM(G171:AD171)","v":0}]
[{"$f":"$A$44","v":"Zeitzuschläge"},{"$f":"$B$44","v":"aus Wochentotal"},null,null,null,null,{"$f":"IF($AG$25=0,0,$AG$25)","v":0},null,{"$f":"IF($AG$88=0,0,$AG$88)","v":0},null,{"$f":"IF($AG$152=0,0,$AG$152)","v":0},null,{"$f":"IF($AG$216=0,0,$AG$216)","v":0},null,{"$f":"IF($AG$280=0,0,$AG$280)","v":0},null,{"$f":"IF($AG$344=0,0,$AG$344)","v":0},null,{"$f":"IF($AG$408=0,0,$AG$408)","v":0},null,{"$f":"IF($AG$472=0,0,$AG$472)","v":0},null,{"$f":"IF($AG$536=0,0,$AG$536)","v":0},null,{"$f":"IF($AG$600=0,0,$AG$600)","v":0},null,{"$f":"IF($AG$664=0,0,$AG$664)","v":0},null,{"$f":"IF($AG$728=0,0,$AG$728)","v":0},null,{"$f":"SUM(G172:AD172)","v":0}]
[null,{"$f":"$B$45","v":"aus Nacht-, Sonn-, Feiertagsarbeiten"},null,null,null,null,{"$f":"IF($AJ$21=0,0,$AJ$21)","v":0},null,{"$f":"IF($AK$21=0,0,$AK$21)","v":0},null,{"$f":"IF($AL$21=0,0,$AL$21)","v":0},null,{"$f":"IF($AM$21=0,0,$AM$21)","v":0},null,{"$f":"IF($AN$21=0,0,$AN$21)","v":0},null,{"$f":"IF($AO$21=0,0,$AO$21)","v":0},null,{"$f":"IF($AP$21=0,0,$AP$21)","v":0},null,{"$f":"IF($AQ$21=0,0,$AQ$21)","v":0},null,{"$f":"IF($AR$21=0,0,$AR$21)","v":0},null,{"$f":"IF($AS$21=0,0,$AS$21)","v":0},null,{"$f":"IF($AT$21=0,0,$AT$21)","v":0},null,{"$f":"IF($AU$21=0,0,$AU$21)","v":0},null,{"$f":"SUM(G173:AD173)","v":0}]
[{"$f":"$A$46","v":"Unproduktive Stunden"}]
[{"$f":"$A$47","v":"   Absenzen, Kurzabsenzen Art. 11 GAV"},null,null,null,null,{"$f":"$F$47","v":"a"},{"$f":"IF($AJ$3=0,0,$AJ$3)","v":0},null,{"$f":"IF($AK$3=0,0,$AK$3)","v":0},null,{"$f":"IF($AL$3=0,0,$AL$3)","v":0},null,{"$f":"IF($AM$3=0,0,$AM$3)","v":0},null,{"$f":"IF($AN$3=0,0,$AN$3)","v":0},null,{"$f":"IF($AO$3=0,0,$AO$3)","v":0},null,{"$f":"IF($AP$3=0,0,$AP$3)","v":0},null,{"$f":"IF($AQ$3=0,0,$AQ$3)","v":0},null,{"$f":"IF($AR$3=0,0,$AR$3)","v":0},null,{"$f":"IF($AS$3=0,0,$AS$3)","v":0},null,{"$f":"IF(AT$3=0,0,$AT$3)","v":0},null,{"$f":"IF($AU$3=0,0,$AU$3)","v":0},null,{"$f":"IF($AV$3=0,0,$AV$3)","v":0}]
[{"$f":"$A$48","v":"   Ferien Art. 12.1 GAV"},null,null,null,null,{"$f":"$F$48","v":"f"},{"$f":"IF($AJ$4=0,0,$AJ$4)","v":0},null,{"$f":"IF($AK$4=0,0,$AK$4)","v":0},null,{"$f":"IF($AL$4=0,0,$AL$4)","v":0},null,{"$f":"IF($AM$4=0,0,$AM$4)","v":0},null,{"$f":"IF($AN$4=0,0,$AN$4)","v":0},null,{"$f":"IF($AO$4=0,0,$AO$4)","v":0},null,{"$f":"IF($AP$4=0,0,$AP$4)","v":0},null,{"$f":"IF($AQ$4=0,0,$AQ$4)","v":0},null,{"$f":"IF($AR$4=0,0,$AR$4)","v":0},null,{"$f":"IF($AS$4=0,0,$AS$4)","v":0},null,{"$f":"IF($AT$4=0,0,$AT$4)","v":0},null,{"$f":"IF($AU$4=0,0,$AU$4)","v":0},null,{"$f":"IF($AV$4=0,0,$AV$4)","v":0}]
[{"$f":"Labels!$B$181","v":"   Ferien unbezahlt"},null,null,null,null,{"$f":"Labels!$B$182","v":"fu"},{"$f":"IF($AJ$13=0,0,$AJ$13)","v":0},null,{"$f":"IF($AK$13=0,0,$AK$13)","v":0},null,{"$f":"IF($AL$13=0,0,$AL$13)","v":0},null,{"$f":"IF($AM$13=0,0,$AM$13)","v":0},null,{"$f":"IF($AN$13=0,0,$AN$13)","v":0},null,{"$f":"IF($AO$13=0,0,$AO$13)","v":0},null,{"$f":"IF($AP$13=0,0,$AP$13)","v":0},null,{"$f":"IF($AQ$13=0,0,$AQ$13)","v":0},null,{"$f":"IF($AR$13=0,0,$AR$13)","v":0},null,{"$f":"IF($AS$13=0,0,$AS$13)","v":0},null,{"$f":"IF($AT$13=0,0,$AT$13)","v":0},null,{"$f":"IF($AU$13=0,0,$AU$13)","v":0},null,{"$f":"IF($AV$13=0,0,$AV$13)","v":0}]
[{"$f":"$A$50","v":"   Feiertage Art. 12.2 GAV"},null,{"$f":"IF($AJ$18=\"\",\"\",$AJ$18)","v":""},null,null,{"$f":"$F$50","v":"ft"},{"$f":"IF($AJ$16=0,0,$AJ$16)","v":0},null,{"$f":"IF($AK$16=0,0,$AK$16)","v":0},null,{"$f":"IF($AL$16=0,0,$AL$16)","v":0},null,{"$f":"IF($AM$16=0,0,$AM$16)","v":0},null,{"$f":"IF($AN$16=0,0,$AN$16)","v":0},null,{"$f":"IF($AO$16=0,0,$AO$16)","v":0},null,{"$f":"IF($AP$16=0,0,$AP$16)","v":0},null,{"$f":"IF($AQ$16=0,0,$AQ$16)","v":0},null,{"$f":"IF($AR$16=0,0,$AR$16)","v":0},null,{"$f":"IF($AS$16=0,0,$AS$16)","v":0},null,{"$f":"IF($AT$16=0,0,$AT$16)","v":0},null,{"$f":"IF($AU$16=0,0,$AU$16)","v":0},null,{"$f":"IF($AV$16=0,0,$AV$16)","v":0}]
[{"$f":"$A$51","v":"   Krankheit Art. 13 GAV"},null,null,null,null,{"$f":"$F$51","v":"k"},{"$f":"IF($AJ$5=0,0,$AJ$5)","v":0},null,{"$f":"IF($AK$5=0,0,$AK$5)","v":0},null,{"$f":"IF($AL$5=0,0,$AL$5)","v":0},null,{"$f":"IF($AM$5=0,0,$AM$5)","v":0},null,{"$f":"IF($AN$5=0,0,$AN$5)","v":0},null,{"$f":"IF($AO$5=0,0,$AO$5)","v":0},null,{"$f":"IF($AP$5=0,0,$AP$5)","v":0},null,{"$f":"IF($AQ$5=0,0,$AQ$5)","v":0},null,{"$f":"IF($AR$5=0,0,$AR$5)","v":0},null,{"$f":"IF($AS$5=0,0,$AS$5)","v":0},null,{"$f":"IF($AT$5=0,0,$AT$5)","v":0},null,{"$f":"IF($AU$5=0,0,$AU$5)","v":0},null,{"$f":"IF($AV$5=0,0,$AV$5)","v":0}]
[{"$f":"$A$52","v":"   Unfall Art. 14 GAV"},null,null,null,null,{"$f":"$F$52","v":"u"},{"$f":"IF($AJ$6=0,0,$AJ$6)","v":0},null,{"$f":"IF($AK$6=0,0,$AK$6)","v":0},null,{"$f":"IF($AL$6=0,0,$AL$6)","v":0},null,{"$f":"IF($AM$6=0,0,$AM$6)","v":0},null,{"$f":"IF($AN$6=0,0,$AN$6)","v":0},null,{"$f":"IF($AO$6=0,0,$AO$6)","v":0},null,{"$f":"IF($AP$6=0,0,$AP$6)","v":0},null,{"$f":"IF($AQ$6=0,0,$AQ$6)","v":0},null,{"$f":"IF($AR$6=0,0,$AR$6)","v":0},null,{"$f":"IF($AS$6=0,0,$AS$6)","v":0},null,{"$f":"IF($AT$6=0,0,$AT$6)","v":0},null,{"$f":"IF($AU$6=0,0,$AU$6)","v":0},null,{"$f":"IF($AV$6=0,0,$AV$6)","v":0}]
[{"$f":"$A$53","v":"   Schwangerschaft/Mutterschaft Art. 15 GAV"},null,null,null,null,{"$f":"$F$53","v":"s"},{"$f":"IF($AJ$7=0,0,$AJ$7)","v":0},null,{"$f":"IF($AK$7=0,0,$AK$7)","v":0},null,{"$f":"IF($AL$7=0,0,$AL$7)","v":0},null,{"$f":"IF($AM$7=0,0,$AM$7)","v":0},null,{"$f":"IF($AN$7=0,0,$AN$7)","v":0},null,{"$f":"IF($AO$7=0,0,$AO$7)","v":0},null,{"$f":"IF($AP$7=0,0,$AP$7)","v":0},null,{"$f":"IF($AQ$7=0,0,$AQ$7)","v":0},null,{"$f":"IF($AR$7=0,0,$AR$7)","v":0},null,{"$f":"IF($AS$7=0,0,$AS$7)","v":0},null,{"$f":"IF($AT$7=0,0,$AT$7)","v":0},null,{"$f":"IF($AU$7=0,0,$AU$7)","v":0},null,{"$f":"IF($AV$7=0,0,$AV$7)","v":0}]
[{"$f":"$A$54","v":"   Militär/Beförderung/Zivilschutz Art. 16 GAV"},null,null,null,null,{"$f":"$F$54","v":"m"},{"$f":"IF($AJ$8=0,0,$AJ$8)","v":0},null,{"$f":"IF($AK$8=0,0,$AK$8)","v":0},null,{"$f":"IF($AL$8=0,0,$AL$8)","v":0},null,{"$f":"IF($AM$8=0,0,$AM$8)","v":0},null,{"$f":"IF($AN$8=0,0,$AN$8)","v":0},null,{"$f":"IF($AO$8=0,0,$AO$8)","v":0},null,{"$f":"IF($AP$8=0,0,$AP$8)","v":0},null,{"$f":"IF($AQ$8=0,0,$AQ$8)","v":0},null,{"$f":"IF($AR$8=0,0,$AR$8)","v":0},null,{"$f":"IF($AS$8=0,0,$AS$8)","v":0},null,{"$f":"IF($AT$8=0,0,$AT$8)","v":0},null,{"$f":"IF($AU$8=0,0,$AU$8)","v":0},null,{"$f":"IF($AV$8=0,0,$AV$8)","v":0}]
[{"$f":"$A$55","v":"   Kurzarbeit und Schlechtwetterausfälle"},null,null,null,null,{"$f":"$F$55","v":"ka"},{"$f":"IF($AJ$11=0,0,$AJ$11)","v":0},null,{"$f":"IF($AK$11=0,0,$AK$11)","v":0},null,{"$f":"IF($AL$11=0,0,$AL$11)","v":0},null,{"$f":"IF($AM$11=0,0,$AM$11)","v":0},null,{"$f":"IF($AN$11=0,0,$AN$11)","v":0},null,{"$f":"IF($AO$11=0,0,$AO$11)","v":0},null,{"$f":"IF($AP$11=0,0,$AP$11)","v":0},null,{"$f":"IF($AQ$11=0,0,$AQ$11)","v":0},null,{"$f":"IF($AR$11=0,0,$AR$11)","v":0},null,{"$f":"IF($AS$11=0,0,$AS$11)","v":0},null,{"$f":"IF($AT$11=0,0,$AT$11)","v":0},null,{"$f":"IF($AU$11=0,0,$AU$11)","v":0},null,{"$f":"IF($AV$11=0,0,$AV$11)","v":0}]
[{"$f":"$A$56","v":"   Berufsschule"},null,null,null,null,{"$f":"$F$56","v":"bs"},{"$f":"IF($AJ$9=0,0,$AJ$9)","v":0},null,{"$f":"IF($AK$9=0,0,$AK$9)","v":0},null,{"$f":"IF($AL$9=0,0,$AL$9)","v":0},null,{"$f":"IF($AM$9=0,0,$AM$9)","v":0},null,{"$f":"IF($AN$9=0,0,$AN$9)","v":0},null,{"$f":"IF($AO$9=0,0,$AO$9)","v":0},null,{"$f":"IF($AP$9=0,0,$AP$9)","v":0},null,{"$f":"IF($AQ$9=0,0,$AQ$9)","v":0},null,{"$f":"IF($AR$9=0,0,$AR$9)","v":0},null,{"$f":"IF($AS$9=0,0,$AS$9)","v":0},null,{"$f":"IF($AT$9=0,0,$AT$9)","v":0},null,{"$f":"IF($AU$9=0,0,$AU$9)","v":0},null,{"$f":"IF($AV$9=0,0,$AV$9)","v":0}]
[{"$f":"$A$57","v":"   Kurse"},null,null,null,null,{"$f":"$F$57","v":"ku"},{"$f":"IF($AJ$10=0,0,$AJ$10)","v":0},null,{"$f":"IF($AK$10=0,0,$AK$10)","v":0},null,{"$f":"IF($AL$10=0,0,$AL$10)","v":0},null,{"$f":"IF($AM$10=0,0,$AM$10)","v":0},null,{"$f":"IF($AN$10=0,0,$AN$10)","v":0},null,{"$f":"IF($AO$10=0,0,$AO$10)","v":0},null,{"$f":"IF($AP$10=0,0,$AP$10)","v":0},null,{"$f":"IF($AQ$10=0,0,$AQ$10)","v":0},null,{"$f":"IF($AR$10=0,0,$AR$10)","v":0},null,{"$f":"IF($AS$10=0,0,$AS$10)","v":0},null,{"$f":"IF($AT$10=0,0,$AT$10)","v":0},null,{"$f":"IF($AU$10=0,0,$AU$10)","v":0},null,{"$f":"IF($AV$10=0,0,$AV$10)","v":0}]
[{"$f":"$A$58","v":"Kompensations-Std"},{"$f":"$B$58","v":"aus Vorjahr"},null,null,null,{"$f":"$F$58","v":"kv"},{"$f":"IF($AJ$12=0,0,$AJ$12)","v":0},null,{"$f":"IF($AK$12=0,0,$AK$12)","v":0},null,{"$f":"IF($AL$12=0,0,$AL$12)","v":0},null,{"$f":"IF($AM$12=0,0,$AM$12)","v":0},null,{"$f":"IF($AN$12=0,0,$AN$12)","v":0},null,{"$f":"IF($AO$12=0,0,$AO$12)","v":0},null,{"$f":"IF($AP$12=0,0,$AP$12)","v":0},null,{"$f":"IF($AQ$12=0,0,$AQ$12)","v":0},null,{"$f":"IF($AR$12=0,0,$AR$12)","v":0},null,null,null,null,null,null,null,{"$f":"IF($AV$12=0,0,$AV$12)","v":0}]
[null,{"$f":"$B$59","v":"aus laufendem Jahr (Kontrolle)"},null,null,null,{"$f":"$F$59","v":"kj"},{"$f":"IF($AJ$15=0,0,$AJ$15)","v":0},null,{"$f":"IF($AK$15=0,0,$AK$15)","v":0},null,{"$f":"IF($AL$15=0,0,$AL$15)","v":0},null,{"$f":"IF($AM$15=0,0,$AM$15)","v":0},null,{"$f":"IF($AN$15=0,0,$AN$15)","v":0},null,{"$f":"IF($AO$15=0,0,$AO$15)","v":0},null,{"$f":"IF($AP$15=0,0,$AP$15)","v":0},null,{"$f":"IF($AQ$15=0,0,$AQ$15)","v":0},null,{"$f":"IF($AR$15=0,0,$AR$15)","v":0},null,{"$f":"IF($AS$15=0,0,$AS$15)","v":0},null,{"$f":"IF($AT$15=0,0,$AT$15)","v":0},null,{"$f":"IF($AU$15=0,0,$AU$15)","v":0},null,{"$f":"IF($AV$15=0,0,$AV$15)","v":0}]
[{"$f":"$A$60","v":"Auszahlung"},{"$f":"$B$60","v":"Stunden Vorjahressaldo"},null,null,null,null,{"$f":"IF($AJ$19=0,0,$AJ$19)","v":0},null,{"$f":"IF($AK$19=0,0,$AK$19)","v":0},null,{"$f":"IF($AL$19=0,0,$AL$19)","v":0},null,{"$f":"IF($AM$19=0,0,$AM$19)","v":0},null,{"$f":"IF($AN$19=0,0,$AN$19)","v":0},null,{"$f":"IF($AO$19=0,0,$AO$19)","v":0},null,{"$f":"IF($AP$19=0,0,$AP$19)","v":0},null,{"$f":"IF($AQ$19=0,0,$AQ$19)","v":0},null,{"$f":"IF($AR$19=0,0,$AR$19)","v":0},null,null,null,null,null,null,null,{"$f":"IF($AV$19=0,0,$AV$19)","v":0}]
[{"$f":"$A$61","v":"Differenz"},{"$f":"$B$61","v":"nach Kompensation und Auszahlung"},null,null,null,null,{"$f":"IF(ROUND($P$4,3)=0,0,$P$4-SUM(G186+G188))","v":0},null,{"$f":"IF(ROUND(G189,3)=0,0,G189-(SUM(I188+I186)))","v":0},null,{"$f":"IF(ROUND(I189,3)=0,0,I189-(SUM(K188+K186)))","v":0},null,{"$f":"IF(ROUND(K189,3)=0,0,K189-(SUM(M188+M186)))","v":0},null,{"$f":"IF(ROUND(M189,3)=0,0,M189-(SUM(O188+O186)))","v":0},null,{"$f":"IF(ROUND(O189,3)=0,0,O189-(SUM(Q188+Q186)))","v":0},null,{"$f":"IF(ROUND(Q189,3)=0,0,Q189-(SUM(S188+S186)))","v":0},null,{"$f":"IF(ROUND(S189,3)=0,0,S189-(SUM(U188+U186)))","v":0},null,{"$f":"IF(ROUND(U189,3)=0,0,U189-(SUM(W188+W186)))","v":0},null,{"$f":"$Y$61","v":""}]
[{"$f":"$A$62","v":"Auszahlung"},{"$f":"$B$62","v":"Stunden laufendes Jahr"},null,null,null,null,{"$f":"IF($AJ$20=0,0,$AJ$20)","v":0},null,{"$f":"IF($AK$20=0,0,$AK$20)","v":0},null,{"$f":"IF($AL$20=0,0,$AL$20)","v":0},null,{"$f":"IF($AM$20=0,0,$AM$20)","v":0},null,{"$f":"IF($AN$20=0,0,$AN$20)","v":0},null,{"$f":"IF($AO$20=0,0,$AO$20)","v":0},null,{"$f":"IF($AP$20=0,0,$AP$20)","v":0},null,{"$f":"IF($AQ$20=0,0,$AQ$20)","v":0},null,{"$f":"IF($AR$20=0,0,$AR$20)","v":0},null,{"$f":"IF($AS$20=0,0,$AS$20)","v":0},null,{"$f":"IF($AT$20=0,0,$AT$20)","v":0},null,{"$f":"IF($AU$20=0,0,$AU$20)","v":0},null,{"$f":"IF($AV$20=0,0,$AV$20)","v":0}]
[{"$f":"$A$63","v":"Fehlstunden"},{"$f":"$B$63","v":"laufendes Jahr (Kontrolle)"},null,null,null,{"$f":"$F$63","v":"fe"},{"$f":"IF($AJ$14=0,0,$AJ$14)","v":0},null,{"$f":"IF($AK$14=0,0,$AK$14)","v":0},null,{"$f":"IF($AL$14=0,0,$AL$14)","v":0},null,{"$f":"IF($AM$14=0,0,$AM$14)","v":0},null,{"$f":"IF($AN$14=0,0,$AN$14)","v":0},null,{"$f":"IF($AO$14=0,0,$AO$14)","v":0},null,{"$f":"IF($AP$14=0,0,$AP$14)","v":0},null,{"$f":"IF($AQ$14=0,0,$AQ$14)","v":0},null,{"$f":"IF($AR$14=0,0,$AR$14)","v":0},null,{"$f":"IF($AS$14=0,0,$AS$14)","v":0},null,{"$f":"IF($AT$14=0,0,$AT$14)","v":0},null,{"$f":"IF($AU$14=0,0,$AU$14)","v":0},null,{"$f":"IF($AV$14=0,0,$AV$14)","v":0}]
[{"$f":"$A$64","v":"Total inkl. Zeitzuschläge"},{"$f":"$B$64","v":"Stunden produktiv und unproduktiv"},null,null,null,null,{"$f":"IF($AG$36=0,0,$AG$36)","v":0},null,{"$f":"IF($AG$99=0,0,$AG$99)","v":0},null,{"$f":"IF($AG$163=0,0,$AG$163)","v":0},null,{"$f":"IF($AG$227=0,0,$AG$227)","v":0},null,{"$f":"IF($AG$291=0,0,$AG$291)","v":0},null,{"$f":"IF($AG$355=0,0,$AG$355)","v":0},null,{"$f":"IF($AG$419=0,0,$AG$419)","v":0},null,{"$f":"IF($AG$483=0,0,$AG$483)","v":0},null,{"$f":"IF($AG$547=0,0,$AG$547)","v":0},null,{"$f":"IF($AG$611=0,0,$AG$611)","v":0},null,{"$f":"IF($AG$675=0,0,$AG$675)","v":0},null,{"$f":"IF($AG$739=0,0,$AG$739)","v":0},null,{"$f":"SUM($G$64:$AD$64)","v":0}]
[{"$f":"$A$65","v":"Vergleich"},{"$f":"$B$65","v":"Stunden zu Soll-Stunden (inkl. allfälli-\nge Minusstunden Vorjahr)"},null,null,null,null,{"$f":"IF($AG$38=0,0,$AG$38)-$AE$34+$P$5","v":-168},null,{"$f":"IF($AG$101=0,0,$AG$101)-$AE$98","v":-160},null,{"$f":"IF($AG$165=0,0,$AG$165)-$AE$162","v":-184},null,{"$f":"IF($AG$229=0,0,$AG$229)-$AE$226","v":-168},null,{"$f":"IF($AG$293=0,0,$AG$293)-$AE$290","v":-176},null,{"$f":"IF($AG$357=0,0,$AG$357)-$AE$354","v":-176},null,{"$f":"IF($AG$421=0,0,$AG$421)-$AE$418","v":-168},null,{"$f":"IF($AG$485=0,0,$AG$485)-$AE$482","v":-184},null,{"$f":"IF($AG$549=0,0,$AG$549)-$AE$546","v":-176},null,{"$f":"IF($AG$613=0,0,$AG$613)-$AE$610","v":-168},null,{"$f":"IF($AG$677=0,0,$AG$677)-$AE$674","v":-176},null,{"$f":"IF($AG$741=0,0,$AG$741)-$AE$738","v":-176},null,{"$f":"SUM($G$65:$AD$65)","v":-2080}]
[null,{"$f":"$B$66","v":"Stunden zu Soll-Stunden (kumuliert)"},null,null,null,null,{"$f":"$G$66","v":-168},null,{"$f":"$I$66","v":-328},null,{"$f":"$K$66","v":-512},null,{"$f":"$M$66","v":-680},null,{"$f":"$O$66","v":-856},null,{"$f":"$Q$66","v":-1032},null,{"$f":"$S$66","v":-1200},null,{"$f":"$U$66","v":-1384},null,{"$f":"$W$66","v":-1560},null,{"$f":"$Y$66","v":-1728},null,{"$f":"$AA$66","v":-1904},null,{"$f":"$AC$66","v":-2080}]
[{"$f":"$A$67","v":"Ferienkontrolle"},{"$f":"$B$67","v":"Ferienguthaben Vorjahr"},null,null,null,null,{"$f":"IF($AA$4=0,0,$AA$4)","v":0},null,{"$f":"$I$67","v":"Ferienguthaben nach \nArt. 12.1 GAV"},null,null,null,{"$f":"IF($AA$5=0,0,$AA$5)","v":0},null,{"$f":"$O$67","v":"Ferienguthaben total"},null,null,null,{"$f":"SUM(G195+M195)","v":0},null,{"$f":"$U$67","v":"Ferien bezogen"},null,null,null,{"$f":"IF($AV$4=0,0,$AV$4)","v":0},null,{"$f":"$AA$67","v":"Aktuelles Ferienguthaben"},null,null,null,{"$f":"IF(S195=0,0,S195-Y195)","v":0}]
[]
[]
[{"$f":"$A$3","v":"Mitarbeiter/In"},{"$f":"IF($B$3=\"\",\"\",$B$3)","v":"Muster Peter"},null,null,null,null,null,null,null,null,null,null,null,null,null,null,null,null,null,null,null,null,null,null,null,null,null,null,null,null,null,{"$f":"AF3","v":0}]
[{"$f":"$A$4","v":"Anstellung %"},{"$f":"$AL$47","v":100},null,{"$f":"Labels!B92","v":"im April"}]
[{"$f":"$A$5","v":"Saldo für das Jahr"},null,null,{"$f":"IF($AE$65=0,0,$AE$65)","v":-2080}]
[{"$f":"TEXT(DATE(YEAR(AP29),MONTH(AP29)+3,1),\"MMMM\"&Labels!B13)","v":"April"},{"$f":"$B$9","v":"Saldo Monat + / -"},null,null,null,{"$f":"(AG203-(SUM(AG204:AG218)-AE226))*-1","v":-168},null,null,null,null,{"$f":"$K$9","v":" = "},{"$f":"$L$9","v":"Gelbe Felder müssen ausgefüllt werden (die übrigen werden automatisch berechnet)"},null,null,null,null,null,null,null,null,null,null,null,null,null,null,null,null,null,null,null,null,{"$f":"COUNT(B204:AF204)&\" \"&Labels!$B$63","v":"21 Tage"}]
[{"$f":"$A$10","v":"Tag"},{"$f":"AF138+1","v":"2022-04-01"},{"$f":"B202+1","v":"2022-04-02"},{"$f":"C202+1","v":"2022-04-03"},"2022-04-04","2022-04-05","2022-04-06","2022-04-07","2022-04-08","2022-04-09","2022-04-10","2022-04-11","2022-04-12","2022-04-13","2022-04-14","2022-04-15","2022-04-16","2022-04-17","2022-04-18","2022-04-19","2022-04-20","2022-04-21","2022-04-22","2022-04-23","2022-04-24","2022-04-25","2022-04-26","2022-04-27","2022-04-28","2022-04-29","2022-04-30"]
[{"$f":"$A$11","v":"Kalenderwoche"},{"$f":"IF(B202=\"\",\"\",TRUNC((B202-DATE(YEAR(B202+3-MOD(B202-2,7)),1,MOD(B202-2,7)-9))/7))","v":13},13,13,14,14,14,14,14,14,14,15,15,15,15,15,15,15,16,16,16,16,16,16,16,17,17,17,17,17,17,"",{"$f":"SUM(B204:AF204)","v":168}]
[{"$f":"$A$12","v":"Sollstunden"},{"$f":"IF(AND(MOD(B202,7)>=2,SUMPRODUCT(($AM$56:$AQ$56=MOD(B202,7))*$AM$47:$AQ$47)),($J$7*5/$AR$47)*$B$199%,\"\")","v":8},{"$f":"IF(AND(MOD(C202,7)>=2,SUMPRODUCT(($AM$56:$AQ$56=MOD(C202,7))*$AM$47:$AQ$47)),($J$7*5/$AR$47)*$B$199%,\"\")","v":""},{"$f":"IF(AND(MOD(D202,7)>=2,SUMPRODUCT(($AM$56:$AQ$56=MOD(D202,7))*$AM$47:$AQ$47)),($J$7*5/$AR$47)*$B$199%,\"\")","v":""},{"$f":"IF(AND(MOD(E202,7)>=2,SUMPRODUCT(($AM$56:$AQ$56=MOD(E202,7))*$AM$47:$AQ$47)),($J$7*5/$AR$47)*$B$199%,\"\")","v":8},{"$f":"IF(AND(MOD(F202,7)>=2,SUMPRODUCT(($AM$56:$AQ$56=MOD(F202,7))*$AM$47:$AQ$47)),($J$7*5/$AR$47)*$B$199%,\"\")","v":8},{"$f":"IF(AND(MOD(G202,7)>=2,SUMPRODUCT(($AM$56:$AQ$56=MOD(G202,7))*$AM$47:$AQ$47)),($J$7*5/$AR$47)*$B$199%,\"\")","v":8},{"$f":"IF(AND(MOD(H202,7)>=2,SUMPRODUCT(($AM$56:$AQ$56=MOD(H202,7))*$AM$47:$AQ$47)),($J$7*5/$AR$47)*$B$199%,\"\")","v":8},{"$f":"IF(AND(MOD(I202,7)>=2,SUMPRODUCT(($AM$56:$AQ$56=MOD(I202,7))*$AM$47:$AQ$47)),($J$7*5/$AR$47)*$B$199%,\"\")","v":8},{"$f":"IF(AND(MOD(J202,7)>=2,SUMPRODUCT(($AM$56:$AQ$56=MOD(J202,7))*$AM$47:$AQ$47)),($J$7*5/$AR$47)*$B$199%,\"\")","v":""},{"$f":"IF(AND(MOD(K202,7)>=2,SUMPRODUCT(($AM$56:$AQ$56=MOD(K202,7))*$AM$47:$AQ$47)),($J$7*5/$AR$47)*$B$199%,\"\")","v":""},{"$f":"IF(AND(MOD(L202,7)>=2,SUMPRODUCT(($AM$56:$AQ$56=MOD(L202,7))*$AM$47:$AQ$47)),($J$7*5/$AR$47)*$B$199%,\"\")","v":8},{"$f":"IF(AND(MOD(M202,7)>=2,SUMPRODUCT(($AM$56:$AQ$56=MOD(M202,7))*$AM$47:$AQ$47)),($J$7*5/$AR$47)*$B$199%,\"\")","v":8},{"$f":"IF(AND(MOD(N202,7)>=2,SUMPRODUCT(($AM$56:$AQ$56=MOD(N202,7))*$AM$47:$AQ$47)),($J$7*5/$AR$47)*$B$199%,\"\")","v":8},{"$f":"IF(AND(MOD(O202,7)>=2,SUMPRODUCT(($AM$56:$AQ$56=MOD(O202,7))*$AM$47:$AQ$47)),($J$7*5/$AR$47)*$B$199%,\"\")","v":8},{"$f":"IF(AND(MOD(P202,7)>=2,SUMPRODUCT(($AM$56:$AQ$56=MOD(P202,7))*$AM$47:$AQ$47)),($J$7*5/$AR$47)*$B$199%,\"\")","v":8},{"$f":"IF(AND(MOD(Q202,7)>=2,SUMPRODUCT(($AM$56:$AQ$56=MOD(Q202,7))*$AM$47:$AQ$47)),($J$7*5/$AR$47)*$B$199%,\"\")","v":""},{"$f":"IF(AND(MOD(R202,7)>=2,SUMPRODUCT(($AM$56:$AQ$56=MOD(R202,7))*$AM$47:$AQ$47)),($J$7*5/$AR$47)*$B$199%,\"\")","v":""},{"$f":"IF(AND(MOD(S202,7)>=2,SUMPRODUCT(($AM$56:$AQ$56=MOD(S202,7))*$AM$47:$AQ$47)),($J$7*5/$AR$47)*$B$199%,\"\")","v":8},{"$f":"IF(AND(MOD(T202,7)>=2,SUMPRODUCT(($AM$56:$AQ$56=MOD(T202,7))*$AM$47:$AQ$47)),($J$7*5/$AR$47)*$B$199%,\"\")","v":8},{"$f":"IF(AND(MOD(U202,7)>=2,SUMPRODUCT(($AM$56:$AQ$56=MOD(U202,7))*$AM$47:$AQ$47)),($J$7*5/$AR$47)*$B$199%,\"\")","v":8},{"$f":"IF(AND(MOD(V202,7)>=2,SUMPRODUCT(($AM$56:$AQ$56=MOD(V202,7))*$AM$47:$AQ$47)),($J$7*5/$AR$47)*$B$199%,\"\")","v":8},{"$f":"IF(AND(MOD(W202,7)>=2,SUMPRODUCT(($AM$56:$AQ$56=MOD(W202,7))*$AM$47:$AQ$47)),($J$7*5/$AR$47)*$B$199%,\"\")","v":8},{"$f":"IF(AND(MOD(X202,7)>=2,SUMPRODUCT(($AM$56:$AQ$56=MOD(X202,7))*$AM$47:$AQ$47)),($J$7*5/$AR$47)*$B$199%,\"\")","v":""},{"$f":"IF(AND(MOD(Y202,7)>=2,SUMPRODUCT(($AM$56:$AQ$56=MOD(Y202,7))*$AM$47:$AQ$47)),($J$7*5/$AR$47)*$B$199%,\"\")","v":""},{"$f":"IF(AND(MOD(Z202,7)>=2,SUMPRODUCT(($AM$56:$AQ$56=MOD(Z202,7))*$AM$47:$AQ$47)),($J$7*5/$AR$47)*$B$199%,\"\")","v":8},{"$f":"IF(AND(MOD(AA202,7)>=2,SUMPRODUCT(($AM$56:$AQ$56=MOD(AA202,7))*$AM$47:$AQ$47)),($J$7*5/$AR$47)*$B$199%,\"\")","v":8},{"$f":"IF(AND(MOD(AB202,7)>=2,SUMPRODUCT(($AM$56:$AQ$56=MOD(AB202,7))*$AM$47:$AQ$47)),($J$7*5/$AR$47)*$B$199%,\"\")","v":8},{"$f":"IF(AND(MOD(AC202,7)>=2,SUMPRODUCT(($AM$56:$AQ$56=MOD(AC202,7))*$AM$47:$AQ$47)),($J$7*5/$AR$47)*$B$199%,\"\")","v":8},{"$f":"IF(AND(MOD(AD202,7)>=2,SUMPRODUCT(($AM$56:$AQ$56=MOD(AD202,7))*$AM$47:$AQ$47)),($J$7*5/$AR$47)*$B$199%,\"\")","v":8},{"$f":"IF(AND(MOD(AE202,7)>=2,SUMPRODUCT(($AM$56:$AQ$56=MOD(AE202,7))*$AM$47:$AQ$47)),($J$7*5/$AR$47)*$B$199%,\"\")","v":""},null,{"$f":"SUM(AM3:AM13)","v":0}]
[{"$f":"$A$13","v":"Absenz in Std"},{"$f":"B900","v":0},{"$f":"C900","v":0},0,0,0,0,0,0,0,0,0,0,0,0,0,0,0,0,0,0,0,0,0,0,0,0,0,0,0,0]
[{"$f":"$A$14","v":"Code"},{"$f":"IF(B900<>0,IF(MAX(B887:B899)<B900,Labels!$B$163,INDEX($AH$886:$AH$898,MATCH(MAX(B887:B899),B887:B899,0))),\"\")","v":""},{"$f":"IF(C900<>0,IF(MAX(C887:C899)<C900,Labels!$B$163,INDEX($AH$886:$AH$898,MATCH(MAX(C887:C899),C887:C899,0))),\"\")","v":""},{"$f":"IF(D900<>0,IF(MAX(D887:D899)<D900,Labels!$B$163,INDEX($AH$886:$AH$898,MATCH(MAX(D887:D899),D887:D899,0))),\"\")","v":""},{"$f":"IF(E900<>0,IF(MAX(E887:E899)<E900,Labels!$B$163,INDEX($AH$886:$AH$898,MATCH(MAX(E887:E899),E887:E899,0))),\"\")","v":""},{"$f":"IF(F900<>0,IF(MAX(F887:F899)<F900,Labels!$B$163,INDEX($AH$886:$AH$898,MATCH(MAX(F887:F899),F887:F899,0))),\"\")","v":""},{"$f":"IF(G900<>0,IF(MAX(G887:G899)<G900,Labels!$B$163,INDEX($AH$886:$AH$898,MATCH(MAX(G887:G899),G887:G899,0))),\"\")","v":""},{"$f":"IF(H900<>0,IF(MAX(H887:H899)<H900,Labels!$B$163,INDEX($AH$886:$AH$898,MATCH(MAX(H887:H899),H887:H899,0))),\"\")","v":""},{"$f":"IF(I900<>0,IF(MAX(I887:I899)<I900,Labels!$B$163,INDEX($AH$886:$AH$898,MATCH(MAX(I887:I899),I887:I899,0))),\"\")","v":""},{"$f":"IF(J900<>0,IF(MAX(J887:J899)<J900,Labels!$B$163,INDEX($AH$886:$AH$898,MATCH(MAX(J887:J899),J887:J899,0))),\"\")","v":""},{"$f":"IF(K900<>0,IF(MAX(K887:K899)<K900,Labels!$B$163,INDEX($AH$886:$AH$898,MATCH(MAX(K887:K899),K887:K899,0))),\"\")","v":""},{"$f":"IF(L900<>0,IF(MAX(L887:L899)<L900,Labels!$B$163,INDEX($AH$886:$AH$898,MATCH(MAX(L887:L899),L887:L899,0))),\"\")","v":""},{"$f":"IF(M900<>0,IF(MAX(M887:M899)<M900,Labels!$B$163,INDEX($AH$886:$AH$898,MATCH(MAX(M887:M899),M887:M899,0))),\"\")","v":""},{"$f":"IF(N900<>0,IF(MAX(N887:N899)<N900,Labels!$B$163,INDEX($AH$886:$AH$898,MATCH(MAX(N887:N899),N887:N899,0))),\"\")","v":""},{"$f":"IF(O900<>0,IF(MAX(O887:O899)<O900,Labels!$B$163,INDEX($AH$886:$AH$898,MATCH(MAX(O887:O899),O887:O899,0))),\"\")","v":""},{"$f":"IF(P900<>0,IF(MAX(P887:P899)<P900,Labels!$B$163,INDEX($AH$886:$AH$898,MATCH(MAX(P887:P899),P887:P899,0))),\"\")","v":""},{"$f":"IF(Q900<>0,IF(MAX(Q887:Q899)<Q900,Labels!$B$163,INDEX($AH$886:$AH$898,MATCH(MAX(Q887:Q899),Q887:Q899,0))),\"\")","v":""},{"$f":"IF(R900<>0,IF(MAX(R887:R899)<R900,Labels!$B$163,INDEX($AH$886:$AH$898,MATCH(MAX(R887:R899),R887:R899,0))),\"\")","v":""},{"$f":"IF(S900<>0,IF(MAX(S887:S899)<S900,Labels!$B$163,INDEX($AH$886:$AH$898,MATCH(MAX(S887:S899),S887:S899,0))),\"\")","v":""},{"$f":"IF(T900<>0,IF(MAX(T887:T899)<T900,Labels!$B$163,INDEX($AH$886:$AH$898,MATCH(MAX(T887:T899),T887:T899,0))),\"\")","v":""},{"$f":"IF(U900<>0,IF(MAX(U887:U899)<U900,Labels!$B$163,INDEX($AH$886:$AH$898,MATCH(MAX(U887:U899),U887:U899,0))),\"\")","v":""},{"$f":"IF(V900<>0,IF(MAX(V887:V899)<V900,Labels!$B$163,INDEX($AH$886:$AH$898,MATCH(MAX(V887:V899),V887:V899,0))),\"\")","v":""},{"$f":"IF(W900<>0,IF(MAX(W887:W899)<W900,Labels!$B$163,INDEX($AH$886:$AH$898,MATCH(MAX(W887:W899),W887:W899,0))),\"\")","v":""},{"$f":"IF(X900<>0,IF(MAX(X887:X899)<X900,Labels!$B$163,INDEX($AH$886:$AH$898,MATCH(MAX(X887:X899),X887:X899,0))),\"\")","v":""},{"$f":"IF(Y900<>0,IF(MAX(Y887:Y899)<Y900,Labels!$B$163,INDEX($AH$886:$AH$898,MATCH(MAX(Y887:Y899),Y887:Y899,0))),\"\")","v":""},{"$f":"IF(Z900<>0,IF(MAX(Z887:Z899)<Z900,Labels!$B$163,INDEX($AH$886:$AH$898,MATCH(MAX(Z887:Z899),Z887:Z899,0))),\"\")","v":""},{"$f":"IF(AA900<>0,IF(MAX(AA887:AA899)<AA900,Labels!$B$163,INDEX($AH$886:$AH$898,MATCH(MAX(AA887:AA899),AA887:AA899,0))),\"\")","v":""},{"$f":"IF(AB900<>0,IF(MAX(AB887:AB899)<AB900,Labels!$B$163,INDEX($AH$886:$AH$898,MATCH(MAX(AB887:AB899),AB887:AB899,0))),\"\")","v":""},{"$f":"IF(AC900<>0,IF(MAX(AC887:AC899)<AC900,Labels!$B$163,INDEX($AH$886:$AH$898,MATCH(MAX(AC887:AC899),AC887:AC899,0))),\"\")","v":""},{"$f":"IF(AD900<>0,IF(MAX(AD887:AD899)<AD900,Labels!$B$163,INDEX($AH$886:$AH$898,MATCH(MAX(AD887:AD899),AD887:AD899,0))),\"\")","v":""},{"$f":"IF(AE900<>0,IF(MAX(AE887:AE899)<AE900,Labels!$B$163,INDEX($AH$886:$AH$898,MATCH(MAX(AE887:AE899),AE887:AE899,0))),\"\")","v":""},null,{"$f":"SUM(B207:AF207)","v":0}]
[{"$f":"$A$15","v":"00.00-06.00h"},null,null,null,null,null,null,null,null,null,null,null,null,null,null,null,null,null,null,null,null,null,null,null,null,null,null,null,null,null,null,null,{"$f":"SUM(B208:AF208)","v":0}]
[{"$f":"$A$16","v":"06.00-20.00h"},null,null,null,null,null,null,null,null,null,null,null,null,null,null,null,null,null,null,null,null,null,null,null,null,null,null,null,null,null,null,null,{"$f":"SUM(B209:AF209)","v":0},"[0]"]
[{"$f":"$A$17","v":"20.00-24.00h"}]
[{"$f":"$A$18","v":"Feiertag \"ft\""},{"$f":"IF(WEEKDAY(B202,2)<=6,IF(KALENDER!E9=\"x\",Labels!$B$118,\"\"),\"\")","v":""},{"$f":"IF(WEEKDAY(C202,2)<=6,IF(KALENDER!F9=\"x\",Labels!$B$118,\"\"),\"\")","v":""},{"$f":"IF(WEEKDAY(D202,2)<=6,IF(KALENDER!G9=\"x\",Labels!$B$118,\"\"),\"\")","v":""},{"$f":"IF(WEEKDAY(E202,2)<=6,IF(KALENDER!H9=\"x\",Labels!$B$118,\"\"),\"\")","v":""},{"$f":"IF(WEEKDAY(F202,2)<=6,IF(KALENDER!I9=\"x\",Labels!$B$118,\"\"),\"\")","v":""},{"$f":"IF(WEEKDAY(G202,2)<=6,IF(KALENDER!J9=\"x\",Labels!$B$118,\"\"),\"\")","v":""},{"$f":"IF(WEEKDAY(H202,2)<=6,IF(KALENDER!K9=\"x\",Labels!$B$118,\"\"),\"\")","v":""},{"$f":"IF(WEEKDAY(I202,2)<=6,IF(KALENDER!L9=\"x\",Labels!$B$118,\"\"),\"\")","v":""},{"$f":"IF(WEEKDAY(J202,2)<=6,IF(KALENDER!M9=\"x\",Labels!$B$118,\"\"),\"\")","v":""},{"$f":"IF(WEEKDAY(K202,2)<=6,IF(KALENDER!N9=\"x\",Labels!$B$118,\"\"),\"\")","v":""},{"$f":"IF(WEEKDAY(L202,2)<=6,IF(KALENDER!O9=\"x\",Labels!$B$118,\"\"),\"\")","v":""},{"$f":"IF(WEEKDAY(M202,2)<=6,IF(KALENDER!P9=\"x\",Labels!$B$118,\"\"),\"\")","v":""},{"$f":"IF(WEEKDAY(N202,2)<=6,IF(KALENDER!Q9=\"x\",Labels!$B$118,\"\"),\"\")","v":""},{"$f":"IF(WEEKDAY(O202,2)<=6,IF(KALENDER!R9=\"x\",Labels!$B$118,\"\"),\"\")","v":""},{"$f":"IF(WEEKDAY(P202,2)<=6,IF(KALENDER!S9=\"x\",Labels!$B$118,\"\"),\"\")","v":""},{"$f":"IF(WEEKDAY(Q202,2)<=6,IF(KALENDER!T9=\"x\",Labels!$B$118,\"\"),\"\")","v":""},{"$f":"IF(WEEKDAY(R202,2)<=6,IF(KALENDER!U9=\"x\",Labels!$B$118,\"\"),\"\")","v":""},{"$f":"IF(WEEKDAY(S202,2)<=6,IF(KALENDER!V9=\"x\",Labels!$B$118,\"\"),\"\")","v":""},{"$f":"IF(WEEKDAY(T202,2)<=6,IF(KALENDER!W9=\"x\",Labels!$B$118,\"\"),\"\")","v":""},{"$f":"IF(WEEKDAY(U202,2)<=6,IF(KALENDER!X9=\"x\",Labels!$B$118,\"\"),\"\")","v":""},{"$f":"IF(WEEKDAY(V202,2)<=6,IF(KALENDER!Y9=\"x\",Labels!$B$118,\"\"),\"\")","v":""},{"$f":"IF(WEEKDAY(W202,2)<=6,IF(KALENDER!Z9=\"x\",Labels!$B$118,\"\"),\"\")","v":""},{"$f":"IF(WEEKDAY(X202,2)<=6,IF(KALENDER!AA9=\"x\",Labels!$B$118,\"\"),\"\")","v":""},{"$f":"IF(WEEKDAY(Y202,2)<=6,IF(KALENDER!AB9=\"x\",Labels!$B$118,\"\"),\"\")","v":""},{"$f":"IF(WEEKDAY(Z202,2)<=6,IF(KALENDER!AC9=\"x\",Labels!$B$118,\"\"),\"\")","v":""},{"$f":"IF(WEEKDAY(AA202,2)<=6,IF(KALENDER!AD9=\"x\",Labels!$B$118,\"\"),\"\")","v":""},{"$f":"IF(WEEKDAY(AB202,2)<=6,IF(KALENDER!AE9=\"x\",Labels!$B$118,\"\"),\"\")","v":""},{"$f":"IF(WEEKDAY(AC202,2)<=6,IF(KALENDER!AF9=\"x\",Labels!$B$118,\"\"),\"\")","v":""},{"$f":"IF(WEEKDAY(AD202,2)<=6,IF(KALENDER!AG9=\"x\",Labels!$B$118,\"\"),\"\")","v":""},{"$f":"IF(WEEKDAY(AE202,2)<=6,IF(KALENDER!AH9=\"x\",Labels!$B$118,\"\"),\"\")","v":""},null,{"$f":"SUM(B211:AF211)","v":0}]
[{"$f":"$A$19","v":"Gutschrift \"ft\""},{"$f":"IF(AND(B210=Labels!$B$118,WEEKDAY(B202,2)<6,B$204<>\"\"),($J$7*5/$AR$47)*$B$199%,\"\")","v":""},{"$f":"IF(AND(C210=Labels!$B$118,WEEKDAY(C202,2)<6,C$204<>\"\"),($J$7*5/$AR$47)*$B$199%,\"\")","v":""},{"$f":"IF(AND(D210=Labels!$B$118,WEEKDAY(D202,2)<6,D$204<>\"\"),($J$7*5/$AR$47)*$B$199%,\"\")","v":""},{"$f":"IF(AND(E210=Labels!$B$118,WEEKDAY(E202,2)<6,E$204<>\"\"),($J$7*5/$AR$47)*$B$199%,\"\")","v":""},{"$f":"IF(AND(F210=Labels!$B$118,WEEKDAY(F202,2)<6,F$204<>\"\"),($J$7*5/$AR$47)*$B$199%,\"\")","v":""},{"$f":"IF(AND(G210=Labels!$B$118,WEEKDAY(G202,2)<6,G$204<>\"\"),($J$7*5/$AR$47)*$B$199%,\"\")","v":""},{"$f":"IF(AND(H210=Labels!$B$118,WEEKDAY(H202,2)<6,H$204<>\"\"),($J$7*5/$AR$47)*$B$199%,\"\")","v":""},{"$f":"IF(AND(I210=Labels!$B$118,WEEKDAY(I202,2)<6,I$204<>\"\"),($J$7*5/$AR$47)*$B$199%,\"\")","v":""},{"$f":"IF(AND(J210=Labels!$B$118,WEEKDAY(J202,2)<6,J$204<>\"\"),($J$7*5/$AR$47)*$B$199%,\"\")","v":""},{"$f":"IF(AND(K210=Labels!$B$118,WEEKDAY(K202,2)<6,K$204<>\"\"),($J$7*5/$AR$47)*$B$199%,\"\")","v":""},{"$f":"IF(AND(L210=Labels!$B$118,WEEKDAY(L202,2)<6,L$204<>\"\"),($J$7*5/$AR$47)*$B$199%,\"\")","v":""},{"$f":"IF(AND(M210=Labels!$B$118,WEEKDAY(M202,2)<6,M$204<>\"\"),($J$7*5/$AR$47)*$B$199%,\"\")","v":""},{"$f":"IF(AND(N210=Labels!$B$118,WEEKDAY(N202,2)<6,N$204<>\"\"),($J$7*5/$AR$47)*$B$199%,\"\")","v":""},{"$f":"IF(AND(O210=Labels!$B$118,WEEKDAY(O202,2)<6,O$204<>\"\"),($J$7*5/$AR$47)*$B$199%,\"\")","v":""},{"$f":"IF(AND(P210=Labels!$B$118,WEEKDAY(P202,2)<6,P$204<>\"\"),($J$7*5/$AR$47)*$B$199%,\"\")","v":""},{"$f":"IF(AND(Q210=Labels!$B$118,WEEKDAY(Q202,2)<6,Q$204<>\"\"),($J$7*5/$AR$47)*$B$199%,\"\")","v":""},{"$f":"IF(AND(R210=Labels!$B$118,WEEKDAY(R202,2)<6,R$204<>\"\"),($J$7*5/$AR$47)*$B$199%,\"\")","v":""},{"$f":"IF(AND(S210=Labels!$B$118,WEEKDAY(S202,2)<6,S$204<>\"\"),($J$7*5/$AR$47)*$B$199%,\"\")","v":""},{"$f":"IF(AND(T210=Labels!$B$118,WEEKDAY(T202,2)<6,T$204<>\"\"),($J$7*5/$AR$47)*$B$199%,\"\")","v":""},{"$f":"IF(AND(U210=Labels!$B$118,WEEKDAY(U202,2)<6,U$204<>\"\"),($J$7*5/$AR$47)*$B$199%,\"\")","v":""},{"$f":"IF(AND(V210=Labels!$B$118,WEEKDAY(V202,2)<6,V$204<>\"\"),($J$7*5/$AR$47)*$B$199%,\"\")","v":""},{"$f":"IF(AND(W210=Labels!$B$118,WEEKDAY(W202,2)<6,W$204<>\"\"),($J$7*5/$AR$47)*$B$199%,\"\")","v":""},{"$f":"IF(AND(X210=Labels!$B$118,WEEKDAY(X202,2)<6,X$204<>\"\"),($J$7*5/$AR$47)*$B$199%,\"\")","v":""},{"$f":"IF(AND(Y210=Labels!$B$118,WEEKDAY(Y202,2)<6,Y$204<>\"\"),($J$7*5/$AR$47)*$B$199%,\"\")","v":""},{"$f":"IF(AND(Z210=Labels!$B$118,WEEKDAY(Z202,2)<6,Z$204<>\"\"),($J$7*5/$AR$47)*$B$199%,\"\")","v":""},{"$f":"IF(AND(AA210=Labels!$B$118,WEEKDAY(AA202,2)<6,AA$204<>\"\"),($J$7*5/$AR$47)*$B$199%,\"\")","v":""},{"$f":"IF(AND(AB210=Labels!$B$118,WEEKDAY(AB202,2)<6,AB$204<>\"\"),($J$7*5/$AR$47)*$B$199%,\"\")","v":""},{"$f":"IF(AND(AC210=Labels!$B$118,WEEKDAY(AC202,2)<6,AC$204<>\"\"),($J$7*5/$AR$47)*$B$199%,\"\")","v":""},{"$f":"IF(AND(AD210=Labels!$B$118,WEEKDAY(AD202,2)<6,AD$204<>\"\"),($J$7*5/$AR$47)*$B$199%,\"\")","v":""},{"$f":"IF(AND(AE210=Labels!$B$118,WEEKDAY(AE202,2)<6,AE$204<>\"\"),($J$7*5/$AR$47)*$B$199%,\"\")","v":""},{"$f":"IF(AND(AF210=Labels!$B$118,WEEKDAY(AF202,2)<6),$J$7*$B$199%,\"\")","v":""}]
[{"$f":"$A$20","v":"Tagestotal"},{"$f":"SUM(B207:B209)","v":0},{"$f":"SUM(C207:C209)","v":0},0,0,0,0,0,0,0,0,0,0,0,0,0,0,0,0,0,0,0,0,0,0,0,0,0,0,0,0]
[{"$f":"$A$21","v":"."}]
[{"$f":"$A$22","v":"."}]
[{"$f":"$A$23","v":"Monatsübergang"},{"$f":"IF(WEEKDAY(B202)=1,TEXT(B202-1,\"MMM\"&Labels!B13),\"\")","v":""},null,null,null,null,null,null,null,null,null,null,null,null,null,null,null,null,null,null,null,null,null,null,null,null,null,null,null,null,{"$f":"IF(AND(WEEKDAY(AE202)>1,WEEKDAY(AE202)<7),TEXT(DATE($B$5,MONTH(AE202)+1,1),\"MMM\"&Labels!B13),\"\")","v":""}]
[{"$f":"$A$24","v":"Wochentotal"},{"$f":"IF(WEEKDAY(B202)=7,SUMIF($B139:$AF139,B203,$B148:$AF148)+SUMIF($B203:$AF203,B203,$B212:$AF212)+SUMIF($B267:$AF267,B203,$B276:$AF276),B215)","v":""},{"$f":"IF(WEEKDAY(C202)=7,SUMIF($B139:$AF139,C203,$B148:$AF148)+SUMIF($B203:$AF203,C203,$B212:$AF212)+SUMIF($B267:$AF267,C203,$B276:$AF276),\"\")","v":0},"","","","","","",0,"","","","","","",0,"","","","","","",0,"","","","","","",{"$f":"IF(WEEKDAY(AE202)=7,SUMIF($B139:$AF139,AE203,$B148:$AF148)+SUMIF($B203:$AF203,AE203,$B212:$AF212)+SUMIF($B267:$AF267,AE203,$B276:$AF276),AE215)","v":0},null,{"$f":"SUM(B217:AF217)","v":0}]
[{"$f":"$A$25","v":"Zeitzuschlag 1)"},{"$f":"IF(B224=\"FALSCH\",\"\",B224)","v":""},{"$f":"IF(C224=\"FALSCH\",\"\",C224)","v":""},"","","","","","","","","","","","","","","","","","","","","","","","","","","","",null,0,"[1]"]
[{"$f":"$A$26","v":"Zeitzuschlag 2)"},{"$f":"IF((B207+B209)=0,\"\",SUM(B207,B209))","v":""},{"$f":"IF((C207+C209)=0,\"\",SUM(C207,C209))","v":""},"","","","","","","","","","","","","","","","","","","","","","","","","","","","",null,{"$f":"SUM(B219:AF219)","v":0},"[2]"]
[{"$f":"$A$27","v":"Zeitzuschlag 3)"},{"$f":"SUM(B220:B223)","v":0},{"$f":"SUM(C220:C223)","v":0},0,0,0,0,0,0,0,0,0,0,0,0,0,0,0,0,0,0,0,0,0,0,0,0,0,0,0,0,null,0,"[3]"]
[{"$f":"$A$28","v":"Sonntag Tag"},{"$f":"IF(WEEKDAY(B202)=1,B208,\"\")","v":""},{"$f":"IF(WEEKDAY(C202)=1,C208,\"\")","v":""},0,"","","","","","",0,"","","","","","",0,"","","","","","",0,"","","","","","",null,0,"[4]"]
[{"$f":"$A$29","v":"Sonntag Nacht"},{"$f":"IF(WEEKDAY(B202)=1,SUM(B207+B209),\"\")","v":""},{"$f":"IF(WEEKDAY(C202)=1,SUM(C207+C209),\"\")","v":""},0,"","","","","","",0,"","","","","","",0,"","","","","","",0,"","","","","","",null,0,"[5]"]
[{"$f":"$A$30","v":"ft-Tazuschlag"},{"$f":"IF(B210=Labels!$B$118,B208,\"\")","v":""},{"$f":"IF(C210=Labels!$B$118,C208,\"\")","v":""},{"$f":"IF(D210=Labels!$B$118,D208,\"\")","v":""},{"$f":"IF(E210=Labels!$B$118,E208,\"\")","v":""},{"$f":"IF(F210=Labels!$B$118,F208,\"\")","v":""},{"$f":"IF(G210=Labels!$B$118,G208,\"\")","v":""},{"$f":"IF(H210=Labels!$B$118,H208,\"\")","v":""},{"$f":"IF(I210=Labels!$B$118,I208,\"\")","v":""},{"$f":"IF(J210=Labels!$B$118,J208,\"\")","v":""},{"$f":"IF(K210=Labels!$B$118,K208,\"\")","v":""},{"$f":"IF(L210=Labels!$B$118,L208,\"\")","v":""},{"$f":"IF(M210=Labels!$B$118,M208,\"\")","v":""},{"$f":"IF(N210=Labels!$B$118,N208,\"\")","v":""},{"$f":"IF(O210=Labels!$B$118,O208,\"\")","v":""},{"$f":"IF(P210=Labels!$B$118,P208,\"\")","v":""},{"$f":"IF(Q210=Labels!$B$118,Q208,\"\")","v":""},{"$f":"IF(R210=Labels!$B$118,R208,\"\")","v":""},{"$f":"IF(S210=Labels!$B$118,S208,\"\")","v":""},{"$f":"IF(T210=Labels!$B$118,T208,\"\")","v":""},{"$f":"IF(U210=Labels!$B$118,U208,\"\")","v":""},{"$f":"IF(V210=Labels!$B$118,V208,\"\")","v":""},{"$f":"IF(W210=Labels!$B$118,W208,\"\")","v":""},{"$f":"IF(X210=Labels!$B$118,X208,\"\")","v":""},{"$f":"IF(Y210=Labels!$B$118,Y208,\"\")","v":""},{"$f":"IF(Z210=Labels!$B$118,Z208,\"\")","v":""},{"$f":"IF(AA210=Labels!$B$118,AA208,\"\")","v":""},{"$f":"IF(AB210=Labels!$B$118,AB208,\"\")","v":""},{"$f":"IF(AC210=Labels!$B$118,AC208,\"\")","v":""},{"$f":"IF(AD210=Labels!$B$118,AD208,\"\")","v":""},{"$f":"IF(AE210=Labels!$B$118,AE208,\"\")","v":""},null,0,"[6]"]
[{"$f":"$A$31","v":"ft-Nazuschlag"},{"$f":"IF(B210=Labels!$B$118,SUM(B207,B209),\"\")","v":""},{"$f":"IF(C210=Labels!$B$118,SUM(C207,C209),\"\")","v":""},{"$f":"IF(D210=Labels!$B$118,SUM(D207,D209),\"\")","v":""},{"$f":"IF(E210=Labels!$B$118,SUM(E207,E209),\"\")","v":""},{"$f":"IF(F210=Labels!$B$118,SUM(F207,F209),\"\")","v":""},{"$f":"IF(G210=Labels!$B$118,SUM(G207,G209),\"\")","v":""},{"$f":"IF(H210=Labels!$B$118,SUM(H207,H209),\"\")","v":""},{"$f":"IF(I210=Labels!$B$118,SUM(I207,I209),\"\")","v":""},{"$f":"IF(J210=Labels!$B$118,SUM(J207,J209),\"\")","v":""},{"$f":"IF(K210=Labels!$B$118,SUM(K207,K209),\"\")","v":""},{"$f":"IF(L210=Labels!$B$118,SUM(L207,L209),\"\")","v":""},{"$f":"IF(M210=Labels!$B$118,SUM(M207,M209),\"\")","v":""},{"$f":"IF(N210=Labels!$B$118,SUM(N207,N209),\"\")","v":""},{"$f":"IF(O210=Labels!$B$118,SUM(O207,O209),\"\")","v":""},{"$f":"IF(P210=Labels!$B$118,SUM(P207,P209),\"\")","v":""},{"$f":"IF(Q210=Labels!$B$118,SUM(Q207,Q209),\"\")","v":""},{"$f":"IF(R210=Labels!$B$118,SUM(R207,R209),\"\")","v":""},{"$f":"IF(S210=Labels!$B$118,SUM(S207,S209),\"\")","v":""},{"$f":"IF(T210=Labels!$B$118,SUM(T207,T209),\"\")","v":""},{"$f":"IF(U210=Labels!$B$118,SUM(U207,U209),\"\")","v":""},{"$f":"IF(V210=Labels!$B$118,SUM(V207,V209),\"\")","v":""},{"$f":"IF(W210=Labels!$B$118,SUM(W207,W209),\"\")","v":""},{"$f":"IF(X210=Labels!$B$118,SUM(X207,X209),\"\")","v":""},{"$f":"IF(Y210=Labels!$B$118,SUM(Y207,Y209),\"\")","v":""},{"$f":"IF(Z210=Labels!$B$118,SUM(Z207,Z209),\"\")","v":""},{"$f":"IF(AA210=Labels!$B$118,SUM(AA207,AA209),\"\")","v":""},{"$f":"IF(AB210=Labels!$B$118,SUM(AB207,AB209),\"\")","v":""},{"$f":"IF(AC210=Labels!$B$118,SUM(AC207,AC209),\"\")","v":""},{"$f":"IF(AD210=Labels!$B$118,SUM(AD207,AD209),\"\")","v":""},{"$f":"IF(AE210=Labels!$B$118,SUM(AE207,AE209),\"\")","v":""},null,{"$f":"AG207","v":0},"[7]"]
[{"$f":"$A$32","v":"Zuschlag  blind (Wochentotal)"},{"$f":"IF(OR(ISTEXT(B216),B216=\"\",B216<$B$7),\"\",ROUND(((B216-$B$7)*25%)/25,4)*25)","v":""},{"$f":"IF(OR(ISTEXT(C216),C216=\"\",C216<$B$7),\"\",ROUND(((C216-$B$7)*25%)/25,4)*25)","v":""},"","","","","","","","","","","","","","","","","","","","","","","","","","","","",null,{"$f":"SUM(AG206+AG208)","v":0},"[8]"]
[null,{"$f":"$B$33","v":"1)   25% Zeitzuschlag für Überschreitung Wochentotal"},null,null,null,null,null,null,null,null,null,{"$f":"$L$33","v":"2) 100% Zeitzuschlag für Nachtarbeit"},null,null,null,null,null,null,null,{"$f":"$T$33","v":"Eingabe der ausbezahlten Stunden Vorjahressaldo"},null,null,null,null,null,null,null,null,null,null,null,null,{"$f":"SUM(AG206:AG208)","v":0},"[9]"]
[null,{"$f":"$B$34","v":"3) 100% Zeitzuschlag für Sonn- und Feiertagsarbeit"},null,null,null,null,null,null,null,null,null,null,null,null,null,null,null,null,null,{"$f":"$T$34","v":"Eingabe der ausbezahlten Stunden laufendes Jahr (Überstunden)"},null,null,null,null,null,null,null,null,null,null,null,null,{"$f":"SUM(AG204+AG210)","v":0},"[10]"]
[{"$f":"$A$35","v":"Bemerkungen"},null,null,null,null,null,null,null,null,null,null,null,null,null,null,null,null,null,null,null,null,null,null,null,null,null,null,null,null,null,null,null,{"$f":"SUM(AG204:AG218)","v":0},"[11]"]
[null,null,null,null,null,null,null,null,null,null,null,null,null,null,null,null,null,null,null,null,null,null,null,null,null,null,null,null,null,null,null,null,{"$f":"AG203","v":168}]
[null,null,null,null,null,null,null,null,null,null,null,null,null,null,null,null,null,null,null,null,null,null,null,null,null,null,null,null,null,null,null,null,{"$f":"SUM(AG227-AG203)","v":-168}]
[]
[{"$f":"$A$39","v":"Zusammenstellung"},null,null,null,null,null,{"$f":"$G$39","v":"Jan"},null,{"$f":"$I$39","v":"Feb"},null,{"$f":"$K$39","v":"Mrz"},null,{"$f":"$M$39","v":"Apr"},null,{"$f":"$O$39","v":"Mai"},null,{"$f":"$Q$39","v":"Jun"},null,{"$f":"$S$39","v":"Jul"},null,{"$f":"$U$39","v":"Aug"},null,{"$f":"$W$39","v":"Sep"},null,{"$f":"$Y$39","v":"Okt"},null,{"$f":"$AA$39","v":"Nov"},null,{"$f":"$AC$39","v":"Dez"},null,{"$f":"$AE$39","v":"Jahr"}]
[{"$f":"$A$40","v":"Anstellung %"},null,null,null,null,null,{"$f":"IF($B$4=0,0,$B$4)","v":100},null,{"$f":"IF($B$71=0,0,$B$71)","v":100},null,{"$f":"IF($B$135=0,0,$B$135)","v":100},null,{"$f":"IF($B$199=0,0,$B$199)","v":100},null,{"$f":"IF($B$263=0,0,$B$263)","v":100},null,{"$f":"IF($B$327=0,0,$B$327)","v":100},null,{"$f":"IF($B$391=0,0,$B$391)","v":100},null,{"$f":"IF($B$455=0,0,$B$455)","v":100},null,{"$f":"IF($B$519=0,0,$B$519)","v":100},null,{"$f":"IF($B$583=0,0,$B$583)","v":100},null,{"$f":"IF($B$647=0,0,$B$647)","v":100},null,{"$f":"IF($B$711=0,0,$B$711)","v":100}]
[{"$f":"$A$41","v":"Sollstunden gemäss GAV"},null,null,null,null,null,{"$f":"IF($AG$37=0,0,$AG$37)","v":168},null,{"$f":"IF($AG$100=0,0,$AG$100)","v":160},null,{"$f":"IF($AG$139=0,0,$AG$139)","v":184},null,{"$f":"IF($AG$228=0,0,$AG$228)","v":168},null,{"$f":"IF($AG$292=0,0,$AG$292)","v":176},null,{"$f":"IF($AG$356=0,0,$AG$356)","v":176},null,{"$f":"IF($AG$420=0,0,$AG$420)","v":168},null,{"$f":"IF($AG$484=0,0,$AG$484)","v":184},null,{"$f":"IF($AG$548=0,0,$AG$548)","v":176},null,{"$f":"IF($AG$612=0,0,$AG$612)","v":168},null,{"$f":"IF($AG$676=0,0,$AG$676)","v":176},null,{"$f":"IF($AG$740=0,0,$AG$740)","v":176},null,{"$f":"SUM(G233:AD233)","v":2080}]
[{"$f":"$A$42","v":"Produktive Stunden"},{"$f":"$B$42","v":"06.00 - 20.00 Uhr"},null,null,null,null,{"$f":"IF($AG$32=0,0,$AG$32)","v":0},null,{"$f":"IF($AG$95=0,0,$AG$95)","v":0},null,{"$f":"IF($AG$159=0,0,$AG$159)","v":0},null,{"$f":"IF($AG$223=0,0,$AG$223)","v":0},null,{"$f":"IF($AG$287=0,0,$AG$287)","v":0},null,{"$f":"IF($AG$351=0,0,$AG$351)","v":0},null,{"$f":"IF($AG$415=0,0,$AG$415)","v":0},null,{"$f":"IF($AG$479=0,0,$AG$479)","v":0},null,{"$f":"IF($AG$543=0,0,$AG$543)","v":0},null,{"$f":"IF($AG$607=0,0,$AG$607)","v":0},null,{"$f":"IF($AG$671=0,0,$AG$671)","v":0},null,{"$f":"IF($AG$735=0,0,$AG$735)","v":0},null,{"$f":"SUM(G234:AD234)","v":0}]
[null,{"$f":"$B$43","v":"Nacht-, Sonn-, Feiertagsarbeit"},null,null,null,null,{"$f":"IF($AG$33=0,0,$AG$33)","v":0},null,{"$f":"IF($AG$96=0,0,$AG$96)","v":0},null,{"$f":"IF($AG$160=0,0,$AG$160)","v":0},null,{"$f":"IF($AG$224=0,0,$AG$224)","v":0},null,{"$f":"IF($AG$288=0,0,$AG$288)","v":0},null,{"$f":"IF($AG$352=0,0,$AG$352)","v":0},null,{"$f":"IF($AG$416=0,0,$AG$416)","v":0},null,{"$f":"IF($AG$480=0,0,$AG$480)","v":0},null,{"$f":"IF($AG$544=0,0,$AG$544)","v":0},null,{"$f":"IF($AG$608=0,0,$AG$608)","v":0},null,{"$f":"IF($AG$672=0,0,$AG$672)","v":0},null,{"$f":"IF($AG$736=0,0,$AG$736)","v":0},null,{"$f":"SUM(G235:AD235)","v":0}]
[{"$f":"$A$44","v":"Zeitzuschläge"},{"$f":"$B$44","v":"aus Wochentotal"},null,null,null,null,{"$f":"IF($AG$25=0,0,$AG$25)","v":0},null,{"$f":"IF($AG$88=0,0,$AG$88)","v":0},null,{"$f":"IF($AG$152=0,0,$AG$152)","v":0},null,{"$f":"IF($AG$216=0,0,$AG$216)","v":0},null,{"$f":"IF($AG$280=0,0,$AG$280)","v":0},null,{"$f":"IF($AG$344=0,0,$AG$344)","v":0},null,{"$f":"IF($AG$408=0,0,$AG$408)","v":0},null,{"$f":"IF($AG$472=0,0,$AG$472)","v":0},null,{"$f":"IF($AG$536=0,0,$AG$536)","v":0},null,{"$f":"IF($AG$600=0,0,$AG$600)","v":0},null,{"$f":"IF($AG$664=0,0,$AG$664)","v":0},null,{"$f":"IF($AG$728=0,0,$AG$728)","v":0},null,{"$f":"SUM(G236:AD236)","v":0}]
[null,{"$f":"$B$45","v":"aus Nacht-, Sonn-, Feiertagsarbeiten"},null,null,null,null,{"$f":"IF($AJ$21=0,0,$AJ$21)","v":0},null,{"$f":"IF($AK$21=0,0,$AK$21)","v":0},null,{"$f":"IF($AL$21=0,0,$AL$21)","v":0},null,{"$f":"IF($AM$21=0,0,$AM$21)","v":0},null,{"$f":"IF($AN$21=0,0,$AN$21)","v":0},null,{"$f":"IF($AO$21=0,0,$AO$21)","v":0},null,{"$f":"IF($AP$21=0,0,$AP$21)","v":0},null,{"$f":"IF($AQ$21=0,0,$AQ$21)","v":0},null,{"$f":"IF($AR$21=0,0,$AR$21)","v":0},null,{"$f":"IF($AS$21=0,0,$AS$21)","v":0},null,{"$f":"IF($AT$21=0,0,$AT$21)","v":0},null,{"$f":"IF($AU$21=0,0,$AU$21)","v":0},null,{"$f":"SUM(G237:AD237)","v":0}]
[{"$f":"$A$46","v":"Unproduktive Stunden"}]
[{"$f":"$A$47","v":"   Absenzen, Kurzabsenzen Art. 11 GAV"},null,null,null,null,{"$f":"$F$47","v":"a"},{"$f":"IF($AJ$3=0,0,$AJ$3)","v":0},null,{"$f":"IF($AK$3=0,0,$AK$3)","v":0},null,{"$f":"IF($AL$3=0,0,$AL$3)","v":0},null,{"$f":"IF($AM$3=0,0,$AM$3)","v":0},null,{"$f":"IF($AN$3=0,0,$AN$3)","v":0},null,{"$f":"IF($AO$3=0,0,$AO$3)","v":0},null,{"$f":"IF($AP$3=0,0,$AP$3)","v":0},null,{"$f":"IF($AQ$3=0,0,$AQ$3)","v":0},null,{"$f":"IF($AR$3=0,0,$AR$3)","v":0},null,{"$f":"IF($AS$3=0,0,$AS$3)","v":0},null,{"$f":"IF(AT$3=0,0,$AT$3)","v":0},null,{"$f":"IF($AU$3=0,0,$AU$3)","v":0},null,{"$f":"IF($AV$3=0,0,$AV$3)","v":0}]
[{"$f":"$A$48","v":"   Ferien Art. 12.1 GAV"},null,null,null,null,{"$f":"$F$48","v":"f"},{"$f":"IF($AJ$4=0,0,$AJ$4)","v":0},null,{"$f":"IF($AK$4=0,0,$AK$4)","v":0},null,{"$f":"IF($AL$4=0,0,$AL$4)","v":0},null,{"$f":"IF($AM$4=0,0,$AM$4)","v":0},null,{"$f":"IF($AN$4=0,0,$AN$4)","v":0},null,{"$f":"IF($AO$4=0,0,$AO$4)","v":0},null,{"$f":"IF($AP$4=0,0,$AP$4)","v":0},null,{"$f":"IF($AQ$4=0,0,$AQ$4)","v":0},null,{"$f":"IF($AR$4=0,0,$AR$4)","v":0},null,{"$f":"IF($AS$4=0,0,$AS$4)","v":0},null,{"$f":"IF($AT$4=0,0,$AT$4)","v":0},null,{"$f":"IF($AU$4=0,0,$AU$4)","v":0},null,{"$f":"IF($AV$4=0,0,$AV$4)","v":0}]
[{"$f":"Labels!$B$181","v":"   Ferien unbezahlt"},null,null,null,null,{"$f":"Labels!$B$182","v":"fu"},{"$f":"IF($AJ$13=0,0,$AJ$13)","v":0},null,{"$f":"IF($AK$13=0,0,$AK$13)","v":0},null,{"$f":"IF($AL$13=0,0,$AL$13)","v":0},null,{"$f":"IF($AM$13=0,0,$AM$13)","v":0},null,{"$f":"IF($AN$13=0,0,$AN$13)","v":0},null,{"$f":"IF($AO$13=0,0,$AO$13)","v":0},null,{"$f":"IF($AP$13=0,0,$AP$13)","v":0},null,{"$f":"IF($AQ$13=0,0,$AQ$13)","v":0},null,{"$f":"IF($AR$13=0,0,$AR$13)","v":0},null,{"$f":"IF($AS$13=0,0,$AS$13)","v":0},null,{"$f":"IF($AT$13=0,0,$AT$13)","v":0},null,{"$f":"IF($AU$13=0,0,$AU$13)","v":0},null,{"$f":"IF($AV$13=0,0,$AV$13)","v":0}]
[{"$f":"$A$50","v":"   Feiertage Art. 12.2 GAV"},null,{"$f":"IF($AJ$18=\"\",\"\",$AJ$18)","v":""},null,null,{"$f":"$F$50","v":"ft"},{"$f":"IF($AJ$16=0,0,$AJ$16)","v":0},null,{"$f":"IF($AK$16=0,0,$AK$16)","v":0},null,{"$f":"IF($AL$16=0,0,$AL$16)","v":0},null,{"$f":"IF($AM$16=0,0,$AM$16)","v":0},null,{"$f":"IF($AN$16=0,0,$AN$16)","v":0},null,{"$f":"IF($AO$16=0,0,$AO$16)","v":0},null,{"$f":"IF($AP$16=0,0,$AP$16)","v":0},null,{"$f":"IF($AQ$16=0,0,$AQ$16)","v":0},null,{"$f":"IF($AR$16=0,0,$AR$16)","v":0},null,{"$f":"IF($AS$16=0,0,$AS$16)","v":0},null,{"$f":"IF($AT$16=0,0,$AT$16)","v":0},null,{"$f":"IF($AU$16=0,0,$AU$16)","v":0},null,{"$f":"IF($AV$16=0,0,$AV$16)","v":0}]
[{"$f":"$A$51","v":"   Krankheit Art. 13 GAV"},null,null,null,null,{"$f":"$F$51","v":"k"},{"$f":"IF($AJ$5=0,0,$AJ$5)","v":0},null,{"$f":"IF($AK$5=0,0,$AK$5)","v":0},null,{"$f":"IF($AL$5=0,0,$AL$5)","v":0},null,{"$f":"IF($AM$5=0,0,$AM$5)","v":0},null,{"$f":"IF($AN$5=0,0,$AN$5)","v":0},null,{"$f":"IF($AO$5=0,0,$AO$5)","v":0},null,{"$f":"IF($AP$5=0,0,$AP$5)","v":0},null,{"$f":"IF($AQ$5=0,0,$AQ$5)","v":0},null,{"$f":"IF($AR$5=0,0,$AR$5)","v":0},null,{"$f":"IF($AS$5=0,0,$AS$5)","v":0},null,{"$f":"IF($AT$5=0,0,$AT$5)","v":0},null,{"$f":"IF($AU$5=0,0,$AU$5)","v":0},null,{"$f":"IF($AV$5=0,0,$AV$5)","v":0}]
[{"$f":"$A$52","v":"   Unfall Art. 14 GAV"},null,null,null,null,{"$f":"$F$52","v":"u"},{"$f":"IF($AJ$6=0,0,$AJ$6)","v":0},null,{"$f":"IF($AK$6=0,0,$AK$6)","v":0},null,{"$f":"IF($AL$6=0,0,$AL$6)","v":0},null,{"$f":"IF($AM$6=0,0,$AM$6)","v":0},null,{"$f":"IF($AN$6=0,0,$AN$6)","v":0},null,{"$f":"IF($AO$6=0,0,$AO$6)","v":0},null,{"$f":"IF($AP$6=0,0,$AP$6)","v":0},null,{"$f":"IF($AQ$6=0,0,$AQ$6)","v":0},null,{"$f":"IF($AR$6=0,0,$AR$6)","v":0},null,{"$f":"IF($AS$6=0,0,$AS$6)","v":0},null,{"$f":"IF($AT$6=0,0,$AT$6)","v":0},null,{"$f":"IF($AU$6=0,0,$AU$6)","v":0},null,{"$f":"IF($AV$6=0,0,$AV$6)","v":0}]
[{"$f":"$A$53","v":"   Schwangerschaft/Mutterschaft Art. 15 GAV"},null,null,null,null,{"$f":"$F$53","v":"s"},{"$f":"IF($AJ$7=0,0,$AJ$7)","v":0},null,{"$f":"IF($AK$7=0,0,$AK$7)","v":0},null,{"$f":"IF($AL$7=0,0,$AL$7)","v":0},null,{"$f":"IF($AM$7=0,0,$AM$7)","v":0},null,{"$f":"IF($AN$7=0,0,$AN$7)","v":0},null,{"$f":"IF($AO$7=0,0,$AO$7)","v":0},null,{"$f":"IF($AP$7=0,0,$AP$7)","v":0},null,{"$f":"IF($AQ$7=0,0,$AQ$7)","v":0},null,{"$f":"IF($AR$7=0,0,$AR$7)","v":0},null,{"$f":"IF($AS$7=0,0,$AS$7)","v":0},null,{"$f":"IF($AT$7=0,0,$AT$7)","v":0},null,{"$f":"IF($AU$7=0,0,$AU$7)","v":0},null,{"$f":"IF($AV$7=0,0,$AV$7)","v":0}]
[{"$f":"$A$54","v":"   Militär/Beförderung/Zivilschutz Art. 16 GAV"},null,null,null,null,{"$f":"$F$54","v":"m"},{"$f":"IF($AJ$8=0,0,$AJ$8)","v":0},null,{"$f":"IF($AK$8=0,0,$AK$8)","v":0},null,{"$f":"IF($AL$8=0,0,$AL$8)","v":0},null,{"$f":"IF($AM$8=0,0,$AM$8)","v":0},null,{"$f":"IF($AN$8=0,0,$AN$8)","v":0},null,{"$f":"IF($AO$8=0,0,$AO$8)","v":0},null,{"$f":"IF($AP$8=0,0,$AP$8)","v":0},null,{"$f":"IF($AQ$8=0,0,$AQ$8)","v":0},null,{"$f":"IF($AR$8=0,0,$AR$8)","v":0},null,{"$f":"IF($AS$8=0,0,$AS$8)","v":0},null,{"$f":"IF($AT$8=0,0,$AT$8)","v":0},null,{"$f":"IF($AU$8=0,0,$AU$8)","v":0},null,{"$f":"IF($AV$8=0,0,$AV$8)","v":0}]
[{"$f":"$A$55","v":"   Kurzarbeit und Schlechtwetterausfälle"},null,null,null,null,{"$f":"$F$55","v":"ka"},{"$f":"IF($AJ$11=0,0,$AJ$11)","v":0},null,{"$f":"IF($AK$11=0,0,$AK$11)","v":0},null,{"$f":"IF($AL$11=0,0,$AL$11)","v":0},null,{"$f":"IF($AM$11=0,0,$AM$11)","v":0},null,{"$f":"IF($AN$11=0,0,$AN$11)","v":0},null,{"$f":"IF($AO$11=0,0,$AO$11)","v":0},null,{"$f":"IF($AP$11=0,0,$AP$11)","v":0},null,{"$f":"IF($AQ$11=0,0,$AQ$11)","v":0},null,{"$f":"IF($AR$11=0,0,$AR$11)","v":0},null,{"$f":"IF($AS$11=0,0,$AS$11)","v":0},null,{"$f":"IF($AT$11=0,0,$AT$11)","v":0},null,{"$f":"IF($AU$11=0,0,$AU$11)","v":0},null,{"$f":"IF($AV$11=0,0,$AV$11)","v":0}]
[{"$f":"$A$56","v":"   Berufsschule"},null,null,null,null,{"$f":"$F$56","v":"bs"},{"$f":"IF($AJ$9=0,0,$AJ$9)","v":0},null,{"$f":"IF($AK$9=0,0,$AK$9)","v":0},null,{"$f":"IF($AL$9=0,0,$AL$9)","v":0},null,{"$f":"IF($AM$9=0,0,$AM$9)","v":0},null,{"$f":"IF($AN$9=0,0,$AN$9)","v":0},null,{"$f":"IF($AO$9=0,0,$AO$9)","v":0},null,{"$f":"IF($AP$9=0,0,$AP$9)","v":0},null,{"$f":"IF($AQ$9=0,0,$AQ$9)","v":0},null,{"$f":"IF($AR$9=0,0,$AR$9)","v":0},null,{"$f":"IF($AS$9=0,0,$AS$9)","v":0},null,{"$f":"IF($AT$9=0,0,$AT$9)","v":0},null,{"$f":"IF($AU$9=0,0,$AU$9)","v":0},null,{"$f":"IF($AV$9=0,0,$AV$9)","v":0}]
[{"$f":"$A$57","v":"   Kurse"},null,null,null,null,{"$f":"$F$57","v":"ku"},{"$f":"IF($AJ$10=0,0,$AJ$10)","v":0},null,{"$f":"IF($AK$10=0,0,$AK$10)","v":0},null,{"$f":"IF($AL$10=0,0,$AL$10)","v":0},null,{"$f":"IF($AM$10=0,0,$AM$10)","v":0},null,{"$f":"IF($AN$10=0,0,$AN$10)","v":0},null,{"$f":"IF($AO$10=0,0,$AO$10)","v":0},null,{"$f":"IF($AP$10=0,0,$AP$10)","v":0},null,{"$f":"IF($AQ$10=0,0,$AQ$10)","v":0},null,{"$f":"IF($AR$10=0,0,$AR$10)","v":0},null,{"$f":"IF($AS$10=0,0,$AS$10)","v":0},null,{"$f":"IF($AT$10=0,0,$AT$10)","v":0},null,{"$f":"IF($AU$10=0,0,$AU$10)","v":0},null,{"$f":"IF($AV$10=0,0,$AV$10)","v":0}]
[{"$f":"$A$58","v":"Kompensations-Std"},{"$f":"$B$58","v":"aus Vorjahr"},null,null,null,{"$f":"$F$58","v":"kv"},{"$f":"IF($AJ$12=0,0,$AJ$12)","v":0},null,{"$f":"IF($AK$12=0,0,$AK$12)","v":0},null,{"$f":"IF($AL$12=0,0,$AL$12)","v":0},null,{"$f":"IF($AM$12=0,0,$AM$12)","v":0},null,{"$f":"IF($AN$12=0,0,$AN$12)","v":0},null,{"$f":"IF($AO$12=0,0,$AO$12)","v":0},null,{"$f":"IF($AP$12=0,0,$AP$12)","v":0},null,{"$f":"IF($AQ$12=0,0,$AQ$12)","v":0},null,{"$f":"IF($AR$12=0,0,$AR$12)","v":0},null,null,null,null,null,null,null,{"$f":"IF($AV$12=0,0,$AV$12)","v":0}]
[null,{"$f":"$B$59","v":"aus laufendem Jahr (Kontrolle)"},null,null,null,{"$f":"$F$59","v":"kj"},{"$f":"IF($AJ$15=0,0,$AJ$15)","v":0},null,{"$f":"IF($AK$15=0,0,$AK$15)","v":0},null,{"$f":"IF($AL$15=0,0,$AL$15)","v":0},null,{"$f":"IF($AM$15=0,0,$AM$15)","v":0},null,{"$f":"IF($AN$15=0,0,$AN$15)","v":0},null,{"$f":"IF($AO$15=0,0,$AO$15)","v":0},null,{"$f":"IF($AP$15=0,0,$AP$15)","v":0},null,{"$f":"IF($AQ$15=0,0,$AQ$15)","v":0},null,{"$f":"IF($AR$15=0,0,$AR$15)","v":0},null,{"$f":"IF($AS$15=0,0,$AS$15)","v":0},null,{"$f":"IF($AT$15=0,0,$AT$15)","v":0},null,{"$f":"IF($AU$15=0,0,$AU$15)","v":0},null,{"$f":"IF($AV$15=0,0,$AV$15)","v":0}]
[{"$f":"$A$60","v":"Auszahlung"},{"$f":"$B$60","v":"Stunden Vorjahressaldo"},null,null,null,null,{"$f":"IF($AJ$19=0,0,$AJ$19)","v":0},null,{"$f":"IF($AK$19=0,0,$AK$19)","v":0},null,{"$f":"IF($AL$19=0,0,$AL$19)","v":0},null,{"$f":"IF($AM$19=0,0,$AM$19)","v":0},null,{"$f":"IF($AN$19=0,0,$AN$19)","v":0},null,{"$f":"IF($AO$19=0,0,$AO$19)","v":0},null,{"$f":"IF($AP$19=0,0,$AP$19)","v":0},null,{"$f":"IF($AQ$19=0,0,$AQ$19)","v":0},null,{"$f":"IF($AR$19=0,0,$AR$19)","v":0},null,null,null,null,null,null,null,{"$f":"IF($AV$19=0,0,$AV$19)","v":0}]
[{"$f":"$A$61","v":"Differenz"},{"$f":"$B$61","v":"nach Kompensation und Auszahlung"},null,null,null,null,{"$f":"IF(ROUND($P$4,3)=0,0,$P$4-SUM(G250+G252))","v":0},null,{"$f":"IF(ROUND(G253,3)=0,0,G253-(SUM(I252+I250)))","v":0},null,{"$f":"IF(ROUND(I253,3)=0,0,I253-(SUM(K252+K250)))","v":0},null,{"$f":"IF(ROUND(K253,3)=0,0,K253-(SUM(M252+M250)))","v":0},null,{"$f":"IF(ROUND(M253,3)=0,0,M253-(SUM(O252+O250)))","v":0},null,{"$f":"IF(ROUND(O253,3)=0,0,O253-(SUM(Q252+Q250)))","v":0},null,{"$f":"IF(ROUND(Q253,3)=0,0,Q253-(SUM(S252+S250)))","v":0},null,{"$f":"IF(ROUND(S253,3)=0,0,S253-(SUM(U252+U250)))","v":0},null,{"$f":"IF(ROUND(U253,3)=0,0,U253-(SUM(W252+W250)))","v":0},null,{"$f":"$Y$61","v":""}]
[{"$f":"$A$62","v":"Auszahlung"},{"$f":"$B$62","v":"Stunden laufendes Jahr"},null,null,null,null,{"$f":"IF($AJ$20=0,0,$AJ$20)","v":0},null,{"$f":"IF($AK$20=0,0,$AK$20)","v":0},null,{"$f":"IF($AL$20=0,0,$AL$20)","v":0},null,{"$f":"IF($AM$20=0,0,$AM$20)","v":0},null,{"$f":"IF($AN$20=0,0,$AN$20)","v":0},null,{"$f":"IF($AO$20=0,0,$AO$20)","v":0},null,{"$f":"IF($AP$20=0,0,$AP$20)","v":0},null,{"$f":"IF($AQ$20=0,0,$AQ$20)","v":0},null,{"$f":"IF($AR$20=0,0,$AR$20)","v":0},null,{"$f":"IF($AS$20=0,0,$AS$20)","v":0},null,{"$f":"IF($AT$20=0,0,$AT$20)","v":0},null,{"$f":"IF($AU$20=0,0,$AU$20)","v":0},null,{"$f":"IF($AV$20=0,0,$AV$20)","v":0}]
[{"$f":"$A$63","v":"Fehlstunden"},{"$f":"$B$63","v":"laufendes Jahr (Kontrolle)"},null,null,null,{"$f":"$F$63","v":"fe"},{"$f":"IF($AJ$14=0,0,$AJ$14)","v":0},null,{"$f":"IF($AK$14=0,0,$AK$14)","v":0},null,{"$f":"IF($AL$14=0,0,$AL$14)","v":0},null,{"$f":"IF($AM$14=0,0,$AM$14)","v":0},null,{"$f":"IF($AN$14=0,0,$AN$14)","v":0},null,{"$f":"IF($AO$14=0,0,$AO$14)","v":0},null,{"$f":"IF($AP$14=0,0,$AP$14)","v":0},null,{"$f":"IF($AQ$14=0,0,$AQ$14)","v":0},null,{"$f":"IF($AR$14=0,0,$AR$14)","v":0},null,{"$f":"IF($AS$14=0,0,$AS$14)","v":0},null,{"$f":"IF($AT$14=0,0,$AT$14)","v":0},null,{"$f":"IF($AU$14=0,0,$AU$14)","v":0},null,{"$f":"IF($AV$14=0,0,$AV$14)","v":0}]
[{"$f":"$A$64","v":"Total inkl. Zeitzuschläge"},{"$f":"$B$64","v":"Stunden produktiv und unproduktiv"},null,null,null,null,{"$f":"IF($AG$36=0,0,$AG$36)","v":0},null,{"$f":"IF($AG$99=0,0,$AG$99)","v":0},null,{"$f":"IF($AG$163=0,0,$AG$163)","v":0},null,{"$f":"IF($AG$227=0,0,$AG$227)","v":0},null,{"$f":"IF($AG$291=0,0,$AG$291)","v":0},null,{"$f":"IF($AG$355=0,0,$AG$355)","v":0},null,{"$f":"IF($AG$419=0,0,$AG$419)","v":0},null,{"$f":"IF($AG$483=0,0,$AG$483)","v":0},null,{"$f":"IF($AG$547=0,0,$AG$547)","v":0},null,{"$f":"IF($AG$611=0,0,$AG$611)","v":0},null,{"$f":"IF($AG$675=0,0,$AG$675)","v":0},null,{"$f":"IF($AG$739=0,0,$AG$739)","v":0},null,{"$f":"SUM($G$64:$AD$64)","v":0}]
[{"$f":"$A$65","v":"Vergleich"},{"$f":"$B$65","v":"Stunden zu Soll-Stunden (inkl. allfälli-\nge Minusstunden Vorjahr)"},null,null,null,null,{"$f":"$G$65","v":-168},null,{"$f":"$I$65","v":-160},null,{"$f":"$K$65","v":-184},null,{"$f":"$M$65","v":-168},null,{"$f":"$O$65","v":-176},null,{"$f":"$Q$65","v":-176},null,{"$f":"$S$65","v":-168},null,{"$f":"$U$65","v":-184},null,{"$f":"$W$65","v":-176},null,{"$f":"$Y$65","v":-168},null,{"$f":"$AA$65","v":-176},null,{"$f":"$AC$65","v":-176},null,{"$f":"$AE$65","v":-2080}]
[null,{"$f":"$B$66","v":"Stunden zu Soll-Stunden (kumuliert)"},null,null,null,null,{"$f":"$G$66","v":-168},null,{"$f":"$I$66","v":-328},null,{"$f":"$K$66","v":-512},null,{"$f":"$M$66","v":-680},null,{"$f":"$O$66","v":-856},null,{"$f":"$Q$66","v":-1032},null,{"$f":"$S$66","v":-1200},null,{"$f":"$U$66","v":-1384},null,{"$f":"$W$66","v":-1560},null,{"$f":"$Y$66","v":-1728},null,{"$f":"$AA$66","v":-1904},null,{"$f":"$AC$66","v":-2080},null,{"$f":"$AE$66","v":0}]
[{"$f":"$A$67","v":"Ferienkontrolle"},{"$f":"$B$67","v":"Ferienguthaben Vorjahr"},null,null,null,null,{"$f":"IF($AA$4=0,0,$AA$4)","v":0},null,{"$f":"$I$67","v":"Ferienguthaben nach \nArt. 12.1 GAV"},null,null,null,{"$f":"IF($AA$5=0,0,$AA$5)","v":0},null,{"$f":"$O$67","v":"Ferienguthaben total"},null,null,null,{"$f":"SUM(G259+M259)","v":0},null,{"$f":"$U$67","v":"Ferien bezogen"},null,null,null,{"$f":"IF($AV$4=0,0,$AV$4)","v":0},null,{"$f":"$AA$67","v":"Aktuelles Ferienguthaben"},null,null,null,{"$f":"IF(S259=0,0,S259-Y259)","v":0}]
[]
[]
[{"$f":"$A$3","v":"Mitarbeiter/In"},{"$f":"IF($B$3=\"\",\"\",$B$3)","v":"Muster Peter"},null,null,null,null,null,null,null,null,null,null,null,null,null,null,null,null,null,null,null,null,null,null,null,null,null,null,null,null,null,{"$f":"AF3","v":0}]
[{"$f":"$A$4","v":"Anstellung %"},{"$f":"$AL$48","v":100},null,{"$f":"Labels!B93","v":"im Mai"}]
[{"$f":"$A$5","v":"Saldo für das Jahr"},null,null,{"$f":"IF($AE$65=0,0,$AE$65)","v":-2080}]
[{"$f":"TEXT(DATE(YEAR(AP29),MONTH(AP29)+4,1),\"MMMM\"&Labels!B13)","v":"Mai"},{"$f":"$B$9","v":"Saldo Monat + / -"},null,null,null,{"$f":"(AG267-(SUM(AG268:AG282)-AE290))*-1","v":-176},null,null,null,null,{"$f":"$K$9","v":" = "},{"$f":"$L$9","v":"Gelbe Felder müssen ausgefüllt werden (die übrigen werden automatisch berechnet)"},null,null,null,null,null,null,null,null,null,null,null,null,null,null,null,null,null,null,null,null,{"$f":"COUNT(B268:AF268)&\" \"&Labels!$B$63","v":"22 Tage"}]
[{"$f":"$A$10","v":"Tag"},{"$f":"AE202+1","v":"2022-05-01"},{"$f":"B266+1","v":"2022-05-02"},{"$f":"C266+1","v":"2022-05-03"},"2022-05-04","2022-05-05","2022-05-06","2022-05-07","2022-05-08","2022-05-09","2022-05-10","2022-05-11","2022-05-12","2022-05-13","2022-05-14","2022-05-15","2022-05-16","2022-05-17","2022-05-18","2022-05-19","2022-05-20","2022-05-21","2022-05-22","2022-05-23","2022-05-24","2022-05-25","2022-05-26","2022-05-27","2022-05-28","2022-05-29","2022-05-30","2022-05-31"]
[{"$f":"$A$11","v":"Kalenderwoche"},{"$f":"IF(B266=\"\",\"\",TRUNC((B266-DATE(YEAR(B266+3-MOD(B266-2,7)),1,MOD(B266-2,7)-9))/7))","v":17},18,18,18,18,18,18,18,19,19,19,19,19,19,19,20,20,20,20,20,20,20,21,21,21,21,21,21,21,22,22,{"$f":"SUM(B268:AF268)","v":176}]
[{"$f":"$A$12","v":"Sollstunden"},{"$f":"IF(AND(MOD(B266,7)>=2,SUMPRODUCT(($AM$56:$AQ$56=MOD(B266,7))*$AM$48:$AQ$48)),($J$7*5/$AR$48)*$B$263%,\"\")","v":""},{"$f":"IF(AND(MOD(C266,7)>=2,SUMPRODUCT(($AM$56:$AQ$56=MOD(C266,7))*$AM$48:$AQ$48)),($J$7*5/$AR$48)*$B$263%,\"\")","v":8},{"$f":"IF(AND(MOD(D266,7)>=2,SUMPRODUCT(($AM$56:$AQ$56=MOD(D266,7))*$AM$48:$AQ$48)),($J$7*5/$AR$48)*$B$263%,\"\")","v":8},{"$f":"IF(AND(MOD(E266,7)>=2,SUMPRODUCT(($AM$56:$AQ$56=MOD(E266,7))*$AM$48:$AQ$48)),($J$7*5/$AR$48)*$B$263%,\"\")","v":8},{"$f":"IF(AND(MOD(F266,7)>=2,SUMPRODUCT(($AM$56:$AQ$56=MOD(F266,7))*$AM$48:$AQ$48)),($J$7*5/$AR$48)*$B$263%,\"\")","v":8},{"$f":"IF(AND(MOD(G266,7)>=2,SUMPRODUCT(($AM$56:$AQ$56=MOD(G266,7))*$AM$48:$AQ$48)),($J$7*5/$AR$48)*$B$263%,\"\")","v":8},{"$f":"IF(AND(MOD(H266,7)>=2,SUMPRODUCT(($AM$56:$AQ$56=MOD(H266,7))*$AM$48:$AQ$48)),($J$7*5/$AR$48)*$B$263%,\"\")","v":""},{"$f":"IF(AND(MOD(I266,7)>=2,SUMPRODUCT(($AM$56:$AQ$56=MOD(I266,7))*$AM$48:$AQ$48)),($J$7*5/$AR$48)*$B$263%,\"\")","v":""},{"$f":"IF(AND(MOD(J266,7)>=2,SUMPRODUCT(($AM$56:$AQ$56=MOD(J266,7))*$AM$48:$AQ$48)),($J$7*5/$AR$48)*$B$263%,\"\")","v":8},{"$f":"IF(AND(MOD(K266,7)>=2,SUMPRODUCT(($AM$56:$AQ$56=MOD(K266,7))*$AM$48:$AQ$48)),($J$7*5/$AR$48)*$B$263%,\"\")","v":8},{"$f":"IF(AND(MOD(L266,7)>=2,SUMPRODUCT(($AM$56:$AQ$56=MOD(L266,7))*$AM$48:$AQ$48)),($J$7*5/$AR$48)*$B$263%,\"\")","v":8},{"$f":"IF(AND(MOD(M266,7)>=2,SUMPRODUCT(($AM$56:$AQ$56=MOD(M266,7))*$AM$48:$AQ$48)),($J$7*5/$AR$48)*$B$263%,\"\")","v":8},{"$f":"IF(AND(MOD(N266,7)>=2,SUMPRODUCT(($AM$56:$AQ$56=MOD(N266,7))*$AM$48:$AQ$48)),($J$7*5/$AR$48)*$B$263%,\"\")","v":8},{"$f":"IF(AND(MOD(O266,7)>=2,SUMPRODUCT(($AM$56:$AQ$56=MOD(O266,7))*$AM$48:$AQ$48)),($J$7*5/$AR$48)*$B$263%,\"\")","v":""},{"$f":"IF(AND(MOD(P266,7)>=2,SUMPRODUCT(($AM$56:$AQ$56=MOD(P266,7))*$AM$48:$AQ$48)),($J$7*5/$AR$48)*$B$263%,\"\")","v":""},{"$f":"IF(AND(MOD(Q266,7)>=2,SUMPRODUCT(($AM$56:$AQ$56=MOD(Q266,7))*$AM$48:$AQ$48)),($J$7*5/$AR$48)*$B$263%,\"\")","v":8},{"$f":"IF(AND(MOD(R266,7)>=2,SUMPRODUCT(($AM$56:$AQ$56=MOD(R266,7))*$AM$48:$AQ$48)),($J$7*5/$AR$48)*$B$263%,\"\")","v":8},{"$f":"IF(AND(MOD(S266,7)>=2,SUMPRODUCT(($AM$56:$AQ$56=MOD(S266,7))*$AM$48:$AQ$48)),($J$7*5/$AR$48)*$B$263%,\"\")","v":8},{"$f":"IF(AND(MOD(T266,7)>=2,SUMPRODUCT(($AM$56:$AQ$56=MOD(T266,7))*$AM$48:$AQ$48)),($J$7*5/$AR$48)*$B$263%,\"\")","v":8},{"$f":"IF(AND(MOD(U266,7)>=2,SUMPRODUCT(($AM$56:$AQ$56=MOD(U266,7))*$AM$48:$AQ$48)),($J$7*5/$AR$48)*$B$263%,\"\")","v":8},{"$f":"IF(AND(MOD(V266,7)>=2,SUMPRODUCT(($AM$56:$AQ$56=MOD(V266,7))*$AM$48:$AQ$48)),($J$7*5/$AR$48)*$B$263%,\"\")","v":""},{"$f":"IF(AND(MOD(W266,7)>=2,SUMPRODUCT(($AM$56:$AQ$56=MOD(W266,7))*$AM$48:$AQ$48)),($J$7*5/$AR$48)*$B$263%,\"\")","v":""},{"$f":"IF(AND(MOD(X266,7)>=2,SUMPRODUCT(($AM$56:$AQ$56=MOD(X266,7))*$AM$48:$AQ$48)),($J$7*5/$AR$48)*$B$263%,\"\")","v":8},{"$f":"IF(AND(MOD(Y266,7)>=2,SUMPRODUCT(($AM$56:$AQ$56=MOD(Y266,7))*$AM$48:$AQ$48)),($J$7*5/$AR$48)*$B$263%,\"\")","v":8},{"$f":"IF(AND(MOD(Z266,7)>=2,SUMPRODUCT(($AM$56:$AQ$56=MOD(Z266,7))*$AM$48:$AQ$48)),($J$7*5/$AR$48)*$B$263%,\"\")","v":8},{"$f":"IF(AND(MOD(AA266,7)>=2,SUMPRODUCT(($AM$56:$AQ$56=MOD(AA266,7))*$AM$48:$AQ$48)),($J$7*5/$AR$48)*$B$263%,\"\")","v":8},{"$f":"IF(AND(MOD(AB266,7)>=2,SUMPRODUCT(($AM$56:$AQ$56=MOD(AB266,7))*$AM$48:$AQ$48)),($J$7*5/$AR$48)*$B$263%,\"\")","v":8},{"$f":"IF(AND(MOD(AC266,7)>=2,SUMPRODUCT(($AM$56:$AQ$56=MOD(AC266,7))*$AM$48:$AQ$48)),($J$7*5/$AR$48)*$B$263%,\"\")","v":""},{"$f":"IF(AND(MOD(AD266,7)>=2,SUMPRODUCT(($AM$56:$AQ$56=MOD(AD266,7))*$AM$48:$AQ$48)),($J$7*5/$AR$48)*$B$263%,\"\")","v":""},{"$f":"IF(AND(MOD(AE266,7)>=2,SUMPRODUCT(($AM$56:$AQ$56=MOD(AE266,7))*$AM$48:$AQ$48)),($J$7*5/$AR$48)*$B$263%,\"\")","v":8},{"$f":"IF(AND(MOD(AF266,7)>=2,SUMPRODUCT(($AM$56:$AQ$56=MOD(AF266,7))*$AM$48:$AQ$48)),($J$7*5/$AR$48)*$B$263%,\"\")","v":8},{"$f":"SUM(AN3:AN13)","v":0}]
[{"$f":"$A$13","v":"Absenz in Std"},{"$f":"B923","v":0},{"$f":"C923","v":0},0,0,0,0,0,0,0,0,0,0,0,0,0,0,0,0,0,0,0,0,0,0,0,0,0,0,0,0,0]
[{"$f":"$A$14","v":"Code"},{"$f":"IF(B923<>0,IF(MAX(B910:B922)<B923,Labels!$B$163,INDEX($AH$909:$AH$921,MATCH(MAX(B910:B922),B910:B922,0))),\"\")","v":""},{"$f":"IF(C923<>0,IF(MAX(C910:C922)<C923,Labels!$B$163,INDEX($AH$909:$AH$921,MATCH(MAX(C910:C922),C910:C922,0))),\"\")","v":""},{"$f":"IF(D923<>0,IF(MAX(D910:D922)<D923,Labels!$B$163,INDEX($AH$909:$AH$921,MATCH(MAX(D910:D922),D910:D922,0))),\"\")","v":""},{"$f":"IF(E923<>0,IF(MAX(E910:E922)<E923,Labels!$B$163,INDEX($AH$909:$AH$921,MATCH(MAX(E910:E922),E910:E922,0))),\"\")","v":""},{"$f":"IF(F923<>0,IF(MAX(F910:F922)<F923,Labels!$B$163,INDEX($AH$909:$AH$921,MATCH(MAX(F910:F922),F910:F922,0))),\"\")","v":""},{"$f":"IF(G923<>0,IF(MAX(G910:G922)<G923,Labels!$B$163,INDEX($AH$909:$AH$921,MATCH(MAX(G910:G922),G910:G922,0))),\"\")","v":""},{"$f":"IF(H923<>0,IF(MAX(H910:H922)<H923,Labels!$B$163,INDEX($AH$909:$AH$921,MATCH(MAX(H910:H922),H910:H922,0))),\"\")","v":""},{"$f":"IF(I923<>0,IF(MAX(I910:I922)<I923,Labels!$B$163,INDEX($AH$909:$AH$921,MATCH(MAX(I910:I922),I910:I922,0))),\"\")","v":""},{"$f":"IF(J923<>0,IF(MAX(J910:J922)<J923,Labels!$B$163,INDEX($AH$909:$AH$921,MATCH(MAX(J910:J922),J910:J922,0))),\"\")","v":""},{"$f":"IF(K923<>0,IF(MAX(K910:K922)<K923,Labels!$B$163,INDEX($AH$909:$AH$921,MATCH(MAX(K910:K922),K910:K922,0))),\"\")","v":""},{"$f":"IF(L923<>0,IF(MAX(L910:L922)<L923,Labels!$B$163,INDEX($AH$909:$AH$921,MATCH(MAX(L910:L922),L910:L922,0))),\"\")","v":""},{"$f":"IF(M923<>0,IF(MAX(M910:M922)<M923,Labels!$B$163,INDEX($AH$909:$AH$921,MATCH(MAX(M910:M922),M910:M922,0))),\"\")","v":""},{"$f":"IF(N923<>0,IF(MAX(N910:N922)<N923,Labels!$B$163,INDEX($AH$909:$AH$921,MATCH(MAX(N910:N922),N910:N922,0))),\"\")","v":""},{"$f":"IF(O923<>0,IF(MAX(O910:O922)<O923,Labels!$B$163,INDEX($AH$909:$AH$921,MATCH(MAX(O910:O922),O910:O922,0))),\"\")","v":""},{"$f":"IF(P923<>0,IF(MAX(P910:P922)<P923,Labels!$B$163,INDEX($AH$909:$AH$921,MATCH(MAX(P910:P922),P910:P922,0))),\"\")","v":""},{"$f":"IF(Q923<>0,IF(MAX(Q910:Q922)<Q923,Labels!$B$163,INDEX($AH$909:$AH$921,MATCH(MAX(Q910:Q922),Q910:Q922,0))),\"\")","v":""},{"$f":"IF(R923<>0,IF(MAX(R910:R922)<R923,Labels!$B$163,INDEX($AH$909:$AH$921,MATCH(MAX(R910:R922),R910:R922,0))),\"\")","v":""},{"$f":"IF(S923<>0,IF(MAX(S910:S922)<S923,Labels!$B$163,INDEX($AH$909:$AH$921,MATCH(MAX(S910:S922),S910:S922,0))),\"\")","v":""},{"$f":"IF(T923<>0,IF(MAX(T910:T922)<T923,Labels!$B$163,INDEX($AH$909:$AH$921,MATCH(MAX(T910:T922),T910:T922,0))),\"\")","v":""},{"$f":"IF(U923<>0,IF(MAX(U910:U922)<U923,Labels!$B$163,INDEX($AH$909:$AH$921,MATCH(MAX(U910:U922),U910:U922,0))),\"\")","v":""},{"$f":"IF(V923<>0,IF(MAX(V910:V922)<V923,Labels!$B$163,INDEX($AH$909:$AH$921,MATCH(MAX(V910:V922),V910:V922,0))),\"\")","v":""},{"$f":"IF(W923<>0,IF(MAX(W910:W922)<W923,Labels!$B$163,INDEX($AH$909:$AH$921,MATCH(MAX(W910:W922),W910:W922,0))),\"\")","v":""},{"$f":"IF(X923<>0,IF(MAX(X910:X922)<X923,Labels!$B$163,INDEX($AH$909:$AH$921,MATCH(MAX(X910:X922),X910:X922,0))),\"\")","v":""},{"$f":"IF(Y923<>0,IF(MAX(Y910:Y922)<Y923,Labels!$B$163,INDEX($AH$909:$AH$921,MATCH(MAX(Y910:Y922),Y910:Y922,0))),\"\")","v":""},{"$f":"IF(Z923<>0,IF(MAX(Z910:Z922)<Z923,Labels!$B$163,INDEX($AH$909:$AH$921,MATCH(MAX(Z910:Z922),Z910:Z922,0))),\"\")","v":""},{"$f":"IF(AA923<>0,IF(MAX(AA910:AA922)<AA923,Labels!$B$163,INDEX($AH$909:$AH$921,MATCH(MAX(AA910:AA922),AA910:AA922,0))),\"\")","v":""},{"$f":"IF(AB923<>0,IF(MAX(AB910:AB922)<AB923,Labels!$B$163,INDEX($AH$909:$AH$921,MATCH(MAX(AB910:AB922),AB910:AB922,0))),\"\")","v":""},{"$f":"IF(AC923<>0,IF(MAX(AC910:AC922)<AC923,Labels!$B$163,INDEX($AH$909:$AH$921,MATCH(MAX(AC910:AC922),AC910:AC922,0))),\"\")","v":""},{"$f":"IF(AD923<>0,IF(MAX(AD910:AD922)<AD923,Labels!$B$163,INDEX($AH$909:$AH$921,MATCH(MAX(AD910:AD922),AD910:AD922,0))),\"\")","v":""},{"$f":"IF(AE923<>0,IF(MAX(AE910:AE922)<AE923,Labels!$B$163,INDEX($AH$909:$AH$921,MATCH(MAX(AE910:AE922),AE910:AE922,0))),\"\")","v":""},{"$f":"IF(AF923<>0,IF(MAX(AF910:AF922)<AF923,Labels!$B$163,INDEX($AH$909:$AH$921,MATCH(MAX(AF910:AF922),AF910:AF922,0))),\"\")","v":""},{"$f":"SUM(B271:AF271)","v":0}]
[{"$f":"$A$15","v":"00.00-06.00h"},null,null,null,null,null,null,null,null,null,null,null,null,null,null,null,null,null,null,null,null,null,null,null,null,null,null,null,null,null,null,null,{"$f":"SUM(B272:AF272)","v":0}]
[{"$f":"$A$16","v":"06.00-20.00h"},null,null,null,null,null,null,null,null,null,null,null,null,null,null,null,null,null,null,null,null,null,null,null,null,null,null,null,null,null,null,null,{"$f":"SUM(B273:AF273)","v":0},"[0]"]
[{"$f":"$A$17","v":"20.00-24.00h"}]
[{"$f":"$A$18","v":"Feiertag \"ft\""},{"$f":"IF(WEEKDAY(B266,2)<=6,IF(KALENDER!E11=\"x\",Labels!$B$118,\"\"),\"\")","v":""},{"$f":"IF(WEEKDAY(C266,2)<=6,IF(KALENDER!F11=\"x\",Labels!$B$118,\"\"),\"\")","v":""},{"$f":"IF(WEEKDAY(D266,2)<=6,IF(KALENDER!G11=\"x\",Labels!$B$118,\"\"),\"\")","v":""},{"$f":"IF(WEEKDAY(E266,2)<=6,IF(KALENDER!H11=\"x\",Labels!$B$118,\"\"),\"\")","v":""},{"$f":"IF(WEEKDAY(F266,2)<=6,IF(KALENDER!I11=\"x\",Labels!$B$118,\"\"),\"\")","v":""},{"$f":"IF(WEEKDAY(G266,2)<=6,IF(KALENDER!J11=\"x\",Labels!$B$118,\"\"),\"\")","v":""},{"$f":"IF(WEEKDAY(H266,2)<=6,IF(KALENDER!K11=\"x\",Labels!$B$118,\"\"),\"\")","v":""},{"$f":"IF(WEEKDAY(I266,2)<=6,IF(KALENDER!L11=\"x\",Labels!$B$118,\"\"),\"\")","v":""},{"$f":"IF(WEEKDAY(J266,2)<=6,IF(KALENDER!M11=\"x\",Labels!$B$118,\"\"),\"\")","v":""},{"$f":"IF(WEEKDAY(K266,2)<=6,IF(KALENDER!N11=\"x\",Labels!$B$118,\"\"),\"\")","v":""},{"$f":"IF(WEEKDAY(L266,2)<=6,IF(KALENDER!O11=\"x\",Labels!$B$118,\"\"),\"\")","v":""},{"$f":"IF(WEEKDAY(M266,2)<=6,IF(KALENDER!P11=\"x\",Labels!$B$118,\"\"),\"\")","v":""},{"$f":"IF(WEEKDAY(N266,2)<=6,IF(KALENDER!Q11=\"x\",Labels!$B$118,\"\"),\"\")","v":""},{"$f":"IF(WEEKDAY(O266,2)<=6,IF(KALENDER!R11=\"x\",Labels!$B$118,\"\"),\"\")","v":""},{"$f":"IF(WEEKDAY(P266,2)<=6,IF(KALENDER!S11=\"x\",Labels!$B$118,\"\"),\"\")","v":""},{"$f":"IF(WEEKDAY(Q266,2)<=6,IF(KALENDER!T11=\"x\",Labels!$B$118,\"\"),\"\")","v":""},{"$f":"IF(WEEKDAY(R266,2)<=6,IF(KALENDER!U11=\"x\",Labels!$B$118,\"\"),\"\")","v":""},{"$f":"IF(WEEKDAY(S266,2)<=6,IF(KALENDER!V11=\"x\",Labels!$B$118,\"\"),\"\")","v":""},{"$f":"IF(WEEKDAY(T266,2)<=6,IF(KALENDER!W11=\"x\",Labels!$B$118,\"\"),\"\")","v":""},{"$f":"IF(WEEKDAY(U266,2)<=6,IF(KALENDER!X11=\"x\",Labels!$B$118,\"\"),\"\")","v":""},{"$f":"IF(WEEKDAY(V266,2)<=6,IF(KALENDER!Y11=\"x\",Labels!$B$118,\"\"),\"\")","v":""},{"$f":"IF(WEEKDAY(W266,2)<=6,IF(KALENDER!Z11=\"x\",Labels!$B$118,\"\"),\"\")","v":""},{"$f":"IF(WEEKDAY(X266,2)<=6,IF(KALENDER!AA11=\"x\",Labels!$B$118,\"\"),\"\")","v":""},{"$f":"IF(WEEKDAY(Y266,2)<=6,IF(KALENDER!AB11=\"x\",Labels!$B$118,\"\"),\"\")","v":""},{"$f":"IF(WEEKDAY(Z266,2)<=6,IF(KALENDER!AC11=\"x\",Labels!$B$118,\"\"),\"\")","v":""},{"$f":"IF(WEEKDAY(AA266,2)<=6,IF(KALENDER!AD11=\"x\",Labels!$B$118,\"\"),\"\")","v":""},{"$f":"IF(WEEKDAY(AB266,2)<=6,IF(KALENDER!AE11=\"x\",Labels!$B$118,\"\"),\"\")","v":""},{"$f":"IF(WEEKDAY(AC266,2)<=6,IF(KALENDER!AF11=\"x\",Labels!$B$118,\"\"),\"\")","v":""},{"$f":"IF(WEEKDAY(AD266,2)<=6,IF(KALENDER!AG11=\"x\",Labels!$B$118,\"\"),\"\")","v":""},{"$f":"IF(WEEKDAY(AE266,2)<=6,IF(KALENDER!AH11=\"x\",Labels!$B$118,\"\"),\"\")","v":""},{"$f":"IF(WEEKDAY(AF266,2)<=6,IF(KALENDER!AI11=\"x\",Labels!$B$118,\"\"),\"\")","v":""},{"$f":"SUM(B275:AF275)","v":0}]
[{"$f":"$A$19","v":"Gutschrift \"ft\""},{"$f":"IF(AND(B274=Labels!$B$118,WEEKDAY(B266,2)<6,B$268<>\"\"),($J$7*5/$AR$48)*$B$263%,\"\")","v":""},{"$f":"IF(AND(C274=Labels!$B$118,WEEKDAY(C266,2)<6,C$268<>\"\"),($J$7*5/$AR$48)*$B$263%,\"\")","v":""},{"$f":"IF(AND(D274=Labels!$B$118,WEEKDAY(D266,2)<6,D$268<>\"\"),($J$7*5/$AR$48)*$B$263%,\"\")","v":""},{"$f":"IF(AND(E274=Labels!$B$118,WEEKDAY(E266,2)<6,E$268<>\"\"),($J$7*5/$AR$48)*$B$263%,\"\")","v":""},{"$f":"IF(AND(F274=Labels!$B$118,WEEKDAY(F266,2)<6,F$268<>\"\"),($J$7*5/$AR$48)*$B$263%,\"\")","v":""},{"$f":"IF(AND(G274=Labels!$B$118,WEEKDAY(G266,2)<6,G$268<>\"\"),($J$7*5/$AR$48)*$B$263%,\"\")","v":""},{"$f":"IF(AND(H274=Labels!$B$118,WEEKDAY(H266,2)<6,H$268<>\"\"),($J$7*5/$AR$48)*$B$263%,\"\")","v":""},{"$f":"IF(AND(I274=Labels!$B$118,WEEKDAY(I266,2)<6,I$268<>\"\"),($J$7*5/$AR$48)*$B$263%,\"\")","v":""},{"$f":"IF(AND(J274=Labels!$B$118,WEEKDAY(J266,2)<6,J$268<>\"\"),($J$7*5/$AR$48)*$B$263%,\"\")","v":""},{"$f":"IF(AND(K274=Labels!$B$118,WEEKDAY(K266,2)<6,K$268<>\"\"),($J$7*5/$AR$48)*$B$263%,\"\")","v":""},{"$f":"IF(AND(L274=Labels!$B$118,WEEKDAY(L266,2)<6,L$268<>\"\"),($J$7*5/$AR$48)*$B$263%,\"\")","v":""},{"$f":"IF(AND(M274=Labels!$B$118,WEEKDAY(M266,2)<6,M$268<>\"\"),($J$7*5/$AR$48)*$B$263%,\"\")","v":""},{"$f":"IF(AND(N274=Labels!$B$118,WEEKDAY(N266,2)<6,N$268<>\"\"),($J$7*5/$AR$48)*$B$263%,\"\")","v":""},{"$f":"IF(AND(O274=Labels!$B$118,WEEKDAY(O266,2)<6,O$268<>\"\"),($J$7*5/$AR$48)*$B$263%,\"\")","v":""},{"$f":"IF(AND(P274=Labels!$B$118,WEEKDAY(P266,2)<6,P$268<>\"\"),($J$7*5/$AR$48)*$B$263%,\"\")","v":""},{"$f":"IF(AND(Q274=Labels!$B$118,WEEKDAY(Q266,2)<6,Q$268<>\"\"),($J$7*5/$AR$48)*$B$263%,\"\")","v":""},{"$f":"IF(AND(R274=Labels!$B$118,WEEKDAY(R266,2)<6,R$268<>\"\"),($J$7*5/$AR$48)*$B$263%,\"\")","v":""},{"$f":"IF(AND(S274=Labels!$B$118,WEEKDAY(S266,2)<6,S$268<>\"\"),($J$7*5/$AR$48)*$B$263%,\"\")","v":""},{"$f":"IF(AND(T274=Labels!$B$118,WEEKDAY(T266,2)<6,T$268<>\"\"),($J$7*5/$AR$48)*$B$263%,\"\")","v":""},{"$f":"IF(AND(U274=Labels!$B$118,WEEKDAY(U266,2)<6,U$268<>\"\"),($J$7*5/$AR$48)*$B$263%,\"\")","v":""},{"$f":"IF(AND(V274=Labels!$B$118,WEEKDAY(V266,2)<6,V$268<>\"\"),($J$7*5/$AR$48)*$B$263%,\"\")","v":""},{"$f":"IF(AND(W274=Labels!$B$118,WEEKDAY(W266,2)<6,W$268<>\"\"),($J$7*5/$AR$48)*$B$263%,\"\")","v":""},{"$f":"IF(AND(X274=Labels!$B$118,WEEKDAY(X266,2)<6,X$268<>\"\"),($J$7*5/$AR$48)*$B$263%,\"\")","v":""},{"$f":"IF(AND(Y274=Labels!$B$118,WEEKDAY(Y266,2)<6,Y$268<>\"\"),($J$7*5/$AR$48)*$B$263%,\"\")","v":""},{"$f":"IF(AND(Z274=Labels!$B$118,WEEKDAY(Z266,2)<6,Z$268<>\"\"),($J$7*5/$AR$48)*$B$263%,\"\")","v":""},{"$f":"IF(AND(AA274=Labels!$B$118,WEEKDAY(AA266,2)<6,AA$268<>\"\"),($J$7*5/$AR$48)*$B$263%,\"\")","v":""},{"$f":"IF(AND(AB274=Labels!$B$118,WEEKDAY(AB266,2)<6,AB$268<>\"\"),($J$7*5/$AR$48)*$B$263%,\"\")","v":""},{"$f":"IF(AND(AC274=Labels!$B$118,WEEKDAY(AC266,2)<6,AC$268<>\"\"),($J$7*5/$AR$48)*$B$263%,\"\")","v":""},{"$f":"IF(AND(AD274=Labels!$B$118,WEEKDAY(AD266,2)<6,AD$268<>\"\"),($J$7*5/$AR$48)*$B$263%,\"\")","v":""},{"$f":"IF(AND(AE274=Labels!$B$118,WEEKDAY(AE266,2)<6,AE$268<>\"\"),($J$7*5/$AR$48)*$B$263%,\"\")","v":""},{"$f":"IF(AND(AF274=Labels!$B$118,WEEKDAY(AF266,2)<6,AF$268<>\"\"),($J$7*5/$AR$48)*$B$263%,\"\")","v":""}]
[{"$f":"$A$20","v":"Tagestotal"},{"$f":"SUM(B271:B273)","v":0},{"$f":"SUM(C271:C273)","v":0},0,0,0,0,0,0,0,0,0,0,0,0,0,0,0,0,0,0,0,0,0,0,0,0,0,0,0,0,0]
[{"$f":"$A$21","v":"."}]
[{"$f":"$A$22","v":"."}]
[{"$f":"$A$23","v":"Monatsübergang"},{"$f":"IF(WEEKDAY(B266)=1,TEXT(B266-1,\"MMM\"&Labels!B13),\"\")","v":"Apr"},null,null,null,null,null,null,null,null,null,null,null,null,null,null,null,null,null,null,null,null,null,null,null,null,null,null,null,null,null,{"$f":"IF(AND(WEEKDAY(AF266)>1,WEEKDAY(AF266)<7),TEXT(DATE($B$5,MONTH(AF266)+1,1),\"MMM\"&Labels!B13),\"\")","v":"Jun"}]
[{"$f":"$A$24","v":"Wochentotal"},{"$f":"IF(WEEKDAY(B266)=7,SUMIF($B203:$AF203,B267,$B212:$AF212)+SUMIF($B267:$AF267,B267,$B276:$AF276)+SUMIF($B331:$AF331,B267,$B340:$AF340),B279)","v":"Apr"},{"$f":"IF(WEEKDAY(C266)=7,SUMIF($B203:$AF203,C267,$B212:$AF212)+SUMIF($B267:$AF267,C267,$B276:$AF276)+SUMIF($B331:$AF331,C267,$B340:$AF340),\"\")","v":""},"","","","",0,"","","","","","",0,"","","","","","",0,"","","","","","",0,"","",{"$f":"IF(WEEKDAY(AF266)=7,SUMIF($B203:$AF203,AF267,$B212:$AF212)+SUMIF($B267:$AF267,AF267,$B276:$AF276)+SUMIF($B331:$AF331,AF267,$B340:$AF340),AF279)","v":"Jun"},{"$f":"SUM(B281:AF281)","v":0}]
[{"$f":"$A$25","v":"Zeitzuschlag 1)"},{"$f":"IF(B288=\"FALSCH\",\"\",B288)","v":""},{"$f":"IF(C288=\"FALSCH\",\"\",C288)","v":""},"","","","","","","","","","","","","","","","","","","","","","","","","","","","","",0,"[1]"]
[{"$f":"$A$26","v":"Zeitzuschlag 2)"},{"$f":"IF((B271+B273)=0,\"\",SUM(B271,B273))","v":""},{"$f":"IF((C271+C273)=0,\"\",SUM(C271,C273))","v":""},"","","","","","","","","","","","","","","","","","","","","","","","","","","","","",{"$f":"SUM(B283:AF283)","v":0},"[2]"]
[{"$f":"$A$27","v":"Zeitzuschlag 3)"},{"$f":"SUM(B284:B287)","v":0},{"$f":"SUM(C284:C287)","v":0},0,0,0,0,0,0,0,0,0,0,0,0,0,0,0,0,0,0,0,0,0,0,0,0,0,0,0,0,0,0,"[3]"]
[{"$f":"$A$28","v":"Sonntag Tag"},{"$f":"IF(WEEKDAY(B266)=1,B272,\"\")","v":0},{"$f":"IF(WEEKDAY(C266)=1,C272,\"\")","v":""},"","","","","",0,"","","","","","",0,"","","","","","",0,"","","","","","",0,"","",0,"[4]"]
[{"$f":"$A$29","v":"Sonntag Nacht"},{"$f":"IF(WEEKDAY(B266)=1,SUM(B271+B273),\"\")","v":0},{"$f":"IF(WEEKDAY(C266)=1,SUM(C271+C273),\"\")","v":""},"","","","","",0,"","","","","","",0,"","","","","","",0,"","","","","","",0,"","",0,"[5]"]
[{"$f":"$A$30","v":"ft-Tazuschlag"},{"$f":"IF(B274=Labels!$B$118,B272,\"\")","v":""},{"$f":"IF(C274=Labels!$B$118,C272,\"\")","v":""},{"$f":"IF(D274=Labels!$B$118,D272,\"\")","v":""},{"$f":"IF(E274=Labels!$B$118,E272,\"\")","v":""},{"$f":"IF(F274=Labels!$B$118,F272,\"\")","v":""},{"$f":"IF(G274=Labels!$B$118,G272,\"\")","v":""},{"$f":"IF(H274=Labels!$B$118,H272,\"\")","v":""},{"$f":"IF(I274=Labels!$B$118,I272,\"\")","v":""},{"$f":"IF(J274=Labels!$B$118,J272,\"\")","v":""},{"$f":"IF(K274=Labels!$B$118,K272,\"\")","v":""},{"$f":"IF(L274=Labels!$B$118,L272,\"\")","v":""},{"$f":"IF(M274=Labels!$B$118,M272,\"\")","v":""},{"$f":"IF(N274=Labels!$B$118,N272,\"\")","v":""},{"$f":"IF(O274=Labels!$B$118,O272,\"\")","v":""},{"$f":"IF(P274=Labels!$B$118,P272,\"\")","v":""},{"$f":"IF(Q274=Labels!$B$118,Q272,\"\")","v":""},{"$f":"IF(R274=Labels!$B$118,R272,\"\")","v":""},{"$f":"IF(S274=Labels!$B$118,S272,\"\")","v":""},{"$f":"IF(T274=Labels!$B$118,T272,\"\")","v":""},{"$f":"IF(U274=Labels!$B$118,U272,\"\")","v":""},{"$f":"IF(V274=Labels!$B$118,V272,\"\")","v":""},{"$f":"IF(W274=Labels!$B$118,W272,\"\")","v":""},{"$f":"IF(X274=Labels!$B$118,X272,\"\")","v":""},{"$f":"IF(Y274=Labels!$B$118,Y272,\"\")","v":""},{"$f":"IF(Z274=Labels!$B$118,Z272,\"\")","v":""},{"$f":"IF(AA274=Labels!$B$118,AA272,\"\")","v":""},{"$f":"IF(AB274=Labels!$B$118,AB272,\"\")","v":""},{"$f":"IF(AC274=Labels!$B$118,AC272,\"\")","v":""},{"$f":"IF(AD274=Labels!$B$118,AD272,\"\")","v":""},{"$f":"IF(AE274=Labels!$B$118,AE272,\"\")","v":""},{"$f":"IF(AF274=Labels!$B$118,AF272,\"\")","v":""},0,"[6]"]
[{"$f":"$A$31","v":"ft-Nazuschlag"},{"$f":"IF(B274=Labels!$B$118,SUM(B271,B273),\"\")","v":""},{"$f":"IF(C274=Labels!$B$118,SUM(C271,C273),\"\")","v":""},{"$f":"IF(D274=Labels!$B$118,SUM(D271,D273),\"\")","v":""},{"$f":"IF(E274=Labels!$B$118,SUM(E271,E273),\"\")","v":""},{"$f":"IF(F274=Labels!$B$118,SUM(F271,F273),\"\")","v":""},{"$f":"IF(G274=Labels!$B$118,SUM(G271,G273),\"\")","v":""},{"$f":"IF(H274=Labels!$B$118,SUM(H271,H273),\"\")","v":""},{"$f":"IF(I274=Labels!$B$118,SUM(I271,I273),\"\")","v":""},{"$f":"IF(J274=Labels!$B$118,SUM(J271,J273),\"\")","v":""},{"$f":"IF(K274=Labels!$B$118,SUM(K271,K273),\"\")","v":""},{"$f":"IF(L274=Labels!$B$118,SUM(L271,L273),\"\")","v":""},{"$f":"IF(M274=Labels!$B$118,SUM(M271,M273),\"\")","v":""},{"$f":"IF(N274=Labels!$B$118,SUM(N271,N273),\"\")","v":""},{"$f":"IF(O274=Labels!$B$118,SUM(O271,O273),\"\")","v":""},{"$f":"IF(P274=Labels!$B$118,SUM(P271,P273),\"\")","v":""},{"$f":"IF(Q274=Labels!$B$118,SUM(Q271,Q273),\"\")","v":""},{"$f":"IF(R274=Labels!$B$118,SUM(R271,R273),\"\")","v":""},{"$f":"IF(S274=Labels!$B$118,SUM(S271,S273),\"\")","v":""},{"$f":"IF(T274=Labels!$B$118,SUM(T271,T273),\"\")","v":""},{"$f":"IF(U274=Labels!$B$118,SUM(U271,U273),\"\")","v":""},{"$f":"IF(V274=Labels!$B$118,SUM(V271,V273),\"\")","v":""},{"$f":"IF(W274=Labels!$B$118,SUM(W271,W273),\"\")","v":""},{"$f":"IF(X274=Labels!$B$118,SUM(X271,X273),\"\")","v":""},{"$f":"IF(Y274=Labels!$B$118,SUM(Y271,Y273),\"\")","v":""},{"$f":"IF(Z274=Labels!$B$118,SUM(Z271,Z273),\"\")","v":""},{"$f":"IF(AA274=Labels!$B$118,SUM(AA271,AA273),\"\")","v":""},{"$f":"IF(AB274=Labels!$B$118,SUM(AB271,AB273),\"\")","v":""},{"$f":"IF(AC274=Labels!$B$118,SUM(AC271,AC273),\"\")","v":""},{"$f":"IF(AD274=Labels!$B$118,SUM(AD271,AD273),\"\")","v":""},{"$f":"IF(AE274=Labels!$B$118,SUM(AE271,AE273),\"\")","v":""},{"$f":"IF(AF274=Labels!$B$118,SUM(AF271,AF273),\"\")","v":""},{"$f":"AG271","v":0},"[7]"]
[{"$f":"$A$32","v":"Zuschlag  blind (Wochentotal)"},{"$f":"IF(OR(ISTEXT(B280),B280=\"\",B280<$B$7),\"\",ROUND(((B280-$B$7)*25%)/25,4)*25)","v":""},{"$f":"IF(OR(ISTEXT(C280),C280=\"\",C280<$B$7),\"\",ROUND(((C280-$B$7)*25%)/25,4)*25)","v":""},"","","","","","","","","","","","","","","","","","","","","","","","","","","","","",{"$f":"SUM(AG270+AG272)","v":0},"[8]"]
[null,{"$f":"$B$33","v":"1)   25% Zeitzuschlag für Überschreitung Wochentotal"},null,null,null,null,null,null,null,null,null,{"$f":"$L$33","v":"2) 100% Zeitzuschlag für Nachtarbeit"},null,null,null,null,null,null,null,{"$f":"$T$33","v":"Eingabe der ausbezahlten Stunden Vorjahressaldo"},null,null,null,null,null,null,null,null,null,null,null,null,{"$f":"SUM(AG270:AG272)","v":0},"[9]"]
[null,{"$f":"$B$34","v":"3) 100% Zeitzuschlag für Sonn- und Feiertagsarbeit"},null,null,null,null,null,null,null,null,null,null,null,null,null,null,null,null,null,{"$f":"$T$34","v":"Eingabe der ausbezahlten Stunden laufendes Jahr (Überstunden)"},null,null,null,null,null,null,null,null,null,null,null,null,{"$f":"SUM(AG268+AG274)","v":0},"[10]"]
[{"$f":"$A$35","v":"Bemerkungen"},null,null,null,null,null,null,null,null,null,null,null,null,null,null,null,null,null,null,null,null,null,null,null,null,null,null,null,null,null,null,null,{"$f":"SUM(AG268:AG282)","v":0},"[11]"]
[null,null,null,null,null,null,null,null,null,null,null,null,null,null,null,null,null,null,null,null,null,null,null,null,null,null,null,null,null,null,null,null,{"$f":"AG267","v":176}]
[null,null,null,null,null,null,null,null,null,null,null,null,null,null,null,null,null,null,null,null,null,null,null,null,null,null,null,null,null,null,null,null,{"$f":"SUM(AG291-AG267)","v":-176}]
[]
[{"$f":"$A$39","v":"Zusammenstellung"},null,null,null,null,null,{"$f":"$G$39","v":"Jan"},null,{"$f":"$I$39","v":"Feb"},null,{"$f":"$K$39","v":"Mrz"},null,{"$f":"$M$39","v":"Apr"},null,{"$f":"$O$39","v":"Mai"},null,{"$f":"$Q$39","v":"Jun"},null,{"$f":"$S$39","v":"Jul"},null,{"$f":"$U$39","v":"Aug"},null,{"$f":"$W$39","v":"Sep"},null,{"$f":"$Y$39","v":"Okt"},null,{"$f":"$AA$39","v":"Nov"},null,{"$f":"$AC$39","v":"Dez"},null,{"$f":"$AE$39","v":"Jahr"}]
[{"$f":"$A$40","v":"Anstellung %"},null,null,null,null,null,{"$f":"IF($B$4=0,0,$B$4)","v":100},null,{"$f":"IF($B$71=0,0,$B$71)","v":100},null,{"$f":"IF($B$135=0,0,$B$135)","v":100},null,{"$f":"IF($B$199=0,0,$B$199)","v":100},null,{"$f":"IF($B$263=0,0,$B$263)","v":100},null,{"$f":"IF($B$327=0,0,$B$327)","v":100},null,{"$f":"IF($B$391=0,0,$B$391)","v":100},null,{"$f":"IF($B$455=0,0,$B$455)","v":100},null,{"$f":"IF($B$519=0,0,$B$519)","v":100},null,{"$f":"IF($B$583=0,0,$B$583)","v":100},null,{"$f":"IF($B$647=0,0,$B$647)","v":100},null,{"$f":"IF($B$711=0,0,$B$711)","v":100}]
[{"$f":"$A$41","v":"Sollstunden gemäss GAV"},null,null,null,null,null,{"$f":"IF($AG$37=0,0,$AG$37)","v":168},null,{"$f":"IF($AG$100=0,0,$AG$100)","v":160},null,{"$f":"IF($AG$139=0,0,$AG$139)","v":184},null,{"$f":"IF($AG$228=0,0,$AG$228)","v":168},null,{"$f":"IF($AG$292=0,0,$AG$292)","v":176},null,{"$f":"IF($AG$356=0,0,$AG$356)","v":176},null,{"$f":"IF($AG$420=0,0,$AG$420)","v":168},null,{"$f":"IF($AG$484=0,0,$AG$484)","v":184},null,{"$f":"IF($AG$548=0,0,$AG$548)","v":176},null,{"$f":"IF($AG$612=0,0,$AG$612)","v":168},null,{"$f":"IF($AG$676=0,0,$AG$676)","v":176},null,{"$f":"IF($AG$740=0,0,$AG$740)","v":176},null,{"$f":"SUM(G297:AD297)","v":2080}]
[{"$f":"$A$42","v":"Produktive Stunden"},{"$f":"$B$42","v":"06.00 - 20.00 Uhr"},null,null,null,null,{"$f":"IF($AG$32=0,0,$AG$32)","v":0},null,{"$f":"IF($AG$95=0,0,$AG$95)","v":0},null,{"$f":"IF($AG$159=0,0,$AG$159)","v":0},null,{"$f":"IF($AG$223=0,0,$AG$223)","v":0},null,{"$f":"IF($AG$287=0,0,$AG$287)","v":0},null,{"$f":"IF($AG$351=0,0,$AG$351)","v":0},null,{"$f":"IF($AG$415=0,0,$AG$415)","v":0},null,{"$f":"IF($AG$479=0,0,$AG$479)","v":0},null,{"$f":"IF($AG$543=0,0,$AG$543)","v":0},null,{"$f":"IF($AG$607=0,0,$AG$607)","v":0},null,{"$f":"IF($AG$671=0,0,$AG$671)","v":0},null,{"$f":"IF($AG$735=0,0,$AG$735)","v":0},null,{"$f":"SUM(G298:AD298)","v":0}]
[null,{"$f":"$B$43","v":"Nacht-, Sonn-, Feiertagsarbeit"},null,null,null,null,{"$f":"IF($AG$33=0,0,$AG$33)","v":0},null,{"$f":"IF($AG$96=0,0,$AG$96)","v":0},null,{"$f":"IF($AG$160=0,0,$AG$160)","v":0},null,{"$f":"IF($AG$224=0,0,$AG$224)","v":0},null,{"$f":"IF($AG$288=0,0,$AG$288)","v":0},null,{"$f":"IF($AG$352=0,0,$AG$352)","v":0},null,{"$f":"IF($AG$416=0,0,$AG$416)","v":0},null,{"$f":"IF($AG$480=0,0,$AG$480)","v":0},null,{"$f":"IF($AG$544=0,0,$AG$544)","v":0},null,{"$f":"IF($AG$608=0,0,$AG$608)","v":0},null,{"$f":"IF($AG$672=0,0,$AG$672)","v":0},null,{"$f":"IF($AG$736=0,0,$AG$736)","v":0},null,{"$f":"SUM(G299:AD299)","v":0}]
[{"$f":"$A$44","v":"Zeitzuschläge"},{"$f":"$B$44","v":"aus Wochentotal"},null,null,null,null,{"$f":"IF($AG$25=0,0,$AG$25)","v":0},null,{"$f":"IF($AG$88=0,0,$AG$88)","v":0},null,{"$f":"IF($AG$152=0,0,$AG$152)","v":0},null,{"$f":"IF($AG$216=0,0,$AG$216)","v":0},null,{"$f":"IF($AG$280=0,0,$AG$280)","v":0},null,{"$f":"IF($AG$344=0,0,$AG$344)","v":0},null,{"$f":"IF($AG$408=0,0,$AG$408)","v":0},null,{"$f":"IF($AG$472=0,0,$AG$472)","v":0},null,{"$f":"IF($AG$536=0,0,$AG$536)","v":0},null,{"$f":"IF($AG$600=0,0,$AG$600)","v":0},null,{"$f":"IF($AG$664=0,0,$AG$664)","v":0},null,{"$f":"IF($AG$728=0,0,$AG$728)","v":0},null,{"$f":"SUM(G300:AD300)","v":0}]
[null,{"$f":"$B$45","v":"aus Nacht-, Sonn-, Feiertagsarbeiten"},null,null,null,null,{"$f":"IF($AJ$21=0,0,$AJ$21)","v":0},null,{"$f":"IF($AK$21=0,0,$AK$21)","v":0},null,{"$f":"IF($AL$21=0,0,$AL$21)","v":0},null,{"$f":"IF($AM$21=0,0,$AM$21)","v":0},null,{"$f":"IF($AN$21=0,0,$AN$21)","v":0},null,{"$f":"IF($AO$21=0,0,$AO$21)","v":0},null,{"$f":"IF($AP$21=0,0,$AP$21)","v":0},null,{"$f":"IF($AQ$21=0,0,$AQ$21)","v":0},null,{"$f":"IF($AR$21=0,0,$AR$21)","v":0},null,{"$f":"IF($AS$21=0,0,$AS$21)","v":0},null,{"$f":"IF($AT$21=0,0,$AT$21)","v":0},null,{"$f":"IF($AU$21=0,0,$AU$21)","v":0},null,{"$f":"SUM(G301:AD301)","v":0}]
[{"$f":"$A$46","v":"Unproduktive Stunden"}]
[{"$f":"$A$47","v":"   Absenzen, Kurzabsenzen Art. 11 GAV"},null,null,null,null,{"$f":"$F$47","v":"a"},{"$f":"IF($AJ$3=0,0,$AJ$3)","v":0},null,{"$f":"IF($AK$3=0,0,$AK$3)","v":0},null,{"$f":"IF($AL$3=0,0,$AL$3)","v":0},null,{"$f":"IF($AM$3=0,0,$AM$3)","v":0},null,{"$f":"IF($AN$3=0,0,$AN$3)","v":0},null,{"$f":"IF($AO$3=0,0,$AO$3)","v":0},null,{"$f":"IF($AP$3=0,0,$AP$3)","v":0},null,{"$f":"IF($AQ$3=0,0,$AQ$3)","v":0},null,{"$f":"IF($AR$3=0,0,$AR$3)","v":0},null,{"$f":"IF($AS$3=0,0,$AS$3)","v":0},null,{"$f":"IF(AT$3=0,0,$AT$3)","v":0},null,{"$f":"IF($AU$3=0,0,$AU$3)","v":0},null,{"$f":"IF($AV$3=0,0,$AV$3)","v":0}]
[{"$f":"$A$48","v":"   Ferien Art. 12.1 GAV"},null,null,null,null,{"$f":"$F$48","v":"f"},{"$f":"IF($AJ$4=0,0,$AJ$4)","v":0},null,{"$f":"IF($AK$4=0,0,$AK$4)","v":0},null,{"$f":"IF($AL$4=0,0,$AL$4)","v":0},null,{"$f":"IF($AM$4=0,0,$AM$4)","v":0},null,{"$f":"IF($AN$4=0,0,$AN$4)","v":0},null,{"$f":"IF($AO$4=0,0,$AO$4)","v":0},null,{"$f":"IF($AP$4=0,0,$AP$4)","v":0},null,{"$f":"IF($AQ$4=0,0,$AQ$4)","v":0},null,{"$f":"IF($AR$4=0,0,$AR$4)","v":0},null,{"$f":"IF($AS$4=0,0,$AS$4)","v":0},null,{"$f":"IF($AT$4=0,0,$AT$4)","v":0},null,{"$f":"IF($AU$4=0,0,$AU$4)","v":0},null,{"$f":"IF($AV$4=0,0,$AV$4)","v":0}]
[{"$f":"Labels!$B$181","v":"   Ferien unbezahlt"},null,null,null,null,{"$f":"Labels!$B$182","v":"fu"},{"$f":"IF($AJ$13=0,0,$AJ$13)","v":0},null,{"$f":"IF($AK$13=0,0,$AK$13)","v":0},null,{"$f":"IF($AL$13=0,0,$AL$13)","v":0},null,{"$f":"IF($AM$13=0,0,$AM$13)","v":0},null,{"$f":"IF($AN$13=0,0,$AN$13)","v":0},null,{"$f":"IF($AO$13=0,0,$AO$13)","v":0},null,{"$f":"IF($AP$13=0,0,$AP$13)","v":0},null,{"$f":"IF($AQ$13=0,0,$AQ$13)","v":0},null,{"$f":"IF($AR$13=0,0,$AR$13)","v":0},null,{"$f":"IF($AS$13=0,0,$AS$13)","v":0},null,{"$f":"IF($AT$13=0,0,$AT$13)","v":0},null,{"$f":"IF($AU$13=0,0,$AU$13)","v":0},null,{"$f":"IF($AV$13=0,0,$AV$13)","v":0}]
[{"$f":"$A$50","v":"   Feiertage Art. 12.2 GAV"},null,{"$f":"IF($AJ$18=\"\",\"\",$AJ$18)","v":""},null,null,{"$f":"$F$50","v":"ft"},{"$f":"IF($AJ$16=0,0,$AJ$16)","v":0},null,{"$f":"IF($AK$16=0,0,$AK$16)","v":0},null,{"$f":"IF($AL$16=0,0,$AL$16)","v":0},null,{"$f":"IF($AM$16=0,0,$AM$16)","v":0},null,{"$f":"IF($AN$16=0,0,$AN$16)","v":0},null,{"$f":"IF($AO$16=0,0,$AO$16)","v":0},null,{"$f":"IF($AP$16=0,0,$AP$16)","v":0},null,{"$f":"IF($AQ$16=0,0,$AQ$16)","v":0},null,{"$f":"IF($AR$16=0,0,$AR$16)","v":0},null,{"$f":"IF($AS$16=0,0,$AS$16)","v":0},null,{"$f":"IF($AT$16=0,0,$AT$16)","v":0},null,{"$f":"IF($AU$16=0,0,$AU$16)","v":0},null,{"$f":"IF($AV$16=0,0,$AV$16)","v":0}]
[{"$f":"$A$51","v":"   Krankheit Art. 13 GAV"},null,null,null,null,{"$f":"$F$51","v":"k"},{"$f":"IF($AJ$5=0,0,$AJ$5)","v":0},null,{"$f":"IF($AK$5=0,0,$AK$5)","v":0},null,{"$f":"IF($AL$5=0,0,$AL$5)","v":0},null,{"$f":"IF($AM$5=0,0,$AM$5)","v":0},null,{"$f":"IF($AN$5=0,0,$AN$5)","v":0},null,{"$f":"IF($AO$5=0,0,$AO$5)","v":0},null,{"$f":"IF($AP$5=0,0,$AP$5)","v":0},null,{"$f":"IF($AQ$5=0,0,$AQ$5)","v":0},null,{"$f":"IF($AR$5=0,0,$AR$5)","v":0},null,{"$f":"IF($AS$5=0,0,$AS$5)","v":0},null,{"$f":"IF($AT$5=0,0,$AT$5)","v":0},null,{"$f":"IF($AU$5=0,0,$AU$5)","v":0},null,{"$f":"IF($AV$5=0,0,$AV$5)","v":0}]
[{"$f":"$A$52","v":"   Unfall Art. 14 GAV"},null,null,null,null,{"$f":"$F$52","v":"u"},{"$f":"IF($AJ$6=0,0,$AJ$6)","v":0},null,{"$f":"IF($AK$6=0,0,$AK$6)","v":0},null,{"$f":"IF($AL$6=0,0,$AL$6)","v":0},null,{"$f":"IF($AM$6=0,0,$AM$6)","v":0},null,{"$f":"IF($AN$6=0,0,$AN$6)","v":0},null,{"$f":"IF($AO$6=0,0,$AO$6)","v":0},null,{"$f":"IF($AP$6=0,0,$AP$6)","v":0},null,{"$f":"IF($AQ$6=0,0,$AQ$6)","v":0},null,{"$f":"IF($AR$6=0,0,$AR$6)","v":0},null,{"$f":"IF($AS$6=0,0,$AS$6)","v":0},null,{"$f":"IF($AT$6=0,0,$AT$6)","v":0},null,{"$f":"IF($AU$6=0,0,$AU$6)","v":0},null,{"$f":"IF($AV$6=0,0,$AV$6)","v":0}]
[{"$f":"$A$53","v":"   Schwangerschaft/Mutterschaft Art. 15 GAV"},null,null,null,null,{"$f":"$F$53","v":"s"},{"$f":"IF($AJ$7=0,0,$AJ$7)","v":0},null,{"$f":"IF($AK$7=0,0,$AK$7)","v":0},null,{"$f":"IF($AL$7=0,0,$AL$7)","v":0},null,{"$f":"IF($AM$7=0,0,$AM$7)","v":0},null,{"$f":"IF($AN$7=0,0,$AN$7)","v":0},null,{"$f":"IF($AO$7=0,0,$AO$7)","v":0},null,{"$f":"IF($AP$7=0,0,$AP$7)","v":0},null,{"$f":"IF($AQ$7=0,0,$AQ$7)","v":0},null,{"$f":"IF($AR$7=0,0,$AR$7)","v":0},null,{"$f":"IF($AS$7=0,0,$AS$7)","v":0},null,{"$f":"IF($AT$7=0,0,$AT$7)","v":0},null,{"$f":"IF($AU$7=0,0,$AU$7)","v":0},null,{"$f":"IF($AV$7=0,0,$AV$7)","v":0}]
[{"$f":"$A$54","v":"   Militär/Beförderung/Zivilschutz Art. 16 GAV"},null,null,null,null,{"$f":"$F$54","v":"m"},{"$f":"IF($AJ$8=0,0,$AJ$8)","v":0},null,{"$f":"IF($AK$8=0,0,$AK$8)","v":0},null,{"$f":"IF($AL$8=0,0,$AL$8)","v":0},null,{"$f":"IF($AM$8=0,0,$AM$8)","v":0},null,{"$f":"IF($AN$8=0,0,$AN$8)","v":0},null,{"$f":"IF($AO$8=0,0,$AO$8)","v":0},null,{"$f":"IF($AP$8=0,0,$AP$8)","v":0},null,{"$f":"IF($AQ$8=0,0,$AQ$8)","v":0},null,{"$f":"IF($AR$8=0,0,$AR$8)","v":0},null,{"$f":"IF($AS$8=0,0,$AS$8)","v":0},null,{"$f":"IF($AT$8=0,0,$AT$8)","v":0},null,{"$f":"IF($AU$8=0,0,$AU$8)","v":0},null,{"$f":"IF($AV$8=0,0,$AV$8)","v":0}]
[{"$f":"$A$55","v":"   Kurzarbeit und Schlechtwetterausfälle"},null,null,null,null,{"$f":"$F$55","v":"ka"},{"$f":"IF($AJ$11=0,0,$AJ$11)","v":0},null,{"$f":"IF($AK$11=0,0,$AK$11)","v":0},null,{"$f":"IF($AL$11=0,0,$AL$11)","v":0},null,{"$f":"IF($AM$11=0,0,$AM$11)","v":0},null,{"$f":"IF($AN$11=0,0,$AN$11)","v":0},null,{"$f":"IF($AO$11=0,0,$AO$11)","v":0},null,{"$f":"IF($AP$11=0,0,$AP$11)","v":0},null,{"$f":"IF($AQ$11=0,0,$AQ$11)","v":0},null,{"$f":"IF($AR$11=0,0,$AR$11)","v":0},null,{"$f":"IF($AS$11=0,0,$AS$11)","v":0},null,{"$f":"IF($AT$11=0,0,$AT$11)","v":0},null,{"$f":"IF($AU$11=0,0,$AU$11)","v":0},null,{"$f":"IF($AV$11=0,0,$AV$11)","v":0}]
[{"$f":"$A$56","v":"   Berufsschule"},null,null,null,null,{"$f":"$F$56","v":"bs"},{"$f":"IF($AJ$9=0,0,$AJ$9)","v":0},null,{"$f":"IF($AK$9=0,0,$AK$9)","v":0},null,{"$f":"IF($AL$9=0,0,$AL$9)","v":0},null,{"$f":"IF($AM$9=0,0,$AM$9)","v":0},null,{"$f":"IF($AN$9=0,0,$AN$9)","v":0},null,{"$f":"IF($AO$9=0,0,$AO$9)","v":0},null,{"$f":"IF($AP$9=0,0,$AP$9)","v":0},null,{"$f":"IF($AQ$9=0,0,$AQ$9)","v":0},null,{"$f":"IF($AR$9=0,0,$AR$9)","v":0},null,{"$f":"IF($AS$9=0,0,$AS$9)","v":0},null,{"$f":"IF($AT$9=0,0,$AT$9)","v":0},null,{"$f":"IF($AU$9=0,0,$AU$9)","v":0},null,{"$f":"IF($AV$9=0,0,$AV$9)","v":0}]
[{"$f":"$A$57","v":"   Kurse"},null,null,null,null,{"$f":"$F$57","v":"ku"},{"$f":"IF($AJ$10=0,0,$AJ$10)","v":0},null,{"$f":"IF($AK$10=0,0,$AK$10)","v":0},null,{"$f":"IF($AL$10=0,0,$AL$10)","v":0},null,{"$f":"IF($AM$10=0,0,$AM$10)","v":0},null,{"$f":"IF($AN$10=0,0,$AN$10)","v":0},null,{"$f":"IF($AO$10=0,0,$AO$10)","v":0},null,{"$f":"IF($AP$10=0,0,$AP$10)","v":0},null,{"$f":"IF($AQ$10=0,0,$AQ$10)","v":0},null,{"$f":"IF($AR$10=0,0,$AR$10)","v":0},null,{"$f":"IF($AS$10=0,0,$AS$10)","v":0},null,{"$f":"IF($AT$10=0,0,$AT$10)","v":0},null,{"$f":"IF($AU$10=0,0,$AU$10)","v":0},null,{"$f":"IF($AV$10=0,0,$AV$10)","v":0}]
[{"$f":"$A$58","v":"Kompensations-Std"},{"$f":"$B$58","v":"aus Vorjahr"},null,null,null,{"$f":"$F$58","v":"kv"},{"$f":"IF($AJ$12=0,0,$AJ$12)","v":0},null,{"$f":"IF($AK$12=0,0,$AK$12)","v":0},null,{"$f":"IF($AL$12=0,0,$AL$12)","v":0},null,{"$f":"IF($AM$12=0,0,$AM$12)","v":0},null,{"$f":"IF($AN$12=0,0,$AN$12)","v":0},null,{"$f":"IF($AO$12=0,0,$AO$12)","v":0},null,{"$f":"IF($AP$12=0,0,$AP$12)","v":0},null,{"$f":"IF($AQ$12=0,0,$AQ$12)","v":0},null,{"$f":"IF($AR$12=0,0,$AR$12)","v":0},null,null,null,null,null,null,null,{"$f":"IF($AV$12=0,0,$AV$12)","v":0}]
[null,{"$f":"$B$59","v":"aus laufendem Jahr (Kontrolle)"},null,null,null,{"$f":"$F$59","v":"kj"},{"$f":"IF($AJ$15=0,0,$AJ$15)","v":0},null,{"$f":"IF($AK$15=0,0,$AK$15)","v":0},null,{"$f":"IF($AL$15=0,0,$AL$15)","v":0},null,{"$f":"IF($AM$15=0,0,$AM$15)","v":0},null,{"$f":"IF($AN$15=0,0,$AN$15)","v":0},null,{"$f":"IF($AO$15=0,0,$AO$15)","v":0},null,{"$f":"IF($AP$15=0,0,$AP$15)","v":0},null,{"$f":"IF($AQ$15=0,0,$AQ$15)","v":0},null,{"$f":"IF($AR$15=0,0,$AR$15)","v":0},null,{"$f":"IF($AS$15=0,0,$AS$15)","v":0},null,{"$f":"IF($AT$15=0,0,$AT$15)","v":0},null,{"$f":"IF($AU$15=0,0,$AU$15)","v":0},null,{"$f":"IF($AV$15=0,0,$AV$15)","v":0}]
[{"$f":"$A$60","v":"Auszahlung"},{"$f":"$B$60","v":"Stunden Vorjahressaldo"},null,null,null,null,{"$f":"IF($AJ$19=0,0,$AJ$19)","v":0},null,{"$f":"IF($AK$19=0,0,$AK$19)","v":0},null,{"$f":"IF($AL$19=0,0,$AL$19)","v":0},null,{"$f":"IF($AM$19=0,0,$AM$19)","v":0},null,{"$f":"IF($AN$19=0,0,$AN$19)","v":0},null,{"$f":"IF($AO$19=0,0,$AO$19)","v":0},null,{"$f":"IF($AP$19=0,0,$AP$19)","v":0},null,{"$f":"IF($AQ$19=0,0,$AQ$19)","v":0},null,{"$f":"IF($AR$19=0,0,$AR$19)","v":0},null,null,null,null,null,null,null,{"$f":"IF($AV$19=0,0,$AV$19)","v":0}]
[{"$f":"$A$61","v":"Differenz"},{"$f":"$B$61","v":"nach Kompensation und Auszahlung"},null,null,null,null,{"$f":"IF(ROUND($P$4,3)=0,0,$P$4-SUM(G314+G316))","v":0},null,{"$f":"IF(ROUND(G317,3)=0,0,G317-(SUM(I316+I314)))","v":0},null,{"$f":"IF(ROUND(I317,3)=0,0,I317-(SUM(K316+K314)))","v":0},null,{"$f":"IF(ROUND(K317,3)=0,0,K317-(SUM(M316+M314)))","v":0},null,{"$f":"IF(ROUND(M317,3)=0,0,M317-(SUM(O316+O314)))","v":0},null,{"$f":"IF(ROUND(O317,3)=0,0,O317-(SUM(Q316+Q314)))","v":0},null,{"$f":"IF(ROUND(Q317,3)=0,0,Q317-(SUM(S316+S314)))","v":0},null,{"$f":"IF(ROUND(S317,3)=0,0,S317-(SUM(U316+U314)))","v":0},null,{"$f":"IF(ROUND(U317,3)=0,0,U317-(SUM(W316+W314)))","v":0},null,{"$f":"$Y$61","v":""}]
[{"$f":"$A$62","v":"Auszahlung"},{"$f":"$B$62","v":"Stunden laufendes Jahr"},null,null,null,null,{"$f":"IF($AJ$20=0,0,$AJ$20)","v":0},null,{"$f":"IF($AK$20=0,0,$AK$20)","v":0},null,{"$f":"IF($AL$20=0,0,$AL$20)","v":0},null,{"$f":"IF($AM$20=0,0,$AM$20)","v":0},null,{"$f":"IF($AN$20=0,0,$AN$20)","v":0},null,{"$f":"IF($AO$20=0,0,$AO$20)","v":0},null,{"$f":"IF($AP$20=0,0,$AP$20)","v":0},null,{"$f":"IF($AQ$20=0,0,$AQ$20)","v":0},null,{"$f":"IF($AR$20=0,0,$AR$20)","v":0},null,{"$f":"IF($AS$20=0,0,$AS$20)","v":0},null,{"$f":"IF($AT$20=0,0,$AT$20)","v":0},null,{"$f":"IF($AU$20=0,0,$AU$20)","v":0},null,{"$f":"IF($AV$20=0,0,$AV$20)","v":0}]
[{"$f":"$A$63","v":"Fehlstunden"},{"$f":"$B$63","v":"laufendes Jahr (Kontrolle)"},null,null,null,{"$f":"$F$63","v":"fe"},{"$f":"IF($AJ$14=0,0,$AJ$14)","v":0},null,{"$f":"IF($AK$14=0,0,$AK$14)","v":0},null,{"$f":"IF($AL$14=0,0,$AL$14)","v":0},null,{"$f":"IF($AM$14=0,0,$AM$14)","v":0},null,{"$f":"IF($AN$14=0,0,$AN$14)","v":0},null,{"$f":"IF($AO$14=0,0,$AO$14)","v":0},null,{"$f":"IF($AP$14=0,0,$AP$14)","v":0},null,{"$f":"IF($AQ$14=0,0,$AQ$14)","v":0},null,{"$f":"IF($AR$14=0,0,$AR$14)","v":0},null,{"$f":"IF($AS$14=0,0,$AS$14)","v":0},null,{"$f":"IF($AT$14=0,0,$AT$14)","v":0},null,{"$f":"IF($AU$14=0,0,$AU$14)","v":0},null,{"$f":"IF($AV$14=0,0,$AV$14)","v":0}]
[{"$f":"$A$64","v":"Total inkl. Zeitzuschläge"},{"$f":"$B$64","v":"Stunden produktiv und unproduktiv"},null,null,null,null,{"$f":"IF($AG$36=0,0,$AG$36)","v":0},null,{"$f":"IF($AG$99=0,0,$AG$99)","v":0},null,{"$f":"IF($AG$163=0,0,$AG$163)","v":0},null,{"$f":"IF($AG$227=0,0,$AG$227)","v":0},null,{"$f":"IF($AG$291=0,0,$AG$291)","v":0},null,{"$f":"IF($AG$355=0,0,$AG$355)","v":0},null,{"$f":"IF($AG$419=0,0,$AG$419)","v":0},null,{"$f":"IF($AG$483=0,0,$AG$483)","v":0},null,{"$f":"IF($AG$547=0,0,$AG$547)","v":0},null,{"$f":"IF($AG$611=0,0,$AG$611)","v":0},null,{"$f":"IF($AG$675=0,0,$AG$675)","v":0},null,{"$f":"IF($AG$739=0,0,$AG$739)","v":0},null,{"$f":"SUM($G$64:$AD$64)","v":0}]
[{"$f":"$A$65","v":"Vergleich"},{"$f":"$B$65","v":"Stunden zu Soll-Stunden (inkl. allfälli-\nge Minusstunden Vorjahr)"},null,null,null,null,{"$f":"$G$65","v":-168},null,{"$f":"$I$65","v":-160},null,{"$f":"$K$65","v":-184},null,{"$f":"$M$65","v":-168},null,{"$f":"$O$65","v":-176},null,{"$f":"$Q$65","v":-176},null,{"$f":"$S$65","v":-168},null,{"$f":"$U$65","v":-184},null,{"$f":"$W$65","v":-176},null,{"$f":"$Y$65","v":-168},null,{"$f":"$AA$65","v":-176},null,{"$f":"$AC$65","v":-176},null,{"$f":"$AE$65","v":-2080}]
[null,{"$f":"$B$66","v":"Stunden zu Soll-Stunden (kumuliert)"},null,null,null,null,{"$f":"$G$66","v":-168},null,{"$f":"$I$66","v":-328},null,{"$f":"$K$66","v":-512},null,{"$f":"$M$66","v":-680},null,{"$f":"$O$66","v":-856},null,{"$f":"$Q$66","v":-1032},null,{"$f":"$S$66","v":-1200},null,{"$f":"$U$66","v":-1384},null,{"$f":"$W$66","v":-1560},null,{"$f":"$Y$66","v":-1728},null,{"$f":"$AA$66","v":-1904},null,{"$f":"$AC$66","v":-2080},null,{"$f":"$AE$66","v":0}]
[{"$f":"$A$67","v":"Ferienkontrolle"},{"$f":"$B$67","v":"Ferienguthaben Vorjahr"},null,null,null,null,{"$f":"IF($AA$4=0,0,$AA$4)","v":0},null,{"$f":"$I$67","v":"Ferienguthaben nach \nArt. 12.1 GAV"},null,null,null,{"$f":"IF($AA$5=0,0,$AA$5)","v":0},null,{"$f":"$O$67","v":"Ferienguthaben total"},null,null,null,{"$f":"SUM(G323+M323)","v":0},null,{"$f":"$U$67","v":"Ferien bezogen"},null,null,null,{"$f":"IF($AV$4=0,0,$AV$4)","v":0},null,{"$f":"$AA$67","v":"Aktuelles Ferienguthaben"},null,null,null,{"$f":"IF(S323=0,0,S323-Y323)","v":0}]
[]
[]
[{"$f":"$A$3","v":"Mitarbeiter/In"},{"$f":"IF($B$3=\"\",\"\",$B$3)","v":"Muster Peter"},null,null,null,null,null,null,null,null,null,null,null,null,null,null,null,null,null,null,null,null,null,null,null,null,null,null,null,null,null,{"$f":"AF3","v":0}]
[{"$f":"$A$4","v":"Anstellung %"},{"$f":"$AL$49","v":100},null,{"$f":"Labels!B94","v":"im Juni"}]
[{"$f":"$A$5","v":"Saldo für das Jahr"},null,null,{"$f":"IF($AE$65=0,0,$AE$65)","v":-2080}]
[{"$f":"TEXT(DATE(YEAR(AP29),MONTH(AP29)+5,1),\"MMMM\"&Labels!B13)","v":"Juni"},{"$f":"$B$9","v":"Saldo Monat + / -"},null,null,null,{"$f":"(AG331-(SUM(AG332:AG346)-AE354))*-1","v":-176},null,null,null,null,{"$f":"$K$9","v":" = "},{"$f":"$L$9","v":"Gelbe Felder müssen ausgefüllt werden (die übrigen werden automatisch berechnet)"},null,null,null,null,null,null,null,null,null,null,null,null,null,null,null,null,null,null,null,null,{"$f":"COUNT(B332:AF332)&\" \"&Labels!$B$63","v":"22 Tage"}]
[{"$f":"$A$10","v":"Tag"},{"$f":"AF266+1","v":"2022-06-01"},{"$f":"B330+1","v":"2022-06-02"},{"$f":"C330+1","v":"2022-06-03"},"2022-06-04","2022-06-05","2022-06-06","2022-06-07","2022-06-08","2022-06-09","2022-06-10","2022-06-11","2022-06-12","2022-06-13","2022-06-14","2022-06-15","2022-06-16","2022-06-17","2022-06-18","2022-06-19","2022-06-20","2022-06-21","2022-06-22","2022-06-23","2022-06-24","2022-06-25","2022-06-26","2022-06-27","2022-06-28","2022-06-29","2022-06-30"]
[{"$f":"$A$11","v":"Kalenderwoche"},{"$f":"IF(B330=\"\",\"\",TRUNC((B330-DATE(YEAR(B330+3-MOD(B330-2,7)),1,MOD(B330-2,7)-9))/7))","v":22},22,22,22,22,23,23,23,23,23,23,23,24,24,24,24,24,24,24,25,25,25,25,25,25,25,26,26,26,26,"",{"$f":"SUM(B332:AF332)","v":176}]
[{"$f":"$A$12","v":"Sollstunden"},{"$f":"IF(AND(MOD(B330,7)>=2,SUMPRODUCT(($AM$56:$AQ$56=MOD(B330,7))*$AM$49:$AQ$49)),($J$7*5/$AR$49)*$B$327%,\"\")","v":8},{"$f":"IF(AND(MOD(C330,7)>=2,SUMPRODUCT(($AM$56:$AQ$56=MOD(C330,7))*$AM$49:$AQ$49)),($J$7*5/$AR$49)*$B$327%,\"\")","v":8},{"$f":"IF(AND(MOD(D330,7)>=2,SUMPRODUCT(($AM$56:$AQ$56=MOD(D330,7))*$AM$49:$AQ$49)),($J$7*5/$AR$49)*$B$327%,\"\")","v":8},{"$f":"IF(AND(MOD(E330,7)>=2,SUMPRODUCT(($AM$56:$AQ$56=MOD(E330,7))*$AM$49:$AQ$49)),($J$7*5/$AR$49)*$B$327%,\"\")","v":""},{"$f":"IF(AND(MOD(F330,7)>=2,SUMPRODUCT(($AM$56:$AQ$56=MOD(F330,7))*$AM$49:$AQ$49)),($J$7*5/$AR$49)*$B$327%,\"\")","v":""},{"$f":"IF(AND(MOD(G330,7)>=2,SUMPRODUCT(($AM$56:$AQ$56=MOD(G330,7))*$AM$49:$AQ$49)),($J$7*5/$AR$49)*$B$327%,\"\")","v":8},{"$f":"IF(AND(MOD(H330,7)>=2,SUMPRODUCT(($AM$56:$AQ$56=MOD(H330,7))*$AM$49:$AQ$49)),($J$7*5/$AR$49)*$B$327%,\"\")","v":8},{"$f":"IF(AND(MOD(I330,7)>=2,SUMPRODUCT(($AM$56:$AQ$56=MOD(I330,7))*$AM$49:$AQ$49)),($J$7*5/$AR$49)*$B$327%,\"\")","v":8},{"$f":"IF(AND(MOD(J330,7)>=2,SUMPRODUCT(($AM$56:$AQ$56=MOD(J330,7))*$AM$49:$AQ$49)),($J$7*5/$AR$49)*$B$327%,\"\")","v":8},{"$f":"IF(AND(MOD(K330,7)>=2,SUMPRODUCT(($AM$56:$AQ$56=MOD(K330,7))*$AM$49:$AQ$49)),($J$7*5/$AR$49)*$B$327%,\"\")","v":8},{"$f":"IF(AND(MOD(L330,7)>=2,SUMPRODUCT(($AM$56:$AQ$56=MOD(L330,7))*$AM$49:$AQ$49)),($J$7*5/$AR$49)*$B$327%,\"\")","v":""},{"$f":"IF(AND(MOD(M330,7)>=2,SUMPRODUCT(($AM$56:$AQ$56=MOD(M330,7))*$AM$49:$AQ$49)),($J$7*5/$AR$49)*$B$327%,\"\")","v":""},{"$f":"IF(AND(MOD(N330,7)>=2,SUMPRODUCT(($AM$56:$AQ$56=MOD(N330,7))*$AM$49:$AQ$49)),($J$7*5/$AR$49)*$B$327%,\"\")","v":8},{"$f":"IF(AND(MOD(O330,7)>=2,SUMPRODUCT(($AM$56:$AQ$56=MOD(O330,7))*$AM$49:$AQ$49)),($J$7*5/$AR$49)*$B$327%,\"\")","v":8},{"$f":"IF(AND(MOD(P330,7)>=2,SUMPRODUCT(($AM$56:$AQ$56=MOD(P330,7))*$AM$49:$AQ$49)),($J$7*5/$AR$49)*$B$327%,\"\")","v":8},{"$f":"IF(AND(MOD(Q330,7)>=2,SUMPRODUCT(($AM$56:$AQ$56=MOD(Q330,7))*$AM$49:$AQ$49)),($J$7*5/$AR$49)*$B$327%,\"\")","v":8},{"$f":"IF(AND(MOD(R330,7)>=2,SUMPRODUCT(($AM$56:$AQ$56=MOD(R330,7))*$AM$49:$AQ$49)),($J$7*5/$AR$49)*$B$327%,\"\")","v":8},{"$f":"IF(AND(MOD(S330,7)>=2,SUMPRODUCT(($AM$56:$AQ$56=MOD(S330,7))*$AM$49:$AQ$49)),($J$7*5/$AR$49)*$B$327%,\"\")","v":""},{"$f":"IF(AND(MOD(T330,7)>=2,SUMPRODUCT(($AM$56:$AQ$56=MOD(T330,7))*$AM$49:$AQ$49)),($J$7*5/$AR$49)*$B$327%,\"\")","v":""},{"$f":"IF(AND(MOD(U330,7)>=2,SUMPRODUCT(($AM$56:$AQ$56=MOD(U330,7))*$AM$49:$AQ$49)),($J$7*5/$AR$49)*$B$327%,\"\")","v":8},{"$f":"IF(AND(MOD(V330,7)>=2,SUMPRODUCT(($AM$56:$AQ$56=MOD(V330,7))*$AM$49:$AQ$49)),($J$7*5/$AR$49)*$B$327%,\"\")","v":8},{"$f":"IF(AND(MOD(W330,7)>=2,SUMPRODUCT(($AM$56:$AQ$56=MOD(W330,7))*$AM$49:$AQ$49)),($J$7*5/$AR$49)*$B$327%,\"\")","v":8},{"$f":"IF(AND(MOD(X330,7)>=2,SUMPRODUCT(($AM$56:$AQ$56=MOD(X330,7))*$AM$49:$AQ$49)),($J$7*5/$AR$49)*$B$327%,\"\")","v":8},{"$f":"IF(AND(MOD(Y330,7)>=2,SUMPRODUCT(($AM$56:$AQ$56=MOD(Y330,7))*$AM$49:$AQ$49)),($J$7*5/$AR$49)*$B$327%,\"\")","v":8},{"$f":"IF(AND(MOD(Z330,7)>=2,SUMPRODUCT(($AM$56:$AQ$56=MOD(Z330,7))*$AM$49:$AQ$49)),($J$7*5/$AR$49)*$B$327%,\"\")","v":""},{"$f":"IF(AND(MOD(AA330,7)>=2,SUMPRODUCT(($AM$56:$AQ$56=MOD(AA330,7))*$AM$49:$AQ$49)),($J$7*5/$AR$49)*$B$327%,\"\")","v":""},{"$f":"IF(AND(MOD(AB330,7)>=2,SUMPRODUCT(($AM$56:$AQ$56=MOD(AB330,7))*$AM$49:$AQ$49)),($J$7*5/$AR$49)*$B$327%,\"\")","v":8},{"$f":"IF(AND(MOD(AC330,7)>=2,SUMPRODUCT(($AM$56:$AQ$56=MOD(AC330,7))*$AM$49:$AQ$49)),($J$7*5/$AR$49)*$B$327%,\"\")","v":8},{"$f":"IF(AND(MOD(AD330,7)>=2,SUMPRODUCT(($AM$56:$AQ$56=MOD(AD330,7))*$AM$49:$AQ$49)),($J$7*5/$AR$49)*$B$327%,\"\")","v":8},{"$f":"IF(AND(MOD(AE330,7)>=2,SUMPRODUCT(($AM$56:$AQ$56=MOD(AE330,7))*$AM$49:$AQ$49)),($J$7*5/$AR$49)*$B$327%,\"\")","v":8},null,{"$f":"SUM(AO3:AO13)","v":0}]
[{"$f":"$A$13","v":"Absenz in Std"},{"$f":"B946","v":0},{"$f":"C946","v":0},0,0,0,0,0,0,0,0,0,0,0,0,0,0,0,0,0,0,0,0,0,0,0,0,0,0,0,0]
[{"$f":"$A$14","v":"Code"},{"$f":"IF(B946<>0,IF(MAX(B933:B945)<B946,Labels!$B$163,INDEX($AH$932:$AH$944,MATCH(MAX(B933:B945),B933:B945,0))),\"\")","v":""},{"$f":"IF(C946<>0,IF(MAX(C933:C945)<C946,Labels!$B$163,INDEX($AH$932:$AH$944,MATCH(MAX(C933:C945),C933:C945,0))),\"\")","v":""},{"$f":"IF(D946<>0,IF(MAX(D933:D945)<D946,Labels!$B$163,INDEX($AH$932:$AH$944,MATCH(MAX(D933:D945),D933:D945,0))),\"\")","v":""},{"$f":"IF(E946<>0,IF(MAX(E933:E945)<E946,Labels!$B$163,INDEX($AH$932:$AH$944,MATCH(MAX(E933:E945),E933:E945,0))),\"\")","v":""},{"$f":"IF(F946<>0,IF(MAX(F933:F945)<F946,Labels!$B$163,INDEX($AH$932:$AH$944,MATCH(MAX(F933:F945),F933:F945,0))),\"\")","v":""},{"$f":"IF(G946<>0,IF(MAX(G933:G945)<G946,Labels!$B$163,INDEX($AH$932:$AH$944,MATCH(MAX(G933:G945),G933:G945,0))),\"\")","v":""},{"$f":"IF(H946<>0,IF(MAX(H933:H945)<H946,Labels!$B$163,INDEX($AH$932:$AH$944,MATCH(MAX(H933:H945),H933:H945,0))),\"\")","v":""},{"$f":"IF(I946<>0,IF(MAX(I933:I945)<I946,Labels!$B$163,INDEX($AH$932:$AH$944,MATCH(MAX(I933:I945),I933:I945,0))),\"\")","v":""},{"$f":"IF(J946<>0,IF(MAX(J933:J945)<J946,Labels!$B$163,INDEX($AH$932:$AH$944,MATCH(MAX(J933:J945),J933:J945,0))),\"\")","v":""},{"$f":"IF(K946<>0,IF(MAX(K933:K945)<K946,Labels!$B$163,INDEX($AH$932:$AH$944,MATCH(MAX(K933:K945),K933:K945,0))),\"\")","v":""},{"$f":"IF(L946<>0,IF(MAX(L933:L945)<L946,Labels!$B$163,INDEX($AH$932:$AH$944,MATCH(MAX(L933:L945),L933:L945,0))),\"\")","v":""},{"$f":"IF(M946<>0,IF(MAX(M933:M945)<M946,Labels!$B$163,INDEX($AH$932:$AH$944,MATCH(MAX(M933:M945),M933:M945,0))),\"\")","v":""},{"$f":"IF(N946<>0,IF(MAX(N933:N945)<N946,Labels!$B$163,INDEX($AH$932:$AH$944,MATCH(MAX(N933:N945),N933:N945,0))),\"\")","v":""},{"$f":"IF(O946<>0,IF(MAX(O933:O945)<O946,Labels!$B$163,INDEX($AH$932:$AH$944,MATCH(MAX(O933:O945),O933:O945,0))),\"\")","v":""},{"$f":"IF(P946<>0,IF(MAX(P933:P945)<P946,Labels!$B$163,INDEX($AH$932:$AH$944,MATCH(MAX(P933:P945),P933:P945,0))),\"\")","v":""},{"$f":"IF(Q946<>0,IF(MAX(Q933:Q945)<Q946,Labels!$B$163,INDEX($AH$932:$AH$944,MATCH(MAX(Q933:Q945),Q933:Q945,0))),\"\")","v":""},{"$f":"IF(R946<>0,IF(MAX(R933:R945)<R946,Labels!$B$163,INDEX($AH$932:$AH$944,MATCH(MAX(R933:R945),R933:R945,0))),\"\")","v":""},{"$f":"IF(S946<>0,IF(MAX(S933:S945)<S946,Labels!$B$163,INDEX($AH$932:$AH$944,MATCH(MAX(S933:S945),S933:S945,0))),\"\")","v":""},{"$f":"IF(T946<>0,IF(MAX(T933:T945)<T946,Labels!$B$163,INDEX($AH$932:$AH$944,MATCH(MAX(T933:T945),T933:T945,0))),\"\")","v":""},{"$f":"IF(U946<>0,IF(MAX(U933:U945)<U946,Labels!$B$163,INDEX($AH$932:$AH$944,MATCH(MAX(U933:U945),U933:U945,0))),\"\")","v":""},{"$f":"IF(V946<>0,IF(MAX(V933:V945)<V946,Labels!$B$163,INDEX($AH$932:$AH$944,MATCH(MAX(V933:V945),V933:V945,0))),\"\")","v":""},{"$f":"IF(W946<>0,IF(MAX(W933:W945)<W946,Labels!$B$163,INDEX($AH$932:$AH$944,MATCH(MAX(W933:W945),W933:W945,0))),\"\")","v":""},{"$f":"IF(X946<>0,IF(MAX(X933:X945)<X946,Labels!$B$163,INDEX($AH$932:$AH$944,MATCH(MAX(X933:X945),X933:X945,0))),\"\")","v":""},{"$f":"IF(Y946<>0,IF(MAX(Y933:Y945)<Y946,Labels!$B$163,INDEX($AH$932:$AH$944,MATCH(MAX(Y933:Y945),Y933:Y945,0))),\"\")","v":""},{"$f":"IF(Z946<>0,IF(MAX(Z933:Z945)<Z946,Labels!$B$163,INDEX($AH$932:$AH$944,MATCH(MAX(Z933:Z945),Z933:Z945,0))),\"\")","v":""},{"$f":"IF(AA946<>0,IF(MAX(AA933:AA945)<AA946,Labels!$B$163,INDEX($AH$932:$AH$944,MATCH(MAX(AA933:AA945),AA933:AA945,0))),\"\")","v":""},{"$f":"IF(AB946<>0,IF(MAX(AB933:AB945)<AB946,Labels!$B$163,INDEX($AH$932:$AH$944,MATCH(MAX(AB933:AB945),AB933:AB945,0))),\"\")","v":""},{"$f":"IF(AC946<>0,IF(MAX(AC933:AC945)<AC946,Labels!$B$163,INDEX($AH$932:$AH$944,MATCH(MAX(AC933:AC945),AC933:AC945,0))),\"\")","v":""},{"$f":"IF(AD946<>0,IF(MAX(AD933:AD945)<AD946,Labels!$B$163,INDEX($AH$932:$AH$944,MATCH(MAX(AD933:AD945),AD933:AD945,0))),\"\")","v":""},{"$f":"IF(AE946<>0,IF(MAX(AE933:AE945)<AE946,Labels!$B$163,INDEX($AH$932:$AH$944,MATCH(MAX(AE933:AE945),AE933:AE945,0))),\"\")","v":""},null,{"$f":"SUM(B335:AF335)","v":0}]
[{"$f":"$A$15","v":"00.00-06.00h"},null,null,null,null,null,null,null,null,null,null,null,null,null,null,null,null,null,null,null,null,null,null,null,null,null,null,null,null,null,null,null,{"$f":"SUM(B336:AF336)","v":0}]
[{"$f":"$A$16","v":"06.00-20.00h"},null,null,null,null,null,null,null,null,null,null,null,null,null,null,null,null,null,null,null,null,null,null,null,null,null,null,null,null,null,null,null,{"$f":"SUM(B337:AF337)","v":0},"[0]"]
[{"$f":"$A$17","v":"20.00-24.00h"}]
[{"$f":"$A$18","v":"Feiertag \"ft\""},{"$f":"IF(WEEKDAY(B330,2)<=6,IF(KALENDER!E13=\"x\",Labels!$B$118,\"\"),\"\")","v":""},{"$f":"IF(WEEKDAY(C330,2)<=6,IF(KALENDER!F13=\"x\",Labels!$B$118,\"\"),\"\")","v":""},{"$f":"IF(WEEKDAY(D330,2)<=6,IF(KALENDER!G13=\"x\",Labels!$B$118,\"\"),\"\")","v":""},{"$f":"IF(WEEKDAY(E330,2)<=6,IF(KALENDER!H13=\"x\",Labels!$B$118,\"\"),\"\")","v":""},{"$f":"IF(WEEKDAY(F330,2)<=6,IF(KALENDER!I13=\"x\",Labels!$B$118,\"\"),\"\")","v":""},{"$f":"IF(WEEKDAY(G330,2)<=6,IF(KALENDER!J13=\"x\",Labels!$B$118,\"\"),\"\")","v":""},{"$f":"IF(WEEKDAY(H330,2)<=6,IF(KALENDER!K13=\"x\",Labels!$B$118,\"\"),\"\")","v":""},{"$f":"IF(WEEKDAY(I330,2)<=6,IF(KALENDER!L13=\"x\",Labels!$B$118,\"\"),\"\")","v":""},{"$f":"IF(WEEKDAY(J330,2)<=6,IF(KALENDER!M13=\"x\",Labels!$B$118,\"\"),\"\")","v":""},{"$f":"IF(WEEKDAY(K330,2)<=6,IF(KALENDER!N13=\"x\",Labels!$B$118,\"\"),\"\")","v":""},{"$f":"IF(WEEKDAY(L330,2)<=6,IF(KALENDER!O13=\"x\",Labels!$B$118,\"\"),\"\")","v":""},{"$f":"IF(WEEKDAY(M330,2)<=6,IF(KALENDER!P13=\"x\",Labels!$B$118,\"\"),\"\")","v":""},{"$f":"IF(WEEKDAY(N330,2)<=6,IF(KALENDER!Q13=\"x\",Labels!$B$118,\"\"),\"\")","v":""},{"$f":"IF(WEEKDAY(O330,2)<=6,IF(KALENDER!R13=\"x\",Labels!$B$118,\"\"),\"\")","v":""},{"$f":"IF(WEEKDAY(P330,2)<=6,IF(KALENDER!S13=\"x\",Labels!$B$118,\"\"),\"\")","v":""},{"$f":"IF(WEEKDAY(Q330,2)<=6,IF(KALENDER!T13=\"x\",Labels!$B$118,\"\"),\"\")","v":""},{"$f":"IF(WEEKDAY(R330,2)<=6,IF(KALENDER!U13=\"x\",Labels!$B$118,\"\"),\"\")","v":""},{"$f":"IF(WEEKDAY(S330,2)<=6,IF(KALENDER!V13=\"x\",Labels!$B$118,\"\"),\"\")","v":""},{"$f":"IF(WEEKDAY(T330,2)<=6,IF(KALENDER!W13=\"x\",Labels!$B$118,\"\"),\"\")","v":""},{"$f":"IF(WEEKDAY(U330,2)<=6,IF(KALENDER!X13=\"x\",Labels!$B$118,\"\"),\"\")","v":""},{"$f":"IF(WEEKDAY(V330,2)<=6,IF(KALENDER!Y13=\"x\",Labels!$B$118,\"\"),\"\")","v":""},{"$f":"IF(WEEKDAY(W330,2)<=6,IF(KALENDER!Z13=\"x\",Labels!$B$118,\"\"),\"\")","v":""},{"$f":"IF(WEEKDAY(X330,2)<=6,IF(KALENDER!AA13=\"x\",Labels!$B$118,\"\"),\"\")","v":""},{"$f":"IF(WEEKDAY(Y330,2)<=6,IF(KALENDER!AB13=\"x\",Labels!$B$118,\"\"),\"\")","v":""},{"$f":"IF(WEEKDAY(Z330,2)<=6,IF(KALENDER!AC13=\"x\",Labels!$B$118,\"\"),\"\")","v":""},{"$f":"IF(WEEKDAY(AA330,2)<=6,IF(KALENDER!AD13=\"x\",Labels!$B$118,\"\"),\"\")","v":""},{"$f":"IF(WEEKDAY(AB330,2)<=6,IF(KALENDER!AE13=\"x\",Labels!$B$118,\"\"),\"\")","v":""},{"$f":"IF(WEEKDAY(AC330,2)<=6,IF(KALENDER!AF13=\"x\",Labels!$B$118,\"\"),\"\")","v":""},{"$f":"IF(WEEKDAY(AD330,2)<=6,IF(KALENDER!AG13=\"x\",Labels!$B$118,\"\"),\"\")","v":""},{"$f":"IF(WEEKDAY(AE330,2)<=6,IF(KALENDER!AH13=\"x\",Labels!$B$118,\"\"),\"\")","v":""},{"$f":"IF(WEEKDAY(AF330,2)<=6,IF(KALENDER!AI13=\"x\",Labels!$B$118,\"\"),\"\")","v":""},{"$f":"SUM(B339:AF339)","v":0}]
[{"$f":"$A$19","v":"Gutschrift \"ft\""},{"$f":"IF(AND(B338=Labels!$B$118,WEEKDAY(B330,2)<6,B$332<>\"\"),($J$7*5/$AR$49)*$B$327%,\"\")","v":""},{"$f":"IF(AND(C338=Labels!$B$118,WEEKDAY(C330,2)<6,C$332<>\"\"),($J$7*5/$AR$49)*$B$327%,\"\")","v":""},{"$f":"IF(AND(D338=Labels!$B$118,WEEKDAY(D330,2)<6,D$332<>\"\"),($J$7*5/$AR$49)*$B$327%,\"\")","v":""},{"$f":"IF(AND(E338=Labels!$B$118,WEEKDAY(E330,2)<6,E$332<>\"\"),($J$7*5/$AR$49)*$B$327%,\"\")","v":""},{"$f":"IF(AND(F338=Labels!$B$118,WEEKDAY(F330,2)<6,F$332<>\"\"),($J$7*5/$AR$49)*$B$327%,\"\")","v":""},{"$f":"IF(AND(G338=Labels!$B$118,WEEKDAY(G330,2)<6,G$332<>\"\"),($J$7*5/$AR$49)*$B$327%,\"\")","v":""},{"$f":"IF(AND(H338=Labels!$B$118,WEEKDAY(H330,2)<6,H$332<>\"\"),($J$7*5/$AR$49)*$B$327%,\"\")","v":""},{"$f":"IF(AND(I338=Labels!$B$118,WEEKDAY(I330,2)<6,I$332<>\"\"),($J$7*5/$AR$49)*$B$327%,\"\")","v":""},{"$f":"IF(AND(J338=Labels!$B$118,WEEKDAY(J330,2)<6,J$332<>\"\"),($J$7*5/$AR$49)*$B$327%,\"\")","v":""},{"$f":"IF(AND(K338=Labels!$B$118,WEEKDAY(K330,2)<6,K$332<>\"\"),($J$7*5/$AR$49)*$B$327%,\"\")","v":""},{"$f":"IF(AND(L338=Labels!$B$118,WEEKDAY(L330,2)<6,L$332<>\"\"),($J$7*5/$AR$49)*$B$327%,\"\")","v":""},{"$f":"IF(AND(M338=Labels!$B$118,WEEKDAY(M330,2)<6,M$332<>\"\"),($J$7*5/$AR$49)*$B$327%,\"\")","v":""},{"$f":"IF(AND(N338=Labels!$B$118,WEEKDAY(N330,2)<6,N$332<>\"\"),($J$7*5/$AR$49)*$B$327%,\"\")","v":""},{"$f":"IF(AND(O338=Labels!$B$118,WEEKDAY(O330,2)<6,O$332<>\"\"),($J$7*5/$AR$49)*$B$327%,\"\")","v":""},{"$f":"IF(AND(P338=Labels!$B$118,WEEKDAY(P330,2)<6,P$332<>\"\"),($J$7*5/$AR$49)*$B$327%,\"\")","v":""},{"$f":"IF(AND(Q338=Labels!$B$118,WEEKDAY(Q330,2)<6,Q$332<>\"\"),($J$7*5/$AR$49)*$B$327%,\"\")","v":""},{"$f":"IF(AND(R338=Labels!$B$118,WEEKDAY(R330,2)<6,R$332<>\"\"),($J$7*5/$AR$49)*$B$327%,\"\")","v":""},{"$f":"IF(AND(S338=Labels!$B$118,WEEKDAY(S330,2)<6,S$332<>\"\"),($J$7*5/$AR$49)*$B$327%,\"\")","v":""},{"$f":"IF(AND(T338=Labels!$B$118,WEEKDAY(T330,2)<6,T$332<>\"\"),($J$7*5/$AR$49)*$B$327%,\"\")","v":""},{"$f":"IF(AND(U338=Labels!$B$118,WEEKDAY(U330,2)<6,U$332<>\"\"),($J$7*5/$AR$49)*$B$327%,\"\")","v":""},{"$f":"IF(AND(V338=Labels!$B$118,WEEKDAY(V330,2)<6,V$332<>\"\"),($J$7*5/$AR$49)*$B$327%,\"\")","v":""},{"$f":"IF(AND(W338=Labels!$B$118,WEEKDAY(W330,2)<6,W$332<>\"\"),($J$7*5/$AR$49)*$B$327%,\"\")","v":""},{"$f":"IF(AND(X338=Labels!$B$118,WEEKDAY(X330,2)<6,X$332<>\"\"),($J$7*5/$AR$49)*$B$327%,\"\")","v":""},{"$f":"IF(AND(Y338=Labels!$B$118,WEEKDAY(Y330,2)<6,Y$332<>\"\"),($J$7*5/$AR$49)*$B$327%,\"\")","v":""},{"$f":"IF(AND(Z338=Labels!$B$118,WEEKDAY(Z330,2)<6,Z$332<>\"\"),($J$7*5/$AR$49)*$B$327%,\"\")","v":""},{"$f":"IF(AND(AA338=Labels!$B$118,WEEKDAY(AA330,2)<6,AA$332<>\"\"),($J$7*5/$AR$49)*$B$327%,\"\")","v":""},{"$f":"IF(AND(AB338=Labels!$B$118,WEEKDAY(AB330,2)<6,AB$332<>\"\"),($J$7*5/$AR$49)*$B$327%,\"\")","v":""},{"$f":"IF(AND(AC338=Labels!$B$118,WEEKDAY(AC330,2)<6,AC$332<>\"\"),($J$7*5/$AR$49)*$B$327%,\"\")","v":""},{"$f":"IF(AND(AD338=Labels!$B$118,WEEKDAY(AD330,2)<6,AD$332<>\"\"),($J$7*5/$AR$49)*$B$327%,\"\")","v":""},{"$f":"IF(AND(AE338=Labels!$B$118,WEEKDAY(AE330,2)<6,AE$332<>\"\"),($J$7*5/$AR$49)*$B$327%,\"\")","v":""},{"$f":"IF(AND(AF338=Labels!$B$118,WEEKDAY(AF330,2)<6),$J$7*$B$327%,\"\")","v":""}]
[{"$f":"$A$20","v":"Tagestotal"},{"$f":"SUM(B335:B337)","v":0},{"$f":"SUM(C335:C337)","v":0},0,0,0,0,0,0,0,0,0,0,0,0,0,0,0,0,0,0,0,0,0,0,0,0,0,0,0,0]
[{"$f":"$A$21","v":"."}]
[{"$f":"$A$22","v":"."}]
[{"$f":"$A$23","v":"Monatsübergang"},{"$f":"IF(WEEKDAY(B330)=1,TEXT(B330-1,\"MMM\"&Labels!B13),\"\")","v":""},null,null,null,null,null,null,null,null,null,null,null,null,null,null,null,null,null,null,null,null,null,null,null,null,null,null,null,null,{"$f":"IF(AND(WEEKDAY(AE330)>1,WEEKDAY(AE330)<7),TEXT(DATE($B$5,MONTH(AE330)+1,1),\"MMM\"&Labels!B13),\"\")","v":"Jul"}]
[{"$f":"$A$24","v":"Wochentotal"},{"$f":"IF(WEEKDAY(B330)=7,SUMIF($B267:$AF267,B331,$B276:$AF276)+SUMIF($B331:$AF331,B331,$B340:$AF340)+SUMIF($B395:$AF395,B331,$B404:$AF404),B343)","v":""},{"$f":"IF(WEEKDAY(C330)=7,SUMIF($B267:$AF267,C331,$B276:$AF276)+SUMIF($B331:$AF331,C331,$B340:$AF340)+SUMIF($B395:$AF395,C331,$B404:$AF404),\"\")","v":""},"",0,"","","","","","",0,"","","","","","",0,"","","","","","",0,"","","","",{"$f":"IF(WEEKDAY(AE330)=7,SUMIF($B267:$AF267,AE331,$B276:$AF276)+SUMIF($B331:$AF331,AE331,$B340:$AF340)+SUMIF($B395:$AF395,AE331,$B404:$AF404),AE343)","v":"Jul"},null,{"$f":"SUM(B345:AF345)","v":0}]
[{"$f":"$A$25","v":"Zeitzuschlag 1)"},{"$f":"IF(B352=\"FALSCH\",\"\",B352)","v":""},{"$f":"IF(C352=\"FALSCH\",\"\",C352)","v":""},"","","","","","","","","","","","","","","","","","","","","","","","","","","","",null,0,"[1]"]
[{"$f":"$A$26","v":"Zeitzuschlag 2)"},{"$f":"IF((B335+B337)=0,\"\",SUM(B335,B337))","v":""},{"$f":"IF((C335+C337)=0,\"\",SUM(C335,C337))","v":""},"","","","","","","","","","","","","","","","","","","","","","","","","","","","",null,{"$f":"SUM(B347:AF347)","v":0},"[2]"]
[{"$f":"$A$27","v":"Zeitzuschlag 3)"},{"$f":"SUM(B348:B351)","v":0},{"$f":"SUM(C348:C351)","v":0},0,0,0,0,0,0,0,0,0,0,0,0,0,0,0,0,0,0,0,0,0,0,0,0,0,0,0,0,null,0,"[3]"]
[{"$f":"$A$28","v":"Sonntag Tag"},{"$f":"IF(WEEKDAY(B330)=1,B336,\"\")","v":""},{"$f":"IF(WEEKDAY(C330)=1,C336,\"\")","v":""},"","",0,"","","","","","",0,"","","","","","",0,"","","","","","",0,"","","","",null,0,"[4]"]
[{"$f":"$A$29","v":"Sonntag Nacht"},{"$f":"IF(WEEKDAY(B330)=1,SUM(B335+B337),\"\")","v":""},{"$f":"IF(WEEKDAY(C330)=1,SUM(C335+C337),\"\")","v":""},"","",0,"","","","","","",0,"","","","","","",0,"","","","","","",0,"","","","",null,0,"[5]"]
[{"$f":"$A$30","v":"ft-Tazuschlag"},{"$f":"IF(B338=Labels!$B$118,B336,\"\")","v":""},{"$f":"IF(C338=Labels!$B$118,C336,\"\")","v":""},{"$f":"IF(D338=Labels!$B$118,D336,\"\")","v":""},{"$f":"IF(E338=Labels!$B$118,E336,\"\")","v":""},{"$f":"IF(F338=Labels!$B$118,F336,\"\")","v":""},{"$f":"IF(G338=Labels!$B$118,G336,\"\")","v":""},{"$f":"IF(H338=Labels!$B$118,H336,\"\")","v":""},{"$f":"IF(I338=Labels!$B$118,I336,\"\")","v":""},{"$f":"IF(J338=Labels!$B$118,J336,\"\")","v":""},{"$f":"IF(K338=Labels!$B$118,K336,\"\")","v":""},{"$f":"IF(L338=Labels!$B$118,L336,\"\")","v":""},{"$f":"IF(M338=Labels!$B$118,M336,\"\")","v":""},{"$f":"IF(N338=Labels!$B$118,N336,\"\")","v":""},{"$f":"IF(O338=Labels!$B$118,O336,\"\")","v":""},{"$f":"IF(P338=Labels!$B$118,P336,\"\")","v":""},{"$f":"IF(Q338=Labels!$B$118,Q336,\"\")","v":""},{"$f":"IF(R338=Labels!$B$118,R336,\"\")","v":""},{"$f":"IF(S338=Labels!$B$118,S336,\"\")","v":""},{"$f":"IF(T338=Labels!$B$118,T336,\"\")","v":""},{"$f":"IF(U338=Labels!$B$118,U336,\"\")","v":""},{"$f":"IF(V338=Labels!$B$118,V336,\"\")","v":""},{"$f":"IF(W338=Labels!$B$118,W336,\"\")","v":""},{"$f":"IF(X338=Labels!$B$118,X336,\"\")","v":""},{"$f":"IF(Y338=Labels!$B$118,Y336,\"\")","v":""},{"$f":"IF(Z338=Labels!$B$118,Z336,\"\")","v":""},{"$f":"IF(AA338=Labels!$B$118,AA336,\"\")","v":""},{"$f":"IF(AB338=Labels!$B$118,AB336,\"\")","v":""},{"$f":"IF(AC338=Labels!$B$118,AC336,\"\")","v":""},{"$f":"IF(AD338=Labels!$B$118,AD336,\"\")","v":""},{"$f":"IF(AE338=Labels!$B$118,AE336,\"\")","v":""},null,0,"[6]"]
[{"$f":"$A$31","v":"ft-Nazuschlag"},{"$f":"IF(B338=Labels!$B$118,SUM(B335,B337),\"\")","v":""},{"$f":"IF(C338=Labels!$B$118,SUM(C335,C337),\"\")","v":""},{"$f":"IF(D338=Labels!$B$118,SUM(D335,D337),\"\")","v":""},{"$f":"IF(E338=Labels!$B$118,SUM(E335,E337),\"\")","v":""},{"$f":"IF(F338=Labels!$B$118,SUM(F335,F337),\"\")","v":""},{"$f":"IF(G338=Labels!$B$118,SUM(G335,G337),\"\")","v":""},{"$f":"IF(H338=Labels!$B$118,SUM(H335,H337),\"\")","v":""},{"$f":"IF(I338=Labels!$B$118,SUM(I335,I337),\"\")","v":""},{"$f":"IF(J338=Labels!$B$118,SUM(J335,J337),\"\")","v":""},{"$f":"IF(K338=Labels!$B$118,SUM(K335,K337),\"\")","v":""},{"$f":"IF(L338=Labels!$B$118,SUM(L335,L337),\"\")","v":""},{"$f":"IF(M338=Labels!$B$118,SUM(M335,M337),\"\")","v":""},{"$f":"IF(N338=Labels!$B$118,SUM(N335,N337),\"\")","v":""},{"$f":"IF(O338=Labels!$B$118,SUM(O335,O337),\"\")","v":""},{"$f":"IF(P338=Labels!$B$118,SUM(P335,P337),\"\")","v":""},{"$f":"IF(Q338=Labels!$B$118,SUM(Q335,Q337),\"\")","v":""},{"$f":"IF(R338=Labels!$B$118,SUM(R335,R337),\"\")","v":""},{"$f":"IF(S338=Labels!$B$118,SUM(S335,S337),\"\")","v":""},{"$f":"IF(T338=Labels!$B$118,SUM(T335,T337),\"\")","v":""},{"$f":"IF(U338=Labels!$B$118,SUM(U335,U337),\"\")","v":""},{"$f":"IF(V338=Labels!$B$118,SUM(V335,V337),\"\")","v":""},{"$f":"IF(W338=Labels!$B$118,SUM(W335,W337),\"\")","v":""},{"$f":"IF(X338=Labels!$B$118,SUM(X335,X337),\"\")","v":""},{"$f":"IF(Y338=Labels!$B$118,SUM(Y335,Y337),\"\")","v":""},{"$f":"IF(Z338=Labels!$B$118,SUM(Z335,Z337),\"\")","v":""},{"$f":"IF(AA338=Labels!$B$118,SUM(AA335,AA337),\"\")","v":""},{"$f":"IF(AB338=Labels!$B$118,SUM(AB335,AB337),\"\")","v":""},{"$f":"IF(AC338=Labels!$B$118,SUM(AC335,AC337),\"\")","v":""},{"$f":"IF(AD338=Labels!$B$118,SUM(AD335,AD337),\"\")","v":""},{"$f":"IF(AE338=Labels!$B$118,SUM(AE335,AE337),\"\")","v":""},null,{"$f":"AG335","v":0},"[7]"]
[{"$f":"$A$32","v":"Zuschlag  blind (Wochentotal)"},{"$f":"IF(OR(ISTEXT(B344),B344=\"\",B344<$B$7),\"\",ROUND(((B344-$B$7)*25%)/25,4)*25)","v":""},{"$f":"IF(OR(ISTEXT(C344),C344=\"\",C344<$B$7),\"\",ROUND(((C344-$B$7)*25%)/25,4)*25)","v":""},"","","","","","","","","","","","","","","","","","","","","","","","","","","","",null,{"$f":"SUM(AG334+AG336)","v":0},"[8]"]
[null,{"$f":"$B$33","v":"1)   25% Zeitzuschlag für Überschreitung Wochentotal"},null,null,null,null,null,null,null,null,null,{"$f":"$L$33","v":"2) 100% Zeitzuschlag für Nachtarbeit"},null,null,null,null,null,null,null,{"$f":"$T$33","v":"Eingabe der ausbezahlten Stunden Vorjahressaldo"},null,null,null,null,null,null,null,null,null,null,null,null,{"$f":"SUM(AG334:AG336)","v":0},"[9]"]
[null,{"$f":"$B$34","v":"3) 100% Zeitzuschlag für Sonn- und Feiertagsarbeit"},null,null,null,null,null,null,null,null,null,null,null,null,null,null,null,null,null,{"$f":"$T$34","v":"Eingabe der ausbezahlten Stunden laufendes Jahr (Überstunden)"},null,null,null,null,null,null,null,null,null,null,null,null,{"$f":"SUM(AG332+AG338)","v":0},"[10]"]
[{"$f":"$A$35","v":"Bemerkungen"},null,null,null,null,null,null,null,null,null,null,null,null,null,null,null,null,null,null,null,null,null,null,null,null,null,null,null,null,null,null,null,{"$f":"SUM(AG332:AG346)","v":0},"[11]"]
[null,null,null,null,null,null,null,null,null,null,null,null,null,null,null,null,null,null,null,null,null,null,null,null,null,null,null,null,null,null,null,null,{"$f":"AG331","v":176}]
[null,null,null,null,null,null,null,null,null,null,null,null,null,null,null,null,null,null,null,null,null,null,null,null,null,null,null,null,null,null,null,null,{"$f":"SUM(AG355-AG331)","v":-176}]
[]
[{"$f":"$A$39","v":"Zusammenstellung"},null,null,null,null,null,{"$f":"$G$39","v":"Jan"},null,{"$f":"$I$39","v":"Feb"},null,{"$f":"$K$39","v":"Mrz"},null,{"$f":"$M$39","v":"Apr"},null,{"$f":"$O$39","v":"Mai"},null,{"$f":"$Q$39","v":"Jun"},null,{"$f":"$S$39","v":"Jul"},null,{"$f":"$U$39","v":"Aug"},null,{"$f":"$W$39","v":"Sep"},null,{"$f":"$Y$39","v":"Okt"},null,{"$f":"$AA$39","v":"Nov"},null,{"$f":"$AC$39","v":"Dez"},null,{"$f":"$AE$39","v":"Jahr"}]
[{"$f":"$A$40","v":"Anstellung %"},null,null,null,null,null,{"$f":"IF($B$4=0,0,$B$4)","v":100},null,{"$f":"IF($B$71=0,0,$B$71)","v":100},null,{"$f":"IF($B$135=0,0,$B$135)","v":100},null,{"$f":"IF($B$199=0,0,$B$199)","v":100},null,{"$f":"IF($B$263=0,0,$B$263)","v":100},null,{"$f":"IF($B$327=0,0,$B$327)","v":100},null,{"$f":"IF($B$391=0,0,$B$391)","v":100},null,{"$f":"IF($B$455=0,0,$B$455)","v":100},null,{"$f":"IF($B$519=0,0,$B$519)","v":100},null,{"$f":"IF($B$583=0,0,$B$583)","v":100},null,{"$f":"IF($B$647=0,0,$B$647)","v":100},null,{"$f":"IF($B$711=0,0,$B$711)","v":100}]
[{"$f":"$A$41","v":"Sollstunden gemäss GAV"},null,null,null,null,null,{"$f":"IF($AG$37=0,0,$AG$37)","v":168},null,{"$f":"IF($AG$100=0,0,$AG$100)","v":160},null,{"$f":"IF($AG$139=0,0,$AG$139)","v":184},null,{"$f":"IF($AG$228=0,0,$AG$228)","v":168},null,{"$f":"IF($AG$292=0,0,$AG$292)","v":176},null,{"$f":"IF($AG$356=0,0,$AG$356)","v":176},null,{"$f":"IF($AG$420=0,0,$AG$420)","v":168},null,{"$f":"IF($AG$484=0,0,$AG$484)","v":184},null,{"$f":"IF($AG$548=0,0,$AG$548)","v":176},null,{"$f":"IF($AG$612=0,0,$AG$612)","v":168},null,{"$f":"IF($AG$676=0,0,$AG$676)","v":176},null,{"$f":"IF($AG$740=0,0,$AG$740)","v":176},null,{"$f":"SUM(G361:AD361)","v":2080}]
[{"$f":"$A$42","v":"Produktive Stunden"},{"$f":"$B$42","v":"06.00 - 20.00 Uhr"},null,null,null,null,{"$f":"IF($AG$32=0,0,$AG$32)","v":0},null,{"$f":"IF($AG$95=0,0,$AG$95)","v":0},null,{"$f":"IF($AG$159=0,0,$AG$159)","v":0},null,{"$f":"IF($AG$223=0,0,$AG$223)","v":0},null,{"$f":"IF($AG$287=0,0,$AG$287)","v":0},null,{"$f":"IF($AG$351=0,0,$AG$351)","v":0},null,{"$f":"IF($AG$415=0,0,$AG$415)","v":0},null,{"$f":"IF($AG$479=0,0,$AG$479)","v":0},null,{"$f":"IF($AG$543=0,0,$AG$543)","v":0},null,{"$f":"IF($AG$607=0,0,$AG$607)","v":0},null,{"$f":"IF($AG$671=0,0,$AG$671)","v":0},null,{"$f":"IF($AG$735=0,0,$AG$735)","v":0},null,{"$f":"SUM(G362:AD362)","v":0}]
[null,{"$f":"$B$43","v":"Nacht-, Sonn-, Feiertagsarbeit"},null,null,null,null,{"$f":"IF($AG$33=0,0,$AG$33)","v":0},null,{"$f":"IF($AG$96=0,0,$AG$96)","v":0},null,{"$f":"IF($AG$160=0,0,$AG$160)","v":0},null,{"$f":"IF($AG$224=0,0,$AG$224)","v":0},null,{"$f":"IF($AG$288=0,0,$AG$288)","v":0},null,{"$f":"IF($AG$352=0,0,$AG$352)","v":0},null,{"$f":"IF($AG$416=0,0,$AG$416)","v":0},null,{"$f":"IF($AG$480=0,0,$AG$480)","v":0},null,{"$f":"IF($AG$544=0,0,$AG$544)","v":0},null,{"$f":"IF($AG$608=0,0,$AG$608)","v":0},null,{"$f":"IF($AG$672=0,0,$AG$672)","v":0},null,{"$f":"IF($AG$736=0,0,$AG$736)","v":0},null,{"$f":"SUM(G363:AD363)","v":0}]
[{"$f":"$A$44","v":"Zeitzuschläge"},{"$f":"$B$44","v":"aus Wochentotal"},null,null,null,null,{"$f":"IF($AG$25=0,0,$AG$25)","v":0},null,{"$f":"IF($AG$88=0,0,$AG$88)","v":0},null,{"$f":"IF($AG$152=0,0,$AG$152)","v":0},null,{"$f":"IF($AG$216=0,0,$AG$216)","v":0},null,{"$f":"IF($AG$280=0,0,$AG$280)","v":0},null,{"$f":"IF($AG$344=0,0,$AG$344)","v":0},null,{"$f":"IF($AG$408=0,0,$AG$408)","v":0},null,{"$f":"IF($AG$472=0,0,$AG$472)","v":0},null,{"$f":"IF($AG$536=0,0,$AG$536)","v":0},null,{"$f":"IF($AG$600=0,0,$AG$600)","v":0},null,{"$f":"IF($AG$664=0,0,$AG$664)","v":0},null,{"$f":"IF($AG$728=0,0,$AG$728)","v":0},null,{"$f":"SUM(G364:AD364)","v":0}]
[null,{"$f":"$B$45","v":"aus Nacht-, Sonn-, Feiertagsarbeiten"},null,null,null,null,{"$f":"IF($AJ$21=0,0,$AJ$21)","v":0},null,{"$f":"IF($AK$21=0,0,$AK$21)","v":0},null,{"$f":"IF($AL$21=0,0,$AL$21)","v":0},null,{"$f":"IF($AM$21=0,0,$AM$21)","v":0},null,{"$f":"IF($AN$21=0,0,$AN$21)","v":0},null,{"$f":"IF($AO$21=0,0,$AO$21)","v":0},null,{"$f":"IF($AP$21=0,0,$AP$21)","v":0},null,{"$f":"IF($AQ$21=0,0,$AQ$21)","v":0},null,{"$f":"IF($AR$21=0,0,$AR$21)","v":0},null,{"$f":"IF($AS$21=0,0,$AS$21)","v":0},null,{"$f":"IF($AT$21=0,0,$AT$21)","v":0},null,{"$f":"IF($AU$21=0,0,$AU$21)","v":0},null,{"$f":"SUM(G365:AD365)","v":0}]
[{"$f":"$A$46","v":"Unproduktive Stunden"}]
[{"$f":"$A$47","v":"   Absenzen, Kurzabsenzen Art. 11 GAV"},null,null,null,null,{"$f":"$F$47","v":"a"},{"$f":"IF($AJ$3=0,0,$AJ$3)","v":0},null,{"$f":"IF($AK$3=0,0,$AK$3)","v":0},null,{"$f":"IF($AL$3=0,0,$AL$3)","v":0},null,{"$f":"IF($AM$3=0,0,$AM$3)","v":0},null,{"$f":"IF($AN$3=0,0,$AN$3)","v":0},null,{"$f":"IF($AO$3=0,0,$AO$3)","v":0},null,{"$f":"IF($AP$3=0,0,$AP$3)","v":0},null,{"$f":"IF($AQ$3=0,0,$AQ$3)","v":0},null,{"$f":"IF($AR$3=0,0,$AR$3)","v":0},null,{"$f":"IF($AS$3=0,0,$AS$3)","v":0},null,{"$f":"IF(AT$3=0,0,$AT$3)","v":0},null,{"$f":"IF($AU$3=0,0,$AU$3)","v":0},null,{"$f":"IF($AV$3=0,0,$AV$3)","v":0}]
[{"$f":"$A$48","v":"   Ferien Art. 12.1 GAV"},null,null,null,null,{"$f":"$F$48","v":"f"},{"$f":"IF($AJ$4=0,0,$AJ$4)","v":0},null,{"$f":"IF($AK$4=0,0,$AK$4)","v":0},null,{"$f":"IF($AL$4=0,0,$AL$4)","v":0},null,{"$f":"IF($AM$4=0,0,$AM$4)","v":0},null,{"$f":"IF($AN$4=0,0,$AN$4)","v":0},null,{"$f":"IF($AO$4=0,0,$AO$4)","v":0},null,{"$f":"IF($AP$4=0,0,$AP$4)","v":0},null,{"$f":"IF($AQ$4=0,0,$AQ$4)","v":0},null,{"$f":"IF($AR$4=0,0,$AR$4)","v":0},null,{"$f":"IF($AS$4=0,0,$AS$4)","v":0},null,{"$f":"IF($AT$4=0,0,$AT$4)","v":0},null,{"$f":"IF($AU$4=0,0,$AU$4)","v":0},null,{"$f":"IF($AV$4=0,0,$AV$4)","v":0}]
[{"$f":"Labels!$B$181","v":"   Ferien unbezahlt"},null,null,null,null,{"$f":"Labels!$B$182","v":"fu"},{"$f":"IF($AJ$13=0,0,$AJ$13)","v":0},null,{"$f":"IF($AK$13=0,0,$AK$13)","v":0},null,{"$f":"IF($AL$13=0,0,$AL$13)","v":0},null,{"$f":"IF($AM$13=0,0,$AM$13)","v":0},null,{"$f":"IF($AN$13=0,0,$AN$13)","v":0},null,{"$f":"IF($AO$13=0,0,$AO$13)","v":0},null,{"$f":"IF($AP$13=0,0,$AP$13)","v":0},null,{"$f":"IF($AQ$13=0,0,$AQ$13)","v":0},null,{"$f":"IF($AR$13=0,0,$AR$13)","v":0},null,{"$f":"IF($AS$13=0,0,$AS$13)","v":0},null,{"$f":"IF($AT$13=0,0,$AT$13)","v":0},null,{"$f":"IF($AU$13=0,0,$AU$13)","v":0},null,{"$f":"IF($AV$13=0,0,$AV$13)","v":0}]
[{"$f":"$A$50","v":"   Feiertage Art. 12.2 GAV"},null,{"$f":"IF($AJ$18=\"\",\"\",$AJ$18)","v":""},null,null,{"$f":"$F$50","v":"ft"},{"$f":"IF($AJ$16=0,0,$AJ$16)","v":0},null,{"$f":"IF($AK$16=0,0,$AK$16)","v":0},null,{"$f":"IF($AL$16=0,0,$AL$16)","v":0},null,{"$f":"IF($AM$16=0,0,$AM$16)","v":0},null,{"$f":"IF($AN$16=0,0,$AN$16)","v":0},null,{"$f":"IF($AO$16=0,0,$AO$16)","v":0},null,{"$f":"IF($AP$16=0,0,$AP$16)","v":0},null,{"$f":"IF($AQ$16=0,0,$AQ$16)","v":0},null,{"$f":"IF($AR$16=0,0,$AR$16)","v":0},null,{"$f":"IF($AS$16=0,0,$AS$16)","v":0},null,{"$f":"IF($AT$16=0,0,$AT$16)","v":0},null,{"$f":"IF($AU$16=0,0,$AU$16)","v":0},null,{"$f":"IF($AV$16=0,0,$AV$16)","v":0}]
[{"$f":"$A$51","v":"   Krankheit Art. 13 GAV"},null,null,null,null,{"$f":"$F$51","v":"k"},{"$f":"IF($AJ$5=0,0,$AJ$5)","v":0},null,{"$f":"IF($AK$5=0,0,$AK$5)","v":0},null,{"$f":"IF($AL$5=0,0,$AL$5)","v":0},null,{"$f":"IF($AM$5=0,0,$AM$5)","v":0},null,{"$f":"IF($AN$5=0,0,$AN$5)","v":0},null,{"$f":"IF($AO$5=0,0,$AO$5)","v":0},null,{"$f":"IF($AP$5=0,0,$AP$5)","v":0},null,{"$f":"IF($AQ$5=0,0,$AQ$5)","v":0},null,{"$f":"IF($AR$5=0,0,$AR$5)","v":0},null,{"$f":"IF($AS$5=0,0,$AS$5)","v":0},null,{"$f":"IF($AT$5=0,0,$AT$5)","v":0},null,{"$f":"IF($AU$5=0,0,$AU$5)","v":0},null,{"$f":"IF($AV$5=0,0,$AV$5)","v":0}]
[{"$f":"$A$52","v":"   Unfall Art. 14 GAV"},null,null,null,null,{"$f":"$F$52","v":"u"},{"$f":"IF($AJ$6=0,0,$AJ$6)","v":0},null,{"$f":"IF($AK$6=0,0,$AK$6)","v":0},null,{"$f":"IF($AL$6=0,0,$AL$6)","v":0},null,{"$f":"IF($AM$6=0,0,$AM$6)","v":0},null,{"$f":"IF($AN$6=0,0,$AN$6)","v":0},null,{"$f":"IF($AO$6=0,0,$AO$6)","v":0},null,{"$f":"IF($AP$6=0,0,$AP$6)","v":0},null,{"$f":"IF($AQ$6=0,0,$AQ$6)","v":0},null,{"$f":"IF($AR$6=0,0,$AR$6)","v":0},null,{"$f":"IF($AS$6=0,0,$AS$6)","v":0},null,{"$f":"IF($AT$6=0,0,$AT$6)","v":0},null,{"$f":"IF($AU$6=0,0,$AU$6)","v":0},null,{"$f":"IF($AV$6=0,0,$AV$6)","v":0}]
[{"$f":"$A$53","v":"   Schwangerschaft/Mutterschaft Art. 15 GAV"},null,null,null,null,{"$f":"$F$53","v":"s"},{"$f":"IF($AJ$7=0,0,$AJ$7)","v":0},null,{"$f":"IF($AK$7=0,0,$AK$7)","v":0},null,{"$f":"IF($AL$7=0,0,$AL$7)","v":0},null,{"$f":"IF($AM$7=0,0,$AM$7)","v":0},null,{"$f":"IF($AN$7=0,0,$AN$7)","v":0},null,{"$f":"IF($AO$7=0,0,$AO$7)","v":0},null,{"$f":"IF($AP$7=0,0,$AP$7)","v":0},null,{"$f":"IF($AQ$7=0,0,$AQ$7)","v":0},null,{"$f":"IF($AR$7=0,0,$AR$7)","v":0},null,{"$f":"IF($AS$7=0,0,$AS$7)","v":0},null,{"$f":"IF($AT$7=0,0,$AT$7)","v":0},null,{"$f":"IF($AU$7=0,0,$AU$7)","v":0},null,{"$f":"IF($AV$7=0,0,$AV$7)","v":0}]
[{"$f":"$A$54","v":"   Militär/Beförderung/Zivilschutz Art. 16 GAV"},null,null,null,null,{"$f":"$F$54","v":"m"},{"$f":"IF($AJ$8=0,0,$AJ$8)","v":0},null,{"$f":"IF($AK$8=0,0,$AK$8)","v":0},null,{"$f":"IF($AL$8=0,0,$AL$8)","v":0},null,{"$f":"IF($AM$8=0,0,$AM$8)","v":0},null,{"$f":"IF($AN$8=0,0,$AN$8)","v":0},null,{"$f":"IF($AO$8=0,0,$AO$8)","v":0},null,{"$f":"IF($AP$8=0,0,$AP$8)","v":0},null,{"$f":"IF($AQ$8=0,0,$AQ$8)","v":0},null,{"$f":"IF($AR$8=0,0,$AR$8)","v":0},null,{"$f":"IF($AS$8=0,0,$AS$8)","v":0},null,{"$f":"IF($AT$8=0,0,$AT$8)","v":0},null,{"$f":"IF($AU$8=0,0,$AU$8)","v":0},null,{"$f":"IF($AV$8=0,0,$AV$8)","v":0}]
[{"$f":"$A$55","v":"   Kurzarbeit und Schlechtwetterausfälle"},null,null,null,null,{"$f":"$F$55","v":"ka"},{"$f":"IF($AJ$11=0,0,$AJ$11)","v":0},null,{"$f":"IF($AK$11=0,0,$AK$11)","v":0},null,{"$f":"IF($AL$11=0,0,$AL$11)","v":0},null,{"$f":"IF($AM$11=0,0,$AM$11)","v":0},null,{"$f":"IF($AN$11=0,0,$AN$11)","v":0},null,{"$f":"IF($AO$11=0,0,$AO$11)","v":0},null,{"$f":"IF($AP$11=0,0,$AP$11)","v":0},null,{"$f":"IF($AQ$11=0,0,$AQ$11)","v":0},null,{"$f":"IF($AR$11=0,0,$AR$11)","v":0},null,{"$f":"IF($AS$11=0,0,$AS$11)","v":0},null,{"$f":"IF($AT$11=0,0,$AT$11)","v":0},null,{"$f":"IF($AU$11=0,0,$AU$11)","v":0},null,{"$f":"IF($AV$11=0,0,$AV$11)","v":0}]
[{"$f":"$A$56","v":"   Berufsschule"},null,null,null,null,{"$f":"$F$56","v":"bs"},{"$f":"IF($AJ$9=0,0,$AJ$9)","v":0},null,{"$f":"IF($AK$9=0,0,$AK$9)","v":0},null,{"$f":"IF($AL$9=0,0,$AL$9)","v":0},null,{"$f":"IF($AM$9=0,0,$AM$9)","v":0},null,{"$f":"IF($AN$9=0,0,$AN$9)","v":0},null,{"$f":"IF($AO$9=0,0,$AO$9)","v":0},null,{"$f":"IF($AP$9=0,0,$AP$9)","v":0},null,{"$f":"IF($AQ$9=0,0,$AQ$9)","v":0},null,{"$f":"IF($AR$9=0,0,$AR$9)","v":0},null,{"$f":"IF($AS$9=0,0,$AS$9)","v":0},null,{"$f":"IF($AT$9=0,0,$AT$9)","v":0},null,{"$f":"IF($AU$9=0,0,$AU$9)","v":0},null,{"$f":"IF($AV$9=0,0,$AV$9)","v":0}]
[{"$f":"$A$57","v":"   Kurse"},null,null,null,null,{"$f":"$F$57","v":"ku"},{"$f":"IF($AJ$10=0,0,$AJ$10)","v":0},null,{"$f":"IF($AK$10=0,0,$AK$10)","v":0},null,{"$f":"IF($AL$10=0,0,$AL$10)","v":0},null,{"$f":"IF($AM$10=0,0,$AM$10)","v":0},null,{"$f":"IF($AN$10=0,0,$AN$10)","v":0},null,{"$f":"IF($AO$10=0,0,$AO$10)","v":0},null,{"$f":"IF($AP$10=0,0,$AP$10)","v":0},null,{"$f":"IF($AQ$10=0,0,$AQ$10)","v":0},null,{"$f":"IF($AR$10=0,0,$AR$10)","v":0},null,{"$f":"IF($AS$10=0,0,$AS$10)","v":0},null,{"$f":"IF($AT$10=0,0,$AT$10)","v":0},null,{"$f":"IF($AU$10=0,0,$AU$10)","v":0},null,{"$f":"IF($AV$10=0,0,$AV$10)","v":0}]
[{"$f":"$A$58","v":"Kompensations-Std"},{"$f":"$B$58","v":"aus Vorjahr"},null,null,null,{"$f":"$F$58","v":"kv"},{"$f":"IF($AJ$12=0,0,$AJ$12)","v":0},null,{"$f":"IF($AK$12=0,0,$AK$12)","v":0},null,{"$f":"IF($AL$12=0,0,$AL$12)","v":0},null,{"$f":"IF($AM$12=0,0,$AM$12)","v":0},null,{"$f":"IF($AN$12=0,0,$AN$12)","v":0},null,{"$f":"IF($AO$12=0,0,$AO$12)","v":0},null,{"$f":"IF($AP$12=0,0,$AP$12)","v":0},null,{"$f":"IF($AQ$12=0,0,$AQ$12)","v":0},null,{"$f":"IF($AR$12=0,0,$AR$12)","v":0},null,null,null,null,null,null,null,{"$f":"IF($AV$12=0,0,$AV$12)","v":0}]
[null,{"$f":"$B$59","v":"aus laufendem Jahr (Kontrolle)"},null,null,null,{"$f":"$F$59","v":"kj"},{"$f":"IF($AJ$15=0,0,$AJ$15)","v":0},null,{"$f":"IF($AK$15=0,0,$AK$15)","v":0},null,{"$f":"IF($AL$15=0,0,$AL$15)","v":0},null,{"$f":"IF($AM$15=0,0,$AM$15)","v":0},null,{"$f":"IF($AN$15=0,0,$AN$15)","v":0},null,{"$f":"IF($AO$15=0,0,$AO$15)","v":0},null,{"$f":"IF($AP$15=0,0,$AP$15)","v":0},null,{"$f":"IF($AQ$15=0,0,$AQ$15)","v":0},null,{"$f":"IF($AR$15=0,0,$AR$15)","v":0},null,{"$f":"IF($AS$15=0,0,$AS$15)","v":0},null,{"$f":"IF($AT$15=0,0,$AT$15)","v":0},null,{"$f":"IF($AU$15=0,0,$AU$15)","v":0},null,{"$f":"IF($AV$15=0,0,$AV$15)","v":0}]
[{"$f":"$A$60","v":"Auszahlung"},{"$f":"$B$60","v":"Stunden Vorjahressaldo"},null,null,null,null,{"$f":"IF($AJ$19=0,0,$AJ$19)","v":0},null,{"$f":"IF($AK$19=0,0,$AK$19)","v":0},null,{"$f":"IF($AL$19=0,0,$AL$19)","v":0},null,{"$f":"IF($AM$19=0,0,$AM$19)","v":0},null,{"$f":"IF($AN$19=0,0,$AN$19)","v":0},null,{"$f":"IF($AO$19=0,0,$AO$19)","v":0},null,{"$f":"IF($AP$19=0,0,$AP$19)","v":0},null,{"$f":"IF($AQ$19=0,0,$AQ$19)","v":0},null,{"$f":"IF($AR$19=0,0,$AR$19)","v":0},null,null,null,null,null,null,null,{"$f":"IF($AV$19=0,0,$AV$19)","v":0}]
[{"$f":"$A$61","v":"Differenz"},{"$f":"$B$61","v":"nach Kompensation und Auszahlung"},null,null,null,null,{"$f":"IF(ROUND($P$4,3)=0,0,$P$4-SUM(G378+G380))","v":0},null,{"$f":"IF(ROUND(G381,3)=0,0,G381-(SUM(I380+I378)))","v":0},null,{"$f":"IF(ROUND(I381,3)=0,0,I381-(SUM(K380+K378)))","v":0},null,{"$f":"IF(ROUND(K381,3)=0,0,K381-(SUM(M380+M378)))","v":0},null,{"$f":"IF(ROUND(M381,3)=0,0,M381-(SUM(O380+O378)))","v":0},null,{"$f":"IF(ROUND(O381,3)=0,0,O381-(SUM(Q380+Q378)))","v":0},null,{"$f":"IF(ROUND(Q381,3)=0,0,Q381-(SUM(S380+S378)))","v":0},null,{"$f":"IF(ROUND(S381,3)=0,0,S381-(SUM(U380+U378)))","v":0},null,{"$f":"IF(ROUND(U381,3)=0,0,U381-(SUM(W380+W378)))","v":0},null,{"$f":"$Y$61","v":""}]
[{"$f":"$A$62","v":"Auszahlung"},{"$f":"$B$62","v":"Stunden laufendes Jahr"},null,null,null,null,{"$f":"IF($AJ$20=0,0,$AJ$20)","v":0},null,{"$f":"IF($AK$20=0,0,$AK$20)","v":0},null,{"$f":"IF($AL$20=0,0,$AL$20)","v":0},null,{"$f":"IF($AM$20=0,0,$AM$20)","v":0},null,{"$f":"IF($AN$20=0,0,$AN$20)","v":0},null,{"$f":"IF($AO$20=0,0,$AO$20)","v":0},null,{"$f":"IF($AP$20=0,0,$AP$20)","v":0},null,{"$f":"IF($AQ$20=0,0,$AQ$20)","v":0},null,{"$f":"IF($AR$20=0,0,$AR$20)","v":0},null,{"$f":"IF($AS$20=0,0,$AS$20)","v":0},null,{"$f":"IF($AT$20=0,0,$AT$20)","v":0},null,{"$f":"IF($AU$20=0,0,$AU$20)","v":0},null,{"$f":"IF($AV$20=0,0,$AV$20)","v":0}]
[{"$f":"$A$63","v":"Fehlstunden"},{"$f":"$B$63","v":"laufendes Jahr (Kontrolle)"},null,null,null,{"$f":"$F$63","v":"fe"},{"$f":"IF($AJ$14=0,0,$AJ$14)","v":0},null,{"$f":"IF($AK$14=0,0,$AK$14)","v":0},null,{"$f":"IF($AL$14=0,0,$AL$14)","v":0},null,{"$f":"IF($AM$14=0,0,$AM$14)","v":0},null,{"$f":"IF($AN$14=0,0,$AN$14)","v":0},null,{"$f":"IF($AO$14=0,0,$AO$14)","v":0},null,{"$f":"IF($AP$14=0,0,$AP$14)","v":0},null,{"$f":"IF($AQ$14=0,0,$AQ$14)","v":0},null,{"$f":"IF($AR$14=0,0,$AR$14)","v":0},null,{"$f":"IF($AS$14=0,0,$AS$14)","v":0},null,{"$f":"IF($AT$14=0,0,$AT$14)","v":0},null,{"$f":"IF($AU$14=0,0,$AU$14)","v":0},null,{"$f":"IF($AV$14=0,0,$AV$14)","v":0}]
[{"$f":"$A$64","v":"Total inkl. Zeitzuschläge"},{"$f":"$B$64","v":"Stunden produktiv und unproduktiv"},null,null,null,null,{"$f":"IF($AG$36=0,0,$AG$36)","v":0},null,{"$f":"IF($AG$99=0,0,$AG$99)","v":0},null,{"$f":"IF($AG$163=0,0,$AG$163)","v":0},null,{"$f":"IF($AG$227=0,0,$AG$227)","v":0},null,{"$f":"IF($AG$291=0,0,$AG$291)","v":0},null,{"$f":"IF($AG$355=0,0,$AG$355)","v":0},null,{"$f":"IF($AG$419=0,0,$AG$419)","v":0},null,{"$f":"IF($AG$483=0,0,$AG$483)","v":0},null,{"$f":"IF($AG$547=0,0,$AG$547)","v":0},null,{"$f":"IF($AG$611=0,0,$AG$611)","v":0},null,{"$f":"IF($AG$675=0,0,$AG$675)","v":0},null,{"$f":"IF($AG$739=0,0,$AG$739)","v":0},null,{"$f":"SUM($G$64:$AD$64)","v":0}]
[{"$f":"$A$65","v":"Vergleich"},{"$f":"$B$65","v":"Stunden zu Soll-Stunden (inkl. allfälli-\nge Minusstunden Vorjahr)"},null,null,null,null,{"$f":"$G$65","v":-168},null,{"$f":"$I$65","v":-160},null,{"$f":"$K$65","v":-184},null,{"$f":"$M$65","v":-168},null,{"$f":"$O$65","v":-176},null,{"$f":"$Q$65","v":-176},null,{"$f":"$S$65","v":-168},null,{"$f":"$U$65","v":-184},null,{"$f":"$W$65","v":-176},null,{"$f":"$Y$65","v":-168},null,{"$f":"$AA$65","v":-176},null,{"$f":"$AC$65","v":-176},null,{"$f":"$AE$65","v":-2080}]
[null,{"$f":"$B$66","v":"Stunden zu Soll-Stunden (kumuliert)"},null,null,null,null,{"$f":"$G$66","v":-168},null,{"$f":"$I$66","v":-328},null,{"$f":"$K$66","v":-512},null,{"$f":"$M$66","v":-680},null,{"$f":"$O$66","v":-856},null,{"$f":"$Q$66","v":-1032},null,{"$f":"$S$66","v":-1200},null,{"$f":"$U$66","v":-1384},null,{"$f":"$W$66","v":-1560},null,{"$f":"$Y$66","v":-1728},null,{"$f":"$AA$66","v":-1904},null,{"$f":"$AC$66","v":-2080},null,{"$f":"$AE$66","v":0}]
[{"$f":"$A$67","v":"Ferienkontrolle"},{"$f":"$B$67","v":"Ferienguthaben Vorjahr"},null,null,null,null,{"$f":"IF($AA$4=0,0,$AA$4)","v":0},null,{"$f":"$I$67","v":"Ferienguthaben nach \nArt. 12.1 GAV"},null,null,null,{"$f":"IF($AA$5=0,0,$AA$5)","v":0},null,{"$f":"$O$67","v":"Ferienguthaben total"},null,null,null,{"$f":"SUM(G387+M387)","v":0},null,{"$f":"$U$67","v":"Ferien bezogen"},null,null,null,{"$f":"IF($AV$4=0,0,$AV$4)","v":0},null,{"$f":"$AA$67","v":"Aktuelles Ferienguthaben"},null,null,null,{"$f":"IF(S387=0,0,S387-Y387)","v":0}]
[]
[]
[{"$f":"$A$3","v":"Mitarbeiter/In"},{"$f":"IF($B$3=\"\",\"\",$B$3)","v":"Muster Peter"},null,null,null,null,null,null,null,null,null,null,null,null,null,null,null,null,null,null,null,null,null,null,null,null,null,null,null,null,null,{"$f":"AF3","v":0}]
[{"$f":"$A$4","v":"Anstellung %"},{"$f":"$AL$50","v":100},null,{"$f":"Labels!B95","v":"im Juli"}]
[{"$f":"$A$5","v":"Saldo für das Jahr"},null,null,{"$f":"IF($AE$65=0,0,$AE$65)","v":-2080}]
[{"$f":"TEXT(DATE(YEAR(AP29),MONTH(AP29)+6,1),\"MMMM\"&Labels!B13)","v":"Juli"},{"$f":"$B$9","v":"Saldo Monat + / -"},null,null,null,{"$f":"(AG395-(SUM(AG396:AG410)-AE418))*-1","v":-168},null,null,null,null,{"$f":"$K$9","v":" = "},{"$f":"$L$9","v":"Gelbe Felder müssen ausgefüllt werden (die übrigen werden automatisch berechnet)"},null,null,null,null,null,null,null,null,null,null,null,null,null,null,null,null,null,null,null,null,{"$f":"COUNT(B396:AF396)&\" \"&Labels!$B$63","v":"21 Tage"}]
[{"$f":"$A$10","v":"Tag"},{"$f":"AE330+1","v":"2022-07-01"},{"$f":"B394+1","v":"2022-07-02"},"2022-07-03","2022-07-04","2022-07-05","2022-07-06","2022-07-07","2022-07-08","2022-07-09","2022-07-10","2022-07-11","2022-07-12","2022-07-13","2022-07-14","2022-07-15","2022-07-16","2022-07-17","2022-07-18","2022-07-19","2022-07-20","2022-07-21","2022-07-22","2022-07-23","2022-07-24","2022-07-25","2022-07-26","2022-07-27","2022-07-28","2022-07-29","2022-07-30","2022-07-31"]
[{"$f":"$A$11","v":"Kalenderwoche"},{"$f":"IF(B394=\"\",\"\",TRUNC((B394-DATE(YEAR(B394+3-MOD(B394-2,7)),1,MOD(B394-2,7)-9))/7))","v":26},26,26,27,27,27,27,27,27,27,28,28,28,28,28,28,28,29,29,29,29,29,29,29,30,30,30,30,30,30,30,{"$f":"SUM(B396:AF396)","v":168}]
[{"$f":"$A$12","v":"Sollstunden"},{"$f":"IF(AND(MOD(B394,7)>=2,SUMPRODUCT(($AM$56:$AQ$56=MOD(B394,7))*$AM$50:$AQ$50)),($J$7*5/$AR$50)*$B$391%,\"\")","v":8},{"$f":"IF(AND(MOD(C394,7)>=2,SUMPRODUCT(($AM$56:$AQ$56=MOD(C394,7))*$AM$50:$AQ$50)),($J$7*5/$AR$50)*$B$391%,\"\")","v":""},{"$f":"IF(AND(MOD(D394,7)>=2,SUMPRODUCT(($AM$56:$AQ$56=MOD(D394,7))*$AM$50:$AQ$50)),($J$7*5/$AR$50)*$B$391%,\"\")","v":""},{"$f":"IF(AND(MOD(E394,7)>=2,SUMPRODUCT(($AM$56:$AQ$56=MOD(E394,7))*$AM$50:$AQ$50)),($J$7*5/$AR$50)*$B$391%,\"\")","v":8},{"$f":"IF(AND(MOD(F394,7)>=2,SUMPRODUCT(($AM$56:$AQ$56=MOD(F394,7))*$AM$50:$AQ$50)),($J$7*5/$AR$50)*$B$391%,\"\")","v":8},{"$f":"IF(AND(MOD(G394,7)>=2,SUMPRODUCT(($AM$56:$AQ$56=MOD(G394,7))*$AM$50:$AQ$50)),($J$7*5/$AR$50)*$B$391%,\"\")","v":8},{"$f":"IF(AND(MOD(H394,7)>=2,SUMPRODUCT(($AM$56:$AQ$56=MOD(H394,7))*$AM$50:$AQ$50)),($J$7*5/$AR$50)*$B$391%,\"\")","v":8},{"$f":"IF(AND(MOD(I394,7)>=2,SUMPRODUCT(($AM$56:$AQ$56=MOD(I394,7))*$AM$50:$AQ$50)),($J$7*5/$AR$50)*$B$391%,\"\")","v":8},{"$f":"IF(AND(MOD(J394,7)>=2,SUMPRODUCT(($AM$56:$AQ$56=MOD(J394,7))*$AM$50:$AQ$50)),($J$7*5/$AR$50)*$B$391%,\"\")","v":""},{"$f":"IF(AND(MOD(K394,7)>=2,SUMPRODUCT(($AM$56:$AQ$56=MOD(K394,7))*$AM$50:$AQ$50)),($J$7*5/$AR$50)*$B$391%,\"\")","v":""},{"$f":"IF(AND(MOD(L394,7)>=2,SUMPRODUCT(($AM$56:$AQ$56=MOD(L394,7))*$AM$50:$AQ$50)),($J$7*5/$AR$50)*$B$391%,\"\")","v":8},{"$f":"IF(AND(MOD(M394,7)>=2,SUMPRODUCT(($AM$56:$AQ$56=MOD(M394,7))*$AM$50:$AQ$50)),($J$7*5/$AR$50)*$B$391%,\"\")","v":8},{"$f":"IF(AND(MOD(N394,7)>=2,SUMPRODUCT(($AM$56:$AQ$56=MOD(N394,7))*$AM$50:$AQ$50)),($J$7*5/$AR$50)*$B$391%,\"\")","v":8},{"$f":"IF(AND(MOD(O394,7)>=2,SUMPRODUCT(($AM$56:$AQ$56=MOD(O394,7))*$AM$50:$AQ$50)),($J$7*5/$AR$50)*$B$391%,\"\")","v":8},{"$f":"IF(AND(MOD(P394,7)>=2,SUMPRODUCT(($AM$56:$AQ$56=MOD(P394,7))*$AM$50:$AQ$50)),($J$7*5/$AR$50)*$B$391%,\"\")","v":8},{"$f":"IF(AND(MOD(Q394,7)>=2,SUMPRODUCT(($AM$56:$AQ$56=MOD(Q394,7))*$AM$50:$AQ$50)),($J$7*5/$AR$50)*$B$391%,\"\")","v":""},{"$f":"IF(AND(MOD(R394,7)>=2,SUMPRODUCT(($AM$56:$AQ$56=MOD(R394,7))*$AM$50:$AQ$50)),($J$7*5/$AR$50)*$B$391%,\"\")","v":""},{"$f":"IF(AND(MOD(S394,7)>=2,SUMPRODUCT(($AM$56:$AQ$56=MOD(S394,7))*$AM$50:$AQ$50)),($J$7*5/$AR$50)*$B$391%,\"\")","v":8},{"$f":"IF(AND(MOD(T394,7)>=2,SUMPRODUCT(($AM$56:$AQ$56=MOD(T394,7))*$AM$50:$AQ$50)),($J$7*5/$AR$50)*$B$391%,\"\")","v":8},{"$f":"IF(AND(MOD(U394,7)>=2,SUMPRODUCT(($AM$56:$AQ$56=MOD(U394,7))*$AM$50:$AQ$50)),($J$7*5/$AR$50)*$B$391%,\"\")","v":8},{"$f":"IF(AND(MOD(V394,7)>=2,SUMPRODUCT(($AM$56:$AQ$56=MOD(V394,7))*$AM$50:$AQ$50)),($J$7*5/$AR$50)*$B$391%,\"\")","v":8},{"$f":"IF(AND(MOD(W394,7)>=2,SUMPRODUCT(($AM$56:$AQ$56=MOD(W394,7))*$AM$50:$AQ$50)),($J$7*5/$AR$50)*$B$391%,\"\")","v":8},{"$f":"IF(AND(MOD(X394,7)>=2,SUMPRODUCT(($AM$56:$AQ$56=MOD(X394,7))*$AM$50:$AQ$50)),($J$7*5/$AR$50)*$B$391%,\"\")","v":""},{"$f":"IF(AND(MOD(Y394,7)>=2,SUMPRODUCT(($AM$56:$AQ$56=MOD(Y394,7))*$AM$50:$AQ$50)),($J$7*5/$AR$50)*$B$391%,\"\")","v":""},{"$f":"IF(AND(MOD(Z394,7)>=2,SUMPRODUCT(($AM$56:$AQ$56=MOD(Z394,7))*$AM$50:$AQ$50)),($J$7*5/$AR$50)*$B$391%,\"\")","v":8},{"$f":"IF(AND(MOD(AA394,7)>=2,SUMPRODUCT(($AM$56:$AQ$56=MOD(AA394,7))*$AM$50:$AQ$50)),($J$7*5/$AR$50)*$B$391%,\"\")","v":8},{"$f":"IF(AND(MOD(AB394,7)>=2,SUMPRODUCT(($AM$56:$AQ$56=MOD(AB394,7))*$AM$50:$AQ$50)),($J$7*5/$AR$50)*$B$391%,\"\")","v":8},{"$f":"IF(AND(MOD(AC394,7)>=2,SUMPRODUCT(($AM$56:$AQ$56=MOD(AC394,7))*$AM$50:$AQ$50)),($J$7*5/$AR$50)*$B$391%,\"\")","v":8},{"$f":"IF(AND(MOD(AD394,7)>=2,SUMPRODUCT(($AM$56:$AQ$56=MOD(AD394,7))*$AM$50:$AQ$50)),($J$7*5/$AR$50)*$B$391%,\"\")","v":8},{"$f":"IF(AND(MOD(AE394,7)>=2,SUMPRODUCT(($AM$56:$AQ$56=MOD(AE394,7))*$AM$50:$AQ$50)),($J$7*5/$AR$50)*$B$391%,\"\")","v":""},{"$f":"IF(AND(MOD(AF394,7)>=2,SUMPRODUCT(($AM$56:$AQ$56=MOD(AF394,7))*$AM$50:$AQ$50)),($J$7*5/$AR$50)*$B$391%,\"\")","v":""},{"$f":"SUM(AP3:AP13)","v":0}]
[{"$f":"$A$13","v":"Absenz in Std"},{"$f":"B969","v":0},{"$f":"C969","v":0},0,0,0,0,0,0,0,0,0,0,0,0,0,0,0,0,0,0,0,0,0,0,0,0,0,0,0,0,0]
[{"$f":"$A$14","v":"Code"},{"$f":"IF(B969<>0,IF(MAX(B956:B968)<B969,Labels!$B$163,INDEX($AH$955:$AH$967,MATCH(MAX(B956:B968),B956:B968,0))),\"\")","v":""},{"$f":"IF(C969<>0,IF(MAX(C956:C968)<C969,Labels!$B$163,INDEX($AH$955:$AH$967,MATCH(MAX(C956:C968),C956:C968,0))),\"\")","v":""},{"$f":"IF(D969<>0,IF(MAX(D956:D968)<D969,Labels!$B$163,INDEX($AH$955:$AH$967,MATCH(MAX(D956:D968),D956:D968,0))),\"\")","v":""},{"$f":"IF(E969<>0,IF(MAX(E956:E968)<E969,Labels!$B$163,INDEX($AH$955:$AH$967,MATCH(MAX(E956:E968),E956:E968,0))),\"\")","v":""},{"$f":"IF(F969<>0,IF(MAX(F956:F968)<F969,Labels!$B$163,INDEX($AH$955:$AH$967,MATCH(MAX(F956:F968),F956:F968,0))),\"\")","v":""},{"$f":"IF(G969<>0,IF(MAX(G956:G968)<G969,Labels!$B$163,INDEX($AH$955:$AH$967,MATCH(MAX(G956:G968),G956:G968,0))),\"\")","v":""},{"$f":"IF(H969<>0,IF(MAX(H956:H968)<H969,Labels!$B$163,INDEX($AH$955:$AH$967,MATCH(MAX(H956:H968),H956:H968,0))),\"\")","v":""},{"$f":"IF(I969<>0,IF(MAX(I956:I968)<I969,Labels!$B$163,INDEX($AH$955:$AH$967,MATCH(MAX(I956:I968),I956:I968,0))),\"\")","v":""},{"$f":"IF(J969<>0,IF(MAX(J956:J968)<J969,Labels!$B$163,INDEX($AH$955:$AH$967,MATCH(MAX(J956:J968),J956:J968,0))),\"\")","v":""},{"$f":"IF(K969<>0,IF(MAX(K956:K968)<K969,Labels!$B$163,INDEX($AH$955:$AH$967,MATCH(MAX(K956:K968),K956:K968,0))),\"\")","v":""},{"$f":"IF(L969<>0,IF(MAX(L956:L968)<L969,Labels!$B$163,INDEX($AH$955:$AH$967,MATCH(MAX(L956:L968),L956:L968,0))),\"\")","v":""},{"$f":"IF(M969<>0,IF(MAX(M956:M968)<M969,Labels!$B$163,INDEX($AH$955:$AH$967,MATCH(MAX(M956:M968),M956:M968,0))),\"\")","v":""},{"$f":"IF(N969<>0,IF(MAX(N956:N968)<N969,Labels!$B$163,INDEX($AH$955:$AH$967,MATCH(MAX(N956:N968),N956:N968,0))),\"\")","v":""},{"$f":"IF(O969<>0,IF(MAX(O956:O968)<O969,Labels!$B$163,INDEX($AH$955:$AH$967,MATCH(MAX(O956:O968),O956:O968,0))),\"\")","v":""},{"$f":"IF(P969<>0,IF(MAX(P956:P968)<P969,Labels!$B$163,INDEX($AH$955:$AH$967,MATCH(MAX(P956:P968),P956:P968,0))),\"\")","v":""},{"$f":"IF(Q969<>0,IF(MAX(Q956:Q968)<Q969,Labels!$B$163,INDEX($AH$955:$AH$967,MATCH(MAX(Q956:Q968),Q956:Q968,0))),\"\")","v":""},{"$f":"IF(R969<>0,IF(MAX(R956:R968)<R969,Labels!$B$163,INDEX($AH$955:$AH$967,MATCH(MAX(R956:R968),R956:R968,0))),\"\")","v":""},{"$f":"IF(S969<>0,IF(MAX(S956:S968)<S969,Labels!$B$163,INDEX($AH$955:$AH$967,MATCH(MAX(S956:S968),S956:S968,0))),\"\")","v":""},{"$f":"IF(T969<>0,IF(MAX(T956:T968)<T969,Labels!$B$163,INDEX($AH$955:$AH$967,MATCH(MAX(T956:T968),T956:T968,0))),\"\")","v":""},{"$f":"IF(U969<>0,IF(MAX(U956:U968)<U969,Labels!$B$163,INDEX($AH$955:$AH$967,MATCH(MAX(U956:U968),U956:U968,0))),\"\")","v":""},{"$f":"IF(V969<>0,IF(MAX(V956:V968)<V969,Labels!$B$163,INDEX($AH$955:$AH$967,MATCH(MAX(V956:V968),V956:V968,0))),\"\")","v":""},{"$f":"IF(W969<>0,IF(MAX(W956:W968)<W969,Labels!$B$163,INDEX($AH$955:$AH$967,MATCH(MAX(W956:W968),W956:W968,0))),\"\")","v":""},{"$f":"IF(X969<>0,IF(MAX(X956:X968)<X969,Labels!$B$163,INDEX($AH$955:$AH$967,MATCH(MAX(X956:X968),X956:X968,0))),\"\")","v":""},{"$f":"IF(Y969<>0,IF(MAX(Y956:Y968)<Y969,Labels!$B$163,INDEX($AH$955:$AH$967,MATCH(MAX(Y956:Y968),Y956:Y968,0))),\"\")","v":""},{"$f":"IF(Z969<>0,IF(MAX(Z956:Z968)<Z969,Labels!$B$163,INDEX($AH$955:$AH$967,MATCH(MAX(Z956:Z968),Z956:Z968,0))),\"\")","v":""},{"$f":"IF(AA969<>0,IF(MAX(AA956:AA968)<AA969,Labels!$B$163,INDEX($AH$955:$AH$967,MATCH(MAX(AA956:AA968),AA956:AA968,0))),\"\")","v":""},{"$f":"IF(AB969<>0,IF(MAX(AB956:AB968)<AB969,Labels!$B$163,INDEX($AH$955:$AH$967,MATCH(MAX(AB956:AB968),AB956:AB968,0))),\"\")","v":""},{"$f":"IF(AC969<>0,IF(MAX(AC956:AC968)<AC969,Labels!$B$163,INDEX($AH$955:$AH$967,MATCH(MAX(AC956:AC968),AC956:AC968,0))),\"\")","v":""},{"$f":"IF(AD969<>0,IF(MAX(AD956:AD968)<AD969,Labels!$B$163,INDEX($AH$955:$AH$967,MATCH(MAX(AD956:AD968),AD956:AD968,0))),\"\")","v":""},{"$f":"IF(AE969<>0,IF(MAX(AE956:AE968)<AE969,Labels!$B$163,INDEX($AH$955:$AH$967,MATCH(MAX(AE956:AE968),AE956:AE968,0))),\"\")","v":""},{"$f":"IF(AF969<>0,IF(MAX(AF956:AF968)<AF969,Labels!$B$163,INDEX($AH$955:$AH$967,MATCH(MAX(AF956:AF968),AF956:AF968,0))),\"\")","v":""},{"$f":"SUM(B399:AF399)","v":0}]
[{"$f":"$A$15","v":"00.00-06.00h"},null,null,null,null,null,null,null,null,null,null,null,null,null,null,null,null,null,null,null,null,null,null,null,null,null,null,null,null,null,null,null,{"$f":"SUM(B400:AF400)","v":0}]
[{"$f":"$A$16","v":"06.00-20.00h"},null,null,null,null,null,null,null,null,null,null,null,null,null,null,null,null,null,null,null,null,null,null,null,null,null,null,null,null,null,null,null,{"$f":"SUM(B401:AF401)","v":0},"[0]"]
[{"$f":"$A$17","v":"20.00-24.00h"}]
[{"$f":"$A$18","v":"Feiertag \"ft\""},{"$f":"IF(WEEKDAY(B394,2)<=6,IF(KALENDER!E15=\"x\",Labels!$B$118,\"\"),\"\")","v":""},{"$f":"IF(WEEKDAY(C394,2)<=6,IF(KALENDER!F15=\"x\",Labels!$B$118,\"\"),\"\")","v":""},{"$f":"IF(WEEKDAY(D394,2)<=6,IF(KALENDER!G15=\"x\",Labels!$B$118,\"\"),\"\")","v":""},{"$f":"IF(WEEKDAY(E394,2)<=6,IF(KALENDER!H15=\"x\",Labels!$B$118,\"\"),\"\")","v":""},{"$f":"IF(WEEKDAY(F394,2)<=6,IF(KALENDER!I15=\"x\",Labels!$B$118,\"\"),\"\")","v":""},{"$f":"IF(WEEKDAY(G394,2)<=6,IF(KALENDER!J15=\"x\",Labels!$B$118,\"\"),\"\")","v":""},{"$f":"IF(WEEKDAY(H394,2)<=6,IF(KALENDER!K15=\"x\",Labels!$B$118,\"\"),\"\")","v":""},{"$f":"IF(WEEKDAY(I394,2)<=6,IF(KALENDER!L15=\"x\",Labels!$B$118,\"\"),\"\")","v":""},{"$f":"IF(WEEKDAY(J394,2)<=6,IF(KALENDER!M15=\"x\",Labels!$B$118,\"\"),\"\")","v":""},{"$f":"IF(WEEKDAY(K394,2)<=6,IF(KALENDER!N15=\"x\",Labels!$B$118,\"\"),\"\")","v":""},{"$f":"IF(WEEKDAY(L394,2)<=6,IF(KALENDER!O15=\"x\",Labels!$B$118,\"\"),\"\")","v":""},{"$f":"IF(WEEKDAY(M394,2)<=6,IF(KALENDER!P15=\"x\",Labels!$B$118,\"\"),\"\")","v":""},{"$f":"IF(WEEKDAY(N394,2)<=6,IF(KALENDER!Q15=\"x\",Labels!$B$118,\"\"),\"\")","v":""},{"$f":"IF(WEEKDAY(O394,2)<=6,IF(KALENDER!R15=\"x\",Labels!$B$118,\"\"),\"\")","v":""},{"$f":"IF(WEEKDAY(P394,2)<=6,IF(KALENDER!S15=\"x\",Labels!$B$118,\"\"),\"\")","v":""},{"$f":"IF(WEEKDAY(Q394,2)<=6,IF(KALENDER!T15=\"x\",Labels!$B$118,\"\"),\"\")","v":""},{"$f":"IF(WEEKDAY(R394,2)<=6,IF(KALENDER!U15=\"x\",Labels!$B$118,\"\"),\"\")","v":""},{"$f":"IF(WEEKDAY(S394,2)<=6,IF(KALENDER!V15=\"x\",Labels!$B$118,\"\"),\"\")","v":""},{"$f":"IF(WEEKDAY(T394,2)<=6,IF(KALENDER!W15=\"x\",Labels!$B$118,\"\"),\"\")","v":""},{"$f":"IF(WEEKDAY(U394,2)<=6,IF(KALENDER!X15=\"x\",Labels!$B$118,\"\"),\"\")","v":""},{"$f":"IF(WEEKDAY(V394,2)<=6,IF(KALENDER!Y15=\"x\",Labels!$B$118,\"\"),\"\")","v":""},{"$f":"IF(WEEKDAY(W394,2)<=6,IF(KALENDER!Z15=\"x\",Labels!$B$118,\"\"),\"\")","v":""},{"$f":"IF(WEEKDAY(X394,2)<=6,IF(KALENDER!AA15=\"x\",Labels!$B$118,\"\"),\"\")","v":""},{"$f":"IF(WEEKDAY(Y394,2)<=6,IF(KALENDER!AB15=\"x\",Labels!$B$118,\"\"),\"\")","v":""},{"$f":"IF(WEEKDAY(Z394,2)<=6,IF(KALENDER!AC15=\"x\",Labels!$B$118,\"\"),\"\")","v":""},{"$f":"IF(WEEKDAY(AA394,2)<=6,IF(KALENDER!AD15=\"x\",Labels!$B$118,\"\"),\"\")","v":""},{"$f":"IF(WEEKDAY(AB394,2)<=6,IF(KALENDER!AE15=\"x\",Labels!$B$118,\"\"),\"\")","v":""},{"$f":"IF(WEEKDAY(AC394,2)<=6,IF(KALENDER!AF15=\"x\",Labels!$B$118,\"\"),\"\")","v":""},{"$f":"IF(WEEKDAY(AD394,2)<=6,IF(KALENDER!AG15=\"x\",Labels!$B$118,\"\"),\"\")","v":""},{"$f":"IF(WEEKDAY(AE394,2)<=6,IF(KALENDER!AH15=\"x\",Labels!$B$118,\"\"),\"\")","v":""},{"$f":"IF(WEEKDAY(AF394,2)<=6,IF(KALENDER!AI15=\"x\",Labels!$B$118,\"\"),\"\")","v":""},{"$f":"SUM(B403:AF403)","v":0}]
[{"$f":"$A$19","v":"Gutschrift \"ft\""},{"$f":"IF(AND(B402=Labels!$B$118,WEEKDAY(B394,2)<6,B$396<>\"\"),($J$7*5/$AR$50)*$B$391%,\"\")","v":""},{"$f":"IF(AND(C402=Labels!$B$118,WEEKDAY(C394,2)<6,C$396<>\"\"),($J$7*5/$AR$50)*$B$391%,\"\")","v":""},{"$f":"IF(AND(D402=Labels!$B$118,WEEKDAY(D394,2)<6,D$396<>\"\"),($J$7*5/$AR$50)*$B$391%,\"\")","v":""},{"$f":"IF(AND(E402=Labels!$B$118,WEEKDAY(E394,2)<6,E$396<>\"\"),($J$7*5/$AR$50)*$B$391%,\"\")","v":""},{"$f":"IF(AND(F402=Labels!$B$118,WEEKDAY(F394,2)<6,F$396<>\"\"),($J$7*5/$AR$50)*$B$391%,\"\")","v":""},{"$f":"IF(AND(G402=Labels!$B$118,WEEKDAY(G394,2)<6,G$396<>\"\"),($J$7*5/$AR$50)*$B$391%,\"\")","v":""},{"$f":"IF(AND(H402=Labels!$B$118,WEEKDAY(H394,2)<6,H$396<>\"\"),($J$7*5/$AR$50)*$B$391%,\"\")","v":""},{"$f":"IF(AND(I402=Labels!$B$118,WEEKDAY(I394,2)<6,I$396<>\"\"),($J$7*5/$AR$50)*$B$391%,\"\")","v":""},{"$f":"IF(AND(J402=Labels!$B$118,WEEKDAY(J394,2)<6,J$396<>\"\"),($J$7*5/$AR$50)*$B$391%,\"\")","v":""},{"$f":"IF(AND(K402=Labels!$B$118,WEEKDAY(K394,2)<6,K$396<>\"\"),($J$7*5/$AR$50)*$B$391%,\"\")","v":""},{"$f":"IF(AND(L402=Labels!$B$118,WEEKDAY(L394,2)<6,L$396<>\"\"),($J$7*5/$AR$50)*$B$391%,\"\")","v":""},{"$f":"IF(AND(M402=Labels!$B$118,WEEKDAY(M394,2)<6,M$396<>\"\"),($J$7*5/$AR$50)*$B$391%,\"\")","v":""},{"$f":"IF(AND(N402=Labels!$B$118,WEEKDAY(N394,2)<6,N$396<>\"\"),($J$7*5/$AR$50)*$B$391%,\"\")","v":""},{"$f":"IF(AND(O402=Labels!$B$118,WEEKDAY(O394,2)<6,O$396<>\"\"),($J$7*5/$AR$50)*$B$391%,\"\")","v":""},{"$f":"IF(AND(P402=Labels!$B$118,WEEKDAY(P394,2)<6,P$396<>\"\"),($J$7*5/$AR$50)*$B$391%,\"\")","v":""},{"$f":"IF(AND(Q402=Labels!$B$118,WEEKDAY(Q394,2)<6,Q$396<>\"\"),($J$7*5/$AR$50)*$B$391%,\"\")","v":""},{"$f":"IF(AND(R402=Labels!$B$118,WEEKDAY(R394,2)<6,R$396<>\"\"),($J$7*5/$AR$50)*$B$391%,\"\")","v":""},{"$f":"IF(AND(S402=Labels!$B$118,WEEKDAY(S394,2)<6,S$396<>\"\"),($J$7*5/$AR$50)*$B$391%,\"\")","v":""},{"$f":"IF(AND(T402=Labels!$B$118,WEEKDAY(T394,2)<6,T$396<>\"\"),($J$7*5/$AR$50)*$B$391%,\"\")","v":""},{"$f":"IF(AND(U402=Labels!$B$118,WEEKDAY(U394,2)<6,U$396<>\"\"),($J$7*5/$AR$50)*$B$391%,\"\")","v":""},{"$f":"IF(AND(V402=Labels!$B$118,WEEKDAY(V394,2)<6,V$396<>\"\"),($J$7*5/$AR$50)*$B$391%,\"\")","v":""},{"$f":"IF(AND(W402=Labels!$B$118,WEEKDAY(W394,2)<6,W$396<>\"\"),($J$7*5/$AR$50)*$B$391%,\"\")","v":""},{"$f":"IF(AND(X402=Labels!$B$118,WEEKDAY(X394,2)<6,X$396<>\"\"),($J$7*5/$AR$50)*$B$391%,\"\")","v":""},{"$f":"IF(AND(Y402=Labels!$B$118,WEEKDAY(Y394,2)<6,Y$396<>\"\"),($J$7*5/$AR$50)*$B$391%,\"\")","v":""},{"$f":"IF(AND(Z402=Labels!$B$118,WEEKDAY(Z394,2)<6,Z$396<>\"\"),($J$7*5/$AR$50)*$B$391%,\"\")","v":""},{"$f":"IF(AND(AA402=Labels!$B$118,WEEKDAY(AA394,2)<6,AA$396<>\"\"),($J$7*5/$AR$50)*$B$391%,\"\")","v":""},{"$f":"IF(AND(AB402=Labels!$B$118,WEEKDAY(AB394,2)<6,AB$396<>\"\"),($J$7*5/$AR$50)*$B$391%,\"\")","v":""},{"$f":"IF(AND(AC402=Labels!$B$118,WEEKDAY(AC394,2)<6,AC$396<>\"\"),($J$7*5/$AR$50)*$B$391%,\"\")","v":""},{"$f":"IF(AND(AD402=Labels!$B$118,WEEKDAY(AD394,2)<6,AD$396<>\"\"),($J$7*5/$AR$50)*$B$391%,\"\")","v":""},{"$f":"IF(AND(AE402=Labels!$B$118,WEEKDAY(AE394,2)<6,AE$396<>\"\"),($J$7*5/$AR$50)*$B$391%,\"\")","v":""},{"$f":"IF(AND(AF402=Labels!$B$118,WEEKDAY(AF394,2)<6,AF$396<>\"\"),($J$7*5/$AR$50)*$B$391%,\"\")","v":""}]
[{"$f":"$A$20","v":"Tagestotal"},{"$f":"SUM(B399:B401)","v":0},{"$f":"SUM(C399:C401)","v":0},0,0,0,0,0,0,0,0,0,0,0,0,0,0,0,0,0,0,0,0,0,0,0,0,0,0,0,0,0]
[{"$f":"$A$21","v":"."}]
[{"$f":"$A$22","v":"."}]
[{"$f":"$A$23","v":"Monatsübergang"},{"$f":"IF(WEEKDAY(B394)=1,TEXT(B394-1,\"MMM\"&Labels!B13),\"\")","v":""},null,null,null,null,null,null,null,null,null,null,null,null,null,null,null,null,null,null,null,null,null,null,null,null,null,null,null,null,null,{"$f":"IF(AND(WEEKDAY(AF394)>1,WEEKDAY(AF394)<7),TEXT(DATE($B$5,MONTH(AF394)+1,1),\"MMM\"&Labels!B13),\"\")","v":""}]
[{"$f":"$A$24","v":"Wochentotal"},{"$f":"IF(WEEKDAY(B394)=7,SUMIF($B331:$AF331,B395,$B340:$AF340)+SUMIF($B395:$AF395,B395,$B404:$AF404)+SUMIF($B459:$AF459,B395,$B468:$AF468),B407)","v":""},{"$f":"IF(WEEKDAY(C394)=7,SUMIF($B331:$AF331,C395,$B340:$AF340)+SUMIF($B395:$AF395,C395,$B404:$AF404)+SUMIF($B459:$AF459,C395,$B468:$AF468),\"\")","v":0},"","","","","","",0,"","","","","","",0,"","","","","","",0,"","","","","","",0,{"$f":"IF(WEEKDAY(AF394)=7,SUMIF($B331:$AF331,AF395,$B340:$AF340)+SUMIF($B395:$AF395,AF395,$B404:$AF404)+SUMIF($B459:$AF459,AF395,$B468:$AF468),AF407)","v":""},{"$f":"SUM(B409:AF409)","v":0}]
[{"$f":"$A$25","v":"Zeitzuschlag 1)"},{"$f":"IF(B416=\"FALSCH\",\"\",B416)","v":""},{"$f":"IF(C416=\"FALSCH\",\"\",C416)","v":""},"","","","","","","","","","","","","","","","","","","","","","","","","","","","","",0,"[1]"]
[{"$f":"$A$26","v":"Zeitzuschlag 2)"},{"$f":"IF((B399+B401)=0,\"\",SUM(B399,B401))","v":""},{"$f":"IF((C399+C401)=0,\"\",SUM(C399,C401))","v":""},"","","","","","","","","","","","","","","","","","","","","","","","","","","","","",{"$f":"SUM(B411:AF411)","v":0},"[2]"]
[{"$f":"$A$27","v":"Zeitzuschlag 3)"},{"$f":"SUM(B412:B415)","v":0},{"$f":"SUM(C412:C415)","v":0},0,0,0,0,0,0,0,0,0,0,0,0,0,0,0,0,0,0,0,0,0,0,0,0,0,0,0,0,0,0,"[3]"]
[{"$f":"$A$28","v":"Sonntag Tag"},{"$f":"IF(WEEKDAY(B394)=1,B400,\"\")","v":""},{"$f":"IF(WEEKDAY(C394)=1,C400,\"\")","v":""},0,"","","","","","",0,"","","","","","",0,"","","","","","",0,"","","","","","",0,0,"[4]"]
[{"$f":"$A$29","v":"Sonntag Nacht"},{"$f":"IF(WEEKDAY(B394)=1,SUM(B399+B401),\"\")","v":""},{"$f":"IF(WEEKDAY(C394)=1,SUM(C399+C401),\"\")","v":""},0,"","","","","","",0,"","","","","","",0,"","","","","","",0,"","","","","","",0,0,"[5]"]
[{"$f":"$A$30","v":"ft-Tazuschlag"},{"$f":"IF(B402=Labels!$B$118,B400,\"\")","v":""},{"$f":"IF(C402=Labels!$B$118,C400,\"\")","v":""},{"$f":"IF(D402=Labels!$B$118,D400,\"\")","v":""},{"$f":"IF(E402=Labels!$B$118,E400,\"\")","v":""},{"$f":"IF(F402=Labels!$B$118,F400,\"\")","v":""},{"$f":"IF(G402=Labels!$B$118,G400,\"\")","v":""},{"$f":"IF(H402=Labels!$B$118,H400,\"\")","v":""},{"$f":"IF(I402=Labels!$B$118,I400,\"\")","v":""},{"$f":"IF(J402=Labels!$B$118,J400,\"\")","v":""},{"$f":"IF(K402=Labels!$B$118,K400,\"\")","v":""},{"$f":"IF(L402=Labels!$B$118,L400,\"\")","v":""},{"$f":"IF(M402=Labels!$B$118,M400,\"\")","v":""},{"$f":"IF(N402=Labels!$B$118,N400,\"\")","v":""},{"$f":"IF(O402=Labels!$B$118,O400,\"\")","v":""},{"$f":"IF(P402=Labels!$B$118,P400,\"\")","v":""},{"$f":"IF(Q402=Labels!$B$118,Q400,\"\")","v":""},{"$f":"IF(R402=Labels!$B$118,R400,\"\")","v":""},{"$f":"IF(S402=Labels!$B$118,S400,\"\")","v":""},{"$f":"IF(T402=Labels!$B$118,T400,\"\")","v":""},{"$f":"IF(U402=Labels!$B$118,U400,\"\")","v":""},{"$f":"IF(V402=Labels!$B$118,V400,\"\")","v":""},{"$f":"IF(W402=Labels!$B$118,W400,\"\")","v":""},{"$f":"IF(X402=Labels!$B$118,X400,\"\")","v":""},{"$f":"IF(Y402=Labels!$B$118,Y400,\"\")","v":""},{"$f":"IF(Z402=Labels!$B$118,Z400,\"\")","v":""},{"$f":"IF(AA402=Labels!$B$118,AA400,\"\")","v":""},{"$f":"IF(AB402=Labels!$B$118,AB400,\"\")","v":""},{"$f":"IF(AC402=Labels!$B$118,AC400,\"\")","v":""},{"$f":"IF(AD402=Labels!$B$118,AD400,\"\")","v":""},{"$f":"IF(AE402=Labels!$B$118,AE400,\"\")","v":""},{"$f":"IF(AF402=Labels!$B$118,AF400,\"\")","v":""},0,"[6]"]
[{"$f":"$A$31","v":"ft-Nazuschlag"},{"$f":"IF(B402=Labels!$B$118,SUM(B399,B401),\"\")","v":""},{"$f":"IF(C402=Labels!$B$118,SUM(C399,C401),\"\")","v":""},{"$f":"IF(D402=Labels!$B$118,SUM(D399,D401),\"\")","v":""},{"$f":"IF(E402=Labels!$B$118,SUM(E399,E401),\"\")","v":""},{"$f":"IF(F402=Labels!$B$118,SUM(F399,F401),\"\")","v":""},{"$f":"IF(G402=Labels!$B$118,SUM(G399,G401),\"\")","v":""},{"$f":"IF(H402=Labels!$B$118,SUM(H399,H401),\"\")","v":""},{"$f":"IF(I402=Labels!$B$118,SUM(I399,I401),\"\")","v":""},{"$f":"IF(J402=Labels!$B$118,SUM(J399,J401),\"\")","v":""},{"$f":"IF(K402=Labels!$B$118,SUM(K399,K401),\"\")","v":""},{"$f":"IF(L402=Labels!$B$118,SUM(L399,L401),\"\")","v":""},{"$f":"IF(M402=Labels!$B$118,SUM(M399,M401),\"\")","v":""},{"$f":"IF(N402=Labels!$B$118,SUM(N399,N401),\"\")","v":""},{"$f":"IF(O402=Labels!$B$118,SUM(O399,O401),\"\")","v":""},{"$f":"IF(P402=Labels!$B$118,SUM(P399,P401),\"\")","v":""},{"$f":"IF(Q402=Labels!$B$118,SUM(Q399,Q401),\"\")","v":""},{"$f":"IF(R402=Labels!$B$118,SUM(R399,R401),\"\")","v":""},{"$f":"IF(S402=Labels!$B$118,SUM(S399,S401),\"\")","v":""},{"$f":"IF(T402=Labels!$B$118,SUM(T399,T401),\"\")","v":""},{"$f":"IF(U402=Labels!$B$118,SUM(U399,U401),\"\")","v":""},{"$f":"IF(V402=Labels!$B$118,SUM(V399,V401),\"\")","v":""},{"$f":"IF(W402=Labels!$B$118,SUM(W399,W401),\"\")","v":""},{"$f":"IF(X402=Labels!$B$118,SUM(X399,X401),\"\")","v":""},{"$f":"IF(Y402=Labels!$B$118,SUM(Y399,Y401),\"\")","v":""},{"$f":"IF(Z402=Labels!$B$118,SUM(Z399,Z401),\"\")","v":""},{"$f":"IF(AA402=Labels!$B$118,SUM(AA399,AA401),\"\")","v":""},{"$f":"IF(AB402=Labels!$B$118,SUM(AB399,AB401),\"\")","v":""},{"$f":"IF(AC402=Labels!$B$118,SUM(AC399,AC401),\"\")","v":""},{"$f":"IF(AD402=Labels!$B$118,SUM(AD399,AD401),\"\")","v":""},{"$f":"IF(AE402=Labels!$B$118,SUM(AE399,AE401),\"\")","v":""},{"$f":"IF(AF402=Labels!$B$118,SUM(AF399,AF401),\"\")","v":""},{"$f":"AG399","v":0},"[7]"]
[{"$f":"$A$32","v":"Zuschlag  blind (Wochentotal)"},{"$f":"IF(OR(ISTEXT(B408),B408=\"\",B408<$B$7),\"\",ROUND(((B408-$B$7)*25%)/25,4)*25)","v":""},{"$f":"IF(OR(ISTEXT(C408),C408=\"\",C408<$B$7),\"\",ROUND(((C408-$B$7)*25%)/25,4)*25)","v":""},"","","","","","","","","","","","","","","","","","","","","","","","","","","","","",{"$f":"SUM(AG398+AG400)","v":0},"[8]"]
[null,{"$f":"$B$33","v":"1)   25% Zeitzuschlag für Überschreitung Wochentotal"},null,null,null,null,null,null,null,null,null,{"$f":"$L$33","v":"2) 100% Zeitzuschlag für Nachtarbeit"},null,null,null,null,null,null,null,{"$f":"$T$33","v":"Eingabe der ausbezahlten Stunden Vorjahressaldo"},null,null,null,null,null,null,null,null,null,null,null,null,{"$f":"SUM(AG398:AG400)","v":0},"[9]"]
[null,{"$f":"$B$34","v":"3) 100% Zeitzuschlag für Sonn- und Feiertagsarbeit"},null,null,null,null,null,null,null,null,null,null,null,null,null,null,null,null,null,{"$f":"$T$34","v":"Eingabe der ausbezahlten Stunden laufendes Jahr (Überstunden)"},null,null,null,null,null,null,null,null,null,null,null,null,{"$f":"SUM(AG396+AG402)","v":0},"[10]"]
[{"$f":"$A$35","v":"Bemerkungen"},null,null,null,null,null,null,null,null,null,null,null,null,null,null,null,null,null,null,null,null,null,null,null,null,null,null,null,null,null,null,null,{"$f":"SUM(AG396:AG410)","v":0},"[11]"]
[null,null,null,null,null,null,null,null,null,null,null,null,null,null,null,null,null,null,null,null,null,null,null,null,null,null,null,null,null,null,null,null,{"$f":"AG395","v":168}]
[null,null,null,null,null,null,null,null,null,null,null,null,null,null,null,null,null,null,null,null,null,null,null,null,null,null,null,null,null,null,null,null,{"$f":"SUM(AG419-AG395)","v":-168}]
[]
[{"$f":"$A$39","v":"Zusammenstellung"},null,null,null,null,null,{"$f":"$G$39","v":"Jan"},null,{"$f":"$I$39","v":"Feb"},null,{"$f":"$K$39","v":"Mrz"},null,{"$f":"$M$39","v":"Apr"},null,{"$f":"$O$39","v":"Mai"},null,{"$f":"$Q$39","v":"Jun"},null,{"$f":"$S$39","v":"Jul"},null,{"$f":"$U$39","v":"Aug"},null,{"$f":"$W$39","v":"Sep"},null,{"$f":"$Y$39","v":"Okt"},null,{"$f":"$AA$39","v":"Nov"},null,{"$f":"$AC$39","v":"Dez"},null,{"$f":"$AE$39","v":"Jahr"}]
[{"$f":"$A$40","v":"Anstellung %"},null,null,null,null,null,{"$f":"IF($B$4=0,0,$B$4)","v":100},null,{"$f":"IF($B$71=0,0,$B$71)","v":100},null,{"$f":"IF($B$135=0,0,$B$135)","v":100},null,{"$f":"IF($B$199=0,0,$B$199)","v":100},null,{"$f":"IF($B$263=0,0,$B$263)","v":100},null,{"$f":"IF($B$327=0,0,$B$327)","v":100},null,{"$f":"IF($B$391=0,0,$B$391)","v":100},null,{"$f":"IF($B$455=0,0,$B$455)","v":100},null,{"$f":"IF($B$519=0,0,$B$519)","v":100},null,{"$f":"IF($B$583=0,0,$B$583)","v":100},null,{"$f":"IF($B$647=0,0,$B$647)","v":100},null,{"$f":"IF($B$711=0,0,$B$711)","v":100}]
[{"$f":"$A$41","v":"Sollstunden gemäss GAV"},null,null,null,null,null,{"$f":"IF($AG$37=0,0,$AG$37)","v":168},null,{"$f":"IF($AG$100=0,0,$AG$100)","v":160},null,{"$f":"IF($AG$139=0,0,$AG$139)","v":184},null,{"$f":"IF($AG$228=0,0,$AG$228)","v":168},null,{"$f":"IF($AG$292=0,0,$AG$292)","v":176},null,{"$f":"IF($AG$356=0,0,$AG$356)","v":176},null,{"$f":"IF($AG$420=0,0,$AG$420)","v":168},null,{"$f":"IF($AG$484=0,0,$AG$484)","v":184},null,{"$f":"IF($AG$548=0,0,$AG$548)","v":176},null,{"$f":"IF($AG$612=0,0,$AG$612)","v":168},null,{"$f":"IF($AG$676=0,0,$AG$676)","v":176},null,{"$f":"IF($AG$740=0,0,$AG$740)","v":176},null,{"$f":"SUM(G425:AD425)","v":2080}]
[{"$f":"$A$42","v":"Produktive Stunden"},{"$f":"$B$42","v":"06.00 - 20.00 Uhr"},null,null,null,null,{"$f":"IF($AG$32=0,0,$AG$32)","v":0},null,{"$f":"IF($AG$95=0,0,$AG$95)","v":0},null,{"$f":"IF($AG$159=0,0,$AG$159)","v":0},null,{"$f":"IF($AG$223=0,0,$AG$223)","v":0},null,{"$f":"IF($AG$287=0,0,$AG$287)","v":0},null,{"$f":"IF($AG$351=0,0,$AG$351)","v":0},null,{"$f":"IF($AG$415=0,0,$AG$415)","v":0},null,{"$f":"IF($AG$479=0,0,$AG$479)","v":0},null,{"$f":"IF($AG$543=0,0,$AG$543)","v":0},null,{"$f":"IF($AG$607=0,0,$AG$607)","v":0},null,{"$f":"IF($AG$671=0,0,$AG$671)","v":0},null,{"$f":"IF($AG$735=0,0,$AG$735)","v":0},null,{"$f":"SUM(G426:AD426)","v":0}]
[null,{"$f":"$B$43","v":"Nacht-, Sonn-, Feiertagsarbeit"},null,null,null,null,{"$f":"IF($AG$33=0,0,$AG$33)","v":0},null,{"$f":"IF($AG$96=0,0,$AG$96)","v":0},null,{"$f":"IF($AG$160=0,0,$AG$160)","v":0},null,{"$f":"IF($AG$224=0,0,$AG$224)","v":0},null,{"$f":"IF($AG$288=0,0,$AG$288)","v":0},null,{"$f":"IF($AG$352=0,0,$AG$352)","v":0},null,{"$f":"IF($AG$416=0,0,$AG$416)","v":0},null,{"$f":"IF($AG$480=0,0,$AG$480)","v":0},null,{"$f":"IF($AG$544=0,0,$AG$544)","v":0},null,{"$f":"IF($AG$608=0,0,$AG$608)","v":0},null,{"$f":"IF($AG$672=0,0,$AG$672)","v":0},null,{"$f":"IF($AG$736=0,0,$AG$736)","v":0},null,{"$f":"SUM(G427:AD427)","v":0}]
[{"$f":"$A$44","v":"Zeitzuschläge"},{"$f":"$B$44","v":"aus Wochentotal"},null,null,null,null,{"$f":"IF($AG$25=0,0,$AG$25)","v":0},null,{"$f":"IF($AG$88=0,0,$AG$88)","v":0},null,{"$f":"IF($AG$152=0,0,$AG$152)","v":0},null,{"$f":"IF($AG$216=0,0,$AG$216)","v":0},null,{"$f":"IF($AG$280=0,0,$AG$280)","v":0},null,{"$f":"IF($AG$344=0,0,$AG$344)","v":0},null,{"$f":"IF($AG$408=0,0,$AG$408)","v":0},null,{"$f":"IF($AG$472=0,0,$AG$472)","v":0},null,{"$f":"IF($AG$536=0,0,$AG$536)","v":0},null,{"$f":"IF($AG$600=0,0,$AG$600)","v":0},null,{"$f":"IF($AG$664=0,0,$AG$664)","v":0},null,{"$f":"IF($AG$728=0,0,$AG$728)","v":0},null,{"$f":"SUM(G428:AD428)","v":0}]
[null,{"$f":"$B$45","v":"aus Nacht-, Sonn-, Feiertagsarbeiten"},null,null,null,null,{"$f":"IF($AJ$21=0,0,$AJ$21)","v":0},null,{"$f":"IF($AK$21=0,0,$AK$21)","v":0},null,{"$f":"IF($AL$21=0,0,$AL$21)","v":0},null,{"$f":"IF($AM$21=0,0,$AM$21)","v":0},null,{"$f":"IF($AN$21=0,0,$AN$21)","v":0},null,{"$f":"IF($AO$21=0,0,$AO$21)","v":0},null,{"$f":"IF($AP$21=0,0,$AP$21)","v":0},null,{"$f":"IF($AQ$21=0,0,$AQ$21)","v":0},null,{"$f":"IF($AR$21=0,0,$AR$21)","v":0},null,{"$f":"IF($AS$21=0,0,$AS$21)","v":0},null,{"$f":"IF($AT$21=0,0,$AT$21)","v":0},null,{"$f":"IF($AU$21=0,0,$AU$21)","v":0},null,{"$f":"SUM(G429:AD429)","v":0}]
[{"$f":"$A$46","v":"Unproduktive Stunden"}]
[{"$f":"$A$47","v":"   Absenzen, Kurzabsenzen Art. 11 GAV"},null,null,null,null,{"$f":"$F$47","v":"a"},{"$f":"IF($AJ$3=0,0,$AJ$3)","v":0},null,{"$f":"IF($AK$3=0,0,$AK$3)","v":0},null,{"$f":"IF($AL$3=0,0,$AL$3)","v":0},null,{"$f":"IF($AM$3=0,0,$AM$3)","v":0},null,{"$f":"IF($AN$3=0,0,$AN$3)","v":0},null,{"$f":"IF($AO$3=0,0,$AO$3)","v":0},null,{"$f":"IF($AP$3=0,0,$AP$3)","v":0},null,{"$f":"IF($AQ$3=0,0,$AQ$3)","v":0},null,{"$f":"IF($AR$3=0,0,$AR$3)","v":0},null,{"$f":"IF($AS$3=0,0,$AS$3)","v":0},null,{"$f":"IF(AT$3=0,0,$AT$3)","v":0},null,{"$f":"IF($AU$3=0,0,$AU$3)","v":0},null,{"$f":"IF($AV$3=0,0,$AV$3)","v":0}]
[{"$f":"$A$48","v":"   Ferien Art. 12.1 GAV"},null,null,null,null,{"$f":"$F$48","v":"f"},{"$f":"IF($AJ$4=0,0,$AJ$4)","v":0},null,{"$f":"IF($AK$4=0,0,$AK$4)","v":0},null,{"$f":"IF($AL$4=0,0,$AL$4)","v":0},null,{"$f":"IF($AM$4=0,0,$AM$4)","v":0},null,{"$f":"IF($AN$4=0,0,$AN$4)","v":0},null,{"$f":"IF($AO$4=0,0,$AO$4)","v":0},null,{"$f":"IF($AP$4=0,0,$AP$4)","v":0},null,{"$f":"IF($AQ$4=0,0,$AQ$4)","v":0},null,{"$f":"IF($AR$4=0,0,$AR$4)","v":0},null,{"$f":"IF($AS$4=0,0,$AS$4)","v":0},null,{"$f":"IF($AT$4=0,0,$AT$4)","v":0},null,{"$f":"IF($AU$4=0,0,$AU$4)","v":0},null,{"$f":"IF($AV$4=0,0,$AV$4)","v":0}]
[{"$f":"Labels!$B$181","v":"   Ferien unbezahlt"},null,null,null,null,{"$f":"Labels!$B$182","v":"fu"},{"$f":"IF($AJ$13=0,0,$AJ$13)","v":0},null,{"$f":"IF($AK$13=0,0,$AK$13)","v":0},null,{"$f":"IF($AL$13=0,0,$AL$13)","v":0},null,{"$f":"IF($AM$13=0,0,$AM$13)","v":0},null,{"$f":"IF($AN$13=0,0,$AN$13)","v":0},null,{"$f":"IF($AO$13=0,0,$AO$13)","v":0},null,{"$f":"IF($AP$13=0,0,$AP$13)","v":0},null,{"$f":"IF($AQ$13=0,0,$AQ$13)","v":0},null,{"$f":"IF($AR$13=0,0,$AR$13)","v":0},null,{"$f":"IF($AS$13=0,0,$AS$13)","v":0},null,{"$f":"IF($AT$13=0,0,$AT$13)","v":0},null,{"$f":"IF($AU$13=0,0,$AU$13)","v":0},null,{"$f":"IF($AV$13=0,0,$AV$13)","v":0}]
[{"$f":"$A$50","v":"   Feiertage Art. 12.2 GAV"},null,{"$f":"IF($AJ$18=\"\",\"\",$AJ$18)","v":""},null,null,{"$f":"$F$50","v":"ft"},{"$f":"IF($AJ$16=0,0,$AJ$16)","v":0},null,{"$f":"IF($AK$16=0,0,$AK$16)","v":0},null,{"$f":"IF($AL$16=0,0,$AL$16)","v":0},null,{"$f":"IF($AM$16=0,0,$AM$16)","v":0},null,{"$f":"IF($AN$16=0,0,$AN$16)","v":0},null,{"$f":"IF($AO$16=0,0,$AO$16)","v":0},null,{"$f":"IF($AP$16=0,0,$AP$16)","v":0},null,{"$f":"IF($AQ$16=0,0,$AQ$16)","v":0},null,{"$f":"IF($AR$16=0,0,$AR$16)","v":0},null,{"$f":"IF($AS$16=0,0,$AS$16)","v":0},null,{"$f":"IF($AT$16=0,0,$AT$16)","v":0},null,{"$f":"IF($AU$16=0,0,$AU$16)","v":0},null,{"$f":"IF($AV$16=0,0,$AV$16)","v":0}]
[{"$f":"$A$51","v":"   Krankheit Art. 13 GAV"},null,null,null,null,{"$f":"$F$51","v":"k"},{"$f":"IF($AJ$5=0,0,$AJ$5)","v":0},null,{"$f":"IF($AK$5=0,0,$AK$5)","v":0},null,{"$f":"IF($AL$5=0,0,$AL$5)","v":0},null,{"$f":"IF($AM$5=0,0,$AM$5)","v":0},null,{"$f":"IF($AN$5=0,0,$AN$5)","v":0},null,{"$f":"IF($AO$5=0,0,$AO$5)","v":0},null,{"$f":"IF($AP$5=0,0,$AP$5)","v":0},null,{"$f":"IF($AQ$5=0,0,$AQ$5)","v":0},null,{"$f":"IF($AR$5=0,0,$AR$5)","v":0},null,{"$f":"IF($AS$5=0,0,$AS$5)","v":0},null,{"$f":"IF($AT$5=0,0,$AT$5)","v":0},null,{"$f":"IF($AU$5=0,0,$AU$5)","v":0},null,{"$f":"IF($AV$5=0,0,$AV$5)","v":0}]
[{"$f":"$A$52","v":"   Unfall Art. 14 GAV"},null,null,null,null,{"$f":"$F$52","v":"u"},{"$f":"IF($AJ$6=0,0,$AJ$6)","v":0},null,{"$f":"IF($AK$6=0,0,$AK$6)","v":0},null,{"$f":"IF($AL$6=0,0,$AL$6)","v":0},null,{"$f":"IF($AM$6=0,0,$AM$6)","v":0},null,{"$f":"IF($AN$6=0,0,$AN$6)","v":0},null,{"$f":"IF($AO$6=0,0,$AO$6)","v":0},null,{"$f":"IF($AP$6=0,0,$AP$6)","v":0},null,{"$f":"IF($AQ$6=0,0,$AQ$6)","v":0},null,{"$f":"IF($AR$6=0,0,$AR$6)","v":0},null,{"$f":"IF($AS$6=0,0,$AS$6)","v":0},null,{"$f":"IF($AT$6=0,0,$AT$6)","v":0},null,{"$f":"IF($AU$6=0,0,$AU$6)","v":0},null,{"$f":"IF($AV$6=0,0,$AV$6)","v":0}]
[{"$f":"$A$53","v":"   Schwangerschaft/Mutterschaft Art. 15 GAV"},null,null,null,null,{"$f":"$F$53","v":"s"},{"$f":"IF($AJ$7=0,0,$AJ$7)","v":0},null,{"$f":"IF($AK$7=0,0,$AK$7)","v":0},null,{"$f":"IF($AL$7=0,0,$AL$7)","v":0},null,{"$f":"IF($AM$7=0,0,$AM$7)","v":0},null,{"$f":"IF($AN$7=0,0,$AN$7)","v":0},null,{"$f":"IF($AO$7=0,0,$AO$7)","v":0},null,{"$f":"IF($AP$7=0,0,$AP$7)","v":0},null,{"$f":"IF($AQ$7=0,0,$AQ$7)","v":0},null,{"$f":"IF($AR$7=0,0,$AR$7)","v":0},null,{"$f":"IF($AS$7=0,0,$AS$7)","v":0},null,{"$f":"IF($AT$7=0,0,$AT$7)","v":0},null,{"$f":"IF($AU$7=0,0,$AU$7)","v":0},null,{"$f":"IF($AV$7=0,0,$AV$7)","v":0}]
[{"$f":"$A$54","v":"   Militär/Beförderung/Zivilschutz Art. 16 GAV"},null,null,null,null,{"$f":"$F$54","v":"m"},{"$f":"IF($AJ$8=0,0,$AJ$8)","v":0},null,{"$f":"IF($AK$8=0,0,$AK$8)","v":0},null,{"$f":"IF($AL$8=0,0,$AL$8)","v":0},null,{"$f":"IF($AM$8=0,0,$AM$8)","v":0},null,{"$f":"IF($AN$8=0,0,$AN$8)","v":0},null,{"$f":"IF($AO$8=0,0,$AO$8)","v":0},null,{"$f":"IF($AP$8=0,0,$AP$8)","v":0},null,{"$f":"IF($AQ$8=0,0,$AQ$8)","v":0},null,{"$f":"IF($AR$8=0,0,$AR$8)","v":0},null,{"$f":"IF($AS$8=0,0,$AS$8)","v":0},null,{"$f":"IF($AT$8=0,0,$AT$8)","v":0},null,{"$f":"IF($AU$8=0,0,$AU$8)","v":0},null,{"$f":"IF($AV$8=0,0,$AV$8)","v":0}]
[{"$f":"$A$55","v":"   Kurzarbeit und Schlechtwetterausfälle"},null,null,null,null,{"$f":"$F$55","v":"ka"},{"$f":"IF($AJ$11=0,0,$AJ$11)","v":0},null,{"$f":"IF($AK$11=0,0,$AK$11)","v":0},null,{"$f":"IF($AL$11=0,0,$AL$11)","v":0},null,{"$f":"IF($AM$11=0,0,$AM$11)","v":0},null,{"$f":"IF($AN$11=0,0,$AN$11)","v":0},null,{"$f":"IF($AO$11=0,0,$AO$11)","v":0},null,{"$f":"IF($AP$11=0,0,$AP$11)","v":0},null,{"$f":"IF($AQ$11=0,0,$AQ$11)","v":0},null,{"$f":"IF($AR$11=0,0,$AR$11)","v":0},null,{"$f":"IF($AS$11=0,0,$AS$11)","v":0},null,{"$f":"IF($AT$11=0,0,$AT$11)","v":0},null,{"$f":"IF($AU$11=0,0,$AU$11)","v":0},null,{"$f":"IF($AV$11=0,0,$AV$11)","v":0}]
[{"$f":"$A$56","v":"   Berufsschule"},null,null,null,null,{"$f":"$F$56","v":"bs"},{"$f":"IF($AJ$9=0,0,$AJ$9)","v":0},null,{"$f":"IF($AK$9=0,0,$AK$9)","v":0},null,{"$f":"IF($AL$9=0,0,$AL$9)","v":0},null,{"$f":"IF($AM$9=0,0,$AM$9)","v":0},null,{"$f":"IF($AN$9=0,0,$AN$9)","v":0},null,{"$f":"IF($AO$9=0,0,$AO$9)","v":0},null,{"$f":"IF($AP$9=0,0,$AP$9)","v":0},null,{"$f":"IF($AQ$9=0,0,$AQ$9)","v":0},null,{"$f":"IF($AR$9=0,0,$AR$9)","v":0},null,{"$f":"IF($AS$9=0,0,$AS$9)","v":0},null,{"$f":"IF($AT$9=0,0,$AT$9)","v":0},null,{"$f":"IF($AU$9=0,0,$AU$9)","v":0},null,{"$f":"IF($AV$9=0,0,$AV$9)","v":0}]
[{"$f":"$A$57","v":"   Kurse"},null,null,null,null,{"$f":"$F$57","v":"ku"},{"$f":"IF($AJ$10=0,0,$AJ$10)","v":0},null,{"$f":"IF($AK$10=0,0,$AK$10)","v":0},null,{"$f":"IF($AL$10=0,0,$AL$10)","v":0},null,{"$f":"IF($AM$10=0,0,$AM$10)","v":0},null,{"$f":"IF($AN$10=0,0,$AN$10)","v":0},null,{"$f":"IF($AO$10=0,0,$AO$10)","v":0},null,{"$f":"IF($AP$10=0,0,$AP$10)","v":0},null,{"$f":"IF($AQ$10=0,0,$AQ$10)","v":0},null,{"$f":"IF($AR$10=0,0,$AR$10)","v":0},null,{"$f":"IF($AS$10=0,0,$AS$10)","v":0},null,{"$f":"IF($AT$10=0,0,$AT$10)","v":0},null,{"$f":"IF($AU$10=0,0,$AU$10)","v":0},null,{"$f":"IF($AV$10=0,0,$AV$10)","v":0}]
[{"$f":"$A$58","v":"Kompensations-Std"},{"$f":"$B$58","v":"aus Vorjahr"},null,null,null,{"$f":"$F$58","v":"kv"},{"$f":"IF($AJ$12=0,0,$AJ$12)","v":0},null,{"$f":"IF($AK$12=0,0,$AK$12)","v":0},null,{"$f":"IF($AL$12=0,0,$AL$12)","v":0},null,{"$f":"IF($AM$12=0,0,$AM$12)","v":0},null,{"$f":"IF($AN$12=0,0,$AN$12)","v":0},null,{"$f":"IF($AO$12=0,0,$AO$12)","v":0},null,{"$f":"IF($AP$12=0,0,$AP$12)","v":0},null,{"$f":"IF($AQ$12=0,0,$AQ$12)","v":0},null,{"$f":"IF($AR$12=0,0,$AR$12)","v":0},null,null,null,null,null,null,null,{"$f":"IF($AV$12=0,0,$AV$12)","v":0}]
[null,{"$f":"$B$59","v":"aus laufendem Jahr (Kontrolle)"},null,null,null,{"$f":"$F$59","v":"kj"},{"$f":"IF($AJ$15=0,0,$AJ$15)","v":0},null,{"$f":"IF($AK$15=0,0,$AK$15)","v":0},null,{"$f":"IF($AL$15=0,0,$AL$15)","v":0},null,{"$f":"IF($AM$15=0,0,$AM$15)","v":0},null,{"$f":"IF($AN$15=0,0,$AN$15)","v":0},null,{"$f":"IF($AO$15=0,0,$AO$15)","v":0},null,{"$f":"IF($AP$15=0,0,$AP$15)","v":0},null,{"$f":"IF($AQ$15=0,0,$AQ$15)","v":0},null,{"$f":"IF($AR$15=0,0,$AR$15)","v":0},null,{"$f":"IF($AS$15=0,0,$AS$15)","v":0},null,{"$f":"IF($AT$15=0,0,$AT$15)","v":0},null,{"$f":"IF($AU$15=0,0,$AU$15)","v":0},null,{"$f":"IF($AV$15=0,0,$AV$15)","v":0}]
[{"$f":"$A$60","v":"Auszahlung"},{"$f":"$B$60","v":"Stunden Vorjahressaldo"},null,null,null,null,{"$f":"IF($AJ$19=0,0,$AJ$19)","v":0},null,{"$f":"IF($AK$19=0,0,$AK$19)","v":0},null,{"$f":"IF($AL$19=0,0,$AL$19)","v":0},null,{"$f":"IF($AM$19=0,0,$AM$19)","v":0},null,{"$f":"IF($AN$19=0,0,$AN$19)","v":0},null,{"$f":"IF($AO$19=0,0,$AO$19)","v":0},null,{"$f":"IF($AP$19=0,0,$AP$19)","v":0},null,{"$f":"IF($AQ$19=0,0,$AQ$19)","v":0},null,{"$f":"IF($AR$19=0,0,$AR$19)","v":0},null,null,null,null,null,null,null,{"$f":"IF($AV$19=0,0,$AV$19)","v":0}]
[{"$f":"$A$61","v":"Differenz"},{"$f":"$B$61","v":"nach Kompensation und Auszahlung"},null,null,null,null,{"$f":"IF(ROUND($P$4,3)=0,0,$P$4-SUM(G442+G444))","v":0},null,{"$f":"IF(ROUND(G445,3)=0,0,G445-(SUM(I444+I442)))","v":0},null,{"$f":"IF(ROUND(I445,3)=0,0,I445-(SUM(K444+K442)))","v":0},null,{"$f":"IF(ROUND(K445,3)=0,0,K445-(SUM(M444+M442)))","v":0},null,{"$f":"IF(ROUND(M445,3)=0,0,M445-(SUM(O444+O442)))","v":0},null,{"$f":"IF(ROUND(O445,3)=0,0,O445-(SUM(Q444+Q442)))","v":0},null,{"$f":"IF(ROUND(Q445,3)=0,0,Q445-(SUM(S444+S442)))","v":0},null,{"$f":"IF(ROUND(S445,3)=0,0,S445-(SUM(U444+U442)))","v":0},null,{"$f":"IF(ROUND(U445,3)=0,0,U445-(SUM(W444+W442)))","v":0},null,{"$f":"$Y$61","v":""}]
[{"$f":"$A$62","v":"Auszahlung"},{"$f":"$B$62","v":"Stunden laufendes Jahr"},null,null,null,null,{"$f":"IF($AJ$20=0,0,$AJ$20)","v":0},null,{"$f":"IF($AK$20=0,0,$AK$20)","v":0},null,{"$f":"IF($AL$20=0,0,$AL$20)","v":0},null,{"$f":"IF($AM$20=0,0,$AM$20)","v":0},null,{"$f":"IF($AN$20=0,0,$AN$20)","v":0},null,{"$f":"IF($AO$20=0,0,$AO$20)","v":0},null,{"$f":"IF($AP$20=0,0,$AP$20)","v":0},null,{"$f":"IF($AQ$20=0,0,$AQ$20)","v":0},null,{"$f":"IF($AR$20=0,0,$AR$20)","v":0},null,{"$f":"IF($AS$20=0,0,$AS$20)","v":0},null,{"$f":"IF($AT$20=0,0,$AT$20)","v":0},null,{"$f":"IF($AU$20=0,0,$AU$20)","v":0},null,{"$f":"IF($AV$20=0,0,$AV$20)","v":0}]
[{"$f":"$A$63","v":"Fehlstunden"},{"$f":"$B$63","v":"laufendes Jahr (Kontrolle)"},null,null,null,{"$f":"$F$63","v":"fe"},{"$f":"IF($AJ$14=0,0,$AJ$14)","v":0},null,{"$f":"IF($AK$14=0,0,$AK$14)","v":0},null,{"$f":"IF($AL$14=0,0,$AL$14)","v":0},null,{"$f":"IF($AM$14=0,0,$AM$14)","v":0},null,{"$f":"IF($AN$14=0,0,$AN$14)","v":0},null,{"$f":"IF($AO$14=0,0,$AO$14)","v":0},null,{"$f":"IF($AP$14=0,0,$AP$14)","v":0},null,{"$f":"IF($AQ$14=0,0,$AQ$14)","v":0},null,{"$f":"IF($AR$14=0,0,$AR$14)","v":0},null,{"$f":"IF($AS$14=0,0,$AS$14)","v":0},null,{"$f":"IF($AT$14=0,0,$AT$14)","v":0},null,{"$f":"IF($AU$14=0,0,$AU$14)","v":0},null,{"$f":"IF($AV$14=0,0,$AV$14)","v":0}]
[{"$f":"$A$64","v":"Total inkl. Zeitzuschläge"},{"$f":"$B$64","v":"Stunden produktiv und unproduktiv"},null,null,null,null,{"$f":"IF($AG$36=0,0,$AG$36)","v":0},null,{"$f":"IF($AG$99=0,0,$AG$99)","v":0},null,{"$f":"IF($AG$163=0,0,$AG$163)","v":0},null,{"$f":"IF($AG$227=0,0,$AG$227)","v":0},null,{"$f":"IF($AG$291=0,0,$AG$291)","v":0},null,{"$f":"IF($AG$355=0,0,$AG$355)","v":0},null,{"$f":"IF($AG$419=0,0,$AG$419)","v":0},null,{"$f":"IF($AG$483=0,0,$AG$483)","v":0},null,{"$f":"IF($AG$547=0,0,$AG$547)","v":0},null,{"$f":"IF($AG$611=0,0,$AG$611)","v":0},null,{"$f":"IF($AG$675=0,0,$AG$675)","v":0},null,{"$f":"IF($AG$739=0,0,$AG$739)","v":0},null,{"$f":"SUM($G$64:$AD$64)","v":0}]
[{"$f":"$A$65","v":"Vergleich"},{"$f":"$B$65","v":"Stunden zu Soll-Stunden (inkl. allfälli-\nge Minusstunden Vorjahr)"},null,null,null,null,{"$f":"$G$65","v":-168},null,{"$f":"$I$65","v":-160},null,{"$f":"$K$65","v":-184},null,{"$f":"$M$65","v":-168},null,{"$f":"$O$65","v":-176},null,{"$f":"$Q$65","v":-176},null,{"$f":"$S$65","v":-168},null,{"$f":"$U$65","v":-184},null,{"$f":"$W$65","v":-176},null,{"$f":"$Y$65","v":-168},null,{"$f":"$AA$65","v":-176},null,{"$f":"$AC$65","v":-176},null,{"$f":"$AE$65","v":-2080}]
[null,{"$f":"$B$66","v":"Stunden zu Soll-Stunden (kumuliert)"},null,null,null,null,{"$f":"$G$66","v":-168},null,{"$f":"$I$66","v":-328},null,{"$f":"$K$66","v":-512},null,{"$f":"$M$66","v":-680},null,{"$f":"$O$66","v":-856},null,{"$f":"$Q$66","v":-1032},null,{"$f":"$S$66","v":-1200},null,{"$f":"$U$66","v":-1384},null,{"$f":"$W$66","v":-1560},null,{"$f":"$Y$66","v":-1728},null,{"$f":"$AA$66","v":-1904},null,{"$f":"$AC$66","v":-2080},null,{"$f":"$AE$66","v":0}]
[{"$f":"$A$67","v":"Ferienkontrolle"},{"$f":"$B$67","v":"Ferienguthaben Vorjahr"},null,null,null,null,{"$f":"IF($AA$4=0,0,$AA$4)","v":0},null,{"$f":"$I$67","v":"Ferienguthaben nach \nArt. 12.1 GAV"},null,null,null,{"$f":"IF($AA$5=0,0,$AA$5)","v":0},null,{"$f":"$O$67","v":"Ferienguthaben total"},null,null,null,{"$f":"SUM(G451+M451)","v":0},null,{"$f":"$U$67","v":"Ferien bezogen"},null,null,null,{"$f":"IF($AV$4=0,0,$AV$4)","v":0},null,{"$f":"$AA$67","v":"Aktuelles Ferienguthaben"},null,null,null,{"$f":"IF(S451=0,0,S451-Y451)","v":0}]
[]
[]
[{"$f":"$A$3","v":"Mitarbeiter/In"},{"$f":"IF($B$3=\"\",\"\",$B$3)","v":"Muster Peter"},null,null,null,null,null,null,null,null,null,null,null,null,null,null,null,null,null,null,null,null,null,null,null,null,null,null,null,null,null,{"$f":"AF3","v":0}]
[{"$f":"$A$4","v":"Anstellung %"},{"$f":"$AL$51","v":100},null,{"$f":"Labels!B96","v":"im August"}]
[{"$f":"$A$5","v":"Saldo für das Jahr"},null,null,{"$f":"IF($AE$65=0,0,$AE$65)","v":-2080}]
[{"$f":"TEXT(DATE(YEAR(AP29),MONTH(AP29)+7,1),\"MMMM\"&Labels!B13)","v":"August"},{"$f":"$B$9","v":"Saldo Monat + / -"},null,null,null,{"$f":"(AG459-(SUM(AG460:AG474)-AE482))*-1","v":-184},null,null,null,null,{"$f":"$K$9","v":" = "},{"$f":"$L$9","v":"Gelbe Felder müssen ausgefüllt werden (die übrigen werden automatisch berechnet)"},null,null,null,null,null,null,null,null,null,null,null,null,null,null,null,null,null,null,null,null,{"$f":"COUNT(B460:AF460)&\" \"&Labels!$B$63","v":"23 Tage"}]
[{"$f":"$A$10","v":"Tag"},{"$f":"AF394+1","v":"2022-08-01"},{"$f":"B458+1","v":"2022-08-02"},{"$f":"C458+1","v":"2022-08-03"},"2022-08-04","2022-08-05","2022-08-06","2022-08-07","2022-08-08","2022-08-09","2022-08-10","2022-08-11","2022-08-12","2022-08-13","2022-08-14","2022-08-15","2022-08-16","2022-08-17","2022-08-18","2022-08-19","2022-08-20","2022-08-21","2022-08-22","2022-08-23","2022-08-24","2022-08-25","2022-08-26","2022-08-27","2022-08-28","2022-08-29","2022-08-30","2022-08-31"]
[{"$f":"$A$11","v":"Kalenderwoche"},{"$f":"IF(B458=\"\",\"\",TRUNC((B458-DATE(YEAR(B458+3-MOD(B458-2,7)),1,MOD(B458-2,7)-9))/7))","v":31},31,31,31,31,31,31,32,32,32,32,32,32,32,33,33,33,33,33,33,33,34,34,34,34,34,34,34,35,35,35,{"$f":"SUM(B460:AF460)","v":184}]
[{"$f":"$A$12","v":"Sollstunden"},{"$f":"IF(AND(MOD(B458,7)>=2,SUMPRODUCT(($AM$56:$AQ$56=MOD(B458,7))*$AM$51:$AQ$51)),($J$7*5/$AR$51)*$B$455%,\"\")","v":8},{"$f":"IF(AND(MOD(C458,7)>=2,SUMPRODUCT(($AM$56:$AQ$56=MOD(C458,7))*$AM$51:$AQ$51)),($J$7*5/$AR$51)*$B$455%,\"\")","v":8},{"$f":"IF(AND(MOD(D458,7)>=2,SUMPRODUCT(($AM$56:$AQ$56=MOD(D458,7))*$AM$51:$AQ$51)),($J$7*5/$AR$51)*$B$455%,\"\")","v":8},{"$f":"IF(AND(MOD(E458,7)>=2,SUMPRODUCT(($AM$56:$AQ$56=MOD(E458,7))*$AM$51:$AQ$51)),($J$7*5/$AR$51)*$B$455%,\"\")","v":8},{"$f":"IF(AND(MOD(F458,7)>=2,SUMPRODUCT(($AM$56:$AQ$56=MOD(F458,7))*$AM$51:$AQ$51)),($J$7*5/$AR$51)*$B$455%,\"\")","v":8},{"$f":"IF(AND(MOD(G458,7)>=2,SUMPRODUCT(($AM$56:$AQ$56=MOD(G458,7))*$AM$51:$AQ$51)),($J$7*5/$AR$51)*$B$455%,\"\")","v":""},{"$f":"IF(AND(MOD(H458,7)>=2,SUMPRODUCT(($AM$56:$AQ$56=MOD(H458,7))*$AM$51:$AQ$51)),($J$7*5/$AR$51)*$B$455%,\"\")","v":""},{"$f":"IF(AND(MOD(I458,7)>=2,SUMPRODUCT(($AM$56:$AQ$56=MOD(I458,7))*$AM$51:$AQ$51)),($J$7*5/$AR$51)*$B$455%,\"\")","v":8},{"$f":"IF(AND(MOD(J458,7)>=2,SUMPRODUCT(($AM$56:$AQ$56=MOD(J458,7))*$AM$51:$AQ$51)),($J$7*5/$AR$51)*$B$455%,\"\")","v":8},{"$f":"IF(AND(MOD(K458,7)>=2,SUMPRODUCT(($AM$56:$AQ$56=MOD(K458,7))*$AM$51:$AQ$51)),($J$7*5/$AR$51)*$B$455%,\"\")","v":8},{"$f":"IF(AND(MOD(L458,7)>=2,SUMPRODUCT(($AM$56:$AQ$56=MOD(L458,7))*$AM$51:$AQ$51)),($J$7*5/$AR$51)*$B$455%,\"\")","v":8},{"$f":"IF(AND(MOD(M458,7)>=2,SUMPRODUCT(($AM$56:$AQ$56=MOD(M458,7))*$AM$51:$AQ$51)),($J$7*5/$AR$51)*$B$455%,\"\")","v":8},{"$f":"IF(AND(MOD(N458,7)>=2,SUMPRODUCT(($AM$56:$AQ$56=MOD(N458,7))*$AM$51:$AQ$51)),($J$7*5/$AR$51)*$B$455%,\"\")","v":""},{"$f":"IF(AND(MOD(O458,7)>=2,SUMPRODUCT(($AM$56:$AQ$56=MOD(O458,7))*$AM$51:$AQ$51)),($J$7*5/$AR$51)*$B$455%,\"\")","v":""},{"$f":"IF(AND(MOD(P458,7)>=2,SUMPRODUCT(($AM$56:$AQ$56=MOD(P458,7))*$AM$51:$AQ$51)),($J$7*5/$AR$51)*$B$455%,\"\")","v":8},{"$f":"IF(AND(MOD(Q458,7)>=2,SUMPRODUCT(($AM$56:$AQ$56=MOD(Q458,7))*$AM$51:$AQ$51)),($J$7*5/$AR$51)*$B$455%,\"\")","v":8},{"$f":"IF(AND(MOD(R458,7)>=2,SUMPRODUCT(($AM$56:$AQ$56=MOD(R458,7))*$AM$51:$AQ$51)),($J$7*5/$AR$51)*$B$455%,\"\")","v":8},{"$f":"IF(AND(MOD(S458,7)>=2,SUMPRODUCT(($AM$56:$AQ$56=MOD(S458,7))*$AM$51:$AQ$51)),($J$7*5/$AR$51)*$B$455%,\"\")","v":8},{"$f":"IF(AND(MOD(T458,7)>=2,SUMPRODUCT(($AM$56:$AQ$56=MOD(T458,7))*$AM$51:$AQ$51)),($J$7*5/$AR$51)*$B$455%,\"\")","v":8},{"$f":"IF(AND(MOD(U458,7)>=2,SUMPRODUCT(($AM$56:$AQ$56=MOD(U458,7))*$AM$51:$AQ$51)),($J$7*5/$AR$51)*$B$455%,\"\")","v":""},{"$f":"IF(AND(MOD(V458,7)>=2,SUMPRODUCT(($AM$56:$AQ$56=MOD(V458,7))*$AM$51:$AQ$51)),($J$7*5/$AR$51)*$B$455%,\"\")","v":""},{"$f":"IF(AND(MOD(W458,7)>=2,SUMPRODUCT(($AM$56:$AQ$56=MOD(W458,7))*$AM$51:$AQ$51)),($J$7*5/$AR$51)*$B$455%,\"\")","v":8},{"$f":"IF(AND(MOD(X458,7)>=2,SUMPRODUCT(($AM$56:$AQ$56=MOD(X458,7))*$AM$51:$AQ$51)),($J$7*5/$AR$51)*$B$455%,\"\")","v":8},{"$f":"IF(AND(MOD(Y458,7)>=2,SUMPRODUCT(($AM$56:$AQ$56=MOD(Y458,7))*$AM$51:$AQ$51)),($J$7*5/$AR$51)*$B$455%,\"\")","v":8},{"$f":"IF(AND(MOD(Z458,7)>=2,SUMPRODUCT(($AM$56:$AQ$56=MOD(Z458,7))*$AM$51:$AQ$51)),($J$7*5/$AR$51)*$B$455%,\"\")","v":8},{"$f":"IF(AND(MOD(AA458,7)>=2,SUMPRODUCT(($AM$56:$AQ$56=MOD(AA458,7))*$AM$51:$AQ$51)),($J$7*5/$AR$51)*$B$455%,\"\")","v":8},{"$f":"IF(AND(MOD(AB458,7)>=2,SUMPRODUCT(($AM$56:$AQ$56=MOD(AB458,7))*$AM$51:$AQ$51)),($J$7*5/$AR$51)*$B$455%,\"\")","v":""},{"$f":"IF(AND(MOD(AC458,7)>=2,SUMPRODUCT(($AM$56:$AQ$56=MOD(AC458,7))*$AM$51:$AQ$51)),($J$7*5/$AR$51)*$B$455%,\"\")","v":""},{"$f":"IF(AND(MOD(AD458,7)>=2,SUMPRODUCT(($AM$56:$AQ$56=MOD(AD458,7))*$AM$51:$AQ$51)),($J$7*5/$AR$51)*$B$455%,\"\")","v":8},{"$f":"IF(AND(MOD(AE458,7)>=2,SUMPRODUCT(($AM$56:$AQ$56=MOD(AE458,7))*$AM$51:$AQ$51)),($J$7*5/$AR$51)*$B$455%,\"\")","v":8},{"$f":"IF(AND(MOD(AF458,7)>=2,SUMPRODUCT(($AM$56:$AQ$56=MOD(AF458,7))*$AM$51:$AQ$51)),($J$7*5/$AR$51)*$B$455%,\"\")","v":8},{"$f":"SUM(AQ3:AQ13)","v":0}]
[{"$f":"$A$13","v":"Absenz in Std"},{"$f":"B992","v":0},{"$f":"C992","v":0},0,0,0,0,0,0,0,0,0,0,0,0,0,0,0,0,0,0,0,0,0,0,0,0,0,0,0,0,0]
[{"$f":"$A$14","v":"Code"},{"$f":"IF(B992<>0,IF(MAX(B979:B991)<B992,Labels!$B$163,INDEX($AH$978:$AH$990,MATCH(MAX(B979:B991),B979:B991,0))),\"\")","v":""},{"$f":"IF(C992<>0,IF(MAX(C979:C991)<C992,Labels!$B$163,INDEX($AH$978:$AH$990,MATCH(MAX(C979:C991),C979:C991,0))),\"\")","v":""},{"$f":"IF(D992<>0,IF(MAX(D979:D991)<D992,Labels!$B$163,INDEX($AH$978:$AH$990,MATCH(MAX(D979:D991),D979:D991,0))),\"\")","v":""},{"$f":"IF(E992<>0,IF(MAX(E979:E991)<E992,Labels!$B$163,INDEX($AH$978:$AH$990,MATCH(MAX(E979:E991),E979:E991,0))),\"\")","v":""},{"$f":"IF(F992<>0,IF(MAX(F979:F991)<F992,Labels!$B$163,INDEX($AH$978:$AH$990,MATCH(MAX(F979:F991),F979:F991,0))),\"\")","v":""},{"$f":"IF(G992<>0,IF(MAX(G979:G991)<G992,Labels!$B$163,INDEX($AH$978:$AH$990,MATCH(MAX(G979:G991),G979:G991,0))),\"\")","v":""},{"$f":"IF(H992<>0,IF(MAX(H979:H991)<H992,Labels!$B$163,INDEX($AH$978:$AH$990,MATCH(MAX(H979:H991),H979:H991,0))),\"\")","v":""},{"$f":"IF(I992<>0,IF(MAX(I979:I991)<I992,Labels!$B$163,INDEX($AH$978:$AH$990,MATCH(MAX(I979:I991),I979:I991,0))),\"\")","v":""},{"$f":"IF(J992<>0,IF(MAX(J979:J991)<J992,Labels!$B$163,INDEX($AH$978:$AH$990,MATCH(MAX(J979:J991),J979:J991,0))),\"\")","v":""},{"$f":"IF(K992<>0,IF(MAX(K979:K991)<K992,Labels!$B$163,INDEX($AH$978:$AH$990,MATCH(MAX(K979:K991),K979:K991,0))),\"\")","v":""},{"$f":"IF(L992<>0,IF(MAX(L979:L991)<L992,Labels!$B$163,INDEX($AH$978:$AH$990,MATCH(MAX(L979:L991),L979:L991,0))),\"\")","v":""},{"$f":"IF(M992<>0,IF(MAX(M979:M991)<M992,Labels!$B$163,INDEX($AH$978:$AH$990,MATCH(MAX(M979:M991),M979:M991,0))),\"\")","v":""},{"$f":"IF(N992<>0,IF(MAX(N979:N991)<N992,Labels!$B$163,INDEX($AH$978:$AH$990,MATCH(MAX(N979:N991),N979:N991,0))),\"\")","v":""},{"$f":"IF(O992<>0,IF(MAX(O979:O991)<O992,Labels!$B$163,INDEX($AH$978:$AH$990,MATCH(MAX(O979:O991),O979:O991,0))),\"\")","v":""},{"$f":"IF(P992<>0,IF(MAX(P979:P991)<P992,Labels!$B$163,INDEX($AH$978:$AH$990,MATCH(MAX(P979:P991),P979:P991,0))),\"\")","v":""},{"$f":"IF(Q992<>0,IF(MAX(Q979:Q991)<Q992,Labels!$B$163,INDEX($AH$978:$AH$990,MATCH(MAX(Q979:Q991),Q979:Q991,0))),\"\")","v":""},{"$f":"IF(R992<>0,IF(MAX(R979:R991)<R992,Labels!$B$163,INDEX($AH$978:$AH$990,MATCH(MAX(R979:R991),R979:R991,0))),\"\")","v":""},{"$f":"IF(S992<>0,IF(MAX(S979:S991)<S992,Labels!$B$163,INDEX($AH$978:$AH$990,MATCH(MAX(S979:S991),S979:S991,0))),\"\")","v":""},{"$f":"IF(T992<>0,IF(MAX(T979:T991)<T992,Labels!$B$163,INDEX($AH$978:$AH$990,MATCH(MAX(T979:T991),T979:T991,0))),\"\")","v":""},{"$f":"IF(U992<>0,IF(MAX(U979:U991)<U992,Labels!$B$163,INDEX($AH$978:$AH$990,MATCH(MAX(U979:U991),U979:U991,0))),\"\")","v":""},{"$f":"IF(V992<>0,IF(MAX(V979:V991)<V992,Labels!$B$163,INDEX($AH$978:$AH$990,MATCH(MAX(V979:V991),V979:V991,0))),\"\")","v":""},{"$f":"IF(W992<>0,IF(MAX(W979:W991)<W992,Labels!$B$163,INDEX($AH$978:$AH$990,MATCH(MAX(W979:W991),W979:W991,0))),\"\")","v":""},{"$f":"IF(X992<>0,IF(MAX(X979:X991)<X992,Labels!$B$163,INDEX($AH$978:$AH$990,MATCH(MAX(X979:X991),X979:X991,0))),\"\")","v":""},{"$f":"IF(Y992<>0,IF(MAX(Y979:Y991)<Y992,Labels!$B$163,INDEX($AH$978:$AH$990,MATCH(MAX(Y979:Y991),Y979:Y991,0))),\"\")","v":""},{"$f":"IF(Z992<>0,IF(MAX(Z979:Z991)<Z992,Labels!$B$163,INDEX($AH$978:$AH$990,MATCH(MAX(Z979:Z991),Z979:Z991,0))),\"\")","v":""},{"$f":"IF(AA992<>0,IF(MAX(AA979:AA991)<AA992,Labels!$B$163,INDEX($AH$978:$AH$990,MATCH(MAX(AA979:AA991),AA979:AA991,0))),\"\")","v":""},{"$f":"IF(AB992<>0,IF(MAX(AB979:AB991)<AB992,Labels!$B$163,INDEX($AH$978:$AH$990,MATCH(MAX(AB979:AB991),AB979:AB991,0))),\"\")","v":""},{"$f":"IF(AC992<>0,IF(MAX(AC979:AC991)<AC992,Labels!$B$163,INDEX($AH$978:$AH$990,MATCH(MAX(AC979:AC991),AC979:AC991,0))),\"\")","v":""},{"$f":"IF(AD992<>0,IF(MAX(AD979:AD991)<AD992,Labels!$B$163,INDEX($AH$978:$AH$990,MATCH(MAX(AD979:AD991),AD979:AD991,0))),\"\")","v":""},{"$f":"IF(AE992<>0,IF(MAX(AE979:AE991)<AE992,Labels!$B$163,INDEX($AH$978:$AH$990,MATCH(MAX(AE979:AE991),AE979:AE991,0))),\"\")","v":""},{"$f":"IF(AF992<>0,IF(MAX(AF979:AF991)<AF992,Labels!$B$163,INDEX($AH$978:$AH$990,MATCH(MAX(AF979:AF991),AF979:AF991,0))),\"\")","v":""},{"$f":"SUM(B463:AF463)","v":0}]
[{"$f":"$A$15","v":"00.00-06.00h"},null,null,null,null,null,null,null,null,null,null,null,null,null,null,null,null,null,null,null,null,null,null,null,null,null,null,null,null,null,null,null,{"$f":"SUM(B464:AF464)","v":0}]
[{"$f":"$A$16","v":"06.00-20.00h"},null,null,null,null,null,null,null,null,null,null,null,null,null,null,null,null,null,null,null,null,null,null,null,null,null,null,null,null,null,null,null,{"$f":"SUM(B465:AF465)","v":0},"[0]"]
[{"$f":"$A$17","v":"20.00-24.00h"}]
[{"$f":"$A$18","v":"Feiertag \"ft\""},{"$f":"IF(WEEKDAY(B458,2)<=6,IF(KALENDER!E17=\"x\",Labels!$B$118,\"\"),\"\")","v":""},{"$f":"IF(WEEKDAY(C458,2)<=6,IF(KALENDER!F17=\"x\",Labels!$B$118,\"\"),\"\")","v":""},{"$f":"IF(WEEKDAY(D458,2)<=6,IF(KALENDER!G17=\"x\",Labels!$B$118,\"\"),\"\")","v":""},{"$f":"IF(WEEKDAY(E458,2)<=6,IF(KALENDER!H17=\"x\",Labels!$B$118,\"\"),\"\")","v":""},{"$f":"IF(WEEKDAY(F458,2)<=6,IF(KALENDER!I17=\"x\",Labels!$B$118,\"\"),\"\")","v":""},{"$f":"IF(WEEKDAY(G458,2)<=6,IF(KALENDER!J17=\"x\",Labels!$B$118,\"\"),\"\")","v":""},{"$f":"IF(WEEKDAY(H458,2)<=6,IF(KALENDER!K17=\"x\",Labels!$B$118,\"\"),\"\")","v":""},{"$f":"IF(WEEKDAY(I458,2)<=6,IF(KALENDER!L17=\"x\",Labels!$B$118,\"\"),\"\")","v":""},{"$f":"IF(WEEKDAY(J458,2)<=6,IF(KALENDER!M17=\"x\",Labels!$B$118,\"\"),\"\")","v":""},{"$f":"IF(WEEKDAY(K458,2)<=6,IF(KALENDER!N17=\"x\",Labels!$B$118,\"\"),\"\")","v":""},{"$f":"IF(WEEKDAY(L458,2)<=6,IF(KALENDER!O17=\"x\",Labels!$B$118,\"\"),\"\")","v":""},{"$f":"IF(WEEKDAY(M458,2)<=6,IF(KALENDER!P17=\"x\",Labels!$B$118,\"\"),\"\")","v":""},{"$f":"IF(WEEKDAY(N458,2)<=6,IF(KALENDER!Q17=\"x\",Labels!$B$118,\"\"),\"\")","v":""},{"$f":"IF(WEEKDAY(O458,2)<=6,IF(KALENDER!R17=\"x\",Labels!$B$118,\"\"),\"\")","v":""},{"$f":"IF(WEEKDAY(P458,2)<=6,IF(KALENDER!S17=\"x\",Labels!$B$118,\"\"),\"\")","v":""},{"$f":"IF(WEEKDAY(Q458,2)<=6,IF(KALENDER!T17=\"x\",Labels!$B$118,\"\"),\"\")","v":""},{"$f":"IF(WEEKDAY(R458,2)<=6,IF(KALENDER!U17=\"x\",Labels!$B$118,\"\"),\"\")","v":""},{"$f":"IF(WEEKDAY(S458,2)<=6,IF(KALENDER!V17=\"x\",Labels!$B$118,\"\"),\"\")","v":""},{"$f":"IF(WEEKDAY(T458,2)<=6,IF(KALENDER!W17=\"x\",Labels!$B$118,\"\"),\"\")","v":""},{"$f":"IF(WEEKDAY(U458,2)<=6,IF(KALENDER!X17=\"x\",Labels!$B$118,\"\"),\"\")","v":""},{"$f":"IF(WEEKDAY(V458,2)<=6,IF(KALENDER!Y17=\"x\",Labels!$B$118,\"\"),\"\")","v":""},{"$f":"IF(WEEKDAY(W458,2)<=6,IF(KALENDER!Z17=\"x\",Labels!$B$118,\"\"),\"\")","v":""},{"$f":"IF(WEEKDAY(X458,2)<=6,IF(KALENDER!AA17=\"x\",Labels!$B$118,\"\"),\"\")","v":""},{"$f":"IF(WEEKDAY(Y458,2)<=6,IF(KALENDER!AB17=\"x\",Labels!$B$118,\"\"),\"\")","v":""},{"$f":"IF(WEEKDAY(Z458,2)<=6,IF(KALENDER!AC17=\"x\",Labels!$B$118,\"\"),\"\")","v":""},{"$f":"IF(WEEKDAY(AA458,2)<=6,IF(KALENDER!AD17=\"x\",Labels!$B$118,\"\"),\"\")","v":""},{"$f":"IF(WEEKDAY(AB458,2)<=6,IF(KALENDER!AE17=\"x\",Labels!$B$118,\"\"),\"\")","v":""},{"$f":"IF(WEEKDAY(AC458,2)<=6,IF(KALENDER!AF17=\"x\",Labels!$B$118,\"\"),\"\")","v":""},{"$f":"IF(WEEKDAY(AD458,2)<=6,IF(KALENDER!AG17=\"x\",Labels!$B$118,\"\"),\"\")","v":""},{"$f":"IF(WEEKDAY(AE458,2)<=6,IF(KALENDER!AH17=\"x\",Labels!$B$118,\"\"),\"\")","v":""},{"$f":"IF(WEEKDAY(AF458,2)<=6,IF(KALENDER!AI17=\"x\",Labels!$B$118,\"\"),\"\")","v":""},{"$f":"SUM(B467:AF467)","v":0}]
[{"$f":"$A$19","v":"Gutschrift \"ft\""},{"$f":"IF(AND(B466=Labels!$B$118,WEEKDAY(B458,2)<6,B$460<>\"\"),($J$7*5/$AR$51)*$B$455%,\"\")","v":""},{"$f":"IF(AND(C466=Labels!$B$118,WEEKDAY(C458,2)<6,C$460<>\"\"),($J$7*5/$AR$51)*$B$455%,\"\")","v":""},{"$f":"IF(AND(D466=Labels!$B$118,WEEKDAY(D458,2)<6,D$460<>\"\"),($J$7*5/$AR$51)*$B$455%,\"\")","v":""},{"$f":"IF(AND(E466=Labels!$B$118,WEEKDAY(E458,2)<6,E$460<>\"\"),($J$7*5/$AR$51)*$B$455%,\"\")","v":""},{"$f":"IF(AND(F466=Labels!$B$118,WEEKDAY(F458,2)<6,F$460<>\"\"),($J$7*5/$AR$51)*$B$455%,\"\")","v":""},{"$f":"IF(AND(G466=Labels!$B$118,WEEKDAY(G458,2)<6,G$460<>\"\"),($J$7*5/$AR$51)*$B$455%,\"\")","v":""},{"$f":"IF(AND(H466=Labels!$B$118,WEEKDAY(H458,2)<6,H$460<>\"\"),($J$7*5/$AR$51)*$B$455%,\"\")","v":""},{"$f":"IF(AND(I466=Labels!$B$118,WEEKDAY(I458,2)<6,I$460<>\"\"),($J$7*5/$AR$51)*$B$455%,\"\")","v":""},{"$f":"IF(AND(J466=Labels!$B$118,WEEKDAY(J458,2)<6,J$460<>\"\"),($J$7*5/$AR$51)*$B$455%,\"\")","v":""},{"$f":"IF(AND(K466=Labels!$B$118,WEEKDAY(K458,2)<6,K$460<>\"\"),($J$7*5/$AR$51)*$B$455%,\"\")","v":""},{"$f":"IF(AND(L466=Labels!$B$118,WEEKDAY(L458,2)<6,L$460<>\"\"),($J$7*5/$AR$51)*$B$455%,\"\")","v":""},{"$f":"IF(AND(M466=Labels!$B$118,WEEKDAY(M458,2)<6,M$460<>\"\"),($J$7*5/$AR$51)*$B$455%,\"\")","v":""},{"$f":"IF(AND(N466=Labels!$B$118,WEEKDAY(N458,2)<6,N$460<>\"\"),($J$7*5/$AR$51)*$B$455%,\"\")","v":""},{"$f":"IF(AND(O466=Labels!$B$118,WEEKDAY(O458,2)<6,O$460<>\"\"),($J$7*5/$AR$51)*$B$455%,\"\")","v":""},{"$f":"IF(AND(P466=Labels!$B$118,WEEKDAY(P458,2)<6,P$460<>\"\"),($J$7*5/$AR$51)*$B$455%,\"\")","v":""},{"$f":"IF(AND(Q466=Labels!$B$118,WEEKDAY(Q458,2)<6,Q$460<>\"\"),($J$7*5/$AR$51)*$B$455%,\"\")","v":""},{"$f":"IF(AND(R466=Labels!$B$118,WEEKDAY(R458,2)<6,R$460<>\"\"),($J$7*5/$AR$51)*$B$455%,\"\")","v":""},{"$f":"IF(AND(S466=Labels!$B$118,WEEKDAY(S458,2)<6,S$460<>\"\"),($J$7*5/$AR$51)*$B$455%,\"\")","v":""},{"$f":"IF(AND(T466=Labels!$B$118,WEEKDAY(T458,2)<6,T$460<>\"\"),($J$7*5/$AR$51)*$B$455%,\"\")","v":""},{"$f":"IF(AND(U466=Labels!$B$118,WEEKDAY(U458,2)<6,U$460<>\"\"),($J$7*5/$AR$51)*$B$455%,\"\")","v":""},{"$f":"IF(AND(V466=Labels!$B$118,WEEKDAY(V458,2)<6,V$460<>\"\"),($J$7*5/$AR$51)*$B$455%,\"\")","v":""},{"$f":"IF(AND(W466=Labels!$B$118,WEEKDAY(W458,2)<6,W$460<>\"\"),($J$7*5/$AR$51)*$B$455%,\"\")","v":""},{"$f":"IF(AND(X466=Labels!$B$118,WEEKDAY(X458,2)<6,X$460<>\"\"),($J$7*5/$AR$51)*$B$455%,\"\")","v":""},{"$f":"IF(AND(Y466=Labels!$B$118,WEEKDAY(Y458,2)<6,Y$460<>\"\"),($J$7*5/$AR$51)*$B$455%,\"\")","v":""},{"$f":"IF(AND(Z466=Labels!$B$118,WEEKDAY(Z458,2)<6,Z$460<>\"\"),($J$7*5/$AR$51)*$B$455%,\"\")","v":""},{"$f":"IF(AND(AA466=Labels!$B$118,WEEKDAY(AA458,2)<6,AA$460<>\"\"),($J$7*5/$AR$51)*$B$455%,\"\")","v":""},{"$f":"IF(AND(AB466=Labels!$B$118,WEEKDAY(AB458,2)<6,AB$460<>\"\"),($J$7*5/$AR$51)*$B$455%,\"\")","v":""},{"$f":"IF(AND(AC466=Labels!$B$118,WEEKDAY(AC458,2)<6,AC$460<>\"\"),($J$7*5/$AR$51)*$B$455%,\"\")","v":""},{"$f":"IF(AND(AD466=Labels!$B$118,WEEKDAY(AD458,2)<6,AD$460<>\"\"),($J$7*5/$AR$51)*$B$455%,\"\")","v":""},{"$f":"IF(AND(AE466=Labels!$B$118,WEEKDAY(AE458,2)<6,AE$460<>\"\"),($J$7*5/$AR$51)*$B$455%,\"\")","v":""},{"$f":"IF(AND(AF466=Labels!$B$118,WEEKDAY(AF458,2)<6,AF$460<>\"\"),($J$7*5/$AR$51)*$B$455%,\"\")","v":""}]
[{"$f":"$A$20","v":"Tagestotal"},{"$f":"SUM(B463:B465)","v":0},{"$f":"SUM(C463:C465)","v":0},0,0,0,0,0,0,0,0,0,0,0,0,0,0,0,0,0,0,0,0,0,0,0,0,0,0,0,0,0]
[{"$f":"$A$21","v":"."}]
[{"$f":"$A$22","v":"."}]
[{"$f":"$A$23","v":"Monatsübergang"},{"$f":"IF(WEEKDAY(B458)=1,TEXT(B458-1,\"MMM\"&Labels!B13),\"\")","v":""},null,null,null,null,null,null,null,null,null,null,null,null,null,null,null,null,null,null,null,null,null,null,null,null,null,null,null,null,null,{"$f":"IF(AND(WEEKDAY(AF458)>1,WEEKDAY(AF458)<7),TEXT(DATE($B$5,MONTH(AF458)+1,1),\"MMM\"&Labels!B13),\"\")","v":"Sep"}]
[{"$f":"$A$24","v":"Wochentotal"},{"$f":"IF(WEEKDAY(B458)=7,SUMIF($B395:$AF395,B459,$B404:$AF404)+SUMIF($B459:$AF459,B459,$B468:$AF468)+SUMIF($B523:$AF523,B459,$B532:$AF532),B471)","v":""},{"$f":"IF(WEEKDAY(C458)=7,SUMIF($B395:$AF395,C459,$B404:$AF404)+SUMIF($B459:$AF459,C459,$B468:$AF468)+SUMIF($B523:$AF523,C459,$B532:$AF532),\"\")","v":""},"","","",0,"","","","","","",0,"","","","","","",0,"","","","","","",0,"","","",{"$f":"IF(WEEKDAY(AF458)=7,SUMIF($B395:$AF395,AF459,$B404:$AF404)+SUMIF($B459:$AF459,AF459,$B468:$AF468)+SUMIF($B523:$AF523,AF459,$B532:$AF532),AF471)","v":"Sep"},{"$f":"SUM(B473:AF473)","v":0}]
[{"$f":"$A$25","v":"Zeitzuschlag 1)"},{"$f":"IF(B480=\"FALSCH\",\"\",B480)","v":""},{"$f":"IF(C480=\"FALSCH\",\"\",C480)","v":""},"","","","","","","","","","","","","","","","","","","","","","","","","","","","","",0,"[1]"]
[{"$f":"$A$26","v":"Zeitzuschlag 2)"},{"$f":"IF((B463+B465)=0,\"\",SUM(B463,B465))","v":""},{"$f":"IF((C463+C465)=0,\"\",SUM(C463,C465))","v":""},"","","","","","","","","","","","","","","","","","","","","","","","","","","","","",{"$f":"SUM(B475:AF475)","v":0},"[2]"]
[{"$f":"$A$27","v":"Zeitzuschlag 3)"},{"$f":"SUM(B476:B479)","v":0},{"$f":"SUM(C476:C479)","v":0},0,0,0,0,0,0,0,0,0,0,0,0,0,0,0,0,0,0,0,0,0,0,0,0,0,0,0,0,0,0,"[3]"]
[{"$f":"$A$28","v":"Sonntag Tag"},{"$f":"IF(WEEKDAY(B458)=1,B464,\"\")","v":""},{"$f":"IF(WEEKDAY(C458)=1,C464,\"\")","v":""},"","","","",0,"","","","","","",0,"","","","","","",0,"","","","","","",0,"","","",0,"[4]"]
[{"$f":"$A$29","v":"Sonntag Nacht"},{"$f":"IF(WEEKDAY(B458)=1,SUM(B463+B465),\"\")","v":""},{"$f":"IF(WEEKDAY(C458)=1,SUM(C463+C465),\"\")","v":""},"","","","",0,"","","","","","",0,"","","","","","",0,"","","","","","",0,"","","",0,"[5]"]
[{"$f":"$A$30","v":"ft-Tazuschlag"},{"$f":"IF(B466=Labels!$B$118,B464,\"\")","v":""},{"$f":"IF(C466=Labels!$B$118,C464,\"\")","v":""},{"$f":"IF(D466=Labels!$B$118,D464,\"\")","v":""},{"$f":"IF(E466=Labels!$B$118,E464,\"\")","v":""},{"$f":"IF(F466=Labels!$B$118,F464,\"\")","v":""},{"$f":"IF(G466=Labels!$B$118,G464,\"\")","v":""},{"$f":"IF(H466=Labels!$B$118,H464,\"\")","v":""},{"$f":"IF(I466=Labels!$B$118,I464,\"\")","v":""},{"$f":"IF(J466=Labels!$B$118,J464,\"\")","v":""},{"$f":"IF(K466=Labels!$B$118,K464,\"\")","v":""},{"$f":"IF(L466=Labels!$B$118,L464,\"\")","v":""},{"$f":"IF(M466=Labels!$B$118,M464,\"\")","v":""},{"$f":"IF(N466=Labels!$B$118,N464,\"\")","v":""},{"$f":"IF(O466=Labels!$B$118,O464,\"\")","v":""},{"$f":"IF(P466=Labels!$B$118,P464,\"\")","v":""},{"$f":"IF(Q466=Labels!$B$118,Q464,\"\")","v":""},{"$f":"IF(R466=Labels!$B$118,R464,\"\")","v":""},{"$f":"IF(S466=Labels!$B$118,S464,\"\")","v":""},{"$f":"IF(T466=Labels!$B$118,T464,\"\")","v":""},{"$f":"IF(U466=Labels!$B$118,U464,\"\")","v":""},{"$f":"IF(V466=Labels!$B$118,V464,\"\")","v":""},{"$f":"IF(W466=Labels!$B$118,W464,\"\")","v":""},{"$f":"IF(X466=Labels!$B$118,X464,\"\")","v":""},{"$f":"IF(Y466=Labels!$B$118,Y464,\"\")","v":""},{"$f":"IF(Z466=Labels!$B$118,Z464,\"\")","v":""},{"$f":"IF(AA466=Labels!$B$118,AA464,\"\")","v":""},{"$f":"IF(AB466=Labels!$B$118,AB464,\"\")","v":""},{"$f":"IF(AC466=Labels!$B$118,AC464,\"\")","v":""},{"$f":"IF(AD466=Labels!$B$118,AD464,\"\")","v":""},{"$f":"IF(AE466=Labels!$B$118,AE464,\"\")","v":""},{"$f":"IF(AF466=Labels!$B$118,AF464,\"\")","v":""},0,"[6]"]
[{"$f":"$A$31","v":"ft-Nazuschlag"},{"$f":"IF(B466=Labels!$B$118,SUM(B463,B465),\"\")","v":""},{"$f":"IF(C466=Labels!$B$118,SUM(C463,C465),\"\")","v":""},{"$f":"IF(D466=Labels!$B$118,SUM(D463,D465),\"\")","v":""},{"$f":"IF(E466=Labels!$B$118,SUM(E463,E465),\"\")","v":""},{"$f":"IF(F466=Labels!$B$118,SUM(F463,F465),\"\")","v":""},{"$f":"IF(G466=Labels!$B$118,SUM(G463,G465),\"\")","v":""},{"$f":"IF(H466=Labels!$B$118,SUM(H463,H465),\"\")","v":""},{"$f":"IF(I466=Labels!$B$118,SUM(I463,I465),\"\")","v":""},{"$f":"IF(J466=Labels!$B$118,SUM(J463,J465),\"\")","v":""},{"$f":"IF(K466=Labels!$B$118,SUM(K463,K465),\"\")","v":""},{"$f":"IF(L466=Labels!$B$118,SUM(L463,L465),\"\")","v":""},{"$f":"IF(M466=Labels!$B$118,SUM(M463,M465),\"\")","v":""},{"$f":"IF(N466=Labels!$B$118,SUM(N463,N465),\"\")","v":""},{"$f":"IF(O466=Labels!$B$118,SUM(O463,O465),\"\")","v":""},{"$f":"IF(P466=Labels!$B$118,SUM(P463,P465),\"\")","v":""},{"$f":"IF(Q466=Labels!$B$118,SUM(Q463,Q465),\"\")","v":""},{"$f":"IF(R466=Labels!$B$118,SUM(R463,R465),\"\")","v":""},{"$f":"IF(S466=Labels!$B$118,SUM(S463,S465),\"\")","v":""},{"$f":"IF(T466=Labels!$B$118,SUM(T463,T465),\"\")","v":""},{"$f":"IF(U466=Labels!$B$118,SUM(U463,U465),\"\")","v":""},{"$f":"IF(V466=Labels!$B$118,SUM(V463,V465),\"\")","v":""},{"$f":"IF(W466=Labels!$B$118,SUM(W463,W465),\"\")","v":""},{"$f":"IF(X466=Labels!$B$118,SUM(X463,X465),\"\")","v":""},{"$f":"IF(Y466=Labels!$B$118,SUM(Y463,Y465),\"\")","v":""},{"$f":"IF(Z466=Labels!$B$118,SUM(Z463,Z465),\"\")","v":""},{"$f":"IF(AA466=Labels!$B$118,SUM(AA463,AA465),\"\")","v":""},{"$f":"IF(AB466=Labels!$B$118,SUM(AB463,AB465),\"\")","v":""},{"$f":"IF(AC466=Labels!$B$118,SUM(AC463,AC465),\"\")","v":""},{"$f":"IF(AD466=Labels!$B$118,SUM(AD463,AD465),\"\")","v":""},{"$f":"IF(AE466=Labels!$B$118,SUM(AE463,AE465),\"\")","v":""},{"$f":"IF(AF466=Labels!$B$118,SUM(AF463,AF465),\"\")","v":""},{"$f":"AG463","v":0},"[7]"]
[{"$f":"$A$32","v":"Zuschlag  blind (Wochentotal)"},{"$f":"IF(OR(ISTEXT(B472),B472=\"\",B472<$B$7),\"\",ROUND(((B472-$B$7)*25%)/25,4)*25)","v":""},{"$f":"IF(OR(ISTEXT(C472),C472=\"\",C472<$B$7),\"\",ROUND(((C472-$B$7)*25%)/25,4)*25)","v":""},"","","","","","","","","","","","","","","","","","","","","","","","","","","","","",{"$f":"SUM(AG462+AG464)","v":0},"[8]"]
[null,{"$f":"$B$33","v":"1)   25% Zeitzuschlag für Überschreitung Wochentotal"},null,null,null,null,null,null,null,null,null,{"$f":"$L$33","v":"2) 100% Zeitzuschlag für Nachtarbeit"},null,null,null,null,null,null,null,{"$f":"$T$33","v":"Eingabe der ausbezahlten Stunden Vorjahressaldo"},null,null,null,null,null,null,null,null,null,null,null,null,{"$f":"SUM(AG462:AG464)","v":0},"[9]"]
[null,{"$f":"$B$34","v":"3) 100% Zeitzuschlag für Sonn- und Feiertagsarbeit"},null,null,null,null,null,null,null,null,null,null,null,null,null,null,null,null,null,{"$f":"$T$34","v":"Eingabe der ausbezahlten Stunden laufendes Jahr (Überstunden)"},null,null,null,null,null,null,null,null,null,null,null,null,{"$f":"SUM(AG460+AG466)","v":0},"[10]"]
[{"$f":"$A$35","v":"Bemerkungen"},null,null,null,null,null,null,null,null,null,null,null,null,null,null,null,null,null,null,null,null,null,null,null,null,null,null,null,null,null,null,null,{"$f":"SUM(AG460:AG474)","v":0},"[11]"]
[null,null,null,null,null,null,null,null,null,null,null,null,null,null,null,null,null,null,null,null,null,null,null,null,null,null,null,null,null,null,null,null,{"$f":"AG459","v":184}]
[null,null,null,null,null,null,null,null,null,null,null,null,null,null,null,null,null,null,null,null,null,null,null,null,null,null,null,null,null,null,null,null,{"$f":"SUM(AG483-AG459)","v":-184}]
[]
[{"$f":"$A$39","v":"Zusammenstellung"},null,null,null,null,null,{"$f":"$G$39","v":"Jan"},null,{"$f":"$I$39","v":"Feb"},null,{"$f":"$K$39","v":"Mrz"},null,{"$f":"$M$39","v":"Apr"},null,{"$f":"$O$39","v":"Mai"},null,{"$f":"$Q$39","v":"Jun"},null,{"$f":"$S$39","v":"Jul"},null,{"$f":"$U$39","v":"Aug"},null,{"$f":"$W$39","v":"Sep"},null,{"$f":"$Y$39","v":"Okt"},null,{"$f":"$AA$39","v":"Nov"},null,{"$f":"$AC$39","v":"Dez"},null,{"$f":"$AE$39","v":"Jahr"}]
[{"$f":"$A$40","v":"Anstellung %"},null,null,null,null,null,{"$f":"IF($B$4=0,0,$B$4)","v":100},null,{"$f":"IF($B$71=0,0,$B$71)","v":100},null,{"$f":"IF($B$135=0,0,$B$135)","v":100},null,{"$f":"IF($B$199=0,0,$B$199)","v":100},null,{"$f":"IF($B$263=0,0,$B$263)","v":100},null,{"$f":"IF($B$327=0,0,$B$327)","v":100},null,{"$f":"IF($B$391=0,0,$B$391)","v":100},null,{"$f":"IF($B$455=0,0,$B$455)","v":100},null,{"$f":"IF($B$519=0,0,$B$519)","v":100},null,{"$f":"IF($B$583=0,0,$B$583)","v":100},null,{"$f":"IF($B$647=0,0,$B$647)","v":100},null,{"$f":"IF($B$711=0,0,$B$711)","v":100}]
[{"$f":"$A$41","v":"Sollstunden gemäss GAV"},null,null,null,null,null,{"$f":"IF($AG$37=0,0,$AG$37)","v":168},null,{"$f":"IF($AG$100=0,0,$AG$100)","v":160},null,{"$f":"IF($AG$139=0,0,$AG$139)","v":184},null,{"$f":"IF($AG$228=0,0,$AG$228)","v":168},null,{"$f":"IF($AG$292=0,0,$AG$292)","v":176},null,{"$f":"IF($AG$356=0,0,$AG$356)","v":176},null,{"$f":"IF($AG$420=0,0,$AG$420)","v":168},null,{"$f":"IF($AG$484=0,0,$AG$484)","v":184},null,{"$f":"IF($AG$548=0,0,$AG$548)","v":176},null,{"$f":"IF($AG$612=0,0,$AG$612)","v":168},null,{"$f":"IF($AG$676=0,0,$AG$676)","v":176},null,{"$f":"IF($AG$740=0,0,$AG$740)","v":176},null,{"$f":"SUM(G489:AD489)","v":2080}]
[{"$f":"$A$42","v":"Produktive Stunden"},{"$f":"$B$42","v":"06.00 - 20.00 Uhr"},null,null,null,null,{"$f":"IF($AG$32=0,0,$AG$32)","v":0},null,{"$f":"IF($AG$95=0,0,$AG$95)","v":0},null,{"$f":"IF($AG$159=0,0,$AG$159)","v":0},null,{"$f":"IF($AG$223=0,0,$AG$223)","v":0},null,{"$f":"IF($AG$287=0,0,$AG$287)","v":0},null,{"$f":"IF($AG$351=0,0,$AG$351)","v":0},null,{"$f":"IF($AG$415=0,0,$AG$415)","v":0},null,{"$f":"IF($AG$479=0,0,$AG$479)","v":0},null,{"$f":"IF($AG$543=0,0,$AG$543)","v":0},null,{"$f":"IF($AG$607=0,0,$AG$607)","v":0},null,{"$f":"IF($AG$671=0,0,$AG$671)","v":0},null,{"$f":"IF($AG$735=0,0,$AG$735)","v":0},null,{"$f":"SUM(G490:AD490)","v":0}]
[null,{"$f":"$B$43","v":"Nacht-, Sonn-, Feiertagsarbeit"},null,null,null,null,{"$f":"IF($AG$33=0,0,$AG$33)","v":0},null,{"$f":"IF($AG$96=0,0,$AG$96)","v":0},null,{"$f":"IF($AG$160=0,0,$AG$160)","v":0},null,{"$f":"IF($AG$224=0,0,$AG$224)","v":0},null,{"$f":"IF($AG$288=0,0,$AG$288)","v":0},null,{"$f":"IF($AG$352=0,0,$AG$352)","v":0},null,{"$f":"IF($AG$416=0,0,$AG$416)","v":0},null,{"$f":"IF($AG$480=0,0,$AG$480)","v":0},null,{"$f":"IF($AG$544=0,0,$AG$544)","v":0},null,{"$f":"IF($AG$608=0,0,$AG$608)","v":0},null,{"$f":"IF($AG$672=0,0,$AG$672)","v":0},null,{"$f":"IF($AG$736=0,0,$AG$736)","v":0},null,{"$f":"SUM(G491:AD491)","v":0}]
[{"$f":"$A$44","v":"Zeitzuschläge"},{"$f":"$B$44","v":"aus Wochentotal"},null,null,null,null,{"$f":"IF($AG$25=0,0,$AG$25)","v":0},null,{"$f":"IF($AG$88=0,0,$AG$88)","v":0},null,{"$f":"IF($AG$152=0,0,$AG$152)","v":0},null,{"$f":"IF($AG$216=0,0,$AG$216)","v":0},null,{"$f":"IF($AG$280=0,0,$AG$280)","v":0},null,{"$f":"IF($AG$344=0,0,$AG$344)","v":0},null,{"$f":"IF($AG$408=0,0,$AG$408)","v":0},null,{"$f":"IF($AG$472=0,0,$AG$472)","v":0},null,{"$f":"IF($AG$536=0,0,$AG$536)","v":0},null,{"$f":"IF($AG$600=0,0,$AG$600)","v":0},null,{"$f":"IF($AG$664=0,0,$AG$664)","v":0},null,{"$f":"IF($AG$728=0,0,$AG$728)","v":0},null,{"$f":"SUM(G492:AD492)","v":0}]
[null,{"$f":"$B$45","v":"aus Nacht-, Sonn-, Feiertagsarbeiten"},null,null,null,null,{"$f":"IF($AJ$21=0,0,$AJ$21)","v":0},null,{"$f":"IF($AK$21=0,0,$AK$21)","v":0},null,{"$f":"IF($AL$21=0,0,$AL$21)","v":0},null,{"$f":"IF($AM$21=0,0,$AM$21)","v":0},null,{"$f":"IF($AN$21=0,0,$AN$21)","v":0},null,{"$f":"IF($AO$21=0,0,$AO$21)","v":0},null,{"$f":"IF($AP$21=0,0,$AP$21)","v":0},null,{"$f":"IF($AQ$21=0,0,$AQ$21)","v":0},null,{"$f":"IF($AR$21=0,0,$AR$21)","v":0},null,{"$f":"IF($AS$21=0,0,$AS$21)","v":0},null,{"$f":"IF($AT$21=0,0,$AT$21)","v":0},null,{"$f":"IF($AU$21=0,0,$AU$21)","v":0},null,{"$f":"SUM(G493:AD493)","v":0}]
[{"$f":"$A$46","v":"Unproduktive Stunden"}]
[{"$f":"$A$47","v":"   Absenzen, Kurzabsenzen Art. 11 GAV"},null,null,null,null,{"$f":"$F$47","v":"a"},{"$f":"IF($AJ$3=0,0,$AJ$3)","v":0},null,{"$f":"IF($AK$3=0,0,$AK$3)","v":0},null,{"$f":"IF($AL$3=0,0,$AL$3)","v":0},null,{"$f":"IF($AM$3=0,0,$AM$3)","v":0},null,{"$f":"IF($AN$3=0,0,$AN$3)","v":0},null,{"$f":"IF($AO$3=0,0,$AO$3)","v":0},null,{"$f":"IF($AP$3=0,0,$AP$3)","v":0},null,{"$f":"IF($AQ$3=0,0,$AQ$3)","v":0},null,{"$f":"IF($AR$3=0,0,$AR$3)","v":0},null,{"$f":"IF($AS$3=0,0,$AS$3)","v":0},null,{"$f":"IF(AT$3=0,0,$AT$3)","v":0},null,{"$f":"IF($AU$3=0,0,$AU$3)","v":0},null,{"$f":"IF($AV$3=0,0,$AV$3)","v":0}]
[{"$f":"$A$48","v":"   Ferien Art. 12.1 GAV"},null,null,null,null,{"$f":"$F$48","v":"f"},{"$f":"IF($AJ$4=0,0,$AJ$4)","v":0},null,{"$f":"IF($AK$4=0,0,$AK$4)","v":0},null,{"$f":"IF($AL$4=0,0,$AL$4)","v":0},null,{"$f":"IF($AM$4=0,0,$AM$4)","v":0},null,{"$f":"IF($AN$4=0,0,$AN$4)","v":0},null,{"$f":"IF($AO$4=0,0,$AO$4)","v":0},null,{"$f":"IF($AP$4=0,0,$AP$4)","v":0},null,{"$f":"IF($AQ$4=0,0,$AQ$4)","v":0},null,{"$f":"IF($AR$4=0,0,$AR$4)","v":0},null,{"$f":"IF($AS$4=0,0,$AS$4)","v":0},null,{"$f":"IF($AT$4=0,0,$AT$4)","v":0},null,{"$f":"IF($AU$4=0,0,$AU$4)","v":0},null,{"$f":"IF($AV$4=0,0,$AV$4)","v":0}]
[{"$f":"Labels!$B$181","v":"   Ferien unbezahlt"},null,null,null,null,{"$f":"Labels!$B$182","v":"fu"},{"$f":"IF($AJ$13=0,0,$AJ$13)","v":0},null,{"$f":"IF($AK$13=0,0,$AK$13)","v":0},null,{"$f":"IF($AL$13=0,0,$AL$13)","v":0},null,{"$f":"IF($AM$13=0,0,$AM$13)","v":0},null,{"$f":"IF($AN$13=0,0,$AN$13)","v":0},null,{"$f":"IF($AO$13=0,0,$AO$13)","v":0},null,{"$f":"IF($AP$13=0,0,$AP$13)","v":0},null,{"$f":"IF($AQ$13=0,0,$AQ$13)","v":0},null,{"$f":"IF($AR$13=0,0,$AR$13)","v":0},null,{"$f":"IF($AS$13=0,0,$AS$13)","v":0},null,{"$f":"IF($AT$13=0,0,$AT$13)","v":0},null,{"$f":"IF($AU$13=0,0,$AU$13)","v":0},null,{"$f":"IF($AV$13=0,0,$AV$13)","v":0}]
[{"$f":"$A$50","v":"   Feiertage Art. 12.2 GAV"},null,{"$f":"IF($AJ$18=\"\",\"\",$AJ$18)","v":""},null,null,{"$f":"$F$50","v":"ft"},{"$f":"IF($AJ$16=0,0,$AJ$16)","v":0},null,{"$f":"IF($AK$16=0,0,$AK$16)","v":0},null,{"$f":"IF($AL$16=0,0,$AL$16)","v":0},null,{"$f":"IF($AM$16=0,0,$AM$16)","v":0},null,{"$f":"IF($AN$16=0,0,$AN$16)","v":0},null,{"$f":"IF($AO$16=0,0,$AO$16)","v":0},null,{"$f":"IF($AP$16=0,0,$AP$16)","v":0},null,{"$f":"IF($AQ$16=0,0,$AQ$16)","v":0},null,{"$f":"IF($AR$16=0,0,$AR$16)","v":0},null,{"$f":"IF($AS$16=0,0,$AS$16)","v":0},null,{"$f":"IF($AT$16=0,0,$AT$16)","v":0},null,{"$f":"IF($AU$16=0,0,$AU$16)","v":0},null,{"$f":"IF($AV$16=0,0,$AV$16)","v":0}]
[{"$f":"$A$51","v":"   Krankheit Art. 13 GAV"},null,null,null,null,{"$f":"$F$51","v":"k"},{"$f":"IF($AJ$5=0,0,$AJ$5)","v":0},null,{"$f":"IF($AK$5=0,0,$AK$5)","v":0},null,{"$f":"IF($AL$5=0,0,$AL$5)","v":0},null,{"$f":"IF($AM$5=0,0,$AM$5)","v":0},null,{"$f":"IF($AN$5=0,0,$AN$5)","v":0},null,{"$f":"IF($AO$5=0,0,$AO$5)","v":0},null,{"$f":"IF($AP$5=0,0,$AP$5)","v":0},null,{"$f":"IF($AQ$5=0,0,$AQ$5)","v":0},null,{"$f":"IF($AR$5=0,0,$AR$5)","v":0},null,{"$f":"IF($AS$5=0,0,$AS$5)","v":0},null,{"$f":"IF($AT$5=0,0,$AT$5)","v":0},null,{"$f":"IF($AU$5=0,0,$AU$5)","v":0},null,{"$f":"IF($AV$5=0,0,$AV$5)","v":0}]
[{"$f":"$A$52","v":"   Unfall Art. 14 GAV"},null,null,null,null,{"$f":"$F$52","v":"u"},{"$f":"IF($AJ$6=0,0,$AJ$6)","v":0},null,{"$f":"IF($AK$6=0,0,$AK$6)","v":0},null,{"$f":"IF($AL$6=0,0,$AL$6)","v":0},null,{"$f":"IF($AM$6=0,0,$AM$6)","v":0},null,{"$f":"IF($AN$6=0,0,$AN$6)","v":0},null,{"$f":"IF($AO$6=0,0,$AO$6)","v":0},null,{"$f":"IF($AP$6=0,0,$AP$6)","v":0},null,{"$f":"IF($AQ$6=0,0,$AQ$6)","v":0},null,{"$f":"IF($AR$6=0,0,$AR$6)","v":0},null,{"$f":"IF($AS$6=0,0,$AS$6)","v":0},null,{"$f":"IF($AT$6=0,0,$AT$6)","v":0},null,{"$f":"IF($AU$6=0,0,$AU$6)","v":0},null,{"$f":"IF($AV$6=0,0,$AV$6)","v":0}]
[{"$f":"$A$53","v":"   Schwangerschaft/Mutterschaft Art. 15 GAV"},null,null,null,null,{"$f":"$F$53","v":"s"},{"$f":"IF($AJ$7=0,0,$AJ$7)","v":0},null,{"$f":"IF($AK$7=0,0,$AK$7)","v":0},null,{"$f":"IF($AL$7=0,0,$AL$7)","v":0},null,{"$f":"IF($AM$7=0,0,$AM$7)","v":0},null,{"$f":"IF($AN$7=0,0,$AN$7)","v":0},null,{"$f":"IF($AO$7=0,0,$AO$7)","v":0},null,{"$f":"IF($AP$7=0,0,$AP$7)","v":0},null,{"$f":"IF($AQ$7=0,0,$AQ$7)","v":0},null,{"$f":"IF($AR$7=0,0,$AR$7)","v":0},null,{"$f":"IF($AS$7=0,0,$AS$7)","v":0},null,{"$f":"IF($AT$7=0,0,$AT$7)","v":0},null,{"$f":"IF($AU$7=0,0,$AU$7)","v":0},null,{"$f":"IF($AV$7=0,0,$AV$7)","v":0}]
[{"$f":"$A$54","v":"   Militär/Beförderung/Zivilschutz Art. 16 GAV"},null,null,null,null,{"$f":"$F$54","v":"m"},{"$f":"IF($AJ$8=0,0,$AJ$8)","v":0},null,{"$f":"IF($AK$8=0,0,$AK$8)","v":0},null,{"$f":"IF($AL$8=0,0,$AL$8)","v":0},null,{"$f":"IF($AM$8=0,0,$AM$8)","v":0},null,{"$f":"IF($AN$8=0,0,$AN$8)","v":0},null,{"$f":"IF($AO$8=0,0,$AO$8)","v":0},null,{"$f":"IF($AP$8=0,0,$AP$8)","v":0},null,{"$f":"IF($AQ$8=0,0,$AQ$8)","v":0},null,{"$f":"IF($AR$8=0,0,$AR$8)","v":0},null,{"$f":"IF($AS$8=0,0,$AS$8)","v":0},null,{"$f":"IF($AT$8=0,0,$AT$8)","v":0},null,{"$f":"IF($AU$8=0,0,$AU$8)","v":0},null,{"$f":"IF($AV$8=0,0,$AV$8)","v":0}]
[{"$f":"$A$55","v":"   Kurzarbeit und Schlechtwetterausfälle"},null,null,null,null,{"$f":"$F$55","v":"ka"},{"$f":"IF($AJ$11=0,0,$AJ$11)","v":0},null,{"$f":"IF($AK$11=0,0,$AK$11)","v":0},null,{"$f":"IF($AL$11=0,0,$AL$11)","v":0},null,{"$f":"IF($AM$11=0,0,$AM$11)","v":0},null,{"$f":"IF($AN$11=0,0,$AN$11)","v":0},null,{"$f":"IF($AO$11=0,0,$AO$11)","v":0},null,{"$f":"IF($AP$11=0,0,$AP$11)","v":0},null,{"$f":"IF($AQ$11=0,0,$AQ$11)","v":0},null,{"$f":"IF($AR$11=0,0,$AR$11)","v":0},null,{"$f":"IF($AS$11=0,0,$AS$11)","v":0},null,{"$f":"IF($AT$11=0,0,$AT$11)","v":0},null,{"$f":"IF($AU$11=0,0,$AU$11)","v":0},null,{"$f":"IF($AV$11=0,0,$AV$11)","v":0}]
[{"$f":"$A$56","v":"   Berufsschule"},null,null,null,null,{"$f":"$F$56","v":"bs"},{"$f":"IF($AJ$9=0,0,$AJ$9)","v":0},null,{"$f":"IF($AK$9=0,0,$AK$9)","v":0},null,{"$f":"IF($AL$9=0,0,$AL$9)","v":0},null,{"$f":"IF($AM$9=0,0,$AM$9)","v":0},null,{"$f":"IF($AN$9=0,0,$AN$9)","v":0},null,{"$f":"IF($AO$9=0,0,$AO$9)","v":0},null,{"$f":"IF($AP$9=0,0,$AP$9)","v":0},null,{"$f":"IF($AQ$9=0,0,$AQ$9)","v":0},null,{"$f":"IF($AR$9=0,0,$AR$9)","v":0},null,{"$f":"IF($AS$9=0,0,$AS$9)","v":0},null,{"$f":"IF($AT$9=0,0,$AT$9)","v":0},null,{"$f":"IF($AU$9=0,0,$AU$9)","v":0},null,{"$f":"IF($AV$9=0,0,$AV$9)","v":0}]
[{"$f":"$A$57","v":"   Kurse"},null,null,null,null,{"$f":"$F$57","v":"ku"},{"$f":"IF($AJ$10=0,0,$AJ$10)","v":0},null,{"$f":"IF($AK$10=0,0,$AK$10)","v":0},null,{"$f":"IF($AL$10=0,0,$AL$10)","v":0},null,{"$f":"IF($AM$10=0,0,$AM$10)","v":0},null,{"$f":"IF($AN$10=0,0,$AN$10)","v":0},null,{"$f":"IF($AO$10=0,0,$AO$10)","v":0},null,{"$f":"IF($AP$10=0,0,$AP$10)","v":0},null,{"$f":"IF($AQ$10=0,0,$AQ$10)","v":0},null,{"$f":"IF($AR$10=0,0,$AR$10)","v":0},null,{"$f":"IF($AS$10=0,0,$AS$10)","v":0},null,{"$f":"IF($AT$10=0,0,$AT$10)","v":0},null,{"$f":"IF($AU$10=0,0,$AU$10)","v":0},null,{"$f":"IF($AV$10=0,0,$AV$10)","v":0}]
[{"$f":"$A$58","v":"Kompensations-Std"},{"$f":"$B$58","v":"aus Vorjahr"},null,null,null,{"$f":"$F$58","v":"kv"},{"$f":"IF($AJ$12=0,0,$AJ$12)","v":0},null,{"$f":"IF($AK$12=0,0,$AK$12)","v":0},null,{"$f":"IF($AL$12=0,0,$AL$12)","v":0},null,{"$f":"IF($AM$12=0,0,$AM$12)","v":0},null,{"$f":"IF($AN$12=0,0,$AN$12)","v":0},null,{"$f":"IF($AO$12=0,0,$AO$12)","v":0},null,{"$f":"IF($AP$12=0,0,$AP$12)","v":0},null,{"$f":"IF($AQ$12=0,0,$AQ$12)","v":0},null,{"$f":"IF($AR$12=0,0,$AR$12)","v":0},null,null,null,null,null,null,null,{"$f":"IF($AV$12=0,0,$AV$12)","v":0}]
[null,{"$f":"$B$59","v":"aus laufendem Jahr (Kontrolle)"},null,null,null,{"$f":"$F$59","v":"kj"},{"$f":"IF($AJ$15=0,0,$AJ$15)","v":0},null,{"$f":"IF($AK$15=0,0,$AK$15)","v":0},null,{"$f":"IF($AL$15=0,0,$AL$15)","v":0},null,{"$f":"IF($AM$15=0,0,$AM$15)","v":0},null,{"$f":"IF($AN$15=0,0,$AN$15)","v":0},null,{"$f":"IF($AO$15=0,0,$AO$15)","v":0},null,{"$f":"IF($AP$15=0,0,$AP$15)","v":0},null,{"$f":"IF($AQ$15=0,0,$AQ$15)","v":0},null,{"$f":"IF($AR$15=0,0,$AR$15)","v":0},null,{"$f":"IF($AS$15=0,0,$AS$15)","v":0},null,{"$f":"IF($AT$15=0,0,$AT$15)","v":0},null,{"$f":"IF($AU$15=0,0,$AU$15)","v":0},null,{"$f":"IF($AV$15=0,0,$AV$15)","v":0}]
[{"$f":"$A$60","v":"Auszahlung"},{"$f":"$B$60","v":"Stunden Vorjahressaldo"},null,null,null,null,{"$f":"IF($AJ$19=0,0,$AJ$19)","v":0},null,{"$f":"IF($AK$19=0,0,$AK$19)","v":0},null,{"$f":"IF($AL$19=0,0,$AL$19)","v":0},null,{"$f":"IF($AM$19=0,0,$AM$19)","v":0},null,{"$f":"IF($AN$19=0,0,$AN$19)","v":0},null,{"$f":"IF($AO$19=0,0,$AO$19)","v":0},null,{"$f":"IF($AP$19=0,0,$AP$19)","v":0},null,{"$f":"IF($AQ$19=0,0,$AQ$19)","v":0},null,{"$f":"IF($AR$19=0,0,$AR$19)","v":0},null,null,null,null,null,null,null,{"$f":"IF($AV$19=0,0,$AV$19)","v":0}]
[{"$f":"$A$61","v":"Differenz"},{"$f":"$B$61","v":"nach Kompensation und Auszahlung"},null,null,null,null,{"$f":"IF(ROUND($P$4,3)=0,0,$P$4-SUM(G506+G508))","v":0},null,{"$f":"IF(ROUND(G509,3)=0,0,G509-(SUM(I508+I506)))","v":0},null,{"$f":"IF(ROUND(I509,3)=0,0,I509-(SUM(K508+K506)))","v":0},null,{"$f":"IF(ROUND(K509,3)=0,0,K509-(SUM(M508+M506)))","v":0},null,{"$f":"IF(ROUND(M509,3)=0,0,M509-(SUM(O508+O506)))","v":0},null,{"$f":"IF(ROUND(O509,3)=0,0,O509-(SUM(Q508+Q506)))","v":0},null,{"$f":"IF(ROUND(Q509,3)=0,0,Q509-(SUM(S508+S506)))","v":0},null,{"$f":"IF(ROUND(S509,3)=0,0,S509-(SUM(U508+U506)))","v":0},null,{"$f":"IF(ROUND(U509,3)=0,0,U509-(SUM(W508+W506)))","v":0},null,{"$f":"$Y$61","v":""}]
[{"$f":"$A$62","v":"Auszahlung"},{"$f":"$B$62","v":"Stunden laufendes Jahr"},null,null,null,null,{"$f":"IF($AJ$20=0,0,$AJ$20)","v":0},null,{"$f":"IF($AK$20=0,0,$AK$20)","v":0},null,{"$f":"IF($AL$20=0,0,$AL$20)","v":0},null,{"$f":"IF($AM$20=0,0,$AM$20)","v":0},null,{"$f":"IF($AN$20=0,0,$AN$20)","v":0},null,{"$f":"IF($AO$20=0,0,$AO$20)","v":0},null,{"$f":"IF($AP$20=0,0,$AP$20)","v":0},null,{"$f":"IF($AQ$20=0,0,$AQ$20)","v":0},null,{"$f":"IF($AR$20=0,0,$AR$20)","v":0},null,{"$f":"IF($AS$20=0,0,$AS$20)","v":0},null,{"$f":"IF($AT$20=0,0,$AT$20)","v":0},null,{"$f":"IF($AU$20=0,0,$AU$20)","v":0},null,{"$f":"IF($AV$20=0,0,$AV$20)","v":0}]
[{"$f":"$A$63","v":"Fehlstunden"},{"$f":"$B$63","v":"laufendes Jahr (Kontrolle)"},null,null,null,{"$f":"$F$63","v":"fe"},{"$f":"IF($AJ$14=0,0,$AJ$14)","v":0},null,{"$f":"IF($AK$14=0,0,$AK$14)","v":0},null,{"$f":"IF($AL$14=0,0,$AL$14)","v":0},null,{"$f":"IF($AM$14=0,0,$AM$14)","v":0},null,{"$f":"IF($AN$14=0,0,$AN$14)","v":0},null,{"$f":"IF($AO$14=0,0,$AO$14)","v":0},null,{"$f":"IF($AP$14=0,0,$AP$14)","v":0},null,{"$f":"IF($AQ$14=0,0,$AQ$14)","v":0},null,{"$f":"IF($AR$14=0,0,$AR$14)","v":0},null,{"$f":"IF($AS$14=0,0,$AS$14)","v":0},null,{"$f":"IF($AT$14=0,0,$AT$14)","v":0},null,{"$f":"IF($AU$14=0,0,$AU$14)","v":0},null,{"$f":"IF($AV$14=0,0,$AV$14)","v":0}]
[{"$f":"$A$64","v":"Total inkl. Zeitzuschläge"},{"$f":"$B$64","v":"Stunden produktiv und unproduktiv"},null,null,null,null,{"$f":"IF($AG$36=0,0,$AG$36)","v":0},null,{"$f":"IF($AG$99=0,0,$AG$99)","v":0},null,{"$f":"IF($AG$163=0,0,$AG$163)","v":0},null,{"$f":"IF($AG$227=0,0,$AG$227)","v":0},null,{"$f":"IF($AG$291=0,0,$AG$291)","v":0},null,{"$f":"IF($AG$355=0,0,$AG$355)","v":0},null,{"$f":"IF($AG$419=0,0,$AG$419)","v":0},null,{"$f":"IF($AG$483=0,0,$AG$483)","v":0},null,{"$f":"IF($AG$547=0,0,$AG$547)","v":0},null,{"$f":"IF($AG$611=0,0,$AG$611)","v":0},null,{"$f":"IF($AG$675=0,0,$AG$675)","v":0},null,{"$f":"IF($AG$739=0,0,$AG$739)","v":0},null,{"$f":"SUM($G$64:$AD$64)","v":0}]
[{"$f":"$A$65","v":"Vergleich"},{"$f":"$B$65","v":"Stunden zu Soll-Stunden (inkl. allfälli-\nge Minusstunden Vorjahr)"},null,null,null,null,{"$f":"$G$65","v":-168},null,{"$f":"$I$65","v":-160},null,{"$f":"$K$65","v":-184},null,{"$f":"$M$65","v":-168},null,{"$f":"$O$65","v":-176},null,{"$f":"$Q$65","v":-176},null,{"$f":"$S$65","v":-168},null,{"$f":"$U$65","v":-184},null,{"$f":"$W$65","v":-176},null,{"$f":"$Y$65","v":-168},null,{"$f":"$AA$65","v":-176},null,{"$f":"$AC$65","v":-176},null,{"$f":"$AE$65","v":-2080}]
[null,{"$f":"$B$66","v":"Stunden zu Soll-Stunden (kumuliert)"},null,null,null,null,{"$f":"$G$66","v":-168},null,{"$f":"$I$66","v":-328},null,{"$f":"$K$66","v":-512},null,{"$f":"$M$66","v":-680},null,{"$f":"$O$66","v":-856},null,{"$f":"$Q$66","v":-1032},null,{"$f":"$S$66","v":-1200},null,{"$f":"$U$66","v":-1384},null,{"$f":"$W$66","v":-1560},null,{"$f":"$Y$66","v":-1728},null,{"$f":"$AA$66","v":-1904},null,{"$f":"$AC$66","v":-2080},null,{"$f":"$AE$66","v":0}]
[{"$f":"$A$67","v":"Ferienkontrolle"},{"$f":"$B$67","v":"Ferienguthaben Vorjahr"},null,null,null,null,{"$f":"IF($AA$4=0,0,$AA$4)","v":0},null,{"$f":"$I$67","v":"Ferienguthaben nach \nArt. 12.1 GAV"},null,null,null,{"$f":"IF($AA$5=0,0,$AA$5)","v":0},null,{"$f":"$O$67","v":"Ferienguthaben total"},null,null,null,{"$f":"SUM(G515+M515)","v":0},null,{"$f":"$U$67","v":"Ferien bezogen"},null,null,null,{"$f":"IF($AV$4=0,0,$AV$4)","v":0},null,{"$f":"$AA$67","v":"Aktuelles Ferienguthaben"},null,null,null,{"$f":"IF(S515=0,0,S515-Y515)","v":0}]
[]
[]
[{"$f":"$A$3","v":"Mitarbeiter/In"},{"$f":"IF($B$3=\"\",\"\",$B$3)","v":"Muster Peter"},null,null,null,null,null,null,null,null,null,null,null,null,null,null,null,null,null,null,null,null,null,null,null,null,null,null,null,null,null,{"$f":"AF3","v":0}]
[{"$f":"$A$4","v":"Anstellung %"},{"$f":"$AL$52","v":100},null,{"$f":"Labels!B97","v":"im September"}]
[{"$f":"$A$5","v":"Saldo für das Jahr"},null,null,{"$f":"IF($AE$65=0,0,$AE$65)","v":-2080}]
[{"$f":"TEXT(DATE(YEAR(AP29),MONTH(AP29)+8,1),\"MMMM\"&Labels!B13)","v":"September"},{"$f":"$B$9","v":"Saldo Monat + / -"},null,null,null,{"$f":"(AG523-(SUM(AG524:AG538)-AE546))*-1","v":-176},null,null,null,null,{"$f":"$K$9","v":" = "},{"$f":"$L$9","v":"Gelbe Felder müssen ausgefüllt werden (die übrigen werden automatisch berechnet)"},null,null,null,null,null,null,null,null,null,null,null,null,null,null,null,null,null,null,null,null,{"$f":"COUNT(B524:AF524)&\" \"&Labels!$B$63","v":"22 Tage"}]
[{"$f":"$A$10","v":"Tag"},{"$f":"AF458+1","v":"2022-09-01"},{"$f":"B522+1","v":"2022-09-02"},{"$f":"C522+1","v":"2022-09-03"},"2022-09-04","2022-09-05","2022-09-06","2022-09-07","2022-09-08","2022-09-09","2022-09-10","2022-09-11","2022-09-12","2022-09-13","2022-09-14","2022-09-15","2022-09-16","2022-09-17","2022-09-18","2022-09-19","2022-09-20","2022-09-21","2022-09-22","2022-09-23","2022-09-24","2022-09-25","2022-09-26","2022-09-27","2022-09-28","2022-09-29","2022-09-30"]
[{"$f":"$A$11","v":"Kalenderwoche"},{"$f":"IF(B522=\"\",\"\",TRUNC((B522-DATE(YEAR(B522+3-MOD(B522-2,7)),1,MOD(B522-2,7)-9))/7))","v":35},35,35,35,36,36,36,36,36,36,36,37,37,37,37,37,37,37,38,38,38,38,38,38,38,39,39,39,39,39,"",{"$f":"SUM(B524:AF524)","v":176}]
[{"$f":"$A$12","v":"Sollstunden"},{"$f":"IF(AND(MOD(B522,7)>=2,SUMPRODUCT(($AM$56:$AQ$56=MOD(B522,7))*$AM$52:$AQ$52)),($J$7*5/$AR$52)*$B$519%,\"\")","v":8},{"$f":"IF(AND(MOD(C522,7)>=2,SUMPRODUCT(($AM$56:$AQ$56=MOD(C522,7))*$AM$52:$AQ$52)),($J$7*5/$AR$52)*$B$519%,\"\")","v":8},{"$f":"IF(AND(MOD(D522,7)>=2,SUMPRODUCT(($AM$56:$AQ$56=MOD(D522,7))*$AM$52:$AQ$52)),($J$7*5/$AR$52)*$B$519%,\"\")","v":""},{"$f":"IF(AND(MOD(E522,7)>=2,SUMPRODUCT(($AM$56:$AQ$56=MOD(E522,7))*$AM$52:$AQ$52)),($J$7*5/$AR$52)*$B$519%,\"\")","v":""},{"$f":"IF(AND(MOD(F522,7)>=2,SUMPRODUCT(($AM$56:$AQ$56=MOD(F522,7))*$AM$52:$AQ$52)),($J$7*5/$AR$52)*$B$519%,\"\")","v":8},{"$f":"IF(AND(MOD(G522,7)>=2,SUMPRODUCT(($AM$56:$AQ$56=MOD(G522,7))*$AM$52:$AQ$52)),($J$7*5/$AR$52)*$B$519%,\"\")","v":8},{"$f":"IF(AND(MOD(H522,7)>=2,SUMPRODUCT(($AM$56:$AQ$56=MOD(H522,7))*$AM$52:$AQ$52)),($J$7*5/$AR$52)*$B$519%,\"\")","v":8},{"$f":"IF(AND(MOD(I522,7)>=2,SUMPRODUCT(($AM$56:$AQ$56=MOD(I522,7))*$AM$52:$AQ$52)),($J$7*5/$AR$52)*$B$519%,\"\")","v":8},{"$f":"IF(AND(MOD(J522,7)>=2,SUMPRODUCT(($AM$56:$AQ$56=MOD(J522,7))*$AM$52:$AQ$52)),($J$7*5/$AR$52)*$B$519%,\"\")","v":8},{"$f":"IF(AND(MOD(K522,7)>=2,SUMPRODUCT(($AM$56:$AQ$56=MOD(K522,7))*$AM$52:$AQ$52)),($J$7*5/$AR$52)*$B$519%,\"\")","v":""},{"$f":"IF(AND(MOD(L522,7)>=2,SUMPRODUCT(($AM$56:$AQ$56=MOD(L522,7))*$AM$52:$AQ$52)),($J$7*5/$AR$52)*$B$519%,\"\")","v":""},{"$f":"IF(AND(MOD(M522,7)>=2,SUMPRODUCT(($AM$56:$AQ$56=MOD(M522,7))*$AM$52:$AQ$52)),($J$7*5/$AR$52)*$B$519%,\"\")","v":8},{"$f":"IF(AND(MOD(N522,7)>=2,SUMPRODUCT(($AM$56:$AQ$56=MOD(N522,7))*$AM$52:$AQ$52)),($J$7*5/$AR$52)*$B$519%,\"\")","v":8},{"$f":"IF(AND(MOD(O522,7)>=2,SUMPRODUCT(($AM$56:$AQ$56=MOD(O522,7))*$AM$52:$AQ$52)),($J$7*5/$AR$52)*$B$519%,\"\")","v":8},{"$f":"IF(AND(MOD(P522,7)>=2,SUMPRODUCT(($AM$56:$AQ$56=MOD(P522,7))*$AM$52:$AQ$52)),($J$7*5/$AR$52)*$B$519%,\"\")","v":8},{"$f":"IF(AND(MOD(Q522,7)>=2,SUMPRODUCT(($AM$56:$AQ$56=MOD(Q522,7))*$AM$52:$AQ$52)),($J$7*5/$AR$52)*$B$519%,\"\")","v":8},{"$f":"IF(AND(MOD(R522,7)>=2,SUMPRODUCT(($AM$56:$AQ$56=MOD(R522,7))*$AM$52:$AQ$52)),($J$7*5/$AR$52)*$B$519%,\"\")","v":""},{"$f":"IF(AND(MOD(S522,7)>=2,SUMPRODUCT(($AM$56:$AQ$56=MOD(S522,7))*$AM$52:$AQ$52)),($J$7*5/$AR$52)*$B$519%,\"\")","v":""},{"$f":"IF(AND(MOD(T522,7)>=2,SUMPRODUCT(($AM$56:$AQ$56=MOD(T522,7))*$AM$52:$AQ$52)),($J$7*5/$AR$52)*$B$519%,\"\")","v":8},{"$f":"IF(AND(MOD(U522,7)>=2,SUMPRODUCT(($AM$56:$AQ$56=MOD(U522,7))*$AM$52:$AQ$52)),($J$7*5/$AR$52)*$B$519%,\"\")","v":8},{"$f":"IF(AND(MOD(V522,7)>=2,SUMPRODUCT(($AM$56:$AQ$56=MOD(V522,7))*$AM$52:$AQ$52)),($J$7*5/$AR$52)*$B$519%,\"\")","v":8},{"$f":"IF(AND(MOD(W522,7)>=2,SUMPRODUCT(($AM$56:$AQ$56=MOD(W522,7))*$AM$52:$AQ$52)),($J$7*5/$AR$52)*$B$519%,\"\")","v":8},{"$f":"IF(AND(MOD(X522,7)>=2,SUMPRODUCT(($AM$56:$AQ$56=MOD(X522,7))*$AM$52:$AQ$52)),($J$7*5/$AR$52)*$B$519%,\"\")","v":8},{"$f":"IF(AND(MOD(Y522,7)>=2,SUMPRODUCT(($AM$56:$AQ$56=MOD(Y522,7))*$AM$52:$AQ$52)),($J$7*5/$AR$52)*$B$519%,\"\")","v":""},{"$f":"IF(AND(MOD(Z522,7)>=2,SUMPRODUCT(($AM$56:$AQ$56=MOD(Z522,7))*$AM$52:$AQ$52)),($J$7*5/$AR$52)*$B$519%,\"\")","v":""},{"$f":"IF(AND(MOD(AA522,7)>=2,SUMPRODUCT(($AM$56:$AQ$56=MOD(AA522,7))*$AM$52:$AQ$52)),($J$7*5/$AR$52)*$B$519%,\"\")","v":8},{"$f":"IF(AND(MOD(AB522,7)>=2,SUMPRODUCT(($AM$56:$AQ$56=MOD(AB522,7))*$AM$52:$AQ$52)),($J$7*5/$AR$52)*$B$519%,\"\")","v":8},{"$f":"IF(AND(MOD(AC522,7)>=2,SUMPRODUCT(($AM$56:$AQ$56=MOD(AC522,7))*$AM$52:$AQ$52)),($J$7*5/$AR$52)*$B$519%,\"\")","v":8},{"$f":"IF(AND(MOD(AD522,7)>=2,SUMPRODUCT(($AM$56:$AQ$56=MOD(AD522,7))*$AM$52:$AQ$52)),($J$7*5/$AR$52)*$B$519%,\"\")","v":8},{"$f":"IF(AND(MOD(AE522,7)>=2,SUMPRODUCT(($AM$56:$AQ$56=MOD(AE522,7))*$AM$52:$AQ$52)),($J$7*5/$AR$52)*$B$519%,\"\")","v":8},null,{"$f":"SUM(AR3:AR13)","v":0}]
[{"$f":"$A$13","v":"Absenz in Std"},{"$f":"B1015","v":0},{"$f":"C1015","v":0},0,0,0,0,0,0,0,0,0,0,0,0,0,0,0,0,0,0,0,0,0,0,0,0,0,0,0,0]
[{"$f":"$A$14","v":"Code"},{"$f":"IF(B1015<>0,IF(MAX(B1002:B1014)<B1015,Labels!$B$163,INDEX($AH$1001:$AH$1013,MATCH(MAX(B1002:B1014),B1002:B1014,0))),\"\")","v":""},{"$f":"IF(C1015<>0,IF(MAX(C1002:C1014)<C1015,Labels!$B$163,INDEX($AH$1001:$AH$1013,MATCH(MAX(C1002:C1014),C1002:C1014,0))),\"\")","v":""},{"$f":"IF(D1015<>0,IF(MAX(D1002:D1014)<D1015,Labels!$B$163,INDEX($AH$1001:$AH$1013,MATCH(MAX(D1002:D1014),D1002:D1014,0))),\"\")","v":""},{"$f":"IF(E1015<>0,IF(MAX(E1002:E1014)<E1015,Labels!$B$163,INDEX($AH$1001:$AH$1013,MATCH(MAX(E1002:E1014),E1002:E1014,0))),\"\")","v":""},{"$f":"IF(F1015<>0,IF(MAX(F1002:F1014)<F1015,Labels!$B$163,INDEX($AH$1001:$AH$1013,MATCH(MAX(F1002:F1014),F1002:F1014,0))),\"\")","v":""},{"$f":"IF(G1015<>0,IF(MAX(G1002:G1014)<G1015,Labels!$B$163,INDEX($AH$1001:$AH$1013,MATCH(MAX(G1002:G1014),G1002:G1014,0))),\"\")","v":""},{"$f":"IF(H1015<>0,IF(MAX(H1002:H1014)<H1015,Labels!$B$163,INDEX($AH$1001:$AH$1013,MATCH(MAX(H1002:H1014),H1002:H1014,0))),\"\")","v":""},{"$f":"IF(I1015<>0,IF(MAX(I1002:I1014)<I1015,Labels!$B$163,INDEX($AH$1001:$AH$1013,MATCH(MAX(I1002:I1014),I1002:I1014,0))),\"\")","v":""},{"$f":"IF(J1015<>0,IF(MAX(J1002:J1014)<J1015,Labels!$B$163,INDEX($AH$1001:$AH$1013,MATCH(MAX(J1002:J1014),J1002:J1014,0))),\"\")","v":""},{"$f":"IF(K1015<>0,IF(MAX(K1002:K1014)<K1015,Labels!$B$163,INDEX($AH$1001:$AH$1013,MATCH(MAX(K1002:K1014),K1002:K1014,0))),\"\")","v":""},{"$f":"IF(L1015<>0,IF(MAX(L1002:L1014)<L1015,Labels!$B$163,INDEX($AH$1001:$AH$1013,MATCH(MAX(L1002:L1014),L1002:L1014,0))),\"\")","v":""},{"$f":"IF(M1015<>0,IF(MAX(M1002:M1014)<M1015,Labels!$B$163,INDEX($AH$1001:$AH$1013,MATCH(MAX(M1002:M1014),M1002:M1014,0))),\"\")","v":""},{"$f":"IF(N1015<>0,IF(MAX(N1002:N1014)<N1015,Labels!$B$163,INDEX($AH$1001:$AH$1013,MATCH(MAX(N1002:N1014),N1002:N1014,0))),\"\")","v":""},{"$f":"IF(O1015<>0,IF(MAX(O1002:O1014)<O1015,Labels!$B$163,INDEX($AH$1001:$AH$1013,MATCH(MAX(O1002:O1014),O1002:O1014,0))),\"\")","v":""},{"$f":"IF(P1015<>0,IF(MAX(P1002:P1014)<P1015,Labels!$B$163,INDEX($AH$1001:$AH$1013,MATCH(MAX(P1002:P1014),P1002:P1014,0))),\"\")","v":""},{"$f":"IF(Q1015<>0,IF(MAX(Q1002:Q1014)<Q1015,Labels!$B$163,INDEX($AH$1001:$AH$1013,MATCH(MAX(Q1002:Q1014),Q1002:Q1014,0))),\"\")","v":""},{"$f":"IF(R1015<>0,IF(MAX(R1002:R1014)<R1015,Labels!$B$163,INDEX($AH$1001:$AH$1013,MATCH(MAX(R1002:R1014),R1002:R1014,0))),\"\")","v":""},{"$f":"IF(S1015<>0,IF(MAX(S1002:S1014)<S1015,Labels!$B$163,INDEX($AH$1001:$AH$1013,MATCH(MAX(S1002:S1014),S1002:S1014,0))),\"\")","v":""},{"$f":"IF(T1015<>0,IF(MAX(T1002:T1014)<T1015,Labels!$B$163,INDEX($AH$1001:$AH$1013,MATCH(MAX(T1002:T1014),T1002:T1014,0))),\"\")","v":""},{"$f":"IF(U1015<>0,IF(MAX(U1002:U1014)<U1015,Labels!$B$163,INDEX($AH$1001:$AH$1013,MATCH(MAX(U1002:U1014),U1002:U1014,0))),\"\")","v":""},{"$f":"IF(V1015<>0,IF(MAX(V1002:V1014)<V1015,Labels!$B$163,INDEX($AH$1001:$AH$1013,MATCH(MAX(V1002:V1014),V1002:V1014,0))),\"\")","v":""},{"$f":"IF(W1015<>0,IF(MAX(W1002:W1014)<W1015,Labels!$B$163,INDEX($AH$1001:$AH$1013,MATCH(MAX(W1002:W1014),W1002:W1014,0))),\"\")","v":""},{"$f":"IF(X1015<>0,IF(MAX(X1002:X1014)<X1015,Labels!$B$163,INDEX($AH$1001:$AH$1013,MATCH(MAX(X1002:X1014),X1002:X1014,0))),\"\")","v":""},{"$f":"IF(Y1015<>0,IF(MAX(Y1002:Y1014)<Y1015,Labels!$B$163,INDEX($AH$1001:$AH$1013,MATCH(MAX(Y1002:Y1014),Y1002:Y1014,0))),\"\")","v":""},{"$f":"IF(Z1015<>0,IF(MAX(Z1002:Z1014)<Z1015,Labels!$B$163,INDEX($AH$1001:$AH$1013,MATCH(MAX(Z1002:Z1014),Z1002:Z1014,0))),\"\")","v":""},{"$f":"IF(AA1015<>0,IF(MAX(AA1002:AA1014)<AA1015,Labels!$B$163,INDEX($AH$1001:$AH$1013,MATCH(MAX(AA1002:AA1014),AA1002:AA1014,0))),\"\")","v":""},{"$f":"IF(AB1015<>0,IF(MAX(AB1002:AB1014)<AB1015,Labels!$B$163,INDEX($AH$1001:$AH$1013,MATCH(MAX(AB1002:AB1014),AB1002:AB1014,0))),\"\")","v":""},{"$f":"IF(AC1015<>0,IF(MAX(AC1002:AC1014)<AC1015,Labels!$B$163,INDEX($AH$1001:$AH$1013,MATCH(MAX(AC1002:AC1014),AC1002:AC1014,0))),\"\")","v":""},{"$f":"IF(AD1015<>0,IF(MAX(AD1002:AD1014)<AD1015,Labels!$B$163,INDEX($AH$1001:$AH$1013,MATCH(MAX(AD1002:AD1014),AD1002:AD1014,0))),\"\")","v":""},{"$f":"IF(AE1015<>0,IF(MAX(AE1002:AE1014)<AE1015,Labels!$B$163,INDEX($AH$1001:$AH$1013,MATCH(MAX(AE1002:AE1014),AE1002:AE1014,0))),\"\")","v":""},null,{"$f":"SUM(B527:AF527)","v":0}]
[{"$f":"$A$15","v":"00.00-06.00h"},null,null,null,null,null,null,null,null,null,null,null,null,null,null,null,null,null,null,null,null,null,null,null,null,null,null,null,null,null,null,null,{"$f":"SUM(B528:AF528)","v":0}]
[{"$f":"$A$16","v":"06.00-20.00h"},null,null,null,null,null,null,null,null,null,null,null,null,null,null,null,null,null,null,null,null,null,null,null,null,null,null,null,null,null,null,null,{"$f":"SUM(B529:AF529)","v":0},"[0]"]
[{"$f":"$A$17","v":"20.00-24.00h"}]
[{"$f":"$A$18","v":"Feiertag \"ft\""},{"$f":"IF(WEEKDAY(B522,2)<=6,IF(KALENDER!E19=\"x\",Labels!$B$118,\"\"),\"\")","v":""},{"$f":"IF(WEEKDAY(C522,2)<=6,IF(KALENDER!F19=\"x\",Labels!$B$118,\"\"),\"\")","v":""},{"$f":"IF(WEEKDAY(D522,2)<=6,IF(KALENDER!G19=\"x\",Labels!$B$118,\"\"),\"\")","v":""},{"$f":"IF(WEEKDAY(E522,2)<=6,IF(KALENDER!H19=\"x\",Labels!$B$118,\"\"),\"\")","v":""},{"$f":"IF(WEEKDAY(F522,2)<=6,IF(KALENDER!I19=\"x\",Labels!$B$118,\"\"),\"\")","v":""},{"$f":"IF(WEEKDAY(G522,2)<=6,IF(KALENDER!J19=\"x\",Labels!$B$118,\"\"),\"\")","v":""},{"$f":"IF(WEEKDAY(H522,2)<=6,IF(KALENDER!K19=\"x\",Labels!$B$118,\"\"),\"\")","v":""},{"$f":"IF(WEEKDAY(I522,2)<=6,IF(KALENDER!L19=\"x\",Labels!$B$118,\"\"),\"\")","v":""},{"$f":"IF(WEEKDAY(J522,2)<=6,IF(KALENDER!M19=\"x\",Labels!$B$118,\"\"),\"\")","v":""},{"$f":"IF(WEEKDAY(K522,2)<=6,IF(KALENDER!N19=\"x\",Labels!$B$118,\"\"),\"\")","v":""},{"$f":"IF(WEEKDAY(L522,2)<=6,IF(KALENDER!O19=\"x\",Labels!$B$118,\"\"),\"\")","v":""},{"$f":"IF(WEEKDAY(M522,2)<=6,IF(KALENDER!P19=\"x\",Labels!$B$118,\"\"),\"\")","v":""},{"$f":"IF(WEEKDAY(N522,2)<=6,IF(KALENDER!Q19=\"x\",Labels!$B$118,\"\"),\"\")","v":""},{"$f":"IF(WEEKDAY(O522,2)<=6,IF(KALENDER!R19=\"x\",Labels!$B$118,\"\"),\"\")","v":""},{"$f":"IF(WEEKDAY(P522,2)<=6,IF(KALENDER!S19=\"x\",Labels!$B$118,\"\"),\"\")","v":""},{"$f":"IF(WEEKDAY(Q522,2)<=6,IF(KALENDER!T19=\"x\",Labels!$B$118,\"\"),\"\")","v":""},{"$f":"IF(WEEKDAY(R522,2)<=6,IF(KALENDER!U19=\"x\",Labels!$B$118,\"\"),\"\")","v":""},{"$f":"IF(WEEKDAY(S522,2)<=6,IF(KALENDER!V19=\"x\",Labels!$B$118,\"\"),\"\")","v":""},{"$f":"IF(WEEKDAY(T522,2)<=6,IF(KALENDER!W19=\"x\",Labels!$B$118,\"\"),\"\")","v":""},{"$f":"IF(WEEKDAY(U522,2)<=6,IF(KALENDER!X19=\"x\",Labels!$B$118,\"\"),\"\")","v":""},{"$f":"IF(WEEKDAY(V522,2)<=6,IF(KALENDER!Y19=\"x\",Labels!$B$118,\"\"),\"\")","v":""},{"$f":"IF(WEEKDAY(W522,2)<=6,IF(KALENDER!Z19=\"x\",Labels!$B$118,\"\"),\"\")","v":""},{"$f":"IF(WEEKDAY(X522,2)<=6,IF(KALENDER!AA19=\"x\",Labels!$B$118,\"\"),\"\")","v":""},{"$f":"IF(WEEKDAY(Y522,2)<=6,IF(KALENDER!AB19=\"x\",Labels!$B$118,\"\"),\"\")","v":""},{"$f":"IF(WEEKDAY(Z522,2)<=6,IF(KALENDER!AC19=\"x\",Labels!$B$118,\"\"),\"\")","v":""},{"$f":"IF(WEEKDAY(AA522,2)<=6,IF(KALENDER!AD19=\"x\",Labels!$B$118,\"\"),\"\")","v":""},{"$f":"IF(WEEKDAY(AB522,2)<=6,IF(KALENDER!AE19=\"x\",Labels!$B$118,\"\"),\"\")","v":""},{"$f":"IF(WEEKDAY(AC522,2)<=6,IF(KALENDER!AF19=\"x\",Labels!$B$118,\"\"),\"\")","v":""},{"$f":"IF(WEEKDAY(AD522,2)<=6,IF(KALENDER!AG19=\"x\",Labels!$B$118,\"\"),\"\")","v":""},{"$f":"IF(WEEKDAY(AE522,2)<=6,IF(KALENDER!AH19=\"x\",Labels!$B$118,\"\"),\"\")","v":""},{"$f":"IF(WEEKDAY(AF522,2)<=6,IF(KALENDER!AI19=\"x\",Labels!$B$118,\"\"),\"\")","v":""},{"$f":"SUM(B531:AF531)","v":0}]
[{"$f":"$A$19","v":"Gutschrift \"ft\""},{"$f":"IF(AND(B530=Labels!$B$118,WEEKDAY(B522,2)<6,B$524<>\"\"),($J$7*5/$AR$52)*$B$519%,\"\")","v":""},{"$f":"IF(AND(C530=Labels!$B$118,WEEKDAY(C522,2)<6,C$524<>\"\"),($J$7*5/$AR$52)*$B$519%,\"\")","v":""},{"$f":"IF(AND(D530=Labels!$B$118,WEEKDAY(D522,2)<6,D$524<>\"\"),($J$7*5/$AR$52)*$B$519%,\"\")","v":""},{"$f":"IF(AND(E530=Labels!$B$118,WEEKDAY(E522,2)<6,E$524<>\"\"),($J$7*5/$AR$52)*$B$519%,\"\")","v":""},{"$f":"IF(AND(F530=Labels!$B$118,WEEKDAY(F522,2)<6,F$524<>\"\"),($J$7*5/$AR$52)*$B$519%,\"\")","v":""},{"$f":"IF(AND(G530=Labels!$B$118,WEEKDAY(G522,2)<6,G$524<>\"\"),($J$7*5/$AR$52)*$B$519%,\"\")","v":""},{"$f":"IF(AND(H530=Labels!$B$118,WEEKDAY(H522,2)<6,H$524<>\"\"),($J$7*5/$AR$52)*$B$519%,\"\")","v":""},{"$f":"IF(AND(I530=Labels!$B$118,WEEKDAY(I522,2)<6,I$524<>\"\"),($J$7*5/$AR$52)*$B$519%,\"\")","v":""},{"$f":"IF(AND(J530=Labels!$B$118,WEEKDAY(J522,2)<6,J$524<>\"\"),($J$7*5/$AR$52)*$B$519%,\"\")","v":""},{"$f":"IF(AND(K530=Labels!$B$118,WEEKDAY(K522,2)<6,K$524<>\"\"),($J$7*5/$AR$52)*$B$519%,\"\")","v":""},{"$f":"IF(AND(L530=Labels!$B$118,WEEKDAY(L522,2)<6,L$524<>\"\"),($J$7*5/$AR$52)*$B$519%,\"\")","v":""},{"$f":"IF(AND(M530=Labels!$B$118,WEEKDAY(M522,2)<6,M$524<>\"\"),($J$7*5/$AR$52)*$B$519%,\"\")","v":""},{"$f":"IF(AND(N530=Labels!$B$118,WEEKDAY(N522,2)<6,N$524<>\"\"),($J$7*5/$AR$52)*$B$519%,\"\")","v":""},{"$f":"IF(AND(O530=Labels!$B$118,WEEKDAY(O522,2)<6,O$524<>\"\"),($J$7*5/$AR$52)*$B$519%,\"\")","v":""},{"$f":"IF(AND(P530=Labels!$B$118,WEEKDAY(P522,2)<6,P$524<>\"\"),($J$7*5/$AR$52)*$B$519%,\"\")","v":""},{"$f":"IF(AND(Q530=Labels!$B$118,WEEKDAY(Q522,2)<6,Q$524<>\"\"),($J$7*5/$AR$52)*$B$519%,\"\")","v":""},{"$f":"IF(AND(R530=Labels!$B$118,WEEKDAY(R522,2)<6,R$524<>\"\"),($J$7*5/$AR$52)*$B$519%,\"\")","v":""},{"$f":"IF(AND(S530=Labels!$B$118,WEEKDAY(S522,2)<6,S$524<>\"\"),($J$7*5/$AR$52)*$B$519%,\"\")","v":""},{"$f":"IF(AND(T530=Labels!$B$118,WEEKDAY(T522,2)<6,T$524<>\"\"),($J$7*5/$AR$52)*$B$519%,\"\")","v":""},{"$f":"IF(AND(U530=Labels!$B$118,WEEKDAY(U522,2)<6,U$524<>\"\"),($J$7*5/$AR$52)*$B$519%,\"\")","v":""},{"$f":"IF(AND(V530=Labels!$B$118,WEEKDAY(V522,2)<6,V$524<>\"\"),($J$7*5/$AR$52)*$B$519%,\"\")","v":""},{"$f":"IF(AND(W530=Labels!$B$118,WEEKDAY(W522,2)<6,W$524<>\"\"),($J$7*5/$AR$52)*$B$519%,\"\")","v":""},{"$f":"IF(AND(X530=Labels!$B$118,WEEKDAY(X522,2)<6,X$524<>\"\"),($J$7*5/$AR$52)*$B$519%,\"\")","v":""},{"$f":"IF(AND(Y530=Labels!$B$118,WEEKDAY(Y522,2)<6,Y$524<>\"\"),($J$7*5/$AR$52)*$B$519%,\"\")","v":""},{"$f":"IF(AND(Z530=Labels!$B$118,WEEKDAY(Z522,2)<6,Z$524<>\"\"),($J$7*5/$AR$52)*$B$519%,\"\")","v":""},{"$f":"IF(AND(AA530=Labels!$B$118,WEEKDAY(AA522,2)<6,AA$524<>\"\"),($J$7*5/$AR$52)*$B$519%,\"\")","v":""},{"$f":"IF(AND(AB530=Labels!$B$118,WEEKDAY(AB522,2)<6,AB$524<>\"\"),($J$7*5/$AR$52)*$B$519%,\"\")","v":""},{"$f":"IF(AND(AC530=Labels!$B$118,WEEKDAY(AC522,2)<6,AC$524<>\"\"),($J$7*5/$AR$52)*$B$519%,\"\")","v":""},{"$f":"IF(AND(AD530=Labels!$B$118,WEEKDAY(AD522,2)<6,AD$524<>\"\"),($J$7*5/$AR$52)*$B$519%,\"\")","v":""},{"$f":"IF(AND(AE530=Labels!$B$118,WEEKDAY(AE522,2)<6,AE$524<>\"\"),($J$7*5/$AR$52)*$B$519%,\"\")","v":""},{"$f":"IF(AND(AF530=Labels!$B$118,WEEKDAY(AF522,2)<6),$J$7*$B$519%,\"\")","v":""}]
[{"$f":"$A$20","v":"Tagestotal"},{"$f":"SUM(B527:B529)","v":0},{"$f":"SUM(C527:C529)","v":0},0,0,0,0,0,0,0,0,0,0,0,0,0,0,0,0,0,0,0,0,0,0,0,0,0,0,0,0,0]
[{"$f":"$A$21","v":"."}]
[{"$f":"$A$22","v":"."}]
[{"$f":"$A$23","v":"Monatsübergang"},{"$f":"IF(WEEKDAY(B522)=1,TEXT(B522-1,\"MMM\"&Labels!B13),\"\")","v":""},null,null,null,null,null,null,null,null,null,null,null,null,null,null,null,null,null,null,null,null,null,null,null,null,null,null,null,null,{"$f":"IF(AND(WEEKDAY(AE522)>1,WEEKDAY(AE522)<7),TEXT(DATE($B$5,MONTH(AE522)+1,1),\"MMM\"&Labels!B13),\"\")","v":"Okt"}]
[{"$f":"$A$24","v":"Wochentotal"},{"$f":"IF(WEEKDAY(B522)=7,SUMIF($B459:$AF459,B523,$B468:$AF468)+SUMIF($B523:$AF523,B523,$B532:$AF532)+SUMIF($B587:$AF587,B523,$B596:$AF596),B535)","v":""},{"$f":"IF(WEEKDAY(C522)=7,SUMIF($B459:$AF459,C523,$B468:$AF468)+SUMIF($B523:$AF523,C523,$B532:$AF532)+SUMIF($B587:$AF587,C523,$B596:$AF596),\"\")","v":""},0,"","","","","","",0,"","","","","","",0,"","","","","","",0,"","","","","",{"$f":"IF(WEEKDAY(AE522)=7,SUMIF($B459:$AF459,AE523,$B468:$AF468)+SUMIF($B523:$AF523,AE523,$B532:$AF532)+SUMIF($B587:$AF587,AE523,$B596:$AF596),AE535)","v":"Okt"},null,{"$f":"SUM(B537:AF537)","v":0}]
[{"$f":"$A$25","v":"Zeitzuschlag 1)"},{"$f":"IF(B544=\"FALSCH\",\"\",B544)","v":""},{"$f":"IF(C544=\"FALSCH\",\"\",C544)","v":""},"","","","","","","","","","","","","","","","","","","","","","","","","","","","",null,0,"[1]"]
[{"$f":"$A$26","v":"Zeitzuschlag 2)"},{"$f":"IF((B527+B529)=0,\"\",SUM(B527,B529))","v":""},{"$f":"IF((C527+C529)=0,\"\",SUM(C527,C529))","v":""},"","","","","","","","","","","","","","","","","","","","","","","","","","","","",null,{"$f":"SUM(B539:AF539)","v":0},"[2]"]
[{"$f":"$A$27","v":"Zeitzuschlag 3)"},{"$f":"SUM(B540:B543)","v":0},{"$f":"SUM(C540:C543)","v":0},0,0,0,0,0,0,0,0,0,0,0,0,0,0,0,0,0,0,0,0,0,0,0,0,0,0,0,0,null,0,"[3]"]
[{"$f":"$A$28","v":"Sonntag Tag"},{"$f":"IF(WEEKDAY(B522)=1,B528,\"\")","v":""},{"$f":"IF(WEEKDAY(C522)=1,C528,\"\")","v":""},"",0,"","","","","","",0,"","","","","","",0,"","","","","","",0,"","","","","",null,0,"[4]"]
[{"$f":"$A$29","v":"Sonntag Nacht"},{"$f":"IF(WEEKDAY(B522)=1,SUM(B527+B529),\"\")","v":""},{"$f":"IF(WEEKDAY(C522)=1,SUM(C527+C529),\"\")","v":""},"",0,"","","","","","",0,"","","","","","",0,"","","","","","",0,"","","","","",null,0,"[5]"]
[{"$f":"$A$30","v":"ft-Tazuschlag"},{"$f":"IF(B530=Labels!$B$118,B528,\"\")","v":""},{"$f":"IF(C530=Labels!$B$118,C528,\"\")","v":""},{"$f":"IF(D530=Labels!$B$118,D528,\"\")","v":""},{"$f":"IF(E530=Labels!$B$118,E528,\"\")","v":""},{"$f":"IF(F530=Labels!$B$118,F528,\"\")","v":""},{"$f":"IF(G530=Labels!$B$118,G528,\"\")","v":""},{"$f":"IF(H530=Labels!$B$118,H528,\"\")","v":""},{"$f":"IF(I530=Labels!$B$118,I528,\"\")","v":""},{"$f":"IF(J530=Labels!$B$118,J528,\"\")","v":""},{"$f":"IF(K530=Labels!$B$118,K528,\"\")","v":""},{"$f":"IF(L530=Labels!$B$118,L528,\"\")","v":""},{"$f":"IF(M530=Labels!$B$118,M528,\"\")","v":""},{"$f":"IF(N530=Labels!$B$118,N528,\"\")","v":""},{"$f":"IF(O530=Labels!$B$118,O528,\"\")","v":""},{"$f":"IF(P530=Labels!$B$118,P528,\"\")","v":""},{"$f":"IF(Q530=Labels!$B$118,Q528,\"\")","v":""},{"$f":"IF(R530=Labels!$B$118,R528,\"\")","v":""},{"$f":"IF(S530=Labels!$B$118,S528,\"\")","v":""},{"$f":"IF(T530=Labels!$B$118,T528,\"\")","v":""},{"$f":"IF(U530=Labels!$B$118,U528,\"\")","v":""},{"$f":"IF(V530=Labels!$B$118,V528,\"\")","v":""},{"$f":"IF(W530=Labels!$B$118,W528,\"\")","v":""},{"$f":"IF(X530=Labels!$B$118,X528,\"\")","v":""},{"$f":"IF(Y530=Labels!$B$118,Y528,\"\")","v":""},{"$f":"IF(Z530=Labels!$B$118,Z528,\"\")","v":""},{"$f":"IF(AA530=Labels!$B$118,AA528,\"\")","v":""},{"$f":"IF(AB530=Labels!$B$118,AB528,\"\")","v":""},{"$f":"IF(AC530=Labels!$B$118,AC528,\"\")","v":""},{"$f":"IF(AD530=Labels!$B$118,AD528,\"\")","v":""},{"$f":"IF(AE530=Labels!$B$118,AE528,\"\")","v":""},null,0,"[6]"]
[{"$f":"$A$31","v":"ft-Nazuschlag"},{"$f":"IF(B530=Labels!$B$118,SUM(B527,B529),\"\")","v":""},{"$f":"IF(C530=Labels!$B$118,SUM(C527,C529),\"\")","v":""},{"$f":"IF(D530=Labels!$B$118,SUM(D527,D529),\"\")","v":""},{"$f":"IF(E530=Labels!$B$118,SUM(E527,E529),\"\")","v":""},{"$f":"IF(F530=Labels!$B$118,SUM(F527,F529),\"\")","v":""},{"$f":"IF(G530=Labels!$B$118,SUM(G527,G529),\"\")","v":""},{"$f":"IF(H530=Labels!$B$118,SUM(H527,H529),\"\")","v":""},{"$f":"IF(I530=Labels!$B$118,SUM(I527,I529),\"\")","v":""},{"$f":"IF(J530=Labels!$B$118,SUM(J527,J529),\"\")","v":""},{"$f":"IF(K530=Labels!$B$118,SUM(K527,K529),\"\")","v":""},{"$f":"IF(L530=Labels!$B$118,SUM(L527,L529),\"\")","v":""},{"$f":"IF(M530=Labels!$B$118,SUM(M527,M529),\"\")","v":""},{"$f":"IF(N530=Labels!$B$118,SUM(N527,N529),\"\")","v":""},{"$f":"IF(O530=Labels!$B$118,SUM(O527,O529),\"\")","v":""},{"$f":"IF(P530=Labels!$B$118,SUM(P527,P529),\"\")","v":""},{"$f":"IF(Q530=Labels!$B$118,SUM(Q527,Q529),\"\")","v":""},{"$f":"IF(R530=Labels!$B$118,SUM(R527,R529),\"\")","v":""},{"$f":"IF(S530=Labels!$B$118,SUM(S527,S529),\"\")","v":""},{"$f":"IF(T530=Labels!$B$118,SUM(T527,T529),\"\")","v":""},{"$f":"IF(U530=Labels!$B$118,SUM(U527,U529),\"\")","v":""},{"$f":"IF(V530=Labels!$B$118,SUM(V527,V529),\"\")","v":""},{"$f":"IF(W530=Labels!$B$118,SUM(W527,W529),\"\")","v":""},{"$f":"IF(X530=Labels!$B$118,SUM(X527,X529),\"\")","v":""},{"$f":"IF(Y530=Labels!$B$118,SUM(Y527,Y529),\"\")","v":""},{"$f":"IF(Z530=Labels!$B$118,SUM(Z527,Z529),\"\")","v":""},{"$f":"IF(AA530=Labels!$B$118,SUM(AA527,AA529),\"\")","v":""},{"$f":"IF(AB530=Labels!$B$118,SUM(AB527,AB529),\"\")","v":""},{"$f":"IF(AC530=Labels!$B$118,SUM(AC527,AC529),\"\")","v":""},{"$f":"IF(AD530=Labels!$B$118,SUM(AD527,AD529),\"\")","v":""},{"$f":"IF(AE530=Labels!$B$118,SUM(AE527,AE529),\"\")","v":""},null,{"$f":"AG527","v":0},"[7]"]
[{"$f":"$A$32","v":"Zuschlag  blind (Wochentotal)"},{"$f":"IF(OR(ISTEXT(B536),B536=\"\",B536<$B$7),\"\",ROUND(((B536-$B$7)*25%)/25,4)*25)","v":""},{"$f":"IF(OR(ISTEXT(C536),C536=\"\",C536<$B$7),\"\",ROUND(((C536-$B$7)*25%)/25,4)*25)","v":""},"","","","","","","","","","","","","","","","","","","","","","","","","","","","",null,{"$f":"SUM(AG526+AG528)","v":0},"[8]"]
[null,{"$f":"$B$33","v":"1)   25% Zeitzuschlag für Überschreitung Wochentotal"},null,null,null,null,null,null,null,null,null,{"$f":"$L$33","v":"2) 100% Zeitzuschlag für Nachtarbeit"},null,null,null,null,null,null,null,{"$f":"$T$33","v":"Eingabe der ausbezahlten Stunden Vorjahressaldo"},null,null,null,null,null,null,null,null,null,null,null,null,{"$f":"SUM(AG526:AG528)","v":0},"[9]"]
[null,{"$f":"$B$34","v":"3) 100% Zeitzuschlag für Sonn- und Feiertagsarbeit"},null,null,null,null,null,null,null,null,null,null,null,null,null,null,null,null,null,{"$f":"$T$34","v":"Eingabe der ausbezahlten Stunden laufendes Jahr (Überstunden)"},null,null,null,null,null,null,null,null,null,null,null,null,{"$f":"SUM(AG524+AG530)","v":0},"[10]"]
[{"$f":"$A$35","v":"Bemerkungen"},null,null,null,null,null,null,null,null,null,null,null,null,null,null,null,null,null,null,null,null,null,null,null,null,null,null,null,null,null,null,null,{"$f":"SUM(AG524:AG538)","v":0},"[11]"]
[null,null,null,null,null,null,null,null,null,null,null,null,null,null,null,null,null,null,null,null,null,null,null,null,null,null,null,null,null,null,null,null,{"$f":"AG523","v":176}]
[null,null,null,null,null,null,null,null,null,null,null,null,null,null,null,null,null,null,null,null,null,null,null,null,null,null,null,null,null,null,null,null,{"$f":"SUM(AG547-AG523)","v":-176}]
[]
[{"$f":"$A$39","v":"Zusammenstellung"},null,null,null,null,null,{"$f":"$G$39","v":"Jan"},null,{"$f":"$I$39","v":"Feb"},null,{"$f":"$K$39","v":"Mrz"},null,{"$f":"$M$39","v":"Apr"},null,{"$f":"$O$39","v":"Mai"},null,{"$f":"$Q$39","v":"Jun"},null,{"$f":"$S$39","v":"Jul"},null,{"$f":"$U$39","v":"Aug"},null,{"$f":"$W$39","v":"Sep"},null,{"$f":"$Y$39","v":"Okt"},null,{"$f":"$AA$39","v":"Nov"},null,{"$f":"$AC$39","v":"Dez"},null,{"$f":"$AE$39","v":"Jahr"}]
[{"$f":"$A$40","v":"Anstellung %"},null,null,null,null,null,{"$f":"IF($B$4=0,0,$B$4)","v":100},null,{"$f":"IF($B$71=0,0,$B$71)","v":100},null,{"$f":"IF($B$135=0,0,$B$135)","v":100},null,{"$f":"IF($B$199=0,0,$B$199)","v":100},null,{"$f":"IF($B$263=0,0,$B$263)","v":100},null,{"$f":"IF($B$327=0,0,$B$327)","v":100},null,{"$f":"IF($B$391=0,0,$B$391)","v":100},null,{"$f":"IF($B$455=0,0,$B$455)","v":100},null,{"$f":"IF($B$519=0,0,$B$519)","v":100},null,{"$f":"IF($B$583=0,0,$B$583)","v":100},null,{"$f":"IF($B$647=0,0,$B$647)","v":100},null,{"$f":"IF($B$711=0,0,$B$711)","v":100}]
[{"$f":"$A$41","v":"Sollstunden gemäss GAV"},null,null,null,null,null,{"$f":"IF($AG$37=0,0,$AG$37)","v":168},null,{"$f":"IF($AG$100=0,0,$AG$100)","v":160},null,{"$f":"IF($AG$139=0,0,$AG$139)","v":184},null,{"$f":"IF($AG$228=0,0,$AG$228)","v":168},null,{"$f":"IF($AG$292=0,0,$AG$292)","v":176},null,{"$f":"IF($AG$356=0,0,$AG$356)","v":176},null,{"$f":"IF($AG$420=0,0,$AG$420)","v":168},null,{"$f":"IF($AG$484=0,0,$AG$484)","v":184},null,{"$f":"IF($AG$548=0,0,$AG$548)","v":176},null,{"$f":"IF($AG$612=0,0,$AG$612)","v":168},null,{"$f":"IF($AG$676=0,0,$AG$676)","v":176},null,{"$f":"IF($AG$740=0,0,$AG$740)","v":176},null,{"$f":"SUM(G553:AD553)","v":2080}]
[{"$f":"$A$42","v":"Produktive Stunden"},{"$f":"$B$42","v":"06.00 - 20.00 Uhr"},null,null,null,null,{"$f":"IF($AG$32=0,0,$AG$32)","v":0},null,{"$f":"IF($AG$95=0,0,$AG$95)","v":0},null,{"$f":"IF($AG$159=0,0,$AG$159)","v":0},null,{"$f":"IF($AG$223=0,0,$AG$223)","v":0},null,{"$f":"IF($AG$287=0,0,$AG$287)","v":0},null,{"$f":"IF($AG$351=0,0,$AG$351)","v":0},null,{"$f":"IF($AG$415=0,0,$AG$415)","v":0},null,{"$f":"IF($AG$479=0,0,$AG$479)","v":0},null,{"$f":"IF($AG$543=0,0,$AG$543)","v":0},null,{"$f":"IF($AG$607=0,0,$AG$607)","v":0},null,{"$f":"IF($AG$671=0,0,$AG$671)","v":0},null,{"$f":"IF($AG$735=0,0,$AG$735)","v":0},null,{"$f":"SUM(G554:AD554)","v":0}]
[null,{"$f":"$B$43","v":"Nacht-, Sonn-, Feiertagsarbeit"},null,null,null,null,{"$f":"IF($AG$33=0,0,$AG$33)","v":0},null,{"$f":"IF($AG$96=0,0,$AG$96)","v":0},null,{"$f":"IF($AG$160=0,0,$AG$160)","v":0},null,{"$f":"IF($AG$224=0,0,$AG$224)","v":0},null,{"$f":"IF($AG$288=0,0,$AG$288)","v":0},null,{"$f":"IF($AG$352=0,0,$AG$352)","v":0},null,{"$f":"IF($AG$416=0,0,$AG$416)","v":0},null,{"$f":"IF($AG$480=0,0,$AG$480)","v":0},null,{"$f":"IF($AG$544=0,0,$AG$544)","v":0},null,{"$f":"IF($AG$608=0,0,$AG$608)","v":0},null,{"$f":"IF($AG$672=0,0,$AG$672)","v":0},null,{"$f":"IF($AG$736=0,0,$AG$736)","v":0},null,{"$f":"SUM(G555:AD555)","v":0}]
[{"$f":"$A$44","v":"Zeitzuschläge"},{"$f":"$B$44","v":"aus Wochentotal"},null,null,null,null,{"$f":"IF($AG$25=0,0,$AG$25)","v":0},null,{"$f":"IF($AG$88=0,0,$AG$88)","v":0},null,{"$f":"IF($AG$152=0,0,$AG$152)","v":0},null,{"$f":"IF($AG$216=0,0,$AG$216)","v":0},null,{"$f":"IF($AG$280=0,0,$AG$280)","v":0},null,{"$f":"IF($AG$344=0,0,$AG$344)","v":0},null,{"$f":"IF($AG$408=0,0,$AG$408)","v":0},null,{"$f":"IF($AG$472=0,0,$AG$472)","v":0},null,{"$f":"IF($AG$536=0,0,$AG$536)","v":0},null,{"$f":"IF($AG$600=0,0,$AG$600)","v":0},null,{"$f":"IF($AG$664=0,0,$AG$664)","v":0},null,{"$f":"IF($AG$728=0,0,$AG$728)","v":0},null,{"$f":"SUM(G556:AD556)","v":0}]
[null,{"$f":"$B$45","v":"aus Nacht-, Sonn-, Feiertagsarbeiten"},null,null,null,null,{"$f":"IF($AJ$21=0,0,$AJ$21)","v":0},null,{"$f":"IF($AK$21=0,0,$AK$21)","v":0},null,{"$f":"IF($AL$21=0,0,$AL$21)","v":0},null,{"$f":"IF($AM$21=0,0,$AM$21)","v":0},null,{"$f":"IF($AN$21=0,0,$AN$21)","v":0},null,{"$f":"IF($AO$21=0,0,$AO$21)","v":0},null,{"$f":"IF($AP$21=0,0,$AP$21)","v":0},null,{"$f":"IF($AQ$21=0,0,$AQ$21)","v":0},null,{"$f":"IF($AR$21=0,0,$AR$21)","v":0},null,{"$f":"IF($AS$21=0,0,$AS$21)","v":0},null,{"$f":"IF($AT$21=0,0,$AT$21)","v":0},null,{"$f":"IF($AU$21=0,0,$AU$21)","v":0},null,{"$f":"SUM(G557:AD557)","v":0}]
[{"$f":"$A$46","v":"Unproduktive Stunden"}]
[{"$f":"$A$47","v":"   Absenzen, Kurzabsenzen Art. 11 GAV"},null,null,null,null,{"$f":"$F$47","v":"a"},{"$f":"IF($AJ$3=0,0,$AJ$3)","v":0},null,{"$f":"IF($AK$3=0,0,$AK$3)","v":0},null,{"$f":"IF($AL$3=0,0,$AL$3)","v":0},null,{"$f":"IF($AM$3=0,0,$AM$3)","v":0},null,{"$f":"IF($AN$3=0,0,$AN$3)","v":0},null,{"$f":"IF($AO$3=0,0,$AO$3)","v":0},null,{"$f":"IF($AP$3=0,0,$AP$3)","v":0},null,{"$f":"IF($AQ$3=0,0,$AQ$3)","v":0},null,{"$f":"IF($AR$3=0,0,$AR$3)","v":0},null,{"$f":"IF($AS$3=0,0,$AS$3)","v":0},null,{"$f":"IF(AT$3=0,0,$AT$3)","v":0},null,{"$f":"IF($AU$3=0,0,$AU$3)","v":0},null,{"$f":"IF($AV$3=0,0,$AV$3)","v":0}]
[{"$f":"$A$48","v":"   Ferien Art. 12.1 GAV"},null,null,null,null,{"$f":"$F$48","v":"f"},{"$f":"IF($AJ$4=0,0,$AJ$4)","v":0},null,{"$f":"IF($AK$4=0,0,$AK$4)","v":0},null,{"$f":"IF($AL$4=0,0,$AL$4)","v":0},null,{"$f":"IF($AM$4=0,0,$AM$4)","v":0},null,{"$f":"IF($AN$4=0,0,$AN$4)","v":0},null,{"$f":"IF($AO$4=0,0,$AO$4)","v":0},null,{"$f":"IF($AP$4=0,0,$AP$4)","v":0},null,{"$f":"IF($AQ$4=0,0,$AQ$4)","v":0},null,{"$f":"IF($AR$4=0,0,$AR$4)","v":0},null,{"$f":"IF($AS$4=0,0,$AS$4)","v":0},null,{"$f":"IF($AT$4=0,0,$AT$4)","v":0},null,{"$f":"IF($AU$4=0,0,$AU$4)","v":0},null,{"$f":"IF($AV$4=0,0,$AV$4)","v":0}]
[{"$f":"Labels!$B$181","v":"   Ferien unbezahlt"},null,null,null,null,{"$f":"Labels!$B$182","v":"fu"},{"$f":"IF($AJ$13=0,0,$AJ$13)","v":0},null,{"$f":"IF($AK$13=0,0,$AK$13)","v":0},null,{"$f":"IF($AL$13=0,0,$AL$13)","v":0},null,{"$f":"IF($AM$13=0,0,$AM$13)","v":0},null,{"$f":"IF($AN$13=0,0,$AN$13)","v":0},null,{"$f":"IF($AO$13=0,0,$AO$13)","v":0},null,{"$f":"IF($AP$13=0,0,$AP$13)","v":0},null,{"$f":"IF($AQ$13=0,0,$AQ$13)","v":0},null,{"$f":"IF($AR$13=0,0,$AR$13)","v":0},null,{"$f":"IF($AS$13=0,0,$AS$13)","v":0},null,{"$f":"IF($AT$13=0,0,$AT$13)","v":0},null,{"$f":"IF($AU$13=0,0,$AU$13)","v":0},null,{"$f":"IF($AV$13=0,0,$AV$13)","v":0}]
[{"$f":"$A$50","v":"   Feiertage Art. 12.2 GAV"},null,{"$f":"IF($AJ$18=\"\",\"\",$AJ$18)","v":""},null,null,{"$f":"$F$50","v":"ft"},{"$f":"IF($AJ$16=0,0,$AJ$16)","v":0},null,{"$f":"IF($AK$16=0,0,$AK$16)","v":0},null,{"$f":"IF($AL$16=0,0,$AL$16)","v":0},null,{"$f":"IF($AM$16=0,0,$AM$16)","v":0},null,{"$f":"IF($AN$16=0,0,$AN$16)","v":0},null,{"$f":"IF($AO$16=0,0,$AO$16)","v":0},null,{"$f":"IF($AP$16=0,0,$AP$16)","v":0},null,{"$f":"IF($AQ$16=0,0,$AQ$16)","v":0},null,{"$f":"IF($AR$16=0,0,$AR$16)","v":0},null,{"$f":"IF($AS$16=0,0,$AS$16)","v":0},null,{"$f":"IF($AT$16=0,0,$AT$16)","v":0},null,{"$f":"IF($AU$16=0,0,$AU$16)","v":0},null,{"$f":"IF($AV$16=0,0,$AV$16)","v":0}]
[{"$f":"$A$51","v":"   Krankheit Art. 13 GAV"},null,null,null,null,{"$f":"$F$51","v":"k"},{"$f":"IF($AJ$5=0,0,$AJ$5)","v":0},null,{"$f":"IF($AK$5=0,0,$AK$5)","v":0},null,{"$f":"IF($AL$5=0,0,$AL$5)","v":0},null,{"$f":"IF($AM$5=0,0,$AM$5)","v":0},null,{"$f":"IF($AN$5=0,0,$AN$5)","v":0},null,{"$f":"IF($AO$5=0,0,$AO$5)","v":0},null,{"$f":"IF($AP$5=0,0,$AP$5)","v":0},null,{"$f":"IF($AQ$5=0,0,$AQ$5)","v":0},null,{"$f":"IF($AR$5=0,0,$AR$5)","v":0},null,{"$f":"IF($AS$5=0,0,$AS$5)","v":0},null,{"$f":"IF($AT$5=0,0,$AT$5)","v":0},null,{"$f":"IF($AU$5=0,0,$AU$5)","v":0},null,{"$f":"IF($AV$5=0,0,$AV$5)","v":0}]
[{"$f":"$A$52","v":"   Unfall Art. 14 GAV"},null,null,null,null,{"$f":"$F$52","v":"u"},{"$f":"IF($AJ$6=0,0,$AJ$6)","v":0},null,{"$f":"IF($AK$6=0,0,$AK$6)","v":0},null,{"$f":"IF($AL$6=0,0,$AL$6)","v":0},null,{"$f":"IF($AM$6=0,0,$AM$6)","v":0},null,{"$f":"IF($AN$6=0,0,$AN$6)","v":0},null,{"$f":"IF($AO$6=0,0,$AO$6)","v":0},null,{"$f":"IF($AP$6=0,0,$AP$6)","v":0},null,{"$f":"IF($AQ$6=0,0,$AQ$6)","v":0},null,{"$f":"IF($AR$6=0,0,$AR$6)","v":0},null,{"$f":"IF($AS$6=0,0,$AS$6)","v":0},null,{"$f":"IF($AT$6=0,0,$AT$6)","v":0},null,{"$f":"IF($AU$6=0,0,$AU$6)","v":0},null,{"$f":"IF($AV$6=0,0,$AV$6)","v":0}]
[{"$f":"$A$53","v":"   Schwangerschaft/Mutterschaft Art. 15 GAV"},null,null,null,null,{"$f":"$F$53","v":"s"},{"$f":"IF($AJ$7=0,0,$AJ$7)","v":0},null,{"$f":"IF($AK$7=0,0,$AK$7)","v":0},null,{"$f":"IF($AL$7=0,0,$AL$7)","v":0},null,{"$f":"IF($AM$7=0,0,$AM$7)","v":0},null,{"$f":"IF($AN$7=0,0,$AN$7)","v":0},null,{"$f":"IF($AO$7=0,0,$AO$7)","v":0},null,{"$f":"IF($AP$7=0,0,$AP$7)","v":0},null,{"$f":"IF($AQ$7=0,0,$AQ$7)","v":0},null,{"$f":"IF($AR$7=0,0,$AR$7)","v":0},null,{"$f":"IF($AS$7=0,0,$AS$7)","v":0},null,{"$f":"IF($AT$7=0,0,$AT$7)","v":0},null,{"$f":"IF($AU$7=0,0,$AU$7)","v":0},null,{"$f":"IF($AV$7=0,0,$AV$7)","v":0}]
[{"$f":"$A$54","v":"   Militär/Beförderung/Zivilschutz Art. 16 GAV"},null,null,null,null,{"$f":"$F$54","v":"m"},{"$f":"IF($AJ$8=0,0,$AJ$8)","v":0},null,{"$f":"IF($AK$8=0,0,$AK$8)","v":0},null,{"$f":"IF($AL$8=0,0,$AL$8)","v":0},null,{"$f":"IF($AM$8=0,0,$AM$8)","v":0},null,{"$f":"IF($AN$8=0,0,$AN$8)","v":0},null,{"$f":"IF($AO$8=0,0,$AO$8)","v":0},null,{"$f":"IF($AP$8=0,0,$AP$8)","v":0},null,{"$f":"IF($AQ$8=0,0,$AQ$8)","v":0},null,{"$f":"IF($AR$8=0,0,$AR$8)","v":0},null,{"$f":"IF($AS$8=0,0,$AS$8)","v":0},null,{"$f":"IF($AT$8=0,0,$AT$8)","v":0},null,{"$f":"IF($AU$8=0,0,$AU$8)","v":0},null,{"$f":"IF($AV$8=0,0,$AV$8)","v":0}]
[{"$f":"$A$55","v":"   Kurzarbeit und Schlechtwetterausfälle"},null,null,null,null,{"$f":"$F$55","v":"ka"},{"$f":"IF($AJ$11=0,0,$AJ$11)","v":0},null,{"$f":"IF($AK$11=0,0,$AK$11)","v":0},null,{"$f":"IF($AL$11=0,0,$AL$11)","v":0},null,{"$f":"IF($AM$11=0,0,$AM$11)","v":0},null,{"$f":"IF($AN$11=0,0,$AN$11)","v":0},null,{"$f":"IF($AO$11=0,0,$AO$11)","v":0},null,{"$f":"IF($AP$11=0,0,$AP$11)","v":0},null,{"$f":"IF($AQ$11=0,0,$AQ$11)","v":0},null,{"$f":"IF($AR$11=0,0,$AR$11)","v":0},null,{"$f":"IF($AS$11=0,0,$AS$11)","v":0},null,{"$f":"IF($AT$11=0,0,$AT$11)","v":0},null,{"$f":"IF($AU$11=0,0,$AU$11)","v":0},null,{"$f":"IF($AV$11=0,0,$AV$11)","v":0}]
[{"$f":"$A$56","v":"   Berufsschule"},null,null,null,null,{"$f":"$F$56","v":"bs"},{"$f":"IF($AJ$9=0,0,$AJ$9)","v":0},null,{"$f":"IF($AK$9=0,0,$AK$9)","v":0},null,{"$f":"IF($AL$9=0,0,$AL$9)","v":0},null,{"$f":"IF($AM$9=0,0,$AM$9)","v":0},null,{"$f":"IF($AN$9=0,0,$AN$9)","v":0},null,{"$f":"IF($AO$9=0,0,$AO$9)","v":0},null,{"$f":"IF($AP$9=0,0,$AP$9)","v":0},null,{"$f":"IF($AQ$9=0,0,$AQ$9)","v":0},null,{"$f":"IF($AR$9=0,0,$AR$9)","v":0},null,{"$f":"IF($AS$9=0,0,$AS$9)","v":0},null,{"$f":"IF($AT$9=0,0,$AT$9)","v":0},null,{"$f":"IF($AU$9=0,0,$AU$9)","v":0},null,{"$f":"IF($AV$9=0,0,$AV$9)","v":0}]
[{"$f":"$A$57","v":"   Kurse"},null,null,null,null,{"$f":"$F$57","v":"ku"},{"$f":"IF($AJ$10=0,0,$AJ$10)","v":0},null,{"$f":"IF($AK$10=0,0,$AK$10)","v":0},null,{"$f":"IF($AL$10=0,0,$AL$10)","v":0},null,{"$f":"IF($AM$10=0,0,$AM$10)","v":0},null,{"$f":"IF($AN$10=0,0,$AN$10)","v":0},null,{"$f":"IF($AO$10=0,0,$AO$10)","v":0},null,{"$f":"IF($AP$10=0,0,$AP$10)","v":0},null,{"$f":"IF($AQ$10=0,0,$AQ$10)","v":0},null,{"$f":"IF($AR$10=0,0,$AR$10)","v":0},null,{"$f":"IF($AS$10=0,0,$AS$10)","v":0},null,{"$f":"IF($AT$10=0,0,$AT$10)","v":0},null,{"$f":"IF($AU$10=0,0,$AU$10)","v":0},null,{"$f":"IF($AV$10=0,0,$AV$10)","v":0}]
[{"$f":"$A$58","v":"Kompensations-Std"},{"$f":"$B$58","v":"aus Vorjahr"},null,null,null,{"$f":"$F$58","v":"kv"},{"$f":"IF($AJ$12=0,0,$AJ$12)","v":0},null,{"$f":"IF($AK$12=0,0,$AK$12)","v":0},null,{"$f":"IF($AL$12=0,0,$AL$12)","v":0},null,{"$f":"IF($AM$12=0,0,$AM$12)","v":0},null,{"$f":"IF($AN$12=0,0,$AN$12)","v":0},null,{"$f":"IF($AO$12=0,0,$AO$12)","v":0},null,{"$f":"IF($AP$12=0,0,$AP$12)","v":0},null,{"$f":"IF($AQ$12=0,0,$AQ$12)","v":0},null,{"$f":"IF($AR$12=0,0,$AR$12)","v":0},null,null,null,null,null,null,null,{"$f":"IF($AV$12=0,0,$AV$12)","v":0}]
[null,{"$f":"$B$59","v":"aus laufendem Jahr (Kontrolle)"},null,null,null,{"$f":"$F$59","v":"kj"},{"$f":"IF($AJ$15=0,0,$AJ$15)","v":0},null,{"$f":"IF($AK$15=0,0,$AK$15)","v":0},null,{"$f":"IF($AL$15=0,0,$AL$15)","v":0},null,{"$f":"IF($AM$15=0,0,$AM$15)","v":0},null,{"$f":"IF($AN$15=0,0,$AN$15)","v":0},null,{"$f":"IF($AO$15=0,0,$AO$15)","v":0},null,{"$f":"IF($AP$15=0,0,$AP$15)","v":0},null,{"$f":"IF($AQ$15=0,0,$AQ$15)","v":0},null,{"$f":"IF($AR$15=0,0,$AR$15)","v":0},null,{"$f":"IF($AS$15=0,0,$AS$15)","v":0},null,{"$f":"IF($AT$15=0,0,$AT$15)","v":0},null,{"$f":"IF($AU$15=0,0,$AU$15)","v":0},null,{"$f":"IF($AV$15=0,0,$AV$15)","v":0}]
[{"$f":"$A$60","v":"Auszahlung"},{"$f":"$B$60","v":"Stunden Vorjahressaldo"},null,null,null,null,{"$f":"IF($AJ$19=0,0,$AJ$19)","v":0},null,{"$f":"IF($AK$19=0,0,$AK$19)","v":0},null,{"$f":"IF($AL$19=0,0,$AL$19)","v":0},null,{"$f":"IF($AM$19=0,0,$AM$19)","v":0},null,{"$f":"IF($AN$19=0,0,$AN$19)","v":0},null,{"$f":"IF($AO$19=0,0,$AO$19)","v":0},null,{"$f":"IF($AP$19=0,0,$AP$19)","v":0},null,{"$f":"IF($AQ$19=0,0,$AQ$19)","v":0},null,{"$f":"IF($AR$19=0,0,$AR$19)","v":0},null,null,null,null,null,null,null,{"$f":"IF($AV$19=0,0,$AV$19)","v":0}]
[{"$f":"$A$61","v":"Differenz"},{"$f":"$B$61","v":"nach Kompensation und Auszahlung"},null,null,null,null,{"$f":"IF(ROUND($P$4,3)=0,0,$P$4-SUM(G570+G572))","v":0},null,{"$f":"IF(ROUND(G573,3)=0,0,G573-(SUM(I572+I570)))","v":0},null,{"$f":"IF(ROUND(I573,3)=0,0,I573-(SUM(K572+K570)))","v":0},null,{"$f":"IF(ROUND(K573,3)=0,0,K573-(SUM(M572+M570)))","v":0},null,{"$f":"IF(ROUND(M573,3)=0,0,M573-(SUM(O572+O570)))","v":0},null,{"$f":"IF(ROUND(O573,3)=0,0,O573-(SUM(Q572+Q570)))","v":0},null,{"$f":"IF(ROUND(Q573,3)=0,0,Q573-(SUM(S572+S570)))","v":0},null,{"$f":"IF(ROUND(S573,3)=0,0,S573-(SUM(U572+U570)))","v":0},null,{"$f":"IF(U573=0,0,U573-(SUM(W572+W570)))","v":0},null,{"$f":"$Y$61","v":""}]
[{"$f":"$A$62","v":"Auszahlung"},{"$f":"$B$62","v":"Stunden laufendes Jahr"},null,null,null,null,{"$f":"IF($AJ$20=0,0,$AJ$20)","v":0},null,{"$f":"IF($AK$20=0,0,$AK$20)","v":0},null,{"$f":"IF($AL$20=0,0,$AL$20)","v":0},null,{"$f":"IF($AM$20=0,0,$AM$20)","v":0},null,{"$f":"IF($AN$20=0,0,$AN$20)","v":0},null,{"$f":"IF($AO$20=0,0,$AO$20)","v":0},null,{"$f":"IF($AP$20=0,0,$AP$20)","v":0},null,{"$f":"IF($AQ$20=0,0,$AQ$20)","v":0},null,{"$f":"IF($AR$20=0,0,$AR$20)","v":0},null,{"$f":"IF($AS$20=0,0,$AS$20)","v":0},null,{"$f":"IF($AT$20=0,0,$AT$20)","v":0},null,{"$f":"IF($AU$20=0,0,$AU$20)","v":0},null,{"$f":"IF($AV$20=0,0,$AV$20)","v":0}]
[{"$f":"$A$63","v":"Fehlstunden"},{"$f":"$B$63","v":"laufendes Jahr (Kontrolle)"},null,null,null,{"$f":"$F$63","v":"fe"},{"$f":"IF($AJ$14=0,0,$AJ$14)","v":0},null,{"$f":"IF($AK$14=0,0,$AK$14)","v":0},null,{"$f":"IF($AL$14=0,0,$AL$14)","v":0},null,{"$f":"IF($AM$14=0,0,$AM$14)","v":0},null,{"$f":"IF($AN$14=0,0,$AN$14)","v":0},null,{"$f":"IF($AO$14=0,0,$AO$14)","v":0},null,{"$f":"IF($AP$14=0,0,$AP$14)","v":0},null,{"$f":"IF($AQ$14=0,0,$AQ$14)","v":0},null,{"$f":"IF($AR$14=0,0,$AR$14)","v":0},null,{"$f":"IF($AS$14=0,0,$AS$14)","v":0},null,{"$f":"IF($AT$14=0,0,$AT$14)","v":0},null,{"$f":"IF($AU$14=0,0,$AU$14)","v":0},null,{"$f":"IF($AV$14=0,0,$AV$14)","v":0}]
[{"$f":"$A$64","v":"Total inkl. Zeitzuschläge"},{"$f":"$B$64","v":"Stunden produktiv und unproduktiv"},null,null,null,null,{"$f":"IF($AG$36=0,0,$AG$36)","v":0},null,{"$f":"IF($AG$99=0,0,$AG$99)","v":0},null,{"$f":"IF($AG$163=0,0,$AG$163)","v":0},null,{"$f":"IF($AG$227=0,0,$AG$227)","v":0},null,{"$f":"IF($AG$291=0,0,$AG$291)","v":0},null,{"$f":"IF($AG$355=0,0,$AG$355)","v":0},null,{"$f":"IF($AG$419=0,0,$AG$419)","v":0},null,{"$f":"IF($AG$483=0,0,$AG$483)","v":0},null,{"$f":"IF($AG$547=0,0,$AG$547)","v":0},null,{"$f":"IF($AG$611=0,0,$AG$611)","v":0},null,{"$f":"IF($AG$675=0,0,$AG$675)","v":0},null,{"$f":"IF($AG$739=0,0,$AG$739)","v":0},null,{"$f":"SUM($G$64:$AD$64)","v":0}]
[{"$f":"$A$65","v":"Vergleich"},{"$f":"$B$65","v":"Stunden zu Soll-Stunden (inkl. allfälli-\nge Minusstunden Vorjahr)"},null,null,null,null,{"$f":"$G$65","v":-168},null,{"$f":"$I$65","v":-160},null,{"$f":"$K$65","v":-184},null,{"$f":"$M$65","v":-168},null,{"$f":"$O$65","v":-176},null,{"$f":"$Q$65","v":-176},null,{"$f":"$S$65","v":-168},null,{"$f":"$U$65","v":-184},null,{"$f":"$W$65","v":-176},null,{"$f":"$Y$65","v":-168},null,{"$f":"$AA$65","v":-176},null,{"$f":"$AC$65","v":-176},null,{"$f":"$AE$65","v":-2080}]
[null,{"$f":"$B$66","v":"Stunden zu Soll-Stunden (kumuliert)"},null,null,null,null,{"$f":"$G$66","v":-168},null,{"$f":"$I$66","v":-328},null,{"$f":"$K$66","v":-512},null,{"$f":"$M$66","v":-680},null,{"$f":"$O$66","v":-856},null,{"$f":"$Q$66","v":-1032},null,{"$f":"$S$66","v":-1200},null,{"$f":"$U$66","v":-1384},null,{"$f":"$W$66","v":-1560},null,{"$f":"$Y$66","v":-1728},null,{"$f":"$AA$66","v":-1904},null,{"$f":"$AC$66","v":-2080},null,{"$f":"$AE$66","v":0}]
[{"$f":"$A$67","v":"Ferienkontrolle"},{"$f":"$B$67","v":"Ferienguthaben Vorjahr"},null,null,null,null,{"$f":"IF($AA$4=0,0,$AA$4)","v":0},null,{"$f":"$I$67","v":"Ferienguthaben nach \nArt. 12.1 GAV"},null,null,null,{"$f":"IF($AA$5=0,0,$AA$5)","v":0},null,{"$f":"$O$67","v":"Ferienguthaben total"},null,null,null,{"$f":"SUM(G579+M579)","v":0},null,{"$f":"$U$67","v":"Ferien bezogen"},null,null,null,{"$f":"IF($AV$4=0,0,$AV$4)","v":0},null,{"$f":"$AA$67","v":"Aktuelles Ferienguthaben"},null,null,null,{"$f":"IF(S579=0,0,S579-Y579)","v":0}]
[]
[]
[{"$f":"$A$3","v":"Mitarbeiter/In"},{"$f":"IF($B$3=\"\",\"\",$B$3)","v":"Muster Peter"},null,null,null,null,null,null,null,null,null,null,null,null,null,null,null,null,null,null,null,null,null,null,null,null,null,null,null,null,null,{"$f":"AF3","v":0}]
[{"$f":"$A$4","v":"Anstellung %"},{"$f":"$AL$53","v":100},null,{"$f":"Labels!B98","v":"im Oktober"}]
[{"$f":"$A$5","v":"Saldo für das Jahr"},null,null,{"$f":"IF($AE$65=0,0,$AE$65)","v":-2080}]
[{"$f":"TEXT(DATE(YEAR(AP29),MONTH(AP29)+9,1),\"MMMM\"&Labels!B13)","v":"Oktober"},{"$f":"$B$9","v":"Saldo Monat + / -"},null,null,null,{"$f":"(AG587-(SUM(AG588:AG602)-AE610))*-1","v":-168},null,null,null,null,{"$f":"$K$9","v":" = "},{"$f":"$L$9","v":"Gelbe Felder müssen ausgefüllt werden (die übrigen werden automatisch berechnet)"},null,null,null,null,null,null,null,null,null,null,null,null,null,null,null,null,null,null,null,null,{"$f":"COUNT(B588:AF588)&\" \"&Labels!$B$63","v":"21 Tage"}]
[{"$f":"$A$10","v":"Tag"},{"$f":"AE522+1","v":"2022-10-01"},{"$f":"B586+1","v":"2022-10-02"},{"$f":"C586+1","v":"2022-10-03"},"2022-10-04","2022-10-05","2022-10-06","2022-10-07","2022-10-08","2022-10-09","2022-10-10","2022-10-11","2022-10-12","2022-10-13","2022-10-14","2022-10-15","2022-10-16","2022-10-17","2022-10-18","2022-10-19","2022-10-20","2022-10-21","2022-10-22","2022-10-23","2022-10-24","2022-10-25","2022-10-26","2022-10-27","2022-10-28","2022-10-29","2022-10-30","2022-10-31"]
[{"$f":"$A$11","v":"Kalenderwoche"},{"$f":"IF(B586=\"\",\"\",TRUNC((B586-DATE(YEAR(B586+3-MOD(B586-2,7)),1,MOD(B586-2,7)-9))/7))","v":39},39,40,40,40,40,40,40,40,41,41,41,41,41,41,41,42,42,42,42,42,42,42,43,43,43,43,43,43,43,44,{"$f":"SUM(B588:AF588)","v":168}]
[{"$f":"$A$12","v":"Sollstunden"},{"$f":"IF(AND(MOD(B586,7)>=2,SUMPRODUCT(($AM$56:$AQ$56=MOD(B586,7))*$AM$53:$AQ$53)),($J$7*5/$AR$53)*$B$583%,\"\")","v":""},{"$f":"IF(AND(MOD(C586,7)>=2,SUMPRODUCT(($AM$56:$AQ$56=MOD(C586,7))*$AM$53:$AQ$53)),($J$7*5/$AR$53)*$B$583%,\"\")","v":""},{"$f":"IF(AND(MOD(D586,7)>=2,SUMPRODUCT(($AM$56:$AQ$56=MOD(D586,7))*$AM$53:$AQ$53)),($J$7*5/$AR$53)*$B$583%,\"\")","v":8},{"$f":"IF(AND(MOD(E586,7)>=2,SUMPRODUCT(($AM$56:$AQ$56=MOD(E586,7))*$AM$53:$AQ$53)),($J$7*5/$AR$53)*$B$583%,\"\")","v":8},{"$f":"IF(AND(MOD(F586,7)>=2,SUMPRODUCT(($AM$56:$AQ$56=MOD(F586,7))*$AM$53:$AQ$53)),($J$7*5/$AR$53)*$B$583%,\"\")","v":8},{"$f":"IF(AND(MOD(G586,7)>=2,SUMPRODUCT(($AM$56:$AQ$56=MOD(G586,7))*$AM$53:$AQ$53)),($J$7*5/$AR$53)*$B$583%,\"\")","v":8},{"$f":"IF(AND(MOD(H586,7)>=2,SUMPRODUCT(($AM$56:$AQ$56=MOD(H586,7))*$AM$53:$AQ$53)),($J$7*5/$AR$53)*$B$583%,\"\")","v":8},{"$f":"IF(AND(MOD(I586,7)>=2,SUMPRODUCT(($AM$56:$AQ$56=MOD(I586,7))*$AM$53:$AQ$53)),($J$7*5/$AR$53)*$B$583%,\"\")","v":""},{"$f":"IF(AND(MOD(J586,7)>=2,SUMPRODUCT(($AM$56:$AQ$56=MOD(J586,7))*$AM$53:$AQ$53)),($J$7*5/$AR$53)*$B$583%,\"\")","v":""},{"$f":"IF(AND(MOD(K586,7)>=2,SUMPRODUCT(($AM$56:$AQ$56=MOD(K586,7))*$AM$53:$AQ$53)),($J$7*5/$AR$53)*$B$583%,\"\")","v":8},{"$f":"IF(AND(MOD(L586,7)>=2,SUMPRODUCT(($AM$56:$AQ$56=MOD(L586,7))*$AM$53:$AQ$53)),($J$7*5/$AR$53)*$B$583%,\"\")","v":8},{"$f":"IF(AND(MOD(M586,7)>=2,SUMPRODUCT(($AM$56:$AQ$56=MOD(M586,7))*$AM$53:$AQ$53)),($J$7*5/$AR$53)*$B$583%,\"\")","v":8},{"$f":"IF(AND(MOD(N586,7)>=2,SUMPRODUCT(($AM$56:$AQ$56=MOD(N586,7))*$AM$53:$AQ$53)),($J$7*5/$AR$53)*$B$583%,\"\")","v":8},{"$f":"IF(AND(MOD(O586,7)>=2,SUMPRODUCT(($AM$56:$AQ$56=MOD(O586,7))*$AM$53:$AQ$53)),($J$7*5/$AR$53)*$B$583%,\"\")","v":8},{"$f":"IF(AND(MOD(P586,7)>=2,SUMPRODUCT(($AM$56:$AQ$56=MOD(P586,7))*$AM$53:$AQ$53)),($J$7*5/$AR$53)*$B$583%,\"\")","v":""},{"$f":"IF(AND(MOD(Q586,7)>=2,SUMPRODUCT(($AM$56:$AQ$56=MOD(Q586,7))*$AM$53:$AQ$53)),($J$7*5/$AR$53)*$B$583%,\"\")","v":""},{"$f":"IF(AND(MOD(R586,7)>=2,SUMPRODUCT(($AM$56:$AQ$56=MOD(R586,7))*$AM$53:$AQ$53)),($J$7*5/$AR$53)*$B$583%,\"\")","v":8},{"$f":"IF(AND(MOD(S586,7)>=2,SUMPRODUCT(($AM$56:$AQ$56=MOD(S586,7))*$AM$53:$AQ$53)),($J$7*5/$AR$53)*$B$583%,\"\")","v":8},{"$f":"IF(AND(MOD(T586,7)>=2,SUMPRODUCT(($AM$56:$AQ$56=MOD(T586,7))*$AM$53:$AQ$53)),($J$7*5/$AR$53)*$B$583%,\"\")","v":8},{"$f":"IF(AND(MOD(U586,7)>=2,SUMPRODUCT(($AM$56:$AQ$56=MOD(U586,7))*$AM$53:$AQ$53)),($J$7*5/$AR$53)*$B$583%,\"\")","v":8},{"$f":"IF(AND(MOD(V586,7)>=2,SUMPRODUCT(($AM$56:$AQ$56=MOD(V586,7))*$AM$53:$AQ$53)),($J$7*5/$AR$53)*$B$583%,\"\")","v":8},{"$f":"IF(AND(MOD(W586,7)>=2,SUMPRODUCT(($AM$56:$AQ$56=MOD(W586,7))*$AM$53:$AQ$53)),($J$7*5/$AR$53)*$B$583%,\"\")","v":""},{"$f":"IF(AND(MOD(X586,7)>=2,SUMPRODUCT(($AM$56:$AQ$56=MOD(X586,7))*$AM$53:$AQ$53)),($J$7*5/$AR$53)*$B$583%,\"\")","v":""},{"$f":"IF(AND(MOD(Y586,7)>=2,SUMPRODUCT(($AM$56:$AQ$56=MOD(Y586,7))*$AM$53:$AQ$53)),($J$7*5/$AR$53)*$B$583%,\"\")","v":8},{"$f":"IF(AND(MOD(Z586,7)>=2,SUMPRODUCT(($AM$56:$AQ$56=MOD(Z586,7))*$AM$53:$AQ$53)),($J$7*5/$AR$53)*$B$583%,\"\")","v":8},{"$f":"IF(AND(MOD(AA586,7)>=2,SUMPRODUCT(($AM$56:$AQ$56=MOD(AA586,7))*$AM$53:$AQ$53)),($J$7*5/$AR$53)*$B$583%,\"\")","v":8},{"$f":"IF(AND(MOD(AB586,7)>=2,SUMPRODUCT(($AM$56:$AQ$56=MOD(AB586,7))*$AM$53:$AQ$53)),($J$7*5/$AR$53)*$B$583%,\"\")","v":8},{"$f":"IF(AND(MOD(AC586,7)>=2,SUMPRODUCT(($AM$56:$AQ$56=MOD(AC586,7))*$AM$53:$AQ$53)),($J$7*5/$AR$53)*$B$583%,\"\")","v":8},{"$f":"IF(AND(MOD(AD586,7)>=2,SUMPRODUCT(($AM$56:$AQ$56=MOD(AD586,7))*$AM$53:$AQ$53)),($J$7*5/$AR$53)*$B$583%,\"\")","v":""},{"$f":"IF(AND(MOD(AE586,7)>=2,SUMPRODUCT(($AM$56:$AQ$56=MOD(AE586,7))*$AM$53:$AQ$53)),($J$7*5/$AR$53)*$B$583%,\"\")","v":""},{"$f":"IF(AND(MOD(AF586,7)>=2,SUMPRODUCT(($AM$56:$AQ$56=MOD(AF586,7))*$AM$53:$AQ$53)),($J$7*5/$AR$53)*$B$583%,\"\")","v":8},{"$f":"SUM(AS3:AS13)","v":0}]
[{"$f":"$A$13","v":"Absenz in Std"},{"$f":"B1038","v":0},{"$f":"C1038","v":0},0,0,0,0,0,0,0,0,0,0,0,0,0,0,0,0,0,0,0,0,0,0,0,0,0,0,0,0,0]
[{"$f":"$A$14","v":"Code"},{"$f":"IF(B1038<>0,IF(MAX(B1025:B1037)<B1038,Labels!$B$163,INDEX($AH$1024:$AH$1036,MATCH(MAX(B1025:B1037),B1025:B1037,0))),\"\")","v":""},{"$f":"IF(C1038<>0,IF(MAX(C1025:C1037)<C1038,Labels!$B$163,INDEX($AH$1024:$AH$1036,MATCH(MAX(C1025:C1037),C1025:C1037,0))),\"\")","v":""},{"$f":"IF(D1038<>0,IF(MAX(D1025:D1037)<D1038,Labels!$B$163,INDEX($AH$1024:$AH$1036,MATCH(MAX(D1025:D1037),D1025:D1037,0))),\"\")","v":""},{"$f":"IF(E1038<>0,IF(MAX(E1025:E1037)<E1038,Labels!$B$163,INDEX($AH$1024:$AH$1036,MATCH(MAX(E1025:E1037),E1025:E1037,0))),\"\")","v":""},{"$f":"IF(F1038<>0,IF(MAX(F1025:F1037)<F1038,Labels!$B$163,INDEX($AH$1024:$AH$1036,MATCH(MAX(F1025:F1037),F1025:F1037,0))),\"\")","v":""},{"$f":"IF(G1038<>0,IF(MAX(G1025:G1037)<G1038,Labels!$B$163,INDEX($AH$1024:$AH$1036,MATCH(MAX(G1025:G1037),G1025:G1037,0))),\"\")","v":""},{"$f":"IF(H1038<>0,IF(MAX(H1025:H1037)<H1038,Labels!$B$163,INDEX($AH$1024:$AH$1036,MATCH(MAX(H1025:H1037),H1025:H1037,0))),\"\")","v":""},{"$f":"IF(I1038<>0,IF(MAX(I1025:I1037)<I1038,Labels!$B$163,INDEX($AH$1024:$AH$1036,MATCH(MAX(I1025:I1037),I1025:I1037,0))),\"\")","v":""},{"$f":"IF(J1038<>0,IF(MAX(J1025:J1037)<J1038,Labels!$B$163,INDEX($AH$1024:$AH$1036,MATCH(MAX(J1025:J1037),J1025:J1037,0))),\"\")","v":""},{"$f":"IF(K1038<>0,IF(MAX(K1025:K1037)<K1038,Labels!$B$163,INDEX($AH$1024:$AH$1036,MATCH(MAX(K1025:K1037),K1025:K1037,0))),\"\")","v":""},{"$f":"IF(L1038<>0,IF(MAX(L1025:L1037)<L1038,Labels!$B$163,INDEX($AH$1024:$AH$1036,MATCH(MAX(L1025:L1037),L1025:L1037,0))),\"\")","v":""},{"$f":"IF(M1038<>0,IF(MAX(M1025:M1037)<M1038,Labels!$B$163,INDEX($AH$1024:$AH$1036,MATCH(MAX(M1025:M1037),M1025:M1037,0))),\"\")","v":""},{"$f":"IF(N1038<>0,IF(MAX(N1025:N1037)<N1038,Labels!$B$163,INDEX($AH$1024:$AH$1036,MATCH(MAX(N1025:N1037),N1025:N1037,0))),\"\")","v":""},{"$f":"IF(O1038<>0,IF(MAX(O1025:O1037)<O1038,Labels!$B$163,INDEX($AH$1024:$AH$1036,MATCH(MAX(O1025:O1037),O1025:O1037,0))),\"\")","v":""},{"$f":"IF(P1038<>0,IF(MAX(P1025:P1037)<P1038,Labels!$B$163,INDEX($AH$1024:$AH$1036,MATCH(MAX(P1025:P1037),P1025:P1037,0))),\"\")","v":""},{"$f":"IF(Q1038<>0,IF(MAX(Q1025:Q1037)<Q1038,Labels!$B$163,INDEX($AH$1024:$AH$1036,MATCH(MAX(Q1025:Q1037),Q1025:Q1037,0))),\"\")","v":""},{"$f":"IF(R1038<>0,IF(MAX(R1025:R1037)<R1038,Labels!$B$163,INDEX($AH$1024:$AH$1036,MATCH(MAX(R1025:R1037),R1025:R1037,0))),\"\")","v":""},{"$f":"IF(S1038<>0,IF(MAX(S1025:S1037)<S1038,Labels!$B$163,INDEX($AH$1024:$AH$1036,MATCH(MAX(S1025:S1037),S1025:S1037,0))),\"\")","v":""},{"$f":"IF(T1038<>0,IF(MAX(T1025:T1037)<T1038,Labels!$B$163,INDEX($AH$1024:$AH$1036,MATCH(MAX(T1025:T1037),T1025:T1037,0))),\"\")","v":""},{"$f":"IF(U1038<>0,IF(MAX(U1025:U1037)<U1038,Labels!$B$163,INDEX($AH$1024:$AH$1036,MATCH(MAX(U1025:U1037),U1025:U1037,0))),\"\")","v":""},{"$f":"IF(V1038<>0,IF(MAX(V1025:V1037)<V1038,Labels!$B$163,INDEX($AH$1024:$AH$1036,MATCH(MAX(V1025:V1037),V1025:V1037,0))),\"\")","v":""},{"$f":"IF(W1038<>0,IF(MAX(W1025:W1037)<W1038,Labels!$B$163,INDEX($AH$1024:$AH$1036,MATCH(MAX(W1025:W1037),W1025:W1037,0))),\"\")","v":""},{"$f":"IF(X1038<>0,IF(MAX(X1025:X1037)<X1038,Labels!$B$163,INDEX($AH$1024:$AH$1036,MATCH(MAX(X1025:X1037),X1025:X1037,0))),\"\")","v":""},{"$f":"IF(Y1038<>0,IF(MAX(Y1025:Y1037)<Y1038,Labels!$B$163,INDEX($AH$1024:$AH$1036,MATCH(MAX(Y1025:Y1037),Y1025:Y1037,0))),\"\")","v":""},{"$f":"IF(Z1038<>0,IF(MAX(Z1025:Z1037)<Z1038,Labels!$B$163,INDEX($AH$1024:$AH$1036,MATCH(MAX(Z1025:Z1037),Z1025:Z1037,0))),\"\")","v":""},{"$f":"IF(AA1038<>0,IF(MAX(AA1025:AA1037)<AA1038,Labels!$B$163,INDEX($AH$1024:$AH$1036,MATCH(MAX(AA1025:AA1037),AA1025:AA1037,0))),\"\")","v":""},{"$f":"IF(AB1038<>0,IF(MAX(AB1025:AB1037)<AB1038,Labels!$B$163,INDEX($AH$1024:$AH$1036,MATCH(MAX(AB1025:AB1037),AB1025:AB1037,0))),\"\")","v":""},{"$f":"IF(AC1038<>0,IF(MAX(AC1025:AC1037)<AC1038,Labels!$B$163,INDEX($AH$1024:$AH$1036,MATCH(MAX(AC1025:AC1037),AC1025:AC1037,0))),\"\")","v":""},{"$f":"IF(AD1038<>0,IF(MAX(AD1025:AD1037)<AD1038,Labels!$B$163,INDEX($AH$1024:$AH$1036,MATCH(MAX(AD1025:AD1037),AD1025:AD1037,0))),\"\")","v":""},{"$f":"IF(AE1038<>0,IF(MAX(AE1025:AE1037)<AE1038,Labels!$B$163,INDEX($AH$1024:$AH$1036,MATCH(MAX(AE1025:AE1037),AE1025:AE1037,0))),\"\")","v":""},{"$f":"IF(AF1038<>0,IF(MAX(AF1025:AF1037)<AF1038,Labels!$B$163,INDEX($AH$1024:$AH$1036,MATCH(MAX(AF1025:AF1037),AF1025:AF1037,0))),\"\")","v":""},{"$f":"SUM(B591:AF591)","v":0}]
[{"$f":"$A$15","v":"00.00-06.00h"},null,null,null,null,null,null,null,null,null,null,null,null,null,null,null,null,null,null,null,null,null,null,null,null,null,null,null,null,null,null,null,{"$f":"SUM(B592:AF592)","v":0}]
[{"$f":"$A$16","v":"06.00-20.00h"},null,null,null,null,null,null,null,null,null,null,null,null,null,null,null,null,null,null,null,null,null,null,null,null,null,null,null,null,null,null,null,{"$f":"SUM(B593:AF593)","v":0},"[0]"]
[{"$f":"$A$17","v":"20.00-24.00h"}]
[{"$f":"$A$18","v":"Feiertag \"ft\""},{"$f":"IF(WEEKDAY(B586,2)<=6,IF(KALENDER!E21=\"x\",Labels!$B$118,\"\"),\"\")","v":""},{"$f":"IF(WEEKDAY(C586,2)<=6,IF(KALENDER!F21=\"x\",Labels!$B$118,\"\"),\"\")","v":""},{"$f":"IF(WEEKDAY(D586,2)<=6,IF(KALENDER!G21=\"x\",Labels!$B$118,\"\"),\"\")","v":""},{"$f":"IF(WEEKDAY(E586,2)<=6,IF(KALENDER!H21=\"x\",Labels!$B$118,\"\"),\"\")","v":""},{"$f":"IF(WEEKDAY(F586,2)<=6,IF(KALENDER!I21=\"x\",Labels!$B$118,\"\"),\"\")","v":""},{"$f":"IF(WEEKDAY(G586,2)<=6,IF(KALENDER!J21=\"x\",Labels!$B$118,\"\"),\"\")","v":""},{"$f":"IF(WEEKDAY(H586,2)<=6,IF(KALENDER!K21=\"x\",Labels!$B$118,\"\"),\"\")","v":""},{"$f":"IF(WEEKDAY(I586,2)<=6,IF(KALENDER!L21=\"x\",Labels!$B$118,\"\"),\"\")","v":""},{"$f":"IF(WEEKDAY(J586,2)<=6,IF(KALENDER!M21=\"x\",Labels!$B$118,\"\"),\"\")","v":""},{"$f":"IF(WEEKDAY(K586,2)<=6,IF(KALENDER!N21=\"x\",Labels!$B$118,\"\"),\"\")","v":""},{"$f":"IF(WEEKDAY(L586,2)<=6,IF(KALENDER!O21=\"x\",Labels!$B$118,\"\"),\"\")","v":""},{"$f":"IF(WEEKDAY(M586,2)<=6,IF(KALENDER!P21=\"x\",Labels!$B$118,\"\"),\"\")","v":""},{"$f":"IF(WEEKDAY(N586,2)<=6,IF(KALENDER!Q21=\"x\",Labels!$B$118,\"\"),\"\")","v":""},{"$f":"IF(WEEKDAY(O586,2)<=6,IF(KALENDER!R21=\"x\",Labels!$B$118,\"\"),\"\")","v":""},{"$f":"IF(WEEKDAY(P586,2)<=6,IF(KALENDER!S21=\"x\",Labels!$B$118,\"\"),\"\")","v":""},{"$f":"IF(WEEKDAY(Q586,2)<=6,IF(KALENDER!T21=\"x\",Labels!$B$118,\"\"),\"\")","v":""},{"$f":"IF(WEEKDAY(R586,2)<=6,IF(KALENDER!U21=\"x\",Labels!$B$118,\"\"),\"\")","v":""},{"$f":"IF(WEEKDAY(S586,2)<=6,IF(KALENDER!V21=\"x\",Labels!$B$118,\"\"),\"\")","v":""},{"$f":"IF(WEEKDAY(T586,2)<=6,IF(KALENDER!W21=\"x\",Labels!$B$118,\"\"),\"\")","v":""},{"$f":"IF(WEEKDAY(U586,2)<=6,IF(KALENDER!X21=\"x\",Labels!$B$118,\"\"),\"\")","v":""},{"$f":"IF(WEEKDAY(V586,2)<=6,IF(KALENDER!Y21=\"x\",Labels!$B$118,\"\"),\"\")","v":""},{"$f":"IF(WEEKDAY(W586,2)<=6,IF(KALENDER!Z21=\"x\",Labels!$B$118,\"\"),\"\")","v":""},{"$f":"IF(WEEKDAY(X586,2)<=6,IF(KALENDER!AA21=\"x\",Labels!$B$118,\"\"),\"\")","v":""},{"$f":"IF(WEEKDAY(Y586,2)<=6,IF(KALENDER!AB21=\"x\",Labels!$B$118,\"\"),\"\")","v":""},{"$f":"IF(WEEKDAY(Z586,2)<=6,IF(KALENDER!AC21=\"x\",Labels!$B$118,\"\"),\"\")","v":""},{"$f":"IF(WEEKDAY(AA586,2)<=6,IF(KALENDER!AD21=\"x\",Labels!$B$118,\"\"),\"\")","v":""},{"$f":"IF(WEEKDAY(AB586,2)<=6,IF(KALENDER!AE21=\"x\",Labels!$B$118,\"\"),\"\")","v":""},{"$f":"IF(WEEKDAY(AC586,2)<=6,IF(KALENDER!AF21=\"x\",Labels!$B$118,\"\"),\"\")","v":""},{"$f":"IF(WEEKDAY(AD586,2)<=6,IF(KALENDER!AG21=\"x\",Labels!$B$118,\"\"),\"\")","v":""},{"$f":"IF(WEEKDAY(AE586,2)<=6,IF(KALENDER!AH21=\"x\",Labels!$B$118,\"\"),\"\")","v":""},{"$f":"IF(WEEKDAY(AF586,2)<=6,IF(KALENDER!AI21=\"x\",Labels!$B$118,\"\"),\"\")","v":""},{"$f":"SUM(B595:AF595)","v":0}]
[{"$f":"$A$19","v":"Gutschrift \"ft\""},{"$f":"IF(AND(B594=Labels!$B$118,WEEKDAY(B586,2)<6,B$588<>\"\"),($J$7*5/$AR$53)*$B$583%,\"\")","v":""},{"$f":"IF(AND(C594=Labels!$B$118,WEEKDAY(C586,2)<6,C$588<>\"\"),($J$7*5/$AR$53)*$B$583%,\"\")","v":""},{"$f":"IF(AND(D594=Labels!$B$118,WEEKDAY(D586,2)<6,D$588<>\"\"),($J$7*5/$AR$53)*$B$583%,\"\")","v":""},{"$f":"IF(AND(E594=Labels!$B$118,WEEKDAY(E586,2)<6,E$588<>\"\"),($J$7*5/$AR$53)*$B$583%,\"\")","v":""},{"$f":"IF(AND(F594=Labels!$B$118,WEEKDAY(F586,2)<6,F$588<>\"\"),($J$7*5/$AR$53)*$B$583%,\"\")","v":""},{"$f":"IF(AND(G594=Labels!$B$118,WEEKDAY(G586,2)<6,G$588<>\"\"),($J$7*5/$AR$53)*$B$583%,\"\")","v":""},{"$f":"IF(AND(H594=Labels!$B$118,WEEKDAY(H586,2)<6,H$588<>\"\"),($J$7*5/$AR$53)*$B$583%,\"\")","v":""},{"$f":"IF(AND(I594=Labels!$B$118,WEEKDAY(I586,2)<6,I$588<>\"\"),($J$7*5/$AR$53)*$B$583%,\"\")","v":""},{"$f":"IF(AND(J594=Labels!$B$118,WEEKDAY(J586,2)<6,J$588<>\"\"),($J$7*5/$AR$53)*$B$583%,\"\")","v":""},{"$f":"IF(AND(K594=Labels!$B$118,WEEKDAY(K586,2)<6,K$588<>\"\"),($J$7*5/$AR$53)*$B$583%,\"\")","v":""},{"$f":"IF(AND(L594=Labels!$B$118,WEEKDAY(L586,2)<6,L$588<>\"\"),($J$7*5/$AR$53)*$B$583%,\"\")","v":""},{"$f":"IF(AND(M594=Labels!$B$118,WEEKDAY(M586,2)<6,M$588<>\"\"),($J$7*5/$AR$53)*$B$583%,\"\")","v":""},{"$f":"IF(AND(N594=Labels!$B$118,WEEKDAY(N586,2)<6,N$588<>\"\"),($J$7*5/$AR$53)*$B$583%,\"\")","v":""},{"$f":"IF(AND(O594=Labels!$B$118,WEEKDAY(O586,2)<6,O$588<>\"\"),($J$7*5/$AR$53)*$B$583%,\"\")","v":""},{"$f":"IF(AND(P594=Labels!$B$118,WEEKDAY(P586,2)<6,P$588<>\"\"),($J$7*5/$AR$53)*$B$583%,\"\")","v":""},{"$f":"IF(AND(Q594=Labels!$B$118,WEEKDAY(Q586,2)<6,Q$588<>\"\"),($J$7*5/$AR$53)*$B$583%,\"\")","v":""},{"$f":"IF(AND(R594=Labels!$B$118,WEEKDAY(R586,2)<6,R$588<>\"\"),($J$7*5/$AR$53)*$B$583%,\"\")","v":""},{"$f":"IF(AND(S594=Labels!$B$118,WEEKDAY(S586,2)<6,S$588<>\"\"),($J$7*5/$AR$53)*$B$583%,\"\")","v":""},{"$f":"IF(AND(T594=Labels!$B$118,WEEKDAY(T586,2)<6,T$588<>\"\"),($J$7*5/$AR$53)*$B$583%,\"\")","v":""},{"$f":"IF(AND(U594=Labels!$B$118,WEEKDAY(U586,2)<6,U$588<>\"\"),($J$7*5/$AR$53)*$B$583%,\"\")","v":""},{"$f":"IF(AND(V594=Labels!$B$118,WEEKDAY(V586,2)<6,V$588<>\"\"),($J$7*5/$AR$53)*$B$583%,\"\")","v":""},{"$f":"IF(AND(W594=Labels!$B$118,WEEKDAY(W586,2)<6,W$588<>\"\"),($J$7*5/$AR$53)*$B$583%,\"\")","v":""},{"$f":"IF(AND(X594=Labels!$B$118,WEEKDAY(X586,2)<6,X$588<>\"\"),($J$7*5/$AR$53)*$B$583%,\"\")","v":""},{"$f":"IF(AND(Y594=Labels!$B$118,WEEKDAY(Y586,2)<6,Y$588<>\"\"),($J$7*5/$AR$53)*$B$583%,\"\")","v":""},{"$f":"IF(AND(Z594=Labels!$B$118,WEEKDAY(Z586,2)<6,Z$588<>\"\"),($J$7*5/$AR$53)*$B$583%,\"\")","v":""},{"$f":"IF(AND(AA594=Labels!$B$118,WEEKDAY(AA586,2)<6,AA$588<>\"\"),($J$7*5/$AR$53)*$B$583%,\"\")","v":""},{"$f":"IF(AND(AB594=Labels!$B$118,WEEKDAY(AB586,2)<6,AB$588<>\"\"),($J$7*5/$AR$53)*$B$583%,\"\")","v":""},{"$f":"IF(AND(AC594=Labels!$B$118,WEEKDAY(AC586,2)<6,AC$588<>\"\"),($J$7*5/$AR$53)*$B$583%,\"\")","v":""},{"$f":"IF(AND(AD594=Labels!$B$118,WEEKDAY(AD586,2)<6,AD$588<>\"\"),($J$7*5/$AR$53)*$B$583%,\"\")","v":""},{"$f":"IF(AND(AE594=Labels!$B$118,WEEKDAY(AE586,2)<6,AE$588<>\"\"),($J$7*5/$AR$53)*$B$583%,\"\")","v":""},{"$f":"IF(AND(AF594=Labels!$B$118,WEEKDAY(AF586,2)<6,AF$588<>\"\"),($J$7*5/$AR$53)*$B$583%,\"\")","v":""}]
[{"$f":"$A$20","v":"Tagestotal"},{"$f":"SUM(B591:B593)","v":0},{"$f":"SUM(C591:C593)","v":0},0,0,0,0,0,0,0,0,0,0,0,0,0,0,0,0,0,0,0,0,0,0,0,0,0,0,0,0,0]
[{"$f":"$A$21","v":"."}]
[{"$f":"$A$22","v":"."}]
[{"$f":"$A$23","v":"Monatsübergang"},{"$f":"IF(WEEKDAY(B586)=1,TEXT(B586-1,\"MMM\"&Labels!B13),\"\")","v":""},null,null,null,null,null,null,null,null,null,null,null,null,null,null,null,null,null,null,null,null,null,null,null,null,null,null,null,null,null,{"$f":"IF(AND(WEEKDAY(AF586)>1,WEEKDAY(AF586)<7),TEXT(DATE($B$5,MONTH(AF586)+1,1),\"MMM\"&Labels!B13),\"\")","v":"Nov"}]
[{"$f":"$A$24","v":"Wochentotal"},{"$f":"IF(WEEKDAY(B586)=7,SUMIF($B523:$AF523,B587,$B532:$AF532)+SUMIF($B587:$AF587,B587,$B596:$AF596)+SUMIF($B651:$AF651,B587,$B660:$AF660),B599)","v":0},{"$f":"IF(WEEKDAY(C586)=7,SUMIF($B523:$AF523,C587,$B532:$AF532)+SUMIF($B587:$AF587,C587,$B596:$AF596)+SUMIF($B651:$AF651,C587,$B660:$AF660),\"\")","v":""},"","","","","",0,"","","","","","",0,"","","","","","",0,"","","","","","",0,"",{"$f":"IF(WEEKDAY(AF586)=7,SUMIF($B523:$AF523,AF587,$B532:$AF532)+SUMIF($B587:$AF587,AF587,$B596:$AF596)+SUMIF($B651:$AF651,AF587,$B660:$AF660),AF599)","v":"Nov"},{"$f":"SUM(B601:AF601)","v":0}]
[{"$f":"$A$25","v":"Zeitzuschlag 1)"},{"$f":"IF(B608=\"FALSCH\",\"\",B608)","v":""},{"$f":"IF(C608=\"FALSCH\",\"\",C608)","v":""},"","","","","","","","","","","","","","","","","","","","","","","","","","","","","",0,"[1]"]
[{"$f":"$A$26","v":"Zeitzuschlag 2)"},{"$f":"IF((B591+B593)=0,\"\",SUM(B591,B593))","v":""},{"$f":"IF((C591+C593)=0,\"\",SUM(C591,C593))","v":""},"","","","","","","","","","","","","","","","","","","","","","","","","","","","","",{"$f":"SUM(B603:AF603)","v":0},"[2]"]
[{"$f":"$A$27","v":"Zeitzuschlag 3)"},{"$f":"SUM(B604:B607)","v":0},{"$f":"SUM(C604:C607)","v":0},0,0,0,0,0,0,0,0,0,0,0,0,0,0,0,0,0,0,0,0,0,0,0,0,0,0,0,0,0,0,"[3]"]
[{"$f":"$A$28","v":"Sonntag Tag"},{"$f":"IF(WEEKDAY(B586)=1,B592,\"\")","v":""},{"$f":"IF(WEEKDAY(C586)=1,C592,\"\")","v":0},"","","","","","",0,"","","","","","",0,"","","","","","",0,"","","","","","",0,"",0,"[4]"]
[{"$f":"$A$29","v":"Sonntag Nacht"},{"$f":"IF(WEEKDAY(B586)=1,SUM(B591+B593),\"\")","v":""},{"$f":"IF(WEEKDAY(C586)=1,SUM(C591+C593),\"\")","v":0},"","","","","","",0,"","","","","","",0,"","","","","","",0,"","","","","","",0,"",0,"[5]"]
[{"$f":"$A$30","v":"ft-Tazuschlag"},{"$f":"IF(B594=Labels!$B$118,B592,\"\")","v":""},{"$f":"IF(C594=Labels!$B$118,C592,\"\")","v":""},{"$f":"IF(D594=Labels!$B$118,D592,\"\")","v":""},{"$f":"IF(E594=Labels!$B$118,E592,\"\")","v":""},{"$f":"IF(F594=Labels!$B$118,F592,\"\")","v":""},{"$f":"IF(G594=Labels!$B$118,G592,\"\")","v":""},{"$f":"IF(H594=Labels!$B$118,H592,\"\")","v":""},{"$f":"IF(I594=Labels!$B$118,I592,\"\")","v":""},{"$f":"IF(J594=Labels!$B$118,J592,\"\")","v":""},{"$f":"IF(K594=Labels!$B$118,K592,\"\")","v":""},{"$f":"IF(L594=Labels!$B$118,L592,\"\")","v":""},{"$f":"IF(M594=Labels!$B$118,M592,\"\")","v":""},{"$f":"IF(N594=Labels!$B$118,N592,\"\")","v":""},{"$f":"IF(O594=Labels!$B$118,O592,\"\")","v":""},{"$f":"IF(P594=Labels!$B$118,P592,\"\")","v":""},{"$f":"IF(Q594=Labels!$B$118,Q592,\"\")","v":""},{"$f":"IF(R594=Labels!$B$118,R592,\"\")","v":""},{"$f":"IF(S594=Labels!$B$118,S592,\"\")","v":""},{"$f":"IF(T594=Labels!$B$118,T592,\"\")","v":""},{"$f":"IF(U594=Labels!$B$118,U592,\"\")","v":""},{"$f":"IF(V594=Labels!$B$118,V592,\"\")","v":""},{"$f":"IF(W594=Labels!$B$118,W592,\"\")","v":""},{"$f":"IF(X594=Labels!$B$118,X592,\"\")","v":""},{"$f":"IF(Y594=Labels!$B$118,Y592,\"\")","v":""},{"$f":"IF(Z594=Labels!$B$118,Z592,\"\")","v":""},{"$f":"IF(AA594=Labels!$B$118,AA592,\"\")","v":""},{"$f":"IF(AB594=Labels!$B$118,AB592,\"\")","v":""},{"$f":"IF(AC594=Labels!$B$118,AC592,\"\")","v":""},{"$f":"IF(AD594=Labels!$B$118,AD592,\"\")","v":""},{"$f":"IF(AE594=Labels!$B$118,AE592,\"\")","v":""},{"$f":"IF(AF594=Labels!$B$118,AF592,\"\")","v":""},0,"[6]"]
[{"$f":"$A$31","v":"ft-Nazuschlag"},{"$f":"IF(B594=Labels!$B$118,SUM(B591,B593),\"\")","v":""},{"$f":"IF(C594=Labels!$B$118,SUM(C591,C593),\"\")","v":""},{"$f":"IF(D594=Labels!$B$118,SUM(D591,D593),\"\")","v":""},{"$f":"IF(E594=Labels!$B$118,SUM(E591,E593),\"\")","v":""},{"$f":"IF(F594=Labels!$B$118,SUM(F591,F593),\"\")","v":""},{"$f":"IF(G594=Labels!$B$118,SUM(G591,G593),\"\")","v":""},{"$f":"IF(H594=Labels!$B$118,SUM(H591,H593),\"\")","v":""},{"$f":"IF(I594=Labels!$B$118,SUM(I591,I593),\"\")","v":""},{"$f":"IF(J594=Labels!$B$118,SUM(J591,J593),\"\")","v":""},{"$f":"IF(K594=Labels!$B$118,SUM(K591,K593),\"\")","v":""},{"$f":"IF(L594=Labels!$B$118,SUM(L591,L593),\"\")","v":""},{"$f":"IF(M594=Labels!$B$118,SUM(M591,M593),\"\")","v":""},{"$f":"IF(N594=Labels!$B$118,SUM(N591,N593),\"\")","v":""},{"$f":"IF(O594=Labels!$B$118,SUM(O591,O593),\"\")","v":""},{"$f":"IF(P594=Labels!$B$118,SUM(P591,P593),\"\")","v":""},{"$f":"IF(Q594=Labels!$B$118,SUM(Q591,Q593),\"\")","v":""},{"$f":"IF(R594=Labels!$B$118,SUM(R591,R593),\"\")","v":""},{"$f":"IF(S594=Labels!$B$118,SUM(S591,S593),\"\")","v":""},{"$f":"IF(T594=Labels!$B$118,SUM(T591,T593),\"\")","v":""},{"$f":"IF(U594=Labels!$B$118,SUM(U591,U593),\"\")","v":""},{"$f":"IF(V594=Labels!$B$118,SUM(V591,V593),\"\")","v":""},{"$f":"IF(W594=Labels!$B$118,SUM(W591,W593),\"\")","v":""},{"$f":"IF(X594=Labels!$B$118,SUM(X591,X593),\"\")","v":""},{"$f":"IF(Y594=Labels!$B$118,SUM(Y591,Y593),\"\")","v":""},{"$f":"IF(Z594=Labels!$B$118,SUM(Z591,Z593),\"\")","v":""},{"$f":"IF(AA594=Labels!$B$118,SUM(AA591,AA593),\"\")","v":""},{"$f":"IF(AB594=Labels!$B$118,SUM(AB591,AB593),\"\")","v":""},{"$f":"IF(AC594=Labels!$B$118,SUM(AC591,AC593),\"\")","v":""},{"$f":"IF(AD594=Labels!$B$118,SUM(AD591,AD593),\"\")","v":""},{"$f":"IF(AE594=Labels!$B$118,SUM(AE591,AE593),\"\")","v":""},{"$f":"IF(AF594=Labels!$B$118,SUM(AF591,AF593),\"\")","v":""},{"$f":"AG591","v":0},"[7]"]
[{"$f":"$A$32","v":"Zuschlag  blind (Wochentotal)"},{"$f":"IF(OR(ISTEXT(B600),B600=\"\",B600<$B$7),\"\",ROUND(((B600-$B$7)*25%)/25,4)*25)","v":""},{"$f":"IF(OR(ISTEXT(C600),C600=\"\",C600<$B$7),\"\",ROUND(((C600-$B$7)*25%)/25,4)*25)","v":""},"","","","","","","","","","","","","","","","","","","","","","","","","","","","","",{"$f":"SUM(AG590+AG592)","v":0},"[8]"]
[null,{"$f":"$B$33","v":"1)   25% Zeitzuschlag für Überschreitung Wochentotal"},null,null,null,null,null,null,null,null,null,{"$f":"$L$33","v":"2) 100% Zeitzuschlag für Nachtarbeit"},null,null,null,null,null,null,null,null,null,null,null,null,null,null,null,null,null,null,null,null,{"$f":"SUM(AG590:AG592)","v":0},"[9]"]
[null,{"$f":"$B$34","v":"3) 100% Zeitzuschlag für Sonn- und Feiertagsarbeit"},null,null,null,null,null,null,null,null,null,null,null,null,null,null,null,null,null,{"$f":"$T$34","v":"Eingabe der ausbezahlten Stunden laufendes Jahr (Überstunden)"},null,null,null,null,null,null,null,null,null,null,null,null,{"$f":"SUM(AG588+AG594)","v":0},"[10]"]
[{"$f":"$A$35","v":"Bemerkungen"},null,null,null,null,null,null,null,null,null,null,null,null,null,null,null,null,null,null,null,null,null,null,null,null,null,null,null,null,null,null,null,{"$f":"SUM(AG588:AG602)","v":0},"[11]"]
[null,null,null,null,null,null,null,null,null,null,null,null,null,null,null,null,null,null,null,null,null,null,null,null,null,null,null,null,null,null,null,null,{"$f":"AG587","v":168}]
[null,null,null,null,null,null,null,null,null,null,null,null,null,null,null,null,null,null,null,null,null,null,null,null,null,null,null,null,null,null,null,null,{"$f":"SUM(AG611-AG587)","v":-168}]
[]
[{"$f":"$A$39","v":"Zusammenstellung"},null,null,null,null,null,{"$f":"$G$39","v":"Jan"},null,{"$f":"$I$39","v":"Feb"},null,{"$f":"$K$39","v":"Mrz"},null,{"$f":"$M$39","v":"Apr"},null,{"$f":"$O$39","v":"Mai"},null,{"$f":"$Q$39","v":"Jun"},null,{"$f":"$S$39","v":"Jul"},null,{"$f":"$U$39","v":"Aug"},null,{"$f":"$W$39","v":"Sep"},null,{"$f":"$Y$39","v":"Okt"},null,{"$f":"$AA$39","v":"Nov"},null,{"$f":"$AC$39","v":"Dez"},null,{"$f":"$AE$39","v":"Jahr"}]
[{"$f":"$A$40","v":"Anstellung %"},null,null,null,null,null,{"$f":"IF($B$4=0,0,$B$4)","v":100},null,{"$f":"IF($B$71=0,0,$B$71)","v":100},null,{"$f":"IF($B$135=0,0,$B$135)","v":100},null,{"$f":"IF($B$199=0,0,$B$199)","v":100},null,{"$f":"IF($B$263=0,0,$B$263)","v":100},null,{"$f":"IF($B$327=0,0,$B$327)","v":100},null,{"$f":"IF($B$391=0,0,$B$391)","v":100},null,{"$f":"IF($B$455=0,0,$B$455)","v":100},null,{"$f":"IF($B$519=0,0,$B$519)","v":100},null,{"$f":"IF($B$583=0,0,$B$583)","v":100},null,{"$f":"IF($B$647=0,0,$B$647)","v":100},null,{"$f":"IF($B$711=0,0,$B$711)","v":100}]
[{"$f":"$A$41","v":"Sollstunden gemäss GAV"},null,null,null,null,null,{"$f":"IF($AG$37=0,0,$AG$37)","v":168},null,{"$f":"IF($AG$100=0,0,$AG$100)","v":160},null,{"$f":"IF($AG$139=0,0,$AG$139)","v":184},null,{"$f":"IF($AG$228=0,0,$AG$228)","v":168},null,{"$f":"IF($AG$292=0,0,$AG$292)","v":176},null,{"$f":"IF($AG$356=0,0,$AG$356)","v":176},null,{"$f":"IF($AG$420=0,0,$AG$420)","v":168},null,{"$f":"IF($AG$484=0,0,$AG$484)","v":184},null,{"$f":"IF($AG$548=0,0,$AG$548)","v":176},null,{"$f":"IF($AG$612=0,0,$AG$612)","v":168},null,{"$f":"IF($AG$676=0,0,$AG$676)","v":176},null,{"$f":"IF($AG$740=0,0,$AG$740)","v":176},null,{"$f":"SUM(G617:AD617)","v":2080}]
[{"$f":"$A$42","v":"Produktive Stunden"},{"$f":"$B$42","v":"06.00 - 20.00 Uhr"},null,null,null,null,{"$f":"IF($AG$32=0,0,$AG$32)","v":0},null,{"$f":"IF($AG$95=0,0,$AG$95)","v":0},null,{"$f":"IF($AG$159=0,0,$AG$159)","v":0},null,{"$f":"IF($AG$223=0,0,$AG$223)","v":0},null,{"$f":"IF($AG$287=0,0,$AG$287)","v":0},null,{"$f":"IF($AG$351=0,0,$AG$351)","v":0},null,{"$f":"IF($AG$415=0,0,$AG$415)","v":0},null,{"$f":"IF($AG$479=0,0,$AG$479)","v":0},null,{"$f":"IF($AG$543=0,0,$AG$543)","v":0},null,{"$f":"IF($AG$607=0,0,$AG$607)","v":0},null,{"$f":"IF($AG$671=0,0,$AG$671)","v":0},null,{"$f":"IF($AG$735=0,0,$AG$735)","v":0},null,{"$f":"SUM(G618:AD618)","v":0}]
[null,{"$f":"$B$43","v":"Nacht-, Sonn-, Feiertagsarbeit"},null,null,null,null,{"$f":"IF($AG$33=0,0,$AG$33)","v":0},null,{"$f":"IF($AG$96=0,0,$AG$96)","v":0},null,{"$f":"IF($AG$160=0,0,$AG$160)","v":0},null,{"$f":"IF($AG$224=0,0,$AG$224)","v":0},null,{"$f":"IF($AG$288=0,0,$AG$288)","v":0},null,{"$f":"IF($AG$352=0,0,$AG$352)","v":0},null,{"$f":"IF($AG$416=0,0,$AG$416)","v":0},null,{"$f":"IF($AG$480=0,0,$AG$480)","v":0},null,{"$f":"IF($AG$544=0,0,$AG$544)","v":0},null,{"$f":"IF($AG$608=0,0,$AG$608)","v":0},null,{"$f":"IF($AG$672=0,0,$AG$672)","v":0},null,{"$f":"IF($AG$736=0,0,$AG$736)","v":0},null,{"$f":"SUM(G619:AD619)","v":0}]
[{"$f":"$A$44","v":"Zeitzuschläge"},{"$f":"$B$44","v":"aus Wochentotal"},null,null,null,null,{"$f":"IF($AG$25=0,0,$AG$25)","v":0},null,{"$f":"IF($AG$88=0,0,$AG$88)","v":0},null,{"$f":"IF($AG$152=0,0,$AG$152)","v":0},null,{"$f":"IF($AG$216=0,0,$AG$216)","v":0},null,{"$f":"IF($AG$280=0,0,$AG$280)","v":0},null,{"$f":"IF($AG$344=0,0,$AG$344)","v":0},null,{"$f":"IF($AG$408=0,0,$AG$408)","v":0},null,{"$f":"IF($AG$472=0,0,$AG$472)","v":0},null,{"$f":"IF($AG$536=0,0,$AG$536)","v":0},null,{"$f":"IF($AG$600=0,0,$AG$600)","v":0},null,{"$f":"IF($AG$664=0,0,$AG$664)","v":0},null,{"$f":"IF($AG$728=0,0,$AG$728)","v":0},null,{"$f":"SUM(G620:AD620)","v":0}]
[null,{"$f":"$B$45","v":"aus Nacht-, Sonn-, Feiertagsarbeiten"},null,null,null,null,{"$f":"IF($AJ$21=0,0,$AJ$21)","v":0},null,{"$f":"IF($AK$21=0,0,$AK$21)","v":0},null,{"$f":"IF($AL$21=0,0,$AL$21)","v":0},null,{"$f":"IF($AM$21=0,0,$AM$21)","v":0},null,{"$f":"IF($AN$21=0,0,$AN$21)","v":0},null,{"$f":"IF($AO$21=0,0,$AO$21)","v":0},null,{"$f":"IF($AP$21=0,0,$AP$21)","v":0},null,{"$f":"IF($AQ$21=0,0,$AQ$21)","v":0},null,{"$f":"IF($AR$21=0,0,$AR$21)","v":0},null,{"$f":"IF($AS$21=0,0,$AS$21)","v":0},null,{"$f":"IF($AT$21=0,0,$AT$21)","v":0},null,{"$f":"IF($AU$21=0,0,$AU$21)","v":0},null,{"$f":"SUM(G621:AD621)","v":0}]
[{"$f":"$A$46","v":"Unproduktive Stunden"}]
[{"$f":"$A$47","v":"   Absenzen, Kurzabsenzen Art. 11 GAV"},null,null,null,null,{"$f":"$F$47","v":"a"},{"$f":"IF($AJ$3=0,0,$AJ$3)","v":0},null,{"$f":"IF($AK$3=0,0,$AK$3)","v":0},null,{"$f":"IF($AL$3=0,0,$AL$3)","v":0},null,{"$f":"IF($AM$3=0,0,$AM$3)","v":0},null,{"$f":"IF($AN$3=0,0,$AN$3)","v":0},null,{"$f":"IF($AO$3=0,0,$AO$3)","v":0},null,{"$f":"IF($AP$3=0,0,$AP$3)","v":0},null,{"$f":"IF($AQ$3=0,0,$AQ$3)","v":0},null,{"$f":"IF($AR$3=0,0,$AR$3)","v":0},null,{"$f":"IF($AS$3=0,0,$AS$3)","v":0},null,{"$f":"IF(AT$3=0,0,$AT$3)","v":0},null,{"$f":"IF($AU$3=0,0,$AU$3)","v":0},null,{"$f":"IF($AV$3=0,0,$AV$3)","v":0}]
[{"$f":"$A$48","v":"   Ferien Art. 12.1 GAV"},null,null,null,null,{"$f":"$F$48","v":"f"},{"$f":"IF($AJ$4=0,0,$AJ$4)","v":0},null,{"$f":"IF($AK$4=0,0,$AK$4)","v":0},null,{"$f":"IF($AL$4=0,0,$AL$4)","v":0},null,{"$f":"IF($AM$4=0,0,$AM$4)","v":0},null,{"$f":"IF($AN$4=0,0,$AN$4)","v":0},null,{"$f":"IF($AO$4=0,0,$AO$4)","v":0},null,{"$f":"IF($AP$4=0,0,$AP$4)","v":0},null,{"$f":"IF($AQ$4=0,0,$AQ$4)","v":0},null,{"$f":"IF($AR$4=0,0,$AR$4)","v":0},null,{"$f":"IF($AS$4=0,0,$AS$4)","v":0},null,{"$f":"IF($AT$4=0,0,$AT$4)","v":0},null,{"$f":"IF($AU$4=0,0,$AU$4)","v":0},null,{"$f":"IF($AV$4=0,0,$AV$4)","v":0}]
[{"$f":"Labels!$B$181","v":"   Ferien unbezahlt"},null,null,null,null,{"$f":"Labels!$B$182","v":"fu"},{"$f":"IF($AJ$13=0,0,$AJ$13)","v":0},null,{"$f":"IF($AK$13=0,0,$AK$13)","v":0},null,{"$f":"IF($AL$13=0,0,$AL$13)","v":0},null,{"$f":"IF($AM$13=0,0,$AM$13)","v":0},null,{"$f":"IF($AN$13=0,0,$AN$13)","v":0},null,{"$f":"IF($AO$13=0,0,$AO$13)","v":0},null,{"$f":"IF($AP$13=0,0,$AP$13)","v":0},null,{"$f":"IF($AQ$13=0,0,$AQ$13)","v":0},null,{"$f":"IF($AR$13=0,0,$AR$13)","v":0},null,{"$f":"IF($AS$13=0,0,$AS$13)","v":0},null,{"$f":"IF($AT$13=0,0,$AT$13)","v":0},null,{"$f":"IF($AU$13=0,0,$AU$13)","v":0},null,{"$f":"IF($AV$13=0,0,$AV$13)","v":0}]
[{"$f":"$A$50","v":"   Feiertage Art. 12.2 GAV"},null,{"$f":"IF($AJ$18=\"\",\"\",$AJ$18)","v":""},null,null,{"$f":"$F$50","v":"ft"},{"$f":"IF($AJ$16=0,0,$AJ$16)","v":0},null,{"$f":"IF($AK$16=0,0,$AK$16)","v":0},null,{"$f":"IF($AL$16=0,0,$AL$16)","v":0},null,{"$f":"IF($AM$16=0,0,$AM$16)","v":0},null,{"$f":"IF($AN$16=0,0,$AN$16)","v":0},null,{"$f":"IF($AO$16=0,0,$AO$16)","v":0},null,{"$f":"IF($AP$16=0,0,$AP$16)","v":0},null,{"$f":"IF($AQ$16=0,0,$AQ$16)","v":0},null,{"$f":"IF($AR$16=0,0,$AR$16)","v":0},null,{"$f":"IF($AS$16=0,0,$AS$16)","v":0},null,{"$f":"IF($AT$16=0,0,$AT$16)","v":0},null,{"$f":"IF($AU$16=0,0,$AU$16)","v":0},null,{"$f":"IF($AV$16=0,0,$AV$16)","v":0}]
[{"$f":"$A$51","v":"   Krankheit Art. 13 GAV"},null,null,null,null,{"$f":"$F$51","v":"k"},{"$f":"IF($AJ$5=0,0,$AJ$5)","v":0},null,{"$f":"IF($AK$5=0,0,$AK$5)","v":0},null,{"$f":"IF($AL$5=0,0,$AL$5)","v":0},null,{"$f":"IF($AM$5=0,0,$AM$5)","v":0},null,{"$f":"IF($AN$5=0,0,$AN$5)","v":0},null,{"$f":"IF($AO$5=0,0,$AO$5)","v":0},null,{"$f":"IF($AP$5=0,0,$AP$5)","v":0},null,{"$f":"IF($AQ$5=0,0,$AQ$5)","v":0},null,{"$f":"IF($AR$5=0,0,$AR$5)","v":0},null,{"$f":"IF($AS$5=0,0,$AS$5)","v":0},null,{"$f":"IF($AT$5=0,0,$AT$5)","v":0},null,{"$f":"IF($AU$5=0,0,$AU$5)","v":0},null,{"$f":"IF($AV$5=0,0,$AV$5)","v":0}]
[{"$f":"$A$52","v":"   Unfall Art. 14 GAV"},null,null,null,null,{"$f":"$F$52","v":"u"},{"$f":"IF($AJ$6=0,0,$AJ$6)","v":0},null,{"$f":"IF($AK$6=0,0,$AK$6)","v":0},null,{"$f":"IF($AL$6=0,0,$AL$6)","v":0},null,{"$f":"IF($AM$6=0,0,$AM$6)","v":0},null,{"$f":"IF($AN$6=0,0,$AN$6)","v":0},null,{"$f":"IF($AO$6=0,0,$AO$6)","v":0},null,{"$f":"IF($AP$6=0,0,$AP$6)","v":0},null,{"$f":"IF($AQ$6=0,0,$AQ$6)","v":0},null,{"$f":"IF($AR$6=0,0,$AR$6)","v":0},null,{"$f":"IF($AS$6=0,0,$AS$6)","v":0},null,{"$f":"IF($AT$6=0,0,$AT$6)","v":0},null,{"$f":"IF($AU$6=0,0,$AU$6)","v":0},null,{"$f":"IF($AV$6=0,0,$AV$6)","v":0}]
[{"$f":"$A$53","v":"   Schwangerschaft/Mutterschaft Art. 15 GAV"},null,null,null,null,{"$f":"$F$53","v":"s"},{"$f":"IF($AJ$7=0,0,$AJ$7)","v":0},null,{"$f":"IF($AK$7=0,0,$AK$7)","v":0},null,{"$f":"IF($AL$7=0,0,$AL$7)","v":0},null,{"$f":"IF($AM$7=0,0,$AM$7)","v":0},null,{"$f":"IF($AN$7=0,0,$AN$7)","v":0},null,{"$f":"IF($AO$7=0,0,$AO$7)","v":0},null,{"$f":"IF($AP$7=0,0,$AP$7)","v":0},null,{"$f":"IF($AQ$7=0,0,$AQ$7)","v":0},null,{"$f":"IF($AR$7=0,0,$AR$7)","v":0},null,{"$f":"IF($AS$7=0,0,$AS$7)","v":0},null,{"$f":"IF($AT$7=0,0,$AT$7)","v":0},null,{"$f":"IF($AU$7=0,0,$AU$7)","v":0},null,{"$f":"IF($AV$7=0,0,$AV$7)","v":0}]
[{"$f":"$A$54","v":"   Militär/Beförderung/Zivilschutz Art. 16 GAV"},null,null,null,null,{"$f":"$F$54","v":"m"},{"$f":"IF($AJ$8=0,0,$AJ$8)","v":0},null,{"$f":"IF($AK$8=0,0,$AK$8)","v":0},null,{"$f":"IF($AL$8=0,0,$AL$8)","v":0},null,{"$f":"IF($AM$8=0,0,$AM$8)","v":0},null,{"$f":"IF($AN$8=0,0,$AN$8)","v":0},null,{"$f":"IF($AO$8=0,0,$AO$8)","v":0},null,{"$f":"IF($AP$8=0,0,$AP$8)","v":0},null,{"$f":"IF($AQ$8=0,0,$AQ$8)","v":0},null,{"$f":"IF($AR$8=0,0,$AR$8)","v":0},null,{"$f":"IF($AS$8=0,0,$AS$8)","v":0},null,{"$f":"IF($AT$8=0,0,$AT$8)","v":0},null,{"$f":"IF($AU$8=0,0,$AU$8)","v":0},null,{"$f":"IF($AV$8=0,0,$AV$8)","v":0}]
[{"$f":"$A$55","v":"   Kurzarbeit und Schlechtwetterausfälle"},null,null,null,null,{"$f":"$F$55","v":"ka"},{"$f":"IF($AJ$11=0,0,$AJ$11)","v":0},null,{"$f":"IF($AK$11=0,0,$AK$11)","v":0},null,{"$f":"IF($AL$11=0,0,$AL$11)","v":0},null,{"$f":"IF($AM$11=0,0,$AM$11)","v":0},null,{"$f":"IF($AN$11=0,0,$AN$11)","v":0},null,{"$f":"IF($AO$11=0,0,$AO$11)","v":0},null,{"$f":"IF($AP$11=0,0,$AP$11)","v":0},null,{"$f":"IF($AQ$11=0,0,$AQ$11)","v":0},null,{"$f":"IF($AR$11=0,0,$AR$11)","v":0},null,{"$f":"IF($AS$11=0,0,$AS$11)","v":0},null,{"$f":"IF($AT$11=0,0,$AT$11)","v":0},null,{"$f":"IF($AU$11=0,0,$AU$11)","v":0},null,{"$f":"IF($AV$11=0,0,$AV$11)","v":0}]
[{"$f":"$A$56","v":"   Berufsschule"},null,null,null,null,{"$f":"$F$56","v":"bs"},{"$f":"IF($AJ$9=0,0,$AJ$9)","v":0},null,{"$f":"IF($AK$9=0,0,$AK$9)","v":0},null,{"$f":"IF($AL$9=0,0,$AL$9)","v":0},null,{"$f":"IF($AM$9=0,0,$AM$9)","v":0},null,{"$f":"IF($AN$9=0,0,$AN$9)","v":0},null,{"$f":"IF($AO$9=0,0,$AO$9)","v":0},null,{"$f":"IF($AP$9=0,0,$AP$9)","v":0},null,{"$f":"IF($AQ$9=0,0,$AQ$9)","v":0},null,{"$f":"IF($AR$9=0,0,$AR$9)","v":0},null,{"$f":"IF($AS$9=0,0,$AS$9)","v":0},null,{"$f":"IF($AT$9=0,0,$AT$9)","v":0},null,{"$f":"IF($AU$9=0,0,$AU$9)","v":0},null,{"$f":"IF($AV$9=0,0,$AV$9)","v":0}]
[{"$f":"$A$57","v":"   Kurse"},null,null,null,null,{"$f":"$F$57","v":"ku"},{"$f":"IF($AJ$10=0,0,$AJ$10)","v":0},null,{"$f":"IF($AK$10=0,0,$AK$10)","v":0},null,{"$f":"IF($AL$10=0,0,$AL$10)","v":0},null,{"$f":"IF($AM$10=0,0,$AM$10)","v":0},null,{"$f":"IF($AN$10=0,0,$AN$10)","v":0},null,{"$f":"IF($AO$10=0,0,$AO$10)","v":0},null,{"$f":"IF($AP$10=0,0,$AP$10)","v":0},null,{"$f":"IF($AQ$10=0,0,$AQ$10)","v":0},null,{"$f":"IF($AR$10=0,0,$AR$10)","v":0},null,{"$f":"IF($AS$10=0,0,$AS$10)","v":0},null,{"$f":"IF($AT$10=0,0,$AT$10)","v":0},null,{"$f":"IF($AU$10=0,0,$AU$10)","v":0},null,{"$f":"IF($AV$10=0,0,$AV$10)","v":0}]
[{"$f":"$A$58","v":"Kompensations-Std"},{"$f":"$B$58","v":"aus Vorjahr"},null,null,null,{"$f":"$F$58","v":"kv"},{"$f":"IF($AJ$12=0,0,$AJ$12)","v":0},null,{"$f":"IF($AK$12=0,0,$AK$12)","v":0},null,{"$f":"IF($AL$12=0,0,$AL$12)","v":0},null,{"$f":"IF($AM$12=0,0,$AM$12)","v":0},null,{"$f":"IF($AN$12=0,0,$AN$12)","v":0},null,{"$f":"IF($AO$12=0,0,$AO$12)","v":0},null,{"$f":"IF($AP$12=0,0,$AP$12)","v":0},null,{"$f":"IF($AQ$12=0,0,$AQ$12)","v":0},null,{"$f":"IF($AR$12=0,0,$AR$12)","v":0},null,null,null,null,null,null,null,{"$f":"IF($AV$12=0,0,$AV$12)","v":0}]
[null,{"$f":"$B$59","v":"aus laufendem Jahr (Kontrolle)"},null,null,null,{"$f":"$F$59","v":"kj"},{"$f":"IF($AJ$15=0,0,$AJ$15)","v":0},null,{"$f":"IF($AK$15=0,0,$AK$15)","v":0},null,{"$f":"IF($AL$15=0,0,$AL$15)","v":0},null,{"$f":"IF($AM$15=0,0,$AM$15)","v":0},null,{"$f":"IF($AN$15=0,0,$AN$15)","v":0},null,{"$f":"IF($AO$15=0,0,$AO$15)","v":0},null,{"$f":"IF($AP$15=0,0,$AP$15)","v":0},null,{"$f":"IF($AQ$15=0,0,$AQ$15)","v":0},null,{"$f":"IF($AR$15=0,0,$AR$15)","v":0},null,{"$f":"IF($AS$15=0,0,$AS$15)","v":0},null,{"$f":"IF($AT$15=0,0,$AT$15)","v":0},null,{"$f":"IF($AU$15=0,0,$AU$15)","v":0},null,{"$f":"IF($AV$15=0,0,$AV$15)","v":0}]
[{"$f":"$A$60","v":"Auszahlung"},{"$f":"$B$60","v":"Stunden Vorjahressaldo"},null,null,null,null,{"$f":"IF($AJ$19=0,0,$AJ$19)","v":0},null,{"$f":"IF($AK$19=0,0,$AK$19)","v":0},null,{"$f":"IF($AL$19=0,0,$AL$19)","v":0},null,{"$f":"IF($AM$19=0,0,$AM$19)","v":0},null,{"$f":"IF($AN$19=0,0,$AN$19)","v":0},null,{"$f":"IF($AO$19=0,0,$AO$19)","v":0},null,{"$f":"IF($AP$19=0,0,$AP$19)","v":0},null,{"$f":"IF($AQ$19=0,0,$AQ$19)","v":0},null,{"$f":"IF($AR$19=0,0,$AR$19)","v":0},null,null,null,null,null,null,null,{"$f":"IF($AV$19=0,0,$AV$19)","v":0}]
[{"$f":"$A$61","v":"Differenz"},{"$f":"$B$61","v":"nach Kompensation und Auszahlung"},null,null,null,null,{"$f":"IF(ROUND($P$4,3)=0,0,$P$4-SUM(G634+G636))","v":0},null,{"$f":"IF(ROUND(G637,3)=0,0,G637-(SUM(I636+I634)))","v":0},null,{"$f":"IF(ROUND(I637,3)=0,0,I637-(SUM(K636+K634)))","v":0},null,{"$f":"IF(ROUND(K637,3)=0,0,K637-(SUM(M636+M634)))","v":0},null,{"$f":"IF(ROUND(M637,3)=0,0,M637-(SUM(O636+O634)))","v":0},null,{"$f":"IF(ROUND(O637,3)=0,0,O637-(SUM(Q636+Q634)))","v":0},null,{"$f":"IF(ROUND(Q637,3)=0,0,Q637-(SUM(S636+S634)))","v":0},null,{"$f":"IF(ROUND(S637,3)=0,0,S637-(SUM(U636+U634)))","v":0},null,{"$f":"IF(ROUND(U637,3)=0,0,U637-(SUM(W636+W634)))","v":0},null,{"$f":"$Y$61","v":""}]
[{"$f":"$A$62","v":"Auszahlung"},{"$f":"$B$62","v":"Stunden laufendes Jahr"},null,null,null,null,{"$f":"IF($AJ$20=0,0,$AJ$20)","v":0},null,{"$f":"IF($AK$20=0,0,$AK$20)","v":0},null,{"$f":"IF($AL$20=0,0,$AL$20)","v":0},null,{"$f":"IF($AM$20=0,0,$AM$20)","v":0},null,{"$f":"IF($AN$20=0,0,$AN$20)","v":0},null,{"$f":"IF($AO$20=0,0,$AO$20)","v":0},null,{"$f":"IF($AP$20=0,0,$AP$20)","v":0},null,{"$f":"IF($AQ$20=0,0,$AQ$20)","v":0},null,{"$f":"IF($AR$20=0,0,$AR$20)","v":0},null,{"$f":"IF($AS$20=0,0,$AS$20)","v":0},null,{"$f":"IF($AT$20=0,0,$AT$20)","v":0},null,{"$f":"IF($AU$20=0,0,$AU$20)","v":0},null,{"$f":"IF($AV$20=0,0,$AV$20)","v":0}]
[{"$f":"$A$63","v":"Fehlstunden"},{"$f":"$B$63","v":"laufendes Jahr (Kontrolle)"},null,null,null,{"$f":"$F$63","v":"fe"},{"$f":"IF($AJ$14=0,0,$AJ$14)","v":0},null,{"$f":"IF($AK$14=0,0,$AK$14)","v":0},null,{"$f":"IF($AL$14=0,0,$AL$14)","v":0},null,{"$f":"IF($AM$14=0,0,$AM$14)","v":0},null,{"$f":"IF($AN$14=0,0,$AN$14)","v":0},null,{"$f":"IF($AO$14=0,0,$AO$14)","v":0},null,{"$f":"IF($AP$14=0,0,$AP$14)","v":0},null,{"$f":"IF($AQ$14=0,0,$AQ$14)","v":0},null,{"$f":"IF($AR$14=0,0,$AR$14)","v":0},null,{"$f":"IF($AS$14=0,0,$AS$14)","v":0},null,{"$f":"IF($AT$14=0,0,$AT$14)","v":0},null,{"$f":"IF($AU$14=0,0,$AU$14)","v":0},null,{"$f":"IF($AV$14=0,0,$AV$14)","v":0}]
[{"$f":"$A$64","v":"Total inkl. Zeitzuschläge"},{"$f":"$B$64","v":"Stunden produktiv und unproduktiv"},null,null,null,null,{"$f":"IF($AG$36=0,0,$AG$36)","v":0},null,{"$f":"IF($AG$99=0,0,$AG$99)","v":0},null,{"$f":"IF($AG$163=0,0,$AG$163)","v":0},null,{"$f":"IF($AG$227=0,0,$AG$227)","v":0},null,{"$f":"IF($AG$291=0,0,$AG$291)","v":0},null,{"$f":"IF($AG$355=0,0,$AG$355)","v":0},null,{"$f":"IF($AG$419=0,0,$AG$419)","v":0},null,{"$f":"IF($AG$483=0,0,$AG$483)","v":0},null,{"$f":"IF($AG$547=0,0,$AG$547)","v":0},null,{"$f":"IF($AG$611=0,0,$AG$611)","v":0},null,{"$f":"IF($AG$675=0,0,$AG$675)","v":0},null,{"$f":"IF($AG$739=0,0,$AG$739)","v":0},null,{"$f":"SUM($G$64:$AD$64)","v":0}]
[{"$f":"$A$65","v":"Vergleich"},{"$f":"$B$65","v":"Stunden zu Soll-Stunden (inkl. allfälli-\nge Minusstunden Vorjahr)"},null,null,null,null,{"$f":"$G$65","v":-168},null,{"$f":"$I$65","v":-160},null,{"$f":"$K$65","v":-184},null,{"$f":"$M$65","v":-168},null,{"$f":"$O$65","v":-176},null,{"$f":"$Q$65","v":-176},null,{"$f":"$S$65","v":-168},null,{"$f":"$U$65","v":-184},null,{"$f":"$W$65","v":-176},null,{"$f":"$Y$65","v":-168},null,{"$f":"$AA$65","v":-176},null,{"$f":"$AC$65","v":-176},null,{"$f":"$AE$65","v":-2080}]
[null,{"$f":"$B$66","v":"Stunden zu Soll-Stunden (kumuliert)"},null,null,null,null,{"$f":"$G$66","v":-168},null,{"$f":"$I$66","v":-328},null,{"$f":"$K$66","v":-512},null,{"$f":"$M$66","v":-680},null,{"$f":"$O$66","v":-856},null,{"$f":"$Q$66","v":-1032},null,{"$f":"$S$66","v":-1200},null,{"$f":"$U$66","v":-1384},null,{"$f":"$W$66","v":-1560},null,{"$f":"$Y$66","v":-1728},null,{"$f":"$AA$66","v":-1904},null,{"$f":"$AC$66","v":-2080},null,{"$f":"$AE$66","v":0}]
[{"$f":"$A$67","v":"Ferienkontrolle"},{"$f":"$B$67","v":"Ferienguthaben Vorjahr"},null,null,null,null,{"$f":"IF($AA$4=0,0,$AA$4)","v":0},null,{"$f":"$I$67","v":"Ferienguthaben nach \nArt. 12.1 GAV"},null,null,null,{"$f":"IF($AA$5=0,0,$AA$5)","v":0},null,{"$f":"$O$67","v":"Ferienguthaben total"},null,null,null,{"$f":"SUM(G643+M643)","v":0},null,{"$f":"$U$67","v":"Ferien bezogen"},null,null,null,{"$f":"IF($AV$4=0,0,$AV$4)","v":0},null,{"$f":"$AA$67","v":"Aktuelles Ferienguthaben"},null,null,null,{"$f":"IF(S643=0,0,S643-Y643)","v":0}]
[]
[]
[{"$f":"$A$3","v":"Mitarbeiter/In"},{"$f":"IF($B$3=\"\",\"\",$B$3)","v":"Muster Peter"},null,null,null,null,null,null,null,null,null,null,null,null,null,null,null,null,null,null,null,null,null,null,null,null,null,null,null,null,null,{"$f":"AF3","v":0}]
[{"$f":"$A$4","v":"Anstellung %"},{"$f":"$AL$54","v":100},null,{"$f":"Labels!B99","v":"im November"}]
[{"$f":"$A$5","v":"Saldo für das Jahr"},null,null,{"$f":"IF($AE$65=0,0,$AE$65)","v":-2080}]
[{"$f":"TEXT(DATE(YEAR(AP29),MONTH(AP29)+10,1),\"MMMM\"&Labels!B13)","v":"November"},{"$f":"$B$9","v":"Saldo Monat + / -"},null,null,null,{"$f":"(AG651-(SUM(AG652:AG666)-AE674))*-1","v":-176},null,null,null,null,{"$f":"$K$9","v":" = "},{"$f":"$L$9","v":"Gelbe Felder müssen ausgefüllt werden (die übrigen werden automatisch berechnet)"},null,null,null,null,null,null,null,null,null,null,null,null,null,null,null,null,null,null,null,null,{"$f":"COUNT(B652:AF652)&\" \"&Labels!$B$63","v":"22 Tage"}]
[{"$f":"$A$10","v":"Tag"},{"$f":"AF586+1","v":"2022-11-01"},{"$f":"B650+1","v":"2022-11-02"},{"$f":"C650+1","v":"2022-11-03"},"2022-11-04","2022-11-05","2022-11-06","2022-11-07","2022-11-08","2022-11-09","2022-11-10","2022-11-11","2022-11-12","2022-11-13","2022-11-14","2022-11-15","2022-11-16","2022-11-17","2022-11-18","2022-11-19","2022-11-20","2022-11-21","2022-11-22","2022-11-23","2022-11-24","2022-11-25","2022-11-26","2022-11-27","2022-11-28","2022-11-29","2022-11-30"]
[{"$f":"$A$11","v":"Kalenderwoche"},{"$f":"IF(B650=\"\",\"\",TRUNC((B650-DATE(YEAR(B650+3-MOD(B650-2,7)),1,MOD(B650-2,7)-9))/7))","v":44},44,44,44,44,44,45,45,45,45,45,45,45,46,46,46,46,46,46,46,47,47,47,47,47,47,47,48,48,48,"",{"$f":"SUM(B652:AF652)","v":176}]
[{"$f":"$A$12","v":"Sollstunden"},{"$f":"IF(AND(MOD(B650,7)>=2,SUMPRODUCT(($AM$56:$AQ$56=MOD(B650,7))*$AM$54:$AQ$54)),($J$7*5/$AR$54)*$B$647%,\"\")","v":8},{"$f":"IF(AND(MOD(C650,7)>=2,SUMPRODUCT(($AM$56:$AQ$56=MOD(C650,7))*$AM$54:$AQ$54)),($J$7*5/$AR$54)*$B$647%,\"\")","v":8},{"$f":"IF(AND(MOD(D650,7)>=2,SUMPRODUCT(($AM$56:$AQ$56=MOD(D650,7))*$AM$54:$AQ$54)),($J$7*5/$AR$54)*$B$647%,\"\")","v":8},{"$f":"IF(AND(MOD(E650,7)>=2,SUMPRODUCT(($AM$56:$AQ$56=MOD(E650,7))*$AM$54:$AQ$54)),($J$7*5/$AR$54)*$B$647%,\"\")","v":8},{"$f":"IF(AND(MOD(F650,7)>=2,SUMPRODUCT(($AM$56:$AQ$56=MOD(F650,7))*$AM$54:$AQ$54)),($J$7*5/$AR$54)*$B$647%,\"\")","v":""},{"$f":"IF(AND(MOD(G650,7)>=2,SUMPRODUCT(($AM$56:$AQ$56=MOD(G650,7))*$AM$54:$AQ$54)),($J$7*5/$AR$54)*$B$647%,\"\")","v":""},{"$f":"IF(AND(MOD(H650,7)>=2,SUMPRODUCT(($AM$56:$AQ$56=MOD(H650,7))*$AM$54:$AQ$54)),($J$7*5/$AR$54)*$B$647%,\"\")","v":8},{"$f":"IF(AND(MOD(I650,7)>=2,SUMPRODUCT(($AM$56:$AQ$56=MOD(I650,7))*$AM$54:$AQ$54)),($J$7*5/$AR$54)*$B$647%,\"\")","v":8},{"$f":"IF(AND(MOD(J650,7)>=2,SUMPRODUCT(($AM$56:$AQ$56=MOD(J650,7))*$AM$54:$AQ$54)),($J$7*5/$AR$54)*$B$647%,\"\")","v":8},{"$f":"IF(AND(MOD(K650,7)>=2,SUMPRODUCT(($AM$56:$AQ$56=MOD(K650,7))*$AM$54:$AQ$54)),($J$7*5/$AR$54)*$B$647%,\"\")","v":8},{"$f":"IF(AND(MOD(L650,7)>=2,SUMPRODUCT(($AM$56:$AQ$56=MOD(L650,7))*$AM$54:$AQ$54)),($J$7*5/$AR$54)*$B$647%,\"\")","v":8},{"$f":"IF(AND(MOD(M650,7)>=2,SUMPRODUCT(($AM$56:$AQ$56=MOD(M650,7))*$AM$54:$AQ$54)),($J$7*5/$AR$54)*$B$647%,\"\")","v":""},{"$f":"IF(AND(MOD(N650,7)>=2,SUMPRODUCT(($AM$56:$AQ$56=MOD(N650,7))*$AM$54:$AQ$54)),($J$7*5/$AR$54)*$B$647%,\"\")","v":""},{"$f":"IF(AND(MOD(O650,7)>=2,SUMPRODUCT(($AM$56:$AQ$56=MOD(O650,7))*$AM$54:$AQ$54)),($J$7*5/$AR$54)*$B$647%,\"\")","v":8},{"$f":"IF(AND(MOD(P650,7)>=2,SUMPRODUCT(($AM$56:$AQ$56=MOD(P650,7))*$AM$54:$AQ$54)),($J$7*5/$AR$54)*$B$647%,\"\")","v":8},{"$f":"IF(AND(MOD(Q650,7)>=2,SUMPRODUCT(($AM$56:$AQ$56=MOD(Q650,7))*$AM$54:$AQ$54)),($J$7*5/$AR$54)*$B$647%,\"\")","v":8},{"$f":"IF(AND(MOD(R650,7)>=2,SUMPRODUCT(($AM$56:$AQ$56=MOD(R650,7))*$AM$54:$AQ$54)),($J$7*5/$AR$54)*$B$647%,\"\")","v":8},{"$f":"IF(AND(MOD(S650,7)>=2,SUMPRODUCT(($AM$56:$AQ$56=MOD(S650,7))*$AM$54:$AQ$54)),($J$7*5/$AR$54)*$B$647%,\"\")","v":8},{"$f":"IF(AND(MOD(T650,7)>=2,SUMPRODUCT(($AM$56:$AQ$56=MOD(T650,7))*$AM$54:$AQ$54)),($J$7*5/$AR$54)*$B$647%,\"\")","v":""},{"$f":"IF(AND(MOD(U650,7)>=2,SUMPRODUCT(($AM$56:$AQ$56=MOD(U650,7))*$AM$54:$AQ$54)),($J$7*5/$AR$54)*$B$647%,\"\")","v":""},{"$f":"IF(AND(MOD(V650,7)>=2,SUMPRODUCT(($AM$56:$AQ$56=MOD(V650,7))*$AM$54:$AQ$54)),($J$7*5/$AR$54)*$B$647%,\"\")","v":8},{"$f":"IF(AND(MOD(W650,7)>=2,SUMPRODUCT(($AM$56:$AQ$56=MOD(W650,7))*$AM$54:$AQ$54)),($J$7*5/$AR$54)*$B$647%,\"\")","v":8},{"$f":"IF(AND(MOD(X650,7)>=2,SUMPRODUCT(($AM$56:$AQ$56=MOD(X650,7))*$AM$54:$AQ$54)),($J$7*5/$AR$54)*$B$647%,\"\")","v":8},{"$f":"IF(AND(MOD(Y650,7)>=2,SUMPRODUCT(($AM$56:$AQ$56=MOD(Y650,7))*$AM$54:$AQ$54)),($J$7*5/$AR$54)*$B$647%,\"\")","v":8},{"$f":"IF(AND(MOD(Z650,7)>=2,SUMPRODUCT(($AM$56:$AQ$56=MOD(Z650,7))*$AM$54:$AQ$54)),($J$7*5/$AR$54)*$B$647%,\"\")","v":8},{"$f":"IF(AND(MOD(AA650,7)>=2,SUMPRODUCT(($AM$56:$AQ$56=MOD(AA650,7))*$AM$54:$AQ$54)),($J$7*5/$AR$54)*$B$647%,\"\")","v":""},{"$f":"IF(AND(MOD(AB650,7)>=2,SUMPRODUCT(($AM$56:$AQ$56=MOD(AB650,7))*$AM$54:$AQ$54)),($J$7*5/$AR$54)*$B$647%,\"\")","v":""},{"$f":"IF(AND(MOD(AC650,7)>=2,SUMPRODUCT(($AM$56:$AQ$56=MOD(AC650,7))*$AM$54:$AQ$54)),($J$7*5/$AR$54)*$B$647%,\"\")","v":8},{"$f":"IF(AND(MOD(AD650,7)>=2,SUMPRODUCT(($AM$56:$AQ$56=MOD(AD650,7))*$AM$54:$AQ$54)),($J$7*5/$AR$54)*$B$647%,\"\")","v":8},{"$f":"IF(AND(MOD(AE650,7)>=2,SUMPRODUCT(($AM$56:$AQ$56=MOD(AE650,7))*$AM$54:$AQ$54)),($J$7*5/$AR$54)*$B$647%,\"\")","v":8},null,{"$f":"SUM(AT3:AT13)","v":0}]
[{"$f":"$A$13","v":"Absenz in Std"},{"$f":"B1061","v":0},{"$f":"C1061","v":0},0,0,0,0,0,0,0,0,0,0,0,0,0,0,0,0,0,0,0,0,0,0,0,0,0,0,0,0]
[{"$f":"$A$14","v":"Code"},{"$f":"IF(B1061<>0,IF(MAX(B1048:B1060)<B1061,Labels!$B$163,INDEX($AH$1047:$AH$1059,MATCH(MAX(B1048:B1060),B1048:B1060,0))),\"\")","v":""},{"$f":"IF(C1061<>0,IF(MAX(C1048:C1060)<C1061,Labels!$B$163,INDEX($AH$1047:$AH$1059,MATCH(MAX(C1048:C1060),C1048:C1060,0))),\"\")","v":""},{"$f":"IF(D1061<>0,IF(MAX(D1048:D1060)<D1061,Labels!$B$163,INDEX($AH$1047:$AH$1059,MATCH(MAX(D1048:D1060),D1048:D1060,0))),\"\")","v":""},{"$f":"IF(E1061<>0,IF(MAX(E1048:E1060)<E1061,Labels!$B$163,INDEX($AH$1047:$AH$1059,MATCH(MAX(E1048:E1060),E1048:E1060,0))),\"\")","v":""},{"$f":"IF(F1061<>0,IF(MAX(F1048:F1060)<F1061,Labels!$B$163,INDEX($AH$1047:$AH$1059,MATCH(MAX(F1048:F1060),F1048:F1060,0))),\"\")","v":""},{"$f":"IF(G1061<>0,IF(MAX(G1048:G1060)<G1061,Labels!$B$163,INDEX($AH$1047:$AH$1059,MATCH(MAX(G1048:G1060),G1048:G1060,0))),\"\")","v":""},{"$f":"IF(H1061<>0,IF(MAX(H1048:H1060)<H1061,Labels!$B$163,INDEX($AH$1047:$AH$1059,MATCH(MAX(H1048:H1060),H1048:H1060,0))),\"\")","v":""},{"$f":"IF(I1061<>0,IF(MAX(I1048:I1060)<I1061,Labels!$B$163,INDEX($AH$1047:$AH$1059,MATCH(MAX(I1048:I1060),I1048:I1060,0))),\"\")","v":""},{"$f":"IF(J1061<>0,IF(MAX(J1048:J1060)<J1061,Labels!$B$163,INDEX($AH$1047:$AH$1059,MATCH(MAX(J1048:J1060),J1048:J1060,0))),\"\")","v":""},{"$f":"IF(K1061<>0,IF(MAX(K1048:K1060)<K1061,Labels!$B$163,INDEX($AH$1047:$AH$1059,MATCH(MAX(K1048:K1060),K1048:K1060,0))),\"\")","v":""},{"$f":"IF(L1061<>0,IF(MAX(L1048:L1060)<L1061,Labels!$B$163,INDEX($AH$1047:$AH$1059,MATCH(MAX(L1048:L1060),L1048:L1060,0))),\"\")","v":""},{"$f":"IF(M1061<>0,IF(MAX(M1048:M1060)<M1061,Labels!$B$163,INDEX($AH$1047:$AH$1059,MATCH(MAX(M1048:M1060),M1048:M1060,0))),\"\")","v":""},{"$f":"IF(N1061<>0,IF(MAX(N1048:N1060)<N1061,Labels!$B$163,INDEX($AH$1047:$AH$1059,MATCH(MAX(N1048:N1060),N1048:N1060,0))),\"\")","v":""},{"$f":"IF(O1061<>0,IF(MAX(O1048:O1060)<O1061,Labels!$B$163,INDEX($AH$1047:$AH$1059,MATCH(MAX(O1048:O1060),O1048:O1060,0))),\"\")","v":""},{"$f":"IF(P1061<>0,IF(MAX(P1048:P1060)<P1061,Labels!$B$163,INDEX($AH$1047:$AH$1059,MATCH(MAX(P1048:P1060),P1048:P1060,0))),\"\")","v":""},{"$f":"IF(Q1061<>0,IF(MAX(Q1048:Q1060)<Q1061,Labels!$B$163,INDEX($AH$1047:$AH$1059,MATCH(MAX(Q1048:Q1060),Q1048:Q1060,0))),\"\")","v":""},{"$f":"IF(R1061<>0,IF(MAX(R1048:R1060)<R1061,Labels!$B$163,INDEX($AH$1047:$AH$1059,MATCH(MAX(R1048:R1060),R1048:R1060,0))),\"\")","v":""},{"$f":"IF(S1061<>0,IF(MAX(S1048:S1060)<S1061,Labels!$B$163,INDEX($AH$1047:$AH$1059,MATCH(MAX(S1048:S1060),S1048:S1060,0))),\"\")","v":""},{"$f":"IF(T1061<>0,IF(MAX(T1048:T1060)<T1061,Labels!$B$163,INDEX($AH$1047:$AH$1059,MATCH(MAX(T1048:T1060),T1048:T1060,0))),\"\")","v":""},{"$f":"IF(U1061<>0,IF(MAX(U1048:U1060)<U1061,Labels!$B$163,INDEX($AH$1047:$AH$1059,MATCH(MAX(U1048:U1060),U1048:U1060,0))),\"\")","v":""},{"$f":"IF(V1061<>0,IF(MAX(V1048:V1060)<V1061,Labels!$B$163,INDEX($AH$1047:$AH$1059,MATCH(MAX(V1048:V1060),V1048:V1060,0))),\"\")","v":""},{"$f":"IF(W1061<>0,IF(MAX(W1048:W1060)<W1061,Labels!$B$163,INDEX($AH$1047:$AH$1059,MATCH(MAX(W1048:W1060),W1048:W1060,0))),\"\")","v":""},{"$f":"IF(X1061<>0,IF(MAX(X1048:X1060)<X1061,Labels!$B$163,INDEX($AH$1047:$AH$1059,MATCH(MAX(X1048:X1060),X1048:X1060,0))),\"\")","v":""},{"$f":"IF(Y1061<>0,IF(MAX(Y1048:Y1060)<Y1061,Labels!$B$163,INDEX($AH$1047:$AH$1059,MATCH(MAX(Y1048:Y1060),Y1048:Y1060,0))),\"\")","v":""},{"$f":"IF(Z1061<>0,IF(MAX(Z1048:Z1060)<Z1061,Labels!$B$163,INDEX($AH$1047:$AH$1059,MATCH(MAX(Z1048:Z1060),Z1048:Z1060,0))),\"\")","v":""},{"$f":"IF(AA1061<>0,IF(MAX(AA1048:AA1060)<AA1061,Labels!$B$163,INDEX($AH$1047:$AH$1059,MATCH(MAX(AA1048:AA1060),AA1048:AA1060,0))),\"\")","v":""},{"$f":"IF(AB1061<>0,IF(MAX(AB1048:AB1060)<AB1061,Labels!$B$163,INDEX($AH$1047:$AH$1059,MATCH(MAX(AB1048:AB1060),AB1048:AB1060,0))),\"\")","v":""},{"$f":"IF(AC1061<>0,IF(MAX(AC1048:AC1060)<AC1061,Labels!$B$163,INDEX($AH$1047:$AH$1059,MATCH(MAX(AC1048:AC1060),AC1048:AC1060,0))),\"\")","v":""},{"$f":"IF(AD1061<>0,IF(MAX(AD1048:AD1060)<AD1061,Labels!$B$163,INDEX($AH$1047:$AH$1059,MATCH(MAX(AD1048:AD1060),AD1048:AD1060,0))),\"\")","v":""},{"$f":"IF(AE1061<>0,IF(MAX(AE1048:AE1060)<AE1061,Labels!$B$163,INDEX($AH$1047:$AH$1059,MATCH(MAX(AE1048:AE1060),AE1048:AE1060,0))),\"\")","v":""},null,{"$f":"SUM(B655:AF655)","v":0}]
[{"$f":"$A$15","v":"00.00-06.00h"},null,null,null,null,null,null,null,null,null,null,null,null,null,null,null,null,null,null,null,null,null,null,null,null,null,null,null,null,null,null,null,{"$f":"SUM(B656:AF656)","v":0}]
[{"$f":"$A$16","v":"06.00-20.00h"},null,null,null,null,null,null,null,null,null,null,null,null,null,null,null,null,null,null,null,null,null,null,null,null,null,null,null,null,null,null,null,{"$f":"SUM(B657:AF657)","v":0},"[0]"]
[{"$f":"$A$17","v":"20.00-24.00h"}]
[{"$f":"$A$18","v":"Feiertag \"ft\""},{"$f":"IF(WEEKDAY(B650,2)<=6,IF(KALENDER!E23=\"x\",Labels!$B$118,\"\"),\"\")","v":""},{"$f":"IF(WEEKDAY(C650,2)<=6,IF(KALENDER!F23=\"x\",Labels!$B$118,\"\"),\"\")","v":""},{"$f":"IF(WEEKDAY(D650,2)<=6,IF(KALENDER!G23=\"x\",Labels!$B$118,\"\"),\"\")","v":""},{"$f":"IF(WEEKDAY(E650,2)<=6,IF(KALENDER!H23=\"x\",Labels!$B$118,\"\"),\"\")","v":""},{"$f":"IF(WEEKDAY(F650,2)<=6,IF(KALENDER!I23=\"x\",Labels!$B$118,\"\"),\"\")","v":""},{"$f":"IF(WEEKDAY(G650,2)<=6,IF(KALENDER!J23=\"x\",Labels!$B$118,\"\"),\"\")","v":""},{"$f":"IF(WEEKDAY(H650,2)<=6,IF(KALENDER!K23=\"x\",Labels!$B$118,\"\"),\"\")","v":""},{"$f":"IF(WEEKDAY(I650,2)<=6,IF(KALENDER!L23=\"x\",Labels!$B$118,\"\"),\"\")","v":""},{"$f":"IF(WEEKDAY(J650,2)<=6,IF(KALENDER!M23=\"x\",Labels!$B$118,\"\"),\"\")","v":""},{"$f":"IF(WEEKDAY(K650,2)<=6,IF(KALENDER!N23=\"x\",Labels!$B$118,\"\"),\"\")","v":""},{"$f":"IF(WEEKDAY(L650,2)<=6,IF(KALENDER!O23=\"x\",Labels!$B$118,\"\"),\"\")","v":""},{"$f":"IF(WEEKDAY(M650,2)<=6,IF(KALENDER!P23=\"x\",Labels!$B$118,\"\"),\"\")","v":""},{"$f":"IF(WEEKDAY(N650,2)<=6,IF(KALENDER!Q23=\"x\",Labels!$B$118,\"\"),\"\")","v":""},{"$f":"IF(WEEKDAY(O650,2)<=6,IF(KALENDER!R23=\"x\",Labels!$B$118,\"\"),\"\")","v":""},{"$f":"IF(WEEKDAY(P650,2)<=6,IF(KALENDER!S23=\"x\",Labels!$B$118,\"\"),\"\")","v":""},{"$f":"IF(WEEKDAY(Q650,2)<=6,IF(KALENDER!T23=\"x\",Labels!$B$118,\"\"),\"\")","v":""},{"$f":"IF(WEEKDAY(R650,2)<=6,IF(KALENDER!U23=\"x\",Labels!$B$118,\"\"),\"\")","v":""},{"$f":"IF(WEEKDAY(S650,2)<=6,IF(KALENDER!V23=\"x\",Labels!$B$118,\"\"),\"\")","v":""},{"$f":"IF(WEEKDAY(T650,2)<=6,IF(KALENDER!W23=\"x\",Labels!$B$118,\"\"),\"\")","v":""},{"$f":"IF(WEEKDAY(U650,2)<=6,IF(KALENDER!X23=\"x\",Labels!$B$118,\"\"),\"\")","v":""},{"$f":"IF(WEEKDAY(V650,2)<=6,IF(KALENDER!Y23=\"x\",Labels!$B$118,\"\"),\"\")","v":""},{"$f":"IF(WEEKDAY(W650,2)<=6,IF(KALENDER!Z23=\"x\",Labels!$B$118,\"\"),\"\")","v":""},{"$f":"IF(WEEKDAY(X650,2)<=6,IF(KALENDER!AA23=\"x\",Labels!$B$118,\"\"),\"\")","v":""},{"$f":"IF(WEEKDAY(Y650,2)<=6,IF(KALENDER!AB23=\"x\",Labels!$B$118,\"\"),\"\")","v":""},{"$f":"IF(WEEKDAY(Z650,2)<=6,IF(KALENDER!AC23=\"x\",Labels!$B$118,\"\"),\"\")","v":""},{"$f":"IF(WEEKDAY(AA650,2)<=6,IF(KALENDER!AD23=\"x\",Labels!$B$118,\"\"),\"\")","v":""},{"$f":"IF(WEEKDAY(AB650,2)<=6,IF(KALENDER!AE23=\"x\",Labels!$B$118,\"\"),\"\")","v":""},{"$f":"IF(WEEKDAY(AC650,2)<=6,IF(KALENDER!AF23=\"x\",Labels!$B$118,\"\"),\"\")","v":""},{"$f":"IF(WEEKDAY(AD650,2)<=6,IF(KALENDER!AG23=\"x\",Labels!$B$118,\"\"),\"\")","v":""},{"$f":"IF(WEEKDAY(AE650,2)<=6,IF(KALENDER!AH23=\"x\",Labels!$B$118,\"\"),\"\")","v":""},{"$f":"IF(WEEKDAY(AF650,2)<=6,IF(KALENDER!AI23=\"x\",Labels!$B$118,\"\"),\"\")","v":""},{"$f":"SUM(B659:AF659)","v":0}]
[{"$f":"$A$19","v":"Gutschrift \"ft\""},{"$f":"IF(AND(B658=Labels!$B$118,WEEKDAY(B650,2)<6,B$652<>\"\"),($J$7*5/$AR$54)*$B$647%,\"\")","v":""},{"$f":"IF(AND(C658=Labels!$B$118,WEEKDAY(C650,2)<6,C$652<>\"\"),($J$7*5/$AR$54)*$B$647%,\"\")","v":""},{"$f":"IF(AND(D658=Labels!$B$118,WEEKDAY(D650,2)<6,D$652<>\"\"),($J$7*5/$AR$54)*$B$647%,\"\")","v":""},{"$f":"IF(AND(E658=Labels!$B$118,WEEKDAY(E650,2)<6,E$652<>\"\"),($J$7*5/$AR$54)*$B$647%,\"\")","v":""},{"$f":"IF(AND(F658=Labels!$B$118,WEEKDAY(F650,2)<6,F$652<>\"\"),($J$7*5/$AR$54)*$B$647%,\"\")","v":""},{"$f":"IF(AND(G658=Labels!$B$118,WEEKDAY(G650,2)<6,G$652<>\"\"),($J$7*5/$AR$54)*$B$647%,\"\")","v":""},{"$f":"IF(AND(H658=Labels!$B$118,WEEKDAY(H650,2)<6,H$652<>\"\"),($J$7*5/$AR$54)*$B$647%,\"\")","v":""},{"$f":"IF(AND(I658=Labels!$B$118,WEEKDAY(I650,2)<6,I$652<>\"\"),($J$7*5/$AR$54)*$B$647%,\"\")","v":""},{"$f":"IF(AND(J658=Labels!$B$118,WEEKDAY(J650,2)<6,J$652<>\"\"),($J$7*5/$AR$54)*$B$647%,\"\")","v":""},{"$f":"IF(AND(K658=Labels!$B$118,WEEKDAY(K650,2)<6,K$652<>\"\"),($J$7*5/$AR$54)*$B$647%,\"\")","v":""},{"$f":"IF(AND(L658=Labels!$B$118,WEEKDAY(L650,2)<6,L$652<>\"\"),($J$7*5/$AR$54)*$B$647%,\"\")","v":""},{"$f":"IF(AND(M658=Labels!$B$118,WEEKDAY(M650,2)<6,M$652<>\"\"),($J$7*5/$AR$54)*$B$647%,\"\")","v":""},{"$f":"IF(AND(N658=Labels!$B$118,WEEKDAY(N650,2)<6,N$652<>\"\"),($J$7*5/$AR$54)*$B$647%,\"\")","v":""},{"$f":"IF(AND(O658=Labels!$B$118,WEEKDAY(O650,2)<6,O$652<>\"\"),($J$7*5/$AR$54)*$B$647%,\"\")","v":""},{"$f":"IF(AND(P658=Labels!$B$118,WEEKDAY(P650,2)<6,P$652<>\"\"),($J$7*5/$AR$54)*$B$647%,\"\")","v":""},{"$f":"IF(AND(Q658=Labels!$B$118,WEEKDAY(Q650,2)<6,Q$652<>\"\"),($J$7*5/$AR$54)*$B$647%,\"\")","v":""},{"$f":"IF(AND(R658=Labels!$B$118,WEEKDAY(R650,2)<6,R$652<>\"\"),($J$7*5/$AR$54)*$B$647%,\"\")","v":""},{"$f":"IF(AND(S658=Labels!$B$118,WEEKDAY(S650,2)<6,S$652<>\"\"),($J$7*5/$AR$54)*$B$647%,\"\")","v":""},{"$f":"IF(AND(T658=Labels!$B$118,WEEKDAY(T650,2)<6,T$652<>\"\"),($J$7*5/$AR$54)*$B$647%,\"\")","v":""},{"$f":"IF(AND(U658=Labels!$B$118,WEEKDAY(U650,2)<6,U$652<>\"\"),($J$7*5/$AR$54)*$B$647%,\"\")","v":""},{"$f":"IF(AND(V658=Labels!$B$118,WEEKDAY(V650,2)<6,V$652<>\"\"),($J$7*5/$AR$54)*$B$647%,\"\")","v":""},{"$f":"IF(AND(W658=Labels!$B$118,WEEKDAY(W650,2)<6,W$652<>\"\"),($J$7*5/$AR$54)*$B$647%,\"\")","v":""},{"$f":"IF(AND(X658=Labels!$B$118,WEEKDAY(X650,2)<6,X$652<>\"\"),($J$7*5/$AR$54)*$B$647%,\"\")","v":""},{"$f":"IF(AND(Y658=Labels!$B$118,WEEKDAY(Y650,2)<6,Y$652<>\"\"),($J$7*5/$AR$54)*$B$647%,\"\")","v":""},{"$f":"IF(AND(Z658=Labels!$B$118,WEEKDAY(Z650,2)<6,Z$652<>\"\"),($J$7*5/$AR$54)*$B$647%,\"\")","v":""},{"$f":"IF(AND(AA658=Labels!$B$118,WEEKDAY(AA650,2)<6,AA$652<>\"\"),($J$7*5/$AR$54)*$B$647%,\"\")","v":""},{"$f":"IF(AND(AB658=Labels!$B$118,WEEKDAY(AB650,2)<6,AB$652<>\"\"),($J$7*5/$AR$54)*$B$647%,\"\")","v":""},{"$f":"IF(AND(AC658=Labels!$B$118,WEEKDAY(AC650,2)<6,AC$652<>\"\"),($J$7*5/$AR$54)*$B$647%,\"\")","v":""},{"$f":"IF(AND(AD658=Labels!$B$118,WEEKDAY(AD650,2)<6,AD$652<>\"\"),($J$7*5/$AR$54)*$B$647%,\"\")","v":""},{"$f":"IF(AND(AE658=Labels!$B$118,WEEKDAY(AE650,2)<6,AE$652<>\"\"),($J$7*5/$AR$54)*$B$647%,\"\")","v":""},{"$f":"IF(AND(AF658=Labels!$B$118,WEEKDAY(AF650,2)<6),$J$7*$B$647%,\"\")","v":""}]
[{"$f":"$A$20","v":"Tagestotal"},{"$f":"SUM(B655:B657)","v":0},{"$f":"SUM(C655:C657)","v":0},0,0,0,0,0,0,0,0,0,0,0,0,0,0,0,0,0,0,0,0,0,0,0,0,0,0,0,0]
[{"$f":"$A$21","v":"."}]
[{"$f":"$A$22","v":"."}]
[{"$f":"$A$23","v":"Monatsübergang"},{"$f":"IF(WEEKDAY(B650)=1,TEXT(B650-1,\"MMM\"&Labels!B13),\"\")","v":""},null,null,null,null,null,null,null,null,null,null,null,null,null,null,null,null,null,null,null,null,null,null,null,null,null,null,null,null,{"$f":"IF(AND(WEEKDAY(AE650)>1,WEEKDAY(AE650)<7),TEXT(DATE($B$5,MONTH(AE650)+1,1),\"MMM\"&Labels!B13),\"\")","v":"Dez"}]
[{"$f":"$A$24","v":"Wochentotal"},{"$f":"IF(WEEKDAY(B650)=7,SUMIF($B587:$AF587,B651,$B596:$AF596)+SUMIF($B651:$AF651,B651,$B660:$AF660)+SUMIF($B715:$AF715,B651,$B724:$AF724),B663)","v":""},{"$f":"IF(WEEKDAY(C650)=7,SUMIF($B587:$AF587,C651,$B596:$AF596)+SUMIF($B651:$AF651,C651,$B660:$AF660)+SUMIF($B715:$AF715,C651,$B724:$AF724),\"\")","v":""},"","",0,"","","","","","",0,"","","","","","",0,"","","","","","",0,"","","",{"$f":"IF(WEEKDAY(AE650)=7,SUMIF($B587:$AF587,AE651,$B596:$AF596)+SUMIF($B651:$AF651,AE651,$B660:$AF660)+SUMIF($B715:$AF715,AE651,$B724:$AF724),AE663)","v":"Dez"},null,{"$f":"SUM(B665:AF665)","v":0}]
[{"$f":"$A$25","v":"Zeitzuschlag 1)"},{"$f":"IF(B672=\"FALSCH\",\"\",B672)","v":""},{"$f":"IF(C672=\"FALSCH\",\"\",C672)","v":""},"","","","","","","","","","","","","","","","","","","","","","","","","","","","",null,0,"[1]"]
[{"$f":"$A$26","v":"Zeitzuschlag 2)"},{"$f":"IF((B655+B657)=0,\"\",SUM(B655,B657))","v":""},{"$f":"IF((C655+C657)=0,\"\",SUM(C655,C657))","v":""},"","","","","","","","","","","","","","","","","","","","","","","","","","","","",null,{"$f":"SUM(B667:AF667)","v":0},"[2]"]
[{"$f":"$A$27","v":"Zeitzuschlag 3)"},{"$f":"SUM(B668:B671)","v":0},{"$f":"SUM(C668:C671)","v":0},0,0,0,0,0,0,0,0,0,0,0,0,0,0,0,0,0,0,0,0,0,0,0,0,0,0,0,0,null,0,"[3]"]
[{"$f":"$A$28","v":"Sonntag Tag"},{"$f":"IF(WEEKDAY(B650)=1,B656,\"\")","v":""},{"$f":"IF(WEEKDAY(C650)=1,C656,\"\")","v":""},"","","",0,"","","","","","",0,"","","","","","",0,"","","","","","",0,"","","",null,0,"[4]"]
[{"$f":"$A$29","v":"Sonntag Nacht"},{"$f":"IF(WEEKDAY(B650)=1,SUM(B655+B657),\"\")","v":""},{"$f":"IF(WEEKDAY(C650)=1,SUM(C655+C657),\"\")","v":""},"","","",0,"","","","","","",0,"","","","","","",0,"","","","","","",0,"","","",null,0,"[5]"]
[{"$f":"$A$30","v":"ft-Tazuschlag"},{"$f":"IF(B658=Labels!$B$118,B656,\"\")","v":""},{"$f":"IF(C658=Labels!$B$118,C656,\"\")","v":""},{"$f":"IF(D658=Labels!$B$118,D656,\"\")","v":""},{"$f":"IF(E658=Labels!$B$118,E656,\"\")","v":""},{"$f":"IF(F658=Labels!$B$118,F656,\"\")","v":""},{"$f":"IF(G658=Labels!$B$118,G656,\"\")","v":""},{"$f":"IF(H658=Labels!$B$118,H656,\"\")","v":""},{"$f":"IF(I658=Labels!$B$118,I656,\"\")","v":""},{"$f":"IF(J658=Labels!$B$118,J656,\"\")","v":""},{"$f":"IF(K658=Labels!$B$118,K656,\"\")","v":""},{"$f":"IF(L658=Labels!$B$118,L656,\"\")","v":""},{"$f":"IF(M658=Labels!$B$118,M656,\"\")","v":""},{"$f":"IF(N658=Labels!$B$118,N656,\"\")","v":""},{"$f":"IF(O658=Labels!$B$118,O656,\"\")","v":""},{"$f":"IF(P658=Labels!$B$118,P656,\"\")","v":""},{"$f":"IF(Q658=Labels!$B$118,Q656,\"\")","v":""},{"$f":"IF(R658=Labels!$B$118,R656,\"\")","v":""},{"$f":"IF(S658=Labels!$B$118,S656,\"\")","v":""},{"$f":"IF(T658=Labels!$B$118,T656,\"\")","v":""},{"$f":"IF(U658=Labels!$B$118,U656,\"\")","v":""},{"$f":"IF(V658=Labels!$B$118,V656,\"\")","v":""},{"$f":"IF(W658=Labels!$B$118,W656,\"\")","v":""},{"$f":"IF(X658=Labels!$B$118,X656,\"\")","v":""},{"$f":"IF(Y658=Labels!$B$118,Y656,\"\")","v":""},{"$f":"IF(Z658=Labels!$B$118,Z656,\"\")","v":""},{"$f":"IF(AA658=Labels!$B$118,AA656,\"\")","v":""},{"$f":"IF(AB658=Labels!$B$118,AB656,\"\")","v":""},{"$f":"IF(AC658=Labels!$B$118,AC656,\"\")","v":""},{"$f":"IF(AD658=Labels!$B$118,AD656,\"\")","v":""},{"$f":"IF(AE658=Labels!$B$118,AE656,\"\")","v":""},null,0,"[6]"]
[{"$f":"$A$31","v":"ft-Nazuschlag"},{"$f":"IF(B658=Labels!$B$118,SUM(B655,B657),\"\")","v":""},{"$f":"IF(C658=Labels!$B$118,SUM(C655,C657),\"\")","v":""},{"$f":"IF(D658=Labels!$B$118,SUM(D655,D657),\"\")","v":""},{"$f":"IF(E658=Labels!$B$118,SUM(E655,E657),\"\")","v":""},{"$f":"IF(F658=Labels!$B$118,SUM(F655,F657),\"\")","v":""},{"$f":"IF(G658=Labels!$B$118,SUM(G655,G657),\"\")","v":""},{"$f":"IF(H658=Labels!$B$118,SUM(H655,H657),\"\")","v":""},{"$f":"IF(I658=Labels!$B$118,SUM(I655,I657),\"\")","v":""},{"$f":"IF(J658=Labels!$B$118,SUM(J655,J657),\"\")","v":""},{"$f":"IF(K658=Labels!$B$118,SUM(K655,K657),\"\")","v":""},{"$f":"IF(L658=Labels!$B$118,SUM(L655,L657),\"\")","v":""},{"$f":"IF(M658=Labels!$B$118,SUM(M655,M657),\"\")","v":""},{"$f":"IF(N658=Labels!$B$118,SUM(N655,N657),\"\")","v":""},{"$f":"IF(O658=Labels!$B$118,SUM(O655,O657),\"\")","v":""},{"$f":"IF(P658=Labels!$B$118,SUM(P655,P657),\"\")","v":""},{"$f":"IF(Q658=Labels!$B$118,SUM(Q655,Q657),\"\")","v":""},{"$f":"IF(R658=Labels!$B$118,SUM(R655,R657),\"\")","v":""},{"$f":"IF(S658=Labels!$B$118,SUM(S655,S657),\"\")","v":""},{"$f":"IF(T658=Labels!$B$118,SUM(T655,T657),\"\")","v":""},{"$f":"IF(U658=Labels!$B$118,SUM(U655,U657),\"\")","v":""},{"$f":"IF(V658=Labels!$B$118,SUM(V655,V657),\"\")","v":""},{"$f":"IF(W658=Labels!$B$118,SUM(W655,W657),\"\")","v":""},{"$f":"IF(X658=Labels!$B$118,SUM(X655,X657),\"\")","v":""},{"$f":"IF(Y658=Labels!$B$118,SUM(Y655,Y657),\"\")","v":""},{"$f":"IF(Z658=Labels!$B$118,SUM(Z655,Z657),\"\")","v":""},{"$f":"IF(AA658=Labels!$B$118,SUM(AA655,AA657),\"\")","v":""},{"$f":"IF(AB658=Labels!$B$118,SUM(AB655,AB657),\"\")","v":""},{"$f":"IF(AC658=Labels!$B$118,SUM(AC655,AC657),\"\")","v":""},{"$f":"IF(AD658=Labels!$B$118,SUM(AD655,AD657),\"\")","v":""},{"$f":"IF(AE658=Labels!$B$118,SUM(AE655,AE657),\"\")","v":""},null,{"$f":"AG655","v":0},"[7]"]
[{"$f":"$A$32","v":"Zuschlag  blind (Wochentotal)"},{"$f":"IF(OR(ISTEXT(B664),B664=\"\",B664<$B$7),\"\",ROUND(((B664-$B$7)*25%)/25,4)*25)","v":""},{"$f":"IF(OR(ISTEXT(C664),C664=\"\",C664<$B$7),\"\",ROUND(((C664-$B$7)*25%)/25,4)*25)","v":""},"","","","","","","","","","","","","","","","","","","","","","","","","","","","",null,{"$f":"SUM(AG654+AG656)","v":0},"[8]"]
[null,{"$f":"$B$33","v":"1)   25% Zeitzuschlag für Überschreitung Wochentotal"},null,null,null,null,null,null,null,null,null,{"$f":"$L$33","v":"2) 100% Zeitzuschlag für Nachtarbeit"},null,null,null,null,null,null,null,null,null,null,null,null,null,null,null,null,null,null,null,null,{"$f":"SUM(AG654:AG656)","v":0},"[9]"]
[null,{"$f":"$B$34","v":"3) 100% Zeitzuschlag für Sonn- und Feiertagsarbeit"},null,null,null,null,null,null,null,null,null,null,null,null,null,null,null,null,null,{"$f":"$T$34","v":"Eingabe der ausbezahlten Stunden laufendes Jahr (Überstunden)"},null,null,null,null,null,null,null,null,null,null,null,null,{"$f":"SUM(AG652+AG658)","v":0},"[10]"]
[{"$f":"$A$35","v":"Bemerkungen"},null,null,null,null,null,null,null,null,null,null,null,null,null,null,null,null,null,null,null,null,null,null,null,null,null,null,null,null,null,null,null,{"$f":"SUM(AG652:AG666)","v":0},"[11]"]
[null,null,null,null,null,null,null,null,null,null,null,null,null,null,null,null,null,null,null,null,null,null,null,null,null,null,null,null,null,null,null,null,{"$f":"AG651","v":176}]
[null,null,null,null,null,null,null,null,null,null,null,null,null,null,null,null,null,null,null,null,null,null,null,null,null,null,null,null,null,null,null,null,{"$f":"SUM(AG675-AG651)","v":-176}]
[]
[{"$f":"$A$39","v":"Zusammenstellung"},null,null,null,null,null,{"$f":"$G$39","v":"Jan"},null,{"$f":"$I$39","v":"Feb"},null,{"$f":"$K$39","v":"Mrz"},null,{"$f":"$M$39","v":"Apr"},null,{"$f":"$O$39","v":"Mai"},null,{"$f":"$Q$39","v":"Jun"},null,{"$f":"$S$39","v":"Jul"},null,{"$f":"$U$39","v":"Aug"},null,{"$f":"$W$39","v":"Sep"},null,{"$f":"$Y$39","v":"Okt"},null,{"$f":"$AA$39","v":"Nov"},null,{"$f":"$AC$39","v":"Dez"},null,{"$f":"$AE$39","v":"Jahr"}]
[{"$f":"$A$40","v":"Anstellung %"},null,null,null,null,null,{"$f":"IF($B$4=0,0,$B$4)","v":100},null,{"$f":"IF($B$71=0,0,$B$71)","v":100},null,{"$f":"IF($B$135=0,0,$B$135)","v":100},null,{"$f":"IF($B$199=0,0,$B$199)","v":100},null,{"$f":"IF($B$263=0,0,$B$263)","v":100},null,{"$f":"IF($B$327=0,0,$B$327)","v":100},null,{"$f":"IF($B$391=0,0,$B$391)","v":100},null,{"$f":"IF($B$455=0,0,$B$455)","v":100},null,{"$f":"IF($B$519=0,0,$B$519)","v":100},null,{"$f":"IF($B$583=0,0,$B$583)","v":100},null,{"$f":"IF($B$647=0,0,$B$647)","v":100},null,{"$f":"IF($B$711=0,0,$B$711)","v":100}]
[{"$f":"$A$41","v":"Sollstunden gemäss GAV"},null,null,null,null,null,{"$f":"IF($AG$37=0,0,$AG$37)","v":168},null,{"$f":"IF($AG$100=0,0,$AG$100)","v":160},null,{"$f":"IF($AG$139=0,0,$AG$139)","v":184},null,{"$f":"IF($AG$228=0,0,$AG$228)","v":168},null,{"$f":"IF($AG$292=0,0,$AG$292)","v":176},null,{"$f":"IF($AG$356=0,0,$AG$356)","v":176},null,{"$f":"IF($AG$420=0,0,$AG$420)","v":168},null,{"$f":"IF($AG$484=0,0,$AG$484)","v":184},null,{"$f":"IF($AG$548=0,0,$AG$548)","v":176},null,{"$f":"IF($AG$612=0,0,$AG$612)","v":168},null,{"$f":"IF($AG$676=0,0,$AG$676)","v":176},null,{"$f":"IF($AG$740=0,0,$AG$740)","v":176},null,{"$f":"SUM(G681:AD681)","v":2080}]
[{"$f":"$A$42","v":"Produktive Stunden"},{"$f":"$B$42","v":"06.00 - 20.00 Uhr"},null,null,null,null,{"$f":"IF($AG$32=0,0,$AG$32)","v":0},null,{"$f":"IF($AG$95=0,0,$AG$95)","v":0},null,{"$f":"IF($AG$159=0,0,$AG$159)","v":0},null,{"$f":"IF($AG$223=0,0,$AG$223)","v":0},null,{"$f":"IF($AG$287=0,0,$AG$287)","v":0},null,{"$f":"IF($AG$351=0,0,$AG$351)","v":0},null,{"$f":"IF($AG$415=0,0,$AG$415)","v":0},null,{"$f":"IF($AG$479=0,0,$AG$479)","v":0},null,{"$f":"IF($AG$543=0,0,$AG$543)","v":0},null,{"$f":"IF($AG$607=0,0,$AG$607)","v":0},null,{"$f":"IF($AG$671=0,0,$AG$671)","v":0},null,{"$f":"IF($AG$735=0,0,$AG$735)","v":0},null,{"$f":"SUM(G682:AD682)","v":0}]
[null,{"$f":"$B$43","v":"Nacht-, Sonn-, Feiertagsarbeit"},null,null,null,null,{"$f":"IF($AG$33=0,0,$AG$33)","v":0},null,{"$f":"IF($AG$96=0,0,$AG$96)","v":0},null,{"$f":"IF($AG$160=0,0,$AG$160)","v":0},null,{"$f":"IF($AG$224=0,0,$AG$224)","v":0},null,{"$f":"IF($AG$288=0,0,$AG$288)","v":0},null,{"$f":"IF($AG$352=0,0,$AG$352)","v":0},null,{"$f":"IF($AG$416=0,0,$AG$416)","v":0},null,{"$f":"IF($AG$480=0,0,$AG$480)","v":0},null,{"$f":"IF($AG$544=0,0,$AG$544)","v":0},null,{"$f":"IF($AG$608=0,0,$AG$608)","v":0},null,{"$f":"IF($AG$672=0,0,$AG$672)","v":0},null,{"$f":"IF($AG$736=0,0,$AG$736)","v":0},null,{"$f":"SUM(G683:AD683)","v":0}]
[{"$f":"$A$44","v":"Zeitzuschläge"},{"$f":"$B$44","v":"aus Wochentotal"},null,null,null,null,{"$f":"IF($AG$25=0,0,$AG$25)","v":0},null,{"$f":"IF($AG$88=0,0,$AG$88)","v":0},null,{"$f":"IF($AG$152=0,0,$AG$152)","v":0},null,{"$f":"IF($AG$216=0,0,$AG$216)","v":0},null,{"$f":"IF($AG$280=0,0,$AG$280)","v":0},null,{"$f":"IF($AG$344=0,0,$AG$344)","v":0},null,{"$f":"IF($AG$408=0,0,$AG$408)","v":0},null,{"$f":"IF($AG$472=0,0,$AG$472)","v":0},null,{"$f":"IF($AG$536=0,0,$AG$536)","v":0},null,{"$f":"IF($AG$600=0,0,$AG$600)","v":0},null,{"$f":"IF($AG$664=0,0,$AG$664)","v":0},null,{"$f":"IF($AG$728=0,0,$AG$728)","v":0},null,{"$f":"SUM(G684:AD684)","v":0}]
[null,{"$f":"$B$45","v":"aus Nacht-, Sonn-, Feiertagsarbeiten"},null,null,null,null,{"$f":"IF($AJ$21=0,0,$AJ$21)","v":0},null,{"$f":"IF($AK$21=0,0,$AK$21)","v":0},null,{"$f":"IF($AL$21=0,0,$AL$21)","v":0},null,{"$f":"IF($AM$21=0,0,$AM$21)","v":0},null,{"$f":"IF($AN$21=0,0,$AN$21)","v":0},null,{"$f":"IF($AO$21=0,0,$AO$21)","v":0},null,{"$f":"IF($AP$21=0,0,$AP$21)","v":0},null,{"$f":"IF($AQ$21=0,0,$AQ$21)","v":0},null,{"$f":"IF($AR$21=0,0,$AR$21)","v":0},null,{"$f":"IF($AS$21=0,0,$AS$21)","v":0},null,{"$f":"IF($AT$21=0,0,$AT$21)","v":0},null,{"$f":"IF($AU$21=0,0,$AU$21)","v":0},null,{"$f":"SUM(G685:AD685)","v":0}]
[{"$f":"$A$46","v":"Unproduktive Stunden"}]
[{"$f":"$A$47","v":"   Absenzen, Kurzabsenzen Art. 11 GAV"},null,null,null,null,{"$f":"$F$47","v":"a"},{"$f":"IF($AJ$3=0,0,$AJ$3)","v":0},null,{"$f":"IF($AK$3=0,0,$AK$3)","v":0},null,{"$f":"IF($AL$3=0,0,$AL$3)","v":0},null,{"$f":"IF($AM$3=0,0,$AM$3)","v":0},null,{"$f":"IF($AN$3=0,0,$AN$3)","v":0},null,{"$f":"IF($AO$3=0,0,$AO$3)","v":0},null,{"$f":"IF($AP$3=0,0,$AP$3)","v":0},null,{"$f":"IF($AQ$3=0,0,$AQ$3)","v":0},null,{"$f":"IF($AR$3=0,0,$AR$3)","v":0},null,{"$f":"IF($AS$3=0,0,$AS$3)","v":0},null,{"$f":"IF(AT$3=0,0,$AT$3)","v":0},null,{"$f":"IF($AU$3=0,0,$AU$3)","v":0},null,{"$f":"IF($AV$3=0,0,$AV$3)","v":0}]
[{"$f":"$A$48","v":"   Ferien Art. 12.1 GAV"},null,null,null,null,{"$f":"$F$48","v":"f"},{"$f":"IF($AJ$4=0,0,$AJ$4)","v":0},null,{"$f":"IF($AK$4=0,0,$AK$4)","v":0},null,{"$f":"IF($AL$4=0,0,$AL$4)","v":0},null,{"$f":"IF($AM$4=0,0,$AM$4)","v":0},null,{"$f":"IF($AN$4=0,0,$AN$4)","v":0},null,{"$f":"IF($AO$4=0,0,$AO$4)","v":0},null,{"$f":"IF($AP$4=0,0,$AP$4)","v":0},null,{"$f":"IF($AQ$4=0,0,$AQ$4)","v":0},null,{"$f":"IF($AR$4=0,0,$AR$4)","v":0},null,{"$f":"IF($AS$4=0,0,$AS$4)","v":0},null,{"$f":"IF($AT$4=0,0,$AT$4)","v":0},null,{"$f":"IF($AU$4=0,0,$AU$4)","v":0},null,{"$f":"IF($AV$4=0,0,$AV$4)","v":0}]
[{"$f":"Labels!$B$181","v":"   Ferien unbezahlt"},null,null,null,null,{"$f":"Labels!$B$182","v":"fu"},{"$f":"IF($AJ$13=0,0,$AJ$13)","v":0},null,{"$f":"IF($AK$13=0,0,$AK$13)","v":0},null,{"$f":"IF($AL$13=0,0,$AL$13)","v":0},null,{"$f":"IF($AM$13=0,0,$AM$13)","v":0},null,{"$f":"IF($AN$13=0,0,$AN$13)","v":0},null,{"$f":"IF($AO$13=0,0,$AO$13)","v":0},null,{"$f":"IF($AP$13=0,0,$AP$13)","v":0},null,{"$f":"IF($AQ$13=0,0,$AQ$13)","v":0},null,{"$f":"IF($AR$13=0,0,$AR$13)","v":0},null,{"$f":"IF($AS$13=0,0,$AS$13)","v":0},null,{"$f":"IF($AT$13=0,0,$AT$13)","v":0},null,{"$f":"IF($AU$13=0,0,$AU$13)","v":0},null,{"$f":"IF($AV$13=0,0,$AV$13)","v":0}]
[{"$f":"$A$50","v":"   Feiertage Art. 12.2 GAV"},null,{"$f":"IF($AJ$18=\"\",\"\",$AJ$18)","v":""},null,null,{"$f":"$F$50","v":"ft"},{"$f":"IF($AJ$16=0,0,$AJ$16)","v":0},null,{"$f":"IF($AK$16=0,0,$AK$16)","v":0},null,{"$f":"IF($AL$16=0,0,$AL$16)","v":0},null,{"$f":"IF($AM$16=0,0,$AM$16)","v":0},null,{"$f":"IF($AN$16=0,0,$AN$16)","v":0},null,{"$f":"IF($AO$16=0,0,$AO$16)","v":0},null,{"$f":"IF($AP$16=0,0,$AP$16)","v":0},null,{"$f":"IF($AQ$16=0,0,$AQ$16)","v":0},null,{"$f":"IF($AR$16=0,0,$AR$16)","v":0},null,{"$f":"IF($AS$16=0,0,$AS$16)","v":0},null,{"$f":"IF($AT$16=0,0,$AT$16)","v":0},null,{"$f":"IF($AU$16=0,0,$AU$16)","v":0},null,{"$f":"IF($AV$16=0,0,$AV$16)","v":0}]
[{"$f":"$A$51","v":"   Krankheit Art. 13 GAV"},null,null,null,null,{"$f":"$F$51","v":"k"},{"$f":"IF($AJ$5=0,0,$AJ$5)","v":0},null,{"$f":"IF($AK$5=0,0,$AK$5)","v":0},null,{"$f":"IF($AL$5=0,0,$AL$5)","v":0},null,{"$f":"IF($AM$5=0,0,$AM$5)","v":0},null,{"$f":"IF($AN$5=0,0,$AN$5)","v":0},null,{"$f":"IF($AO$5=0,0,$AO$5)","v":0},null,{"$f":"IF($AP$5=0,0,$AP$5)","v":0},null,{"$f":"IF($AQ$5=0,0,$AQ$5)","v":0},null,{"$f":"IF($AR$5=0,0,$AR$5)","v":0},null,{"$f":"IF($AS$5=0,0,$AS$5)","v":0},null,{"$f":"IF($AT$5=0,0,$AT$5)","v":0},null,{"$f":"IF($AU$5=0,0,$AU$5)","v":0},null,{"$f":"IF($AV$5=0,0,$AV$5)","v":0}]
[{"$f":"$A$52","v":"   Unfall Art. 14 GAV"},null,null,null,null,{"$f":"$F$52","v":"u"},{"$f":"IF($AJ$6=0,0,$AJ$6)","v":0},null,{"$f":"IF($AK$6=0,0,$AK$6)","v":0},null,{"$f":"IF($AL$6=0,0,$AL$6)","v":0},null,{"$f":"IF($AM$6=0,0,$AM$6)","v":0},null,{"$f":"IF($AN$6=0,0,$AN$6)","v":0},null,{"$f":"IF($AO$6=0,0,$AO$6)","v":0},null,{"$f":"IF($AP$6=0,0,$AP$6)","v":0},null,{"$f":"IF($AQ$6=0,0,$AQ$6)","v":0},null,{"$f":"IF($AR$6=0,0,$AR$6)","v":0},null,{"$f":"IF($AS$6=0,0,$AS$6)","v":0},null,{"$f":"IF($AT$6=0,0,$AT$6)","v":0},null,{"$f":"IF($AU$6=0,0,$AU$6)","v":0},null,{"$f":"IF($AV$6=0,0,$AV$6)","v":0}]
[{"$f":"$A$53","v":"   Schwangerschaft/Mutterschaft Art. 15 GAV"},null,null,null,null,{"$f":"$F$53","v":"s"},{"$f":"IF($AJ$7=0,0,$AJ$7)","v":0},null,{"$f":"IF($AK$7=0,0,$AK$7)","v":0},null,{"$f":"IF($AL$7=0,0,$AL$7)","v":0},null,{"$f":"IF($AM$7=0,0,$AM$7)","v":0},null,{"$f":"IF($AN$7=0,0,$AN$7)","v":0},null,{"$f":"IF($AO$7=0,0,$AO$7)","v":0},null,{"$f":"IF($AP$7=0,0,$AP$7)","v":0},null,{"$f":"IF($AQ$7=0,0,$AQ$7)","v":0},null,{"$f":"IF($AR$7=0,0,$AR$7)","v":0},null,{"$f":"IF($AS$7=0,0,$AS$7)","v":0},null,{"$f":"IF($AT$7=0,0,$AT$7)","v":0},null,{"$f":"IF($AU$7=0,0,$AU$7)","v":0},null,{"$f":"IF($AV$7=0,0,$AV$7)","v":0}]
[{"$f":"$A$54","v":"   Militär/Beförderung/Zivilschutz Art. 16 GAV"},null,null,null,null,{"$f":"$F$54","v":"m"},{"$f":"IF($AJ$8=0,0,$AJ$8)","v":0},null,{"$f":"IF($AK$8=0,0,$AK$8)","v":0},null,{"$f":"IF($AL$8=0,0,$AL$8)","v":0},null,{"$f":"IF($AM$8=0,0,$AM$8)","v":0},null,{"$f":"IF($AN$8=0,0,$AN$8)","v":0},null,{"$f":"IF($AO$8=0,0,$AO$8)","v":0},null,{"$f":"IF($AP$8=0,0,$AP$8)","v":0},null,{"$f":"IF($AQ$8=0,0,$AQ$8)","v":0},null,{"$f":"IF($AR$8=0,0,$AR$8)","v":0},null,{"$f":"IF($AS$8=0,0,$AS$8)","v":0},null,{"$f":"IF($AT$8=0,0,$AT$8)","v":0},null,{"$f":"IF($AU$8=0,0,$AU$8)","v":0},null,{"$f":"IF($AV$8=0,0,$AV$8)","v":0}]
[{"$f":"$A$55","v":"   Kurzarbeit und Schlechtwetterausfälle"},null,null,null,null,{"$f":"$F$55","v":"ka"},{"$f":"IF($AJ$11=0,0,$AJ$11)","v":0},null,{"$f":"IF($AK$11=0,0,$AK$11)","v":0},null,{"$f":"IF($AL$11=0,0,$AL$11)","v":0},null,{"$f":"IF($AM$11=0,0,$AM$11)","v":0},null,{"$f":"IF($AN$11=0,0,$AN$11)","v":0},null,{"$f":"IF($AO$11=0,0,$AO$11)","v":0},null,{"$f":"IF($AP$11=0,0,$AP$11)","v":0},null,{"$f":"IF($AQ$11=0,0,$AQ$11)","v":0},null,{"$f":"IF($AR$11=0,0,$AR$11)","v":0},null,{"$f":"IF($AS$11=0,0,$AS$11)","v":0},null,{"$f":"IF($AT$11=0,0,$AT$11)","v":0},null,{"$f":"IF($AU$11=0,0,$AU$11)","v":0},null,{"$f":"IF($AV$11=0,0,$AV$11)","v":0}]
[{"$f":"$A$56","v":"   Berufsschule"},null,null,null,null,{"$f":"$F$56","v":"bs"},{"$f":"IF($AJ$9=0,0,$AJ$9)","v":0},null,{"$f":"IF($AK$9=0,0,$AK$9)","v":0},null,{"$f":"IF($AL$9=0,0,$AL$9)","v":0},null,{"$f":"IF($AM$9=0,0,$AM$9)","v":0},null,{"$f":"IF($AN$9=0,0,$AN$9)","v":0},null,{"$f":"IF($AO$9=0,0,$AO$9)","v":0},null,{"$f":"IF($AP$9=0,0,$AP$9)","v":0},null,{"$f":"IF($AQ$9=0,0,$AQ$9)","v":0},null,{"$f":"IF($AR$9=0,0,$AR$9)","v":0},null,{"$f":"IF($AS$9=0,0,$AS$9)","v":0},null,{"$f":"IF($AT$9=0,0,$AT$9)","v":0},null,{"$f":"IF($AU$9=0,0,$AU$9)","v":0},null,{"$f":"IF($AV$9=0,0,$AV$9)","v":0}]
[{"$f":"$A$57","v":"   Kurse"},null,null,null,null,{"$f":"$F$57","v":"ku"},{"$f":"IF($AJ$10=0,0,$AJ$10)","v":0},null,{"$f":"IF($AK$10=0,0,$AK$10)","v":0},null,{"$f":"IF($AL$10=0,0,$AL$10)","v":0},null,{"$f":"IF($AM$10=0,0,$AM$10)","v":0},null,{"$f":"IF($AN$10=0,0,$AN$10)","v":0},null,{"$f":"IF($AO$10=0,0,$AO$10)","v":0},null,{"$f":"IF($AP$10=0,0,$AP$10)","v":0},null,{"$f":"IF($AQ$10=0,0,$AQ$10)","v":0},null,{"$f":"IF($AR$10=0,0,$AR$10)","v":0},null,{"$f":"IF($AS$10=0,0,$AS$10)","v":0},null,{"$f":"IF($AT$10=0,0,$AT$10)","v":0},null,{"$f":"IF($AU$10=0,0,$AU$10)","v":0},null,{"$f":"IF($AV$10=0,0,$AV$10)","v":0}]
[{"$f":"$A$58","v":"Kompensations-Std"},{"$f":"$B$58","v":"aus Vorjahr"},null,null,null,{"$f":"$F$58","v":"kv"},{"$f":"IF($AJ$12=0,0,$AJ$12)","v":0},null,{"$f":"IF($AK$12=0,0,$AK$12)","v":0},null,{"$f":"IF($AL$12=0,0,$AL$12)","v":0},null,{"$f":"IF($AM$12=0,0,$AM$12)","v":0},null,{"$f":"IF($AN$12=0,0,$AN$12)","v":0},null,{"$f":"IF($AO$12=0,0,$AO$12)","v":0},null,{"$f":"IF($AP$12=0,0,$AP$12)","v":0},null,{"$f":"IF($AQ$12=0,0,$AQ$12)","v":0},null,{"$f":"IF($AR$12=0,0,$AR$12)","v":0},null,null,null,null,null,null,null,{"$f":"IF($AV$12=0,0,$AV$12)","v":0}]
[null,{"$f":"$B$59","v":"aus laufendem Jahr (Kontrolle)"},null,null,null,{"$f":"$F$59","v":"kj"},{"$f":"IF($AJ$15=0,0,$AJ$15)","v":0},null,{"$f":"IF($AK$15=0,0,$AK$15)","v":0},null,{"$f":"IF($AL$15=0,0,$AL$15)","v":0},null,{"$f":"IF($AM$15=0,0,$AM$15)","v":0},null,{"$f":"IF($AN$15=0,0,$AN$15)","v":0},null,{"$f":"IF($AO$15=0,0,$AO$15)","v":0},null,{"$f":"IF($AP$15=0,0,$AP$15)","v":0},null,{"$f":"IF($AQ$15=0,0,$AQ$15)","v":0},null,{"$f":"IF($AR$15=0,0,$AR$15)","v":0},null,{"$f":"IF($AS$15=0,0,$AS$15)","v":0},null,{"$f":"IF($AT$15=0,0,$AT$15)","v":0},null,{"$f":"IF($AU$15=0,0,$AU$15)","v":0},null,{"$f":"IF($AV$15=0,0,$AV$15)","v":0}]
[{"$f":"$A$60","v":"Auszahlung"},{"$f":"$B$60","v":"Stunden Vorjahressaldo"},null,null,null,null,{"$f":"IF($AJ$19=0,0,$AJ$19)","v":0},null,{"$f":"IF($AK$19=0,0,$AK$19)","v":0},null,{"$f":"IF($AL$19=0,0,$AL$19)","v":0},null,{"$f":"IF($AM$19=0,0,$AM$19)","v":0},null,{"$f":"IF($AN$19=0,0,$AN$19)","v":0},null,{"$f":"IF($AO$19=0,0,$AO$19)","v":0},null,{"$f":"IF($AP$19=0,0,$AP$19)","v":0},null,{"$f":"IF($AQ$19=0,0,$AQ$19)","v":0},null,{"$f":"IF($AR$19=0,0,$AR$19)","v":0},null,null,null,null,null,null,null,{"$f":"IF($AV$19=0,0,$AV$19)","v":0}]
[{"$f":"$A$61","v":"Differenz"},{"$f":"$B$61","v":"nach Kompensation und Auszahlung"},null,null,null,null,{"$f":"IF(ROUND($P$4,3)=0,0,$P$4-SUM(G698+G700))","v":0},null,{"$f":"IF(ROUND(G701,3)=0,0,G701-(SUM(I700+I698)))","v":0},null,{"$f":"IF(ROUND(I701,3)=0,0,I701-(SUM(K700+K698)))","v":0},null,{"$f":"IF(ROUND(K701,3)=0,0,K701-(SUM(M700+M698)))","v":0},null,{"$f":"IF(ROUND(M701,3)=0,0,M701-(SUM(O700+O698)))","v":0},null,{"$f":"IF(ROUND(O701,3)=0,0,O701-(SUM(Q700+Q698)))","v":0},null,{"$f":"IF(ROUND(Q701,3)=0,0,Q701-(SUM(S700+S698)))","v":0},null,{"$f":"IF(ROUND(S701,3)=0,0,S701-(SUM(U700+U698)))","v":0},null,{"$f":"IF(ROUND(U701,3)=0,0,U701-(SUM(W700+W698)))","v":0},null,{"$f":"$Y$61","v":""}]
[{"$f":"$A$62","v":"Auszahlung"},{"$f":"$B$62","v":"Stunden laufendes Jahr"},null,null,null,null,{"$f":"IF($AJ$20=0,0,$AJ$20)","v":0},null,{"$f":"IF($AK$20=0,0,$AK$20)","v":0},null,{"$f":"IF($AL$20=0,0,$AL$20)","v":0},null,{"$f":"IF($AM$20=0,0,$AM$20)","v":0},null,{"$f":"IF($AN$20=0,0,$AN$20)","v":0},null,{"$f":"IF($AO$20=0,0,$AO$20)","v":0},null,{"$f":"IF($AP$20=0,0,$AP$20)","v":0},null,{"$f":"IF($AQ$20=0,0,$AQ$20)","v":0},null,{"$f":"IF($AR$20=0,0,$AR$20)","v":0},null,{"$f":"IF($AS$20=0,0,$AS$20)","v":0},null,{"$f":"IF($AT$20=0,0,$AT$20)","v":0},null,{"$f":"IF($AU$20=0,0,$AU$20)","v":0},null,{"$f":"IF($AV$20=0,0,$AV$20)","v":0}]
[{"$f":"$A$63","v":"Fehlstunden"},{"$f":"$B$63","v":"laufendes Jahr (Kontrolle)"},null,null,null,{"$f":"$F$63","v":"fe"},{"$f":"IF($AJ$14=0,0,$AJ$14)","v":0},null,{"$f":"IF($AK$14=0,0,$AK$14)","v":0},null,{"$f":"IF($AL$14=0,0,$AL$14)","v":0},null,{"$f":"IF($AM$14=0,0,$AM$14)","v":0},null,{"$f":"IF($AN$14=0,0,$AN$14)","v":0},null,{"$f":"IF($AO$14=0,0,$AO$14)","v":0},null,{"$f":"IF($AP$14=0,0,$AP$14)","v":0},null,{"$f":"IF($AQ$14=0,0,$AQ$14)","v":0},null,{"$f":"IF($AR$14=0,0,$AR$14)","v":0},null,{"$f":"IF($AS$14=0,0,$AS$14)","v":0},null,{"$f":"IF($AT$14=0,0,$AT$14)","v":0},null,{"$f":"IF($AU$14=0,0,$AU$14)","v":0},null,{"$f":"IF($AV$14=0,0,$AV$14)","v":0}]
[{"$f":"$A$64","v":"Total inkl. Zeitzuschläge"},{"$f":"$B$64","v":"Stunden produktiv und unproduktiv"},null,null,null,null,{"$f":"IF($AG$36=0,0,$AG$36)","v":0},null,{"$f":"IF($AG$99=0,0,$AG$99)","v":0},null,{"$f":"IF($AG$163=0,0,$AG$163)","v":0},null,{"$f":"IF($AG$227=0,0,$AG$227)","v":0},null,{"$f":"IF($AG$291=0,0,$AG$291)","v":0},null,{"$f":"IF($AG$355=0,0,$AG$355)","v":0},null,{"$f":"IF($AG$419=0,0,$AG$419)","v":0},null,{"$f":"IF($AG$483=0,0,$AG$483)","v":0},null,{"$f":"IF($AG$547=0,0,$AG$547)","v":0},null,{"$f":"IF($AG$611=0,0,$AG$611)","v":0},null,{"$f":"IF($AG$675=0,0,$AG$675)","v":0},null,{"$f":"IF($AG$739=0,0,$AG$739)","v":0},null,{"$f":"SUM($G$64:$AD$64)","v":0}]
[{"$f":"$A$65","v":"Vergleich"},{"$f":"$B$65","v":"Stunden zu Soll-Stunden (inkl. allfälli-\nge Minusstunden Vorjahr)"},null,null,null,null,{"$f":"$G$65","v":-168},null,{"$f":"$I$65","v":-160},null,{"$f":"$K$65","v":-184},null,{"$f":"$M$65","v":-168},null,{"$f":"$O$65","v":-176},null,{"$f":"$Q$65","v":-176},null,{"$f":"$S$65","v":-168},null,{"$f":"$U$65","v":-184},null,{"$f":"$W$65","v":-176},null,{"$f":"$Y$65","v":-168},null,{"$f":"$AA$65","v":-176},null,{"$f":"$AC$65","v":-176},null,{"$f":"$AE$65","v":-2080}]
[null,{"$f":"$B$66","v":"Stunden zu Soll-Stunden (kumuliert)"},null,null,null,null,{"$f":"$G$66","v":-168},null,{"$f":"$I$66","v":-328},null,{"$f":"$K$66","v":-512},null,{"$f":"$M$66","v":-680},null,{"$f":"$O$66","v":-856},null,{"$f":"$Q$66","v":-1032},null,{"$f":"$S$66","v":-1200},null,{"$f":"$U$66","v":-1384},null,{"$f":"$W$66","v":-1560},null,{"$f":"$Y$66","v":-1728},null,{"$f":"$AA$66","v":-1904},null,{"$f":"$AC$66","v":-2080},null,{"$f":"$AE$66","v":0}]
[{"$f":"$A$67","v":"Ferienkontrolle"},{"$f":"$B$67","v":"Ferienguthaben Vorjahr"},null,null,null,null,{"$f":"IF($AA$4=0,0,$AA$4)","v":0},null,{"$f":"$I$67","v":"Ferienguthaben nach \nArt. 12.1 GAV"},null,null,null,{"$f":"IF($AA$5=0,0,$AA$5)","v":0},null,{"$f":"$O$67","v":"Ferienguthaben total"},null,null,null,{"$f":"SUM(G707+M707)","v":0},null,{"$f":"$U$67","v":"Ferien bezogen"},null,null,null,{"$f":"IF($AV$4=0,0,$AV$4)","v":0},null,{"$f":"$AA$67","v":"Aktuelles Ferienguthaben"},null,null,null,{"$f":"IF(S707=0,0,S707-Y707)","v":0}]
[]
[]
[{"$f":"$A$3","v":"Mitarbeiter/In"},{"$f":"IF($B$3=\"\",\"\",$B$3)","v":"Muster Peter"},null,null,null,null,null,null,null,null,null,null,null,null,null,null,null,null,null,null,null,null,null,null,null,null,null,null,null,null,null,{"$f":"AF3","v":0}]
[{"$f":"$A$4","v":"Anstellung %"},{"$f":"$AL$55","v":100},null,{"$f":"Labels!B100","v":"im Dezember"}]
[{"$f":"$A$5","v":"Saldo für das Jahr"},null,null,{"$f":"IF($AE$65=0,0,$AE$65)","v":-2080}]
[{"$f":"TEXT(DATE(YEAR(AP29),MONTH(AP29)+11,1),\"MMMM\"&Labels!B13)","v":"Dezember"},{"$f":"$B$9","v":"Saldo Monat + / -"},null,null,null,{"$f":"(AG715-(SUM(AG716:AG730)-AE738))*-1","v":-176},null,null,null,null,{"$f":"$K$9","v":" = "},{"$f":"$L$9","v":"Gelbe Felder müssen ausgefüllt werden (die übrigen werden automatisch berechnet)"},null,null,null,null,null,null,null,null,null,null,null,null,null,null,null,null,null,null,null,null,{"$f":"COUNT(B716:AF716)&\" \"&Labels!$B$63","v":"22 Tage"}]
[{"$f":"$A$10","v":"Tag"},{"$f":"AE650+1","v":"2022-12-01"},{"$f":"B714+1","v":"2022-12-02"},{"$f":"C714+1","v":"2022-12-03"},"2022-12-04","2022-12-05","2022-12-06","2022-12-07","2022-12-08","2022-12-09","2022-12-10","2022-12-11","2022-12-12","2022-12-13","2022-12-14","2022-12-15","2022-12-16","2022-12-17","2022-12-18","2022-12-19","2022-12-20","2022-12-21","2022-12-22","2022-12-23","2022-12-24","2022-12-25","2022-12-26","2022-12-27","2022-12-28","2022-12-29","2022-12-30","2022-12-31"]
[{"$f":"$A$11","v":"Kalenderwoche"},{"$f":"IF(B714=\"\",\"\",TRUNC((B714-DATE(YEAR(B714+3-MOD(B714-2,7)),1,MOD(B714-2,7)-9))/7))","v":48},48,48,48,49,49,49,49,49,49,49,50,50,50,50,50,50,50,51,51,51,51,51,51,51,52,52,52,52,52,52,{"$f":"SUM(B716:AF716)","v":176}]
[{"$f":"$A$12","v":"Sollstunden"},{"$f":"IF(AND(MOD(B714,7)>=2,SUMPRODUCT(($AM$56:$AQ$56=MOD(B714,7))*$AM$55:$AQ$55)),($J$7*5/$AR$55)*$B$711%,\"\")","v":8},{"$f":"IF(AND(MOD(C714,7)>=2,SUMPRODUCT(($AM$56:$AQ$56=MOD(C714,7))*$AM$55:$AQ$55)),($J$7*5/$AR$55)*$B$711%,\"\")","v":8},{"$f":"IF(AND(MOD(D714,7)>=2,SUMPRODUCT(($AM$56:$AQ$56=MOD(D714,7))*$AM$55:$AQ$55)),($J$7*5/$AR$55)*$B$711%,\"\")","v":""},{"$f":"IF(AND(MOD(E714,7)>=2,SUMPRODUCT(($AM$56:$AQ$56=MOD(E714,7))*$AM$55:$AQ$55)),($J$7*5/$AR$55)*$B$711%,\"\")","v":""},{"$f":"IF(AND(MOD(F714,7)>=2,SUMPRODUCT(($AM$56:$AQ$56=MOD(F714,7))*$AM$55:$AQ$55)),($J$7*5/$AR$55)*$B$711%,\"\")","v":8},{"$f":"IF(AND(MOD(G714,7)>=2,SUMPRODUCT(($AM$56:$AQ$56=MOD(G714,7))*$AM$55:$AQ$55)),($J$7*5/$AR$55)*$B$711%,\"\")","v":8},{"$f":"IF(AND(MOD(H714,7)>=2,SUMPRODUCT(($AM$56:$AQ$56=MOD(H714,7))*$AM$55:$AQ$55)),($J$7*5/$AR$55)*$B$711%,\"\")","v":8},{"$f":"IF(AND(MOD(I714,7)>=2,SUMPRODUCT(($AM$56:$AQ$56=MOD(I714,7))*$AM$55:$AQ$55)),($J$7*5/$AR$55)*$B$711%,\"\")","v":8},{"$f":"IF(AND(MOD(J714,7)>=2,SUMPRODUCT(($AM$56:$AQ$56=MOD(J714,7))*$AM$55:$AQ$55)),($J$7*5/$AR$55)*$B$711%,\"\")","v":8},{"$f":"IF(AND(MOD(K714,7)>=2,SUMPRODUCT(($AM$56:$AQ$56=MOD(K714,7))*$AM$55:$AQ$55)),($J$7*5/$AR$55)*$B$711%,\"\")","v":""},{"$f":"IF(AND(MOD(L714,7)>=2,SUMPRODUCT(($AM$56:$AQ$56=MOD(L714,7))*$AM$55:$AQ$55)),($J$7*5/$AR$55)*$B$711%,\"\")","v":""},{"$f":"IF(AND(MOD(M714,7)>=2,SUMPRODUCT(($AM$56:$AQ$56=MOD(M714,7))*$AM$55:$AQ$55)),($J$7*5/$AR$55)*$B$711%,\"\")","v":8},{"$f":"IF(AND(MOD(N714,7)>=2,SUMPRODUCT(($AM$56:$AQ$56=MOD(N714,7))*$AM$55:$AQ$55)),($J$7*5/$AR$55)*$B$711%,\"\")","v":8},{"$f":"IF(AND(MOD(O714,7)>=2,SUMPRODUCT(($AM$56:$AQ$56=MOD(O714,7))*$AM$55:$AQ$55)),($J$7*5/$AR$55)*$B$711%,\"\")","v":8},{"$f":"IF(AND(MOD(P714,7)>=2,SUMPRODUCT(($AM$56:$AQ$56=MOD(P714,7))*$AM$55:$AQ$55)),($J$7*5/$AR$55)*$B$711%,\"\")","v":8},{"$f":"IF(AND(MOD(Q714,7)>=2,SUMPRODUCT(($AM$56:$AQ$56=MOD(Q714,7))*$AM$55:$AQ$55)),($J$7*5/$AR$55)*$B$711%,\"\")","v":8},{"$f":"IF(AND(MOD(R714,7)>=2,SUMPRODUCT(($AM$56:$AQ$56=MOD(R714,7))*$AM$55:$AQ$55)),($J$7*5/$AR$55)*$B$711%,\"\")","v":""},{"$f":"IF(AND(MOD(S714,7)>=2,SUMPRODUCT(($AM$56:$AQ$56=MOD(S714,7))*$AM$55:$AQ$55)),($J$7*5/$AR$55)*$B$711%,\"\")","v":""},{"$f":"IF(AND(MOD(T714,7)>=2,SUMPRODUCT(($AM$56:$AQ$56=MOD(T714,7))*$AM$55:$AQ$55)),($J$7*5/$AR$55)*$B$711%,\"\")","v":8},{"$f":"IF(AND(MOD(U714,7)>=2,SUMPRODUCT(($AM$56:$AQ$56=MOD(U714,7))*$AM$55:$AQ$55)),($J$7*5/$AR$55)*$B$711%,\"\")","v":8},{"$f":"IF(AND(MOD(V714,7)>=2,SUMPRODUCT(($AM$56:$AQ$56=MOD(V714,7))*$AM$55:$AQ$55)),($J$7*5/$AR$55)*$B$711%,\"\")","v":8},{"$f":"IF(AND(MOD(W714,7)>=2,SUMPRODUCT(($AM$56:$AQ$56=MOD(W714,7))*$AM$55:$AQ$55)),($J$7*5/$AR$55)*$B$711%,\"\")","v":8},{"$f":"IF(AND(MOD(X714,7)>=2,SUMPRODUCT(($AM$56:$AQ$56=MOD(X714,7))*$AM$55:$AQ$55)),($J$7*5/$AR$55)*$B$711%,\"\")","v":8},{"$f":"IF(AND(MOD(Y714,7)>=2,SUMPRODUCT(($AM$56:$AQ$56=MOD(Y714,7))*$AM$55:$AQ$55)),($J$7*5/$AR$55)*$B$711%,\"\")","v":""},{"$f":"IF(AND(MOD(Z714,7)>=2,SUMPRODUCT(($AM$56:$AQ$56=MOD(Z714,7))*$AM$55:$AQ$55)),($J$7*5/$AR$55)*$B$711%,\"\")","v":""},{"$f":"IF(AND(MOD(AA714,7)>=2,SUMPRODUCT(($AM$56:$AQ$56=MOD(AA714,7))*$AM$55:$AQ$55)),($J$7*5/$AR$55)*$B$711%,\"\")","v":8},{"$f":"IF(AND(MOD(AB714,7)>=2,SUMPRODUCT(($AM$56:$AQ$56=MOD(AB714,7))*$AM$55:$AQ$55)),($J$7*5/$AR$55)*$B$711%,\"\")","v":8},{"$f":"IF(AND(MOD(AC714,7)>=2,SUMPRODUCT(($AM$56:$AQ$56=MOD(AC714,7))*$AM$55:$AQ$55)),($J$7*5/$AR$55)*$B$711%,\"\")","v":8},{"$f":"IF(AND(MOD(AD714,7)>=2,SUMPRODUCT(($AM$56:$AQ$56=MOD(AD714,7))*$AM$55:$AQ$55)),($J$7*5/$AR$55)*$B$711%,\"\")","v":8},{"$f":"IF(AND(MOD(AE714,7)>=2,SUMPRODUCT(($AM$56:$AQ$56=MOD(AE714,7))*$AM$55:$AQ$55)),($J$7*5/$AR$55)*$B$711%,\"\")","v":8},{"$f":"IF(AND(MOD(AF714,7)>=2,SUMPRODUCT(($AM$56:$AQ$56=MOD(AF714,7))*$AM$55:$AQ$55)),($J$7*5/$AR$55)*$B$711%,\"\")","v":""},{"$f":"SUM(AU3:AU13)","v":0}]
[{"$f":"$A$13","v":"Absenz in Std"},{"$f":"B1084","v":0},{"$f":"C1084","v":0},0,0,0,0,0,0,0,0,0,0,0,0,0,0,0,0,0,0,0,0,0,0,0,0,0,0,0,0,0]
[{"$f":"$A$14","v":"Code"},{"$f":"IF(B1084<>0,IF(MAX(B1071:B1083)<B1084,Labels!$B$163,INDEX($AH$1070:$AH$1082,MATCH(MAX(B1071:B1083),B1071:B1083,0))),\"\")","v":""},{"$f":"IF(C1084<>0,IF(MAX(C1071:C1083)<C1084,Labels!$B$163,INDEX($AH$1070:$AH$1082,MATCH(MAX(C1071:C1083),C1071:C1083,0))),\"\")","v":""},{"$f":"IF(D1084<>0,IF(MAX(D1071:D1083)<D1084,Labels!$B$163,INDEX($AH$1070:$AH$1082,MATCH(MAX(D1071:D1083),D1071:D1083,0))),\"\")","v":""},{"$f":"IF(E1084<>0,IF(MAX(E1071:E1083)<E1084,Labels!$B$163,INDEX($AH$1070:$AH$1082,MATCH(MAX(E1071:E1083),E1071:E1083,0))),\"\")","v":""},{"$f":"IF(F1084<>0,IF(MAX(F1071:F1083)<F1084,Labels!$B$163,INDEX($AH$1070:$AH$1082,MATCH(MAX(F1071:F1083),F1071:F1083,0))),\"\")","v":""},{"$f":"IF(G1084<>0,IF(MAX(G1071:G1083)<G1084,Labels!$B$163,INDEX($AH$1070:$AH$1082,MATCH(MAX(G1071:G1083),G1071:G1083,0))),\"\")","v":""},{"$f":"IF(H1084<>0,IF(MAX(H1071:H1083)<H1084,Labels!$B$163,INDEX($AH$1070:$AH$1082,MATCH(MAX(H1071:H1083),H1071:H1083,0))),\"\")","v":""},{"$f":"IF(I1084<>0,IF(MAX(I1071:I1083)<I1084,Labels!$B$163,INDEX($AH$1070:$AH$1082,MATCH(MAX(I1071:I1083),I1071:I1083,0))),\"\")","v":""},{"$f":"IF(J1084<>0,IF(MAX(J1071:J1083)<J1084,Labels!$B$163,INDEX($AH$1070:$AH$1082,MATCH(MAX(J1071:J1083),J1071:J1083,0))),\"\")","v":""},{"$f":"IF(K1084<>0,IF(MAX(K1071:K1083)<K1084,Labels!$B$163,INDEX($AH$1070:$AH$1082,MATCH(MAX(K1071:K1083),K1071:K1083,0))),\"\")","v":""},{"$f":"IF(L1084<>0,IF(MAX(L1071:L1083)<L1084,Labels!$B$163,INDEX($AH$1070:$AH$1082,MATCH(MAX(L1071:L1083),L1071:L1083,0))),\"\")","v":""},{"$f":"IF(M1084<>0,IF(MAX(M1071:M1083)<M1084,Labels!$B$163,INDEX($AH$1070:$AH$1082,MATCH(MAX(M1071:M1083),M1071:M1083,0))),\"\")","v":""},{"$f":"IF(N1084<>0,IF(MAX(N1071:N1083)<N1084,Labels!$B$163,INDEX($AH$1070:$AH$1082,MATCH(MAX(N1071:N1083),N1071:N1083,0))),\"\")","v":""},{"$f":"IF(O1084<>0,IF(MAX(O1071:O1083)<O1084,Labels!$B$163,INDEX($AH$1070:$AH$1082,MATCH(MAX(O1071:O1083),O1071:O1083,0))),\"\")","v":""},{"$f":"IF(P1084<>0,IF(MAX(P1071:P1083)<P1084,Labels!$B$163,INDEX($AH$1070:$AH$1082,MATCH(MAX(P1071:P1083),P1071:P1083,0))),\"\")","v":""},{"$f":"IF(Q1084<>0,IF(MAX(Q1071:Q1083)<Q1084,Labels!$B$163,INDEX($AH$1070:$AH$1082,MATCH(MAX(Q1071:Q1083),Q1071:Q1083,0))),\"\")","v":""},{"$f":"IF(R1084<>0,IF(MAX(R1071:R1083)<R1084,Labels!$B$163,INDEX($AH$1070:$AH$1082,MATCH(MAX(R1071:R1083),R1071:R1083,0))),\"\")","v":""},{"$f":"IF(S1084<>0,IF(MAX(S1071:S1083)<S1084,Labels!$B$163,INDEX($AH$1070:$AH$1082,MATCH(MAX(S1071:S1083),S1071:S1083,0))),\"\")","v":""},{"$f":"IF(T1084<>0,IF(MAX(T1071:T1083)<T1084,Labels!$B$163,INDEX($AH$1070:$AH$1082,MATCH(MAX(T1071:T1083),T1071:T1083,0))),\"\")","v":""},{"$f":"IF(U1084<>0,IF(MAX(U1071:U1083)<U1084,Labels!$B$163,INDEX($AH$1070:$AH$1082,MATCH(MAX(U1071:U1083),U1071:U1083,0))),\"\")","v":""},{"$f":"IF(V1084<>0,IF(MAX(V1071:V1083)<V1084,Labels!$B$163,INDEX($AH$1070:$AH$1082,MATCH(MAX(V1071:V1083),V1071:V1083,0))),\"\")","v":""},{"$f":"IF(W1084<>0,IF(MAX(W1071:W1083)<W1084,Labels!$B$163,INDEX($AH$1070:$AH$1082,MATCH(MAX(W1071:W1083),W1071:W1083,0))),\"\")","v":""},{"$f":"IF(X1084<>0,IF(MAX(X1071:X1083)<X1084,Labels!$B$163,INDEX($AH$1070:$AH$1082,MATCH(MAX(X1071:X1083),X1071:X1083,0))),\"\")","v":""},{"$f":"IF(Y1084<>0,IF(MAX(Y1071:Y1083)<Y1084,Labels!$B$163,INDEX($AH$1070:$AH$1082,MATCH(MAX(Y1071:Y1083),Y1071:Y1083,0))),\"\")","v":""},{"$f":"IF(Z1084<>0,IF(MAX(Z1071:Z1083)<Z1084,Labels!$B$163,INDEX($AH$1070:$AH$1082,MATCH(MAX(Z1071:Z1083),Z1071:Z1083,0))),\"\")","v":""},{"$f":"IF(AA1084<>0,IF(MAX(AA1071:AA1083)<AA1084,Labels!$B$163,INDEX($AH$1070:$AH$1082,MATCH(MAX(AA1071:AA1083),AA1071:AA1083,0))),\"\")","v":""},{"$f":"IF(AB1084<>0,IF(MAX(AB1071:AB1083)<AB1084,Labels!$B$163,INDEX($AH$1070:$AH$1082,MATCH(MAX(AB1071:AB1083),AB1071:AB1083,0))),\"\")","v":""},{"$f":"IF(AC1084<>0,IF(MAX(AC1071:AC1083)<AC1084,Labels!$B$163,INDEX($AH$1070:$AH$1082,MATCH(MAX(AC1071:AC1083),AC1071:AC1083,0))),\"\")","v":""},{"$f":"IF(AD1084<>0,IF(MAX(AD1071:AD1083)<AD1084,Labels!$B$163,INDEX($AH$1070:$AH$1082,MATCH(MAX(AD1071:AD1083),AD1071:AD1083,0))),\"\")","v":""},{"$f":"IF(AE1084<>0,IF(MAX(AE1071:AE1083)<AE1084,Labels!$B$163,INDEX($AH$1070:$AH$1082,MATCH(MAX(AE1071:AE1083),AE1071:AE1083,0))),\"\")","v":""},{"$f":"IF(AF1084<>0,IF(MAX(AF1071:AF1083)<AF1084,Labels!$B$163,INDEX($AH$1070:$AH$1082,MATCH(MAX(AF1071:AF1083),AF1071:AF1083,0))),\"\")","v":""},{"$f":"SUM(B719:AF719)","v":0}]
[{"$f":"$A$15","v":"00.00-06.00h"},null,null,null,null,null,null,null,null,null,null,null,null,null,null,null,null,null,null,null,null,null,null,null,null,null,null,null,null,null,null,null,{"$f":"SUM(B720:AF720)","v":0}]
[{"$f":"$A$16","v":"06.00-20.00h"},null,null,null,null,null,null,null,null,null,null,null,null,null,null,null,null,null,null,null,null,null,null,null,null,null,null,null,null,null,null,null,{"$f":"SUM(B721:AF721)","v":0},"[0]"]
[{"$f":"$A$17","v":"20.00-24.00h"}]
[{"$f":"$A$18","v":"Feiertag \"ft\""},{"$f":"IF(WEEKDAY(B714,2)<=6,IF(KALENDER!E25=\"x\",Labels!$B$118,\"\"),\"\")","v":""},{"$f":"IF(WEEKDAY(C714,2)<=6,IF(KALENDER!F25=\"x\",Labels!$B$118,\"\"),\"\")","v":""},{"$f":"IF(WEEKDAY(D714,2)<=6,IF(KALENDER!G25=\"x\",Labels!$B$118,\"\"),\"\")","v":""},{"$f":"IF(WEEKDAY(E714,2)<=6,IF(KALENDER!H25=\"x\",Labels!$B$118,\"\"),\"\")","v":""},{"$f":"IF(WEEKDAY(F714,2)<=6,IF(KALENDER!I25=\"x\",Labels!$B$118,\"\"),\"\")","v":""},{"$f":"IF(WEEKDAY(G714,2)<=6,IF(KALENDER!J25=\"x\",Labels!$B$118,\"\"),\"\")","v":""},{"$f":"IF(WEEKDAY(H714,2)<=6,IF(KALENDER!K25=\"x\",Labels!$B$118,\"\"),\"\")","v":""},{"$f":"IF(WEEKDAY(I714,2)<=6,IF(KALENDER!L25=\"x\",Labels!$B$118,\"\"),\"\")","v":""},{"$f":"IF(WEEKDAY(J714,2)<=6,IF(KALENDER!M25=\"x\",Labels!$B$118,\"\"),\"\")","v":""},{"$f":"IF(WEEKDAY(K714,2)<=6,IF(KALENDER!N25=\"x\",Labels!$B$118,\"\"),\"\")","v":""},{"$f":"IF(WEEKDAY(L714,2)<=6,IF(KALENDER!O25=\"x\",Labels!$B$118,\"\"),\"\")","v":""},{"$f":"IF(WEEKDAY(M714,2)<=6,IF(KALENDER!P25=\"x\",Labels!$B$118,\"\"),\"\")","v":""},{"$f":"IF(WEEKDAY(N714,2)<=6,IF(KALENDER!Q25=\"x\",Labels!$B$118,\"\"),\"\")","v":""},{"$f":"IF(WEEKDAY(O714,2)<=6,IF(KALENDER!R25=\"x\",Labels!$B$118,\"\"),\"\")","v":""},{"$f":"IF(WEEKDAY(P714,2)<=6,IF(KALENDER!S25=\"x\",Labels!$B$118,\"\"),\"\")","v":""},{"$f":"IF(WEEKDAY(Q714,2)<=6,IF(KALENDER!T25=\"x\",Labels!$B$118,\"\"),\"\")","v":""},{"$f":"IF(WEEKDAY(R714,2)<=6,IF(KALENDER!U25=\"x\",Labels!$B$118,\"\"),\"\")","v":""},{"$f":"IF(WEEKDAY(S714,2)<=6,IF(KALENDER!V25=\"x\",Labels!$B$118,\"\"),\"\")","v":""},{"$f":"IF(WEEKDAY(T714,2)<=6,IF(KALENDER!W25=\"x\",Labels!$B$118,\"\"),\"\")","v":""},{"$f":"IF(WEEKDAY(U714,2)<=6,IF(KALENDER!X25=\"x\",Labels!$B$118,\"\"),\"\")","v":""},{"$f":"IF(WEEKDAY(V714,2)<=6,IF(KALENDER!Y25=\"x\",Labels!$B$118,\"\"),\"\")","v":""},{"$f":"IF(WEEKDAY(W714,2)<=6,IF(KALENDER!Z25=\"x\",Labels!$B$118,\"\"),\"\")","v":""},{"$f":"IF(WEEKDAY(X714,2)<=6,IF(KALENDER!AA25=\"x\",Labels!$B$118,\"\"),\"\")","v":""},{"$f":"IF(WEEKDAY(Y714,2)<=6,IF(KALENDER!AB25=\"x\",Labels!$B$118,\"\"),\"\")","v":""},{"$f":"IF(WEEKDAY(Z714,2)<=6,IF(KALENDER!AC25=\"x\",Labels!$B$118,\"\"),\"\")","v":""},{"$f":"IF(WEEKDAY(AA714,2)<=6,IF(KALENDER!AD25=\"x\",Labels!$B$118,\"\"),\"\")","v":""},{"$f":"IF(WEEKDAY(AB714,2)<=6,IF(KALENDER!AE25=\"x\",Labels!$B$118,\"\"),\"\")","v":""},{"$f":"IF(WEEKDAY(AC714,2)<=6,IF(KALENDER!AF25=\"x\",Labels!$B$118,\"\"),\"\")","v":""},{"$f":"IF(WEEKDAY(AD714,2)<=6,IF(KALENDER!AG25=\"x\",Labels!$B$118,\"\"),\"\")","v":""},{"$f":"IF(WEEKDAY(AE714,2)<=6,IF(KALENDER!AH25=\"x\",Labels!$B$118,\"\"),\"\")","v":""},{"$f":"IF(WEEKDAY(AF714,2)<=6,IF(KALENDER!AI25=\"x\",Labels!$B$118,\"\"),\"\")","v":""},{"$f":"SUM(B723:AF723)","v":0}]
[{"$f":"$A$19","v":"Gutschrift \"ft\""},{"$f":"IF(AND(B722=Labels!$B$118,WEEKDAY(B714,2)<6,B$716<>\"\"),($J$7*5/$AR$55)*$B$711%,\"\")","v":""},{"$f":"IF(AND(C722=Labels!$B$118,WEEKDAY(C714,2)<6,C$716<>\"\"),($J$7*5/$AR$55)*$B$711%,\"\")","v":""},{"$f":"IF(AND(D722=Labels!$B$118,WEEKDAY(D714,2)<6,D$716<>\"\"),($J$7*5/$AR$55)*$B$711%,\"\")","v":""},{"$f":"IF(AND(E722=Labels!$B$118,WEEKDAY(E714,2)<6,E$716<>\"\"),($J$7*5/$AR$55)*$B$711%,\"\")","v":""},{"$f":"IF(AND(F722=Labels!$B$118,WEEKDAY(F714,2)<6,F$716<>\"\"),($J$7*5/$AR$55)*$B$711%,\"\")","v":""},{"$f":"IF(AND(G722=Labels!$B$118,WEEKDAY(G714,2)<6,G$716<>\"\"),($J$7*5/$AR$55)*$B$711%,\"\")","v":""},{"$f":"IF(AND(H722=Labels!$B$118,WEEKDAY(H714,2)<6,H$716<>\"\"),($J$7*5/$AR$55)*$B$711%,\"\")","v":""},{"$f":"IF(AND(I722=Labels!$B$118,WEEKDAY(I714,2)<6,I$716<>\"\"),($J$7*5/$AR$55)*$B$711%,\"\")","v":""},{"$f":"IF(AND(J722=Labels!$B$118,WEEKDAY(J714,2)<6,J$716<>\"\"),($J$7*5/$AR$55)*$B$711%,\"\")","v":""},{"$f":"IF(AND(K722=Labels!$B$118,WEEKDAY(K714,2)<6,K$716<>\"\"),($J$7*5/$AR$55)*$B$711%,\"\")","v":""},{"$f":"IF(AND(L722=Labels!$B$118,WEEKDAY(L714,2)<6,L$716<>\"\"),($J$7*5/$AR$55)*$B$711%,\"\")","v":""},{"$f":"IF(AND(M722=Labels!$B$118,WEEKDAY(M714,2)<6,M$716<>\"\"),($J$7*5/$AR$55)*$B$711%,\"\")","v":""},{"$f":"IF(AND(N722=Labels!$B$118,WEEKDAY(N714,2)<6,N$716<>\"\"),($J$7*5/$AR$55)*$B$711%,\"\")","v":""},{"$f":"IF(AND(O722=Labels!$B$118,WEEKDAY(O714,2)<6,O$716<>\"\"),($J$7*5/$AR$55)*$B$711%,\"\")","v":""},{"$f":"IF(AND(P722=Labels!$B$118,WEEKDAY(P714,2)<6,P$716<>\"\"),($J$7*5/$AR$55)*$B$711%,\"\")","v":""},{"$f":"IF(AND(Q722=Labels!$B$118,WEEKDAY(Q714,2)<6,Q$716<>\"\"),($J$7*5/$AR$55)*$B$711%,\"\")","v":""},{"$f":"IF(AND(R722=Labels!$B$118,WEEKDAY(R714,2)<6,R$716<>\"\"),($J$7*5/$AR$55)*$B$711%,\"\")","v":""},{"$f":"IF(AND(S722=Labels!$B$118,WEEKDAY(S714,2)<6,S$716<>\"\"),($J$7*5/$AR$55)*$B$711%,\"\")","v":""},{"$f":"IF(AND(T722=Labels!$B$118,WEEKDAY(T714,2)<6,T$716<>\"\"),($J$7*5/$AR$55)*$B$711%,\"\")","v":""},{"$f":"IF(AND(U722=Labels!$B$118,WEEKDAY(U714,2)<6,U$716<>\"\"),($J$7*5/$AR$55)*$B$711%,\"\")","v":""},{"$f":"IF(AND(V722=Labels!$B$118,WEEKDAY(V714,2)<6,V$716<>\"\"),($J$7*5/$AR$55)*$B$711%,\"\")","v":""},{"$f":"IF(AND(W722=Labels!$B$118,WEEKDAY(W714,2)<6,W$716<>\"\"),($J$7*5/$AR$55)*$B$711%,\"\")","v":""},{"$f":"IF(AND(X722=Labels!$B$118,WEEKDAY(X714,2)<6,X$716<>\"\"),($J$7*5/$AR$55)*$B$711%,\"\")","v":""},{"$f":"IF(AND(Y722=Labels!$B$118,WEEKDAY(Y714,2)<6,Y$716<>\"\"),($J$7*5/$AR$55)*$B$711%,\"\")","v":""},{"$f":"IF(AND(Z722=Labels!$B$118,WEEKDAY(Z714,2)<6,Z$716<>\"\"),($J$7*5/$AR$55)*$B$711%,\"\")","v":""},{"$f":"IF(AND(AA722=Labels!$B$118,WEEKDAY(AA714,2)<6,AA$716<>\"\"),($J$7*5/$AR$55)*$B$711%,\"\")","v":""},{"$f":"IF(AND(AB722=Labels!$B$118,WEEKDAY(AB714,2)<6,AB$716<>\"\"),($J$7*5/$AR$55)*$B$711%,\"\")","v":""},{"$f":"IF(AND(AC722=Labels!$B$118,WEEKDAY(AC714,2)<6,AC$716<>\"\"),($J$7*5/$AR$55)*$B$711%,\"\")","v":""},{"$f":"IF(AND(AD722=Labels!$B$118,WEEKDAY(AD714,2)<6,AD$716<>\"\"),($J$7*5/$AR$55)*$B$711%,\"\")","v":""},{"$f":"IF(AND(AE722=Labels!$B$118,WEEKDAY(AE714,2)<6,AE$716<>\"\"),($J$7*5/$AR$55)*$B$711%,\"\")","v":""},{"$f":"IF(AND(AF722=Labels!$B$118,WEEKDAY(AF714,2)<6,AF$716<>\"\"),($J$7*5/$AR$55)*$B$711%,\"\")","v":""}]
[{"$f":"$A$20","v":"Tagestotal"},{"$f":"SUM(B719:B721)","v":0},{"$f":"SUM(C719:C721)","v":0},0,0,0,0,0,0,0,0,0,0,0,0,0,0,0,0,0,0,0,0,0,0,0,0,0,0,0,0,0]
[{"$f":"$A$21","v":"."}]
[{"$f":"$A$22","v":"."}]
[{"$f":"$A$23","v":"Monatsübergang"},{"$f":"IF(WEEKDAY(B714)=1,TEXT(B714-1,\"MMM\"&Labels!B13),\"\")","v":""}]
[{"$f":"$A$24","v":"Wochentotal"},{"$f":"IF(WEEKDAY(B714)=7,SUMIF($B651:$AF651,B715,$B660:$AF660)+SUMIF($B715:$AF715,B715,$B724:$AF724),B727)","v":""},{"$f":"IF(WEEKDAY(C714)=7,SUMIF($B651:$AF651,C715,$B660:$AF660)+SUMIF($B715:$AF715,C715,$B724:$AF724),\"\")","v":""},0,"","","","","","",0,"","","","","","",0,"","","","","","",0,"","","","","","",{"$f":"IF(WEEKDAY(AF714)>1,SUMIF($B651:$AF651,AF715,$B660:$AF660)+SUMIF($B715:$AF715,AF715,$B724:$AF724),\"\")","v":0},{"$f":"SUM(B729:AF729)","v":0}]
[{"$f":"$A$25","v":"Zeitzuschlag 1)"},{"$f":"IF(B736=\"FALSCH\",\"\",B736)","v":""},{"$f":"IF(C736=\"FALSCH\",\"\",C736)","v":""},"","","","","","","","","","","","","","","","","","","","","","","","","","","","","",0,"[1]"]
[{"$f":"$A$26","v":"Zeitzuschlag 2)"},{"$f":"IF((B719+B721)=0,\"\",SUM(B719,B721))","v":""},{"$f":"IF((C719+C721)=0,\"\",SUM(C719,C721))","v":""},"","","","","","","","","","","","","","","","","","","","","","","","","","","","","",{"$f":"SUM(B731:AF731)","v":0},"[2]"]
[{"$f":"$A$27","v":"Zeitzuschlag 3)"},{"$f":"SUM(B732:B735)","v":0},{"$f":"SUM(C732:C735)","v":0},0,0,0,0,0,0,0,0,0,0,0,0,0,0,0,0,0,0,0,0,0,0,0,0,0,0,0,0,0,0,"[3]"]
[{"$f":"$A$28","v":"Sonntag Tag"},{"$f":"IF(WEEKDAY(B714)=1,B720,\"\")","v":""},{"$f":"IF(WEEKDAY(C714)=1,C720,\"\")","v":""},"",0,"","","","","","",0,"","","","","","",0,"","","","","","",0,"","","","","","",0,"[4]"]
[{"$f":"$A$29","v":"Sonntag Nacht"},{"$f":"IF(WEEKDAY(B714)=1,SUM(B719+B721),\"\")","v":""},{"$f":"IF(WEEKDAY(C714)=1,SUM(C719+C721),\"\")","v":""},"",0,"","","","","","",0,"","","","","","",0,"","","","","","",0,"","","","","","",0,"[5]"]
[{"$f":"$A$30","v":"ft-Tazuschlag"},{"$f":"IF(B722=Labels!$B$118,B720,\"\")","v":""},{"$f":"IF(C722=Labels!$B$118,C720,\"\")","v":""},{"$f":"IF(D722=Labels!$B$118,D720,\"\")","v":""},{"$f":"IF(E722=Labels!$B$118,E720,\"\")","v":""},{"$f":"IF(F722=Labels!$B$118,F720,\"\")","v":""},{"$f":"IF(G722=Labels!$B$118,G720,\"\")","v":""},{"$f":"IF(H722=Labels!$B$118,H720,\"\")","v":""},{"$f":"IF(I722=Labels!$B$118,I720,\"\")","v":""},{"$f":"IF(J722=Labels!$B$118,J720,\"\")","v":""},{"$f":"IF(K722=Labels!$B$118,K720,\"\")","v":""},{"$f":"IF(L722=Labels!$B$118,L720,\"\")","v":""},{"$f":"IF(M722=Labels!$B$118,M720,\"\")","v":""},{"$f":"IF(N722=Labels!$B$118,N720,\"\")","v":""},{"$f":"IF(O722=Labels!$B$118,O720,\"\")","v":""},{"$f":"IF(P722=Labels!$B$118,P720,\"\")","v":""},{"$f":"IF(Q722=Labels!$B$118,Q720,\"\")","v":""},{"$f":"IF(R722=Labels!$B$118,R720,\"\")","v":""},{"$f":"IF(S722=Labels!$B$118,S720,\"\")","v":""},{"$f":"IF(T722=Labels!$B$118,T720,\"\")","v":""},{"$f":"IF(U722=Labels!$B$118,U720,\"\")","v":""},{"$f":"IF(V722=Labels!$B$118,V720,\"\")","v":""},{"$f":"IF(W722=Labels!$B$118,W720,\"\")","v":""},{"$f":"IF(X722=Labels!$B$118,X720,\"\")","v":""},{"$f":"IF(Y722=Labels!$B$118,Y720,\"\")","v":""},{"$f":"IF(Z722=Labels!$B$118,Z720,\"\")","v":""},{"$f":"IF(AA722=Labels!$B$118,AA720,\"\")","v":""},{"$f":"IF(AB722=Labels!$B$118,AB720,\"\")","v":""},{"$f":"IF(AC722=Labels!$B$118,AC720,\"\")","v":""},{"$f":"IF(AD722=Labels!$B$118,AD720,\"\")","v":""},{"$f":"IF(AE722=Labels!$B$118,AE720,\"\")","v":""},{"$f":"IF(AF722=Labels!$B$118,AF720,\"\")","v":""},0,"[6]"]
[{"$f":"$A$31","v":"ft-Nazuschlag"},{"$f":"IF(B722=Labels!$B$118,SUM(B719,B721),\"\")","v":""},{"$f":"IF(C722=Labels!$B$118,SUM(C719,C721),\"\")","v":""},{"$f":"IF(D722=Labels!$B$118,SUM(D719,D721),\"\")","v":""},{"$f":"IF(E722=Labels!$B$118,SUM(E719,E721),\"\")","v":""},{"$f":"IF(F722=Labels!$B$118,SUM(F719,F721),\"\")","v":""},{"$f":"IF(G722=Labels!$B$118,SUM(G719,G721),\"\")","v":""},{"$f":"IF(H722=Labels!$B$118,SUM(H719,H721),\"\")","v":""},{"$f":"IF(I722=Labels!$B$118,SUM(I719,I721),\"\")","v":""},{"$f":"IF(J722=Labels!$B$118,SUM(J719,J721),\"\")","v":""},{"$f":"IF(K722=Labels!$B$118,SUM(K719,K721),\"\")","v":""},{"$f":"IF(L722=Labels!$B$118,SUM(L719,L721),\"\")","v":""},{"$f":"IF(M722=Labels!$B$118,SUM(M719,M721),\"\")","v":""},{"$f":"IF(N722=Labels!$B$118,SUM(N719,N721),\"\")","v":""},{"$f":"IF(O722=Labels!$B$118,SUM(O719,O721),\"\")","v":""},{"$f":"IF(P722=Labels!$B$118,SUM(P719,P721),\"\")","v":""},{"$f":"IF(Q722=Labels!$B$118,SUM(Q719,Q721),\"\")","v":""},{"$f":"IF(R722=Labels!$B$118,SUM(R719,R721),\"\")","v":""},{"$f":"IF(S722=Labels!$B$118,SUM(S719,S721),\"\")","v":""},{"$f":"IF(T722=Labels!$B$118,SUM(T719,T721),\"\")","v":""},{"$f":"IF(U722=Labels!$B$118,SUM(U719,U721),\"\")","v":""},{"$f":"IF(V722=Labels!$B$118,SUM(V719,V721),\"\")","v":""},{"$f":"IF(W722=Labels!$B$118,SUM(W719,W721),\"\")","v":""},{"$f":"IF(X722=Labels!$B$118,SUM(X719,X721),\"\")","v":""},{"$f":"IF(Y722=Labels!$B$118,SUM(Y719,Y721),\"\")","v":""},{"$f":"IF(Z722=Labels!$B$118,SUM(Z719,Z721),\"\")","v":""},{"$f":"IF(AA722=Labels!$B$118,SUM(AA719,AA721),\"\")","v":""},{"$f":"IF(AB722=Labels!$B$118,SUM(AB719,AB721),\"\")","v":""},{"$f":"IF(AC722=Labels!$B$118,SUM(AC719,AC721),\"\")","v":""},{"$f":"IF(AD722=Labels!$B$118,SUM(AD719,AD721),\"\")","v":""},{"$f":"IF(AE722=Labels!$B$118,SUM(AE719,AE721),\"\")","v":""},{"$f":"IF(AF722=Labels!$B$118,SUM(AF719,AF721),\"\")","v":""},{"$f":"AG719","v":0},"[7]"]
[{"$f":"$A$32","v":"Zuschlag  blind (Wochentotal)"},{"$f":"IF(OR(ISTEXT(B728),B728=\"\",B728<$B$7),\"\",ROUND(((B728-$B$7)*25%)/25,4)*25)","v":""},{"$f":"IF(OR(ISTEXT(C728),C728=\"\",C728<$B$7),\"\",ROUND(((C728-$B$7)*25%)/25,4)*25)","v":""},"","","","","","","","","","","","","","","","","","","","","","","","","","","","","",{"$f":"SUM(AG718+AG720)","v":0},"[8]"]
[null,{"$f":"$B$33","v":"1)   25% Zeitzuschlag für Überschreitung Wochentotal"},null,null,null,null,null,null,null,null,null,{"$f":"$L$33","v":"2) 100% Zeitzuschlag für Nachtarbeit"},null,null,null,null,null,null,null,null,null,null,null,null,null,null,null,null,null,null,null,null,{"$f":"SUM(AG718:AG720)","v":0},"[9]"]
[null,{"$f":"$B$34","v":"3) 100% Zeitzuschlag für Sonn- und Feiertagsarbeit"},null,null,null,null,null,null,null,null,null,null,null,null,null,null,null,null,null,{"$f":"$T$34","v":"Eingabe der ausbezahlten Stunden laufendes Jahr (Überstunden)"},null,null,null,null,null,null,null,null,null,null,null,null,{"$f":"SUM(AG716+AG722)","v":0},"[10]"]
[{"$f":"$A$35","v":"Bemerkungen"},null,null,null,null,null,null,null,null,null,null,null,null,null,null,null,null,null,null,null,null,null,null,null,null,null,null,null,null,null,null,null,{"$f":"SUM(AG716:AG730)","v":0},"[11]"]
[null,null,null,null,null,null,null,null,null,null,null,null,null,null,null,null,null,null,null,null,null,null,null,null,null,null,null,null,null,null,null,null,{"$f":"AG715","v":176}]
[null,null,null,null,null,null,null,null,null,null,null,null,null,null,null,null,null,null,null,null,null,null,null,null,null,null,null,null,null,null,null,null,{"$f":"SUM(AG739-AG715)","v":-176}]
[]
[{"$f":"$A$39","v":"Zusammenstellung"},null,null,null,null,null,{"$f":"$G$39","v":"Jan"},null,{"$f":"$I$39","v":"Feb"},null,{"$f":"$K$39","v":"Mrz"},null,{"$f":"$M$39","v":"Apr"},null,{"$f":"$O$39","v":"Mai"},null,{"$f":"$Q$39","v":"Jun"},null,{"$f":"$S$39","v":"Jul"},null,{"$f":"$U$39","v":"Aug"},null,{"$f":"$W$39","v":"Sep"},null,{"$f":"$Y$39","v":"Okt"},null,{"$f":"$AA$39","v":"Nov"},null,{"$f":"$AC$39","v":"Dez"},null,{"$f":"$AE$39","v":"Jahr"}]
[{"$f":"$A$40","v":"Anstellung %"},null,null,null,null,null,{"$f":"IF($B$4=0,0,$B$4)","v":100},null,{"$f":"IF($B$71=0,0,$B$71)","v":100},null,{"$f":"IF($B$135=0,0,$B$135)","v":100},null,{"$f":"IF($B$199=0,0,$B$199)","v":100},null,{"$f":"IF($B$263=0,0,$B$263)","v":100},null,{"$f":"IF($B$327=0,0,$B$327)","v":100},null,{"$f":"IF($B$391=0,0,$B$391)","v":100},null,{"$f":"IF($B$455=0,0,$B$455)","v":100},null,{"$f":"IF($B$519=0,0,$B$519)","v":100},null,{"$f":"IF($B$583=0,0,$B$583)","v":100},null,{"$f":"IF($B$647=0,0,$B$647)","v":100},null,{"$f":"IF($B$711=0,0,$B$711)","v":100}]
[{"$f":"$A$41","v":"Sollstunden gemäss GAV"},null,null,null,null,null,{"$f":"IF($AG$37=0,0,$AG$37)","v":168},null,{"$f":"IF($AG$100=0,0,$AG$100)","v":160},null,{"$f":"IF($AG$139=0,0,$AG$139)","v":184},null,{"$f":"IF($AG$228=0,0,$AG$228)","v":168},null,{"$f":"IF($AG$292=0,0,$AG$292)","v":176},null,{"$f":"IF($AG$356=0,0,$AG$356)","v":176},null,{"$f":"IF($AG$420=0,0,$AG$420)","v":168},null,{"$f":"IF($AG$484=0,0,$AG$484)","v":184},null,{"$f":"IF($AG$548=0,0,$AG$548)","v":176},null,{"$f":"IF($AG$612=0,0,$AG$612)","v":168},null,{"$f":"IF($AG$676=0,0,$AG$676)","v":176},null,{"$f":"IF($AG$740=0,0,$AG$740)","v":176},null,{"$f":"SUM(G681:AD681)","v":2080}]
[{"$f":"$A$42","v":"Produktive Stunden"},{"$f":"$B$42","v":"06.00 - 20.00 Uhr"},null,null,null,null,{"$f":"IF($AG$32=0,0,$AG$32)","v":0},null,{"$f":"IF($AG$95=0,0,$AG$95)","v":0},null,{"$f":"IF($AG$159=0,0,$AG$159)","v":0},null,{"$f":"IF($AG$223=0,0,$AG$223)","v":0},null,{"$f":"IF($AG$287=0,0,$AG$287)","v":0},null,{"$f":"IF($AG$351=0,0,$AG$351)","v":0},null,{"$f":"IF($AG$415=0,0,$AG$415)","v":0},null,{"$f":"IF($AG$479=0,0,$AG$479)","v":0},null,{"$f":"IF($AG$543=0,0,$AG$543)","v":0},null,{"$f":"IF($AG$607=0,0,$AG$607)","v":0},null,{"$f":"IF($AG$671=0,0,$AG$671)","v":0},null,{"$f":"IF($AG$735=0,0,$AG$735)","v":0},null,{"$f":"SUM(G682:AD682)","v":0}]
[null,{"$f":"$B$43","v":"Nacht-, Sonn-, Feiertagsarbeit"},null,null,null,null,{"$f":"IF($AG$33=0,0,$AG$33)","v":0},null,{"$f":"IF($AG$96=0,0,$AG$96)","v":0},null,{"$f":"IF($AG$160=0,0,$AG$160)","v":0},null,{"$f":"IF($AG$224=0,0,$AG$224)","v":0},null,{"$f":"IF($AG$288=0,0,$AG$288)","v":0},null,{"$f":"IF($AG$352=0,0,$AG$352)","v":0},null,{"$f":"IF($AG$416=0,0,$AG$416)","v":0},null,{"$f":"IF($AG$480=0,0,$AG$480)","v":0},null,{"$f":"IF($AG$544=0,0,$AG$544)","v":0},null,{"$f":"IF($AG$608=0,0,$AG$608)","v":0},null,{"$f":"IF($AG$672=0,0,$AG$672)","v":0},null,{"$f":"IF($AG$736=0,0,$AG$736)","v":0},null,{"$f":"SUM(G683:AD683)","v":0}]
[{"$f":"$A$44","v":"Zeitzuschläge"},{"$f":"$B$44","v":"aus Wochentotal"},null,null,null,null,{"$f":"IF($AG$25=0,0,$AG$25)","v":0},null,{"$f":"IF($AG$88=0,0,$AG$88)","v":0},null,{"$f":"IF($AG$152=0,0,$AG$152)","v":0},null,{"$f":"IF($AG$216=0,0,$AG$216)","v":0},null,{"$f":"IF($AG$280=0,0,$AG$280)","v":0},null,{"$f":"IF($AG$344=0,0,$AG$344)","v":0},null,{"$f":"IF($AG$408=0,0,$AG$408)","v":0},null,{"$f":"IF($AG$472=0,0,$AG$472)","v":0},null,{"$f":"IF($AG$536=0,0,$AG$536)","v":0},null,{"$f":"IF($AG$600=0,0,$AG$600)","v":0},null,{"$f":"IF($AG$664=0,0,$AG$664)","v":0},null,{"$f":"IF($AG$728=0,0,$AG$728)","v":0},null,{"$f":"SUM(G684:AD684)","v":0}]
[null,{"$f":"$B$45","v":"aus Nacht-, Sonn-, Feiertagsarbeiten"},null,null,null,null,{"$f":"IF($AJ$21=0,0,$AJ$21)","v":0},null,{"$f":"IF($AK$21=0,0,$AK$21)","v":0},null,{"$f":"IF($AL$21=0,0,$AL$21)","v":0},null,{"$f":"IF($AM$21=0,0,$AM$21)","v":0},null,{"$f":"IF($AN$21=0,0,$AN$21)","v":0},null,{"$f":"IF($AO$21=0,0,$AO$21)","v":0},null,{"$f":"IF($AP$21=0,0,$AP$21)","v":0},null,{"$f":"IF($AQ$21=0,0,$AQ$21)","v":0},null,{"$f":"IF($AR$21=0,0,$AR$21)","v":0},null,{"$f":"IF($AS$21=0,0,$AS$21)","v":0},null,{"$f":"IF($AT$21=0,0,$AT$21)","v":0},null,{"$f":"IF($AU$21=0,0,$AU$21)","v":0},null,{"$f":"SUM(G685:AD685)","v":0}]
[{"$f":"$A$46","v":"Unproduktive Stunden"}]
[{"$f":"$A$47","v":"   Absenzen, Kurzabsenzen Art. 11 GAV"},null,null,null,null,{"$f":"$F$47","v":"a"},{"$f":"IF($AJ$3=0,0,$AJ$3)","v":0},null,{"$f":"IF($AK$3=0,0,$AK$3)","v":0},null,{"$f":"IF($AL$3=0,0,$AL$3)","v":0},null,{"$f":"IF($AM$3=0,0,$AM$3)","v":0},null,{"$f":"IF($AN$3=0,0,$AN$3)","v":0},null,{"$f":"IF($AO$3=0,0,$AO$3)","v":0},null,{"$f":"IF($AP$3=0,0,$AP$3)","v":0},null,{"$f":"IF($AQ$3=0,0,$AQ$3)","v":0},null,{"$f":"IF($AR$3=0,0,$AR$3)","v":0},null,{"$f":"IF($AS$3=0,0,$AS$3)","v":0},null,{"$f":"IF(AT$3=0,0,$AT$3)","v":0},null,{"$f":"IF($AU$3=0,0,$AU$3)","v":0},null,{"$f":"IF($AV$3=0,0,$AV$3)","v":0}]
[{"$f":"$A$48","v":"   Ferien Art. 12.1 GAV"},null,null,null,null,{"$f":"$F$48","v":"f"},{"$f":"IF($AJ$4=0,0,$AJ$4)","v":0},null,{"$f":"IF($AK$4=0,0,$AK$4)","v":0},null,{"$f":"IF($AL$4=0,0,$AL$4)","v":0},null,{"$f":"IF($AM$4=0,0,$AM$4)","v":0},null,{"$f":"IF($AN$4=0,0,$AN$4)","v":0},null,{"$f":"IF($AO$4=0,0,$AO$4)","v":0},null,{"$f":"IF($AP$4=0,0,$AP$4)","v":0},null,{"$f":"IF($AQ$4=0,0,$AQ$4)","v":0},null,{"$f":"IF($AR$4=0,0,$AR$4)","v":0},null,{"$f":"IF($AS$4=0,0,$AS$4)","v":0},null,{"$f":"IF($AT$4=0,0,$AT$4)","v":0},null,{"$f":"IF($AU$4=0,0,$AU$4)","v":0},null,{"$f":"IF($AV$4=0,0,$AV$4)","v":0}]
[{"$f":"Labels!$B$181","v":"   Ferien unbezahlt"},null,null,null,null,{"$f":"Labels!$B$182","v":"fu"},{"$f":"IF($AJ$13=0,0,$AJ$13)","v":0},null,{"$f":"IF($AK$13=0,0,$AK$13)","v":0},null,{"$f":"IF($AL$13=0,0,$AL$13)","v":0},null,{"$f":"IF($AM$13=0,0,$AM$13)","v":0},null,{"$f":"IF($AN$13=0,0,$AN$13)","v":0},null,{"$f":"IF($AO$13=0,0,$AO$13)","v":0},null,{"$f":"IF($AP$13=0,0,$AP$13)","v":0},null,{"$f":"IF($AQ$13=0,0,$AQ$13)","v":0},null,{"$f":"IF($AR$13=0,0,$AR$13)","v":0},null,{"$f":"IF($AS$13=0,0,$AS$13)","v":0},null,{"$f":"IF($AT$13=0,0,$AT$13)","v":0},null,{"$f":"IF($AU$13=0,0,$AU$13)","v":0},null,{"$f":"IF($AV$13=0,0,$AV$13)","v":0}]
[{"$f":"$A$50","v":"   Feiertage Art. 12.2 GAV"},null,{"$f":"IF($AJ$18=\"\",\"\",$AJ$18)","v":""},null,null,{"$f":"$F$50","v":"ft"},{"$f":"IF($AJ$16=0,0,$AJ$16)","v":0},null,{"$f":"IF($AK$16=0,0,$AK$16)","v":0},null,{"$f":"IF($AL$16=0,0,$AL$16)","v":0},null,{"$f":"IF($AM$16=0,0,$AM$16)","v":0},null,{"$f":"IF($AN$16=0,0,$AN$16)","v":0},null,{"$f":"IF($AO$16=0,0,$AO$16)","v":0},null,{"$f":"IF($AP$16=0,0,$AP$16)","v":0},null,{"$f":"IF($AQ$16=0,0,$AQ$16)","v":0},null,{"$f":"IF($AR$16=0,0,$AR$16)","v":0},null,{"$f":"IF($AS$16=0,0,$AS$16)","v":0},null,{"$f":"IF($AT$16=0,0,$AT$16)","v":0},null,{"$f":"IF($AU$16=0,0,$AU$16)","v":0},null,{"$f":"IF($AV$16=0,0,$AV$16)","v":0}]
[{"$f":"$A$51","v":"   Krankheit Art. 13 GAV"},null,null,null,null,{"$f":"$F$51","v":"k"},{"$f":"IF($AJ$5=0,0,$AJ$5)","v":0},null,{"$f":"IF($AK$5=0,0,$AK$5)","v":0},null,{"$f":"IF($AL$5=0,0,$AL$5)","v":0},null,{"$f":"IF($AM$5=0,0,$AM$5)","v":0},null,{"$f":"IF($AN$5=0,0,$AN$5)","v":0},null,{"$f":"IF($AO$5=0,0,$AO$5)","v":0},null,{"$f":"IF($AP$5=0,0,$AP$5)","v":0},null,{"$f":"IF($AQ$5=0,0,$AQ$5)","v":0},null,{"$f":"IF($AR$5=0,0,$AR$5)","v":0},null,{"$f":"IF($AS$5=0,0,$AS$5)","v":0},null,{"$f":"IF($AT$5=0,0,$AT$5)","v":0},null,{"$f":"IF($AU$5=0,0,$AU$5)","v":0},null,{"$f":"IF($AV$5=0,0,$AV$5)","v":0}]
[{"$f":"$A$52","v":"   Unfall Art. 14 GAV"},null,null,null,null,{"$f":"$F$52","v":"u"},{"$f":"IF($AJ$6=0,0,$AJ$6)","v":0},null,{"$f":"IF($AK$6=0,0,$AK$6)","v":0},null,{"$f":"IF($AL$6=0,0,$AL$6)","v":0},null,{"$f":"IF($AM$6=0,0,$AM$6)","v":0},null,{"$f":"IF($AN$6=0,0,$AN$6)","v":0},null,{"$f":"IF($AO$6=0,0,$AO$6)","v":0},null,{"$f":"IF($AP$6=0,0,$AP$6)","v":0},null,{"$f":"IF($AQ$6=0,0,$AQ$6)","v":0},null,{"$f":"IF($AR$6=0,0,$AR$6)","v":0},null,{"$f":"IF($AS$6=0,0,$AS$6)","v":0},null,{"$f":"IF($AT$6=0,0,$AT$6)","v":0},null,{"$f":"IF($AU$6=0,0,$AU$6)","v":0},null,{"$f":"IF($AV$6=0,0,$AV$6)","v":0}]
[{"$f":"$A$53","v":"   Schwangerschaft/Mutterschaft Art. 15 GAV"},null,null,null,null,{"$f":"$F$53","v":"s"},{"$f":"IF($AJ$7=0,0,$AJ$7)","v":0},null,{"$f":"IF($AK$7=0,0,$AK$7)","v":0},null,{"$f":"IF($AL$7=0,0,$AL$7)","v":0},null,{"$f":"IF($AM$7=0,0,$AM$7)","v":0},null,{"$f":"IF($AN$7=0,0,$AN$7)","v":0},null,{"$f":"IF($AO$7=0,0,$AO$7)","v":0},null,{"$f":"IF($AP$7=0,0,$AP$7)","v":0},null,{"$f":"IF($AQ$7=0,0,$AQ$7)","v":0},null,{"$f":"IF($AR$7=0,0,$AR$7)","v":0},null,{"$f":"IF($AS$7=0,0,$AS$7)","v":0},null,{"$f":"IF($AT$7=0,0,$AT$7)","v":0},null,{"$f":"IF($AU$7=0,0,$AU$7)","v":0},null,{"$f":"IF($AV$7=0,0,$AV$7)","v":0}]
[{"$f":"$A$54","v":"   Militär/Beförderung/Zivilschutz Art. 16 GAV"},null,null,null,null,{"$f":"$F$54","v":"m"},{"$f":"IF($AJ$8=0,0,$AJ$8)","v":0},null,{"$f":"IF($AK$8=0,0,$AK$8)","v":0},null,{"$f":"IF($AL$8=0,0,$AL$8)","v":0},null,{"$f":"IF($AM$8=0,0,$AM$8)","v":0},null,{"$f":"IF($AN$8=0,0,$AN$8)","v":0},null,{"$f":"IF($AO$8=0,0,$AO$8)","v":0},null,{"$f":"IF($AP$8=0,0,$AP$8)","v":0},null,{"$f":"IF($AQ$8=0,0,$AQ$8)","v":0},null,{"$f":"IF($AR$8=0,0,$AR$8)","v":0},null,{"$f":"IF($AS$8=0,0,$AS$8)","v":0},null,{"$f":"IF($AT$8=0,0,$AT$8)","v":0},null,{"$f":"IF($AU$8=0,0,$AU$8)","v":0},null,{"$f":"IF($AV$8=0,0,$AV$8)","v":0}]
[{"$f":"$A$55","v":"   Kurzarbeit und Schlechtwetterausfälle"},null,null,null,null,{"$f":"$F$55","v":"ka"},{"$f":"IF($AJ$11=0,0,$AJ$11)","v":0},null,{"$f":"IF($AK$11=0,0,$AK$11)","v":0},null,{"$f":"IF($AL$11=0,0,$AL$11)","v":0},null,{"$f":"IF($AM$11=0,0,$AM$11)","v":0},null,{"$f":"IF($AN$11=0,0,$AN$11)","v":0},null,{"$f":"IF($AO$11=0,0,$AO$11)","v":0},null,{"$f":"IF($AP$11=0,0,$AP$11)","v":0},null,{"$f":"IF($AQ$11=0,0,$AQ$11)","v":0},null,{"$f":"IF($AR$11=0,0,$AR$11)","v":0},null,{"$f":"IF($AS$11=0,0,$AS$11)","v":0},null,{"$f":"IF($AT$11=0,0,$AT$11)","v":0},null,{"$f":"IF($AU$11=0,0,$AU$11)","v":0},null,{"$f":"IF($AV$11=0,0,$AV$11)","v":0}]
[{"$f":"$A$56","v":"   Berufsschule"},null,null,null,null,{"$f":"$F$56","v":"bs"},{"$f":"IF($AJ$9=0,0,$AJ$9)","v":0},null,{"$f":"IF($AK$9=0,0,$AK$9)","v":0},null,{"$f":"IF($AL$9=0,0,$AL$9)","v":0},null,{"$f":"IF($AM$9=0,0,$AM$9)","v":0},null,{"$f":"IF($AN$9=0,0,$AN$9)","v":0},null,{"$f":"IF($AO$9=0,0,$AO$9)","v":0},null,{"$f":"IF($AP$9=0,0,$AP$9)","v":0},null,{"$f":"IF($AQ$9=0,0,$AQ$9)","v":0},null,{"$f":"IF($AR$9=0,0,$AR$9)","v":0},null,{"$f":"IF($AS$9=0,0,$AS$9)","v":0},null,{"$f":"IF($AT$9=0,0,$AT$9)","v":0},null,{"$f":"IF($AU$9=0,0,$AU$9)","v":0},null,{"$f":"IF($AV$9=0,0,$AV$9)","v":0}]
[{"$f":"$A$57","v":"   Kurse"},null,null,null,null,{"$f":"$F$57","v":"ku"},{"$f":"IF($AJ$10=0,0,$AJ$10)","v":0},null,{"$f":"IF($AK$10=0,0,$AK$10)","v":0},null,{"$f":"IF($AL$10=0,0,$AL$10)","v":0},null,{"$f":"IF($AM$10=0,0,$AM$10)","v":0},null,{"$f":"IF($AN$10=0,0,$AN$10)","v":0},null,{"$f":"IF($AO$10=0,0,$AO$10)","v":0},null,{"$f":"IF($AP$10=0,0,$AP$10)","v":0},null,{"$f":"IF($AQ$10=0,0,$AQ$10)","v":0},null,{"$f":"IF($AR$10=0,0,$AR$10)","v":0},null,{"$f":"IF($AS$10=0,0,$AS$10)","v":0},null,{"$f":"IF($AT$10=0,0,$AT$10)","v":0},null,{"$f":"IF($AU$10=0,0,$AU$10)","v":0},null,{"$f":"IF($AV$10=0,0,$AV$10)","v":0}]
[{"$f":"$A$58","v":"Kompensations-Std"},{"$f":"$B$58","v":"aus Vorjahr"},null,null,null,{"$f":"$F$58","v":"kv"},{"$f":"IF($AJ$12=0,0,$AJ$12)","v":0},null,{"$f":"IF($AK$12=0,0,$AK$12)","v":0},null,{"$f":"IF($AL$12=0,0,$AL$12)","v":0},null,{"$f":"IF($AM$12=0,0,$AM$12)","v":0},null,{"$f":"IF($AN$12=0,0,$AN$12)","v":0},null,{"$f":"IF($AO$12=0,0,$AO$12)","v":0},null,{"$f":"IF($AP$12=0,0,$AP$12)","v":0},null,{"$f":"IF($AQ$12=0,0,$AQ$12)","v":0},null,{"$f":"IF($AR$12=0,0,$AR$12)","v":0},null,null,null,null,null,null,null,{"$f":"IF($AV$12=0,0,$AV$12)","v":0}]
[null,{"$f":"$B$59","v":"aus laufendem Jahr (Kontrolle)"},null,null,null,{"$f":"$F$59","v":"kj"},{"$f":"IF($AJ$15=0,0,$AJ$15)","v":0},null,{"$f":"IF($AK$15=0,0,$AK$15)","v":0},null,{"$f":"IF($AL$15=0,0,$AL$15)","v":0},null,{"$f":"IF($AM$15=0,0,$AM$15)","v":0},null,{"$f":"IF($AN$15=0,0,$AN$15)","v":0},null,{"$f":"IF($AO$15=0,0,$AO$15)","v":0},null,{"$f":"IF($AP$15=0,0,$AP$15)","v":0},null,{"$f":"IF($AQ$15=0,0,$AQ$15)","v":0},null,{"$f":"IF($AR$15=0,0,$AR$15)","v":0},null,{"$f":"IF($AS$15=0,0,$AS$15)","v":0},null,{"$f":"IF($AT$15=0,0,$AT$15)","v":0},null,{"$f":"IF($AU$15=0,0,$AU$15)","v":0},null,{"$f":"IF($AV$15=0,0,$AV$15)","v":0}]
[{"$f":"$A$60","v":"Auszahlung"},{"$f":"$B$60","v":"Stunden Vorjahressaldo"},null,null,null,null,{"$f":"IF($AJ$19=0,0,$AJ$19)","v":0},null,{"$f":"IF($AK$19=0,0,$AK$19)","v":0},null,{"$f":"IF($AL$19=0,0,$AL$19)","v":0},null,{"$f":"IF($AM$19=0,0,$AM$19)","v":0},null,{"$f":"IF($AN$19=0,0,$AN$19)","v":0},null,{"$f":"IF($AO$19=0,0,$AO$19)","v":0},null,{"$f":"IF($AP$19=0,0,$AP$19)","v":0},null,{"$f":"IF($AQ$19=0,0,$AQ$19)","v":0},null,{"$f":"IF($AR$19=0,0,$AR$19)","v":0},null,null,null,null,null,null,null,{"$f":"IF($AV$19=0,0,$AV$19)","v":0}]
[{"$f":"$A$61","v":"Differenz"},{"$f":"$B$61","v":"nach Kompensation und Auszahlung"},null,null,null,null,{"$f":"IF(ROUND($P$4,3)=0,0,$P$4-SUM(G698+G700))","v":0},null,{"$f":"IF(ROUND(G701,3)=0,0,G701-(SUM(I700+I698)))","v":0},null,{"$f":"IF(ROUND(I701,3)=0,0,I701-(SUM(K700+K698)))","v":0},null,{"$f":"IF(ROUND(K701,3)=0,0,K701-(SUM(M700+M698)))","v":0},null,{"$f":"IF(ROUND(M701,3)=0,0,M701-(SUM(O700+O698)))","v":0},null,{"$f":"IF(ROUND(O701,3)=0,0,O701-(SUM(Q700+Q698)))","v":0},null,{"$f":"IF(ROUND(Q701,3)=0,0,Q701-(SUM(S700+S698)))","v":0},null,{"$f":"IF(ROUND(S701,3)=0,0,S701-(SUM(U700+U698)))","v":0},null,{"$f":"IF(ROUND(U701,3)=0,0,U701-(SUM(W700+W698)))","v":0},null,{"$f":"$Y$61","v":""}]
[{"$f":"$A$62","v":"Auszahlung"},{"$f":"$B$62","v":"Stunden laufendes Jahr"},null,null,null,null,{"$f":"IF($AJ$20=0,0,$AJ$20)","v":0},null,{"$f":"IF($AK$20=0,0,$AK$20)","v":0},null,{"$f":"IF($AL$20=0,0,$AL$20)","v":0},null,{"$f":"IF($AM$20=0,0,$AM$20)","v":0},null,{"$f":"IF($AN$20=0,0,$AN$20)","v":0},null,{"$f":"IF($AO$20=0,0,$AO$20)","v":0},null,{"$f":"IF($AP$20=0,0,$AP$20)","v":0},null,{"$f":"IF($AQ$20=0,0,$AQ$20)","v":0},null,{"$f":"IF($AR$20=0,0,$AR$20)","v":0},null,{"$f":"IF($AS$20=0,0,$AS$20)","v":0},null,{"$f":"IF($AT$20=0,0,$AT$20)","v":0},null,{"$f":"IF($AU$20=0,0,$AU$20)","v":0},null,{"$f":"IF($AV$20=0,0,$AV$20)","v":0}]
[{"$f":"$A$63","v":"Fehlstunden"},{"$f":"$B$63","v":"laufendes Jahr (Kontrolle)"},null,null,null,{"$f":"$F$63","v":"fe"},{"$f":"IF($AJ$14=0,0,$AJ$14)","v":0},null,{"$f":"IF($AK$14=0,0,$AK$14)","v":0},null,{"$f":"IF($AL$14=0,0,$AL$14)","v":0},null,{"$f":"IF($AM$14=0,0,$AM$14)","v":0},null,{"$f":"IF($AN$14=0,0,$AN$14)","v":0},null,{"$f":"IF($AO$14=0,0,$AO$14)","v":0},null,{"$f":"IF($AP$14=0,0,$AP$14)","v":0},null,{"$f":"IF($AQ$14=0,0,$AQ$14)","v":0},null,{"$f":"IF($AR$14=0,0,$AR$14)","v":0},null,{"$f":"IF($AS$14=0,0,$AS$14)","v":0},null,{"$f":"IF($AT$14=0,0,$AT$14)","v":0},null,{"$f":"IF($AU$14=0,0,$AU$14)","v":0},null,{"$f":"IF($AV$14=0,0,$AV$14)","v":0}]
[{"$f":"$A$64","v":"Total inkl. Zeitzuschläge"},{"$f":"$B$64","v":"Stunden produktiv und unproduktiv"},null,null,null,null,{"$f":"IF($AG$36=0,0,$AG$36)","v":0},null,{"$f":"IF($AG$99=0,0,$AG$99)","v":0},null,{"$f":"IF($AG$163=0,0,$AG$163)","v":0},null,{"$f":"IF($AG$227=0,0,$AG$227)","v":0},null,{"$f":"IF($AG$291=0,0,$AG$291)","v":0},null,{"$f":"IF($AG$355=0,0,$AG$355)","v":0},null,{"$f":"IF($AG$419=0,0,$AG$419)","v":0},null,{"$f":"IF($AG$483=0,0,$AG$483)","v":0},null,{"$f":"IF($AG$547=0,0,$AG$547)","v":0},null,{"$f":"IF($AG$611=0,0,$AG$611)","v":0},null,{"$f":"IF($AG$675=0,0,$AG$675)","v":0},null,{"$f":"IF($AG$739=0,0,$AG$739)","v":0},null,{"$f":"SUM($G$64:$AD$64)","v":0}]
[{"$f":"$A$65","v":"Vergleich"},{"$f":"$B$65","v":"Stunden zu Soll-Stunden (inkl. allfälli-\nge Minusstunden Vorjahr)"},null,null,null,null,{"$f":"$G$65","v":-168},null,{"$f":"$I$65","v":-160},null,{"$f":"$K$65","v":-184},null,{"$f":"$M$65","v":-168},null,{"$f":"$O$65","v":-176},null,{"$f":"$Q$65","v":-176},null,{"$f":"$S$65","v":-168},null,{"$f":"$U$65","v":-184},null,{"$f":"$W$65","v":-176},null,{"$f":"$Y$65","v":-168},null,{"$f":"$AA$65","v":-176},null,{"$f":"$AC$65","v":-176},null,{"$f":"$AE$65","v":-2080}]
[null,{"$f":"$B$66","v":"Stunden zu Soll-Stunden (kumuliert)"},null,null,null,null,{"$f":"$G$66","v":-168},null,{"$f":"$I$66","v":-328},null,{"$f":"$K$66","v":-512},null,{"$f":"$M$66","v":-680},null,{"$f":"$O$66","v":-856},null,{"$f":"$Q$66","v":-1032},null,{"$f":"$S$66","v":-1200},null,{"$f":"$U$66","v":-1384},null,{"$f":"$W$66","v":-1560},null,{"$f":"$Y$66","v":-1728},null,{"$f":"$AA$66","v":-1904},null,{"$f":"$AC$66","v":-2080},null,{"$f":"$AE$66","v":0}]
[{"$f":"$A$67","v":"Ferienkontrolle"},{"$f":"$B$67","v":"Ferienguthaben Vorjahr"},null,null,null,null,{"$f":"IF($AA$4=0,0,$AA$4)","v":0},null,{"$f":"$I$67","v":"Ferienguthaben nach \nArt. 12.1 GAV"},null,null,null,{"$f":"IF($AA$5=0,0,$AA$5)","v":0},null,{"$f":"$O$67","v":"Ferienguthaben total"},null,null,null,{"$f":"SUM(G771+M771)","v":0},null,{"$f":"$U$67","v":"Ferien bezogen"},null,null,null,{"$f":"IF($AV$4=0,0,$AV$4)","v":0},null,{"$f":"$AA$67","v":"Aktuelles Ferienguthaben"},null,null,null,{"$f":"IF(S771=0,0,S771-Y771)","v":0}]
[]
[]
[]
[]
[]
[]
[]
[]
[]
[]
[]
[]
[]
[]
[]
[]
[]
[]
[]
[]
[]
[]
[]
[]
[]
[]
[]
[]
[]
[]
[]
[]
[]
[]
["Testbereich Absenzen"]
[null,{"$f":"B831","v":0},{"$f":"C831","v":0}]
[null,{"$f":"IF(B831<>0,IF(MAX(B818:B830)<B831,\"div\",INDEX($AH$817:$AH$829,MATCH(MAX(B818:B830),B818:B830,0))),\"\")","v":""},{"$f":"IF(C831<>0,IF(MAX(C818:C830)<C831,\"div\",INDEX($AH$817:$AH$829,MATCH(MAX(C818:C830),C818:C830,0))),\"\")","v":""}]
[]
["Code für Max-Wert",{"$f":"INDEX($AH$817:$AH$829,MATCH(MAX(B818:B830),B818:B830,0))","v":{"$error":"#N/A"}},null,null,"Jahressaldo",null,null,{"$f":"D5","v":-2080}]
[]
[{"$f":"A9","v":"Januar"},{"$f":"Labels!B32","v":"Saldo Monat + / -"},null,null,null,{"$f":"F9","v":-168},null,null,null,null,null,null,null,null,null,null,null,null,null,null,null,null,null,null,null,null,null,{"$f":"Labels!B38","v":"Absenz in Std"},null,null,{"$f":"Labels!B77","v":"Jan"},null,{"$f":"COUNT(B815:AF815)&\" \"&Labels!$B$63","v":"21 Tage"}]
[{"$f":"Labels!B35","v":"Tag"},{"$f":"B10","v":"2022-01-01"},{"$f":"B813+1","v":"2022-01-02"},"2022-01-03","2022-01-04","2022-01-05","2022-01-06","2022-01-07","2022-01-08","2022-01-09","2022-01-10","2022-01-11","2022-01-12","2022-01-13","2022-01-14","2022-01-15","2022-01-16","2022-01-17","2022-01-18","2022-01-19","2022-01-20","2022-01-21","2022-01-22","2022-01-23","2022-01-24","2022-01-25","2022-01-26","2022-01-27","2022-01-28","2022-01-29","2022-01-30","2022-01-31"]
[{"$f":"Labels!B36","v":"Kalenderwoche"},{"$f":"IF(B813=\"\",\"\",TRUNC((B813-DATE(YEAR(B813+3-MOD(B813-2,7)),1,MOD(B813-2,7)-9))/7))","v":52},{"$f":"IF(C813=\"\",\"\",TRUNC((C813-DATE(YEAR(C813+3-MOD(C813-2,7)),1,MOD(C813-2,7)-9))/7))","v":52},1,1,1,1,1,1,1,2,2,2,2,2,2,2,3,3,3,3,3,3,3,4,4,4,4,4,4,4,5,{"$f":"SUM(B815:AF815)","v":168}]
[{"$f":"Labels!B37","v":"Sollstunden"},{"$f":"B12","v":""},{"$f":"C12","v":""},8,8,8,8,8,"","",8,8,8,8,8,"","",8,8,8,8,8,"","",8,8,8,8,8,"","",8]
[{"$f":"Labels!B165","v":"Produktivstunden"},{"$f":"SUM(B15:B17)","v":0},0,0,0,0,0,0,0,0,0,0,0,0,0,0,0,0,0,0,0,0,0,0,0,0,0,0,0,0,0,0,{"$f":"SUM(B817:AF817)","v":0},null,null,"Legende Absenztypen (DE)"]
[{"$f":"Labels!B166","v":"Feiertage [ft]"},{"$f":"B18","v":""},"","","","","","","","","","","","","","","","","","","","","","","","","","","","","","",{"$f":"SUM(B818:AF818)","v":0},{"$f":"Labels!B115","v":"f"}]
[{"$f":"Labels!B167","v":"Ferien [f]"},null,null,null,null,null,null,null,null,null,null,null,null,null,null,null,null,null,null,null,null,null,null,null,null,null,null,null,null,null,null,null,0,{"$f":"Labels!B135","v":"kv"},null,"f","Ferien Art. 12.1. GAV"]
[{"$f":"Labels!B168","v":"Kompensation (Vorjahr) [kv]"},null,null,null,null,null,null,null,null,null,null,null,null,null,null,null,null,null,null,null,null,null,null,null,null,null,null,null,null,null,null,null,0,{"$f":"Labels!B137","v":"kj"},null,"kv","Kompensation Vorjahressaldo für Abrechnung in der Zusammenfassung"]
[{"$f":"Labels!B169","v":"Kompensation (laufend) [kj]"},null,null,null,null,null,null,null,null,null,null,null,null,null,null,null,null,null,null,null,null,null,null,null,null,null,null,null,null,null,null,null,{"$f":"SUM(B821:AF821)","v":0},{"$f":"Labels!B113","v":"a"},null,"kj","Kompensation laufendes Jahr siehe  Zusammenfassung"]
[{"$f":"Labels!B170","v":"Absenzen, Kurzabsenzen [a]"},null,null,null,null,null,null,null,null,null,null,null,null,null,null,null,null,null,null,null,null,null,null,null,null,null,null,null,null,null,null,null,0,{"$f":"Labels!B120","v":"k"},null,"a","Absenzen, Kurzabsenzen\nArt. 11 GAV"]
[{"$f":"Labels!B171","v":"Krankheit [k]"},null,null,null,null,null,null,null,null,null,null,null,null,null,null,null,null,null,null,null,null,null,null,null,null,null,null,null,null,null,null,null,0,{"$f":"Labels!B122","v":"u"},null,"k","Krankheit Art. 13 GAV"]
[{"$f":"Labels!B172","v":"Unfall [u]"},null,null,null,null,null,null,null,null,null,null,null,null,null,null,null,null,null,null,null,null,null,null,null,null,null,null,null,null,null,null,null,0,{"$f":"Labels!B124","v":"s"},null,"u","Unfall Art. 14 GAV"]
[{"$f":"Labels!B173","v":"Schwangerschaft/Mutterschaft [s]"},null,null,null,null,null,null,null,null,null,null,null,null,null,null,null,null,null,null,null,null,null,null,null,null,null,null,null,null,null,null,null,0,{"$f":"Labels!B126","v":"m"},null,"s","Schwanger-/Mutterschaft\nArt. 15 GAV"]
[{"$f":"Labels!B174","v":"Militär/Beförderung/Zivilschutz [m]"},null,null,null,null,null,null,null,null,null,null,null,null,null,null,null,null,null,null,null,null,null,null,null,null,null,null,null,null,null,null,null,0,{"$f":"Labels!B130","v":"bs"},null,"m","Militär, Zivilschutz\nArt. 16 GAV"]
[{"$f":"Labels!B175","v":"Berufsschule [bs]"},null,null,null,null,null,null,null,null,null,null,null,null,null,null,null,null,null,null,null,null,null,null,null,null,null,null,null,null,null,null,null,0,{"$f":"Labels!B132","v":"ku"},null,"bs","Berufsschule"]
[{"$f":"Labels!B176","v":"Kurse [ku]"},null,null,null,null,null,null,null,null,null,null,null,null,null,null,null,null,null,null,null,null,null,null,null,null,null,null,null,null,null,null,null,0,{"$f":"Labels!B128","v":"ka"},null,"ku","Kurse"]
[{"$f":"Labels!B177","v":"Kurzarbeit und Schlechtwetter [ka]"},null,null,null,null,null,null,null,null,null,null,null,null,null,null,null,null,null,null,null,null,null,null,null,null,null,null,null,null,null,null,null,0,{"$f":"Labels!B180","v":"fu"},null,"ka","Kurzabeit, Schlechtwetterausfälle"]
[{"$f":"Labels!B179","v":"Ferien unbezahlt [fu]"},null,null,null,null,null,null,null,null,null,null,null,null,null,null,null,null,null,null,null,null,null,null,null,null,null,null,null,null,null,null,null,0,{"$f":"Labels!B145","v":"fe"}]
[{"$f":"Labels!B178","v":"Fehlstunden (unbezahlt) [fe]"},null,null,null,null,null,null,null,null,null,null,null,null,null,null,null,null,null,null,null,null,null,null,null,null,null,null,null,null,null,null,null,null,null,null,"fe","Fehlstunden zur Information ohne Berechnung in der Zusammenfassung"]
[{"$f":"Labels!B102","v":"Total"},{"$f":"SUM(B818:B830)","v":0},{"$f":"SUM(C818:C830)","v":0},0,0,0,0,0,0,0,0,0,0,0,0,0,0,0,0,0,0,0,0,0,0,0,0,0,0,0,0,0]
[]
[]
[]
[{"$f":"A73","v":"Februar"},{"$f":"$B$812","v":"Saldo Monat + / -"},null,null,null,{"$f":"F73","v":-160},null,null,null,null,null,null,null,null,null,null,null,null,null,null,null,null,null,null,null,null,null,{"$f":"$AB$812","v":"Absenz in Std"},null,null,{"$f":"Labels!B78","v":"Feb"},null,{"$f":"COUNT(B838:AF838)&\" \"&Labels!$B$63","v":"20 Tage"}]
[{"$f":"$A$813","v":"Tag"},{"$f":"B74","v":"2022-02-01"},{"$f":"B836+1","v":"2022-02-02"},"2022-02-03","2022-02-04","2022-02-05","2022-02-06","2022-02-07","2022-02-08","2022-02-09","2022-02-10","2022-02-11","2022-02-12","2022-02-13","2022-02-14","2022-02-15","2022-02-16","2022-02-17","2022-02-18","2022-02-19","2022-02-20","2022-02-21","2022-02-22","2022-02-23","2022-02-24","2022-02-25","2022-02-26","2022-02-27","2022-02-28",{"$f":"IF(AD74=\"\",\"\",AC836+1)","v":""}]
[{"$f":"$A$814","v":"Kalenderwoche"},{"$f":"IF(B836=\"\",\"\",TRUNC((B836-DATE(YEAR(B836+3-MOD(B836-2,7)),1,MOD(B836-2,7)-9))/7))","v":5},{"$f":"IF(C836=\"\",\"\",TRUNC((C836-DATE(YEAR(C836+3-MOD(C836-2,7)),1,MOD(C836-2,7)-9))/7))","v":5},5,5,5,5,6,6,6,6,6,6,6,7,7,7,7,7,7,7,8,8,8,8,8,8,8,9,"",null,null,{"$f":"IF($AD$836=\"\",SUM(A838:AC838),SUM(B838:AF838))","v":160}]
[{"$f":"$A$815","v":"Sollstunden"},{"$f":"B76","v":8},{"$f":"C76","v":8},8,8,"","",8,8,8,8,8,"","",8,8,8,8,8,"","",8,8,8,8,8,"","",8,{"$error":"#VALUE!"},null,null,{"$f":"IF($AD$836=\"\",SUM(A839:AC839),SUM(B839:AF839))","v":0}]
[{"$f":"$A$816","v":"Produktivstunden"},{"$f":"SUM(B79:B81)","v":0},{"$f":"SUM(C79:C81)","v":0},0,0,0,0,0,0,0,0,0,0,0,0,0,0,0,0,0,0,0,0,0,0,0,0,0,0,{"$f":"IF(AD836=\"\",\"\",SUM(AD79:AD81))","v":""},null,null,0]
[{"$f":"$A$817","v":"Feiertage [ft]"},{"$f":"B82","v":""},{"$f":"C82","v":""},"","","","","","","","","","","","","","","","","","","","","","","","","","",{"$f":"IF(AD836=\"\",\"\",AD82)","v":""},null,null,0,{"$f":"$AH$817","v":"f"}]
[{"$f":"$A$818","v":"Ferien [f]"},null,null,null,null,null,null,null,null,null,null,null,null,null,null,null,null,null,null,null,null,null,null,null,null,null,null,null,null,null,null,null,0,{"$f":"$AH$818","v":"kv"}]
[{"$f":"$A$819","v":"Kompensation (Vorjahr) [kv]"},null,null,null,null,null,null,null,null,null,null,null,null,null,null,null,null,null,null,null,null,null,null,null,null,null,null,null,null,null,null,null,0,{"$f":"$AH$819","v":"kj"}]
[{"$f":"$A$820","v":"Kompensation (laufend) [kj]"},null,null,null,null,null,null,null,null,null,null,null,null,null,null,null,null,null,null,null,null,null,null,null,null,null,null,null,null,null,null,null,0,{"$f":"$AH$820","v":"a"}]
[{"$f":"$A$821","v":"Absenzen, Kurzabsenzen [a]"},null,null,null,null,null,null,null,null,null,null,null,null,null,null,null,null,null,null,null,null,null,null,null,null,null,null,null,null,null,null,null,0,{"$f":"$AH$821","v":"k"}]
[{"$f":"$A$822","v":"Krankheit [k]"},null,null,null,null,null,null,null,null,null,null,null,null,null,null,null,null,null,null,null,null,null,null,null,null,null,null,null,null,null,null,null,0,{"$f":"$AH$822","v":"u"}]
[{"$f":"$A$823","v":"Unfall [u]"},null,null,null,null,null,null,null,null,null,null,null,null,null,null,null,null,null,null,null,null,null,null,null,null,null,null,null,null,null,null,null,0,{"$f":"$AH$823","v":"s"}]
[{"$f":"$A$824","v":"Schwangerschaft/Mutterschaft [s]"},null,null,null,null,null,null,null,null,null,null,null,null,null,null,null,null,null,null,null,null,null,null,null,null,null,null,null,null,null,null,null,0,{"$f":"$AH$824","v":"m"}]
[{"$f":"$A$825","v":"Militär/Beförderung/Zivilschutz [m]"},null,null,null,null,null,null,null,null,null,null,null,null,null,null,null,null,null,null,null,null,null,null,null,null,null,null,null,null,null,null,null,0,{"$f":"$AH$825","v":"bs"}]
[{"$f":"$A$826","v":"Berufsschule [bs]"},null,null,null,null,null,null,null,null,null,null,null,null,null,null,null,null,null,null,null,null,null,null,null,null,null,null,null,null,null,null,null,0,{"$f":"$AH$826","v":"ku"}]
[{"$f":"$A$827","v":"Kurse [ku]"},null,null,null,null,null,null,null,null,null,null,null,null,null,null,null,null,null,null,null,null,null,null,null,null,null,null,null,null,null,null,null,0,{"$f":"$AH$827","v":"ka"}]
[{"$f":"$A$828","v":"Kurzarbeit und Schlechtwetter [ka]"},null,null,null,null,null,null,null,null,null,null,null,null,null,null,null,null,null,null,null,null,null,null,null,null,null,null,null,null,null,null,null,0,{"$f":"$AH$828","v":"fu"}]
[{"$f":"$A$829","v":"Ferien unbezahlt [fu]"},null,null,null,null,null,null,null,null,null,null,null,null,null,null,null,null,null,null,null,null,null,null,null,null,null,null,null,null,null,null,null,0,{"$f":"$AH$829","v":"fe"}]
[{"$f":"$A$830","v":"Fehlstunden (unbezahlt) [fe]"},null,null,null,null,null,null,null,null,null,null,null,null,null,null,null,null,null,null,null,null,null,null,null,null,null,null,null,null,null,null,null,0]
[{"$f":"$A$831","v":"Total"},{"$f":"SUM(B841:B853)","v":0},{"$f":"SUM(C841:C853)","v":0},0,0,0,0,0,0,0,0,0,0,0,0,0,0,0,0,0,0,0,0,0,0,0,0,0,0,{"$f":"IF(AD836=\"\",\"\",SUM(AD841:AD853))","v":""}]
[]
[]
[]
[{"$f":"A137","v":"März"},{"$f":"$B$812","v":"Saldo Monat + / -"},null,null,null,{"$f":"F137","v":-184},null,null,null,null,null,null,null,null,null,null,null,null,null,null,null,null,null,null,null,null,null,{"$f":"$AB$812","v":"Absenz in Std"},null,null,{"$f":"Labels!B79","v":"Mrz"},null,{"$f":"COUNT(B861:AF861)&\" \"&Labels!$B$63","v":"23 Tage"}]
[{"$f":"$A$813","v":"Tag"},{"$f":"B138","v":"2022-03-01"},{"$f":"B859+1","v":"2022-03-02"},"2022-03-03","2022-03-04","2022-03-05","2022-03-06","2022-03-07","2022-03-08","2022-03-09","2022-03-10","2022-03-11","2022-03-12","2022-03-13","2022-03-14","2022-03-15","2022-03-16","2022-03-17","2022-03-18","2022-03-19","2022-03-20","2022-03-21","2022-03-22","2022-03-23","2022-03-24","2022-03-25","2022-03-26","2022-03-27","2022-03-28","2022-03-29","2022-03-30","2022-03-31"]
[{"$f":"$A$814","v":"Kalenderwoche"},{"$f":"IF(B859=\"\",\"\",TRUNC((B859-DATE(YEAR(B859+3-MOD(B859-2,7)),1,MOD(B859-2,7)-9))/7))","v":9},{"$f":"IF(C859=\"\",\"\",TRUNC((C859-DATE(YEAR(C859+3-MOD(C859-2,7)),1,MOD(C859-2,7)-9))/7))","v":9},9,9,9,9,10,10,10,10,10,10,10,11,11,11,11,11,11,11,12,12,12,12,12,12,12,13,13,13,13,{"$f":"SUM(B861:AF861)","v":184}]
[{"$f":"$A$815","v":"Sollstunden"},{"$f":"B140","v":8},{"$f":"C140","v":8},8,8,"","",8,8,8,8,8,"","",8,8,8,8,8,"","",8,8,8,8,8,"","",8,8,8,8]
[{"$f":"$A$816","v":"Produktivstunden"},{"$f":"SUM(B143:B145)","v":0},{"$f":"SUM(C143:C145)","v":0},0,0,0,0,0,0,0,0,0,0,0,0,0,0,0,0,0,0,0,0,0,0,0,0,0,0,0,0,0,{"$f":"SUM(B863:AF863)","v":0}]
[{"$f":"$A$817","v":"Feiertage [ft]"},{"$f":"B146","v":""},{"$f":"C146","v":""},"","","","","","","","","","","","","","","","","","","","","","","","","","","","","",{"$f":"SUM(B864:AF864)","v":0},{"$f":"$AH$817","v":"f"}]
[{"$f":"$A$818","v":"Ferien [f]"},null,null,null,null,null,null,null,null,null,null,null,null,null,null,null,null,null,null,null,null,null,null,null,null,null,null,null,null,null,null,null,{"$f":"SUM(B865:AF865)","v":0},{"$f":"$AH$818","v":"kv"}]
[{"$f":"$A$819","v":"Kompensation (Vorjahr) [kv]"},null,null,null,null,null,null,null,null,null,null,null,null,null,null,null,null,null,null,null,null,null,null,null,null,null,null,null,null,null,null,null,{"$f":"SUM(B866:AF866)","v":0},{"$f":"$AH$819","v":"kj"}]
[{"$f":"$A$820","v":"Kompensation (laufend) [kj]"},null,null,null,null,null,null,null,null,null,null,null,null,null,null,null,null,null,null,null,null,null,null,null,null,null,null,null,null,null,null,null,{"$f":"SUM(B867:AF867)","v":0},{"$f":"$AH$820","v":"a"}]
[{"$f":"$A$821","v":"Absenzen, Kurzabsenzen [a]"},null,null,null,null,null,null,null,null,null,null,null,null,null,null,null,null,null,null,null,null,null,null,null,null,null,null,null,null,null,null,null,{"$f":"SUM(B868:AF868)","v":0},{"$f":"$AH$821","v":"k"}]
[{"$f":"$A$822","v":"Krankheit [k]"},null,null,null,null,null,null,null,null,null,null,null,null,null,null,null,null,null,null,null,null,null,null,null,null,null,null,null,null,null,null,null,0,{"$f":"$AH$822","v":"u"}]
[{"$f":"$A$823","v":"Unfall [u]"},null,null,null,null,null,null,null,null,null,null,null,null,null,null,null,null,null,null,null,null,null,null,null,null,null,null,null,null,null,null,null,0,{"$f":"$AH$823","v":"s"}]
[{"$f":"$A$824","v":"Schwangerschaft/Mutterschaft [s]"},null,null,null,null,null,null,null,null,null,null,null,null,null,null,null,null,null,null,null,null,null,null,null,null,null,null,null,null,null,null,null,0,{"$f":"$AH$824","v":"m"}]
[{"$f":"$A$825","v":"Militär/Beförderung/Zivilschutz [m]"},null,null,null,null,null,null,null,null,null,null,null,null,null,null,null,null,null,null,null,null,null,null,null,null,null,null,null,null,null,null,null,0,{"$f":"$AH$825","v":"bs"}]
[{"$f":"$A$826","v":"Berufsschule [bs]"},null,null,null,null,null,null,null,null,null,null,null,null,null,null,null,null,null,null,null,null,null,null,null,null,null,null,null,null,null,null,null,0,{"$f":"$AH$826","v":"ku"}]
[{"$f":"$A$827","v":"Kurse [ku]"},null,null,null,null,null,null,null,null,null,null,null,null,null,null,null,null,null,null,null,null,null,null,null,null,null,null,null,null,null,null,null,0,{"$f":"$AH$827","v":"ka"}]
[{"$f":"$A$828","v":"Kurzarbeit und Schlechtwetter [ka]"},null,null,null,null,null,null,null,null,null,null,null,null,null,null,null,null,null,null,null,null,null,null,null,null,null,null,null,null,null,null,null,0,{"$f":"$AH$828","v":"fu"}]
[{"$f":"$A$829","v":"Ferien unbezahlt [fu]"},null,null,null,null,null,null,null,null,null,null,null,null,null,null,null,null,null,null,null,null,null,null,null,null,null,null,null,null,null,null,null,0,{"$f":"$AH$829","v":"fe"}]
[{"$f":"$A$830","v":"Fehlstunden (unbezahlt) [fe]"}]
[{"$f":"$A$831","v":"Total"},{"$f":"SUM(B864:B876)","v":0},{"$f":"SUM(C864:C876)","v":0},0,0,0,0,0,0,0,0,0,0,0,0,0,0,0,0,0,0,0,0,0,0,0,0,0,0,0,0,0]
[]
[]
[]
[{"$f":"A201","v":"April"},{"$f":"$B$812","v":"Saldo Monat + / -"},null,null,null,{"$f":"F201","v":-168},null,null,null,null,null,null,null,null,null,null,null,null,null,null,null,null,null,null,null,null,null,{"$f":"$AB$812","v":"Absenz in Std"},null,null,{"$f":"Labels!B80","v":"Apr"},null,{"$f":"COUNT(B884:AF884)&\" \"&Labels!$B$63","v":"21 Tage"}]
[{"$f":"$A$813","v":"Tag"},{"$f":"B202","v":"2022-04-01"},{"$f":"B882+1","v":"2022-04-02"},"2022-04-03","2022-04-04","2022-04-05","2022-04-06","2022-04-07","2022-04-08","2022-04-09","2022-04-10","2022-04-11","2022-04-12","2022-04-13","2022-04-14","2022-04-15","2022-04-16","2022-04-17","2022-04-18","2022-04-19","2022-04-20","2022-04-21","2022-04-22","2022-04-23","2022-04-24","2022-04-25","2022-04-26","2022-04-27","2022-04-28","2022-04-29","2022-04-30"]
[{"$f":"$A$814","v":"Kalenderwoche"},{"$f":"IF(B882=\"\",\"\",TRUNC((B882-DATE(YEAR(B882+3-MOD(B882-2,7)),1,MOD(B882-2,7)-9))/7))","v":13},{"$f":"IF(C882=\"\",\"\",TRUNC((C882-DATE(YEAR(C882+3-MOD(C882-2,7)),1,MOD(C882-2,7)-9))/7))","v":13},13,14,14,14,14,14,14,14,15,15,15,15,15,15,15,16,16,16,16,16,16,16,17,17,17,17,17,17,null,{"$f":"SUM(B884:AF884)","v":168}]
[{"$f":"$A$815","v":"Sollstunden"},{"$f":"B204","v":8},{"$f":"C204","v":""},"",8,8,8,8,8,"","",8,8,8,8,8,"","",8,8,8,8,8,"","",8,8,8,8,8,""]
[{"$f":"$A$816","v":"Produktivstunden"},{"$f":"SUM(B207:B209)","v":0},{"$f":"SUM(C207:C209)","v":0},0,0,0,0,0,0,0,0,0,0,0,0,0,0,0,0,0,0,0,0,0,0,0,0,0,0,0,0,null,{"$f":"SUM(B886:AF886)","v":0}]
[{"$f":"$A$817","v":"Feiertage [ft]"},{"$f":"B210","v":""},{"$f":"C210","v":""},"","","","","","","","","","","","","","","","","","","","","","","","","","","","",null,{"$f":"SUM(B887:AF887)","v":0},{"$f":"$AH$817","v":"f"}]
[{"$f":"$A$818","v":"Ferien [f]"},null,null,null,null,null,null,null,null,null,null,null,null,null,null,null,null,null,null,null,null,null,null,null,null,null,null,null,null,null,null,null,{"$f":"SUM(B888:AF888)","v":0},{"$f":"$AH$818","v":"kv"}]
[{"$f":"$A$819","v":"Kompensation (Vorjahr) [kv]"},null,null,null,null,null,null,null,null,null,null,null,null,null,null,null,null,null,null,null,null,null,null,null,null,null,null,null,null,null,null,null,{"$f":"SUM(B889:AF889)","v":0},{"$f":"$AH$819","v":"kj"}]
[{"$f":"$A$820","v":"Kompensation (laufend) [kj]"},null,null,null,null,null,null,null,null,null,null,null,null,null,null,null,null,null,null,null,null,null,null,null,null,null,null,null,null,null,null,null,{"$f":"SUM(B890:AF890)","v":0},{"$f":"$AH$820","v":"a"}]
[{"$f":"$A$821","v":"Absenzen, Kurzabsenzen [a]"},null,null,null,null,null,null,null,null,null,null,null,null,null,null,null,null,null,null,null,null,null,null,null,null,null,null,null,null,null,null,null,{"$f":"SUM(B891:AF891)","v":0},{"$f":"$AH$821","v":"k"}]
[{"$f":"$A$822","v":"Krankheit [k]"},null,null,null,null,null,null,null,null,null,null,null,null,null,null,null,null,null,null,null,null,null,null,null,null,null,null,null,null,null,null,null,0,{"$f":"$AH$822","v":"u"}]
[{"$f":"$A$823","v":"Unfall [u]"},null,null,null,null,null,null,null,null,null,null,null,null,null,null,null,null,null,null,null,null,null,null,null,null,null,null,null,null,null,null,null,0,{"$f":"$AH$823","v":"s"}]
[{"$f":"$A$824","v":"Schwangerschaft/Mutterschaft [s]"},null,null,null,null,null,null,null,null,null,null,null,null,null,null,null,null,null,null,null,null,null,null,null,null,null,null,null,null,null,null,null,0,{"$f":"$AH$824","v":"m"}]
[{"$f":"$A$825","v":"Militär/Beförderung/Zivilschutz [m]"},null,null,null,null,null,null,null,null,null,null,null,null,null,null,null,null,null,null,null,null,null,null,null,null,null,null,null,null,null,null,null,0,{"$f":"$AH$825","v":"bs"}]
[{"$f":"$A$826","v":"Berufsschule [bs]"},null,null,null,null,null,null,null,null,null,null,null,null,null,null,null,null,null,null,null,null,null,null,null,null,null,null,null,null,null,null,null,0,{"$f":"$AH$826","v":"ku"}]
[{"$f":"$A$827","v":"Kurse [ku]"},null,null,null,null,null,null,null,null,null,null,null,null,null,null,null,null,null,null,null,null,null,null,null,null,null,null,null,null,null,null,null,0,{"$f":"$AH$827","v":"ka"}]
[{"$f":"$A$828","v":"Kurzarbeit und Schlechtwetter [ka]"},null,null,null,null,null,null,null,null,null,null,null,null,null,null,null,null,null,null,null,null,null,null,null,null,null,null,null,null,null,null,null,0,{"$f":"$AH$828","v":"fu"}]
[{"$f":"$A$829","v":"Ferien unbezahlt [fu]"},null,null,null,null,null,null,null,null,null,null,null,null,null,null,null,null,null,null,null,null,null,null,null,null,null,null,null,null,null,null,null,0,{"$f":"$AH$829","v":"fe"}]
[{"$f":"$A$830","v":"Fehlstunden (unbezahlt) [fe]"}]
[{"$f":"$A$831","v":"Total"},{"$f":"SUM(B887:B899)","v":0},{"$f":"SUM(C887:C899)","v":0},0,0,0,0,0,0,0,0,0,0,0,0,0,0,0,0,0,0,0,0,0,0,0,0,0,0,0,0]
[]
[]
[]
[{"$f":"A265","v":"Mai"},{"$f":"$B$812","v":"Saldo Monat + / -"},null,null,null,{"$f":"F265","v":-176},null,null,null,null,null,null,null,null,null,null,null,null,null,null,null,null,null,null,null,null,null,{"$f":"$AB$812","v":"Absenz in Std"},null,null,{"$f":"Labels!B81","v":"Mai"},null,{"$f":"COUNT(B907:AF907)&\" \"&Labels!$B$63","v":"22 Tage"}]
[{"$f":"$A$813","v":"Tag"},{"$f":"B266","v":"2022-05-01"},{"$f":"B905+1","v":"2022-05-02"},"2022-05-03","2022-05-04","2022-05-05","2022-05-06","2022-05-07","2022-05-08","2022-05-09","2022-05-10","2022-05-11","2022-05-12","2022-05-13","2022-05-14","2022-05-15","2022-05-16","2022-05-17","2022-05-18","2022-05-19","2022-05-20","2022-05-21","2022-05-22","2022-05-23","2022-05-24","2022-05-25","2022-05-26","2022-05-27","2022-05-28","2022-05-29","2022-05-30","2022-05-31"]
[{"$f":"$A$814","v":"Kalenderwoche"},{"$f":"IF(B905=\"\",\"\",TRUNC((B905-DATE(YEAR(B905+3-MOD(B905-2,7)),1,MOD(B905-2,7)-9))/7))","v":17},{"$f":"IF(C905=\"\",\"\",TRUNC((C905-DATE(YEAR(C905+3-MOD(C905-2,7)),1,MOD(C905-2,7)-9))/7))","v":18},18,18,18,18,18,18,19,19,19,19,19,19,19,20,20,20,20,20,20,20,21,21,21,21,21,21,21,22,22,{"$f":"SUM(B907:AF907)","v":176}]
[{"$f":"$A$815","v":"Sollstunden"},{"$f":"B268","v":""},{"$f":"C268","v":8},8,8,8,8,"","",8,8,8,8,8,"","",8,8,8,8,8,"","",8,8,8,8,8,"","",8,8]
[{"$f":"$A$816","v":"Produktivstunden"},{"$f":"SUM(B271:B273)","v":0},{"$f":"SUM(C271:C273)","v":0},0,0,0,0,0,0,0,0,0,0,0,0,0,0,0,0,0,0,0,0,0,0,0,0,0,0,0,0,0,{"$f":"SUM(B909:AF909)","v":0}]
[{"$f":"$A$817","v":"Feiertage [ft]"},{"$f":"B274","v":""},{"$f":"C274","v":""},"","","","","","","","","","","","","","","","","","","","","","","","","","","","","",{"$f":"SUM(B910:AF910)","v":0},{"$f":"$AH$817","v":"f"}]
[{"$f":"$A$818","v":"Ferien [f]"},null,null,null,null,null,null,null,null,null,null,null,null,null,null,null,null,null,null,null,null,null,null,null,null,null,null,null,null,null,null,null,{"$f":"SUM(B911:AF911)","v":0},{"$f":"$AH$818","v":"kv"}]
[{"$f":"$A$819","v":"Kompensation (Vorjahr) [kv]"},null,null,null,null,null,null,null,null,null,null,null,null,null,null,null,null,null,null,null,null,null,null,null,null,null,null,null,null,null,null,null,{"$f":"SUM(B912:AF912)","v":0},{"$f":"$AH$819","v":"kj"}]
[{"$f":"$A$820","v":"Kompensation (laufend) [kj]"},null,null,null,null,null,null,null,null,null,null,null,null,null,null,null,null,null,null,null,null,null,null,null,null,null,null,null,null,null,null,null,{"$f":"SUM(B913:AF913)","v":0},{"$f":"$AH$820","v":"a"}]
[{"$f":"$A$821","v":"Absenzen, Kurzabsenzen [a]"},null,null,null,null,null,null,null,null,null,null,null,null,null,null,null,null,null,null,null,null,null,null,null,null,null,null,null,null,null,null,null,{"$f":"SUM(B914:AF914)","v":0},{"$f":"$AH$821","v":"k"}]
[{"$f":"$A$822","v":"Krankheit [k]"},null,null,null,null,null,null,null,null,null,null,null,null,null,null,null,null,null,null,null,null,null,null,null,null,null,null,null,null,null,null,null,0,{"$f":"$AH$822","v":"u"}]
[{"$f":"$A$823","v":"Unfall [u]"},null,null,null,null,null,null,null,null,null,null,null,null,null,null,null,null,null,null,null,null,null,null,null,null,null,null,null,null,null,null,null,0,{"$f":"$AH$823","v":"s"}]
[{"$f":"$A$824","v":"Schwangerschaft/Mutterschaft [s]"},null,null,null,null,null,null,null,null,null,null,null,null,null,null,null,null,null,null,null,null,null,null,null,null,null,null,null,null,null,null,null,0,{"$f":"$AH$824","v":"m"}]
[{"$f":"$A$825","v":"Militär/Beförderung/Zivilschutz [m]"},null,null,null,null,null,null,null,null,null,null,null,null,null,null,null,null,null,null,null,null,null,null,null,null,null,null,null,null,null,null,null,0,{"$f":"$AH$825","v":"bs"}]
[{"$f":"$A$826","v":"Berufsschule [bs]"},null,null,null,null,null,null,null,null,null,null,null,null,null,null,null,null,null,null,null,null,null,null,null,null,null,null,null,null,null,null,null,0,{"$f":"$AH$826","v":"ku"}]
[{"$f":"$A$827","v":"Kurse [ku]"},null,null,null,null,null,null,null,null,null,null,null,null,null,null,null,null,null,null,null,null,null,null,null,null,null,null,null,null,null,null,null,0,{"$f":"$AH$827","v":"ka"}]
[{"$f":"$A$828","v":"Kurzarbeit und Schlechtwetter [ka]"},null,null,null,null,null,null,null,null,null,null,null,null,null,null,null,null,null,null,null,null,null,null,null,null,null,null,null,null,null,null,null,0,{"$f":"$AH$828","v":"fu"}]
[{"$f":"$A$829","v":"Ferien unbezahlt [fu]"},null,null,null,null,null,null,null,null,null,null,null,null,null,null,null,null,null,null,null,null,null,null,null,null,null,null,null,null,null,null,null,0,{"$f":"$AH$829","v":"fe"}]
[{"$f":"$A$830","v":"Fehlstunden (unbezahlt) [fe]"}]
[{"$f":"$A$831","v":"Total"},{"$f":"SUM(B910:B922)","v":0},{"$f":"SUM(C910:C922)","v":0},0,0,0,0,0,0,0,0,0,0,0,0,0,0,0,0,0,0,0,0,0,0,0,0,0,0,0,0,0]
[]
[]
[]
[{"$f":"A329","v":"Juni"},{"$f":"$B$812","v":"Saldo Monat + / -"},null,null,null,{"$f":"F329","v":-176},null,null,null,null,null,null,null,null,null,null,null,null,null,null,null,null,null,null,null,null,null,{"$f":"$AB$812","v":"Absenz in Std"},null,null,{"$f":"Labels!B82","v":"Jun"},null,{"$f":"COUNT(B930:AF930)&\" \"&Labels!$B$63","v":"22 Tage"}]
[{"$f":"$A$813","v":"Tag"},{"$f":"B330","v":"2022-06-01"},{"$f":"B928+1","v":"2022-06-02"},"2022-06-03","2022-06-04","2022-06-05","2022-06-06","2022-06-07","2022-06-08","2022-06-09","2022-06-10","2022-06-11","2022-06-12","2022-06-13","2022-06-14","2022-06-15","2022-06-16","2022-06-17","2022-06-18","2022-06-19","2022-06-20","2022-06-21","2022-06-22","2022-06-23","2022-06-24","2022-06-25","2022-06-26","2022-06-27","2022-06-28","2022-06-29","2022-06-30"]
[{"$f":"$A$814","v":"Kalenderwoche"},{"$f":"IF(B928=\"\",\"\",TRUNC((B928-DATE(YEAR(B928+3-MOD(B928-2,7)),1,MOD(B928-2,7)-9))/7))","v":22},{"$f":"IF(C928=\"\",\"\",TRUNC((C928-DATE(YEAR(C928+3-MOD(C928-2,7)),1,MOD(C928-2,7)-9))/7))","v":22},22,22,22,23,23,23,23,23,23,23,24,24,24,24,24,24,24,25,25,25,25,25,25,25,26,26,26,26,null,{"$f":"SUM(B930:AF930)","v":176}]
[{"$f":"$A$815","v":"Sollstunden"},{"$f":"B332","v":8},{"$f":"C332","v":8},8,"","",8,8,8,8,8,"","",8,8,8,8,8,"","",8,8,8,8,8,"","",8,8,8,8]
[{"$f":"$A$816","v":"Produktivstunden"},{"$f":"SUM(B335:B337)","v":0},{"$f":"SUM(C335:C337)","v":0},0,0,0,0,0,0,0,0,0,0,0,0,0,0,0,0,0,0,0,0,0,0,0,0,0,0,0,0,null,{"$f":"SUM(B932:AF932)","v":0}]
[{"$f":"$A$817","v":"Feiertage [ft]"},{"$f":"B338","v":""},{"$f":"C338","v":""},"","","","","","","","","","","","","","","","","","","","","","","","","","","","",null,{"$f":"SUM(B933:AF933)","v":0},{"$f":"$AH$817","v":"f"}]
[{"$f":"$A$818","v":"Ferien [f]"},null,null,null,null,null,null,null,null,null,null,null,null,null,null,null,null,null,null,null,null,null,null,null,null,null,null,null,null,null,null,null,{"$f":"SUM(B934:AF934)","v":0},{"$f":"$AH$818","v":"kv"}]
[{"$f":"$A$819","v":"Kompensation (Vorjahr) [kv]"},null,null,null,null,null,null,null,null,null,null,null,null,null,null,null,null,null,null,null,null,null,null,null,null,null,null,null,null,null,null,null,{"$f":"SUM(B935:AF935)","v":0},{"$f":"$AH$819","v":"kj"}]
[{"$f":"$A$820","v":"Kompensation (laufend) [kj]"},null,null,null,null,null,null,null,null,null,null,null,null,null,null,null,null,null,null,null,null,null,null,null,null,null,null,null,null,null,null,null,{"$f":"SUM(B936:AF936)","v":0},{"$f":"$AH$820","v":"a"}]
[{"$f":"$A$821","v":"Absenzen, Kurzabsenzen [a]"},null,null,null,null,null,null,null,null,null,null,null,null,null,null,null,null,null,null,null,null,null,null,null,null,null,null,null,null,null,null,null,{"$f":"SUM(B937:AF937)","v":0},{"$f":"$AH$821","v":"k"}]
[{"$f":"$A$822","v":"Krankheit [k]"},null,null,null,null,null,null,null,null,null,null,null,null,null,null,null,null,null,null,null,null,null,null,null,null,null,null,null,null,null,null,null,0,{"$f":"$AH$822","v":"u"}]
[{"$f":"$A$823","v":"Unfall [u]"},null,null,null,null,null,null,null,null,null,null,null,null,null,null,null,null,null,null,null,null,null,null,null,null,null,null,null,null,null,null,null,0,{"$f":"$AH$823","v":"s"}]
[{"$f":"$A$824","v":"Schwangerschaft/Mutterschaft [s]"},null,null,null,null,null,null,null,null,null,null,null,null,null,null,null,null,null,null,null,null,null,null,null,null,null,null,null,null,null,null,null,0,{"$f":"$AH$824","v":"m"}]
[{"$f":"$A$825","v":"Militär/Beförderung/Zivilschutz [m]"},null,null,null,null,null,null,null,null,null,null,null,null,null,null,null,null,null,null,null,null,null,null,null,null,null,null,null,null,null,null,null,0,{"$f":"$AH$825","v":"bs"}]
[{"$f":"$A$826","v":"Berufsschule [bs]"},null,null,null,null,null,null,null,null,null,null,null,null,null,null,null,null,null,null,null,null,null,null,null,null,null,null,null,null,null,null,null,0,{"$f":"$AH$826","v":"ku"}]
[{"$f":"$A$827","v":"Kurse [ku]"},null,null,null,null,null,null,null,null,null,null,null,null,null,null,null,null,null,null,null,null,null,null,null,null,null,null,null,null,null,null,null,0,{"$f":"$AH$827","v":"ka"}]
[{"$f":"$A$828","v":"Kurzarbeit und Schlechtwetter [ka]"},null,null,null,null,null,null,null,null,null,null,null,null,null,null,null,null,null,null,null,null,null,null,null,null,null,null,null,null,null,null,null,0,{"$f":"$AH$828","v":"fu"}]
[{"$f":"$A$829","v":"Ferien unbezahlt [fu]"},null,null,null,null,null,null,null,null,null,null,null,null,null,null,null,null,null,null,null,null,null,null,null,null,null,null,null,null,null,null,null,0,{"$f":"$AH$829","v":"fe"}]
[{"$f":"$A$830","v":"Fehlstunden (unbezahlt) [fe]"}]
[{"$f":"$A$831","v":"Total"},{"$f":"SUM(B933:B945)","v":0},{"$f":"SUM(C933:C945)","v":0},0,0,0,0,0,0,0,0,0,0,0,0,0,0,0,0,0,0,0,0,0,0,0,0,0,0,0,0]
[]
[]
[]
[{"$f":"A393","v":"Juli"},{"$f":"$B$812","v":"Saldo Monat + / -"},null,null,null,{"$f":"F393","v":-168},null,null,null,null,null,null,null,null,null,null,null,null,null,null,null,null,null,null,null,null,null,{"$f":"$AB$812","v":"Absenz in Std"},null,null,{"$f":"Labels!B83","v":"Jul"},null,{"$f":"COUNT(B953:AF953)&\" \"&Labels!$B$63","v":"21 Tage"}]
[{"$f":"$A$813","v":"Tag"},{"$f":"B394","v":"2022-07-01"},{"$f":"B951+1","v":"2022-07-02"},"2022-07-03","2022-07-04","2022-07-05","2022-07-06","2022-07-07","2022-07-08","2022-07-09","2022-07-10","2022-07-11","2022-07-12","2022-07-13","2022-07-14","2022-07-15","2022-07-16","2022-07-17","2022-07-18","2022-07-19","2022-07-20","2022-07-21","2022-07-22","2022-07-23","2022-07-24","2022-07-25","2022-07-26","2022-07-27","2022-07-28","2022-07-29","2022-07-30","2022-07-31"]
[{"$f":"$A$814","v":"Kalenderwoche"},{"$f":"IF(B951=\"\",\"\",TRUNC((B951-DATE(YEAR(B951+3-MOD(B951-2,7)),1,MOD(B951-2,7)-9))/7))","v":26},{"$f":"IF(C951=\"\",\"\",TRUNC((C951-DATE(YEAR(C951+3-MOD(C951-2,7)),1,MOD(C951-2,7)-9))/7))","v":26},26,27,27,27,27,27,27,27,28,28,28,28,28,28,28,29,29,29,29,29,29,29,30,30,30,30,30,30,30,{"$f":"SUM(B953:AF953)","v":168}]
[{"$f":"$A$815","v":"Sollstunden"},{"$f":"B396","v":8},{"$f":"C396","v":""},"",8,8,8,8,8,"","",8,8,8,8,8,"","",8,8,8,8,8,"","",8,8,8,8,8,"",""]
[{"$f":"$A$816","v":"Produktivstunden"},{"$f":"SUM(B399:B401)","v":0},{"$f":"SUM(C399:C401)","v":0},0,0,0,0,0,0,0,0,0,0,0,0,0,0,0,0,0,0,0,0,0,0,0,0,0,0,0,0,0,{"$f":"SUM(B955:AF955)","v":0}]
[{"$f":"$A$817","v":"Feiertage [ft]"},{"$f":"B402","v":""},{"$f":"C402","v":""},"","","","","","","","","","","","","","","","","","","","","","","","","","","","","",{"$f":"SUM(B956:AF956)","v":0},{"$f":"$AH$817","v":"f"}]
[{"$f":"$A$818","v":"Ferien [f]"},null,null,null,null,null,null,null,null,null,null,null,null,null,null,null,null,null,null,null,null,null,null,null,null,null,null,null,null,null,null,null,{"$f":"SUM(B957:AF957)","v":0},{"$f":"$AH$818","v":"kv"}]
[{"$f":"$A$819","v":"Kompensation (Vorjahr) [kv]"},null,null,null,null,null,null,null,null,null,null,null,null,null,null,null,null,null,null,null,null,null,null,null,null,null,null,null,null,null,null,null,{"$f":"SUM(B958:AF958)","v":0},{"$f":"$AH$819","v":"kj"}]
[{"$f":"$A$820","v":"Kompensation (laufend) [kj]"},null,null,null,null,null,null,null,null,null,null,null,null,null,null,null,null,null,null,null,null,null,null,null,null,null,null,null,null,null,null,null,{"$f":"SUM(B959:AF959)","v":0},{"$f":"$AH$820","v":"a"}]
[{"$f":"$A$821","v":"Absenzen, Kurzabsenzen [a]"},null,null,null,null,null,null,null,null,null,null,null,null,null,null,null,null,null,null,null,null,null,null,null,null,null,null,null,null,null,null,null,{"$f":"SUM(B960:AF960)","v":0},{"$f":"$AH$821","v":"k"}]
[{"$f":"$A$822","v":"Krankheit [k]"},null,null,null,null,null,null,null,null,null,null,null,null,null,null,null,null,null,null,null,null,null,null,null,null,null,null,null,null,null,null,null,0,{"$f":"$AH$822","v":"u"}]
[{"$f":"$A$823","v":"Unfall [u]"},null,null,null,null,null,null,null,null,null,null,null,null,null,null,null,null,null,null,null,null,null,null,null,null,null,null,null,null,null,null,null,0,{"$f":"$AH$823","v":"s"}]
[{"$f":"$A$824","v":"Schwangerschaft/Mutterschaft [s]"},null,null,null,null,null,null,null,null,null,null,null,null,null,null,null,null,null,null,null,null,null,null,null,null,null,null,null,null,null,null,null,0,{"$f":"$AH$824","v":"m"}]
[{"$f":"$A$825","v":"Militär/Beförderung/Zivilschutz [m]"},null,null,null,null,null,null,null,null,null,null,null,null,null,null,null,null,null,null,null,null,null,null,null,null,null,null,null,null,null,null,null,0,{"$f":"$AH$825","v":"bs"}]
[{"$f":"$A$826","v":"Berufsschule [bs]"},null,null,null,null,null,null,null,null,null,null,null,null,null,null,null,null,null,null,null,null,null,null,null,null,null,null,null,null,null,null,null,0,{"$f":"$AH$826","v":"ku"}]
[{"$f":"$A$827","v":"Kurse [ku]"},null,null,null,null,null,null,null,null,null,null,null,null,null,null,null,null,null,null,null,null,null,null,null,null,null,null,null,null,null,null,null,0,{"$f":"$AH$827","v":"ka"}]
[{"$f":"$A$828","v":"Kurzarbeit und Schlechtwetter [ka]"},null,null,null,null,null,null,null,null,null,null,null,null,null,null,null,null,null,null,null,null,null,null,null,null,null,null,null,null,null,null,null,0,{"$f":"$AH$828","v":"fu"}]
[{"$f":"$A$829","v":"Ferien unbezahlt [fu]"},null,null,null,null,null,null,null,null,null,null,null,null,null,null,null,null,null,null,null,null,null,null,null,null,null,null,null,null,null,null,null,0,{"$f":"$AH$829","v":"fe"}]
[{"$f":"$A$830","v":"Fehlstunden (unbezahlt) [fe]"}]
[{"$f":"$A$831","v":"Total"},{"$f":"SUM(B956:B968)","v":0},{"$f":"SUM(C956:C968)","v":0},0,0,0,0,0,0,0,0,0,0,0,0,0,0,0,0,0,0,0,0,0,0,0,0,0,0,0,0,0]
[]
[]
[]
[{"$f":"A457","v":"August"},{"$f":"$B$812","v":"Saldo Monat + / -"},null,null,null,{"$f":"F457","v":-184},null,null,null,null,null,null,null,null,null,null,null,null,null,null,null,null,null,null,null,null,null,{"$f":"$AB$812","v":"Absenz in Std"},null,null,{"$f":"Labels!B84","v":"Aug"},null,{"$f":"COUNT(B976:AF976)&\" \"&Labels!$B$63","v":"23 Tage"}]
[{"$f":"$A$813","v":"Tag"},{"$f":"B458","v":"2022-08-01"},{"$f":"B974+1","v":"2022-08-02"},"2022-08-03","2022-08-04","2022-08-05","2022-08-06","2022-08-07","2022-08-08","2022-08-09","2022-08-10","2022-08-11","2022-08-12","2022-08-13","2022-08-14","2022-08-15","2022-08-16","2022-08-17","2022-08-18","2022-08-19","2022-08-20","2022-08-21","2022-08-22","2022-08-23","2022-08-24","2022-08-25","2022-08-26","2022-08-27","2022-08-28","2022-08-29","2022-08-30","2022-08-31"]
[{"$f":"$A$814","v":"Kalenderwoche"},{"$f":"IF(B974=\"\",\"\",TRUNC((B974-DATE(YEAR(B974+3-MOD(B974-2,7)),1,MOD(B974-2,7)-9))/7))","v":31},{"$f":"IF(C974=\"\",\"\",TRUNC((C974-DATE(YEAR(C974+3-MOD(C974-2,7)),1,MOD(C974-2,7)-9))/7))","v":31},31,31,31,31,31,32,32,32,32,32,32,32,33,33,33,33,33,33,33,34,34,34,34,34,34,34,35,35,35,{"$f":"SUM(B976:AF976)","v":184}]
[{"$f":"$A$815","v":"Sollstunden"},{"$f":"B460","v":8},{"$f":"C460","v":8},8,8,8,"","",8,8,8,8,8,"","",8,8,8,8,8,"","",8,8,8,8,8,"","",8,8,8]
[{"$f":"$A$816","v":"Produktivstunden"},{"$f":"SUM(B463:B465)","v":0},{"$f":"SUM(C463:C465)","v":0},0,0,0,0,0,0,0,0,0,0,0,0,0,0,0,0,0,0,0,0,0,0,0,0,0,0,0,0,0,{"$f":"SUM(B978:AF978)","v":0}]
[{"$f":"$A$817","v":"Feiertage [ft]"},{"$f":"B466","v":""},{"$f":"C466","v":""},"","","","","","","","","","","","","","","","","","","","","","","","","","","","","",{"$f":"SUM(B979:AF979)","v":0},{"$f":"$AH$817","v":"f"}]
[{"$f":"$A$818","v":"Ferien [f]"},null,null,null,null,null,null,null,null,null,null,null,null,null,null,null,null,null,null,null,null,null,null,null,null,null,null,null,null,null,null,null,{"$f":"SUM(B980:AF980)","v":0},{"$f":"$AH$818","v":"kv"}]
[{"$f":"$A$819","v":"Kompensation (Vorjahr) [kv]"},null,null,null,null,null,null,null,null,null,null,null,null,null,null,null,null,null,null,null,null,null,null,null,null,null,null,null,null,null,null,null,{"$f":"SUM(B981:AF981)","v":0},{"$f":"$AH$819","v":"kj"}]
[{"$f":"$A$820","v":"Kompensation (laufend) [kj]"},null,null,null,null,null,null,null,null,null,null,null,null,null,null,null,null,null,null,null,null,null,null,null,null,null,null,null,null,null,null,null,{"$f":"SUM(B982:AF982)","v":0},{"$f":"$AH$820","v":"a"}]
[{"$f":"$A$821","v":"Absenzen, Kurzabsenzen [a]"},null,null,null,null,null,null,null,null,null,null,null,null,null,null,null,null,null,null,null,null,null,null,null,null,null,null,null,null,null,null,null,{"$f":"SUM(B983:AF983)","v":0},{"$f":"$AH$821","v":"k"}]
[{"$f":"$A$822","v":"Krankheit [k]"},null,null,null,null,null,null,null,null,null,null,null,null,null,null,null,null,null,null,null,null,null,null,null,null,null,null,null,null,null,null,null,0,{"$f":"$AH$822","v":"u"}]
[{"$f":"$A$823","v":"Unfall [u]"},null,null,null,null,null,null,null,null,null,null,null,null,null,null,null,null,null,null,null,null,null,null,null,null,null,null,null,null,null,null,null,0,{"$f":"$AH$823","v":"s"}]
[{"$f":"$A$824","v":"Schwangerschaft/Mutterschaft [s]"},null,null,null,null,null,null,null,null,null,null,null,null,null,null,null,null,null,null,null,null,null,null,null,null,null,null,null,null,null,null,null,0,{"$f":"$AH$824","v":"m"}]
[{"$f":"$A$825","v":"Militär/Beförderung/Zivilschutz [m]"},null,null,null,null,null,null,null,null,null,null,null,null,null,null,null,null,null,null,null,null,null,null,null,null,null,null,null,null,null,null,null,0,{"$f":"$AH$825","v":"bs"}]
[{"$f":"$A$826","v":"Berufsschule [bs]"},null,null,null,null,null,null,null,null,null,null,null,null,null,null,null,null,null,null,null,null,null,null,null,null,null,null,null,null,null,null,null,0,{"$f":"$AH$826","v":"ku"}]
[{"$f":"$A$827","v":"Kurse [ku]"},null,null,null,null,null,null,null,null,null,null,null,null,null,null,null,null,null,null,null,null,null,null,null,null,null,null,null,null,null,null,null,0,{"$f":"$AH$827","v":"ka"}]
[{"$f":"$A$828","v":"Kurzarbeit und Schlechtwetter [ka]"},null,null,null,null,null,null,null,null,null,null,null,null,null,null,null,null,null,null,null,null,null,null,null,null,null,null,null,null,null,null,null,0,{"$f":"$AH$828","v":"fu"}]
[{"$f":"$A$829","v":"Ferien unbezahlt [fu]"},null,null,null,null,null,null,null,null,null,null,null,null,null,null,null,null,null,null,null,null,null,null,null,null,null,null,null,null,null,null,null,0,{"$f":"$AH$829","v":"fe"}]
[{"$f":"$A$830","v":"Fehlstunden (unbezahlt) [fe]"}]
[{"$f":"$A$831","v":"Total"},{"$f":"SUM(B979:B991)","v":0},{"$f":"SUM(C979:C991)","v":0},0,0,0,0,0,0,0,0,0,0,0,0,0,0,0,0,0,0,0,0,0,0,0,0,0,0,0,0,0]
[]
[]
[]
[{"$f":"A521","v":"September"},{"$f":"$B$812","v":"Saldo Monat + / -"},null,null,null,{"$f":"F521","v":-176},null,null,null,null,null,null,null,null,null,null,null,null,null,null,null,null,null,null,null,null,null,{"$f":"$AB$812","v":"Absenz in Std"},null,null,{"$f":"Labels!B85","v":"Sep"},null,{"$f":"COUNT(B999:AF999)&\" \"&Labels!$B$63","v":"22 Tage"}]
[{"$f":"$A$813","v":"Tag"},{"$f":"B522","v":"2022-09-01"},{"$f":"B997+1","v":"2022-09-02"},"2022-09-03","2022-09-04","2022-09-05","2022-09-06","2022-09-07","2022-09-08","2022-09-09","2022-09-10","2022-09-11","2022-09-12","2022-09-13","2022-09-14","2022-09-15","2022-09-16","2022-09-17","2022-09-18","2022-09-19","2022-09-20","2022-09-21","2022-09-22","2022-09-23","2022-09-24","2022-09-25","2022-09-26","2022-09-27","2022-09-28","2022-09-29","2022-09-30"]
[{"$f":"$A$814","v":"Kalenderwoche"},{"$f":"IF(B997=\"\",\"\",TRUNC((B997-DATE(YEAR(B997+3-MOD(B997-2,7)),1,MOD(B997-2,7)-9))/7))","v":35},{"$f":"IF(C997=\"\",\"\",TRUNC((C997-DATE(YEAR(C997+3-MOD(C997-2,7)),1,MOD(C997-2,7)-9))/7))","v":35},35,35,36,36,36,36,36,36,36,37,37,37,37,37,37,37,38,38,38,38,38,38,38,39,39,39,39,39,null,{"$f":"SUM(B999:AF999)","v":176}]
[{"$f":"$A$815","v":"Sollstunden"},{"$f":"B524","v":8},{"$f":"C524","v":8},"","",8,8,8,8,8,"","",8,8,8,8,8,"","",8,8,8,8,8,"","",8,8,8,8,8]
[{"$f":"$A$816","v":"Produktivstunden"},{"$f":"SUM(B527:B529)","v":0},{"$f":"SUM(C527:C529)","v":0},0,0,0,0,0,0,0,0,0,0,0,0,0,0,0,0,0,0,0,0,0,0,0,0,0,0,0,0,null,{"$f":"SUM(B1001:AF1001)","v":0}]
[{"$f":"$A$817","v":"Feiertage [ft]"},{"$f":"B530","v":""},{"$f":"C530","v":""},"","","","","","","","","","","","","","","","","","","","","","","","","","","","",null,{"$f":"SUM(B1002:AF1002)","v":0},{"$f":"$AH$817","v":"f"}]
[{"$f":"$A$818","v":"Ferien [f]"},null,null,null,null,null,null,null,null,null,null,null,null,null,null,null,null,null,null,null,null,null,null,null,null,null,null,null,null,null,null,null,{"$f":"SUM(B1003:AF1003)","v":0},{"$f":"$AH$818","v":"kv"}]
[{"$f":"$A$819","v":"Kompensation (Vorjahr) [kv]"},null,null,null,null,null,null,null,null,null,null,null,null,null,null,null,null,null,null,null,null,null,null,null,null,null,null,null,null,null,null,null,{"$f":"SUM(B1004:AF1004)","v":0},{"$f":"$AH$819","v":"kj"}]
[{"$f":"$A$820","v":"Kompensation (laufend) [kj]"},null,null,null,null,null,null,null,null,null,null,null,null,null,null,null,null,null,null,null,null,null,null,null,null,null,null,null,null,null,null,null,{"$f":"SUM(B1005:AF1005)","v":0},{"$f":"$AH$820","v":"a"}]
[{"$f":"$A$821","v":"Absenzen, Kurzabsenzen [a]"},null,null,null,null,null,null,null,null,null,null,null,null,null,null,null,null,null,null,null,null,null,null,null,null,null,null,null,null,null,null,null,{"$f":"SUM(B1006:AF1006)","v":0},{"$f":"$AH$821","v":"k"}]
[{"$f":"$A$822","v":"Krankheit [k]"},null,null,null,null,null,null,null,null,null,null,null,null,null,null,null,null,null,null,null,null,null,null,null,null,null,null,null,null,null,null,null,0,{"$f":"$AH$822","v":"u"}]
[{"$f":"$A$823","v":"Unfall [u]"},null,null,null,null,null,null,null,null,null,null,null,null,null,null,null,null,null,null,null,null,null,null,null,null,null,null,null,null,null,null,null,0,{"$f":"$AH$823","v":"s"}]
[{"$f":"$A$824","v":"Schwangerschaft/Mutterschaft [s]"},null,null,null,null,null,null,null,null,null,null,null,null,null,null,null,null,null,null,null,null,null,null,null,null,null,null,null,null,null,null,null,0,{"$f":"$AH$824","v":"m"}]
[{"$f":"$A$825","v":"Militär/Beförderung/Zivilschutz [m]"},null,null,null,null,null,null,null,null,null,null,null,null,null,null,null,null,null,null,null,null,null,null,null,null,null,null,null,null,null,null,null,0,{"$f":"$AH$825","v":"bs"}]
[{"$f":"$A$826","v":"Berufsschule [bs]"},null,null,null,null,null,null,null,null,null,null,null,null,null,null,null,null,null,null,null,null,null,null,null,null,null,null,null,null,null,null,null,0,{"$f":"$AH$826","v":"ku"}]
[{"$f":"$A$827","v":"Kurse [ku]"},null,null,null,null,null,null,null,null,null,null,null,null,null,null,null,null,null,null,null,null,null,null,null,null,null,null,null,null,null,null,null,0,{"$f":"$AH$827","v":"ka"}]
[{"$f":"$A$828","v":"Kurzarbeit und Schlechtwetter [ka]"},null,null,null,null,null,null,null,null,null,null,null,null,null,null,null,null,null,null,null,null,null,null,null,null,null,null,null,null,null,null,null,0,{"$f":"$AH$828","v":"fu"}]
[{"$f":"$A$829","v":"Ferien unbezahlt [fu]"},null,null,null,null,null,null,null,null,null,null,null,null,null,null,null,null,null,null,null,null,null,null,null,null,null,null,null,null,null,null,null,0,{"$f":"$AH$829","v":"fe"}]
[{"$f":"$A$830","v":"Fehlstunden (unbezahlt) [fe]"}]
[{"$f":"$A$831","v":"Total"},{"$f":"SUM(B1002:B1014)","v":0},{"$f":"SUM(C1002:C1014)","v":0},0,0,0,0,0,0,0,0,0,0,0,0,0,0,0,0,0,0,0,0,0,0,0,0,0,0,0,0]
[]
[]
[]
[{"$f":"A585","v":"Oktober"},{"$f":"$B$812","v":"Saldo Monat + / -"},null,null,null,{"$f":"F585","v":-168},null,null,null,null,null,null,null,null,null,null,null,null,null,null,null,null,null,null,null,null,null,{"$f":"$AB$812","v":"Absenz in Std"},null,null,{"$f":"Labels!B86","v":"Okt"},null,{"$f":"COUNT(B1022:AF1022)&\" \"&Labels!$B$63","v":"21 Tage"}]
[{"$f":"$A$813","v":"Tag"},{"$f":"B586","v":"2022-10-01"},{"$f":"B1020+1","v":"2022-10-02"},"2022-10-03","2022-10-04","2022-10-05","2022-10-06","2022-10-07","2022-10-08","2022-10-09","2022-10-10","2022-10-11","2022-10-12","2022-10-13","2022-10-14","2022-10-15","2022-10-16","2022-10-17","2022-10-18","2022-10-19","2022-10-20","2022-10-21","2022-10-22","2022-10-23","2022-10-24","2022-10-25","2022-10-26","2022-10-27","2022-10-28","2022-10-29","2022-10-30","2022-10-31"]
[{"$f":"$A$814","v":"Kalenderwoche"},{"$f":"IF(B1020=\"\",\"\",TRUNC((B1020-DATE(YEAR(B1020+3-MOD(B1020-2,7)),1,MOD(B1020-2,7)-9))/7))","v":39},{"$f":"IF(C1020=\"\",\"\",TRUNC((C1020-DATE(YEAR(C1020+3-MOD(C1020-2,7)),1,MOD(C1020-2,7)-9))/7))","v":39},40,40,40,40,40,40,40,41,41,41,41,41,41,41,42,42,42,42,42,42,42,43,43,43,43,43,43,43,44,{"$f":"SUM(B1022:AF1022)","v":168}]
[{"$f":"$A$815","v":"Sollstunden"},{"$f":"B588","v":""},{"$f":"C588","v":""},8,8,8,8,8,"","",8,8,8,8,8,"","",8,8,8,8,8,"","",8,8,8,8,8,"","",8]
[{"$f":"$A$816","v":"Produktivstunden"},{"$f":"SUM(B591:B593)","v":0},{"$f":"SUM(C591:C593)","v":0},0,0,0,0,0,0,0,0,0,0,0,0,0,0,0,0,0,0,0,0,0,0,0,0,0,0,0,0,0,{"$f":"SUM(B1024:AF1024)","v":0}]
[{"$f":"$A$817","v":"Feiertage [ft]"},{"$f":"B594","v":""},{"$f":"C594","v":""},"","","","","","","","","","","","","","","","","","","","","","","","","","","","","",{"$f":"SUM(B1025:AF1025)","v":0},{"$f":"$AH$817","v":"f"}]
[{"$f":"$A$818","v":"Ferien [f]"},null,null,null,null,null,null,null,null,null,null,null,null,null,null,null,null,null,null,null,null,null,null,null,null,null,null,null,null,null,null,null,{"$f":"SUM(B1026:AF1026)","v":0},{"$f":"$AH$818","v":"kv"}]
[{"$f":"$A$819","v":"Kompensation (Vorjahr) [kv]"},null,null,null,null,null,null,null,null,null,null,null,null,null,null,null,null,null,null,null,null,null,null,null,null,null,null,null,null,null,null,null,{"$f":"SUM(B1027:AF1027)","v":0},{"$f":"$AH$819","v":"kj"}]
[{"$f":"$A$820","v":"Kompensation (laufend) [kj]"},null,null,null,null,null,null,null,null,null,null,null,null,null,null,null,null,null,null,null,null,null,null,null,null,null,null,null,null,null,null,null,{"$f":"SUM(B1028:AF1028)","v":0},{"$f":"$AH$820","v":"a"}]
[{"$f":"$A$821","v":"Absenzen, Kurzabsenzen [a]"},null,null,null,null,null,null,null,null,null,null,null,null,null,null,null,null,null,null,null,null,null,null,null,null,null,null,null,null,null,null,null,{"$f":"SUM(B1029:AF1029)","v":0},{"$f":"$AH$821","v":"k"}]
[{"$f":"$A$822","v":"Krankheit [k]"},null,null,null,null,null,null,null,null,null,null,null,null,null,null,null,null,null,null,null,null,null,null,null,null,null,null,null,null,null,null,null,0,{"$f":"$AH$822","v":"u"}]
[{"$f":"$A$823","v":"Unfall [u]"},null,null,null,null,null,null,null,null,null,null,null,null,null,null,null,null,null,null,null,null,null,null,null,null,null,null,null,null,null,null,null,0,{"$f":"$AH$823","v":"s"}]
[{"$f":"$A$824","v":"Schwangerschaft/Mutterschaft [s]"},null,null,null,null,null,null,null,null,null,null,null,null,null,null,null,null,null,null,null,null,null,null,null,null,null,null,null,null,null,null,null,0,{"$f":"$AH$824","v":"m"}]
[{"$f":"$A$825","v":"Militär/Beförderung/Zivilschutz [m]"},null,null,null,null,null,null,null,null,null,null,null,null,null,null,null,null,null,null,null,null,null,null,null,null,null,null,null,null,null,null,null,0,{"$f":"$AH$825","v":"bs"}]
[{"$f":"$A$826","v":"Berufsschule [bs]"},null,null,null,null,null,null,null,null,null,null,null,null,null,null,null,null,null,null,null,null,null,null,null,null,null,null,null,null,null,null,null,0,{"$f":"$AH$826","v":"ku"}]
[{"$f":"$A$827","v":"Kurse [ku]"},null,null,null,null,null,null,null,null,null,null,null,null,null,null,null,null,null,null,null,null,null,null,null,null,null,null,null,null,null,null,null,0,{"$f":"$AH$827","v":"ka"}]
[{"$f":"$A$828","v":"Kurzarbeit und Schlechtwetter [ka]"},null,null,null,null,null,null,null,null,null,null,null,null,null,null,null,null,null,null,null,null,null,null,null,null,null,null,null,null,null,null,null,0,{"$f":"$AH$828","v":"fu"}]
[{"$f":"$A$829","v":"Ferien unbezahlt [fu]"},null,null,null,null,null,null,null,null,null,null,null,null,null,null,null,null,null,null,null,null,null,null,null,null,null,null,null,null,null,null,null,0,{"$f":"$AH$829","v":"fe"}]
[{"$f":"$A$830","v":"Fehlstunden (unbezahlt) [fe]"}]
[{"$f":"$A$831","v":"Total"},{"$f":"SUM(B1025:B1037)","v":0},{"$f":"SUM(C1025:C1037)","v":0},0,0,0,0,0,0,0,0,0,0,0,0,0,0,0,0,0,0,0,0,0,0,0,0,0,0,0,0,0]
[]
[]
[]
[{"$f":"A649","v":"November"},{"$f":"$B$812","v":"Saldo Monat + / -"},null,null,null,{"$f":"F649","v":-176},null,null,null,null,null,null,null,null,null,null,null,null,null,null,null,null,null,null,null,null,null,{"$f":"$AB$812","v":"Absenz in Std"},null,null,{"$f":"Labels!B87","v":"Nov"},null,{"$f":"COUNT(B1045:AF1045)&\" \"&Labels!$B$63","v":"22 Tage"}]
[{"$f":"$A$813","v":"Tag"},{"$f":"B650","v":"2022-11-01"},{"$f":"B1043+1","v":"2022-11-02"},"2022-11-03","2022-11-04","2022-11-05","2022-11-06","2022-11-07","2022-11-08","2022-11-09","2022-11-10","2022-11-11","2022-11-12","2022-11-13","2022-11-14","2022-11-15","2022-11-16","2022-11-17","2022-11-18","2022-11-19","2022-11-20","2022-11-21","2022-11-22","2022-11-23","2022-11-24","2022-11-25","2022-11-26","2022-11-27","2022-11-28","2022-11-29","2022-11-30"]
[{"$f":"$A$814","v":"Kalenderwoche"},{"$f":"IF(B1043=\"\",\"\",TRUNC((B1043-DATE(YEAR(B1043+3-MOD(B1043-2,7)),1,MOD(B1043-2,7)-9))/7))","v":44},{"$f":"IF(C1043=\"\",\"\",TRUNC((C1043-DATE(YEAR(C1043+3-MOD(C1043-2,7)),1,MOD(C1043-2,7)-9))/7))","v":44},44,44,44,44,45,45,45,45,45,45,45,46,46,46,46,46,46,46,47,47,47,47,47,47,47,48,48,48,null,{"$f":"SUM(B1045:AF1045)","v":176}]
[{"$f":"$A$815","v":"Sollstunden"},{"$f":"B652","v":8},{"$f":"C652","v":8},8,8,"","",8,8,8,8,8,"","",8,8,8,8,8,"","",8,8,8,8,8,"","",8,8,8]
[{"$f":"$A$816","v":"Produktivstunden"},{"$f":"SUM(B655:B657)","v":0},{"$f":"SUM(C655:C657)","v":0},0,0,0,0,0,0,0,0,0,0,0,0,0,0,0,0,0,0,0,0,0,0,0,0,0,0,0,0,null,{"$f":"SUM(B1047:AF1047)","v":0}]
[{"$f":"$A$817","v":"Feiertage [ft]"},{"$f":"B658","v":""},{"$f":"C658","v":""},"","","","","","","","","","","","","","","","","","","","","","","","","","","","",null,{"$f":"SUM(B1048:AF1048)","v":0},{"$f":"$AH$817","v":"f"}]
[{"$f":"$A$818","v":"Ferien [f]"},null,null,null,null,null,null,null,null,null,null,null,null,null,null,null,null,null,null,null,null,null,null,null,null,null,null,null,null,null,null,null,{"$f":"SUM(B1049:AF1049)","v":0},{"$f":"$AH$818","v":"kv"}]
[{"$f":"$A$819","v":"Kompensation (Vorjahr) [kv]"},null,null,null,null,null,null,null,null,null,null,null,null,null,null,null,null,null,null,null,null,null,null,null,null,null,null,null,null,null,null,null,{"$f":"SUM(B1050:AF1050)","v":0},{"$f":"$AH$819","v":"kj"}]
[{"$f":"$A$820","v":"Kompensation (laufend) [kj]"},null,null,null,null,null,null,null,null,null,null,null,null,null,null,null,null,null,null,null,null,null,null,null,null,null,null,null,null,null,null,null,{"$f":"SUM(B1051:AF1051)","v":0},{"$f":"$AH$820","v":"a"}]
[{"$f":"$A$821","v":"Absenzen, Kurzabsenzen [a]"},null,null,null,null,null,null,null,null,null,null,null,null,null,null,null,null,null,null,null,null,null,null,null,null,null,null,null,null,null,null,null,{"$f":"SUM(B1052:AF1052)","v":0},{"$f":"$AH$821","v":"k"}]
[{"$f":"$A$822","v":"Krankheit [k]"},null,null,null,null,null,null,null,null,null,null,null,null,null,null,null,null,null,null,null,null,null,null,null,null,null,null,null,null,null,null,null,0,{"$f":"$AH$822","v":"u"}]
[{"$f":"$A$823","v":"Unfall [u]"},null,null,null,null,null,null,null,null,null,null,null,null,null,null,null,null,null,null,null,null,null,null,null,null,null,null,null,null,null,null,null,0,{"$f":"$AH$823","v":"s"}]
[{"$f":"$A$824","v":"Schwangerschaft/Mutterschaft [s]"},null,null,null,null,null,null,null,null,null,null,null,null,null,null,null,null,null,null,null,null,null,null,null,null,null,null,null,null,null,null,null,0,{"$f":"$AH$824","v":"m"}]
[{"$f":"$A$825","v":"Militär/Beförderung/Zivilschutz [m]"},null,null,null,null,null,null,null,null,null,null,null,null,null,null,null,null,null,null,null,null,null,null,null,null,null,null,null,null,null,null,null,0,{"$f":"$AH$825","v":"bs"}]
[{"$f":"$A$826","v":"Berufsschule [bs]"},null,null,null,null,null,null,null,null,null,null,null,null,null,null,null,null,null,null,null,null,null,null,null,null,null,null,null,null,null,null,null,0,{"$f":"$AH$826","v":"ku"}]
[{"$f":"$A$827","v":"Kurse [ku]"},null,null,null,null,null,null,null,null,null,null,null,null,null,null,null,null,null,null,null,null,null,null,null,null,null,null,null,null,null,null,null,0,{"$f":"$AH$827","v":"ka"}]
[{"$f":"$A$828","v":"Kurzarbeit und Schlechtwetter [ka]"},null,null,null,null,null,null,null,null,null,null,null,null,null,null,null,null,null,null,null,null,null,null,null,null,null,null,null,null,null,null,null,0,{"$f":"$AH$828","v":"fu"}]
[{"$f":"$A$829","v":"Ferien unbezahlt [fu]"},null,null,null,null,null,null,null,null,null,null,null,null,null,null,null,null,null,null,null,null,null,null,null,null,null,null,null,null,null,null,null,0,{"$f":"$AH$829","v":"fe"}]
[{"$f":"$A$830","v":"Fehlstunden (unbezahlt) [fe]"}]
[{"$f":"$A$831","v":"Total"},{"$f":"SUM(B1048:B1060)","v":0},{"$f":"SUM(C1048:C1060)","v":0},0,0,0,0,0,0,0,0,0,0,0,0,0,0,0,0,0,0,0,0,0,0,0,0,0,0,0,0]
[]
[]
[]
[{"$f":"A713","v":"Dezember"},{"$f":"$B$812","v":"Saldo Monat + / -"},null,null,null,{"$f":"F713","v":-176},null,null,null,null,null,null,null,null,null,null,null,null,null,null,null,null,null,null,null,null,null,{"$f":"$AB$812","v":"Absenz in Std"},null,null,{"$f":"Labels!B88","v":"Dez"},null,{"$f":"COUNT(B1068:AF1068)&\" \"&Labels!$B$63","v":"22 Tage"}]
[{"$f":"$A$813","v":"Tag"},{"$f":"B714","v":"2022-12-01"},{"$f":"B1066+1","v":"2022-12-02"},"2022-12-03","2022-12-04","2022-12-05","2022-12-06","2022-12-07","2022-12-08","2022-12-09","2022-12-10","2022-12-11","2022-12-12","2022-12-13","2022-12-14","2022-12-15","2022-12-16","2022-12-17","2022-12-18","2022-12-19","2022-12-20","2022-12-21","2022-12-22","2022-12-23","2022-12-24","2022-12-25","2022-12-26","2022-12-27","2022-12-28","2022-12-29","2022-12-30","2022-12-31"]
[{"$f":"$A$814","v":"Kalenderwoche"},{"$f":"IF(B1066=\"\",\"\",TRUNC((B1066-DATE(YEAR(B1066+3-MOD(B1066-2,7)),1,MOD(B1066-2,7)-9))/7))","v":48},{"$f":"IF(C1066=\"\",\"\",TRUNC((C1066-DATE(YEAR(C1066+3-MOD(C1066-2,7)),1,MOD(C1066-2,7)-9))/7))","v":48},48,48,49,49,49,49,49,49,49,50,50,50,50,50,50,50,51,51,51,51,51,51,51,52,52,52,52,52,52,{"$f":"SUM(B1068:AF1068)","v":176}]
[{"$f":"$A$815","v":"Sollstunden"},{"$f":"B716","v":8},{"$f":"C716","v":8},"","",8,8,8,8,8,"","",8,8,8,8,8,"","",8,8,8,8,8,"","",8,8,8,8,8,""]
[{"$f":"$A$816","v":"Produktivstunden"},{"$f":"SUM(B719:B721)","v":0},{"$f":"SUM(C719:C721)","v":0},0,0,0,0,0,0,0,0,0,0,0,0,0,0,0,0,0,0,0,0,0,0,0,0,0,0,0,0,0,{"$f":"SUM(B1070:AF1070)","v":0}]
[{"$f":"$A$817","v":"Feiertage [ft]"},{"$f":"B722","v":""},{"$f":"C722","v":""},"","","","","","","","","","","","","","","","","","","","","","","","","","","","","",{"$f":"SUM(B1071:AF1071)","v":0},{"$f":"$AH$817","v":"f"}]
[{"$f":"$A$818","v":"Ferien [f]"},null,null,null,null,null,null,null,null,null,null,null,null,null,null,null,null,null,null,null,null,null,null,null,null,null,null,null,null,null,null,null,{"$f":"SUM(B1072:AF1072)","v":0},{"$f":"$AH$818","v":"kv"}]
[{"$f":"$A$819","v":"Kompensation (Vorjahr) [kv]"},null,null,null,null,null,null,null,null,null,null,null,null,null,null,null,null,null,null,null,null,null,null,null,null,null,null,null,null,null,null,null,{"$f":"SUM(B1073:AF1073)","v":0},{"$f":"$AH$819","v":"kj"}]
[{"$f":"$A$820","v":"Kompensation (laufend) [kj]"},null,null,null,null,null,null,null,null,null,null,null,null,null,null,null,null,null,null,null,null,null,null,null,null,null,null,null,null,null,null,null,{"$f":"SUM(B1074:AF1074)","v":0},{"$f":"$AH$820","v":"a"}]
[{"$f":"$A$821","v":"Absenzen, Kurzabsenzen [a]"},null,null,null,null,null,null,null,null,null,null,null,null,null,null,null,null,null,null,null,null,null,null,null,null,null,null,null,null,null,null,null,{"$f":"SUM(B1075:AF1075)","v":0},{"$f":"$AH$821","v":"k"}]
[{"$f":"$A$822","v":"Krankheit [k]"},null,null,null,null,null,null,null,null,null,null,null,null,null,null,null,null,null,null,null,null,null,null,null,null,null,null,null,null,null,null,null,0,{"$f":"$AH$822","v":"u"}]
[{"$f":"$A$823","v":"Unfall [u]"},null,null,null,null,null,null,null,null,null,null,null,null,null,null,null,null,null,null,null,null,null,null,null,null,null,null,null,null,null,null,null,0,{"$f":"$AH$823","v":"s"}]
[{"$f":"$A$824","v":"Schwangerschaft/Mutterschaft [s]"},null,null,null,null,null,null,null,null,null,null,null,null,null,null,null,null,null,null,null,null,null,null,null,null,null,null,null,null,null,null,null,0,{"$f":"$AH$824","v":"m"}]
[{"$f":"$A$825","v":"Militär/Beförderung/Zivilschutz [m]"},null,null,null,null,null,null,null,null,null,null,null,null,null,null,null,null,null,null,null,null,null,null,null,null,null,null,null,null,null,null,null,0,{"$f":"$AH$825","v":"bs"}]
[{"$f":"$A$826","v":"Berufsschule [bs]"},null,null,null,null,null,null,null,null,null,null,null,null,null,null,null,null,null,null,null,null,null,null,null,null,null,null,null,null,null,null,null,0,{"$f":"$AH$826","v":"ku"}]
[{"$f":"$A$827","v":"Kurse [ku]"},null,null,null,null,null,null,null,null,null,null,null,null,null,null,null,null,null,null,null,null,null,null,null,null,null,null,null,null,null,null,null,0,{"$f":"$AH$827","v":"ka"}]
[{"$f":"$A$828","v":"Kurzarbeit und Schlechtwetter [ka]"},null,null,null,null,null,null,null,null,null,null,null,null,null,null,null,null,null,null,null,null,null,null,null,null,null,null,null,null,null,null,null,0,{"$f":"$AH$828","v":"fu"}]
[{"$f":"$A$829","v":"Ferien unbezahlt [fu]"},null,null,null,null,null,null,null,null,null,null,null,null,null,null,null,null,null,null,null,null,null,null,null,null,null,null,null,null,null,null,null,0,{"$f":"$AH$829","v":"fe"}]
[{"$f":"$A$830","v":"Fehlstunden (unbezahlt) [fe]"}]
[{"$f":"$A$831","v":"Total"},{"$f":"SUM(B1071:B1083)","v":0},{"$f":"SUM(C1071:C1083)","v":0},0,0,0,0,0,0,0,0,0,0,0,0,0,0,0,0,0,0,0,0,0,0,0,0,0,0,0,0,0]