{"text_format":"1","workbook":"xlsx","n_sheets":7,"sheets":["Info","Calendar Backup","Konfiguration","CALENDRIER","Labels","Timesheet Backup","CONTRÔLE"],"not_rendered":{"charts":0,"images":2,"macros":1,"external_links":1,"defined_names":58,"comments":0,"pivot_tables":0},"unopened":[],"bounds":{"document_bytes":16777216,"sheet_cells":100000,"rows_first":2000,"rows_last":500,"rows_between":2000,"halvings":0,"cell_chars":16384,"cell_head_chars":4096},"cells_cut":0,"cells_raw":0,"read":"whole","date_system":"1900"}

{"sheet":"Info","index":0,"n_rows":1,"n_cols":2,"rows_kept":1,"cut":false,"hidden":true,"merged":[]}
["Info:","Dieses Tabellenblatt bitte weder löschen noch verändern."]

{"sheet":"Calendar Backup","index":1,"n_rows":24,"n_cols":35,"rows_kept":24,"cut":false,"hidden":true,"merged":[[0,3,0,34]]}
[null,null,null,"Auswahl der gesetzlichen Feiertage \n(mit einem kleinen x ankreuzen)"]
[null,null,null,"Jan",1,2,3,4,5,6,7,8,9,10,11,12,13,14,15,16,17,18,19,20,21,22,23,24,25,26,27,28,29,30,31]
[]
[null,null,null,"Feb",1,2,3,4,5,6,7,8,9,10,11,12,13,14,15,16,17,18,19,20,21,22,23,24,25,26,27,28,29]
[]
[null,null,null,"Mrz",1,2,3,4,5,6,7,8,9,10,11,12,13,14,15,16,17,18,19,20,21,22,23,24,25,26,27,28,29,30,31]
[]
[null,null,null,"Apr",1,2,3,4,5,6,7,8,9,10,11,12,13,14,15,16,17,18,19,20,21,22,23,24,25,26,27,28,29,30]
[]
[null,null,null,"Mai",1,2,3,4,5,6,7,8,9,10,11,12,13,14,15,16,17,18,19,20,21,22,23,24,25,26,27,28,29,30,31]
[]
[null,null,null,"Jun",1,2,3,4,5,6,7,8,9,10,11,12,13,14,15,16,17,18,19,20,21,22,23,24,25,26,27,28,29,30]
[]
[null,null,null,"Jul",1,2,3,4,5,6,7,8,9,10,11,12,13,14,15,16,17,18,19,20,21,22,23,24,25,26,27,28,29,30,31]
[]
[null,null,null,"Aug",1,2,3,4,5,6,7,8,9,10,11,12,13,14,15,16,17,18,19,20,21,22,23,24,25,26,27,28,29,30,31]
[]
[null,null,null,"Sep",1,2,3,4,5,6,7,8,9,10,11,12,13,14,15,16,17,18,19,20,21,22,23,24,25,26,27,28,29,30]
[]
[null,null,null,"Okt",1,2,3,4,5,6,7,8,9,10,11,12,13,14,15,16,17,18,19,20,21,22,23,24,25,26,27,28,29,30,31]
[]
[null,null,null,"Nov",1,2,3,4,5,6,7,8,9,10,11,12,13,14,15,16,17,18,19,20,21,22,23,24,25,26,27,28,29,30]
[]
[null,null,null,"Dez",1,2,3,4,5,6,7,8,9,10,11,12,13,14,15,16,17,18,19,20,21,22,23,24,25,26,27,28,29,30,31]

{"sheet":"Konfiguration","index":2,"n_rows":17,"n_cols":10,"rows_kept":17,"cut":false,"hidden":true,"merged":[]}
["Globale Konfiguration"]
[null,null,null,null,null,null,null,"Memo =>"]
["Jahr",2019,{"$f":"\"01.01.\"&B3","v":"01.01.2019"},"Schaljahr j/n",{"$f":"IF(F3=1,\"ja\",\"nein\")","v":"nein"},{"$f":"IF(MOD(YEAR($C$3),400)=0,\"\",IF(MOD(YEAR($C$3),100)=0,\"kein\",IF(MOD(YEAR($C$3),4)=0,1,0)))","v":0},null,"1.Tag des Jahes","formel"]
["max. Std/Woche gem. GAV",48,null,null,null,null,null,"letzter Tag des Jahres","formel"]
["Std/Tag gem. GAV",8,null,"Jahresbruttosollstunden",null,null,null,"Anz. Wochentage","formel"]
[null,null,null,null,null,null,null,"% Nachzuschlag","eingabe"]
[null,null,null,null,null,null,null,"% Sonn- & Feiertagszuschlag","eingabe"]
[null,null,null,null,null,null,null,"% Wochenzuschlag","eingabe"]
[null,null,null,null,null,null,null,"Ausahlung mit Zuschlag (max. Std)","eingabe"]
[]
["Standard Kalender","calendar"]
[]
[]
["Standard Sprache","DE",null,null,null,null,null,"Sprachen","Deutsch","DE"]
[null,null,null,null,null,null,null,null,"Français","FR"]
[null,null,null,null,null,null,null,null,"English","EN"]
[null,null,null,null,null,null,null,null,"Italiano","IT"]

{"sheet":"CALENDRIER","index":3,"n_rows":24,"n_cols":35,"rows_kept":24,"cut":false,"hidden":false,"merged":[[0,3,0,34]]}
[null,null,null,"Jours fériés\n(marquer avec un x)"]
[null,null,null,"Jan",1,2,3,4,5,6,7,8,9,10,11,12,13,14,15,16,17,18,19,20,21,22,23,24,25,26,27,28,29,30,31]
[]
[null,null,null,"Feb",1,2,3,4,5,6,7,8,9,10,11,12,13,14,15,16,17,18,19,20,21,22,23,24,25,26,27,28,29]
[]
[null,null,null,"Mrz",1,2,3,4,5,6,7,8,9,10,11,12,13,14,15,16,17,18,19,20,21,22,23,24,25,26,27,28,29,30,31]
[]
[null,null,null,"Apr",1,2,3,4,5,6,7,8,9,10,11,12,13,14,15,16,17,18,19,20,21,22,23,24,25,26,27,28,29,30]
[]
[null,null,null,"Mai",1,2,3,4,5,6,7,8,9,10,11,12,13,14,15,16,17,18,19,20,21,22,23,24,25,26,27,28,29,30,31]
[]
[null,null,null,"Jun",1,2,3,4,5,6,7,8,9,10,11,12,13,14,15,16,17,18,19,20,21,22,23,24,25,26,27,28,29,30]
[]
[null,null,null,"Jul",1,2,3,4,5,6,7,8,9,10,11,12,13,14,15,16,17,18,19,20,21,22,23,24,25,26,27,28,29,30,31]
[]
[null,null,null,"Aug",1,2,3,4,5,6,7,8,9,10,11,12,13,14,15,16,17,18,19,20,21,22,23,24,25,26,27,28,29,30,31]
[]
[null,null,null,"Sep",1,2,3,4,5,6,7,8,9,10,11,12,13,14,15,16,17,18,19,20,21,22,23,24,25,26,27,28,29,30]
[]
[null,null,null,"Okt",1,2,3,4,5,6,7,8,9,10,11,12,13,14,15,16,17,18,19,20,21,22,23,24,25,26,27,28,29,30,31]
[]
[null,null,null,"Nov",1,2,3,4,5,6,7,8,9,10,11,12,13,14,15,16,17,18,19,20,21,22,23,24,25,26,27,28,29,30]
[]
[null,null,null,"Dez",1,2,3,4,5,6,7,8,9,10,11,12,13,14,15,16,17,18,19,20,21,22,23,24,25,26,27,28,29,30,31]

{"sheet":"Labels","index":4,"n_rows":506,"n_cols":6,"rows_kept":506,"cut":false,"hidden":true,"merged":[]}
["Achtung: ","lange Texte sind jeweils manuell einzusetzen"]
[]
["gewählte \nSprache","FR"]
[]
[]
[]
[]
[]
[]
[]
[]
["Index","Dargestellt","DE","EN","FR","IT"]
[2,{"$f":"HLOOKUP($B$3,$C$12:$F$506,A13,FALSE)","v":"[$-40C]"},"[$-807]","[$-409]","[$-40C]","[$-410]"]
[3,"ASEPP","SMGV",{"$f":"C14","v":"SMGV"},"ASEPP","ASIPG"]
[4,"CCT","GAV","CEC","CCT","CCL"]
[5,"Contrôle","Kontrolle","Record","Contrôle","Controllo"]
[6,"Contrôle des heures de travail ","A r b e i t s z e i t k o n t r o l l e ","Timesheet ","Contrôle des heures de travail ","Controllo d'orario di lavoro"]
[7,"Nom/Prénom","Mitarbeiter/In","Employee","Nom/Prénom","Nome/Conome"]
[8,"Modèle Pierre","Muster Peter","Smith John","Modèle Pierre","Modello Pietro"]
[9,"Emploi %","Anstellung %","Level of employment %","Emploi %","Occupazione %"]
[10,"Solde année en cours","Saldo für das Jahr","Balance (year)","Solde année en cours",{"$f":"C21","v":"Saldo für das Jahr"}]
[11,"Solde année passée (+)","Saldo Vorjahresstunden (+)","Balance previous year (+)","Solde année passée (+)",{"$f":"C22","v":"Saldo Vorjahresstunden (+)"}]
[12,"Solde année passée (-)","Saldo Vorjahresstunden (-)","Balance previous year (-)","Solde année passée (-)","Saldo Vorjahresstunden (-)"]
[13,"Solde vacances année passée","Ferienguthaben Vorjahr","Remaining holidays (prev. year)","Solde vacances année passée","Ferienguthaben Vorjahr"]
[14,"Vacances selon art. 12.1. CCT","Ferienguthaben laufendes Jahr","Total holidays current year","Vacances selon art. 12.1. CCT","Ferienguthaben laufendes Jahr"]
[15,"Heures","Stunden","Hours","Heures","Stunden"]
[16,"max heures / semain  CCT","Max. Std / Woche gemäss GAV","Max. hours / week according CEC","max heures / semain  CCT","Max. Std / Woche gemäss GAV"]
[17,"heures/jour  CCT","Std/Tag gemäss GAV","hours/day according CEC","heures/jour  CCT","Std/Tag gemäss GAV"]
[18,"Année bissextile (j/n)","Schaltjahr (j/n)","leap year (y/n)","Année bissextile (j/n)","Schaltjahr (j/n)"]
[19,"jours ouvrables (année)","Arbeitstage (Jahr)","Working Days (year)","jours ouvrables (année)","Arbeitstage (Jahr)"]
[20,"brut annuel d'heures","Jahresbruttosollstunden","Annual gross target hours","brut annuel d'heures","Jahresbruttosollstunden"]
[21,"Solde mois + / -","Saldo Monat + / -","Balance month +/-","Solde mois + / -","Saldo Monat + / -"]
[22," = "," = ",{"$f":"C33","v":" = "}," = "," = "]
[23,"Les cases marquées en jaune doivent être remplies (les autres seront calculées automatiquement)","Gelbe Felder müssen ausgefüllt werden (die übrigen werden automatisch berechnet)","Yellow fields must be filled (all others are calculated)","Les cases marquées en jaune doivent être remplies (les autres seront calculées automatiquement)","Gelbe Felder müssen ausgefüllt werden (die übrigen werden automatisch berechnet)"]
[24,"Jour","Tag","Day","Jour","Tag"]
[25,"semaine civile","Kalenderwoche","Calendar week","semaine civile","Kalenderwoche"]
[26,"Théorique sel. CCT","Sollstunden","Target hours","Théorique sel. CCT","Sollstunden"]
[27,"Absences","Absenz in Std","Absence (hours)","Absences","Absenz in Std"]
[28,"Code","Code","Code","Code","Code"]
[29,"00h00-06h00 1)","00.00-06.00h","00.00-06.00h","00h00-06h00 1)","00.00-06.00"]
[30,"06h00-20h00 2)","06.00-20.00h","06.00-20.00h","06h00-20h00 2)","06.00-20.00"]
[31,"20h00-24h00 3)","20.00-24.00h","20.00-24.00h","20h00-24h00 3)","20.00-24.00"]
[32,"Jours fériés \"jf\"","Feiertag \"ft\"","Holiday \"ft\"","Jours fériés \"jf\"","Giorni festivi \"gf\""]
[33,"Majoration  \"jf\"","Gutschrift \"ft\"","Credit \"ft\"","Majoration  \"jf\"","Credito \"gf\""]
[34,"total quotidien","Tagestotal","Daily total","total quotidien","totale quotidiano"]
[35,".",".",".",".","."]
[36,".",".",".",".","."]
[37,"transition mois","Monatsübergang","Monthly transfer","transition mois","transizione mensile"]
[38,"Total hebdomadaire","Wochentotal","Weekly total","Total hebdomadaire","totale settimana"]
[39,"Majorations temp. 1)","Zeitzuschlag 1)","Bonus hours 1)","Majorations temp. 1)","Supplemento in ore 1)"]
[40,"Majorations temp. 2)","Zeitzuschlag 2)","Bonus hours 2)","Majorations temp. 2)","Supplemento in ore 2)"]
[41,"Majorations temp. 3)","Zeitzuschlag 3)","Bonus hours 3)","Majorations temp. 3)","Supplemento in ore 3)"]
[42,"Dimanche journée","Sonntag Tag","Sunday day","Dimanche journée","Domenica giorno"]
[43,"Dimanche nuit","Sonntag Nacht","Sunday night","Dimanche nuit","Domenica notte"]
[44,"jf-jomajoration","ft-Tazuschlag","ft-daybonus","jf-jomajoration","gf-gisupplemento"]
[45,"jf-numajoration","ft-Nazuschlag","ft-nightbonus","jf-numajoration","gf-nosupplemento"]
[46,"majoration caché (total hebd.)","Zuschlag  blind (Wochentotal)","bonus  hidden (week total)","majoration caché (total hebd.)","Supplemento  nascosto (totale sett.)"]
[47,"1)  25% majoration temporelle pour depassement les heures maximales","1)   25% Zeitzuschlag für Überschreitung Höchstarbeitszeit","1)   25% bonus for exceeding maximum hours","1)  25% majoration temporelle pour depassement les heures maximales","1)   25%"]
[48,"2) 100% majoration temporelle pour travail de nuit","2) 100% Zeitzuschlag für Nachtarbeit","2) 100% bonus for nighttime work","2) 100% majoration temporelle pour travail de nuit","2) 100%"]
[49,"3) 100% majoration temporelle pour travail du dimanche et jour férié","3) 100% Zeitzuschlag für Sonn- und Feiertagsarbeit","3) 100% bonus for Sunday and holiday work","3) 100% majoration temporelle pour travail du dimanche et jour férié","3) 100%"]
[50,"Saisie des heures payées l'année passée","Eingabe der ausbezahlten Stunden Vorjahressaldo","Enter payed out hours (prev. Year)","Saisie des heures payées l'année passée",{"$f":"C61","v":"Eingabe der ausbezahlten Stunden Vorjahressaldo"}]
[51,"Saisie des heures payées exercice en cours (heures supplémentaires)","Eingabe der ausbezahlten Stunden laufendes Jahr (Überstunden)","Enter payed out hours (current Year)","Saisie des heures payées exercice en cours (heures supplémentaires)",{"$f":"C62","v":"Eingabe der ausbezahlten Stunden laufendes Jahr (Überstunden)"}]
[52,"Jours","Tage","Days","Jours","Tage"]
[53,"Annulation de la sélection","Druckvorschau aufheben","Reset print preview","Annulation de la sélection","Druckvorschau aufheben"]
[54,"Janvier","Januar","January","Janvier","Gennaio"]
[55,"Février","Februar","February","Février","Febbraio"]
[56,"Mars","März","March","Mars","Marzo"]
[57,"April","April","April","April","Aprile"]
[58,"Mai","Mai","May","Mai","Maggio"]
[59,"Juin","Juni","June","Juin","Giugno"]
[60,"Juillet","Juli","July","Juillet","Iuglio"]
[61,"Août","August","August","Août","Agosto"]
[62,"Septembre","September","September","Septembre","Settembre"]
[63,"Octobre","Oktober","October","Octobre","Ottobre"]
[64,"Novembre","November","November","Novembre","Novembre"]
[65,"Décembre","Dezember","December","Décembre","Dicembre"]
[66,{"$f":"HLOOKUP($B$3,$C$12:$F$506,A77,FALSE)","v":"Jan"},"Jan","Jan","Jan","Gen"]
[67,"Fév","Feb","Feb","Fév","Feb"]
[68,"Mar","Mrz","Mar","Mar","Mar"]
[69,"Avr","Apr","Apr","Avr","Apr"]
[70,"Mai","Mai","May","Mai","Mag"]
[71,"Jun","Jun","Jun","Jun","Giu"]
[72,"Jul","Jul","Jul","Jul","Iug"]
[73,"Aoû","Aug","Aug","Aoû","Ago"]
[74,"Sep","Sep","Sep","Sep","Set"]
[75,"Oct","Okt","Oct","Oct","Ott"]
[76,"Nov","Nov","Nov","Nov","Nov"]
[77,"Déc","Dez","Dec","Déc","Dic"]
[78,"en janvier","im Januar","in January","en janvier","a Gennaio"]
[79,"en février","im Februar","in February","en février","a Febbraio"]
[80,"en mars","im März","in March","en mars","a Marzo"]
[81,"en avril","im April","in April","en avril","ad Aprile"]
[82,"en mai","im Mai","in May","en mai","a Maggio"]
[83,"en juin","im Juni","in June","en juin","a Giugno"]
[84,"en juillet","im Juli","in July","en juillet","a Iuglio"]
[85,"en août","im August","in August","en août","ad Agosto"]
[86,"en septembre","im September","in September","en septembre","a Settembre"]
[87,"en octobre","im Oktober","in October","en octobre","ad Ottobre"]
[88,"en novembre","im November","in November","en novembre","a Novembre"]
[89,"en décembre","im Dezember","in December","en décembre","a Dicembre"]
[90,"Année","Jahr","Year","Année","Anno"]
[91,"Total","Total","Total","Total","Total"]
[92,"Résumé","Zusammenstellung","Report","Résumé","Zusammenstellung"]
[93,"Heures théoriques selon CCT","Sollstunden gemäss GAV","Planed hours acc.to CEC","Heures théoriques selon CCT","Orario teoricamente sec. CCL"]
[94,"Total heures productives","Produktive Stunden","Productive hours","Total heures productives","Orario produttivo totale"]
[95,"06.00 - 20.00 h","06.00 - 20.00 Uhr","06.00-20.00h","06.00 - 20.00 h","06.00 - 20.00 "]
[96,"nuit, dimanche et jour férié","Nacht-, Sonn-, Feiertagsarbeit","Night, Sunday and holiday work","nuit, dimanche et jour férié","notturno, domenica e festivo"]
[97,"Majorations temporelles","Zeitzuschläge","Bonus time","Majorations temporelles","Supplemento in ore"]
[98,"depassement des heures maximales","aus Überschreitung Höchstarbeitszeit","for exceeding max. hours","depassement des heures maximales","ore maximale"]
[99,"nuit, dimanche et jour férié","aus Nacht-, Sonn-, Feiertagsarbeiten","for night, Sundays and holiday work","nuit, dimanche et jour férié","di notturno, domenica e festivo"]
[100,"Heures inproductives","Unproduktive Stunden","Idle hours","Heures inproductives","orario non produttivo"]
[101,"   Absences art. 11 CCT","   Absenzen, Kurzabsenzen Art. 11 GAV","   Abcenses, Short abcenses Art. 11 CEC","   Absences art. 11 CCT","   Assenze art. 11 CCL"]
[102,"ab","a",{"$f":"C113","v":"a"},"ab","as"]
[103,"   Vacances art. 12.1 CCT","   Ferien Art. 12.1 GAV","   Holidays Art. 12.1 CEC","   Vacances art. 12.1 CCT","   Vacanze art. 12.1 CCL"]
[104,"va","f","f","va","va"]
[105,"   Jours fériés art. 12.2 CCT","   Feiertage Art. 12.2 GAV","   Public Holidays Art. 12.2 CEC","   Jours fériés art. 12.2 CCT","   Giorni festivi art. 12.2 CCL"]
[106,"trop de jf !)","zu viele ft !)","Too many ft !)","trop de jf !)","(tropo giorni festivi !)"]
[107,"jf","ft","ft","jf","gf"]
[108,"   Maladie art. 13 CCT","   Krankheit Art. 13 GAV","   Illness Art. 13 CEC","   Maladie art. 13 CCT","   Malattia art. 13 CCL"]
[109,"ma","k","k","ma","ma"]
[110,"   Accident art. 14 CCT","   Unfall Art. 14 GAV","   Accident Art. 14 CEC","   Accident art. 14 CCT","   Infortunio art. 14 CCL"]
[111,"ac","u","u","ac","in"]
[112,"   Grossesse/Maternité art. 15 CCT","   Schwangerschaft/Mutterschaft Art. 15 GAV","   Maternetiy leave Art. 15 CEC","   Grossesse/Maternité art. 15 CCT","   Gravidanza/Maternità art. 15 CCL"]
[113,"gm","s","s","gm","gm"]
[114,"   Militaire/Promotion/Protection civile art. 16 CCT","   Militär/Beförderung/Zivilschutz Art. 16 GAV","   Military service/promotion/civil defence Art. 16. CEC","   Militaire/Promotion/Protection civile art. 16 CCT","   Militare/Promotione/Civile art. 16 CCL"]
[115,"mi","m","m","mi","mi"]
[116,"   Chômage partiel et perte de travail cause d'intempéries","   Kurzarbeit und Schlechtwetterausfälle","   Short-time work/bad weather","   Chômage partiel et perte de travail cause d'intempéries",{"$f":"C127","v":"   Kurzarbeit und Schlechtwetterausfälle"}]
[117,"ch","ka","ka","ch",{"$f":"C128","v":"ka"}]
[118,"   Ecole professionnelle","   Berufsschule","   School","   Ecole professionnelle","   Berufsschule"]
[119,"ep","bs","bs","ep","bs"]
[120,"   Cours","   Kurse","   Courses","   Cours","   Kurse"]
[121,"co","ku","ku","co","ku"]
[122,"Heures de compensation","Kompensations-Std","Compensation hours","Heures de compensation","Kompensations-Std"]
[123,"de l'année passée","aus Vorjahr","prev. Year","de l'année passée","aus Vorjahr"]
[124,"cp","kv","kv","cp","kv"]
[125,"de l'année en cours (contrôle)","aus laufendem Jahr (Kontrolle)","current year (verification)","de l'année en cours (contrôle)","aus laufendem Jahr (Kontrolle)"]
[126,"cc","kj","kj","cc","kj"]
[127,"Paiement des heures","Auszahlung","payment of hours","Paiement des heures","Auszahlung"]
[128,"de l'année passée","Stunden Vorjahressaldo","hours prev. Year","de l'année passée","Stunden Vorjahressaldo"]
[129,"Différence en heures","Differenz","difference","Différence en heures","Differenz"]
[130,{"$f":"HLOOKUP($B$3,$C$12:$F$506,A141,FALSE)","v":"après compensation et paiement"},"nach Kompensation und Auszahlung","after compensation and payment","après compensation et paiement","nach Kompensation und Auszahlung"]
[131,"de l'année en cours","Stunden laufendes Jahr","hours current year","de l'année en cours","Stunden laufendes Jahr"]
[132,"Heures manquantes","Fehlstunden","missed hours","Heures manquantes","Fehlstunden"]
[133,"de l'année en cours (contrôle)","laufendes Jahr (Kontrolle)","current year (verification)","de l'année en cours (contrôle)","laufendes Jahr (Kontrolle)"]
[134,"hm","fe","fe","hm","fe"]
[135,"Total (majorations inclus)","Total inkl. Zeitzuschläge","total (incl. extra time)","Total (majorations inclus)","Total inkl. Zeitzuschläge"]
[136,"heures productives et inproductives","Stunden produktiv und unproduktiv","hours productive and idle","heures productives et inproductives","Stunden produktiv und unproduktiv"]
[137,"Comparaison des heures","Vergleich","Comparison of hours","Comparaison des heures","Vergleich"]
[138,"aux heures théorique CCT (heures \nmanquantes de l'année passée incl.)","Stunden zu Soll-Stunden \n(inkl. Minusstunden Vorjahr)","balance hours <-> target hours (incl. missing hours prev. year)","aux heures théorique CCT (heures \nmanquantes de l'année passée incl.)","Stunden zu Soll-Stunden \n(inkl. Minusstunden Vorjahr)"]
[139,"[]","[]","[]","[]","[]"]
[140,"aux heures théorique (cumulées)","Stunden zu Soll-Stunden (kumuliert)","balance hours <-> target hours (cumulative)","aux heures théorique (cumulées)","Stunden zu Soll-Stunden (kumuliert)"]
[141,".",".",".",".","."]
[142,"Vacances (contrôle)","Ferienkontrolle","Holiday Balance","Vacances (contrôle)","Ferienkontrolle"]
[143,"Vacances année passée","Ferienguthaben Vorjahr","Remaining holidays (prev. year)","Vacances année passée","Ferienguthaben Vorjahr"]
[144,"Vacances selon \nart 12.1 CCT","Ferienguthaben nach \nArt. 12.1 GAV","Holidays acc. Art. 12.1 CEC","Vacances selon \nart 12.1 CCT","Ferienguthaben nach \nArt. 12.1 GAV"]
[145,"Total des vacances","Ferienguthaben total","Holidays total","Total des vacances","Ferienguthaben total"]
[146,"Vacances prises","Ferien bezogen","Holidays taken","Vacances prises","Ferien bezogen"]
[147,"Vacances restantes","Aktuelles Ferienguthaben","Current holiday balance","Vacances restantes","Aktuelles Ferienguthaben"]
[148,"Notes","Bemerkungen","Annotations","Notes","Bemerkungen"]
[149,"Nombre jf","Anzahl ft","No. Of public holidays (ft)","Nombre jf","Anzahl ft"]
[150,"Message","Meldung","Message","Message","Meldung"]
[151,"Majorations selon emploi %","Feiertagzuschläge gemäss Anstellungsprozent","Bonus for holiday work according level of employment %","Majorations selon emploi %","Feiertagzuschläge gemäss Anstellungsprozent"]
[152,"div","div","div","div","div"]
[153,"\nSélectionnez le mois désiré en un clic\n\n\n\n\nSélectionnez le mois à imprimer en un clic","\nDen gewünschten Monat mit einem Klick\nwählen (gehe zu)\n\n\nDen gewünschten Monat mit einem Klick\nin die Druckvorschau versetzen (für Druck)","\nSelect desired month by clicking (goto)\n\n\nSelect desired month for printing","\nSélectionnez le mois désiré en un clic\n\n\n\n\nSélectionnez le mois à imprimer en un clic","\nDen gewünschten Monat mit einem Klick\nwählen (gehe zu)\n\n\nDen gewünschten Monat mit einem Klick\nin die Druckvorschau versetzen (für Druck)"]
[154,"Heures productives","Produktivstunden","Productive hours","Heures productives","Produktivstunden"]
[155,"Jours fériés [jf]","Feiertage [ft]","Public holidays [ft]","Jours fériés [jf]","Feiertage [ft]"]
[156,"Vacances [va]","Ferien [f]","holidays [f]","Vacances [va]","Ferien [f]"]
[157,"Compensation (année passée) [cp]","Kompensation (Vorjahr) [kv]","Compensation hours (prev. year) [kv]","Compensation (année passée) [cp]","Kompensation (Vorjahr) [kv]"]
[158,"Compensation (année courant) [cc]","Kompensation (laufend) [kj]","Compensation hours (current) [kj]","Compensation (année courant) [cc]","Kompensation (laufend) [kj]"]
[159,"Absences [ab]","Absenzen, Kurzabsenzen [a]","Absences, short absences [a]","Absences [ab]","Absenzen, Kurzabsenzen [a]"]
[160,"Maladie [ma]","Krankheit [k]","Illness [k]","Maladie [ma]","Krankheit [k]"]
[161,"Accident [ac]","Unfall [u]","Accident [u]","Accident [ac]","Unfall [u]"]
[162,"Grossesse/Maternité [gm]","Schwangerschaft/Mutterschaft [s]","Maternity leave [s]","Grossesse/Maternité [gm]","Schwangerschaft/Mutterschaft [s]"]
[163,"Militaire/Promotion/Protection civile [mi]","Militär/Beförderung/Zivilschutz [m]","Military service/promotion/civil defence [m]","Militaire/Promotion/Protection civile [mi]","Militär/Beförderung/Zivilschutz [m]"]
[164,"Ecole professionelle [ep]","Berufsschule [bs]","School [bs]","Ecole professionelle [ep]","Berufsschule [bs]"]
[165,"Cours [co]","Kurse [ku]","Courses [ku]","Cours [co]","Kurse [ku]"]
[166,"Chômage partiel et intempéries [ch]","Kurzarbeit und Schlechtwetter [ka]","Short-time work/bad weather [ka]","Chômage partiel et intempéries [ch]","Kurzarbeit und Schlechtwetter [ka]"]
[167,"Heures manquantes [hm]","Fehlstunden (unbezahlt) [fe]","Missed hours (not payed) [fe]","Heures manquantes [hm]","Fehlstunden (unbezahlt) [fe]"]
[168,"Vacances non payées [vn]","Ferien unbezahlt [fu]","Unpaid holidays [fu]","Vacances non payées [vn]","vacanze non pagato [vn]"]
[169,"vn","fu","uh","vn","vn"]
[170,"   vacances non payées","   Ferien unbezahlt","   unpaid holidays","   vacances non payées","   vacanze non pagato"]
[171,"vn","fu","uh","vn","vn"]
[172,0,null,{"$f":"C183","v":0},null,0]
[173,"non payeé","davon Karenz","not paid","non payeé","non pagato"]
[174,0,null,0,null,0]
[175,0,null,0,null,0]
[176,0,null,0,null,0]
[177,0,null,0,null,0]
[178,0,null,0,null,0]
[179,0,null,0,null,0]
[180,0,null,0,null,0]
[181,0,null,0,null,{"$f":"C192","v":0}]
[182,0,null,0,null,0]
[183,0,null,0,null,0]
[184,0,null,0,null,0]
[185,0,null,0,null,0]
[186,0,null,0,null,0]
[187,0,null,0,null,0]
[188,0,null,0,null,0]
[189,0,null,0,null,0]
[190,0,null,0,null,0]
[191,0,null,0,null,0]
[192,0,null,0,null,0]
[193,0,null,0,null,0]
[194,{"$f":"HLOOKUP($B$3,$C$12:$F$506,A205,FALSE)","v":0},null,0,null,0]
[195,0,null,0,null,0]
[196,0,null,0,null,0]
[197,0,null,0,null,0]
[198,0,null,0,null,0]
[199,"Befehlsschaltflächen FR","Befehlsschaltflächen","CommandButtons","Befehlsschaltflächen FR","Befehlsschaltflächen"]
[200,"Janvier","Januar","January","Janvier","Gennaio"]
[201,"Février","Februar","February","Février","Febbraio"]
[202,"Mars","März","March","Mars","Marzo"]
[203,"April","April","April","April","Aprile"]
[204,"Mai","Mai","May","Mai","Maggio"]
[205,"Juin","Juni","June","Juin","Giugno"]
[206,"Juillet","Juli","July","Juillet","Iuglio"]
[207,"Août","August","August","Août","Agosto"]
[208,"Septembre","September","September","Septembre","Settembre"]
[209,"Octobre","Oktober","October","Octobre","Ottobre"]
[210,"Novembre","November","November","Novembre","Novembre"]
[211,"Décembre","Dezember","December","Décembre","Dicembre"]
[212,"Absences","Absenzen","Absences","Absences","Assenze"]
[213,"Aperçu avant impression","Druckvorschau aufheben","Clear Print Area","Aperçu avant impression","Druckvorschau aufheben"]
[214,0,null,null,null,0]
[215,0,null,null,null,0]
[216,"exclure jour (marque avec un x)","Tag ausschliessen (mit x markieren)","exclude day (mark with x)","exclure jour (marque avec un x)","Tag ausschliessen (mit x markieren)"]
[217,"jour de carence (marque avec un x)","Karenztage (mit x markieren)","unpaid sick leave (mark with x)","jour de carence (marque avec un x)","Karenztage (mit x markieren)"]
[218,0,null,null,null,0]
[219,0,null,null,null,0]
[220,0]
[221,0]
[222,0]
[223,0]
[224,0]
[225,0]
[226,0]
[227,0]
[228,0]
[229,0]
[230,0]
[231,0]
[232,0]
[233,0]
[234,0]
[235,0]
[236,0]
[237,0]
[238,0]
[239,0]
[240,0]
[241,0]
[242,0]
[243,0]
[244,0]
[245,0]
[246,0]
[247,0]
[248,0]
[249,0]
[250,0]
[251,0]
[252,0]
[253,0]
[254,0]
[255,0]
[256,0]
[257,0]
[258,{"$f":"HLOOKUP($B$3,$C$12:$F$506,A269,FALSE)","v":0}]
[259,0]
[260,0]
[261,0]
[262,0]
[263,0]
[264,0]
[265,0]
[266,0]
[267,0]
[268,0]
[269,0]
[270,0]
[271,0]
[272,0]
[273,0]
[274,0]
[275,0]
[276,0]
[277,0]
[278,0]
[279,0]
[280,"TR FR","Tabellenregister / Arbeitsblattregister","TR EN","TR FR"]
[281,"EXPLICATIONS","ERKLÄRUNGEN","INFO","EXPLICATIONS"]
[282,"CALENDRIER","KALENDER","MAIN CALENDAR","CALENDRIER"]
[283,"ADRESSES","MITARBEITER","ADDRESS LIST","ADRESSES"]
[284,"CONTRÔLE","KONTROLLE","TIMESHEET TEMPL","CONTRÔLE"]
[285,0]
[286,0]
[287,0]
[288,0]
[289,0]
[290,"ADR FR","Texte Mitarbeiter-Tabelle DE","ADR EN","ADR FR"]
[291,"Numéro","Nummer","Number","Numéro"]
[292,"Nom","Name","Last Name","Nom"]
[293,"Prénom","Vorname","First Name","Prénom"]
[294,"Adresse","Adresse","Address","Adresse"]
[295,"CP","PLZ","Zip Code","CP"]
[296,"Lieu","Ort","City","Lieu"]
[297,"Téléphone","Telefon","Phone","Téléphone"]
[298,"émail","eMail","eMail","émail"]
[299,0]
[300,0]
[301,0]
[302,0]
[303,0]
[304,0]
[305,"Modèle","Muster",null,"Modèle"]
[306,"Pierre","Peter",null,"Pierre"]
[307,"Rue Modèle 44","Mustergasse 550",null,"Rue Modèle 44"]
[308,"CH-9999","CH-5000",null,"CH-9999"]
[309,"Modèleville","Aarau",null,"Modèleville"]
[310,"+41 99 999 99 99","+41 00 000 00 00",null,"+41 99 999 99 99"]
[311,0]
[312,0]
[313,0]
[314,0]
[315,0]
[316,0]
[317,0]
[318,0]
[319,0]
[320,0,"Texte Kalender-Tabelle DE"]
[321,0,"Auswahl der gesetzlichen Feiertage \n(mit einem kleinen x ankreuzen)"]
[322,{"$f":"HLOOKUP($B$3,$C$12:$F$506,A333,FALSE)","v":0}]
[323,0]
[324,0]
[325,0]
[326,0]
[327,0]
[328,0]
[329,0]
[330,0]
[331,0]
[332,0]
[333,0]
[334,0]
[335,0]
[336,0]
[337,0]
[338,0]
[339,0]
[340,0]
[341,0]
[342,0]
[343,0]
[344,0]
[345,0]
[346,0]
[347,0]
[348,0]
[349,0]
[350,0]
[351,0]
[352,0]
[353,0]
[354,0]
[355,0]
[356,0]
[357,0]
[358,0]
[359,0]
[360,0]
[361,0]
[362,0]
[363,0]
[364,0]
[365,0]
[366,0]
[367,0]
[368,0]
[369,0]
[370,0]
[371,0]
[372,0]
[373,0]
[374,0]
[375,0]
[376,0]
[377,0]
[378,0]
[379,0]
[380,0]
[381,0]
[382,0]
[383,0]
[384,0]
[385,0]
[386,{"$f":"HLOOKUP($B$3,$C$12:$F$506,A397,FALSE)","v":0}]
[387,0]
[388,0]
[389,0]
[390,0]
[391,0]
[392,0]
[393,0]
[394,0]
[395,0]
[396,0]
[397,0]
[398,0]
[399,0]
[400,0]
[401,0]
[402,0]
[403,0]
[404,0]
[405,0]
[406,0]
[407,0]
[408,0]
[409,0]
[410,0]
[411,0]
[412,0]
[413,0]
[414,0]
[415,0]
[416,0]
[417,0]
[418,0]
[419,0]
[420,0]
[421,0]
[422,0]
[423,0]
[424,0]
[425,0]
[426,0]
[427,0]
[428,0]
[429,0]
[430,0]
[431,0]
[432,0]
[433,0]
[434,0]
[435,0]
[436,0]
[437,0]
[438,0]
[439,0]
[440,0]
[441,0]
[442,0]
[443,0]
[444,0]
[445,0]
[446,0]
[447,0]
[448,0]
[449,0]
[450,{"$f":"HLOOKUP($B$3,$C$12:$F$506,A461,FALSE)","v":0}]
[451,0]
[452,0]
[453,0]
[454,0]
[455,0]
[456,0]
[457,0]
[458,0]
[459,0]
[460,0]
[461,0]
[462,0]
[463,0]
[464,0]
[465,0]
[466,0]
[467,0]
[468,0]
[469,0]
[470,0]
[471,0]
[472,0]
[473,0]
[474,0]
[475,0]
[476,0]
[477,0]
[478,0]
[479,0]
[480,0]
[481,0]
[482,0]
[483,0]
[484,0]
[485,0]
[486,0]
[487,0]
[488,0]
[489,0]
[490,0]
[491,0]
[492,0]
[493,0]
[494,0]
[495,0]

{"sheet":"Timesheet Backup","index":5,"n_rows":1120,"n_cols":51,"rows_kept":1120,"cut":false,"hidden":true,"merged":[[1098,1,1098,4],[1098,5,1098,6],[1098,27,1098,29],[1098,30,1098,31],[1048,1,1048,4],[1048,5,1048,6],[1048,27,1048,29],[1048,30,1048,31],[1073,1,1073,4],[1073,5,1073,6],[1073,27,1073,29],[1073,30,1073,31],[998,1,998,4],[998,5,998,6],[998,27,998,29],[998,30,998,31],[1023,1,1023,4],[1023,5,1023,6],[1023,27,1023,29],[1023,30,1023,31],[948,1,948,4],[948,5,948,6],[948,27,948,29],[948,30,948,31],[973,1,973,4],[973,5,973,6],[973,27,973,29],[973,30,973,31],[898,1,898,4],[898,5,898,6],[898,27,898,29],[898,30,898,31],[923,1,923,4],[923,5,923,6],[923,27,923,29],[923,30,923,31],[848,1,848,4],[848,5,848,6],[848,27,848,29],[848,30,848,31],[873,1,873,4],[873,5,873,6],[873,27,873,29],[873,30,873,31],[782,26,783,29],[782,30,783,31],[821,7,821,10],[823,1,823,4],[823,5,823,6],[823,27,823,29],[823,30,823,31],[781,30,781,31],[782,0,783,0],[782,1,783,5],[782,6,783,7],[782,8,783,11],[782,12,783,13],[782,14,783,17],[782,18,783,19],[782,20,783,23],[782,24,783,25],[781,18,781,19],[781,20,781,21],[781,22,781,23],[781,24,781,25],[781,26,781,27],[781,28,781,29],[780,26,780,27],[780,28,780,29],[780,30,780,31],[781,1,781,5],[781,6,781,7],[781,8,781,9],[781,10,781,11],[781,12,781,13],[781,14,781,15],[781,16,781,17],[780,14,780,15],[780,16,780,17],[780,18,780,19],[780,20,780,21],[780,22,780,23],[780,24,780,25],[779,22,779,23],[779,24,779,25],[779,26,779,27],[779,28,779,29],[779,30,779,31],[780,1,780,5],[780,6,780,7],[780,8,780,9],[780,10,780,11],[780,12,780,13],[778,30,778,31],[779,1,779,5],[779,6,779,7],[779,8,779,9],[779,10,779,11],[779,12,779,13],[779,14,779,15],[779,16,779,17],[779,18,779,19],[779,20,779,21],[778,18,778,19],[778,20,778,21],[778,22,778,23],[778,24,778,25],[778,26,778,27],[778,28,778,29],[777,26,777,27],[777,28,777,29],[777,30,777,31],[778,1,778,4],[778,6,778,7],[778,8,778,9],[778,10,778,11],[778,12,778,13],[778,14,778,15],[778,16,778,17],[777,14,777,15],[777,16,777,17],[777,18,777,19],[777,20,777,21],[777,22,777,23],[777,24,777,25],[776,16,776,17],[776,18,776,19],[776,20,776,21],[776,22,776,23],[776,24,776,31],[777,1,777,5],[777,6,777,7],[777,8,777,9],[777,10,777,11],[777,12,777,13],[776,1,776,5],[776,6,776,7],[776,8,776,9],[776,10,776,11],[776,12,776,13],[776,14,776,15],[775,16,775,17],[775,18,775,19],[775,20,775,21],[775,22,775,23],[775,24,775,29],[775,30,775,31],[775,1,775,5],[775,6,775,7],[775,8,775,9],[775,10,775,11],[775,12,775,13],[775,14,775,15],[774,20,774,21],[774,22,774,23],[774,24,774,25],[774,26,774,27],[774,28,774,29],[774,30,774,31],[773,28,773,29],[773,30,773,31],[774,1,774,4],[774,6,774,7],[774,8,774,9],[774,10,774,11],[774,12,774,13],[774,14,774,15],[774,16,774,17],[774,18,774,19],[773,16,773,17],[773,18,773,19],[773,20,773,21],[773,22,773,23],[773,24,773,25],[773,26,773,27],[773,1,773,4],[773,6,773,7],[773,8,773,9],[773,10,773,11],[773,12,773,13],[773,14,773,15],[772,20,772,21],[772,22,772,23],[772,24,772,25],[772,26,772,27],[772,28,772,29],[772,30,772,31],[771,28,771,29],[771,30,771,31],[772,0,772,4],[772,6,772,7],[772,8,772,9],[772,10,772,11],[772,12,772,13],[772,14,772,15],[772,16,772,17],[772,18,772,19],[771,16,771,17],[771,18,771,19],[771,20,771,21],[771,22,771,23],[771,24,771,25],[771,26,771,27],[771,0,771,4],[771,6,771,7],[771,8,771,9],[771,10,771,11],[771,12,771,13],[771,14,771,15],[770,20,770,21],[770,22,770,23],[770,24,770,25],[770,26,770,27],[770,28,770,29],[770,30,770,31],[769,28,769,29],[769,30,769,31],[770,0,770,4],[770,6,770,7],[770,8,770,9],[770,10,770,11],[770,12,770,13],[770,14,770,15],[770,16,770,17],[770,18,770,19],[769,16,769,17],[769,18,769,19],[769,20,769,21],[769,22,769,23],[769,24,769,25],[769,26,769,27],[769,0,769,4],[769,6,769,7],[769,8,769,9],[769,10,769,11],[769,12,769,13],[769,14,769,15],[768,20,768,21],[768,22,768,23],[768,24,768,25],[768,26,768,27],[768,28,768,29],[768,30,768,31],[767,28,767,29],[767,30,767,31],[768,0,768,4],[768,6,768,7],[768,8,768,9],[768,10,768,11],[768,12,768,13],[768,14,768,15],[768,16,768,17],[768,18,768,19],[767,16,767,17],[767,18,767,19],[767,20,767,21],[767,22,767,23],[767,24,767,25],[767,26,767,27],[766,24,766,25],[766,26,766,27],[766,28,766,29],[766,30,766,31],[767,0,767,4],[767,6,767,7],[767,8,767,9],[767,10,767,11],[767,12,767,13],[767,14,767,15],[765,30,765,31],[766,6,766,7],[766,8,766,9],[766,10,766,11],[766,12,766,13],[766,14,766,15],[766,16,766,17],[766,18,766,19],[766,20,766,21],[766,22,766,23],[765,18,765,19],[765,20,765,21],[765,22,765,23],[765,24,765,25],[765,26,765,27],[765,28,765,29],[764,26,764,27],[764,28,764,29],[764,30,764,31],[765,0,765,4],[765,6,765,7],[765,8,765,9],[765,10,765,11],[765,12,765,13],[765,14,765,15],[765,16,765,17],[764,14,764,15],[764,16,764,17],[764,18,764,19],[764,20,764,21],[764,22,764,23],[764,24,764,25],[764,0,764,1],[764,2,764,4],[764,6,764,7],[764,8,764,9],[764,10,764,11],[764,12,764,13],[763,20,763,21],[763,22,763,23],[763,24,763,25],[763,26,763,27],[763,28,763,29],[763,30,763,31],[762,28,762,29],[762,30,762,31],[763,0,763,4],[763,6,763,7],[763,8,763,9],[763,10,763,11],[763,12,763,13],[763,14,763,15],[763,16,763,17],[763,18,763,19],[762,16,762,17],[762,18,762,19],[762,20,762,21],[762,22,762,23],[762,24,762,25],[762,26,762,27],[762,0,762,4],[762,6,762,7],[762,8,762,9],[762,10,762,11],[762,12,762,13],[762,14,762,15],[761,20,761,21],[761,22,761,23],[761,24,761,25],[761,26,761,27],[761,28,761,29],[761,30,761,31],[760,28,760,29],[760,30,760,31],[761,0,761,4],[761,6,761,7],[761,8,761,9],[761,10,761,11],[761,12,761,13],[761,14,761,15],[761,16,761,17],[761,18,761,19],[760,16,760,17],[760,18,760,19],[760,20,760,21],[760,22,760,23],[760,24,760,25],[760,26,760,27],[760,0,760,5],[760,6,760,7],[760,8,760,9],[760,10,760,11],[760,12,760,13],[760,14,760,15],[759,20,759,21],[759,22,759,23],[759,24,759,25],[759,26,759,27],[759,28,759,29],[759,30,759,31],[758,28,758,29],[758,30,758,31],[759,1,759,5],[759,6,759,7],[759,8,759,9],[759,10,759,11],[759,12,759,13],[759,14,759,15],[759,16,759,17],[759,18,759,19],[758,16,758,17],[758,18,758,19],[758,20,758,21],[758,22,758,23],[758,24,758,25],[758,26,758,27],[758,1,758,5],[758,6,758,7],[758,8,758,9],[758,10,758,11],[758,12,758,13],[758,14,758,15],[757,20,757,21],[757,22,757,23],[757,24,757,25],[757,26,757,27],[757,28,757,29],[757,30,757,31],[756,28,756,29],[756,30,756,31],[757,1,757,5],[757,6,757,7],[757,8,757,9],[757,10,757,11],[757,12,757,13],[757,14,757,15],[757,16,757,17],[757,18,757,19],[756,16,756,17],[756,18,756,19],[756,20,756,21],[756,22,756,23],[756,24,756,25],[756,26,756,27],[756,1,756,5],[756,6,756,7],[756,8,756,9],[756,10,756,11],[756,12,756,13],[756,14,756,15],[755,20,755,21],[755,22,755,23],[755,24,755,25],[755,26,755,27],[755,28,755,29],[755,30,755,31],[754,28,754,29],[754,30,754,31],[755,0,755,5],[755,6,755,7],[755,8,755,9],[755,10,755,11],[755,12,755,13],[755,14,755,15],[755,16,755,17],[755,18,755,19],[754,16,754,17],[754,18,754,19],[754,20,754,21],[754,22,754,23],[754,24,754,25],[754,26,754,27],[754,0,754,5],[754,6,754,7],[754,8,754,9],[754,10,754,11],[754,12,754,13],[754,14,754,15],[753,20,753,21],[753,22,753,23],[753,24,753,25],[753,26,753,27],[753,28,753,29],[753,30,753,31],[750,1,750,31],[751,1,751,31],[753,0,753,5],[753,6,753,7],[753,8,753,9],[753,10,753,11],[753,12,753,13],[753,14,753,15],[753,16,753,17],[753,18,753,19],[722,3,722,6],[723,1,723,4],[723,5,723,6],[723,27,723,31],[748,30,748,31],[749,1,749,31],[717,24,718,25],[717,26,718,29],[717,30,718,31],[719,7,719,31],[720,1,720,6],[721,1,721,2],[721,3,721,6],[716,28,716,29],[716,30,716,31],[717,0,718,0],[717,1,718,5],[717,6,718,7],[717,8,718,11],[717,12,718,13],[717,14,718,17],[717,18,718,19],[717,20,718,23],[716,16,716,17],[716,18,716,19],[716,20,716,21],[716,22,716,23],[716,24,716,25],[716,26,716,27],[716,1,716,5],[716,6,716,7],[716,8,716,9],[716,10,716,11],[716,12,716,13],[716,14,716,15],[715,20,715,21],[715,22,715,23],[715,24,715,25],[715,26,715,27],[715,28,715,29],[715,30,715,31],[714,28,714,29],[714,30,714,31],[715,1,715,5],[715,6,715,7],[715,8,715,9],[715,10,715,11],[715,12,715,13],[715,14,715,15],[715,16,715,17],[715,18,715,19],[714,16,714,17],[714,18,714,19],[714,20,714,21],[714,22,714,23],[714,24,714,25],[714,26,714,27],[714,1,714,5],[714,6,714,7],[714,8,714,9],[714,10,714,11],[714,12,714,13],[714,14,714,15],[713,20,713,21],[713,22,713,23],[713,24,713,25],[713,26,713,27],[713,28,713,29],[713,30,713,31],[712,28,712,29],[712,30,712,31],[713,1,713,4],[713,6,713,7],[713,8,713,9],[713,10,713,11],[713,12,713,13],[713,14,713,15],[713,16,713,17],[713,18,713,19],[712,16,712,17],[712,18,712,19],[712,20,712,21],[712,22,712,23],[712,24,712,25],[712,26,712,27],[712,1,712,5],[712,6,712,7],[712,8,712,9],[712,10,712,11],[712,12,712,13],[712,14,712,15],[711,14,711,15],[711,16,711,17],[711,18,711,19],[711,20,711,21],[711,22,711,23],[711,24,711,31],[710,18,710,19],[710,20,710,21],[710,22,710,23],[710,24,710,29],[710,30,710,31],[711,1,711,5],[711,6,711,7],[711,8,711,9],[711,10,711,11],[711,12,711,13],[709,26,709,27],[709,28,709,29],[709,30,709,31],[710,1,710,5],[710,6,710,7],[710,8,710,9],[710,10,710,11],[710,12,710,13],[710,14,710,15],[710,16,710,17],[709,14,709,15],[709,16,709,17],[709,18,709,19],[709,20,709,21],[709,22,709,23],[709,24,709,25],[708,22,708,23],[708,24,708,25],[708,26,708,27],[708,28,708,29],[708,30,708,31],[709,1,709,4],[709,6,709,7],[709,8,709,9],[709,10,709,11],[709,12,709,13],[707,30,707,31],[708,1,708,4],[708,6,708,7],[708,8,708,9],[708,10,708,11],[708,12,708,13],[708,14,708,15],[708,16,708,17],[708,18,708,19],[708,20,708,21],[707,18,707,19],[707,20,707,21],[707,22,707,23],[707,24,707,25],[707,26,707,27],[707,28,707,29],[706,26,706,27],[706,28,706,29],[706,30,706,31],[707,0,707,4],[707,6,707,7],[707,8,707,9],[707,10,707,11],[707,12,707,13],[707,14,707,15],[707,16,707,17],[706,14,706,15],[706,16,706,17],[706,18,706,19],[706,20,706,21],[706,22,706,23],[706,24,706,25],[705,22,705,23],[705,24,705,25],[705,26,705,27],[705,28,705,29],[705,30,705,31],[706,0,706,4],[706,6,706,7],[706,8,706,9],[706,10,706,11],[706,12,706,13],[704,30,704,31],[705,0,705,4],[705,6,705,7],[705,8,705,9],[705,10,705,11],[705,12,705,13],[705,14,705,15],[705,16,705,17],[705,18,705,19],[705,20,705,21],[704,18,704,19],[704,20,704,21],[704,22,704,23],[704,24,704,25],[704,26,704,27],[704,28,704,29],[703,26,703,27],[703,28,703,29],[703,30,703,31],[704,0,704,4],[704,6,704,7],[704,8,704,9],[704,10,704,11],[704,12,704,13],[704,14,704,15],[704,16,704,17],[703,14,703,15],[703,16,703,17],[703,18,703,19],[703,20,703,21],[703,22,703,23],[703,24,703,25],[702,22,702,23],[702,24,702,25],[702,26,702,27],[702,28,702,29],[702,30,702,31],[703,0,703,4],[703,6,703,7],[703,8,703,9],[703,10,703,11],[703,12,703,13],[701,30,701,31],[702,0,702,4],[702,6,702,7],[702,8,702,9],[702,10,702,11],[702,12,702,13],[702,14,702,15],[702,16,702,17],[702,18,702,19],[702,20,702,21],[701,18,701,19],[701,20,701,21],[701,22,701,23],[701,24,701,25],[701,26,701,27],[701,28,701,29],[701,6,701,7],[701,8,701,9],[701,10,701,11],[701,12,701,13],[701,14,701,15],[701,16,701,17],[700,20,700,21],[700,22,700,23],[700,24,700,25],[700,26,700,27],[700,28,700,29],[700,30,700,31],[699,28,699,29],[699,30,699,31],[700,0,700,4],[700,6,700,7],[700,8,700,9],[700,10,700,11],[700,12,700,13],[700,14,700,15],[700,16,700,17],[700,18,700,19],[699,16,699,17],[699,18,699,19],[699,20,699,21],[699,22,699,23],[699,24,699,25],[699,26,699,27],[698,26,698,27],[698,28,698,29],[698,30,698,31],[699,0,699,1],[699,2,699,4],[699,6,699,7],[699,8,699,9],[699,10,699,11],[699,12,699,13],[699,14,699,15],[698,14,698,15],[698,16,698,17],[698,18,698,19],[698,20,698,21],[698,22,698,23],[698,24,698,25],[697,22,697,23],[697,24,697,25],[697,26,697,27],[697,28,697,29],[697,30,697,31],[698,0,698,4],[698,6,698,7],[698,8,698,9],[698,10,698,11],[698,12,698,13],[696,30,696,31],[697,0,697,4],[697,6,697,7],[697,8,697,9],[697,10,697,11],[697,12,697,13],[697,14,697,15],[697,16,697,17],[697,18,697,19],[697,20,697,21],[696,18,696,19],[696,20,696,21],[696,22,696,23],[696,24,696,25],[696,26,696,27],[696,28,696,29],[695,26,695,27],[695,28,695,29],[695,30,695,31],[696,0,696,4],[696,6,696,7],[696,8,696,9],[696,10,696,11],[696,12,696,13],[696,14,696,15],[696,16,696,17],[695,14,695,15],[695,16,695,17],[695,18,695,19],[695,20,695,21],[695,22,695,23],[695,24,695,25],[694,22,694,23],[694,24,694,25],[694,26,694,27],[694,28,694,29],[694,30,694,31],[695,0,695,5],[695,6,695,7],[695,8,695,9],[695,10,695,11],[695,12,695,13],[693,30,693,31],[694,1,694,5],[694,6,694,7],[694,8,694,9],[694,10,694,11],[694,12,694,13],[694,14,694,15],[694,16,694,17],[694,18,694,19],[694,20,694,21],[693,18,693,19],[693,20,693,21],[693,22,693,23],[693,24,693,25],[693,26,693,27],[693,28,693,29],[692,26,692,27],[692,28,692,29],[692,30,692,31],[693,1,693,5],[693,6,693,7],[693,8,693,9],[693,10,693,11],[693,12,693,13],[693,14,693,15],[693,16,693,17],[692,14,692,15],[692,16,692,17],[692,18,692,19],[692,20,692,21],[692,22,692,23],[692,24,692,25],[691,22,691,23],[691,24,691,25],[691,26,691,27],[691,28,691,29],[691,30,691,31],[692,1,692,5],[692,6,692,7],[692,8,692,9],[692,10,692,11],[692,12,692,13],[690,30,690,31],[691,1,691,5],[691,6,691,7],[691,8,691,9],[691,10,691,11],[691,12,691,13],[691,14,691,15],[691,16,691,17],[691,18,691,19],[691,20,691,21],[690,18,690,19],[690,20,690,21],[690,22,690,23],[690,24,690,25],[690,26,690,27],[690,28,690,29],[689,26,689,27],[689,28,689,29],[689,30,689,31],[690,0,690,5],[690,6,690,7],[690,8,690,9],[690,10,690,11],[690,12,690,13],[690,14,690,15],[690,16,690,17],[689,14,689,15],[689,16,689,17],[689,18,689,19],[689,20,689,21],[689,22,689,23],[689,24,689,25],[688,22,688,23],[688,24,688,25],[688,26,688,27],[688,28,688,29],[688,30,688,31],[689,0,689,5],[689,6,689,7],[689,8,689,9],[689,10,689,11],[689,12,689,13],[686,1,686,31],[688,0,688,5],[688,6,688,7],[688,8,688,9],[688,10,688,11],[688,12,688,13],[688,14,688,15],[688,16,688,17],[688,18,688,19],[688,20,688,21],[658,1,658,4],[658,5,658,6],[658,27,658,31],[683,30,683,31],[684,1,684,31],[685,1,685,31],[656,14,656,17],[656,19,656,22],[656,24,656,31],[657,3,657,6],[657,9,657,12],[657,14,657,17],[657,19,657,22],[657,24,657,31],[652,26,653,29],[652,30,653,31],[654,7,654,31],[655,1,655,6],[655,7,657,7],[655,9,655,12],[655,14,655,17],[656,1,656,2],[656,3,656,6],[656,9,656,12],[651,30,651,31],[652,0,653,0],[652,1,653,5],[652,6,653,7],[652,8,653,11],[652,12,653,13],[652,14,653,17],[652,18,653,19],[652,20,653,23],[652,24,653,25],[651,18,651,19],[651,20,651,21],[651,22,651,23],[651,24,651,25],[651,26,651,27],[651,28,651,29],[650,26,650,27],[650,28,650,29],[650,30,650,31],[651,1,651,5],[651,6,651,7],[651,8,651,9],[651,10,651,11],[651,12,651,13],[651,14,651,15],[651,16,651,17],[650,14,650,15],[650,16,650,17],[650,18,650,19],[650,20,650,21],[650,22,650,23],[650,24,650,25],[649,22,649,23],[649,24,649,25],[649,26,649,27],[649,28,649,29],[649,30,649,31],[650,1,650,5],[650,6,650,7],[650,8,650,9],[650,10,650,11],[650,12,650,13],[648,30,648,31],[649,1,649,5],[649,6,649,7],[649,8,649,9],[649,10,649,11],[649,12,649,13],[649,14,649,15],[649,16,649,17],[649,18,649,19],[649,20,649,21],[648,18,648,19],[648,20,648,21],[648,22,648,23],[648,24,648,25],[648,26,648,27],[648,28,648,29],[647,26,647,27],[647,28,647,29],[647,30,647,31],[648,1,648,4],[648,6,648,7],[648,8,648,9],[648,10,648,11],[648,12,648,13],[648,14,648,15],[648,16,648,17],[647,14,647,15],[647,16,647,17],[647,18,647,19],[647,20,647,21],[647,22,647,23],[647,24,647,25],[646,16,646,17],[646,18,646,19],[646,20,646,21],[646,22,646,23],[646,24,646,31],[647,1,647,5],[647,6,647,7],[647,8,647,9],[647,10,647,11],[647,12,647,13],[646,1,646,5],[646,6,646,7],[646,8,646,9],[646,10,646,11],[646,12,646,13],[646,14,646,15]],"merged_total":5220,"flags":["merged_cut"]}
[{"$f":"Labels!B164","v":"\nSélectionnez le mois désiré en un clic\n\n\n\n\nSélectionnez le mois à imprimer en un clic"}]
[{"$f":"Labels!B17 &B5","v":"Contrôle des heures de travail 2023"},null,null,null,null,null,null,null,null,null,null,null,null,null,null,null,null,null,null,null,null,null,null,null,null,null,null,null,null,null,null,null,2023,null,"Hilfstabelle",{"$f":"Labels!B77","v":"Jan"},{"$f":"Labels!B78","v":"Fév"},{"$f":"Labels!B79","v":"Mar"},{"$f":"Labels!B80","v":"Avr"},{"$f":"Labels!B81","v":"Mai"},{"$f":"Labels!B82","v":"Jun"},{"$f":"Labels!B83","v":"Jul"},{"$f":"Labels!B84","v":"Aoû"},{"$f":"Labels!B85","v":"Sep"},{"$f":"Labels!B86","v":"Oct"},{"$f":"Labels!B87","v":"Nov"},{"$f":"Labels!B88","v":"Déc"},{"$f":"Labels!B102","v":"Total"},null,"Legenden, Erklärungen & Meldungen"]
[{"$f":"Labels!B18","v":"Nom/Prénom"},{"$f":"Labels!B19","v":"Modèle Pierre"},null,null,null,null,null,null,null,null,null,null,null,null,null,null,null,null,null,null,null,null,null,null,null,null,null,null,null,null,null,null,null,null,{"$f":"Labels!B113","v":"ab"},{"$f":"AG835","v":0},{"$f":"AG860","v":0},{"$f":"AG885","v":0},{"$f":"AG910","v":0},{"$f":"AG935","v":0},{"$f":"AG960","v":0},{"$f":"AG985","v":0},{"$f":"AG1010","v":0},{"$f":"AG1035","v":0},{"$f":"AG1060","v":0},{"$f":"AG1085","v":0},{"$f":"AG1110","v":0},{"$f":"SUM(AJ3:AU3)","v":0}]
[{"$f":"Labels!B20","v":"Emploi %"},{"$f":"$AL$48","v":100},null,{"$f":"Labels!B89","v":"en janvier"},null,null,null,null,null,null,{"$f":"Labels!B22","v":"Solde année passée (+)"},null,null,null,null,null,null,null,null,null,{"$f":"Labels!B24","v":"Solde vacances année passée"},null,null,null,null,null,null,null,{"$f":"Labels!B26","v":"Heures"},null,null,null,null,null,{"$f":"Labels!B115","v":"va"},{"$f":"AG832","v":0},{"$f":"AG857","v":0},{"$f":"AG882","v":0},{"$f":"AG907","v":0},{"$f":"AG932","v":0},{"$f":"AG957","v":0},{"$f":"AG982","v":0},{"$f":"AG1007","v":0},{"$f":"AG1032","v":0},{"$f":"AG1057","v":0},{"$f":"AG1082","v":0},{"$f":"AG1107","v":0},0,null,"Legende Stunden zu Zuschläge (DE)"]
[{"$f":"Labels!B21","v":"Solde année en cours"},{"$f":"AG2","v":2023},null,{"$f":"IF($AE$66=0,0,$AE$66)","v":-2080},null,null,null,null,null,null,{"$f":"Labels!B23","v":"Solde année passée (-)"},null,null,null,null,null,null,null,null,null,{"$f":"Labels!B25","v":"Vacances selon art. 12.1. CCT"},null,null,null,null,null,0,null,{"$f":"Labels!B26","v":"Heures"},null,null,null,null,null,{"$f":"Labels!B120","v":"ma"},{"$f":"AG836","v":0},{"$f":"AG861","v":0},{"$f":"AG886","v":0},{"$f":"AG911","v":0},{"$f":"AG936","v":0},{"$f":"AG961","v":0},{"$f":"AG986","v":0},{"$f":"AG1011","v":0},{"$f":"AG1036","v":0},{"$f":"AG1061","v":0},{"$f":"AG1086","v":0},{"$f":"AG1111","v":0},0]
[null,null,null,null,null,null,null,null,null,null,null,null,null,null,null,null,null,null,null,null,null,null,null,null,null,null,null,null,null,null,null,null,null,null,{"$f":"Labels!B122","v":"ac"},0,0,0,0,0,0,0,0,0,0,0,0,0,null,"[00]","Sollstunden (Wochentage MO-FR)"]
[{"$f":"IF(ISERROR(DATEVALUE(TEXT(\"01.01.\"&B5,\"TT.MM.JJ\"))),\"01/01/\"&B5,\"01.01.\"&B5)","v":"01.01.2023"},48,{"$f":"Labels!B27","v":"max heures / semain  CCT"},null,null,null,null,null,null,8,{"$f":"Labels!B28","v":"heures/jour  CCT"},null,null,null,null,{"$f":"IF(MOD(YEAR($A$7),400)=0,\"n\",IF(MOD(YEAR($A$7),100)=0,\"n\",IF(MOD(YEAR($A$7),4)=0,\"j\",\"n\")))","v":"n"},{"$f":"Labels!B29","v":"Année bissextile (j/n)"},null,null,null,{"$f":"NETWORKDAYS(DATE(B5,1,1),DATE(B5,12,31))","v":260},{"$f":"Labels!B30","v":"jours ouvrables (année)"},null,null,null,{"$f":"J7*U7","v":2080},{"$f":"Labels!B31","v":"brut annuel d'heures"},null,null,null,null,null,null,null,{"$f":"Labels!B124","v":"gm"},0,0,0,0,0,0,0,0,0,0,0,0,0,null,"[01]","Unproduktive Stunden (Feiertag, Absenzen)"]
[null,null,null,null,null,null,null,null,null,null,null,null,null,null,null,null,null,null,null,null,null,null,null,null,null,null,null,null,null,null,null,null,null,null,{"$f":"Labels!B126","v":"mi"},0,0,0,0,0,0,0,0,0,0,0,0,0,null,"[02]","Karenztage (in Minusstunden)"]
[{"$f":"TEXT(AP29,\"MMMM\"&Labels!B13)","v":"janvier"},{"$f":"Labels!B32","v":"Solde mois + / -"},null,null,null,{"$f":"(AG12-(SUM(AG13:AG27)-AE34))*-1","v":-176},null,null,null,null,{"$f":"Labels!B33","v":" = "},{"$f":"Labels!B34","v":"Les cases marquées en jaune doivent être remplies (les autres seront calculées automatiquement)"},null,null,null,null,null,null,null,null,null,null,null,null,null,null,null,null,null,null,null,null,null,null,{"$f":"Labels!B130","v":"ep"},0,0,0,0,0,0,0,0,0,0,0,0,0,null,"[03]","Produktive Stunden Tag 06.00-20.00 Uhr"]
[{"$f":"Labels!B35","v":"Jour"},{"$f":"AP29","v":"2023-01-01"},{"$f":"B10+1","v":"2023-01-02"},"2023-01-03","2023-01-04","2023-01-05","2023-01-06","2023-01-07","2023-01-08","2023-01-09","2023-01-10","2023-01-11","2023-01-12","2023-01-13","2023-01-14","2023-01-15","2023-01-16","2023-01-17","2023-01-18","2023-01-19","2023-01-20","2023-01-21","2023-01-22","2023-01-23","2023-01-24","2023-01-25","2023-01-26","2023-01-27","2023-01-28","2023-01-29","2023-01-30","2023-01-31",{"$f":"COUNT(B12:AF12)&\" \"&Labels!$B$63","v":"22 Jours"},null,{"$f":"Labels!B132","v":"co"},0,0,0,0,0,0,0,0,0,0,0,0,0,null,"[04]","Produktive Stunden Nacht  00.00-06.00 Uhr"]
[{"$f":"Labels!B36","v":"semaine civile"},{"$f":"IF(B10=\"\",\"\",TRUNC((B10-DATE(YEAR(B10+3-MOD(B10-2,7)),1,MOD(B10-2,7)-9))/7))","v":52},{"$f":"IF(C10=\"\",\"\",TRUNC((C10-DATE(YEAR(C10+3-MOD(C10-2,7)),1,MOD(C10-2,7)-9))/7))","v":1},1,1,1,1,1,1,2,2,2,2,2,2,2,3,3,3,3,3,3,3,4,4,4,4,4,4,4,5,5,null,"Woche",{"$f":"Labels!B128","v":"ch"},0,0,0,0,0,0,0,0,0,0,0,0,0,null,"[05]","Produktive Stunden Nacht  20.00-00.00 Uhr"]
[{"$f":"Labels!B37","v":"Théorique sel. CCT"},{"$f":"IF(AND(MOD(B10,7)>=2,SUMPRODUCT(($AM$60:$AQ$60=MOD(B10,7))*$AM$48:$AQ$48),B829=\"\"),$J$7*SUMPRODUCT(($AM$77:$AQ$77=MOD(B10,7))*$AM$65:$AQ$65)%,\"\")","v":""},{"$f":"IF(AND(MOD(C10,7)>=2,SUMPRODUCT(($AM$60:$AQ$60=MOD(C10,7))*$AM$48:$AQ$48),C829=\"\"),$J$7*SUMPRODUCT(($AM$77:$AQ$77=MOD(C10,7))*$AM$65:$AQ$65)%,\"\")","v":8},{"$f":"IF(AND(MOD(D10,7)>=2,SUMPRODUCT(($AM$60:$AQ$60=MOD(D10,7))*$AM$48:$AQ$48),D829=\"\"),$J$7*SUMPRODUCT(($AM$77:$AQ$77=MOD(D10,7))*$AM$65:$AQ$65)%,\"\")","v":8},{"$f":"IF(AND(MOD(E10,7)>=2,SUMPRODUCT(($AM$60:$AQ$60=MOD(E10,7))*$AM$48:$AQ$48),E829=\"\"),$J$7*SUMPRODUCT(($AM$77:$AQ$77=MOD(E10,7))*$AM$65:$AQ$65)%,\"\")","v":8},{"$f":"IF(AND(MOD(F10,7)>=2,SUMPRODUCT(($AM$60:$AQ$60=MOD(F10,7))*$AM$48:$AQ$48),F829=\"\"),$J$7*SUMPRODUCT(($AM$77:$AQ$77=MOD(F10,7))*$AM$65:$AQ$65)%,\"\")","v":8},{"$f":"IF(AND(MOD(G10,7)>=2,SUMPRODUCT(($AM$60:$AQ$60=MOD(G10,7))*$AM$48:$AQ$48),G829=\"\"),$J$7*SUMPRODUCT(($AM$77:$AQ$77=MOD(G10,7))*$AM$65:$AQ$65)%,\"\")","v":8},{"$f":"IF(AND(MOD(H10,7)>=2,SUMPRODUCT(($AM$60:$AQ$60=MOD(H10,7))*$AM$48:$AQ$48),H829=\"\"),$J$7*SUMPRODUCT(($AM$77:$AQ$77=MOD(H10,7))*$AM$65:$AQ$65)%,\"\")","v":""},{"$f":"IF(AND(MOD(I10,7)>=2,SUMPRODUCT(($AM$60:$AQ$60=MOD(I10,7))*$AM$48:$AQ$48),I829=\"\"),$J$7*SUMPRODUCT(($AM$77:$AQ$77=MOD(I10,7))*$AM$65:$AQ$65)%,\"\")","v":""},{"$f":"IF(AND(MOD(J10,7)>=2,SUMPRODUCT(($AM$60:$AQ$60=MOD(J10,7))*$AM$48:$AQ$48),J829=\"\"),$J$7*SUMPRODUCT(($AM$77:$AQ$77=MOD(J10,7))*$AM$65:$AQ$65)%,\"\")","v":8},{"$f":"IF(AND(MOD(K10,7)>=2,SUMPRODUCT(($AM$60:$AQ$60=MOD(K10,7))*$AM$48:$AQ$48),K829=\"\"),$J$7*SUMPRODUCT(($AM$77:$AQ$77=MOD(K10,7))*$AM$65:$AQ$65)%,\"\")","v":8},{"$f":"IF(AND(MOD(L10,7)>=2,SUMPRODUCT(($AM$60:$AQ$60=MOD(L10,7))*$AM$48:$AQ$48),L829=\"\"),$J$7*SUMPRODUCT(($AM$77:$AQ$77=MOD(L10,7))*$AM$65:$AQ$65)%,\"\")","v":8},{"$f":"IF(AND(MOD(M10,7)>=2,SUMPRODUCT(($AM$60:$AQ$60=MOD(M10,7))*$AM$48:$AQ$48),M829=\"\"),$J$7*SUMPRODUCT(($AM$77:$AQ$77=MOD(M10,7))*$AM$65:$AQ$65)%,\"\")","v":8},{"$f":"IF(AND(MOD(N10,7)>=2,SUMPRODUCT(($AM$60:$AQ$60=MOD(N10,7))*$AM$48:$AQ$48),N829=\"\"),$J$7*SUMPRODUCT(($AM$77:$AQ$77=MOD(N10,7))*$AM$65:$AQ$65)%,\"\")","v":8},{"$f":"IF(AND(MOD(O10,7)>=2,SUMPRODUCT(($AM$60:$AQ$60=MOD(O10,7))*$AM$48:$AQ$48),O829=\"\"),$J$7*SUMPRODUCT(($AM$77:$AQ$77=MOD(O10,7))*$AM$65:$AQ$65)%,\"\")","v":""},{"$f":"IF(AND(MOD(P10,7)>=2,SUMPRODUCT(($AM$60:$AQ$60=MOD(P10,7))*$AM$48:$AQ$48),P829=\"\"),$J$7*SUMPRODUCT(($AM$77:$AQ$77=MOD(P10,7))*$AM$65:$AQ$65)%,\"\")","v":""},{"$f":"IF(AND(MOD(Q10,7)>=2,SUMPRODUCT(($AM$60:$AQ$60=MOD(Q10,7))*$AM$48:$AQ$48),Q829=\"\"),$J$7*SUMPRODUCT(($AM$77:$AQ$77=MOD(Q10,7))*$AM$65:$AQ$65)%,\"\")","v":8},{"$f":"IF(AND(MOD(R10,7)>=2,SUMPRODUCT(($AM$60:$AQ$60=MOD(R10,7))*$AM$48:$AQ$48),R829=\"\"),$J$7*SUMPRODUCT(($AM$77:$AQ$77=MOD(R10,7))*$AM$65:$AQ$65)%,\"\")","v":8},{"$f":"IF(AND(MOD(S10,7)>=2,SUMPRODUCT(($AM$60:$AQ$60=MOD(S10,7))*$AM$48:$AQ$48),S829=\"\"),$J$7*SUMPRODUCT(($AM$77:$AQ$77=MOD(S10,7))*$AM$65:$AQ$65)%,\"\")","v":8},{"$f":"IF(AND(MOD(T10,7)>=2,SUMPRODUCT(($AM$60:$AQ$60=MOD(T10,7))*$AM$48:$AQ$48),T829=\"\"),$J$7*SUMPRODUCT(($AM$77:$AQ$77=MOD(T10,7))*$AM$65:$AQ$65)%,\"\")","v":8},{"$f":"IF(AND(MOD(U10,7)>=2,SUMPRODUCT(($AM$60:$AQ$60=MOD(U10,7))*$AM$48:$AQ$48),U829=\"\"),$J$7*SUMPRODUCT(($AM$77:$AQ$77=MOD(U10,7))*$AM$65:$AQ$65)%,\"\")","v":8},{"$f":"IF(AND(MOD(V10,7)>=2,SUMPRODUCT(($AM$60:$AQ$60=MOD(V10,7))*$AM$48:$AQ$48),V829=\"\"),$J$7*SUMPRODUCT(($AM$77:$AQ$77=MOD(V10,7))*$AM$65:$AQ$65)%,\"\")","v":""},{"$f":"IF(AND(MOD(W10,7)>=2,SUMPRODUCT(($AM$60:$AQ$60=MOD(W10,7))*$AM$48:$AQ$48),W829=\"\"),$J$7*SUMPRODUCT(($AM$77:$AQ$77=MOD(W10,7))*$AM$65:$AQ$65)%,\"\")","v":""},{"$f":"IF(AND(MOD(X10,7)>=2,SUMPRODUCT(($AM$60:$AQ$60=MOD(X10,7))*$AM$48:$AQ$48),X829=\"\"),$J$7*SUMPRODUCT(($AM$77:$AQ$77=MOD(X10,7))*$AM$65:$AQ$65)%,\"\")","v":8},{"$f":"IF(AND(MOD(Y10,7)>=2,SUMPRODUCT(($AM$60:$AQ$60=MOD(Y10,7))*$AM$48:$AQ$48),Y829=\"\"),$J$7*SUMPRODUCT(($AM$77:$AQ$77=MOD(Y10,7))*$AM$65:$AQ$65)%,\"\")","v":8},{"$f":"IF(AND(MOD(Z10,7)>=2,SUMPRODUCT(($AM$60:$AQ$60=MOD(Z10,7))*$AM$48:$AQ$48),Z829=\"\"),$J$7*SUMPRODUCT(($AM$77:$AQ$77=MOD(Z10,7))*$AM$65:$AQ$65)%,\"\")","v":8},{"$f":"IF(AND(MOD(AA10,7)>=2,SUMPRODUCT(($AM$60:$AQ$60=MOD(AA10,7))*$AM$48:$AQ$48),AA829=\"\"),$J$7*SUMPRODUCT(($AM$77:$AQ$77=MOD(AA10,7))*$AM$65:$AQ$65)%,\"\")","v":8},{"$f":"IF(AND(MOD(AB10,7)>=2,SUMPRODUCT(($AM$60:$AQ$60=MOD(AB10,7))*$AM$48:$AQ$48),AB829=\"\"),$J$7*SUMPRODUCT(($AM$77:$AQ$77=MOD(AB10,7))*$AM$65:$AQ$65)%,\"\")","v":8},{"$f":"IF(AND(MOD(AC10,7)>=2,SUMPRODUCT(($AM$60:$AQ$60=MOD(AC10,7))*$AM$48:$AQ$48),AC829=\"\"),$J$7*SUMPRODUCT(($AM$77:$AQ$77=MOD(AC10,7))*$AM$65:$AQ$65)%,\"\")","v":""},{"$f":"IF(AND(MOD(AD10,7)>=2,SUMPRODUCT(($AM$60:$AQ$60=MOD(AD10,7))*$AM$48:$AQ$48),AD829=\"\"),$J$7*SUMPRODUCT(($AM$77:$AQ$77=MOD(AD10,7))*$AM$65:$AQ$65)%,\"\")","v":""},{"$f":"IF(AND(MOD(AE10,7)>=2,SUMPRODUCT(($AM$60:$AQ$60=MOD(AE10,7))*$AM$48:$AQ$48),AE829=\"\"),$J$7*SUMPRODUCT(($AM$77:$AQ$77=MOD(AE10,7))*$AM$65:$AQ$65)%,\"\")","v":8},{"$f":"IF(AND(MOD(AF10,7)>=2,SUMPRODUCT(($AM$60:$AQ$60=MOD(AF10,7))*$AM$48:$AQ$48),AF829=\"\"),$J$7*SUMPRODUCT(($AM$77:$AQ$77=MOD(AF10,7))*$AM$65:$AQ$65)%,\"\")","v":8},{"$f":"SUM(B12:AF12)","v":176},"[00]",{"$f":"Labels!B135","v":"cp"},{"$f":"AG833","v":0},{"$f":"AG858","v":0},{"$f":"AG883","v":0},{"$f":"AG908","v":0},{"$f":"AG933","v":0},{"$f":"AG958","v":0},{"$f":"AG983","v":0},{"$f":"AG1008","v":0},{"$f":"AG1033","v":0},{"$f":"AG1058","v":0},{"$f":"AG1083","v":0},{"$f":"AG1108","v":0},{"$f":"SUM(AJ12:AU12)","v":0},null,"[06]","Feiertagszuschläge gemäss Anstellungsprozent"]
[{"$f":"Labels!B38","v":"Absences"},{"$f":"B845","v":0},0,0,0,0,0,0,0,0,0,0,0,0,0,0,0,0,0,0,0,0,0,0,0,0,0,0,0,0,0,0,{"$f":"SUM($AJ$3:$AJ$13)","v":0},"[01]",{"$f":"Labels!B180","v":"vn"},{"$f":"AG843","v":0},{"$f":"AG868","v":0},{"$f":"AG893","v":0},{"$f":"AG918","v":0},{"$f":"AG943","v":0},{"$f":"AG968","v":0},{"$f":"AG993","v":0},{"$f":"AG1018","v":0},{"$f":"AG1043","v":0},{"$f":"AG1068","v":0},{"$f":"AG1093","v":0},{"$f":"AG1118","v":0},0,null,"[07]","Zeitzuschlag 1 - Überschreitung Höchstarbeitszeit"]
[{"$f":"Labels!B39","v":"Code"},{"$f":"IF(SUM(B832:B844)<>0,IF(MAX(B832:B844)<B845,Labels!$B$163,INDEX($AH$832:$AH$844,MATCH(MAX(B832:B844),B832:B844,0))),\"\")","v":""},{"$f":"IF(SUM(C832:C844)<>0,IF(MAX(C832:C844)<C845,Labels!$B$163,INDEX($AH$832:$AH$844,MATCH(MAX(C832:C844),C832:C844,0))),\"\")","v":""},{"$f":"IF(SUM(D832:D844)<>0,IF(MAX(D832:D844)<D845,Labels!$B$163,INDEX($AH$832:$AH$844,MATCH(MAX(D832:D844),D832:D844,0))),\"\")","v":""},{"$f":"IF(SUM(E832:E844)<>0,IF(MAX(E832:E844)<E845,Labels!$B$163,INDEX($AH$832:$AH$844,MATCH(MAX(E832:E844),E832:E844,0))),\"\")","v":""},{"$f":"IF(SUM(F832:F844)<>0,IF(MAX(F832:F844)<F845,Labels!$B$163,INDEX($AH$832:$AH$844,MATCH(MAX(F832:F844),F832:F844,0))),\"\")","v":""},{"$f":"IF(SUM(G832:G844)<>0,IF(MAX(G832:G844)<G845,Labels!$B$163,INDEX($AH$832:$AH$844,MATCH(MAX(G832:G844),G832:G844,0))),\"\")","v":""},{"$f":"IF(SUM(H832:H844)<>0,IF(MAX(H832:H844)<H845,Labels!$B$163,INDEX($AH$832:$AH$844,MATCH(MAX(H832:H844),H832:H844,0))),\"\")","v":""},{"$f":"IF(SUM(I832:I844)<>0,IF(MAX(I832:I844)<I845,Labels!$B$163,INDEX($AH$832:$AH$844,MATCH(MAX(I832:I844),I832:I844,0))),\"\")","v":""},{"$f":"IF(SUM(J832:J844)<>0,IF(MAX(J832:J844)<J845,Labels!$B$163,INDEX($AH$832:$AH$844,MATCH(MAX(J832:J844),J832:J844,0))),\"\")","v":""},{"$f":"IF(SUM(K832:K844)<>0,IF(MAX(K832:K844)<K845,Labels!$B$163,INDEX($AH$832:$AH$844,MATCH(MAX(K832:K844),K832:K844,0))),\"\")","v":""},{"$f":"IF(SUM(L832:L844)<>0,IF(MAX(L832:L844)<L845,Labels!$B$163,INDEX($AH$832:$AH$844,MATCH(MAX(L832:L844),L832:L844,0))),\"\")","v":""},{"$f":"IF(SUM(M832:M844)<>0,IF(MAX(M832:M844)<M845,Labels!$B$163,INDEX($AH$832:$AH$844,MATCH(MAX(M832:M844),M832:M844,0))),\"\")","v":""},{"$f":"IF(SUM(N832:N844)<>0,IF(MAX(N832:N844)<N845,Labels!$B$163,INDEX($AH$832:$AH$844,MATCH(MAX(N832:N844),N832:N844,0))),\"\")","v":""},{"$f":"IF(SUM(O832:O844)<>0,IF(MAX(O832:O844)<O845,Labels!$B$163,INDEX($AH$832:$AH$844,MATCH(MAX(O832:O844),O832:O844,0))),\"\")","v":""},{"$f":"IF(SUM(P832:P844)<>0,IF(MAX(P832:P844)<P845,Labels!$B$163,INDEX($AH$832:$AH$844,MATCH(MAX(P832:P844),P832:P844,0))),\"\")","v":""},{"$f":"IF(SUM(Q832:Q844)<>0,IF(MAX(Q832:Q844)<Q845,Labels!$B$163,INDEX($AH$832:$AH$844,MATCH(MAX(Q832:Q844),Q832:Q844,0))),\"\")","v":""},{"$f":"IF(SUM(R832:R844)<>0,IF(MAX(R832:R844)<R845,Labels!$B$163,INDEX($AH$832:$AH$844,MATCH(MAX(R832:R844),R832:R844,0))),\"\")","v":""},{"$f":"IF(SUM(S832:S844)<>0,IF(MAX(S832:S844)<S845,Labels!$B$163,INDEX($AH$832:$AH$844,MATCH(MAX(S832:S844),S832:S844,0))),\"\")","v":""},{"$f":"IF(SUM(T832:T844)<>0,IF(MAX(T832:T844)<T845,Labels!$B$163,INDEX($AH$832:$AH$844,MATCH(MAX(T832:T844),T832:T844,0))),\"\")","v":""},{"$f":"IF(SUM(U832:U844)<>0,IF(MAX(U832:U844)<U845,Labels!$B$163,INDEX($AH$832:$AH$844,MATCH(MAX(U832:U844),U832:U844,0))),\"\")","v":""},{"$f":"IF(SUM(V832:V844)<>0,IF(MAX(V832:V844)<V845,Labels!$B$163,INDEX($AH$832:$AH$844,MATCH(MAX(V832:V844),V832:V844,0))),\"\")","v":""},{"$f":"IF(SUM(W832:W844)<>0,IF(MAX(W832:W844)<W845,Labels!$B$163,INDEX($AH$832:$AH$844,MATCH(MAX(W832:W844),W832:W844,0))),\"\")","v":""},{"$f":"IF(SUM(X832:X844)<>0,IF(MAX(X832:X844)<X845,Labels!$B$163,INDEX($AH$832:$AH$844,MATCH(MAX(X832:X844),X832:X844,0))),\"\")","v":""},{"$f":"IF(SUM(Y832:Y844)<>0,IF(MAX(Y832:Y844)<Y845,Labels!$B$163,INDEX($AH$832:$AH$844,MATCH(MAX(Y832:Y844),Y832:Y844,0))),\"\")","v":""},{"$f":"IF(SUM(Z832:Z844)<>0,IF(MAX(Z832:Z844)<Z845,Labels!$B$163,INDEX($AH$832:$AH$844,MATCH(MAX(Z832:Z844),Z832:Z844,0))),\"\")","v":""},{"$f":"IF(SUM(AA832:AA844)<>0,IF(MAX(AA832:AA844)<AA845,Labels!$B$163,INDEX($AH$832:$AH$844,MATCH(MAX(AA832:AA844),AA832:AA844,0))),\"\")","v":""},{"$f":"IF(SUM(AB832:AB844)<>0,IF(MAX(AB832:AB844)<AB845,Labels!$B$163,INDEX($AH$832:$AH$844,MATCH(MAX(AB832:AB844),AB832:AB844,0))),\"\")","v":""},{"$f":"IF(SUM(AC832:AC844)<>0,IF(MAX(AC832:AC844)<AC845,Labels!$B$163,INDEX($AH$832:$AH$844,MATCH(MAX(AC832:AC844),AC832:AC844,0))),\"\")","v":""},{"$f":"IF(SUM(AD832:AD844)<>0,IF(MAX(AD832:AD844)<AD845,Labels!$B$163,INDEX($AH$832:$AH$844,MATCH(MAX(AD832:AD844),AD832:AD844,0))),\"\")","v":""},{"$f":"IF(SUM(AE832:AE844)<>0,IF(MAX(AE832:AE844)<AE845,Labels!$B$163,INDEX($AH$832:$AH$844,MATCH(MAX(AE832:AE844),AE832:AE844,0))),\"\")","v":""},{"$f":"IF(SUM(AF832:AF844)<>0,IF(MAX(AF832:AF844)<AF845,Labels!$B$163,INDEX($AH$832:$AH$844,MATCH(MAX(AF832:AF844),AF832:AF844,0))),\"\")","v":""},{"$f":"$AJ$16*-1","v":0},"[02]",{"$f":"Labels!B145","v":"hm"},{"$f":"AG844","v":0},{"$f":"AG869","v":0},{"$f":"AG894","v":0},{"$f":"AG919","v":0},{"$f":"AG944","v":0},{"$f":"AG969","v":0},{"$f":"AG994","v":0},{"$f":"AG1019","v":0},{"$f":"AG1044","v":0},{"$f":"AG1069","v":0},{"$f":"AG1094","v":0},{"$f":"AG1119","v":0},0,null,"[08]","Zeitzuschlag 2 - Nachtarbeit"]
[{"$f":"Labels!B40","v":"00h00-06h00 1)"},null,null,null,null,null,null,null,null,null,null,null,null,null,null,null,null,null,null,null,null,null,null,null,null,null,null,null,null,null,null,null,{"$f":"SUM(B15:AF15)","v":0},"[04]",{"$f":"Labels!B137","v":"cc"},{"$f":"AG834","v":0},{"$f":"AG859","v":0},{"$f":"AG884","v":0},{"$f":"AG909","v":0},{"$f":"AG934","v":0},{"$f":"AG959","v":0},{"$f":"AG984","v":0},{"$f":"AG1009","v":0},{"$f":"AG1034","v":0},{"$f":"AG1059","v":0},{"$f":"AG1084","v":0},{"$f":"AG1109","v":0},0,null,"[09]","Zeitzuschlag 3 - Sonn- und Feiertagsarbeit (Tag und Nacht)"]
[{"$f":"Labels!B41","v":"06h00-20h00 2)"},null,null,null,null,null,null,null,null,null,null,null,null,null,null,null,null,null,null,null,null,null,null,null,null,null,null,null,null,null,null,null,{"$f":"SUM(B16:AF16)","v":0},"[03]","Karenztage",{"$f":"SUMPRODUCT((B830:AF830=\"x\")*B836:AF836)","v":0},{"$f":"SUMPRODUCT((B855:AF855=\"x\")*B861:AF861)","v":0},{"$f":"SUMPRODUCT((B880:AF880=\"x\")*B886:AF886)","v":0},{"$f":"SUMPRODUCT((B905:AF905=\"x\")*B911:AF911)","v":0},{"$f":"SUMPRODUCT((B930:AF930=\"x\")*B936:AF936)","v":0},{"$f":"SUMPRODUCT((B955:AF955=\"x\")*B961:AF961)","v":0},{"$f":"SUMPRODUCT((B980:AF980=\"x\")*B986:AF986)","v":0},{"$f":"SUMPRODUCT((B1005:AF1005=\"x\")*B1011:AF1011)","v":0},{"$f":"SUMPRODUCT((B1030:AF1030=\"x\")*B1036:AF1036)","v":0},{"$f":"SUMPRODUCT((B1055:AF1055=\"x\")*B1061:AF1061)","v":0},{"$f":"SUMPRODUCT((B1080:AF1080=\"x\")*B1086:AF1086)","v":0},{"$f":"SUMPRODUCT((B1105:AF1105=\"x\")*B1111:AF1111)","v":0},0,null,"[10]","Total  gearbeitete Std. im Monat mit Zeitzuschlägen und Absenzen (ohne Berücks. ausbez. Std)"]
[{"$f":"Labels!B42","v":"20h00-24h00 3)"},null,null,null,null,null,null,null,null,null,null,null,null,null,null,null,null,null,null,null,null,null,null,null,null,null,null,null,null,null,null,null,{"$f":"SUM(B17:AF17)","v":0},"[05]","Anz Karenztage",{"$f":"AG830","v":0},{"$f":"AG855","v":0},{"$f":"AG880","v":0},{"$f":"AG905","v":0},{"$f":"AG930","v":0},{"$f":"AG955","v":0},{"$f":"AG980","v":0},{"$f":"AG1005","v":0},{"$f":"AG1030","v":0},{"$f":"AG1055","v":0},{"$f":"AG1080","v":0},{"$f":"AG1105","v":0},0,null,"[11]","Saldo (ohne ausbez. Std.)"]
[{"$f":"Labels!B43","v":"Jours fériés \"jf\""},{"$f":"IF(WEEKDAY(B10,2)<=6,IF(CALENDRIER!E3=\"x\",Labels!$B$118,\"\"),\"\")","v":""},{"$f":"IF(WEEKDAY(C10,2)<=6,IF(CALENDRIER!F3=\"x\",Labels!$B$118,\"\"),\"\")","v":""},{"$f":"IF(WEEKDAY(D10,2)<=6,IF(CALENDRIER!G3=\"x\",Labels!$B$118,\"\"),\"\")","v":""},{"$f":"IF(WEEKDAY(E10,2)<=6,IF(CALENDRIER!H3=\"x\",Labels!$B$118,\"\"),\"\")","v":""},{"$f":"IF(WEEKDAY(F10,2)<=6,IF(CALENDRIER!I3=\"x\",Labels!$B$118,\"\"),\"\")","v":""},{"$f":"IF(WEEKDAY(G10,2)<=6,IF(CALENDRIER!J3=\"x\",Labels!$B$118,\"\"),\"\")","v":""},{"$f":"IF(WEEKDAY(H10,2)<=6,IF(CALENDRIER!K3=\"x\",Labels!$B$118,\"\"),\"\")","v":""},{"$f":"IF(WEEKDAY(I10,2)<=6,IF(CALENDRIER!L3=\"x\",Labels!$B$118,\"\"),\"\")","v":""},{"$f":"IF(WEEKDAY(J10,2)<=6,IF(CALENDRIER!M3=\"x\",Labels!$B$118,\"\"),\"\")","v":""},{"$f":"IF(WEEKDAY(K10,2)<=6,IF(CALENDRIER!N3=\"x\",Labels!$B$118,\"\"),\"\")","v":""},{"$f":"IF(WEEKDAY(L10,2)<=6,IF(CALENDRIER!O3=\"x\",Labels!$B$118,\"\"),\"\")","v":""},{"$f":"IF(WEEKDAY(M10,2)<=6,IF(CALENDRIER!P3=\"x\",Labels!$B$118,\"\"),\"\")","v":""},{"$f":"IF(WEEKDAY(N10,2)<=6,IF(CALENDRIER!Q3=\"x\",Labels!$B$118,\"\"),\"\")","v":""},{"$f":"IF(WEEKDAY(O10,2)<=6,IF(CALENDRIER!R3=\"x\",Labels!$B$118,\"\"),\"\")","v":""},{"$f":"IF(WEEKDAY(P10,2)<=6,IF(CALENDRIER!S3=\"x\",Labels!$B$118,\"\"),\"\")","v":""},{"$f":"IF(WEEKDAY(Q10,2)<=6,IF(CALENDRIER!T3=\"x\",Labels!$B$118,\"\"),\"\")","v":""},{"$f":"IF(WEEKDAY(R10,2)<=6,IF(CALENDRIER!U3=\"x\",Labels!$B$118,\"\"),\"\")","v":""},{"$f":"IF(WEEKDAY(S10,2)<=6,IF(CALENDRIER!V3=\"x\",Labels!$B$118,\"\"),\"\")","v":""},{"$f":"IF(WEEKDAY(T10,2)<=6,IF(CALENDRIER!W3=\"x\",Labels!$B$118,\"\"),\"\")","v":""},{"$f":"IF(WEEKDAY(U10,2)<=6,IF(CALENDRIER!X3=\"x\",Labels!$B$118,\"\"),\"\")","v":""},{"$f":"IF(WEEKDAY(V10,2)<=6,IF(CALENDRIER!Y3=\"x\",Labels!$B$118,\"\"),\"\")","v":""},{"$f":"IF(WEEKDAY(W10,2)<=6,IF(CALENDRIER!Z3=\"x\",Labels!$B$118,\"\"),\"\")","v":""},{"$f":"IF(WEEKDAY(X10,2)<=6,IF(CALENDRIER!AA3=\"x\",Labels!$B$118,\"\"),\"\")","v":""},{"$f":"IF(WEEKDAY(Y10,2)<=6,IF(CALENDRIER!AB3=\"x\",Labels!$B$118,\"\"),\"\")","v":""},{"$f":"IF(WEEKDAY(Z10,2)<=6,IF(CALENDRIER!AC3=\"x\",Labels!$B$118,\"\"),\"\")","v":""},{"$f":"IF(WEEKDAY(AA10,2)<=6,IF(CALENDRIER!AD3=\"x\",Labels!$B$118,\"\"),\"\")","v":""},{"$f":"IF(WEEKDAY(AB10,2)<=6,IF(CALENDRIER!AE3=\"x\",Labels!$B$118,\"\"),\"\")","v":""},{"$f":"IF(WEEKDAY(AC10,2)<=6,IF(CALENDRIER!AF3=\"x\",Labels!$B$118,\"\"),\"\")","v":""},{"$f":"IF(WEEKDAY(AD10,2)<=6,IF(CALENDRIER!AG3=\"x\",Labels!$B$118,\"\"),\"\")","v":""},{"$f":"IF(WEEKDAY(AE10,2)<=6,IF(CALENDRIER!AH3=\"x\",Labels!$B$118,\"\"),\"\")","v":""},{"$f":"IF(WEEKDAY(AF10,2)<=6,IF(CALENDRIER!AI3=\"x\",Labels!$B$118,\"\"),\"\")","v":""},null,"FT",{"$f":"Labels!B118","v":"jf"},{"$f":"SUMIF($B$18:$AF$18,$AI$18,$B$19:$AF$19)","v":0},{"$f":"SUMIF($B$83:$AD$83,$AI$18,$B$84:$AD$84)","v":0},{"$f":"SUMIF($B$148:$AF$148,$AI$18,$B$149:$AF$149)","v":0},{"$f":"SUMIF($B$213:$AE$213,$AI$18,$B$214:$AE$214)","v":0},{"$f":"SUMIF($B$278:$AF$278,$AI$18,$B$279:$AF$279)","v":0},{"$f":"SUMIF($B$343:$AE$343,$AI$18,$B$344:$AE$344)","v":0},{"$f":"SUMIF($B$408:$AF$408,$AI$18,$B$409:$AF$409)","v":0},{"$f":"SUMIF($B$473:$AF$473,$AI$18,$B$474:$AF$474)","v":0},{"$f":"SUMIF($B$538:$AE$538,$AI$18,$B$539:$AE$539)","v":0},{"$f":"SUMIF($B$603:$AF$603,$AI$18,$B$604:$AF$604)","v":0},{"$f":"SUMIF($B$668:$AE$668,$AI$18,$B$669:$AE$669)","v":0},{"$f":"SUMIF($B$733:$AF$733,$AI$18,$B$734:$AF$734)","v":0},{"$f":"SUM(AJ18:AU18)","v":0}]
[{"$f":"Labels!B44","v":"Majoration  \"jf\""},{"$f":"IF(AND(B18=Labels!$B$118,WEEKDAY(B10,2)<6,B$12<>\"\"),$J$7*SUMPRODUCT(($AM$77:$AQ$77=MOD(B10,7))*$AM$65:$AQ$65)%,\"\")","v":""},{"$f":"IF(AND(C18=Labels!$B$118,WEEKDAY(C10,2)<6,C$12<>\"\"),$J$7*SUMPRODUCT(($AM$77:$AQ$77=MOD(C10,7))*$AM$65:$AQ$65)%,\"\")","v":""},{"$f":"IF(AND(D18=Labels!$B$118,WEEKDAY(D10,2)<6,D$12<>\"\"),$J$7*SUMPRODUCT(($AM$77:$AQ$77=MOD(D10,7))*$AM$65:$AQ$65)%,\"\")","v":""},{"$f":"IF(AND(E18=Labels!$B$118,WEEKDAY(E10,2)<6,E$12<>\"\"),$J$7*SUMPRODUCT(($AM$77:$AQ$77=MOD(E10,7))*$AM$65:$AQ$65)%,\"\")","v":""},{"$f":"IF(AND(F18=Labels!$B$118,WEEKDAY(F10,2)<6,F$12<>\"\"),$J$7*SUMPRODUCT(($AM$77:$AQ$77=MOD(F10,7))*$AM$65:$AQ$65)%,\"\")","v":""},{"$f":"IF(AND(G18=Labels!$B$118,WEEKDAY(G10,2)<6,G$12<>\"\"),$J$7*SUMPRODUCT(($AM$77:$AQ$77=MOD(G10,7))*$AM$65:$AQ$65)%,\"\")","v":""},{"$f":"IF(AND(H18=Labels!$B$118,WEEKDAY(H10,2)<6,H$12<>\"\"),$J$7*SUMPRODUCT(($AM$77:$AQ$77=MOD(H10,7))*$AM$65:$AQ$65)%,\"\")","v":""},{"$f":"IF(AND(I18=Labels!$B$118,WEEKDAY(I10,2)<6,I$12<>\"\"),$J$7*SUMPRODUCT(($AM$77:$AQ$77=MOD(I10,7))*$AM$65:$AQ$65)%,\"\")","v":""},{"$f":"IF(AND(J18=Labels!$B$118,WEEKDAY(J10,2)<6,J$12<>\"\"),$J$7*SUMPRODUCT(($AM$77:$AQ$77=MOD(J10,7))*$AM$65:$AQ$65)%,\"\")","v":""},{"$f":"IF(AND(K18=Labels!$B$118,WEEKDAY(K10,2)<6,K$12<>\"\"),$J$7*SUMPRODUCT(($AM$77:$AQ$77=MOD(K10,7))*$AM$65:$AQ$65)%,\"\")","v":""},{"$f":"IF(AND(L18=Labels!$B$118,WEEKDAY(L10,2)<6,L$12<>\"\"),$J$7*SUMPRODUCT(($AM$77:$AQ$77=MOD(L10,7))*$AM$65:$AQ$65)%,\"\")","v":""},{"$f":"IF(AND(M18=Labels!$B$118,WEEKDAY(M10,2)<6,M$12<>\"\"),$J$7*SUMPRODUCT(($AM$77:$AQ$77=MOD(M10,7))*$AM$65:$AQ$65)%,\"\")","v":""},{"$f":"IF(AND(N18=Labels!$B$118,WEEKDAY(N10,2)<6,N$12<>\"\"),$J$7*SUMPRODUCT(($AM$77:$AQ$77=MOD(N10,7))*$AM$65:$AQ$65)%,\"\")","v":""},{"$f":"IF(AND(O18=Labels!$B$118,WEEKDAY(O10,2)<6,O$12<>\"\"),$J$7*SUMPRODUCT(($AM$77:$AQ$77=MOD(O10,7))*$AM$65:$AQ$65)%,\"\")","v":""},{"$f":"IF(AND(P18=Labels!$B$118,WEEKDAY(P10,2)<6,P$12<>\"\"),$J$7*SUMPRODUCT(($AM$77:$AQ$77=MOD(P10,7))*$AM$65:$AQ$65)%,\"\")","v":""},{"$f":"IF(AND(Q18=Labels!$B$118,WEEKDAY(Q10,2)<6,Q$12<>\"\"),$J$7*SUMPRODUCT(($AM$77:$AQ$77=MOD(Q10,7))*$AM$65:$AQ$65)%,\"\")","v":""},{"$f":"IF(AND(R18=Labels!$B$118,WEEKDAY(R10,2)<6,R$12<>\"\"),$J$7*SUMPRODUCT(($AM$77:$AQ$77=MOD(R10,7))*$AM$65:$AQ$65)%,\"\")","v":""},{"$f":"IF(AND(S18=Labels!$B$118,WEEKDAY(S10,2)<6,S$12<>\"\"),$J$7*SUMPRODUCT(($AM$77:$AQ$77=MOD(S10,7))*$AM$65:$AQ$65)%,\"\")","v":""},{"$f":"IF(AND(T18=Labels!$B$118,WEEKDAY(T10,2)<6,T$12<>\"\"),$J$7*SUMPRODUCT(($AM$77:$AQ$77=MOD(T10,7))*$AM$65:$AQ$65)%,\"\")","v":""},{"$f":"IF(AND(U18=Labels!$B$118,WEEKDAY(U10,2)<6,U$12<>\"\"),$J$7*SUMPRODUCT(($AM$77:$AQ$77=MOD(U10,7))*$AM$65:$AQ$65)%,\"\")","v":""},{"$f":"IF(AND(V18=Labels!$B$118,WEEKDAY(V10,2)<6,V$12<>\"\"),$J$7*SUMPRODUCT(($AM$77:$AQ$77=MOD(V10,7))*$AM$65:$AQ$65)%,\"\")","v":""},{"$f":"IF(AND(W18=Labels!$B$118,WEEKDAY(W10,2)<6,W$12<>\"\"),$J$7*SUMPRODUCT(($AM$77:$AQ$77=MOD(W10,7))*$AM$65:$AQ$65)%,\"\")","v":""},{"$f":"IF(AND(X18=Labels!$B$118,WEEKDAY(X10,2)<6,X$12<>\"\"),$J$7*SUMPRODUCT(($AM$77:$AQ$77=MOD(X10,7))*$AM$65:$AQ$65)%,\"\")","v":""},{"$f":"IF(AND(Y18=Labels!$B$118,WEEKDAY(Y10,2)<6,Y$12<>\"\"),$J$7*SUMPRODUCT(($AM$77:$AQ$77=MOD(Y10,7))*$AM$65:$AQ$65)%,\"\")","v":""},{"$f":"IF(AND(Z18=Labels!$B$118,WEEKDAY(Z10,2)<6,Z$12<>\"\"),$J$7*SUMPRODUCT(($AM$77:$AQ$77=MOD(Z10,7))*$AM$65:$AQ$65)%,\"\")","v":""},{"$f":"IF(AND(AA18=Labels!$B$118,WEEKDAY(AA10,2)<6,AA$12<>\"\"),$J$7*SUMPRODUCT(($AM$77:$AQ$77=MOD(AA10,7))*$AM$65:$AQ$65)%,\"\")","v":""},{"$f":"IF(AND(AB18=Labels!$B$118,WEEKDAY(AB10,2)<6,AB$12<>\"\"),$J$7*SUMPRODUCT(($AM$77:$AQ$77=MOD(AB10,7))*$AM$65:$AQ$65)%,\"\")","v":""},{"$f":"IF(AND(AC18=Labels!$B$118,WEEKDAY(AC10,2)<6,AC$12<>\"\"),$J$7*SUMPRODUCT(($AM$77:$AQ$77=MOD(AC10,7))*$AM$65:$AQ$65)%,\"\")","v":""},{"$f":"IF(AND(AD18=Labels!$B$118,WEEKDAY(AD10,2)<6,AD$12<>\"\"),$J$7*SUMPRODUCT(($AM$77:$AQ$77=MOD(AD10,7))*$AM$65:$AQ$65)%,\"\")","v":""},{"$f":"IF(AND(AE18=Labels!$B$118,WEEKDAY(AE10,2)<6,AE$12<>\"\"),$J$7*SUMPRODUCT(($AM$77:$AQ$77=MOD(AE10,7))*$AM$65:$AQ$65)%,\"\")","v":""},{"$f":"IF(AND(AF18=Labels!$B$118,WEEKDAY(AF10,2)<6,AF$12<>\"\"),$J$7*SUMPRODUCT(($AM$77:$AQ$77=MOD(AF10,7))*$AM$65:$AQ$65)%,\"\")","v":""},{"$f":"SUM(B19:AF19)","v":0},"[06]",{"$f":"Labels!B160","v":"Nombre jf"},{"$f":"COUNTIF($B$18:$AF$18,$AI$18)","v":0},{"$f":"COUNTIF($B$83:$AD$83,$AI$18)","v":0},{"$f":"COUNTIF($B$148:$AF$148,$AI$18)","v":0},{"$f":"COUNTIF($B$213:$AE$213,$AI$18)","v":0},{"$f":"COUNTIF($B$278:$AF$278,$AI$18)","v":0},{"$f":"COUNTIF($B$343:$AE$343,$AI$18)","v":0},{"$f":"COUNTIF($B$408:$AF$408,$AI$18)","v":0},{"$f":"COUNTIF($B$473:$AF$473,$AI$18)","v":0},{"$f":"COUNTIF($B$538:$AE$538,$AI$18)","v":0},{"$f":"COUNTIF($B$603:$AF$603,$AI$18)","v":0},{"$f":"COUNTIF($B$668:$AE$668,$AI$18)","v":0},{"$f":"COUNTIF($B$733:$AF$733,$AI$18)","v":0},0]
[{"$f":"Labels!B45","v":"total quotidien"},{"$f":"SUM(B15:B17)","v":0},{"$f":"SUM(C15:C17)","v":0},0,0,0,0,0,0,0,0,0,0,0,0,0,0,0,0,0,0,0,0,0,0,0,0,0,0,0,0,0,null,"TT",{"$f":"Labels!B161","v":"Message"},{"$f":"IF($AV$19>9,\"(\" & $AV$19 & \" = \" & Labels!B117,\"\")","v":""}]
[{"$f":"Labels!B46","v":"."},null,null,null,null,null,null,null,null,null,null,null,null,null,null,null,null,null,null,null,null,null,null,null,null,null,null,null,null,null,null,null,null,"R","Bez VoJa",{"$f":"$AE$33","v":0},{"$f":"$AE$98","v":0},{"$f":"$AE$163","v":0},{"$f":"$AE$228","v":0},{"$f":"$AE$293","v":0},{"$f":"$AE$358","v":0},{"$f":"$AE$423","v":0},{"$f":"$AE$488","v":0},{"$f":"$AE$553","v":0},null,null,null,{"$f":"SUM(AJ21:AU21)","v":0}]
[{"$f":"Labels!B47","v":"."},null,null,null,null,null,null,null,null,null,null,null,null,null,null,null,null,null,null,null,null,null,null,null,null,null,null,null,null,null,null,null,null,"R","Bez LaJa",{"$f":"$AE$34","v":0},{"$f":"$AE$99","v":0},{"$f":"$AE$164","v":0},{"$f":"$AE$229","v":0},{"$f":"$AE$294","v":0},{"$f":"$AE$359","v":0},{"$f":"$AE$424","v":0},{"$f":"$AE$489","v":0},{"$f":"$AE$554","v":0},{"$f":"$AE$619","v":0},{"$f":"$AE$684","v":0},{"$f":"$AE$749","v":0},{"$f":"SUM(AJ22:AU22)","v":0}]
[{"$f":"Labels!B48","v":"transition mois"},{"$f":"IF(WEEKDAY(B10)=1,TEXT(B10-1,\"MMM\"&Labels!B13),\"\")","v":"déc."},null,null,null,null,null,null,null,null,null,null,null,null,null,null,null,null,null,null,null,null,null,null,null,null,null,null,null,null,null,{"$f":"IF(AND(WEEKDAY(AF10)>1,WEEKDAY(AF10)<7),TEXT(DATE($B$5,MONTH(AF10)+1,1),\"MMM\"&Labels!B13),\"\")","v":"févr."},null,"MNT","Zuschläge Nacht/Sonn-/Feiertag",{"$f":"SUM(AG26+AG27)","v":0},{"$f":"SUM(AG90+AG91)","v":0},{"$f":"SUM(AG155+AG156)","v":0},{"$f":"SUM(AG220+AG221)","v":0},{"$f":"SUM(AG285+AG286)","v":0},{"$f":"SUM(AG350+AG351)","v":0},{"$f":"SUM(AG415+AG416)","v":0},{"$f":"SUM(AG480+AG481)","v":0},{"$f":"SUM(AG545+AG546)","v":0},{"$f":"SUM(AG610+AG611)","v":0},{"$f":"SUM(AG675+AG676)","v":0},{"$f":"SUM(AG740+AG741)","v":0},{"$f":"SUM(AJ23:AU23)","v":0}]
[{"$f":"Labels!B49","v":"Total hebdomadaire"},{"$f":"IF(WEEKDAY(B10)=7,SUMIF($B11:$AF11,B11,$B20:$AF20)+SUMIF($B76:$AD76,B11,$B85:$AD85),IF(WEEKDAY(B10)=1,SUMIF($B11:$AF11,B11,$B20:$AF20)+SUMIF($B76:$AD76,B11,$B85:$AD85),\"\"))","v":0},{"$f":"IF(WEEKDAY(C10)=7,SUMIF($B11:$AF11,C11,$B20:$AF20)+SUMIF($B76:$AD76,C11,$B85:$AD85),\"\")","v":""},"","","","",0,"","","","","","",0,"","","","","","",0,"","","","","","",0,"","",{"$f":"IF(WEEKDAY(AF10)=7,SUMIF($B11:$AF11,AF11,$B20:$AF20)+SUMIF($B76:$AD76,AF11,$B85:$AD85),AF23)","v":"févr."},null,"WT",null,null,null,null,null,null,null,null,null,null,null,null,null,null,null,"Legende Absenztypen (DE)"]
[{"$f":"Labels!B50","v":"Majorations temp. 1)"},{"$f":"IF(B32=\"FALSCH\",\"\",B32)","v":""},{"$f":"IF(C32=\"FALSCH\",\"\",C32)","v":""},"","","","","","","","","","","","","","","","","","","","","","","","","","","","","",{"$f":"SUM(B25:AF25)","v":0},"[07]"]
[{"$f":"Labels!B51","v":"Majorations temp. 2)"},{"$f":"IF((B15+B17)=0,\"\",SUM(B15,B17))","v":""},{"$f":"IF((C15+C17)=0,\"\",SUM(C15,C17))","v":""},{"$f":"IF((D15+D17)=0,\"\",SUM(D15,D17))","v":""},{"$f":"IF((E15+E17)=0,\"\",SUM(E15,E17))","v":""},"","","","","","","","","","","","","","","","","","","","","","","","","","","",0,"[08]",null,null,null,null,null,null,null,null,null,null,null,null,null,null,null,"a","Absenzen, Kurzabsenzen\nArt. 11 GAV"]
[{"$f":"Labels!B52","v":"Majorations temp. 3)"},{"$f":"SUM(B28:B31)","v":0},0,0,0,0,0,0,0,0,0,0,0,0,0,0,0,0,0,0,0,0,0,0,0,0,0,0,0,0,0,0,0,"[09]","Konfiguration (lokal)",null,null,null,null,null,null,null,null,null,null,null,null,null,null,"f","Ferien Art. 12.1. GAV"]
[{"$f":"Labels!B53","v":"Dimanche journée"},{"$f":"IF(WEEKDAY(B10)=1,B16,\"\")","v":0},{"$f":"IF(WEEKDAY(C10)=1,C16,\"\")","v":""},"","","","","",0,"","","","","","",0,"","","","","","",0,"","","","","","",0,"","",0,"[09-ST]",null,null,null,null,null,null,null,null,null,null,null,null,null,null,null,"k","Krankheit Art. 13 GAV"]
[{"$f":"Labels!B54","v":"Dimanche nuit"},{"$f":"IF(WEEKDAY(B10)=1,SUM(B15+B17),\"\")","v":0},{"$f":"IF(WEEKDAY(C10)=1,SUM(C15+C17),\"\")","v":""},"","","","","",0,"","","","","","",0,"","","","","","",0,"","","","","","",0,"","",0,"[09-SN]","Erster Januar aktuelles Jahr",null,null,null,null,null,null,{"$f":"DATE(YEAR($A$7),MONTH($A$7),DAY($A$7))","v":"2023-01-01"},null,null,null,null,null,null,null,"m","Militär, Zivilschutz\nArt. 16 GAV"]
[{"$f":"Labels!B55","v":"jf-jomajoration"},{"$f":"IF(B18=Labels!$B$118,B16,\"\")","v":""},{"$f":"IF(C18=Labels!$B$118,C16,\"\")","v":""},{"$f":"IF(D18=Labels!$B$118,D16,\"\")","v":""},{"$f":"IF(E18=Labels!$B$118,E16,\"\")","v":""},{"$f":"IF(F18=Labels!$B$118,F16,\"\")","v":""},{"$f":"IF(G18=Labels!$B$118,G16,\"\")","v":""},{"$f":"IF(H18=Labels!$B$118,H16,\"\")","v":""},{"$f":"IF(I18=Labels!$B$118,I16,\"\")","v":""},{"$f":"IF(J18=Labels!$B$118,J16,\"\")","v":""},{"$f":"IF(K18=Labels!$B$118,K16,\"\")","v":""},{"$f":"IF(L18=Labels!$B$118,L16,\"\")","v":""},{"$f":"IF(M18=Labels!$B$118,M16,\"\")","v":""},{"$f":"IF(N18=Labels!$B$118,N16,\"\")","v":""},{"$f":"IF(O18=Labels!$B$118,O16,\"\")","v":""},{"$f":"IF(P18=Labels!$B$118,P16,\"\")","v":""},{"$f":"IF(Q18=Labels!$B$118,Q16,\"\")","v":""},{"$f":"IF(R18=Labels!$B$118,R16,\"\")","v":""},{"$f":"IF(S18=Labels!$B$118,S16,\"\")","v":""},{"$f":"IF(T18=Labels!$B$118,T16,\"\")","v":""},{"$f":"IF(U18=Labels!$B$118,U16,\"\")","v":""},{"$f":"IF(V18=Labels!$B$118,V16,\"\")","v":""},{"$f":"IF(W18=Labels!$B$118,W16,\"\")","v":""},{"$f":"IF(X18=Labels!$B$118,X16,\"\")","v":""},{"$f":"IF(Y18=Labels!$B$118,Y16,\"\")","v":""},{"$f":"IF(Z18=Labels!$B$118,Z16,\"\")","v":""},{"$f":"IF(AA18=Labels!$B$118,AA16,\"\")","v":""},{"$f":"IF(AB18=Labels!$B$118,AB16,\"\")","v":""},{"$f":"IF(AC18=Labels!$B$118,AC16,\"\")","v":""},{"$f":"IF(AD18=Labels!$B$118,AD16,\"\")","v":""},{"$f":"IF(AE18=Labels!$B$118,AE16,\"\")","v":""},{"$f":"IF(AF18=Labels!$B$118,AF16,\"\")","v":""},0,"[09-FT]","(Berechnungsgrundlage Kalender)",null,null,null,null,null,null,null,null,null,null,null,null,null,null,"s","Schwanger-/Mutterschaft\nArt. 15 GAV"]
[{"$f":"Labels!B56","v":"jf-numajoration"},{"$f":"IF(B18=Labels!$B$118,SUM(B15,B17),\"\")","v":""},{"$f":"IF(C18=Labels!$B$118,SUM(C15,C17),\"\")","v":""},{"$f":"IF(D18=Labels!$B$118,SUM(D15,D17),\"\")","v":""},{"$f":"IF(E18=Labels!$B$118,SUM(E15,E17),\"\")","v":""},{"$f":"IF(F18=Labels!$B$118,SUM(F15,F17),\"\")","v":""},{"$f":"IF(G18=Labels!$B$118,SUM(G15,G17),\"\")","v":""},{"$f":"IF(H18=Labels!$B$118,SUM(H15,H17),\"\")","v":""},{"$f":"IF(I18=Labels!$B$118,SUM(I15,I17),\"\")","v":""},{"$f":"IF(J18=Labels!$B$118,SUM(J15,J17),\"\")","v":""},{"$f":"IF(K18=Labels!$B$118,SUM(K15,K17),\"\")","v":""},{"$f":"IF(L18=Labels!$B$118,SUM(L15,L17),\"\")","v":""},{"$f":"IF(M18=Labels!$B$118,SUM(M15,M17),\"\")","v":""},{"$f":"IF(N18=Labels!$B$118,SUM(N15,N17),\"\")","v":""},{"$f":"IF(O18=Labels!$B$118,SUM(O15,O17),\"\")","v":""},{"$f":"IF(P18=Labels!$B$118,SUM(P15,P17),\"\")","v":""},{"$f":"IF(Q18=Labels!$B$118,SUM(Q15,Q17),\"\")","v":""},{"$f":"IF(R18=Labels!$B$118,SUM(R15,R17),\"\")","v":""},{"$f":"IF(S18=Labels!$B$118,SUM(S15,S17),\"\")","v":""},{"$f":"IF(T18=Labels!$B$118,SUM(T15,T17),\"\")","v":""},{"$f":"IF(U18=Labels!$B$118,SUM(U15,U17),\"\")","v":""},{"$f":"IF(V18=Labels!$B$118,SUM(V15,V17),\"\")","v":""},{"$f":"IF(W18=Labels!$B$118,SUM(W15,W17),\"\")","v":""},{"$f":"IF(X18=Labels!$B$118,SUM(X15,X17),\"\")","v":""},{"$f":"IF(Y18=Labels!$B$118,SUM(Y15,Y17),\"\")","v":""},{"$f":"IF(Z18=Labels!$B$118,SUM(Z15,Z17),\"\")","v":""},{"$f":"IF(AA18=Labels!$B$118,SUM(AA15,AA17),\"\")","v":""},{"$f":"IF(AB18=Labels!$B$118,SUM(AB15,AB17),\"\")","v":""},{"$f":"IF(AC18=Labels!$B$118,SUM(AC15,AC17),\"\")","v":""},{"$f":"IF(AD18=Labels!$B$118,SUM(AD15,AD17),\"\")","v":""},{"$f":"IF(AE18=Labels!$B$118,SUM(AE15,AE17),\"\")","v":""},{"$f":"IF(AF18=Labels!$B$118,SUM(AF15,AF17),\"\")","v":""},0,"[09-FN]",null,null,null,null,null,null,null,null,null,null,null,null,null,null,null,"u","Unfall Art. 14 GAV"]
[{"$f":"Labels!B57","v":"majoration caché (total hebd.)"},{"$f":"IF($B4>=80,IF(OR(ISTEXT(B24),B24=\"\",B24<$B$7),\"\",ROUND(((B24-$B$7)*25%)/25,4)*25),IF(B20>($B$7/5),ROUND(((B20-($B$7/5))*25%)/25,4)*25,\"\"))","v":""},{"$f":"IF($B4>=80,IF(OR(ISTEXT(C24),C24=\"\",C24<$B$7),\"\",ROUND(((C24-$B$7)*25%)/25,4)*25),IF(C20>($B$7/5),ROUND(((C20-($B$7/5))*25%)/25,4)*25,\"\"))","v":""},"","","","","","","","","","","","","","","","","","","","","","","","","","","","","",{"$f":"AG16","v":0},"[03]","Schaltjahr",null,null,null,null,null,null,{"$f":"IF(ISERROR((\"29.02.\"&timesheetYear)*1),FALSE,TRUE)","v":false},null,null,null,null,null,null,null,"bs","Berufsschule"]
[null,{"$f":"Labels!B58","v":"1)  25% majoration temporelle pour depassement les heures maximales"},null,null,null,null,null,null,null,null,null,{"$f":"Labels!B59","v":"2) 100% majoration temporelle pour travail de nuit"},null,null,null,null,null,null,null,{"$f":"Labels!B61","v":"Saisie des heures payées l'année passée"},null,null,null,null,null,null,null,null,null,null,null,null,{"$f":"SUM(AG15+AG17)","v":0},"[4-5]",null,null,null,null,null,null,null,null,null,null,null,null,null,null,null,"fe","Fehlstunden zur Information ohne Berechnung in der Zusammenfassung"]
[null,{"$f":"Labels!B60","v":"3) 100% majoration temporelle pour travail du dimanche et jour férié"},null,null,null,null,null,null,null,null,null,null,null,null,null,null,null,null,null,{"$f":"Labels!B62","v":"Saisie des heures payées exercice en cours (heures supplémentaires)"},null,null,null,null,null,null,null,null,null,null,null,null,{"$f":"SUM(AG15:AG17)","v":0},"[3-5]","Hilfszelle Feiertage",null,null,null,null,null,null,null,{"$f":"Labels!$B$118","v":"jf"},null,null,null,null,null,null,"ka","Kurzabeit, Schlechtwetterausfälle"]
[{"$f":"Labels!B159","v":"Notes"},null,null,null,null,null,null,null,null,null,null,null,null,null,null,null,null,null,null,null,null,null,null,null,null,null,null,null,null,null,null,null,{"$f":"SUM(AG13:AG27)","v":0},"[10]",null,null,null,null,null,null,null,null,null,null,null,null,null,null,null,"kj","Kompensation laufendes Jahr siehe  Zusammenfassung"]
[null,null,null,null,null,null,null,null,null,null,null,null,null,null,null,null,null,null,null,null,null,null,null,null,null,null,null,null,null,null,null,null,{"$f":"AG12","v":176},"[00]","aktueller Kalender",null,"calendar",null,null,null,null,null,"KALENDER",null,null,null,null,null,null,"ku","Kurse"]
[{"$f":"IF(AG829=0,\"\",\"effektives Pensum:  \"&ROUND(COUNT(B12:AF12)/(AG829+COUNT(B12:AF12))%*B4%*20,0)/20&\" %\")","v":""},null,null,null,null,null,null,null,null,null,null,null,null,null,null,null,null,null,null,null,null,null,null,null,null,null,null,null,null,null,null,null,{"$f":"SUM(AG35-AG36)","v":-176},"[11]",null,null,null,null,null,null,null,null,null,null,null,null,null,null,null,"kv","Kompensation Vorjahressaldo für Abrechnung in der Zusammenfassung"]
[null,null,null,null,null,null,null,null,null,null,null,null,null,null,null,null,null,null,null,null,null,null,null,null,null,null,null,null,null,null,null,null,null,null,null,null,null,null,null,null,null,null,null,null,null,null,null,null,null,"fu","Ferien unbezahlt"]
[{"$f":"Labels!$B$103","v":"Résumé"},null,null,null,null,null,{"$f":"Labels!$B$77","v":"Jan"},null,{"$f":"Labels!$B$78","v":"Fév"},null,{"$f":"Labels!$B$79","v":"Mar"},null,{"$f":"Labels!$B$80","v":"Avr"},null,{"$f":"Labels!$B$81","v":"Mai"},null,{"$f":"Labels!$B$82","v":"Jun"},null,{"$f":"Labels!$B$83","v":"Jul"},null,{"$f":"Labels!$B$84","v":"Aoû"},null,{"$f":"Labels!$B$85","v":"Sep"},null,{"$f":"Labels!$B$86","v":"Oct"},null,{"$f":"Labels!$B$87","v":"Nov"},null,{"$f":"Labels!$B$88","v":"Déc"},null,{"$f":"Labels!$B$101","v":"Année"},null,null,null,"alter Kalender",null,"calendar1",null,null,null,null,null,"Kalender Müller"]
[{"$f":"Labels!$B$20","v":"Emploi %"},null,null,null,null,null,{"$f":"IF($B$4=0,0,$B$4)","v":100},null,{"$f":"IF($B$72=0,0,$B$72)","v":100},null,{"$f":"IF($B$137=0,0,$B$137)","v":100},null,{"$f":"IF($B$202=0,0,$B$202)","v":100},null,{"$f":"IF($B$267=0,0,$B$267)","v":100},null,{"$f":"IF($B$332=0,0,$B$332)","v":100},null,{"$f":"IF($B$397=0,0,$B$397)","v":100},null,{"$f":"IF($B$462=0,0,$B$462)","v":100},null,{"$f":"IF($B$527=0,0,$B$527)","v":100},null,{"$f":"IF($B$592=0,0,$B$592)","v":100},null,{"$f":"IF($B$657=0,0,$B$657)","v":100},null,{"$f":"IF($B$722=0,0,$B$722)","v":100},null,null,null,null,null,"neuer Kalender",null,"calendar",null,null,null,null,null,"KALENDER"]
[{"$f":"Labels!$B$104","v":"Heures théoriques selon CCT"},null,null,null,null,null,{"$f":"IF($AG$36=0,0,$AG$36)","v":176},null,{"$f":"IF($AG$101=0,0,$AG$101)","v":160},null,{"$f":"IF($AG$142=0,0,$AG$142)","v":184},null,{"$f":"IF($AG$231=0,0,$AG$231)","v":160},null,{"$f":"IF($AG$296=0,0,$AG$296)","v":184},null,{"$f":"IF($AG$361=0,0,$AG$361)","v":176},null,{"$f":"IF($AG$426=0,0,$AG$426)","v":168},null,{"$f":"IF($AG$491=0,0,$AG$491)","v":184},null,{"$f":"IF($AG$556=0,0,$AG$556)","v":168},null,{"$f":"IF($AG$621=0,0,$AG$621)","v":176},null,{"$f":"IF($AG$686=0,0,$AG$686)","v":176},null,{"$f":"IF($AG$751=0,0,$AG$751)","v":168},null,{"$f":"SUM(G41:AD41)","v":2080}]
[{"$f":"Labels!$B$105","v":"Total heures productives"},{"$f":"Labels!$B$106","v":"06.00 - 20.00 h"},null,null,null,null,{"$f":"IF($AG$32=0,0,$AG$32)","v":0},null,{"$f":"IF($AG$96=0,0,$AG$96)","v":0},null,{"$f":"IF($AG$161=0,0,$AG$161)","v":0},null,{"$f":"IF($AG$226=0,0,$AG$226)","v":0},null,{"$f":"IF($AG$291=0,0,$AG$291)","v":0},null,{"$f":"IF($AG$356=0,0,$AG$356)","v":0},null,{"$f":"IF($AG$421=0,0,$AG$421)","v":0},null,{"$f":"IF($AG$486=0,0,$AG$486)","v":0},null,{"$f":"IF($AG$551=0,0,$AG$551)","v":0},null,{"$f":"IF($AG$616=0,0,$AG$616)","v":0},null,{"$f":"IF($AG$681=0,0,$AG$681)","v":0},null,{"$f":"IF($AG$746=0,0,$AG$746)","v":0},null,{"$f":"SUM(G42:AD42)","v":0},null,null,null,null,null,null,null,null,null,null,null,null,null,null,null,null,null,null,"Meldungen & Beschriftungen"]
[null,{"$f":"Labels!$B$107","v":"nuit, dimanche et jour férié"},null,null,null,null,{"$f":"IF($AG$33=0,0,$AG$33)","v":0},null,{"$f":"IF($AG$97=0,0,$AG$97)","v":0},null,{"$f":"IF($AG$162=0,0,$AG$162)","v":0},null,{"$f":"IF($AG$227=0,0,$AG$227)","v":0},null,{"$f":"IF($AG$292=0,0,$AG$292)","v":0},null,{"$f":"IF($AG$357=0,0,$AG$357)","v":0},null,{"$f":"IF($AG$422=0,0,$AG$422)","v":0},null,{"$f":"IF($AG$487=0,0,$AG$487)","v":0},null,{"$f":"IF($AG$552=0,0,$AG$552)","v":0},null,{"$f":"IF($AG$617=0,0,$AG$617)","v":0},null,{"$f":"IF($AG$682=0,0,$AG$682)","v":0},null,{"$f":"IF($AG$747=0,0,$AG$747)","v":0},null,{"$f":"SUM(G43:AD43)","v":0}]
[{"$f":"Labels!$B$108","v":"Majorations temporelles"},{"$f":"Labels!$B$109","v":"depassement des heures maximales"},null,null,null,null,{"$f":"IF($AG$25=0,0,$AG$25)","v":0},null,{"$f":"IF($AG$89=0,0,$AG$89)","v":0},null,{"$f":"IF($AG$154=0,0,$AG$154)","v":0},null,{"$f":"IF($AG$219=0,0,$AG$219)","v":0},null,{"$f":"IF($AG$284=0,0,$AG$284)","v":0},null,{"$f":"IF($AG$349=0,0,$AG$349)","v":0},null,{"$f":"IF($AG$414=0,0,$AG$414)","v":0},null,{"$f":"IF($AG$479=0,0,$AG$479)","v":0},null,{"$f":"IF($AG$544=0,0,$AG$544)","v":0},null,{"$f":"IF($AG$609=0,0,$AG$609)","v":0},null,{"$f":"IF($AG$674=0,0,$AG$674)","v":0},null,{"$f":"IF($AG$739=0,0,$AG$739)","v":0},null,{"$f":"SUM(G44:AD44)","v":0},null,null,null,null,null,null,null,null,null,null,null,null,null,null,null,null,null,null,null,{"$f":"\"Das Vorjahresguthaben beträgt noch \"&TEXT(W62,\"0.0000\")&\" Std.\"","v":"Das Vorjahresguthaben beträgt noch 0.0000 Std."}]
[null,{"$f":"Labels!$B$110","v":"nuit, dimanche et jour férié"},null,null,null,null,{"$f":"IF($AJ$23=0,0,$AJ$23)","v":0},null,{"$f":"IF($AK$23=0,0,$AK$23)","v":0},null,{"$f":"IF($AL$23=0,0,$AL$23)","v":0},null,{"$f":"IF($AM$23=0,0,$AM$23)","v":0},null,{"$f":"IF($AN$23=0,0,$AN$23)","v":0},null,{"$f":"IF($AO$23=0,0,$AO$23)","v":0},null,{"$f":"IF($AP$23=0,0,$AP$23)","v":0},null,{"$f":"IF($AQ$23=0,0,$AQ$23)","v":0},null,{"$f":"IF($AR$23=0,0,$AR$23)","v":0},null,{"$f":"IF($AS$23=0,0,$AS$23)","v":0},null,{"$f":"IF($AT$23=0,0,$AT$23)","v":0},null,{"$f":"IF($AU$23=0,0,$AU$23)","v":0},null,{"$f":"SUM(G45:AD45)","v":0},null,null,null,"Anstellungsdetails",null,"Name:","Muster Peter",null,null,"Default-%",null,100,null,null,null,null,null,null,null,"Total"]
[{"$f":"Labels!$B$111","v":"Heures inproductives"}]
[{"$f":"Labels!$B$112","v":"   Absences art. 11 CCT"},null,null,null,null,{"$f":"Labels!$B$113","v":"ab"},{"$f":"IF($AJ$3=0,0,$AJ$3)","v":0},null,{"$f":"IF($AK$3=0,0,$AK$3)","v":0},null,{"$f":"IF($AL$3=0,0,$AL$3)","v":0},null,{"$f":"IF($AM$3=0,0,$AM$3)","v":0},null,{"$f":"IF($AN$3=0,0,$AN$3)","v":0},null,{"$f":"IF($AO$3=0,0,$AO$3)","v":0},null,{"$f":"IF($AP$3=0,0,$AP$3)","v":0},null,{"$f":"IF($AQ$3=0,0,$AQ$3)","v":0},null,{"$f":"IF($AR$3=0,0,$AR$3)","v":0},null,{"$f":"IF($AS$3=0,0,$AS$3)","v":0},null,{"$f":"IF(AT$3=0,0,$AT$3)","v":0},null,{"$f":"IF($AU$3=0,0,$AU$3)","v":0},null,{"$f":"IF($AV$3=0,0,$AV$3)","v":0},null,null,null,"Ganzes Jahr gleich?",true,null,"%","MO","DI","MI","DO","FR","Arbeitst."]
[{"$f":"Labels!$B$114","v":"   Vacances art. 12.1 CCT"},null,null,null,null,{"$f":"Labels!$B$115","v":"va"},{"$f":"IF($AJ$4=0,0,$AJ$4)","v":0},null,{"$f":"IF($AK$4=0,0,$AK$4)","v":0},null,{"$f":"IF($AL$4=0,0,$AL$4)","v":0},null,{"$f":"IF($AM$4=0,0,$AM$4)","v":0},null,{"$f":"IF($AN$4=0,0,$AN$4)","v":0},null,{"$f":"IF($AO$4=0,0,$AO$4)","v":0},null,{"$f":"IF($AP$4=0,0,$AP$4)","v":0},null,{"$f":"IF($AQ$4=0,0,$AQ$4)","v":0},null,{"$f":"IF($AR$4=0,0,$AR$4)","v":0},null,{"$f":"IF($AS$4=0,0,$AS$4)","v":0},null,{"$f":"IF($AT$4=0,0,$AT$4)","v":0},null,{"$f":"IF($AU$4=0,0,$AU$4)","v":0},null,{"$f":"IF($AV$4=0,0,$AV$4)","v":0},null,null,null,"Expertenmodus",false,"Jan",{"$f":"AL65","v":100},{"$f":"IF(AM65>0,TRUE,FALSE)","v":true},{"$f":"IF(AN65>0,TRUE,FALSE)","v":true},true,true,true,{"$f":"COUNTIF(AM48:AQ48,TRUE)","v":5}]
[{"$f":"Labels!$B$181","v":"   vacances non payées"},null,null,null,null,{"$f":"Labels!$B$182","v":"vn"},{"$f":"IF($AJ$13=0,0,$AJ$13)","v":0},null,{"$f":"IF($AK$13=0,0,$AK$13)","v":0},null,{"$f":"IF($AL$13=0,0,$AL$13)","v":0},null,{"$f":"IF($AM$13=0,0,$AM$13)","v":0},null,{"$f":"IF($AN$13=0,0,$AN$13)","v":0},null,{"$f":"IF($AO$13=0,0,$AO$13)","v":0},null,{"$f":"IF($AP$13=0,0,$AP$13)","v":0},null,{"$f":"IF($AQ$13=0,0,$AQ$13)","v":0},null,{"$f":"IF($AR$13=0,0,$AR$13)","v":0},null,{"$f":"IF($AS$13=0,0,$AS$13)","v":0},null,{"$f":"IF($AT$13=0,0,$AT$13)","v":0},null,{"$f":"IF($AU$13=0,0,$AU$13)","v":0},null,{"$f":"IF($AV$13=0,0,$AV$13)","v":0},null,null,null,null,null,"Feb",{"$f":"AL66","v":100},{"$f":"IF(AM66>0,TRUE,FALSE)","v":true},true,true,true,true,{"$f":"COUNTIF(AM49:AQ49,TRUE)","v":5}]
[{"$f":"Labels!$B$116","v":"   Jours fériés art. 12.2 CCT"},null,{"$f":"IF($AJ$20=\"\",\"\",$AJ$20)","v":""},null,null,{"$f":"Labels!$B$118","v":"jf"},{"$f":"IF($AJ$18=0,0,$AJ$18)","v":0},null,{"$f":"IF($AK$18=0,0,$AK$18)","v":0},null,{"$f":"IF($AL$18=0,0,$AL$18)","v":0},null,{"$f":"IF($AM$18=0,0,$AM$18)","v":0},null,{"$f":"IF($AN$18=0,0,$AN$18)","v":0},null,{"$f":"IF($AO$18=0,0,$AO$18)","v":0},null,{"$f":"IF($AP$18=0,0,$AP$18)","v":0},null,{"$f":"IF($AQ$18=0,0,$AQ$18)","v":0},null,{"$f":"IF($AR$18=0,0,$AR$18)","v":0},null,{"$f":"IF($AS$18=0,0,$AS$18)","v":0},null,{"$f":"IF($AT$18=0,0,$AT$18)","v":0},null,{"$f":"IF($AU$18=0,0,$AU$18)","v":0},null,{"$f":"IF($AV$18=0,0,$AV$18)","v":0},null,null,null,null,null,"Mrz",100,true,true,true,true,true,5]
[{"$f":"Labels!$B$119","v":"   Maladie art. 13 CCT"},null,null,null,null,{"$f":"Labels!$B$120","v":"ma"},{"$f":"IF($AJ$5=0,0,$AJ$5)","v":0},null,{"$f":"IF($AK$5=0,0,$AK$5)","v":0},null,{"$f":"IF($AL$5=0,0,$AL$5)","v":0},null,{"$f":"IF($AM$5=0,0,$AM$5)","v":0},null,{"$f":"IF($AN$5=0,0,$AN$5)","v":0},null,{"$f":"IF($AO$5=0,0,$AO$5)","v":0},null,{"$f":"IF($AP$5=0,0,$AP$5)","v":0},null,{"$f":"IF($AQ$5=0,0,$AQ$5)","v":0},null,{"$f":"IF($AR$5=0,0,$AR$5)","v":0},null,{"$f":"IF($AS$5=0,0,$AS$5)","v":0},null,{"$f":"IF($AT$5=0,0,$AT$5)","v":0},null,{"$f":"IF($AU$5=0,0,$AU$5)","v":0},null,{"$f":"IF($AV$5=0,0,$AV$5)","v":0},null,null,null,null,null,"Apr",100,true,true,true,true,true,5]
[{"$f":"Labels!$B$184","v":"non payeé"},null,null,null,null,null,{"$f":"IF(AJ$16=0,0,AJ$16)","v":0},null,{"$f":"IF($AK$16=0,0,$AK$16)","v":0},null,{"$f":"IF($AL$16=0,0,$AL$16)","v":0},null,{"$f":"IF($AM$16=0,0,$AM$16)","v":0},null,{"$f":"IF($AN$16=0,0,$AN$16)","v":0},null,{"$f":"IF($AO$16=0,0,$AO$16)","v":0},null,{"$f":"IF($AP$16=0,0,$AP$16)","v":0},null,{"$f":"IF($AQ$16=0,0,$AQ$16)","v":0},null,{"$f":"IF($AR$16=0,0,$AR$16)","v":0},null,{"$f":"IF($AS$16=0,0,$AS$16)","v":0},null,{"$f":"IF($AT$16=0,0,$AT$16)","v":0},null,{"$f":"IF($AU$16=0,0,$AU$16)","v":0},null,{"$f":"IF($AV$16=0,0,$AV$16)","v":0},null,null,null,null,null,"Mai",100,true,true,true,true,true,5]
[{"$f":"Labels!$B$121","v":"   Accident art. 14 CCT"},null,null,null,null,{"$f":"Labels!$B$122","v":"ac"},{"$f":"IF($AJ$6=0,0,$AJ$6)","v":0},null,{"$f":"IF($AK$6=0,0,$AK$6)","v":0},null,{"$f":"IF($AL$6=0,0,$AL$6)","v":0},null,{"$f":"IF($AM$6=0,0,$AM$6)","v":0},null,{"$f":"IF($AN$6=0,0,$AN$6)","v":0},null,{"$f":"IF($AO$6=0,0,$AO$6)","v":0},null,{"$f":"IF($AP$6=0,0,$AP$6)","v":0},null,{"$f":"IF($AQ$6=0,0,$AQ$6)","v":0},null,{"$f":"IF($AR$6=0,0,$AR$6)","v":0},null,{"$f":"IF($AS$6=0,0,$AS$6)","v":0},null,{"$f":"IF($AT$6=0,0,$AT$6)","v":0},null,{"$f":"IF($AU$6=0,0,$AU$6)","v":0},null,{"$f":"IF($AV$6=0,0,$AV$6)","v":0},null,null,null,null,null,"Jun",100,true,true,true,true,true,5]
[{"$f":"Labels!$B$123","v":"   Grossesse/Maternité art. 15 CCT"},null,null,null,null,{"$f":"Labels!$B$124","v":"gm"},{"$f":"IF($AJ$7=0,0,$AJ$7)","v":0},null,{"$f":"IF($AK$7=0,0,$AK$7)","v":0},null,{"$f":"IF($AL$7=0,0,$AL$7)","v":0},null,{"$f":"IF($AM$7=0,0,$AM$7)","v":0},null,{"$f":"IF($AN$7=0,0,$AN$7)","v":0},null,{"$f":"IF($AO$7=0,0,$AO$7)","v":0},null,{"$f":"IF($AP$7=0,0,$AP$7)","v":0},null,{"$f":"IF($AQ$7=0,0,$AQ$7)","v":0},null,{"$f":"IF($AR$7=0,0,$AR$7)","v":0},null,{"$f":"IF($AS$7=0,0,$AS$7)","v":0},null,{"$f":"IF($AT$7=0,0,$AT$7)","v":0},null,{"$f":"IF($AU$7=0,0,$AU$7)","v":0},null,{"$f":"IF($AV$7=0,0,$AV$7)","v":0},null,null,null,null,null,"Jul",100,true,true,true,true,true,5]
[{"$f":"Labels!$B$125","v":"   Militaire/Promotion/Protection civile art. 16 CCT"},null,null,null,null,{"$f":"Labels!$B$126","v":"mi"},{"$f":"IF($AJ$8=0,0,$AJ$8)","v":0},null,{"$f":"IF($AK$8=0,0,$AK$8)","v":0},null,{"$f":"IF($AL$8=0,0,$AL$8)","v":0},null,{"$f":"IF($AM$8=0,0,$AM$8)","v":0},null,{"$f":"IF($AN$8=0,0,$AN$8)","v":0},null,{"$f":"IF($AO$8=0,0,$AO$8)","v":0},null,{"$f":"IF($AP$8=0,0,$AP$8)","v":0},null,{"$f":"IF($AQ$8=0,0,$AQ$8)","v":0},null,{"$f":"IF($AR$8=0,0,$AR$8)","v":0},null,{"$f":"IF($AS$8=0,0,$AS$8)","v":0},null,{"$f":"IF($AT$8=0,0,$AT$8)","v":0},null,{"$f":"IF($AU$8=0,0,$AU$8)","v":0},null,{"$f":"IF($AV$8=0,0,$AV$8)","v":0},null,null,null,null,null,"Aug",100,true,true,true,true,true,5]
[{"$f":"Labels!$B$127","v":"   Chômage partiel et perte de travail cause d'intempéries"},null,null,null,null,{"$f":"Labels!$B$128","v":"ch"},{"$f":"IF($AJ$11=0,0,$AJ$11)","v":0},null,{"$f":"IF($AK$11=0,0,$AK$11)","v":0},null,{"$f":"IF($AL$11=0,0,$AL$11)","v":0},null,{"$f":"IF($AM$11=0,0,$AM$11)","v":0},null,{"$f":"IF($AN$11=0,0,$AN$11)","v":0},null,{"$f":"IF($AO$11=0,0,$AO$11)","v":0},null,{"$f":"IF($AP$11=0,0,$AP$11)","v":0},null,{"$f":"IF($AQ$11=0,0,$AQ$11)","v":0},null,{"$f":"IF($AR$11=0,0,$AR$11)","v":0},null,{"$f":"IF($AS$11=0,0,$AS$11)","v":0},null,{"$f":"IF($AT$11=0,0,$AT$11)","v":0},null,{"$f":"IF($AU$11=0,0,$AU$11)","v":0},null,{"$f":"IF($AV$11=0,0,$AV$11)","v":0},null,null,null,null,null,"Sep",100,true,true,true,true,true,5]
[{"$f":"Labels!$B$129","v":"   Ecole professionnelle"},null,null,null,null,{"$f":"Labels!$B$130","v":"ep"},{"$f":"IF($AJ$9=0,0,$AJ$9)","v":0},null,{"$f":"IF($AK$9=0,0,$AK$9)","v":0},null,{"$f":"IF($AL$9=0,0,$AL$9)","v":0},null,{"$f":"IF($AM$9=0,0,$AM$9)","v":0},null,{"$f":"IF($AN$9=0,0,$AN$9)","v":0},null,{"$f":"IF($AO$9=0,0,$AO$9)","v":0},null,{"$f":"IF($AP$9=0,0,$AP$9)","v":0},null,{"$f":"IF($AQ$9=0,0,$AQ$9)","v":0},null,{"$f":"IF($AR$9=0,0,$AR$9)","v":0},null,{"$f":"IF($AS$9=0,0,$AS$9)","v":0},null,{"$f":"IF($AT$9=0,0,$AT$9)","v":0},null,{"$f":"IF($AU$9=0,0,$AU$9)","v":0},null,{"$f":"IF($AV$9=0,0,$AV$9)","v":0},null,null,null,null,null,"Okt",100,true,true,true,true,true,5]
[{"$f":"Labels!$B$131","v":"   Cours"},null,null,null,null,{"$f":"Labels!$B$132","v":"co"},{"$f":"IF($AJ$10=0,0,$AJ$10)","v":0},null,{"$f":"IF($AK$10=0,0,$AK$10)","v":0},null,{"$f":"IF($AL$10=0,0,$AL$10)","v":0},null,{"$f":"IF($AM$10=0,0,$AM$10)","v":0},null,{"$f":"IF($AN$10=0,0,$AN$10)","v":0},null,{"$f":"IF($AO$10=0,0,$AO$10)","v":0},null,{"$f":"IF($AP$10=0,0,$AP$10)","v":0},null,{"$f":"IF($AQ$10=0,0,$AQ$10)","v":0},null,{"$f":"IF($AR$10=0,0,$AR$10)","v":0},null,{"$f":"IF($AS$10=0,0,$AS$10)","v":0},null,{"$f":"IF($AT$10=0,0,$AT$10)","v":0},null,{"$f":"IF($AU$10=0,0,$AU$10)","v":0},null,{"$f":"IF($AV$10=0,0,$AV$10)","v":0},null,null,null,null,null,"Nov",100,true,true,true,true,true,5]
[{"$f":"Labels!$B$133","v":"Heures de compensation"},{"$f":"Labels!$B$134","v":"de l'année passée"},null,null,null,{"$f":"Labels!$B$135","v":"cp"},{"$f":"IF($AJ$12=0,0,$AJ$12)","v":0},null,{"$f":"IF($AK$12=0,0,$AK$12)","v":0},null,{"$f":"IF($AL$12=0,0,$AL$12)","v":0},null,{"$f":"IF($AM$12=0,0,$AM$12)","v":0},null,{"$f":"IF($AN$12=0,0,$AN$12)","v":0},null,{"$f":"IF($AO$12=0,0,$AO$12)","v":0},null,{"$f":"IF($AP$12=0,0,$AP$12)","v":0},null,{"$f":"IF($AQ$12=0,0,$AQ$12)","v":0},null,{"$f":"IF($AR$12=0,0,$AR$12)","v":0},null,null,null,null,null,null,null,{"$f":"IF($AV$12=0,0,$AV$12)","v":0},null,null,null,null,null,"Dez",100,true,true,true,true,true,5]
[null,{"$f":"Labels!$B$136","v":"de l'année en cours (contrôle)"},null,null,null,{"$f":"Labels!$B$137","v":"cc"},{"$f":"IF($AJ$15=0,0,$AJ$15)","v":0},null,{"$f":"IF($AK$15=0,0,$AK$15)","v":0},null,{"$f":"IF($AL$15=0,0,$AL$15)","v":0},null,{"$f":"IF($AM$15=0,0,$AM$15)","v":0},null,{"$f":"IF($AN$15=0,0,$AN$15)","v":0},null,{"$f":"IF($AO$15=0,0,$AO$15)","v":0},null,{"$f":"IF($AP$15=0,0,$AP$15)","v":0},null,{"$f":"IF($AQ$15=0,0,$AQ$15)","v":0},null,{"$f":"IF($AR$15=0,0,$AR$15)","v":0},null,{"$f":"IF($AS$15=0,0,$AS$15)","v":0},null,{"$f":"IF($AT$15=0,0,$AT$15)","v":0},null,{"$f":"IF($AU$15=0,0,$AU$15)","v":0},null,{"$f":"IF($AV$15=0,0,$AV$15)","v":0},null,null,null,"Abbildung Wochentage für Formel =>",null,"Avg",{"$f":"SUM(AL48:AL59)/12","v":100},2,3,4,5,6]
[{"$f":"Labels!$B$138","v":"Paiement des heures"},{"$f":"Labels!$B$139","v":"de l'année passée"},null,null,null,null,{"$f":"IF($AJ$21=0,0,$AJ$21)","v":0},null,{"$f":"IF($AK$21=0,0,$AK$21)","v":0},null,{"$f":"IF($AL$21=0,0,$AL$21)","v":0},null,{"$f":"IF($AM$21=0,0,$AM$21)","v":0},null,{"$f":"IF($AN$21=0,0,$AN$21)","v":0},null,{"$f":"IF($AO$21=0,0,$AO$21)","v":0},null,{"$f":"IF($AP$21=0,0,$AP$21)","v":0},null,{"$f":"IF($AQ$21=0,0,$AQ$21)","v":0},null,{"$f":"IF($AR$21=0,0,$AR$21)","v":0},null,null,null,null,null,null,null,{"$f":"IF($AV$21=0,0,$AV$21)","v":0}]
[{"$f":"Labels!$B$140","v":"Différence en heures"},{"$f":"Labels!$B$141","v":"après compensation et paiement"},null,null,null,null,{"$f":"IF(ROUND($P$4,3)=0,0,$P$4-G59-G61)","v":0},null,{"$f":"IF(ROUND(G62,3)=0,0,G62-(SUM(I59+I61)))","v":0},null,{"$f":"IF(ROUND(I62,3)=0,0,I62-K61-K59)","v":0},null,{"$f":"IF(ROUND(K62,3)=0,0,K62-(SUM(M61+M59)))","v":0},null,{"$f":"IF(ROUND(M62,3)=0,0,M62-(SUM(O61+O59)))","v":0},null,{"$f":"IF(ROUND(O62,3)=0,0,O62-(SUM(Q61+Q59)))","v":0},null,{"$f":"IF(ROUND(Q62,3)=0,0,Q62-(SUM(S61+S59)))","v":0},null,{"$f":"IF(ROUND(S62,3)=0,0,S62-(SUM(U61+U59)))","v":0},null,{"$f":"IF(ROUND(U62,3)=0,0,U62-(SUM(W61+W59)))","v":0},null,{"$f":"IF($W$62<0.1,\"\",AY44)","v":""},null,null,null,null,null,null,null,null,null,"Anstellungsdetails Expertenmodus",null,"Name:","Muster Peter",null,null,"Default-%",null,100]
[{"$f":"Labels!$B$138","v":"Paiement des heures"},{"$f":"Labels!$B$142","v":"de l'année en cours"},null,null,null,null,{"$f":"IF($AJ$22=0,0,$AJ$22)","v":0},null,{"$f":"IF($AK$22=0,0,$AK$22)","v":0},null,{"$f":"IF($AL$22=0,0,$AL$22)","v":0},null,{"$f":"IF($AM$22=0,0,$AM$22)","v":0},null,{"$f":"IF($AN$22=0,0,$AN$22)","v":0},null,{"$f":"IF($AO$22=0,0,$AO$22)","v":0},null,{"$f":"IF($AP$22=0,0,$AP$22)","v":0},null,{"$f":"IF($AQ$22=0,0,$AQ$22)","v":0},null,{"$f":"IF($AR$22=0,0,$AR$22)","v":0},null,{"$f":"IF($AS$22=0,0,$AS$22)","v":0},null,{"$f":"IF($AT$22=0,0,$AT$22)","v":0},null,{"$f":"IF($AU$22=0,0,$AU$22)","v":0},null,{"$f":"IF($AV$22=0,0,$AV$22)","v":0}]
[{"$f":"Labels!$B$143","v":"Heures manquantes"},{"$f":"Labels!$B$144","v":"de l'année en cours (contrôle)"},null,null,null,{"$f":"Labels!$B$145","v":"hm"},{"$f":"IF($AJ$14=0,0,$AJ$14)","v":0},null,{"$f":"IF($AK$14=0,0,$AK$14)","v":0},null,{"$f":"IF($AL$14=0,0,$AL$14)","v":0},null,{"$f":"IF($AM$14=0,0,$AM$14)","v":0},null,{"$f":"IF($AN$14=0,0,$AN$14)","v":0},null,{"$f":"IF($AO$14=0,0,$AO$14)","v":0},null,{"$f":"IF($AP$14=0,0,$AP$14)","v":0},null,{"$f":"IF($AQ$14=0,0,$AQ$14)","v":0},null,{"$f":"IF($AR$14=0,0,$AR$14)","v":0},null,{"$f":"IF($AS$14=0,0,$AS$14)","v":0},null,{"$f":"IF($AT$14=0,0,$AT$14)","v":0},null,{"$f":"IF($AU$14=0,0,$AU$14)","v":0},null,{"$f":"IF($AV$14=0,0,$AV$14)","v":0},null,null,null,null,null,null,"%","MO","DI","MI","DO","FR","P-AT"]
[{"$f":"Labels!$B$146","v":"Total (majorations inclus)"},{"$f":"Labels!$B$147","v":"heures productives et inproductives"},null,null,null,null,{"$f":"IF($AG$35=0,0,$AG$35)","v":0},null,{"$f":"IF($AG$100=0,0,$AG$100)","v":0},null,{"$f":"IF($AG$165=0,0,$AG$165)","v":0},null,{"$f":"IF($AG$230=0,0,$AG$230)","v":0},null,{"$f":"IF($AG$295=0,0,$AG$295)","v":0},null,{"$f":"IF($AG$360=0,0,$AG$360)","v":0},null,{"$f":"IF($AG$425=0,0,$AG$425)","v":0},null,{"$f":"IF($AG$490=0,0,$AG$490)","v":0},null,{"$f":"IF($AG$555=0,0,$AG$555)","v":0},null,{"$f":"IF($AG$620=0,0,$AG$620)","v":0},null,{"$f":"IF($AG$685=0,0,$AG$685)","v":0},null,{"$f":"IF($AG$750=0,0,$AG$750)","v":0},null,{"$f":"SUM($G$65:$AD$65)","v":0},null,null,null,null,null,"Jan",{"$f":"SUM(AM65:AQ65)/5","v":100},100,100,100,100,100,{"$f":"SUM(AM65:AQ65)/100","v":5}]
[{"$f":"Labels!$B$148","v":"Comparaison des heures"},{"$f":"Labels!$B$149","v":"aux heures théorique CCT (heures \nmanquantes de l'année passée incl.)"},null,null,null,null,{"$f":"IF($AG$37=0,0,$AG$37)-$AE$34+$P$5","v":-176},null,{"$f":"IF($AG$102=0,0,$AG$102)-$AE$99","v":-160},null,{"$f":"IF($AG$167=0,0,$AG$167)-$AE$164","v":-184},null,{"$f":"IF($AG$232=0,0,$AG$232)-$AE$229","v":-160},null,{"$f":"IF($AG$297=0,0,$AG$297)-$AE$294","v":-184},null,{"$f":"IF($AG$362=0,0,$AG$362)-$AE$359","v":-176},null,{"$f":"IF($AG$427=0,0,$AG$427)-$AE$424","v":-168},null,{"$f":"IF($AG$492=0,0,$AG$492)-$AE$489","v":-184},null,{"$f":"IF($AG$557=0,0,$AG$557)-$AE$554","v":-168},null,{"$f":"IF($AG$622=0,0,$AG$622)-$AE$619","v":-176},null,{"$f":"IF($AG$687=0,0,$AG$687)-$AE$684","v":-176},null,{"$f":"IF($AG$752=0,0,$AG$752)-$AE$749","v":-168},null,{"$f":"SUM($G$66:$AD$66)","v":-2080},null,null,null,null,null,"Feb",{"$f":"SUM(AM66:AQ66)/5","v":100},100,100,100,100,100,{"$f":"SUM(AM66:AQ66)/100","v":5}]
[null,{"$f":"Labels!$B$151","v":"aux heures théorique (cumulées)"},null,null,null,null,{"$f":"IF(G40=0,0,$G$66)","v":-176},null,{"$f":"IF(I40=0,0,SUM($G$66:$J$66))","v":-336},null,{"$f":"IF(K40=0,0,SUM($G$66:$L$66))","v":-520},null,{"$f":"IF(M40=0,0,SUM($G$66:$N$66))","v":-680},null,{"$f":"IF(O40=0,0,SUM($G$66:$P$66))","v":-864},null,{"$f":"IF(Q40=0,0,SUM($G$66:$R$66))","v":-1040},null,{"$f":"IF(S40=0,0,SUM($G$66:$T$66))","v":-1208},null,{"$f":"IF(U40=0,0,SUM($G$66:$V$66))","v":-1392},null,{"$f":"IF(W40=0,0,SUM($G$66:$X$66))","v":-1560},null,{"$f":"IF(Y40=0,0,SUM($G$66:$Z$66))","v":-1736},null,{"$f":"IF(AA40=0,0,SUM($G$66:$AB$66))","v":-1912},null,{"$f":"IF(AC40=0,0,SUM($G$66:$AD$66))","v":-2080},null,null,null,null,null,null,null,"Mrz",100,100,100,100,100,100,5]
[{"$f":"Labels!$B$153","v":"Vacances (contrôle)"},{"$f":"Labels!$B$154","v":"Vacances année passée"},null,null,null,null,{"$f":"IF($AA$4=0,0,$AA$4)","v":0},null,{"$f":"Labels!$B$155","v":"Vacances selon \nart 12.1 CCT"},null,null,null,{"$f":"IF($AA$5=0,0,$AA$5)","v":0},null,{"$f":"Labels!$B$156","v":"Total des vacances"},null,null,null,{"$f":"SUM(G68+M68)","v":0},null,{"$f":"Labels!$B$157","v":"Vacances prises"},null,null,null,{"$f":"IF($AV$4=0,0,$AV$4)","v":0},null,{"$f":"Labels!$B$158","v":"Vacances restantes"},null,null,null,{"$f":"IF(S68=0,0,S68-Y68)","v":0},null,null,null,null,null,"Apr",100,100,100,100,100,100,5]
[null,null,null,null,null,null,null,null,null,null,null,null,null,null,null,null,null,null,null,null,null,null,null,null,null,null,null,null,null,null,null,null,null,null,null,null,"Mai",100,100,100,100,100,100,5]
[null,null,null,null,null,null,null,null,null,null,null,null,null,null,null,null,null,null,null,null,null,null,null,null,null,null,null,null,null,null,null,null,null,null,null,null,"Jun",100,100,100,100,100,100,5]
[{"$f":"$A$3","v":"Nom/Prénom"},{"$f":"IF($B$3=\"\",\"\",$B$3)","v":"Modèle Pierre"},null,null,null,null,null,null,null,null,null,null,null,null,null,null,null,null,null,null,null,null,null,null,null,null,null,null,null,null,null,{"$f":"AF3","v":0},null,null,null,null,"Jul",100,100,100,100,100,100,5]
[{"$f":"$A$4","v":"Emploi %"},{"$f":"$AL$49","v":100},null,{"$f":"Labels!B90","v":"en février"},null,null,null,null,null,null,null,null,null,null,null,null,null,null,null,null,null,null,null,null,null,null,null,null,null,null,null,null,null,null,null,null,"Aug",100,100,100,100,100,100,5]
[{"$f":"$A$5","v":"Solde année en cours"},null,null,{"$f":"IF($AE$66=0,0,$AE$66)","v":-2080},null,null,null,null,null,null,null,null,null,null,null,null,null,null,null,null,null,null,null,null,null,null,null,null,null,null,null,null,null,null,null,null,"Sep",100,100,100,100,100,100,5]
[{"$f":"TEXT(DATE(YEAR(AP29),MONTH(AP29)+1,1),\"MMMM\"&Labels!B13)","v":"février"},{"$f":"$B$9","v":"Solde mois + / -"},null,null,null,{"$f":"(AG77-(SUM(AG78:AG92)-AE99))*-1","v":-160},null,null,null,null,{"$f":"$K$9","v":" = "},{"$f":"$L$9","v":"Les cases marquées en jaune doivent être remplies (les autres seront calculées automatiquement)"},null,null,null,null,null,null,null,null,null,null,null,null,null,null,null,null,null,null,null,null,{"$f":"COUNT(B77:AF77)&\" \"&Labels!$B$63","v":"20 Jours"},null,null,null,"Okt",100,100,100,100,100,100,5]
[{"$f":"$A$10","v":"Jour"},{"$f":"AF10+1","v":"2023-02-01"},{"$f":"B75+1","v":"2023-02-02"},"2023-02-03","2023-02-04","2023-02-05","2023-02-06","2023-02-07","2023-02-08","2023-02-09","2023-02-10","2023-02-11","2023-02-12","2023-02-13","2023-02-14","2023-02-15","2023-02-16","2023-02-17","2023-02-18","2023-02-19","2023-02-20","2023-02-21","2023-02-22","2023-02-23","2023-02-24","2023-02-25","2023-02-26","2023-02-27","2023-02-28",{"$f":"IF(istSchaltjahr,$AC$75+1,\"\")","v":""},null,null,null,null,null,null,"Nov",100,100,100,100,100,100,5]
[{"$f":"$A$11","v":"semaine civile"},{"$f":"IF(B75=\"\",\"\",TRUNC((B75-DATE(YEAR(B75+3-MOD(B75-2,7)),1,MOD(B75-2,7)-9))/7))","v":5},5,5,5,5,6,6,6,6,6,6,6,7,7,7,7,7,7,7,8,8,8,8,8,8,8,9,9,{"$f":"IF(istSchaltjahr,TRUNC((AD75-DATE(YEAR(AD75+3-MOD(AD75-2,7)),1,MOD(AD75-2,7)-9))/7),\"\")","v":""},"",null,null,"Woche",null,null,"Dez",100,100,100,100,100,100,5]
[{"$f":"$A$12","v":"Théorique sel. CCT"},{"$f":"IF(AND(MOD(B75,7)>=2,SUMPRODUCT(($AM$60:$AQ$60=MOD(B75,7))*$AM$49:$AQ$49),B854=\"\"),$J$7*SUMPRODUCT(($AM$77:$AQ$77=MOD(B75,7))*$AM$66:$AQ$66)%,\"\")","v":8},{"$f":"IF(AND(MOD(C75,7)>=2,SUMPRODUCT(($AM$60:$AQ$60=MOD(C75,7))*$AM$49:$AQ$49),C854=\"\"),$J$7*SUMPRODUCT(($AM$77:$AQ$77=MOD(C75,7))*$AM$66:$AQ$66)%,\"\")","v":8},{"$f":"IF(AND(MOD(D75,7)>=2,SUMPRODUCT(($AM$60:$AQ$60=MOD(D75,7))*$AM$49:$AQ$49),D854=\"\"),$J$7*SUMPRODUCT(($AM$77:$AQ$77=MOD(D75,7))*$AM$66:$AQ$66)%,\"\")","v":8},{"$f":"IF(AND(MOD(E75,7)>=2,SUMPRODUCT(($AM$60:$AQ$60=MOD(E75,7))*$AM$49:$AQ$49),E854=\"\"),$J$7*SUMPRODUCT(($AM$77:$AQ$77=MOD(E75,7))*$AM$66:$AQ$66)%,\"\")","v":""},{"$f":"IF(AND(MOD(F75,7)>=2,SUMPRODUCT(($AM$60:$AQ$60=MOD(F75,7))*$AM$49:$AQ$49),F854=\"\"),$J$7*SUMPRODUCT(($AM$77:$AQ$77=MOD(F75,7))*$AM$66:$AQ$66)%,\"\")","v":""},{"$f":"IF(AND(MOD(G75,7)>=2,SUMPRODUCT(($AM$60:$AQ$60=MOD(G75,7))*$AM$49:$AQ$49),G854=\"\"),$J$7*SUMPRODUCT(($AM$77:$AQ$77=MOD(G75,7))*$AM$66:$AQ$66)%,\"\")","v":8},{"$f":"IF(AND(MOD(H75,7)>=2,SUMPRODUCT(($AM$60:$AQ$60=MOD(H75,7))*$AM$49:$AQ$49),H854=\"\"),$J$7*SUMPRODUCT(($AM$77:$AQ$77=MOD(H75,7))*$AM$66:$AQ$66)%,\"\")","v":8},{"$f":"IF(AND(MOD(I75,7)>=2,SUMPRODUCT(($AM$60:$AQ$60=MOD(I75,7))*$AM$49:$AQ$49),I854=\"\"),$J$7*SUMPRODUCT(($AM$77:$AQ$77=MOD(I75,7))*$AM$66:$AQ$66)%,\"\")","v":8},{"$f":"IF(AND(MOD(J75,7)>=2,SUMPRODUCT(($AM$60:$AQ$60=MOD(J75,7))*$AM$49:$AQ$49),J854=\"\"),$J$7*SUMPRODUCT(($AM$77:$AQ$77=MOD(J75,7))*$AM$66:$AQ$66)%,\"\")","v":8},{"$f":"IF(AND(MOD(K75,7)>=2,SUMPRODUCT(($AM$60:$AQ$60=MOD(K75,7))*$AM$49:$AQ$49),K854=\"\"),$J$7*SUMPRODUCT(($AM$77:$AQ$77=MOD(K75,7))*$AM$66:$AQ$66)%,\"\")","v":8},{"$f":"IF(AND(MOD(L75,7)>=2,SUMPRODUCT(($AM$60:$AQ$60=MOD(L75,7))*$AM$49:$AQ$49),L854=\"\"),$J$7*SUMPRODUCT(($AM$77:$AQ$77=MOD(L75,7))*$AM$66:$AQ$66)%,\"\")","v":""},{"$f":"IF(AND(MOD(M75,7)>=2,SUMPRODUCT(($AM$60:$AQ$60=MOD(M75,7))*$AM$49:$AQ$49),M854=\"\"),$J$7*SUMPRODUCT(($AM$77:$AQ$77=MOD(M75,7))*$AM$66:$AQ$66)%,\"\")","v":""},{"$f":"IF(AND(MOD(N75,7)>=2,SUMPRODUCT(($AM$60:$AQ$60=MOD(N75,7))*$AM$49:$AQ$49),N854=\"\"),$J$7*SUMPRODUCT(($AM$77:$AQ$77=MOD(N75,7))*$AM$66:$AQ$66)%,\"\")","v":8},{"$f":"IF(AND(MOD(O75,7)>=2,SUMPRODUCT(($AM$60:$AQ$60=MOD(O75,7))*$AM$49:$AQ$49),O854=\"\"),$J$7*SUMPRODUCT(($AM$77:$AQ$77=MOD(O75,7))*$AM$66:$AQ$66)%,\"\")","v":8},{"$f":"IF(AND(MOD(P75,7)>=2,SUMPRODUCT(($AM$60:$AQ$60=MOD(P75,7))*$AM$49:$AQ$49),P854=\"\"),$J$7*SUMPRODUCT(($AM$77:$AQ$77=MOD(P75,7))*$AM$66:$AQ$66)%,\"\")","v":8},{"$f":"IF(AND(MOD(Q75,7)>=2,SUMPRODUCT(($AM$60:$AQ$60=MOD(Q75,7))*$AM$49:$AQ$49),Q854=\"\"),$J$7*SUMPRODUCT(($AM$77:$AQ$77=MOD(Q75,7))*$AM$66:$AQ$66)%,\"\")","v":8},{"$f":"IF(AND(MOD(R75,7)>=2,SUMPRODUCT(($AM$60:$AQ$60=MOD(R75,7))*$AM$49:$AQ$49),R854=\"\"),$J$7*SUMPRODUCT(($AM$77:$AQ$77=MOD(R75,7))*$AM$66:$AQ$66)%,\"\")","v":8},{"$f":"IF(AND(MOD(S75,7)>=2,SUMPRODUCT(($AM$60:$AQ$60=MOD(S75,7))*$AM$49:$AQ$49),S854=\"\"),$J$7*SUMPRODUCT(($AM$77:$AQ$77=MOD(S75,7))*$AM$66:$AQ$66)%,\"\")","v":""},{"$f":"IF(AND(MOD(T75,7)>=2,SUMPRODUCT(($AM$60:$AQ$60=MOD(T75,7))*$AM$49:$AQ$49),T854=\"\"),$J$7*SUMPRODUCT(($AM$77:$AQ$77=MOD(T75,7))*$AM$66:$AQ$66)%,\"\")","v":""},{"$f":"IF(AND(MOD(U75,7)>=2,SUMPRODUCT(($AM$60:$AQ$60=MOD(U75,7))*$AM$49:$AQ$49),U854=\"\"),$J$7*SUMPRODUCT(($AM$77:$AQ$77=MOD(U75,7))*$AM$66:$AQ$66)%,\"\")","v":8},{"$f":"IF(AND(MOD(V75,7)>=2,SUMPRODUCT(($AM$60:$AQ$60=MOD(V75,7))*$AM$49:$AQ$49),V854=\"\"),$J$7*SUMPRODUCT(($AM$77:$AQ$77=MOD(V75,7))*$AM$66:$AQ$66)%,\"\")","v":8},{"$f":"IF(AND(MOD(W75,7)>=2,SUMPRODUCT(($AM$60:$AQ$60=MOD(W75,7))*$AM$49:$AQ$49),W854=\"\"),$J$7*SUMPRODUCT(($AM$77:$AQ$77=MOD(W75,7))*$AM$66:$AQ$66)%,\"\")","v":8},{"$f":"IF(AND(MOD(X75,7)>=2,SUMPRODUCT(($AM$60:$AQ$60=MOD(X75,7))*$AM$49:$AQ$49),X854=\"\"),$J$7*SUMPRODUCT(($AM$77:$AQ$77=MOD(X75,7))*$AM$66:$AQ$66)%,\"\")","v":8},{"$f":"IF(AND(MOD(Y75,7)>=2,SUMPRODUCT(($AM$60:$AQ$60=MOD(Y75,7))*$AM$49:$AQ$49),Y854=\"\"),$J$7*SUMPRODUCT(($AM$77:$AQ$77=MOD(Y75,7))*$AM$66:$AQ$66)%,\"\")","v":8},{"$f":"IF(AND(MOD(Z75,7)>=2,SUMPRODUCT(($AM$60:$AQ$60=MOD(Z75,7))*$AM$49:$AQ$49),Z854=\"\"),$J$7*SUMPRODUCT(($AM$77:$AQ$77=MOD(Z75,7))*$AM$66:$AQ$66)%,\"\")","v":""},{"$f":"IF(AND(MOD(AA75,7)>=2,SUMPRODUCT(($AM$60:$AQ$60=MOD(AA75,7))*$AM$49:$AQ$49),AA854=\"\"),$J$7*SUMPRODUCT(($AM$77:$AQ$77=MOD(AA75,7))*$AM$66:$AQ$66)%,\"\")","v":""},{"$f":"IF(AND(MOD(AB75,7)>=2,SUMPRODUCT(($AM$60:$AQ$60=MOD(AB75,7))*$AM$49:$AQ$49),AB854=\"\"),$J$7*SUMPRODUCT(($AM$77:$AQ$77=MOD(AB75,7))*$AM$66:$AQ$66)%,\"\")","v":8},{"$f":"IF(AND(MOD(AC75,7)>=2,SUMPRODUCT(($AM$60:$AQ$60=MOD(AC75,7))*$AM$49:$AQ$49),AC854=\"\"),$J$7*SUMPRODUCT(($AM$77:$AQ$77=MOD(AC75,7))*$AM$66:$AQ$66)%,\"\")","v":8},{"$f":"IF(istSchaltjahr,IF(AND(MOD(AD75,7)>=2,SUMPRODUCT(($AM$60:$AQ$60=MOD(AD75,7))*$AM$49:$AQ$49),AD854=\"\"),$J$7*SUMPRODUCT(($AM$77:$AQ$77=MOD(AD75,7))*$AM$66:$AQ$66)%,\"\"),\"\")","v":""},null,null,{"$f":"IF($AD$75=\"\",SUM(B77:AC77),SUM(B77:AF77))","v":160},"[00]","Abbildung Wochentage für Formel =>",null,"Avg",{"$f":"SUM(AL65:AL76)/12","v":100},2,3,4,5,6]
[{"$f":"$A$13","v":"Absences"},{"$f":"B870","v":0},{"$f":"C870","v":0},0,0,0,0,0,0,0,0,0,0,0,0,0,0,0,0,0,0,0,0,0,0,0,0,0,0,{"$f":"IF(istSchaltjahr,AD870,\"\")","v":""},null,null,{"$f":"SUM($AK$3:$AK$13)","v":0},"[01]"]
[{"$f":"$A$14","v":"Code"},{"$f":"IF(SUM(B857:B869)<>0,IF(MAX(B857:B869)<B870,Labels!$B$163,INDEX($AH$857:$AH$869,MATCH(MAX(B857:B869),B857:B869,0))),\"\")","v":""},{"$f":"IF(SUM(C857:C869)<>0,IF(MAX(C857:C869)<C870,Labels!$B$163,INDEX($AH$857:$AH$869,MATCH(MAX(C857:C869),C857:C869,0))),\"\")","v":""},{"$f":"IF(SUM(D857:D869)<>0,IF(MAX(D857:D869)<D870,Labels!$B$163,INDEX($AH$857:$AH$869,MATCH(MAX(D857:D869),D857:D869,0))),\"\")","v":""},{"$f":"IF(SUM(E857:E869)<>0,IF(MAX(E857:E869)<E870,Labels!$B$163,INDEX($AH$857:$AH$869,MATCH(MAX(E857:E869),E857:E869,0))),\"\")","v":""},{"$f":"IF(SUM(F857:F869)<>0,IF(MAX(F857:F869)<F870,Labels!$B$163,INDEX($AH$857:$AH$869,MATCH(MAX(F857:F869),F857:F869,0))),\"\")","v":""},{"$f":"IF(SUM(G857:G869)<>0,IF(MAX(G857:G869)<G870,Labels!$B$163,INDEX($AH$857:$AH$869,MATCH(MAX(G857:G869),G857:G869,0))),\"\")","v":""},{"$f":"IF(SUM(H857:H869)<>0,IF(MAX(H857:H869)<H870,Labels!$B$163,INDEX($AH$857:$AH$869,MATCH(MAX(H857:H869),H857:H869,0))),\"\")","v":""},{"$f":"IF(SUM(I857:I869)<>0,IF(MAX(I857:I869)<I870,Labels!$B$163,INDEX($AH$857:$AH$869,MATCH(MAX(I857:I869),I857:I869,0))),\"\")","v":""},{"$f":"IF(SUM(J857:J869)<>0,IF(MAX(J857:J869)<J870,Labels!$B$163,INDEX($AH$857:$AH$869,MATCH(MAX(J857:J869),J857:J869,0))),\"\")","v":""},{"$f":"IF(SUM(K857:K869)<>0,IF(MAX(K857:K869)<K870,Labels!$B$163,INDEX($AH$857:$AH$869,MATCH(MAX(K857:K869),K857:K869,0))),\"\")","v":""},{"$f":"IF(SUM(L857:L869)<>0,IF(MAX(L857:L869)<L870,Labels!$B$163,INDEX($AH$857:$AH$869,MATCH(MAX(L857:L869),L857:L869,0))),\"\")","v":""},{"$f":"IF(SUM(M857:M869)<>0,IF(MAX(M857:M869)<M870,Labels!$B$163,INDEX($AH$857:$AH$869,MATCH(MAX(M857:M869),M857:M869,0))),\"\")","v":""},{"$f":"IF(SUM(N857:N869)<>0,IF(MAX(N857:N869)<N870,Labels!$B$163,INDEX($AH$857:$AH$869,MATCH(MAX(N857:N869),N857:N869,0))),\"\")","v":""},{"$f":"IF(SUM(O857:O869)<>0,IF(MAX(O857:O869)<O870,Labels!$B$163,INDEX($AH$857:$AH$869,MATCH(MAX(O857:O869),O857:O869,0))),\"\")","v":""},{"$f":"IF(SUM(P857:P869)<>0,IF(MAX(P857:P869)<P870,Labels!$B$163,INDEX($AH$857:$AH$869,MATCH(MAX(P857:P869),P857:P869,0))),\"\")","v":""},{"$f":"IF(SUM(Q857:Q869)<>0,IF(MAX(Q857:Q869)<Q870,Labels!$B$163,INDEX($AH$857:$AH$869,MATCH(MAX(Q857:Q869),Q857:Q869,0))),\"\")","v":""},{"$f":"IF(SUM(R857:R869)<>0,IF(MAX(R857:R869)<R870,Labels!$B$163,INDEX($AH$857:$AH$869,MATCH(MAX(R857:R869),R857:R869,0))),\"\")","v":""},{"$f":"IF(SUM(S857:S869)<>0,IF(MAX(S857:S869)<S870,Labels!$B$163,INDEX($AH$857:$AH$869,MATCH(MAX(S857:S869),S857:S869,0))),\"\")","v":""},{"$f":"IF(SUM(T857:T869)<>0,IF(MAX(T857:T869)<T870,Labels!$B$163,INDEX($AH$857:$AH$869,MATCH(MAX(T857:T869),T857:T869,0))),\"\")","v":""},{"$f":"IF(SUM(U857:U869)<>0,IF(MAX(U857:U869)<U870,Labels!$B$163,INDEX($AH$857:$AH$869,MATCH(MAX(U857:U869),U857:U869,0))),\"\")","v":""},{"$f":"IF(SUM(V857:V869)<>0,IF(MAX(V857:V869)<V870,Labels!$B$163,INDEX($AH$857:$AH$869,MATCH(MAX(V857:V869),V857:V869,0))),\"\")","v":""},{"$f":"IF(SUM(W857:W869)<>0,IF(MAX(W857:W869)<W870,Labels!$B$163,INDEX($AH$857:$AH$869,MATCH(MAX(W857:W869),W857:W869,0))),\"\")","v":""},{"$f":"IF(SUM(X857:X869)<>0,IF(MAX(X857:X869)<X870,Labels!$B$163,INDEX($AH$857:$AH$869,MATCH(MAX(X857:X869),X857:X869,0))),\"\")","v":""},{"$f":"IF(SUM(Y857:Y869)<>0,IF(MAX(Y857:Y869)<Y870,Labels!$B$163,INDEX($AH$857:$AH$869,MATCH(MAX(Y857:Y869),Y857:Y869,0))),\"\")","v":""},{"$f":"IF(SUM(Z857:Z869)<>0,IF(MAX(Z857:Z869)<Z870,Labels!$B$163,INDEX($AH$857:$AH$869,MATCH(MAX(Z857:Z869),Z857:Z869,0))),\"\")","v":""},{"$f":"IF(SUM(AA857:AA869)<>0,IF(MAX(AA857:AA869)<AA870,Labels!$B$163,INDEX($AH$857:$AH$869,MATCH(MAX(AA857:AA869),AA857:AA869,0))),\"\")","v":""},{"$f":"IF(SUM(AB857:AB869)<>0,IF(MAX(AB857:AB869)<AB870,Labels!$B$163,INDEX($AH$857:$AH$869,MATCH(MAX(AB857:AB869),AB857:AB869,0))),\"\")","v":""},{"$f":"IF(SUM(AC857:AC869)<>0,IF(MAX(AC857:AC869)<AC870,Labels!$B$163,INDEX($AH$857:$AH$869,MATCH(MAX(AC857:AC869),AC857:AC869,0))),\"\")","v":""},{"$f":"IF(istSchaltjahr,IF(SUM(AD857:AD869)<>0,IF(MAX(AD857:AD869)<AD870,Labels!$B$163,INDEX($AH$857:$AH$869,MATCH(MAX(AD857:AD869),AD857:AD869,0))),\"\"),\"\")","v":""},null,null,{"$f":"$AK$16*-1","v":0},"[02]"]
[{"$f":"$A$15","v":"00h00-06h00 1)"},null,null,null,null,null,null,null,null,null,null,null,null,null,null,null,null,null,null,null,null,null,null,null,null,null,null,null,null,null,null,null,{"$f":"IF($AD$75=\"\",SUM(B80:AC80),SUM(B80:AF80))","v":0},"[04]"]
[{"$f":"$A$16","v":"06h00-20h00 2)"},null,null,null,null,null,null,null,null,null,null,null,null,null,null,null,null,null,null,null,null,null,null,null,null,null,null,null,null,null,null,null,{"$f":"IF($AD$75=\"\",SUM(B81:AC81),SUM(B81:AF81))","v":0},"[03]"]
[{"$f":"$A$17","v":"20h00-24h00 3)"},null,null,null,null,null,null,null,null,null,null,null,null,null,null,null,null,null,null,null,null,null,null,null,null,null,null,null,null,null,null,null,{"$f":"IF($AD$75=\"\",SUM(B82:AC82),SUM(B82:AF82))","v":0},"[05]"]
[{"$f":"$A$18","v":"Jours fériés \"jf\""},{"$f":"IF(WEEKDAY(B75,2)<=6,IF(CALENDRIER!E5=\"x\",Labels!$B$118,\"\"),\"\")","v":""},{"$f":"IF(WEEKDAY(C75,2)<=6,IF(CALENDRIER!F5=\"x\",Labels!$B$118,\"\"),\"\")","v":""},{"$f":"IF(WEEKDAY(D75,2)<=6,IF(CALENDRIER!G5=\"x\",Labels!$B$118,\"\"),\"\")","v":""},{"$f":"IF(WEEKDAY(E75,2)<=6,IF(CALENDRIER!H5=\"x\",Labels!$B$118,\"\"),\"\")","v":""},{"$f":"IF(WEEKDAY(F75,2)<=6,IF(CALENDRIER!I5=\"x\",Labels!$B$118,\"\"),\"\")","v":""},{"$f":"IF(WEEKDAY(G75,2)<=6,IF(CALENDRIER!J5=\"x\",Labels!$B$118,\"\"),\"\")","v":""},{"$f":"IF(WEEKDAY(H75,2)<=6,IF(CALENDRIER!K5=\"x\",Labels!$B$118,\"\"),\"\")","v":""},{"$f":"IF(WEEKDAY(I75,2)<=6,IF(CALENDRIER!L5=\"x\",Labels!$B$118,\"\"),\"\")","v":""},{"$f":"IF(WEEKDAY(J75,2)<=6,IF(CALENDRIER!M5=\"x\",Labels!$B$118,\"\"),\"\")","v":""},{"$f":"IF(WEEKDAY(K75,2)<=6,IF(CALENDRIER!N5=\"x\",Labels!$B$118,\"\"),\"\")","v":""},{"$f":"IF(WEEKDAY(L75,2)<=6,IF(CALENDRIER!O5=\"x\",Labels!$B$118,\"\"),\"\")","v":""},{"$f":"IF(WEEKDAY(M75,2)<=6,IF(CALENDRIER!P5=\"x\",Labels!$B$118,\"\"),\"\")","v":""},{"$f":"IF(WEEKDAY(N75,2)<=6,IF(CALENDRIER!Q5=\"x\",Labels!$B$118,\"\"),\"\")","v":""},{"$f":"IF(WEEKDAY(O75,2)<=6,IF(CALENDRIER!R5=\"x\",Labels!$B$118,\"\"),\"\")","v":""},{"$f":"IF(WEEKDAY(P75,2)<=6,IF(CALENDRIER!S5=\"x\",Labels!$B$118,\"\"),\"\")","v":""},{"$f":"IF(WEEKDAY(Q75,2)<=6,IF(CALENDRIER!T5=\"x\",Labels!$B$118,\"\"),\"\")","v":""},{"$f":"IF(WEEKDAY(R75,2)<=6,IF(CALENDRIER!U5=\"x\",Labels!$B$118,\"\"),\"\")","v":""},{"$f":"IF(WEEKDAY(S75,2)<=6,IF(CALENDRIER!V5=\"x\",Labels!$B$118,\"\"),\"\")","v":""},{"$f":"IF(WEEKDAY(T75,2)<=6,IF(CALENDRIER!W5=\"x\",Labels!$B$118,\"\"),\"\")","v":""},{"$f":"IF(WEEKDAY(U75,2)<=6,IF(CALENDRIER!X5=\"x\",Labels!$B$118,\"\"),\"\")","v":""},{"$f":"IF(WEEKDAY(V75,2)<=6,IF(CALENDRIER!Y5=\"x\",Labels!$B$118,\"\"),\"\")","v":""},{"$f":"IF(WEEKDAY(W75,2)<=6,IF(CALENDRIER!Z5=\"x\",Labels!$B$118,\"\"),\"\")","v":""},{"$f":"IF(WEEKDAY(X75,2)<=6,IF(CALENDRIER!AA5=\"x\",Labels!$B$118,\"\"),\"\")","v":""},{"$f":"IF(WEEKDAY(Y75,2)<=6,IF(CALENDRIER!AB5=\"x\",Labels!$B$118,\"\"),\"\")","v":""},{"$f":"IF(WEEKDAY(Z75,2)<=6,IF(CALENDRIER!AC5=\"x\",Labels!$B$118,\"\"),\"\")","v":""},{"$f":"IF(WEEKDAY(AA75,2)<=6,IF(CALENDRIER!AD5=\"x\",Labels!$B$118,\"\"),\"\")","v":""},{"$f":"IF(WEEKDAY(AB75,2)<=6,IF(CALENDRIER!AE5=\"x\",Labels!$B$118,\"\"),\"\")","v":""},{"$f":"IF(WEEKDAY(AC75,2)<=6,IF(CALENDRIER!AF5=\"x\",Labels!$B$118,\"\"),\"\")","v":""},{"$f":"IF(istSchaltjahr,IF(WEEKDAY(AD75,2)<=6,IF(CALENDRIER!AG5=\"x\",Labels!$B$118,\"\"),\"\"),\"\")","v":""},{"$f":"IF(WEEKDAY(AE75,2)<=6,IF(CALENDRIER!AH5=\"x\",Labels!$B$118,\"\"),\"\")","v":""},{"$f":"IF(WEEKDAY(AF75,2)<=6,IF(CALENDRIER!AI5=\"x\",Labels!$B$118,\"\"),\"\")","v":""},null,"FT"]
[{"$f":"$A$19","v":"Majoration  \"jf\""},{"$f":"IF(AND(B83=Labels!$B$118,WEEKDAY(B75,2)<6,B$77<>\"\"),$J$7*SUMPRODUCT(($AM$77:$AQ$77=MOD(B75,7))*$AM$66:$AQ$66)%,\"\")","v":""},{"$f":"IF(AND(C83=Labels!$B$118,WEEKDAY(C75,2)<6,C$77<>\"\"),$J$7*SUMPRODUCT(($AM$77:$AQ$77=MOD(C75,7))*$AM$66:$AQ$66)%,\"\")","v":""},{"$f":"IF(AND(D83=Labels!$B$118,WEEKDAY(D75,2)<6,D$77<>\"\"),$J$7*SUMPRODUCT(($AM$77:$AQ$77=MOD(D75,7))*$AM$66:$AQ$66)%,\"\")","v":""},{"$f":"IF(AND(E83=Labels!$B$118,WEEKDAY(E75,2)<6,E$77<>\"\"),$J$7*SUMPRODUCT(($AM$77:$AQ$77=MOD(E75,7))*$AM$66:$AQ$66)%,\"\")","v":""},{"$f":"IF(AND(F83=Labels!$B$118,WEEKDAY(F75,2)<6,F$77<>\"\"),$J$7*SUMPRODUCT(($AM$77:$AQ$77=MOD(F75,7))*$AM$66:$AQ$66)%,\"\")","v":""},{"$f":"IF(AND(G83=Labels!$B$118,WEEKDAY(G75,2)<6,G$77<>\"\"),$J$7*SUMPRODUCT(($AM$77:$AQ$77=MOD(G75,7))*$AM$66:$AQ$66)%,\"\")","v":""},{"$f":"IF(AND(H83=Labels!$B$118,WEEKDAY(H75,2)<6,H$77<>\"\"),$J$7*SUMPRODUCT(($AM$77:$AQ$77=MOD(H75,7))*$AM$66:$AQ$66)%,\"\")","v":""},{"$f":"IF(AND(I83=Labels!$B$118,WEEKDAY(I75,2)<6,I$77<>\"\"),$J$7*SUMPRODUCT(($AM$77:$AQ$77=MOD(I75,7))*$AM$66:$AQ$66)%,\"\")","v":""},{"$f":"IF(AND(J83=Labels!$B$118,WEEKDAY(J75,2)<6,J$77<>\"\"),$J$7*SUMPRODUCT(($AM$77:$AQ$77=MOD(J75,7))*$AM$66:$AQ$66)%,\"\")","v":""},{"$f":"IF(AND(K83=Labels!$B$118,WEEKDAY(K75,2)<6,K$77<>\"\"),$J$7*SUMPRODUCT(($AM$77:$AQ$77=MOD(K75,7))*$AM$66:$AQ$66)%,\"\")","v":""},{"$f":"IF(AND(L83=Labels!$B$118,WEEKDAY(L75,2)<6,L$77<>\"\"),$J$7*SUMPRODUCT(($AM$77:$AQ$77=MOD(L75,7))*$AM$66:$AQ$66)%,\"\")","v":""},{"$f":"IF(AND(M83=Labels!$B$118,WEEKDAY(M75,2)<6,M$77<>\"\"),$J$7*SUMPRODUCT(($AM$77:$AQ$77=MOD(M75,7))*$AM$66:$AQ$66)%,\"\")","v":""},{"$f":"IF(AND(N83=Labels!$B$118,WEEKDAY(N75,2)<6,N$77<>\"\"),$J$7*SUMPRODUCT(($AM$77:$AQ$77=MOD(N75,7))*$AM$66:$AQ$66)%,\"\")","v":""},{"$f":"IF(AND(O83=Labels!$B$118,WEEKDAY(O75,2)<6,O$77<>\"\"),$J$7*SUMPRODUCT(($AM$77:$AQ$77=MOD(O75,7))*$AM$66:$AQ$66)%,\"\")","v":""},{"$f":"IF(AND(P83=Labels!$B$118,WEEKDAY(P75,2)<6,P$77<>\"\"),$J$7*SUMPRODUCT(($AM$77:$AQ$77=MOD(P75,7))*$AM$66:$AQ$66)%,\"\")","v":""},{"$f":"IF(AND(Q83=Labels!$B$118,WEEKDAY(Q75,2)<6,Q$77<>\"\"),$J$7*SUMPRODUCT(($AM$77:$AQ$77=MOD(Q75,7))*$AM$66:$AQ$66)%,\"\")","v":""},{"$f":"IF(AND(R83=Labels!$B$118,WEEKDAY(R75,2)<6,R$77<>\"\"),$J$7*SUMPRODUCT(($AM$77:$AQ$77=MOD(R75,7))*$AM$66:$AQ$66)%,\"\")","v":""},{"$f":"IF(AND(S83=Labels!$B$118,WEEKDAY(S75,2)<6,S$77<>\"\"),$J$7*SUMPRODUCT(($AM$77:$AQ$77=MOD(S75,7))*$AM$66:$AQ$66)%,\"\")","v":""},{"$f":"IF(AND(T83=Labels!$B$118,WEEKDAY(T75,2)<6,T$77<>\"\"),$J$7*SUMPRODUCT(($AM$77:$AQ$77=MOD(T75,7))*$AM$66:$AQ$66)%,\"\")","v":""},{"$f":"IF(AND(U83=Labels!$B$118,WEEKDAY(U75,2)<6,U$77<>\"\"),$J$7*SUMPRODUCT(($AM$77:$AQ$77=MOD(U75,7))*$AM$66:$AQ$66)%,\"\")","v":""},{"$f":"IF(AND(V83=Labels!$B$118,WEEKDAY(V75,2)<6,V$77<>\"\"),$J$7*SUMPRODUCT(($AM$77:$AQ$77=MOD(V75,7))*$AM$66:$AQ$66)%,\"\")","v":""},{"$f":"IF(AND(W83=Labels!$B$118,WEEKDAY(W75,2)<6,W$77<>\"\"),$J$7*SUMPRODUCT(($AM$77:$AQ$77=MOD(W75,7))*$AM$66:$AQ$66)%,\"\")","v":""},{"$f":"IF(AND(X83=Labels!$B$118,WEEKDAY(X75,2)<6,X$77<>\"\"),$J$7*SUMPRODUCT(($AM$77:$AQ$77=MOD(X75,7))*$AM$66:$AQ$66)%,\"\")","v":""},{"$f":"IF(AND(Y83=Labels!$B$118,WEEKDAY(Y75,2)<6,Y$77<>\"\"),$J$7*SUMPRODUCT(($AM$77:$AQ$77=MOD(Y75,7))*$AM$66:$AQ$66)%,\"\")","v":""},{"$f":"IF(AND(Z83=Labels!$B$118,WEEKDAY(Z75,2)<6,Z$77<>\"\"),$J$7*SUMPRODUCT(($AM$77:$AQ$77=MOD(Z75,7))*$AM$66:$AQ$66)%,\"\")","v":""},{"$f":"IF(AND(AA83=Labels!$B$118,WEEKDAY(AA75,2)<6,AA$77<>\"\"),$J$7*SUMPRODUCT(($AM$77:$AQ$77=MOD(AA75,7))*$AM$66:$AQ$66)%,\"\")","v":""},{"$f":"IF(AND(AB83=Labels!$B$118,WEEKDAY(AB75,2)<6,AB$77<>\"\"),$J$7*SUMPRODUCT(($AM$77:$AQ$77=MOD(AB75,7))*$AM$66:$AQ$66)%,\"\")","v":""},{"$f":"IF(AND(AC83=Labels!$B$118,WEEKDAY(AC75,2)<6,AC$77<>\"\"),$J$7*SUMPRODUCT(($AM$77:$AQ$77=MOD(AC75,7))*$AM$66:$AQ$66)%,\"\")","v":""},{"$f":"IF(istSchaltjahr,IF(AND(AD83=Labels!$B$118,WEEKDAY(AD75,2)<6,AD$77<>\"\"),$J$7*SUMPRODUCT(($AM$77:$AQ$77=MOD(AD75,7))*$AM$66:$AQ$66)%,\"\"),\"\")","v":""},{"$f":"IF(AND(AE83=Labels!$B$118,WEEKDAY(AE75,2)<6),$J$7*$B$72%,\"\")","v":""},{"$f":"IF(AND(AF83=Labels!$B$118,WEEKDAY(AF75,2)<6),$J$7*$B$72%,\"\")","v":""},{"$f":"IF($AD$75=\"\",SUM(B84:AC84),SUM(B84:AF84))","v":0},"[06]"]
[{"$f":"$A$20","v":"total quotidien"},{"$f":"SUM(B80:B82)","v":0},{"$f":"SUM(C80:C82)","v":0},0,0,0,0,0,0,0,0,0,0,0,0,0,0,0,0,0,0,0,0,0,0,0,0,0,0,{"$f":"IF(istSchaltjahr,SUM(AD80:AD82),\"\")","v":""},null,null,null,"TT"]
[{"$f":"$A$21","v":"."},null,null,null,null,null,null,null,null,null,null,null,null,null,null,null,null,null,null,null,null,null,null,null,null,null,null,null,null,null,null,null,null,"R"]
[{"$f":"$A$22","v":"."},null,null,null,null,null,null,null,null,null,null,null,null,null,null,null,null,null,null,null,null,null,null,null,null,null,null,null,null,null,null,null,null,"R"]
[{"$f":"$A$23","v":"transition mois"},{"$f":"IF(WEEKDAY(B75)=1,TEXT(B75-1,\"MMM\"&Labels!B13),\"\")","v":""},null,null,null,null,null,null,null,null,null,null,null,null,null,null,null,null,null,null,null,null,null,null,null,null,null,null,{"$f":"IF(AND(WEEKDAY(AC75)>1,WEEKDAY(AC75)<7,AD75=\"\"),TEXT(DATE($B$5,MONTH(AC75)+1,1),\"MMM\"&Labels!B13),\"\")","v":"mars"},{"$f":"IF(ISERROR(WEEKDAY(AD75)),\"\",IF(AND(WEEKDAY(AD75)>1,WEEKDAY(AD75)<7),TEXT(DATE($B$5,MONTH(AD75)+1,1),\"MMM\"&Labels!B13),\"\"))","v":""},null,null,null,"MNT"]
[{"$f":"$A$24","v":"Total hebdomadaire"},{"$f":"IF(WEEKDAY(B75)=7,SUMIF($B11:$AF11,B76,$B20:$AF20)+SUMIF($B76:$AF76,B76,$B85:$AF85)+SUMIF($B141:$AF141,B76,$B150:$AF150),B88)","v":""},{"$f":"IF(WEEKDAY(C75)=7,SUMIF($B11:$AF11,C76,$B20:$AF20)+SUMIF($B76:$AF76,C76,$B85:$AF85)+SUMIF($B141:$AF141,C76,$B150:$AF150),\"\")","v":""},"",0,"","","","","","",0,"","","","","","",0,"","","","","","",0,"","",{"$f":"IF(WEEKDAY(AC75)=7,SUMIF($B11:$AF11,AC76,$B20:$AF20)+SUMIF($B76:$AF76,AC76,$B85:$AF85)+SUMIF($B141:$AF141,AC76,$B150:$AF150),AC88)","v":"mars"},{"$f":"IF(ISERROR(WEEKDAY(AD75)=7),\"\",IF(WEEKDAY(AD75)=7,SUMIF($B11:$AF11,AD76,$B20:$AF20)+SUMIF($B76:$AF76,AD76,$B85:$AF85)+SUMIF($B141:$AF141,AD76,$B150:$AF150),AD88))","v":""},null,null,null,"WT"]
[{"$f":"$A$25","v":"Majorations temp. 1)"},{"$f":"IF(B97=\"FALSCH\",\"\",B97)","v":""},{"$f":"IF(C97=\"FALSCH\",\"\",C97)","v":""},"","","","","","","","","","","","","","","","","","","","","","","","","","","",null,null,{"$f":"IF($AD$75=\"\",SUM(B90:AC90),SUM(B90:AF90))","v":0},"[07]"]
[{"$f":"$A$26","v":"Majorations temp. 2)"},{"$f":"IF((B80+B82)=0,\"\",SUM(B80,B82))","v":""},{"$f":"IF((C80+C82)=0,\"\",SUM(C80,C82))","v":""},"","","","","","","","","","","","","","","","","","","","","","","","","","","",null,null,0,"[08]"]
[{"$f":"$A$27","v":"Majorations temp. 3)"},{"$f":"SUM(B93:B96)","v":0},{"$f":"SUM(C93:C96)","v":0},0,0,0,0,0,0,0,0,0,0,0,0,0,0,0,0,0,0,0,0,0,0,0,0,0,0,{"$f":"IF(ISERROR(WEEKDAY(AD75)=1),\"\",SUM(AD93:AD96))","v":""},null,null,0,"[09]"]
[{"$f":"$A$28","v":"Dimanche journée"},{"$f":"IF(WEEKDAY(B75)=1,B81,\"\")","v":""},{"$f":"IF(WEEKDAY(C75)=1,C81,\"\")","v":""},"","",0,"","","","","","",0,"","","","","","",0,"","","","","","",0,"","",{"$f":"IF(ISERROR(WEEKDAY(AD75)=1),\"\",IF(WEEKDAY(AD75)=1,AD81,\"\"))","v":""},null,null,0,"[09-ST]"]
[{"$f":"$A$29","v":"Dimanche nuit"},{"$f":"IF(WEEKDAY(B75)=1,SUM(B80+B82),\"\")","v":""},{"$f":"IF(WEEKDAY(C75)=1,SUM(C80+C82),\"\")","v":""},"","",0,"","","","","","",0,"","","","","","",0,"","","","","","",0,"","",{"$f":"IF(ISERROR(WEEKDAY(AD75)=1),\"\",IF(WEEKDAY(AD75)=1,SUM(AD80+AD82),\"\"))","v":""},null,null,0,"[09-SN]"]
[{"$f":"$A$30","v":"jf-jomajoration"},{"$f":"IF(B83=Labels!$B$118,B81,\"\")","v":""},{"$f":"IF(C83=Labels!$B$118,C81,\"\")","v":""},{"$f":"IF(D83=Labels!$B$118,D81,\"\")","v":""},{"$f":"IF(E83=Labels!$B$118,E81,\"\")","v":""},{"$f":"IF(F83=Labels!$B$118,F81,\"\")","v":""},{"$f":"IF(G83=Labels!$B$118,G81,\"\")","v":""},{"$f":"IF(H83=Labels!$B$118,H81,\"\")","v":""},{"$f":"IF(I83=Labels!$B$118,I81,\"\")","v":""},{"$f":"IF(J83=Labels!$B$118,J81,\"\")","v":""},{"$f":"IF(K83=Labels!$B$118,K81,\"\")","v":""},{"$f":"IF(L83=Labels!$B$118,L81,\"\")","v":""},{"$f":"IF(M83=Labels!$B$118,M81,\"\")","v":""},{"$f":"IF(N83=Labels!$B$118,N81,\"\")","v":""},{"$f":"IF(O83=Labels!$B$118,O81,\"\")","v":""},{"$f":"IF(P83=Labels!$B$118,P81,\"\")","v":""},{"$f":"IF(Q83=Labels!$B$118,Q81,\"\")","v":""},{"$f":"IF(R83=Labels!$B$118,R81,\"\")","v":""},{"$f":"IF(S83=Labels!$B$118,S81,\"\")","v":""},{"$f":"IF(T83=Labels!$B$118,T81,\"\")","v":""},{"$f":"IF(U83=Labels!$B$118,U81,\"\")","v":""},{"$f":"IF(V83=Labels!$B$118,V81,\"\")","v":""},{"$f":"IF(W83=Labels!$B$118,W81,\"\")","v":""},{"$f":"IF(X83=Labels!$B$118,X81,\"\")","v":""},{"$f":"IF(Y83=Labels!$B$118,Y81,\"\")","v":""},{"$f":"IF(Z83=Labels!$B$118,Z81,\"\")","v":""},{"$f":"IF(AA83=Labels!$B$118,AA81,\"\")","v":""},{"$f":"IF(AB83=Labels!$B$118,AB81,\"\")","v":""},{"$f":"IF(AC83=Labels!$B$118,AC81,\"\")","v":""},{"$f":"IF(AD83=Labels!$B$118,AD81,\"\")","v":""},null,null,0,"[09-FT]"]
[{"$f":"$A$31","v":"jf-numajoration"},{"$f":"IF(B83=Labels!$B$118,SUM(B80,B82),\"\")","v":""},{"$f":"IF(C83=Labels!$B$118,SUM(C80,C82),\"\")","v":""},{"$f":"IF(D83=Labels!$B$118,SUM(D80,D82),\"\")","v":""},{"$f":"IF(E83=Labels!$B$118,SUM(E80,E82),\"\")","v":""},{"$f":"IF(F83=Labels!$B$118,SUM(F80,F82),\"\")","v":""},{"$f":"IF(G83=Labels!$B$118,SUM(G80,G82),\"\")","v":""},{"$f":"IF(H83=Labels!$B$118,SUM(H80,H82),\"\")","v":""},{"$f":"IF(I83=Labels!$B$118,SUM(I80,I82),\"\")","v":""},{"$f":"IF(J83=Labels!$B$118,SUM(J80,J82),\"\")","v":""},{"$f":"IF(K83=Labels!$B$118,SUM(K80,K82),\"\")","v":""},{"$f":"IF(L83=Labels!$B$118,SUM(L80,L82),\"\")","v":""},{"$f":"IF(M83=Labels!$B$118,SUM(M80,M82),\"\")","v":""},{"$f":"IF(N83=Labels!$B$118,SUM(N80,N82),\"\")","v":""},{"$f":"IF(O83=Labels!$B$118,SUM(O80,O82),\"\")","v":""},{"$f":"IF(P83=Labels!$B$118,SUM(P80,P82),\"\")","v":""},{"$f":"IF(Q83=Labels!$B$118,SUM(Q80,Q82),\"\")","v":""},{"$f":"IF(R83=Labels!$B$118,SUM(R80,R82),\"\")","v":""},{"$f":"IF(S83=Labels!$B$118,SUM(S80,S82),\"\")","v":""},{"$f":"IF(T83=Labels!$B$118,SUM(T80,T82),\"\")","v":""},{"$f":"IF(U83=Labels!$B$118,SUM(U80,U82),\"\")","v":""},{"$f":"IF(V83=Labels!$B$118,SUM(V80,V82),\"\")","v":""},{"$f":"IF(W83=Labels!$B$118,SUM(W80,W82),\"\")","v":""},{"$f":"IF(X83=Labels!$B$118,SUM(X80,X82),\"\")","v":""},{"$f":"IF(Y83=Labels!$B$118,SUM(Y80,Y82),\"\")","v":""},{"$f":"IF(Z83=Labels!$B$118,SUM(Z80,Z82),\"\")","v":""},{"$f":"IF(AA83=Labels!$B$118,SUM(AA80,AA82),\"\")","v":""},{"$f":"IF(AB83=Labels!$B$118,SUM(AB80,AB82),\"\")","v":""},{"$f":"IF(AC83=Labels!$B$118,SUM(AC80,AC82),\"\")","v":""},{"$f":"IF(AD83=Labels!$B$118,SUM(AD80,AD82),\"\")","v":""},null,null,0,"[09-FN]"]
[{"$f":"$A$32","v":"majoration caché (total hebd.)"},{"$f":"IF($B72>=80,IF(OR(ISTEXT(B89),B89=\"\",B89<$B$7),\"\",ROUND(((B89-$B$7)*25%)/25,4)*25),IF(B85>($B$7/5),ROUND(((B85-($B$7/5))*25%)/25,4)*25,\"\"))","v":""},{"$f":"IF($B72>=80,IF(OR(ISTEXT(C89),C89=\"\",C89<$B$7),\"\",ROUND(((C89-$B$7)*25%)/25,4)*25),IF(C85>($B$7/5),ROUND(((C85-($B$7/5))*25%)/25,4)*25,\"\"))","v":""},"","","","","","","","","","","","","","","","","","","","","","","","","","",{"$f":"IF(istSchaltjahr,IF($B72>=80,IF(OR(ISTEXT(AD89),AD89=\"\",AD89<$B$7),\"\",ROUND(((AD89-$B$7)*25%)/25,4)*25),IF(AD85>($B$7/5),ROUND(((AD85-($B$7/5))*25%)/25,4)*25,\"\")),\"\")","v":""},{"$f":"YEAR(AC75)","v":2023},null,{"$f":"AG81","v":0},"[03]"]
[null,{"$f":"$B$33","v":"1)  25% majoration temporelle pour depassement les heures maximales"},null,null,null,null,null,null,null,null,null,{"$f":"$L$33","v":"2) 100% majoration temporelle pour travail de nuit"},null,null,null,null,null,null,null,{"$f":"$T$33","v":"Saisie des heures payées l'année passée"},null,null,null,null,null,null,null,null,null,null,null,null,{"$f":"SUM(AG80,AG82)","v":0},"[4-5]"]
[null,{"$f":"$B$34","v":"3) 100% majoration temporelle pour travail du dimanche et jour férié"},null,null,null,null,null,null,null,null,null,null,null,null,null,null,null,null,null,{"$f":"$T$34","v":"Saisie des heures payées exercice en cours (heures supplémentaires)"},null,null,null,null,null,null,null,null,null,null,null,null,{"$f":"SUM(AG80:AG82)","v":0},"[3-5]"]
[{"$f":"$A$35","v":"Notes"},null,null,null,null,null,null,null,null,null,null,null,null,null,null,null,null,null,null,null,null,null,null,null,null,null,null,null,null,null,null,null,{"$f":"SUM(AG78:AG92)","v":0},"[10]"]
[null,null,null,null,null,null,null,null,null,null,null,null,null,null,null,null,null,null,null,null,null,null,null,null,null,null,null,null,null,null,null,null,{"$f":"AG77","v":160},"[00]"]
[{"$f":"IF(AG854=0,\"\",\"effektives Pensum:  \"&ROUND(COUNT(B77:AF77)/(AG854+COUNT(B77:AF77))%*B72%*20,0)/20&\" %\")","v":""},null,null,null,null,null,null,null,null,null,null,null,null,null,null,null,null,null,null,null,null,null,null,null,null,null,null,null,null,null,null,null,{"$f":"SUM(AG100-AG101)","v":-160},"[11]"]
[]
[{"$f":"Labels!$B$103","v":"Résumé"},null,null,null,null,null,{"$f":"Labels!$B$77","v":"Jan"},null,{"$f":"Labels!$B$78","v":"Fév"},null,{"$f":"Labels!$B$79","v":"Mar"},null,{"$f":"Labels!$B$80","v":"Avr"},null,{"$f":"Labels!$B$81","v":"Mai"},null,{"$f":"Labels!$B$82","v":"Jun"},null,{"$f":"Labels!$B$83","v":"Jul"},null,{"$f":"Labels!$B$84","v":"Aoû"},null,{"$f":"Labels!$B$85","v":"Sep"},null,{"$f":"Labels!$B$86","v":"Oct"},null,{"$f":"Labels!$B$87","v":"Nov"},null,{"$f":"Labels!$B$88","v":"Déc"},null,{"$f":"Labels!$B$101","v":"Année"}]
[{"$f":"Labels!$B$20","v":"Emploi %"},null,null,null,null,null,{"$f":"IF($B$4=0,0,$B$4)","v":100},null,{"$f":"IF($B$72=0,0,$B$72)","v":100},null,{"$f":"IF($B$137=0,0,$B$137)","v":100},null,{"$f":"IF($B$202=0,0,$B$202)","v":100},null,{"$f":"IF($B$267=0,0,$B$267)","v":100},null,{"$f":"IF($B$332=0,0,$B$332)","v":100},null,{"$f":"IF($B$397=0,0,$B$397)","v":100},null,{"$f":"IF($B$462=0,0,$B$462)","v":100},null,{"$f":"IF($B$527=0,0,$B$527)","v":100},null,{"$f":"IF($B$592=0,0,$B$592)","v":100},null,{"$f":"IF($B$657=0,0,$B$657)","v":100},null,{"$f":"IF($B$722=0,0,$B$722)","v":100}]
[{"$f":"Labels!$B$104","v":"Heures théoriques selon CCT"},null,null,null,null,null,{"$f":"IF($AG$36=0,0,$AG$36)","v":176},null,{"$f":"IF($AG$101=0,0,$AG$101)","v":160},null,{"$f":"IF($AG$142=0,0,$AG$142)","v":184},null,{"$f":"IF($AG$231=0,0,$AG$231)","v":160},null,{"$f":"IF($AG$296=0,0,$AG$296)","v":184},null,{"$f":"IF($AG$361=0,0,$AG$361)","v":176},null,{"$f":"IF($AG$426=0,0,$AG$426)","v":168},null,{"$f":"IF($AG$491=0,0,$AG$491)","v":184},null,{"$f":"IF($AG$556=0,0,$AG$556)","v":168},null,{"$f":"IF($AG$621=0,0,$AG$621)","v":176},null,{"$f":"IF($AG$686=0,0,$AG$686)","v":176},null,{"$f":"IF($AG$751=0,0,$AG$751)","v":168},null,{"$f":"SUM(G106:AD106)","v":2080}]
[{"$f":"Labels!$B$105","v":"Total heures productives"},{"$f":"Labels!$B$106","v":"06.00 - 20.00 h"},null,null,null,null,{"$f":"IF($AG$32=0,0,$AG$32)","v":0},null,{"$f":"IF($AG$96=0,0,$AG$96)","v":0},null,{"$f":"IF($AG$161=0,0,$AG$161)","v":0},null,{"$f":"IF($AG$226=0,0,$AG$226)","v":0},null,{"$f":"IF($AG$291=0,0,$AG$291)","v":0},null,{"$f":"IF($AG$356=0,0,$AG$356)","v":0},null,{"$f":"IF($AG$421=0,0,$AG$421)","v":0},null,{"$f":"IF($AG$486=0,0,$AG$486)","v":0},null,{"$f":"IF($AG$551=0,0,$AG$551)","v":0},null,{"$f":"IF($AG$616=0,0,$AG$616)","v":0},null,{"$f":"IF($AG$681=0,0,$AG$681)","v":0},null,{"$f":"IF($AG$746=0,0,$AG$746)","v":0},null,{"$f":"SUM(G107:AD107)","v":0}]
[null,{"$f":"Labels!$B$107","v":"nuit, dimanche et jour férié"},null,null,null,null,{"$f":"IF($AG$33=0,0,$AG$33)","v":0},null,{"$f":"IF($AG$97=0,0,$AG$97)","v":0},null,{"$f":"IF($AG$162=0,0,$AG$162)","v":0},null,{"$f":"IF($AG$227=0,0,$AG$227)","v":0},null,{"$f":"IF($AG$292=0,0,$AG$292)","v":0},null,{"$f":"IF($AG$357=0,0,$AG$357)","v":0},null,{"$f":"IF($AG$422=0,0,$AG$422)","v":0},null,{"$f":"IF($AG$487=0,0,$AG$487)","v":0},null,{"$f":"IF($AG$552=0,0,$AG$552)","v":0},null,{"$f":"IF($AG$617=0,0,$AG$617)","v":0},null,{"$f":"IF($AG$682=0,0,$AG$682)","v":0},null,{"$f":"IF($AG$747=0,0,$AG$747)","v":0},null,{"$f":"SUM(G108:AD108)","v":0}]
[{"$f":"Labels!$B$108","v":"Majorations temporelles"},{"$f":"Labels!$B$109","v":"depassement des heures maximales"},null,null,null,null,{"$f":"IF($AG$25=0,0,$AG$25)","v":0},null,{"$f":"IF($AG$89=0,0,$AG$89)","v":0},null,{"$f":"IF($AG$154=0,0,$AG$154)","v":0},null,{"$f":"IF($AG$219=0,0,$AG$219)","v":0},null,{"$f":"IF($AG$284=0,0,$AG$284)","v":0},null,{"$f":"IF($AG$349=0,0,$AG$349)","v":0},null,{"$f":"IF($AG$414=0,0,$AG$414)","v":0},null,{"$f":"IF($AG$479=0,0,$AG$479)","v":0},null,{"$f":"IF($AG$544=0,0,$AG$544)","v":0},null,{"$f":"IF($AG$609=0,0,$AG$609)","v":0},null,{"$f":"IF($AG$674=0,0,$AG$674)","v":0},null,{"$f":"IF($AG$739=0,0,$AG$739)","v":0},null,{"$f":"SUM(G109:AD109)","v":0}]
[null,{"$f":"Labels!$B$110","v":"nuit, dimanche et jour férié"},null,null,null,null,{"$f":"IF($AJ$23=0,0,$AJ$23)","v":0},null,{"$f":"IF($AK$23=0,0,$AK$23)","v":0},null,{"$f":"IF($AL$23=0,0,$AL$23)","v":0},null,{"$f":"IF($AM$23=0,0,$AM$23)","v":0},null,{"$f":"IF($AN$23=0,0,$AN$23)","v":0},null,{"$f":"IF($AO$23=0,0,$AO$23)","v":0},null,{"$f":"IF($AP$23=0,0,$AP$23)","v":0},null,{"$f":"IF($AQ$23=0,0,$AQ$23)","v":0},null,{"$f":"IF($AR$23=0,0,$AR$23)","v":0},null,{"$f":"IF($AS$23=0,0,$AS$23)","v":0},null,{"$f":"IF($AT$23=0,0,$AT$23)","v":0},null,{"$f":"IF($AU$23=0,0,$AU$23)","v":0},null,{"$f":"SUM(G110:AD110)","v":0}]
[{"$f":"Labels!$B$111","v":"Heures inproductives"}]
[{"$f":"Labels!$B$112","v":"   Absences art. 11 CCT"},null,null,null,null,{"$f":"Labels!$B$113","v":"ab"},{"$f":"IF($AJ$3=0,0,$AJ$3)","v":0},null,{"$f":"IF($AK$3=0,0,$AK$3)","v":0},null,{"$f":"IF($AL$3=0,0,$AL$3)","v":0},null,{"$f":"IF($AM$3=0,0,$AM$3)","v":0},null,{"$f":"IF($AN$3=0,0,$AN$3)","v":0},null,{"$f":"IF($AO$3=0,0,$AO$3)","v":0},null,{"$f":"IF($AP$3=0,0,$AP$3)","v":0},null,{"$f":"IF($AQ$3=0,0,$AQ$3)","v":0},null,{"$f":"IF($AR$3=0,0,$AR$3)","v":0},null,{"$f":"IF($AS$3=0,0,$AS$3)","v":0},null,{"$f":"IF(AT$3=0,0,$AT$3)","v":0},null,{"$f":"IF($AU$3=0,0,$AU$3)","v":0},null,{"$f":"IF($AV$3=0,0,$AV$3)","v":0}]
[{"$f":"Labels!$B$114","v":"   Vacances art. 12.1 CCT"},null,null,null,null,{"$f":"Labels!$B$115","v":"va"},{"$f":"IF($AJ$4=0,0,$AJ$4)","v":0},null,{"$f":"IF($AK$4=0,0,$AK$4)","v":0},null,{"$f":"IF($AL$4=0,0,$AL$4)","v":0},null,{"$f":"IF($AM$4=0,0,$AM$4)","v":0},null,{"$f":"IF($AN$4=0,0,$AN$4)","v":0},null,{"$f":"IF($AO$4=0,0,$AO$4)","v":0},null,{"$f":"IF($AP$4=0,0,$AP$4)","v":0},null,{"$f":"IF($AQ$4=0,0,$AQ$4)","v":0},null,{"$f":"IF($AR$4=0,0,$AR$4)","v":0},null,{"$f":"IF($AS$4=0,0,$AS$4)","v":0},null,{"$f":"IF($AT$4=0,0,$AT$4)","v":0},null,{"$f":"IF($AU$4=0,0,$AU$4)","v":0},null,{"$f":"IF($AV$4=0,0,$AV$4)","v":0}]
[{"$f":"Labels!$B$181","v":"   vacances non payées"},null,null,null,null,{"$f":"Labels!$B$182","v":"vn"},{"$f":"IF($AJ$13=0,0,$AJ$13)","v":0},null,{"$f":"IF($AK$13=0,0,$AK$13)","v":0},null,{"$f":"IF($AL$13=0,0,$AL$13)","v":0},null,{"$f":"IF($AM$13=0,0,$AM$13)","v":0},null,{"$f":"IF($AN$13=0,0,$AN$13)","v":0},null,{"$f":"IF($AO$13=0,0,$AO$13)","v":0},null,{"$f":"IF($AP$13=0,0,$AP$13)","v":0},null,{"$f":"IF($AQ$13=0,0,$AQ$13)","v":0},null,{"$f":"IF($AR$13=0,0,$AR$13)","v":0},null,{"$f":"IF($AS$13=0,0,$AS$13)","v":0},null,{"$f":"IF($AT$13=0,0,$AT$13)","v":0},null,{"$f":"IF($AU$13=0,0,$AU$13)","v":0},null,{"$f":"IF($AV$13=0,0,$AV$13)","v":0}]
[{"$f":"Labels!$B$116","v":"   Jours fériés art. 12.2 CCT"},null,{"$f":"IF($AJ$20=\"\",\"\",$AJ$20)","v":""},null,null,{"$f":"Labels!$B$118","v":"jf"},{"$f":"IF($AJ$18=0,0,$AJ$18)","v":0},null,{"$f":"IF($AK$18=0,0,$AK$18)","v":0},null,{"$f":"IF($AL$18=0,0,$AL$18)","v":0},null,{"$f":"IF($AM$18=0,0,$AM$18)","v":0},null,{"$f":"IF($AN$18=0,0,$AN$18)","v":0},null,{"$f":"IF($AO$18=0,0,$AO$18)","v":0},null,{"$f":"IF($AP$18=0,0,$AP$18)","v":0},null,{"$f":"IF($AQ$18=0,0,$AQ$18)","v":0},null,{"$f":"IF($AR$18=0,0,$AR$18)","v":0},null,{"$f":"IF($AS$18=0,0,$AS$18)","v":0},null,{"$f":"IF($AT$18=0,0,$AT$18)","v":0},null,{"$f":"IF($AU$18=0,0,$AU$18)","v":0},null,{"$f":"IF($AV$18=0,0,$AV$18)","v":0}]
[{"$f":"Labels!$B$119","v":"   Maladie art. 13 CCT"},null,null,null,null,{"$f":"Labels!$B$120","v":"ma"},{"$f":"IF($AJ$5=0,0,$AJ$5)","v":0},null,{"$f":"IF($AK$5=0,0,$AK$5)","v":0},null,{"$f":"IF($AL$5=0,0,$AL$5)","v":0},null,{"$f":"IF($AM$5=0,0,$AM$5)","v":0},null,{"$f":"IF($AN$5=0,0,$AN$5)","v":0},null,{"$f":"IF($AO$5=0,0,$AO$5)","v":0},null,{"$f":"IF($AP$5=0,0,$AP$5)","v":0},null,{"$f":"IF($AQ$5=0,0,$AQ$5)","v":0},null,{"$f":"IF($AR$5=0,0,$AR$5)","v":0},null,{"$f":"IF($AS$5=0,0,$AS$5)","v":0},null,{"$f":"IF($AT$5=0,0,$AT$5)","v":0},null,{"$f":"IF($AU$5=0,0,$AU$5)","v":0},null,{"$f":"IF($AV$5=0,0,$AV$5)","v":0}]
[{"$f":"Labels!$B$184","v":"non payeé"},null,null,null,null,null,{"$f":"IF(AJ$16=0,0,AJ$16)","v":0},null,{"$f":"IF($AK$16=0,0,$AK$16)","v":0},null,{"$f":"IF($AL$16=0,0,$AL$16)","v":0},null,{"$f":"IF($AM$16=0,0,$AM$16)","v":0},null,{"$f":"IF($AN$16=0,0,$AN$16)","v":0},null,{"$f":"IF($AO$16=0,0,$AO$16)","v":0},null,{"$f":"IF($AP$16=0,0,$AP$16)","v":0},null,{"$f":"IF($AQ$16=0,0,$AQ$16)","v":0},null,{"$f":"IF($AR$16=0,0,$AR$16)","v":0},null,{"$f":"IF($AS$16=0,0,$AS$16)","v":0},null,{"$f":"IF($AT$16=0,0,$AT$16)","v":0},null,{"$f":"IF($AU$16=0,0,$AU$16)","v":0},null,{"$f":"IF($AV$16=0,0,$AV$16)","v":0}]
[{"$f":"Labels!$B$121","v":"   Accident art. 14 CCT"},null,null,null,null,{"$f":"Labels!$B$122","v":"ac"},{"$f":"IF($AJ$6=0,0,$AJ$6)","v":0},null,{"$f":"IF($AK$6=0,0,$AK$6)","v":0},null,{"$f":"IF($AL$6=0,0,$AL$6)","v":0},null,{"$f":"IF($AM$6=0,0,$AM$6)","v":0},null,{"$f":"IF($AN$6=0,0,$AN$6)","v":0},null,{"$f":"IF($AO$6=0,0,$AO$6)","v":0},null,{"$f":"IF($AP$6=0,0,$AP$6)","v":0},null,{"$f":"IF($AQ$6=0,0,$AQ$6)","v":0},null,{"$f":"IF($AR$6=0,0,$AR$6)","v":0},null,{"$f":"IF($AS$6=0,0,$AS$6)","v":0},null,{"$f":"IF($AT$6=0,0,$AT$6)","v":0},null,{"$f":"IF($AU$6=0,0,$AU$6)","v":0},null,{"$f":"IF($AV$6=0,0,$AV$6)","v":0}]
[{"$f":"Labels!$B$123","v":"   Grossesse/Maternité art. 15 CCT"},null,null,null,null,{"$f":"Labels!$B$124","v":"gm"},{"$f":"IF($AJ$7=0,0,$AJ$7)","v":0},null,{"$f":"IF($AK$7=0,0,$AK$7)","v":0},null,{"$f":"IF($AL$7=0,0,$AL$7)","v":0},null,{"$f":"IF($AM$7=0,0,$AM$7)","v":0},null,{"$f":"IF($AN$7=0,0,$AN$7)","v":0},null,{"$f":"IF($AO$7=0,0,$AO$7)","v":0},null,{"$f":"IF($AP$7=0,0,$AP$7)","v":0},null,{"$f":"IF($AQ$7=0,0,$AQ$7)","v":0},null,{"$f":"IF($AR$7=0,0,$AR$7)","v":0},null,{"$f":"IF($AS$7=0,0,$AS$7)","v":0},null,{"$f":"IF($AT$7=0,0,$AT$7)","v":0},null,{"$f":"IF($AU$7=0,0,$AU$7)","v":0},null,{"$f":"IF($AV$7=0,0,$AV$7)","v":0}]
[{"$f":"Labels!$B$125","v":"   Militaire/Promotion/Protection civile art. 16 CCT"},null,null,null,null,{"$f":"Labels!$B$126","v":"mi"},{"$f":"IF($AJ$8=0,0,$AJ$8)","v":0},null,{"$f":"IF($AK$8=0,0,$AK$8)","v":0},null,{"$f":"IF($AL$8=0,0,$AL$8)","v":0},null,{"$f":"IF($AM$8=0,0,$AM$8)","v":0},null,{"$f":"IF($AN$8=0,0,$AN$8)","v":0},null,{"$f":"IF($AO$8=0,0,$AO$8)","v":0},null,{"$f":"IF($AP$8=0,0,$AP$8)","v":0},null,{"$f":"IF($AQ$8=0,0,$AQ$8)","v":0},null,{"$f":"IF($AR$8=0,0,$AR$8)","v":0},null,{"$f":"IF($AS$8=0,0,$AS$8)","v":0},null,{"$f":"IF($AT$8=0,0,$AT$8)","v":0},null,{"$f":"IF($AU$8=0,0,$AU$8)","v":0},null,{"$f":"IF($AV$8=0,0,$AV$8)","v":0}]
[{"$f":"Labels!$B$127","v":"   Chômage partiel et perte de travail cause d'intempéries"},null,null,null,null,{"$f":"Labels!$B$128","v":"ch"},{"$f":"IF($AJ$11=0,0,$AJ$11)","v":0},null,{"$f":"IF($AK$11=0,0,$AK$11)","v":0},null,{"$f":"IF($AL$11=0,0,$AL$11)","v":0},null,{"$f":"IF($AM$11=0,0,$AM$11)","v":0},null,{"$f":"IF($AN$11=0,0,$AN$11)","v":0},null,{"$f":"IF($AO$11=0,0,$AO$11)","v":0},null,{"$f":"IF($AP$11=0,0,$AP$11)","v":0},null,{"$f":"IF($AQ$11=0,0,$AQ$11)","v":0},null,{"$f":"IF($AR$11=0,0,$AR$11)","v":0},null,{"$f":"IF($AS$11=0,0,$AS$11)","v":0},null,{"$f":"IF($AT$11=0,0,$AT$11)","v":0},null,{"$f":"IF($AU$11=0,0,$AU$11)","v":0},null,{"$f":"IF($AV$11=0,0,$AV$11)","v":0}]
[{"$f":"Labels!$B$129","v":"   Ecole professionnelle"},null,null,null,null,{"$f":"Labels!$B$130","v":"ep"},{"$f":"IF($AJ$9=0,0,$AJ$9)","v":0},null,{"$f":"IF($AK$9=0,0,$AK$9)","v":0},null,{"$f":"IF($AL$9=0,0,$AL$9)","v":0},null,{"$f":"IF($AM$9=0,0,$AM$9)","v":0},null,{"$f":"IF($AN$9=0,0,$AN$9)","v":0},null,{"$f":"IF($AO$9=0,0,$AO$9)","v":0},null,{"$f":"IF($AP$9=0,0,$AP$9)","v":0},null,{"$f":"IF($AQ$9=0,0,$AQ$9)","v":0},null,{"$f":"IF($AR$9=0,0,$AR$9)","v":0},null,{"$f":"IF($AS$9=0,0,$AS$9)","v":0},null,{"$f":"IF($AT$9=0,0,$AT$9)","v":0},null,{"$f":"IF($AU$9=0,0,$AU$9)","v":0},null,{"$f":"IF($AV$9=0,0,$AV$9)","v":0}]
[{"$f":"Labels!$B$131","v":"   Cours"},null,null,null,null,{"$f":"Labels!$B$132","v":"co"},{"$f":"IF($AJ$10=0,0,$AJ$10)","v":0},null,{"$f":"IF($AK$10=0,0,$AK$10)","v":0},null,{"$f":"IF($AL$10=0,0,$AL$10)","v":0},null,{"$f":"IF($AM$10=0,0,$AM$10)","v":0},null,{"$f":"IF($AN$10=0,0,$AN$10)","v":0},null,{"$f":"IF($AO$10=0,0,$AO$10)","v":0},null,{"$f":"IF($AP$10=0,0,$AP$10)","v":0},null,{"$f":"IF($AQ$10=0,0,$AQ$10)","v":0},null,{"$f":"IF($AR$10=0,0,$AR$10)","v":0},null,{"$f":"IF($AS$10=0,0,$AS$10)","v":0},null,{"$f":"IF($AT$10=0,0,$AT$10)","v":0},null,{"$f":"IF($AU$10=0,0,$AU$10)","v":0},null,{"$f":"IF($AV$10=0,0,$AV$10)","v":0}]
[{"$f":"Labels!$B$133","v":"Heures de compensation"},{"$f":"Labels!$B$134","v":"de l'année passée"},null,null,null,{"$f":"Labels!$B$135","v":"cp"},{"$f":"IF($AJ$12=0,0,$AJ$12)","v":0},null,{"$f":"IF($AK$12=0,0,$AK$12)","v":0},null,{"$f":"IF($AL$12=0,0,$AL$12)","v":0},null,{"$f":"IF($AM$12=0,0,$AM$12)","v":0},null,{"$f":"IF($AN$12=0,0,$AN$12)","v":0},null,{"$f":"IF($AO$12=0,0,$AO$12)","v":0},null,{"$f":"IF($AP$12=0,0,$AP$12)","v":0},null,{"$f":"IF($AQ$12=0,0,$AQ$12)","v":0},null,{"$f":"IF($AR$12=0,0,$AR$12)","v":0},null,null,null,null,null,null,null,{"$f":"IF($AV$12=0,0,$AV$12)","v":0}]
[null,{"$f":"Labels!$B$136","v":"de l'année en cours (contrôle)"},null,null,null,{"$f":"Labels!$B$137","v":"cc"},{"$f":"IF($AJ$15=0,0,$AJ$15)","v":0},null,{"$f":"IF($AK$15=0,0,$AK$15)","v":0},null,{"$f":"IF($AL$15=0,0,$AL$15)","v":0},null,{"$f":"IF($AM$15=0,0,$AM$15)","v":0},null,{"$f":"IF($AN$15=0,0,$AN$15)","v":0},null,{"$f":"IF($AO$15=0,0,$AO$15)","v":0},null,{"$f":"IF($AP$15=0,0,$AP$15)","v":0},null,{"$f":"IF($AQ$15=0,0,$AQ$15)","v":0},null,{"$f":"IF($AR$15=0,0,$AR$15)","v":0},null,{"$f":"IF($AS$15=0,0,$AS$15)","v":0},null,{"$f":"IF($AT$15=0,0,$AT$15)","v":0},null,{"$f":"IF($AU$15=0,0,$AU$15)","v":0},null,{"$f":"IF($AV$15=0,0,$AV$15)","v":0}]
[{"$f":"Labels!$B$138","v":"Paiement des heures"},{"$f":"Labels!$B$139","v":"de l'année passée"},null,null,null,null,{"$f":"IF($AJ$21=0,0,$AJ$21)","v":0},null,{"$f":"IF($AK$21=0,0,$AK$21)","v":0},null,{"$f":"IF($AL$21=0,0,$AL$21)","v":0},null,{"$f":"IF($AM$21=0,0,$AM$21)","v":0},null,{"$f":"IF($AN$21=0,0,$AN$21)","v":0},null,{"$f":"IF($AO$21=0,0,$AO$21)","v":0},null,{"$f":"IF($AP$21=0,0,$AP$21)","v":0},null,{"$f":"IF($AQ$21=0,0,$AQ$21)","v":0},null,{"$f":"IF($AR$21=0,0,$AR$21)","v":0},null,null,null,null,null,null,null,{"$f":"IF($AV$21=0,0,$AV$21)","v":0}]
[{"$f":"Labels!$B$140","v":"Différence en heures"},{"$f":"Labels!$B$141","v":"après compensation et paiement"},null,null,null,null,{"$f":"IF(ROUND($P$4,3)=0,0,$P$4-G124-G126)","v":0},null,{"$f":"IF(ROUND(G127,3)=0,0,G127-(SUM(I124+I126)))","v":0},null,{"$f":"IF(ROUND(I127,3)=0,0,I127-K126-K124)","v":0},null,{"$f":"IF(ROUND(K127,3)=0,0,K127-(SUM(M126+M124)))","v":0},null,{"$f":"IF(ROUND(M127,3)=0,0,M127-(SUM(O126+O124)))","v":0},null,{"$f":"IF(ROUND(O127,3)=0,0,O127-(SUM(Q126+Q124)))","v":0},null,{"$f":"IF(ROUND(Q127,3)=0,0,Q127-(SUM(S126+S124)))","v":0},null,{"$f":"IF(ROUND(S127,3)=0,0,S127-(SUM(U126+U124)))","v":0},null,{"$f":"IF(ROUND(U127,3)=0,0,U127-(SUM(W126+W124)))","v":0},null,{"$f":"IF($W$62<0.1,\"\",AY109)","v":""}]
[{"$f":"Labels!$B$138","v":"Paiement des heures"},{"$f":"Labels!$B$142","v":"de l'année en cours"},null,null,null,null,{"$f":"IF($AJ$22=0,0,$AJ$22)","v":0},null,{"$f":"IF($AK$22=0,0,$AK$22)","v":0},null,{"$f":"IF($AL$22=0,0,$AL$22)","v":0},null,{"$f":"IF($AM$22=0,0,$AM$22)","v":0},null,{"$f":"IF($AN$22=0,0,$AN$22)","v":0},null,{"$f":"IF($AO$22=0,0,$AO$22)","v":0},null,{"$f":"IF($AP$22=0,0,$AP$22)","v":0},null,{"$f":"IF($AQ$22=0,0,$AQ$22)","v":0},null,{"$f":"IF($AR$22=0,0,$AR$22)","v":0},null,{"$f":"IF($AS$22=0,0,$AS$22)","v":0},null,{"$f":"IF($AT$22=0,0,$AT$22)","v":0},null,{"$f":"IF($AU$22=0,0,$AU$22)","v":0},null,{"$f":"IF($AV$22=0,0,$AV$22)","v":0}]
[{"$f":"Labels!$B$143","v":"Heures manquantes"},{"$f":"Labels!$B$144","v":"de l'année en cours (contrôle)"},null,null,null,{"$f":"Labels!$B$145","v":"hm"},{"$f":"IF($AJ$14=0,0,$AJ$14)","v":0},null,{"$f":"IF($AK$14=0,0,$AK$14)","v":0},null,{"$f":"IF($AL$14=0,0,$AL$14)","v":0},null,{"$f":"IF($AM$14=0,0,$AM$14)","v":0},null,{"$f":"IF($AN$14=0,0,$AN$14)","v":0},null,{"$f":"IF($AO$14=0,0,$AO$14)","v":0},null,{"$f":"IF($AP$14=0,0,$AP$14)","v":0},null,{"$f":"IF($AQ$14=0,0,$AQ$14)","v":0},null,{"$f":"IF($AR$14=0,0,$AR$14)","v":0},null,{"$f":"IF($AS$14=0,0,$AS$14)","v":0},null,{"$f":"IF($AT$14=0,0,$AT$14)","v":0},null,{"$f":"IF($AU$14=0,0,$AU$14)","v":0},null,{"$f":"IF($AV$14=0,0,$AV$14)","v":0}]
[{"$f":"Labels!$B$146","v":"Total (majorations inclus)"},{"$f":"Labels!$B$147","v":"heures productives et inproductives"},null,null,null,null,{"$f":"IF($AG$35=0,0,$AG$35)","v":0},null,{"$f":"IF($AG$100=0,0,$AG$100)","v":0},null,{"$f":"IF($AG$165=0,0,$AG$165)","v":0},null,{"$f":"IF($AG$230=0,0,$AG$230)","v":0},null,{"$f":"IF($AG$295=0,0,$AG$295)","v":0},null,{"$f":"IF($AG$360=0,0,$AG$360)","v":0},null,{"$f":"IF($AG$425=0,0,$AG$425)","v":0},null,{"$f":"IF($AG$490=0,0,$AG$490)","v":0},null,{"$f":"IF($AG$555=0,0,$AG$555)","v":0},null,{"$f":"IF($AG$620=0,0,$AG$620)","v":0},null,{"$f":"IF($AG$685=0,0,$AG$685)","v":0},null,{"$f":"IF($AG$750=0,0,$AG$750)","v":0},null,{"$f":"SUM($G$65:$AD$65)","v":0}]
[{"$f":"Labels!$B$148","v":"Comparaison des heures"},{"$f":"Labels!$B$149","v":"aux heures théorique CCT (heures \nmanquantes de l'année passée incl.)"},null,null,null,null,{"$f":"IF($AG$37=0,0,$AG$37)-$AE$34+$P$5","v":-176},null,{"$f":"IF($AG$102=0,0,$AG$102)-$AE$99","v":-160},null,{"$f":"IF($AG$167=0,0,$AG$167)-$AE$164","v":-184},null,{"$f":"IF($AG$232=0,0,$AG$232)-$AE$229","v":-160},null,{"$f":"IF($AG$297=0,0,$AG$297)-$AE$294","v":-184},null,{"$f":"IF($AG$362=0,0,$AG$362)-$AE$359","v":-176},null,{"$f":"IF($AG$427=0,0,$AG$427)-$AE$424","v":-168},null,{"$f":"IF($AG$492=0,0,$AG$492)-$AE$489","v":-184},null,{"$f":"IF($AG$557=0,0,$AG$557)-$AE$554","v":-168},null,{"$f":"IF($AG$622=0,0,$AG$622)-$AE$619","v":-176},null,{"$f":"IF($AG$687=0,0,$AG$687)-$AE$684","v":-176},null,{"$f":"IF($AG$752=0,0,$AG$752)-$AE$749","v":-168},null,{"$f":"SUM($G$66:$AD$66)","v":-2080}]
[null,{"$f":"Labels!$B$151","v":"aux heures théorique (cumulées)"},null,null,null,null,{"$f":"IF(G105=0,0,$G$66)","v":-176},null,{"$f":"IF(I105=0,0,SUM($G$66:$J$66))","v":-336},null,{"$f":"IF(K105=0,0,SUM($G$66:$L$66))","v":-520},null,{"$f":"IF(M105=0,0,SUM($G$66:$N$66))","v":-680},null,{"$f":"IF(O105=0,0,SUM($G$66:$P$66))","v":-864},null,{"$f":"IF(Q105=0,0,SUM($G$66:$R$66))","v":-1040},null,{"$f":"IF(S105=0,0,SUM($G$66:$T$66))","v":-1208},null,{"$f":"IF(U105=0,0,SUM($G$66:$V$66))","v":-1392},null,{"$f":"IF(W105=0,0,SUM($G$66:$X$66))","v":-1560},null,{"$f":"IF(Y105=0,0,SUM($G$66:$Z$66))","v":-1736},null,{"$f":"IF(AA105=0,0,SUM($G$66:$AB$66))","v":-1912},null,{"$f":"IF(AC105=0,0,SUM($G$66:$AD$66))","v":-2080}]
[{"$f":"Labels!$B$153","v":"Vacances (contrôle)"},{"$f":"Labels!$B$154","v":"Vacances année passée"},null,null,null,null,{"$f":"IF($AA$4=0,0,$AA$4)","v":0},null,{"$f":"Labels!$B$155","v":"Vacances selon \nart 12.1 CCT"},null,null,null,{"$f":"IF($AA$5=0,0,$AA$5)","v":0},null,{"$f":"Labels!$B$156","v":"Total des vacances"},null,null,null,{"$f":"SUM(G133+M133)","v":0},null,{"$f":"Labels!$B$157","v":"Vacances prises"},null,null,null,{"$f":"IF($AV$4=0,0,$AV$4)","v":0},null,{"$f":"Labels!$B$158","v":"Vacances restantes"},null,null,null,{"$f":"IF(S133=0,0,S133-Y133)","v":0}]
[]
[]
[{"$f":"$A$3","v":"Nom/Prénom"},{"$f":"IF($B$3=\"\",\"\",$B$3)","v":"Modèle Pierre"},null,null,null,null,null,null,null,null,null,null,null,null,null,null,null,null,null,null,null,null,null,null,null,null,null,null,null,null,null,{"$f":"AF3","v":0}]
[{"$f":"$A$4","v":"Emploi %"},{"$f":"$AL$50","v":100},null,{"$f":"Labels!B91","v":"en mars"}]
[{"$f":"$A$5","v":"Solde année en cours"},null,null,{"$f":"IF($AE$66=0,0,$AE$66)","v":-2080}]
[{"$f":"TEXT(DATE(YEAR(AP29),MONTH(AP29)+2,1),\"MMMM\"&Labels!B13)","v":"mars"},{"$f":"$B$9","v":"Solde mois + / -"},null,null,null,{"$f":"(AG142-(SUM(AG143:AG156)-AE164))*-1","v":-184},null,null,null,null,{"$f":"$K$9","v":" = "},{"$f":"$L$9","v":"Les cases marquées en jaune doivent être remplies (les autres seront calculées automatiquement)"},null,null,null,null,null,null,null,null,null,null,null,null,null,null,null,null,null,null,null,null,{"$f":"COUNT(B142:AF142)&\" \"&Labels!$B$63","v":"23 Jours"}]
[{"$f":"$A$10","v":"Jour"},{"$f":"IF(MOD($AE$97,4)>=1,$AC$75+1,$AC$75+2)","v":"2023-03-01"},{"$f":"B140+1","v":"2023-03-02"},"2023-03-03","2023-03-04","2023-03-05","2023-03-06","2023-03-07","2023-03-08","2023-03-09","2023-03-10","2023-03-11","2023-03-12","2023-03-13","2023-03-14","2023-03-15","2023-03-16","2023-03-17","2023-03-18","2023-03-19","2023-03-20","2023-03-21","2023-03-22","2023-03-23","2023-03-24","2023-03-25","2023-03-26","2023-03-27","2023-03-28","2023-03-29","2023-03-30","2023-03-31"]
[{"$f":"$A$11","v":"semaine civile"},{"$f":"IF(B140=\"\",\"\",TRUNC((B140-DATE(YEAR(B140+3-MOD(B140-2,7)),1,MOD(B140-2,7)-9))/7))","v":9},9,9,9,9,10,10,10,10,10,10,10,11,11,11,11,11,11,11,12,12,12,12,12,12,12,13,13,13,13,13,null,"Woche"]
[{"$f":"$A$12","v":"Théorique sel. CCT"},{"$f":"IF(AND(MOD(B140,7)>=2,SUMPRODUCT(($AM$60:$AQ$60=MOD(B140,7))*$AM$50:$AQ$50),B879=\"\"),$J$7*SUMPRODUCT(($AM$77:$AQ$77=MOD(B140,7))*$AM$67:$AQ$67)%,\"\")","v":8},{"$f":"IF(AND(MOD(C140,7)>=2,SUMPRODUCT(($AM$60:$AQ$60=MOD(C140,7))*$AM$50:$AQ$50),C879=\"\"),$J$7*SUMPRODUCT(($AM$77:$AQ$77=MOD(C140,7))*$AM$67:$AQ$67)%,\"\")","v":8},{"$f":"IF(AND(MOD(D140,7)>=2,SUMPRODUCT(($AM$60:$AQ$60=MOD(D140,7))*$AM$50:$AQ$50),D879=\"\"),$J$7*SUMPRODUCT(($AM$77:$AQ$77=MOD(D140,7))*$AM$67:$AQ$67)%,\"\")","v":8},{"$f":"IF(AND(MOD(E140,7)>=2,SUMPRODUCT(($AM$60:$AQ$60=MOD(E140,7))*$AM$50:$AQ$50),E879=\"\"),$J$7*SUMPRODUCT(($AM$77:$AQ$77=MOD(E140,7))*$AM$67:$AQ$67)%,\"\")","v":""},{"$f":"IF(AND(MOD(F140,7)>=2,SUMPRODUCT(($AM$60:$AQ$60=MOD(F140,7))*$AM$50:$AQ$50),F879=\"\"),$J$7*SUMPRODUCT(($AM$77:$AQ$77=MOD(F140,7))*$AM$67:$AQ$67)%,\"\")","v":""},{"$f":"IF(AND(MOD(G140,7)>=2,SUMPRODUCT(($AM$60:$AQ$60=MOD(G140,7))*$AM$50:$AQ$50),G879=\"\"),$J$7*SUMPRODUCT(($AM$77:$AQ$77=MOD(G140,7))*$AM$67:$AQ$67)%,\"\")","v":8},{"$f":"IF(AND(MOD(H140,7)>=2,SUMPRODUCT(($AM$60:$AQ$60=MOD(H140,7))*$AM$50:$AQ$50),H879=\"\"),$J$7*SUMPRODUCT(($AM$77:$AQ$77=MOD(H140,7))*$AM$67:$AQ$67)%,\"\")","v":8},{"$f":"IF(AND(MOD(I140,7)>=2,SUMPRODUCT(($AM$60:$AQ$60=MOD(I140,7))*$AM$50:$AQ$50),I879=\"\"),$J$7*SUMPRODUCT(($AM$77:$AQ$77=MOD(I140,7))*$AM$67:$AQ$67)%,\"\")","v":8},{"$f":"IF(AND(MOD(J140,7)>=2,SUMPRODUCT(($AM$60:$AQ$60=MOD(J140,7))*$AM$50:$AQ$50),J879=\"\"),$J$7*SUMPRODUCT(($AM$77:$AQ$77=MOD(J140,7))*$AM$67:$AQ$67)%,\"\")","v":8},{"$f":"IF(AND(MOD(K140,7)>=2,SUMPRODUCT(($AM$60:$AQ$60=MOD(K140,7))*$AM$50:$AQ$50),K879=\"\"),$J$7*SUMPRODUCT(($AM$77:$AQ$77=MOD(K140,7))*$AM$67:$AQ$67)%,\"\")","v":8},{"$f":"IF(AND(MOD(L140,7)>=2,SUMPRODUCT(($AM$60:$AQ$60=MOD(L140,7))*$AM$50:$AQ$50),L879=\"\"),$J$7*SUMPRODUCT(($AM$77:$AQ$77=MOD(L140,7))*$AM$67:$AQ$67)%,\"\")","v":""},{"$f":"IF(AND(MOD(M140,7)>=2,SUMPRODUCT(($AM$60:$AQ$60=MOD(M140,7))*$AM$50:$AQ$50),M879=\"\"),$J$7*SUMPRODUCT(($AM$77:$AQ$77=MOD(M140,7))*$AM$67:$AQ$67)%,\"\")","v":""},{"$f":"IF(AND(MOD(N140,7)>=2,SUMPRODUCT(($AM$60:$AQ$60=MOD(N140,7))*$AM$50:$AQ$50),N879=\"\"),$J$7*SUMPRODUCT(($AM$77:$AQ$77=MOD(N140,7))*$AM$67:$AQ$67)%,\"\")","v":8},{"$f":"IF(AND(MOD(O140,7)>=2,SUMPRODUCT(($AM$60:$AQ$60=MOD(O140,7))*$AM$50:$AQ$50),O879=\"\"),$J$7*SUMPRODUCT(($AM$77:$AQ$77=MOD(O140,7))*$AM$67:$AQ$67)%,\"\")","v":8},{"$f":"IF(AND(MOD(P140,7)>=2,SUMPRODUCT(($AM$60:$AQ$60=MOD(P140,7))*$AM$50:$AQ$50),P879=\"\"),$J$7*SUMPRODUCT(($AM$77:$AQ$77=MOD(P140,7))*$AM$67:$AQ$67)%,\"\")","v":8},{"$f":"IF(AND(MOD(Q140,7)>=2,SUMPRODUCT(($AM$60:$AQ$60=MOD(Q140,7))*$AM$50:$AQ$50),Q879=\"\"),$J$7*SUMPRODUCT(($AM$77:$AQ$77=MOD(Q140,7))*$AM$67:$AQ$67)%,\"\")","v":8},{"$f":"IF(AND(MOD(R140,7)>=2,SUMPRODUCT(($AM$60:$AQ$60=MOD(R140,7))*$AM$50:$AQ$50),R879=\"\"),$J$7*SUMPRODUCT(($AM$77:$AQ$77=MOD(R140,7))*$AM$67:$AQ$67)%,\"\")","v":8},{"$f":"IF(AND(MOD(S140,7)>=2,SUMPRODUCT(($AM$60:$AQ$60=MOD(S140,7))*$AM$50:$AQ$50),S879=\"\"),$J$7*SUMPRODUCT(($AM$77:$AQ$77=MOD(S140,7))*$AM$67:$AQ$67)%,\"\")","v":""},{"$f":"IF(AND(MOD(T140,7)>=2,SUMPRODUCT(($AM$60:$AQ$60=MOD(T140,7))*$AM$50:$AQ$50),T879=\"\"),$J$7*SUMPRODUCT(($AM$77:$AQ$77=MOD(T140,7))*$AM$67:$AQ$67)%,\"\")","v":""},{"$f":"IF(AND(MOD(U140,7)>=2,SUMPRODUCT(($AM$60:$AQ$60=MOD(U140,7))*$AM$50:$AQ$50),U879=\"\"),$J$7*SUMPRODUCT(($AM$77:$AQ$77=MOD(U140,7))*$AM$67:$AQ$67)%,\"\")","v":8},{"$f":"IF(AND(MOD(V140,7)>=2,SUMPRODUCT(($AM$60:$AQ$60=MOD(V140,7))*$AM$50:$AQ$50),V879=\"\"),$J$7*SUMPRODUCT(($AM$77:$AQ$77=MOD(V140,7))*$AM$67:$AQ$67)%,\"\")","v":8},{"$f":"IF(AND(MOD(W140,7)>=2,SUMPRODUCT(($AM$60:$AQ$60=MOD(W140,7))*$AM$50:$AQ$50),W879=\"\"),$J$7*SUMPRODUCT(($AM$77:$AQ$77=MOD(W140,7))*$AM$67:$AQ$67)%,\"\")","v":8},{"$f":"IF(AND(MOD(X140,7)>=2,SUMPRODUCT(($AM$60:$AQ$60=MOD(X140,7))*$AM$50:$AQ$50),X879=\"\"),$J$7*SUMPRODUCT(($AM$77:$AQ$77=MOD(X140,7))*$AM$67:$AQ$67)%,\"\")","v":8},{"$f":"IF(AND(MOD(Y140,7)>=2,SUMPRODUCT(($AM$60:$AQ$60=MOD(Y140,7))*$AM$50:$AQ$50),Y879=\"\"),$J$7*SUMPRODUCT(($AM$77:$AQ$77=MOD(Y140,7))*$AM$67:$AQ$67)%,\"\")","v":8},{"$f":"IF(AND(MOD(Z140,7)>=2,SUMPRODUCT(($AM$60:$AQ$60=MOD(Z140,7))*$AM$50:$AQ$50),Z879=\"\"),$J$7*SUMPRODUCT(($AM$77:$AQ$77=MOD(Z140,7))*$AM$67:$AQ$67)%,\"\")","v":""},{"$f":"IF(AND(MOD(AA140,7)>=2,SUMPRODUCT(($AM$60:$AQ$60=MOD(AA140,7))*$AM$50:$AQ$50),AA879=\"\"),$J$7*SUMPRODUCT(($AM$77:$AQ$77=MOD(AA140,7))*$AM$67:$AQ$67)%,\"\")","v":""},{"$f":"IF(AND(MOD(AB140,7)>=2,SUMPRODUCT(($AM$60:$AQ$60=MOD(AB140,7))*$AM$50:$AQ$50),AB879=\"\"),$J$7*SUMPRODUCT(($AM$77:$AQ$77=MOD(AB140,7))*$AM$67:$AQ$67)%,\"\")","v":8},{"$f":"IF(AND(MOD(AC140,7)>=2,SUMPRODUCT(($AM$60:$AQ$60=MOD(AC140,7))*$AM$50:$AQ$50),AC879=\"\"),$J$7*SUMPRODUCT(($AM$77:$AQ$77=MOD(AC140,7))*$AM$67:$AQ$67)%,\"\")","v":8},{"$f":"IF(AND(MOD(AD140,7)>=2,SUMPRODUCT(($AM$60:$AQ$60=MOD(AD140,7))*$AM$50:$AQ$50),AD879=\"\"),$J$7*SUMPRODUCT(($AM$77:$AQ$77=MOD(AD140,7))*$AM$67:$AQ$67)%,\"\")","v":8},{"$f":"IF(AND(MOD(AE140,7)>=2,SUMPRODUCT(($AM$60:$AQ$60=MOD(AE140,7))*$AM$50:$AQ$50),AE879=\"\"),$J$7*SUMPRODUCT(($AM$77:$AQ$77=MOD(AE140,7))*$AM$67:$AQ$67)%,\"\")","v":8},{"$f":"IF(AND(MOD(AF140,7)>=2,SUMPRODUCT(($AM$60:$AQ$60=MOD(AF140,7))*$AM$50:$AQ$50),AF879=\"\"),$J$7*SUMPRODUCT(($AM$77:$AQ$77=MOD(AF140,7))*$AM$67:$AQ$67)%,\"\")","v":8},{"$f":"SUM(B142:AF142)","v":184},"[00]"]
[{"$f":"$A$13","v":"Absences"},{"$f":"B895","v":0},{"$f":"C895","v":0},0,0,0,0,0,0,0,0,0,0,0,0,0,0,0,0,0,0,0,0,0,0,0,0,0,0,0,0,0,{"$f":"SUM($AL$3:$AL$13)","v":0},"[01]"]
[{"$f":"$A$14","v":"Code"},{"$f":"IF(SUM(B882:B894)<>0,IF(MAX(B882:B894)<B895,Labels!$B$163,INDEX($AH$881:$AH$893,MATCH(MAX(B882:B894),B882:B894,0))),\"\")","v":""},{"$f":"IF(SUM(C882:C894)<>0,IF(MAX(C882:C894)<C895,Labels!$B$163,INDEX($AH$881:$AH$893,MATCH(MAX(C882:C894),C882:C894,0))),\"\")","v":""},{"$f":"IF(SUM(D882:D894)<>0,IF(MAX(D882:D894)<D895,Labels!$B$163,INDEX($AH$881:$AH$893,MATCH(MAX(D882:D894),D882:D894,0))),\"\")","v":""},{"$f":"IF(SUM(E882:E894)<>0,IF(MAX(E882:E894)<E895,Labels!$B$163,INDEX($AH$881:$AH$893,MATCH(MAX(E882:E894),E882:E894,0))),\"\")","v":""},{"$f":"IF(SUM(F882:F894)<>0,IF(MAX(F882:F894)<F895,Labels!$B$163,INDEX($AH$881:$AH$893,MATCH(MAX(F882:F894),F882:F894,0))),\"\")","v":""},{"$f":"IF(SUM(G882:G894)<>0,IF(MAX(G882:G894)<G895,Labels!$B$163,INDEX($AH$881:$AH$893,MATCH(MAX(G882:G894),G882:G894,0))),\"\")","v":""},{"$f":"IF(SUM(H882:H894)<>0,IF(MAX(H882:H894)<H895,Labels!$B$163,INDEX($AH$881:$AH$893,MATCH(MAX(H882:H894),H882:H894,0))),\"\")","v":""},{"$f":"IF(SUM(I882:I894)<>0,IF(MAX(I882:I894)<I895,Labels!$B$163,INDEX($AH$881:$AH$893,MATCH(MAX(I882:I894),I882:I894,0))),\"\")","v":""},{"$f":"IF(SUM(J882:J894)<>0,IF(MAX(J882:J894)<J895,Labels!$B$163,INDEX($AH$881:$AH$893,MATCH(MAX(J882:J894),J882:J894,0))),\"\")","v":""},{"$f":"IF(SUM(K882:K894)<>0,IF(MAX(K882:K894)<K895,Labels!$B$163,INDEX($AH$881:$AH$893,MATCH(MAX(K882:K894),K882:K894,0))),\"\")","v":""},{"$f":"IF(SUM(L882:L894)<>0,IF(MAX(L882:L894)<L895,Labels!$B$163,INDEX($AH$881:$AH$893,MATCH(MAX(L882:L894),L882:L894,0))),\"\")","v":""},{"$f":"IF(SUM(M882:M894)<>0,IF(MAX(M882:M894)<M895,Labels!$B$163,INDEX($AH$881:$AH$893,MATCH(MAX(M882:M894),M882:M894,0))),\"\")","v":""},{"$f":"IF(SUM(N882:N894)<>0,IF(MAX(N882:N894)<N895,Labels!$B$163,INDEX($AH$881:$AH$893,MATCH(MAX(N882:N894),N882:N894,0))),\"\")","v":""},{"$f":"IF(SUM(O882:O894)<>0,IF(MAX(O882:O894)<O895,Labels!$B$163,INDEX($AH$881:$AH$893,MATCH(MAX(O882:O894),O882:O894,0))),\"\")","v":""},{"$f":"IF(SUM(P882:P894)<>0,IF(MAX(P882:P894)<P895,Labels!$B$163,INDEX($AH$881:$AH$893,MATCH(MAX(P882:P894),P882:P894,0))),\"\")","v":""},{"$f":"IF(SUM(Q882:Q894)<>0,IF(MAX(Q882:Q894)<Q895,Labels!$B$163,INDEX($AH$881:$AH$893,MATCH(MAX(Q882:Q894),Q882:Q894,0))),\"\")","v":""},{"$f":"IF(SUM(R882:R894)<>0,IF(MAX(R882:R894)<R895,Labels!$B$163,INDEX($AH$881:$AH$893,MATCH(MAX(R882:R894),R882:R894,0))),\"\")","v":""},{"$f":"IF(SUM(S882:S894)<>0,IF(MAX(S882:S894)<S895,Labels!$B$163,INDEX($AH$881:$AH$893,MATCH(MAX(S882:S894),S882:S894,0))),\"\")","v":""},{"$f":"IF(SUM(T882:T894)<>0,IF(MAX(T882:T894)<T895,Labels!$B$163,INDEX($AH$881:$AH$893,MATCH(MAX(T882:T894),T882:T894,0))),\"\")","v":""},{"$f":"IF(SUM(U882:U894)<>0,IF(MAX(U882:U894)<U895,Labels!$B$163,INDEX($AH$881:$AH$893,MATCH(MAX(U882:U894),U882:U894,0))),\"\")","v":""},{"$f":"IF(SUM(V882:V894)<>0,IF(MAX(V882:V894)<V895,Labels!$B$163,INDEX($AH$881:$AH$893,MATCH(MAX(V882:V894),V882:V894,0))),\"\")","v":""},{"$f":"IF(SUM(W882:W894)<>0,IF(MAX(W882:W894)<W895,Labels!$B$163,INDEX($AH$881:$AH$893,MATCH(MAX(W882:W894),W882:W894,0))),\"\")","v":""},{"$f":"IF(SUM(X882:X894)<>0,IF(MAX(X882:X894)<X895,Labels!$B$163,INDEX($AH$881:$AH$893,MATCH(MAX(X882:X894),X882:X894,0))),\"\")","v":""},{"$f":"IF(SUM(Y882:Y894)<>0,IF(MAX(Y882:Y894)<Y895,Labels!$B$163,INDEX($AH$881:$AH$893,MATCH(MAX(Y882:Y894),Y882:Y894,0))),\"\")","v":""},{"$f":"IF(SUM(Z882:Z894)<>0,IF(MAX(Z882:Z894)<Z895,Labels!$B$163,INDEX($AH$881:$AH$893,MATCH(MAX(Z882:Z894),Z882:Z894,0))),\"\")","v":""},{"$f":"IF(SUM(AA882:AA894)<>0,IF(MAX(AA882:AA894)<AA895,Labels!$B$163,INDEX($AH$881:$AH$893,MATCH(MAX(AA882:AA894),AA882:AA894,0))),\"\")","v":""},{"$f":"IF(SUM(AB882:AB894)<>0,IF(MAX(AB882:AB894)<AB895,Labels!$B$163,INDEX($AH$881:$AH$893,MATCH(MAX(AB882:AB894),AB882:AB894,0))),\"\")","v":""},{"$f":"IF(SUM(AC882:AC894)<>0,IF(MAX(AC882:AC894)<AC895,Labels!$B$163,INDEX($AH$881:$AH$893,MATCH(MAX(AC882:AC894),AC882:AC894,0))),\"\")","v":""},{"$f":"IF(SUM(AD882:AD894)<>0,IF(MAX(AD882:AD894)<AD895,Labels!$B$163,INDEX($AH$881:$AH$893,MATCH(MAX(AD882:AD894),AD882:AD894,0))),\"\")","v":""},{"$f":"IF(SUM(AE882:AE894)<>0,IF(MAX(AE882:AE894)<AE895,Labels!$B$163,INDEX($AH$881:$AH$893,MATCH(MAX(AE882:AE894),AE882:AE894,0))),\"\")","v":""},{"$f":"IF(SUM(AF882:AF894)<>0,IF(MAX(AF882:AF894)<AF895,Labels!$B$163,INDEX($AH$881:$AH$893,MATCH(MAX(AF882:AF894),AF882:AF894,0))),\"\")","v":""},{"$f":"$AL$16*-1","v":0},"[02]"]
[{"$f":"$A$15","v":"00h00-06h00 1)"},null,null,null,null,null,null,null,null,null,null,null,null,null,null,null,null,null,null,null,null,null,null,null,null,null,null,null,null,null,null,null,{"$f":"SUM(B145:AF145)","v":0},"[04]"]
[{"$f":"$A$16","v":"06h00-20h00 2)"},null,null,null,null,null,null,null,null,null,null,null,null,null,null,null,null,null,null,null,null,null,null,null,null,null,null,null,null,null,null,null,{"$f":"SUM(B146:AF146)","v":0},"[03]"]
[{"$f":"$A$17","v":"20h00-24h00 3)"},null,null,null,null,null,null,null,null,null,null,null,null,null,null,null,null,null,null,null,null,null,null,null,null,null,null,null,null,null,null,null,{"$f":"SUM(B147:AF147)","v":0},"[05]"]
[{"$f":"$A$18","v":"Jours fériés \"jf\""},{"$f":"IF(WEEKDAY(B140,2)<=6,IF(CALENDRIER!E7=\"x\",Labels!$B$118,\"\"),\"\")","v":""},{"$f":"IF(WEEKDAY(C140,2)<=6,IF(CALENDRIER!F7=\"x\",Labels!$B$118,\"\"),\"\")","v":""},{"$f":"IF(WEEKDAY(D140,2)<=6,IF(CALENDRIER!G7=\"x\",Labels!$B$118,\"\"),\"\")","v":""},{"$f":"IF(WEEKDAY(E140,2)<=6,IF(CALENDRIER!H7=\"x\",Labels!$B$118,\"\"),\"\")","v":""},{"$f":"IF(WEEKDAY(F140,2)<=6,IF(CALENDRIER!I7=\"x\",Labels!$B$118,\"\"),\"\")","v":""},{"$f":"IF(WEEKDAY(G140,2)<=6,IF(CALENDRIER!J7=\"x\",Labels!$B$118,\"\"),\"\")","v":""},{"$f":"IF(WEEKDAY(H140,2)<=6,IF(CALENDRIER!K7=\"x\",Labels!$B$118,\"\"),\"\")","v":""},{"$f":"IF(WEEKDAY(I140,2)<=6,IF(CALENDRIER!L7=\"x\",Labels!$B$118,\"\"),\"\")","v":""},{"$f":"IF(WEEKDAY(J140,2)<=6,IF(CALENDRIER!M7=\"x\",Labels!$B$118,\"\"),\"\")","v":""},{"$f":"IF(WEEKDAY(K140,2)<=6,IF(CALENDRIER!N7=\"x\",Labels!$B$118,\"\"),\"\")","v":""},{"$f":"IF(WEEKDAY(L140,2)<=6,IF(CALENDRIER!O7=\"x\",Labels!$B$118,\"\"),\"\")","v":""},{"$f":"IF(WEEKDAY(M140,2)<=6,IF(CALENDRIER!P7=\"x\",Labels!$B$118,\"\"),\"\")","v":""},{"$f":"IF(WEEKDAY(N140,2)<=6,IF(CALENDRIER!Q7=\"x\",Labels!$B$118,\"\"),\"\")","v":""},{"$f":"IF(WEEKDAY(O140,2)<=6,IF(CALENDRIER!R7=\"x\",Labels!$B$118,\"\"),\"\")","v":""},{"$f":"IF(WEEKDAY(P140,2)<=6,IF(CALENDRIER!S7=\"x\",Labels!$B$118,\"\"),\"\")","v":""},{"$f":"IF(WEEKDAY(Q140,2)<=6,IF(CALENDRIER!T7=\"x\",Labels!$B$118,\"\"),\"\")","v":""},{"$f":"IF(WEEKDAY(R140,2)<=6,IF(CALENDRIER!U7=\"x\",Labels!$B$118,\"\"),\"\")","v":""},{"$f":"IF(WEEKDAY(S140,2)<=6,IF(CALENDRIER!V7=\"x\",Labels!$B$118,\"\"),\"\")","v":""},{"$f":"IF(WEEKDAY(T140,2)<=6,IF(CALENDRIER!W7=\"x\",Labels!$B$118,\"\"),\"\")","v":""},{"$f":"IF(WEEKDAY(U140,2)<=6,IF(CALENDRIER!X7=\"x\",Labels!$B$118,\"\"),\"\")","v":""},{"$f":"IF(WEEKDAY(V140,2)<=6,IF(CALENDRIER!Y7=\"x\",Labels!$B$118,\"\"),\"\")","v":""},{"$f":"IF(WEEKDAY(W140,2)<=6,IF(CALENDRIER!Z7=\"x\",Labels!$B$118,\"\"),\"\")","v":""},{"$f":"IF(WEEKDAY(X140,2)<=6,IF(CALENDRIER!AA7=\"x\",Labels!$B$118,\"\"),\"\")","v":""},{"$f":"IF(WEEKDAY(Y140,2)<=6,IF(CALENDRIER!AB7=\"x\",Labels!$B$118,\"\"),\"\")","v":""},{"$f":"IF(WEEKDAY(Z140,2)<=6,IF(CALENDRIER!AC7=\"x\",Labels!$B$118,\"\"),\"\")","v":""},{"$f":"IF(WEEKDAY(AA140,2)<=6,IF(CALENDRIER!AD7=\"x\",Labels!$B$118,\"\"),\"\")","v":""},{"$f":"IF(WEEKDAY(AB140,2)<=6,IF(CALENDRIER!AE7=\"x\",Labels!$B$118,\"\"),\"\")","v":""},{"$f":"IF(WEEKDAY(AC140,2)<=6,IF(CALENDRIER!AF7=\"x\",Labels!$B$118,\"\"),\"\")","v":""},{"$f":"IF(WEEKDAY(AD140,2)<=6,IF(CALENDRIER!AG7=\"x\",Labels!$B$118,\"\"),\"\")","v":""},{"$f":"IF(WEEKDAY(AE140,2)<=6,IF(CALENDRIER!AH7=\"x\",Labels!$B$118,\"\"),\"\")","v":""},{"$f":"IF(WEEKDAY(AF140,2)<=6,IF(CALENDRIER!AI7=\"x\",Labels!$B$118,\"\"),\"\")","v":""},null,"FT"]
[{"$f":"$A$19","v":"Majoration  \"jf\""},{"$f":"IF(AND(B148=Labels!$B$118,WEEKDAY(B140,2)<6,B$142<>\"\"),$J$7*SUMPRODUCT(($AM$77:$AQ$77=MOD(B140,7))*$AM$67:$AQ$67)%,\"\")","v":""},{"$f":"IF(AND(C148=Labels!$B$118,WEEKDAY(C140,2)<6,C$142<>\"\"),$J$7*SUMPRODUCT(($AM$77:$AQ$77=MOD(C140,7))*$AM$67:$AQ$67)%,\"\")","v":""},{"$f":"IF(AND(D148=Labels!$B$118,WEEKDAY(D140,2)<6,D$142<>\"\"),$J$7*SUMPRODUCT(($AM$77:$AQ$77=MOD(D140,7))*$AM$67:$AQ$67)%,\"\")","v":""},{"$f":"IF(AND(E148=Labels!$B$118,WEEKDAY(E140,2)<6,E$142<>\"\"),$J$7*SUMPRODUCT(($AM$77:$AQ$77=MOD(E140,7))*$AM$67:$AQ$67)%,\"\")","v":""},{"$f":"IF(AND(F148=Labels!$B$118,WEEKDAY(F140,2)<6,F$142<>\"\"),$J$7*SUMPRODUCT(($AM$77:$AQ$77=MOD(F140,7))*$AM$67:$AQ$67)%,\"\")","v":""},{"$f":"IF(AND(G148=Labels!$B$118,WEEKDAY(G140,2)<6,G$142<>\"\"),$J$7*SUMPRODUCT(($AM$77:$AQ$77=MOD(G140,7))*$AM$67:$AQ$67)%,\"\")","v":""},{"$f":"IF(AND(H148=Labels!$B$118,WEEKDAY(H140,2)<6,H$142<>\"\"),$J$7*SUMPRODUCT(($AM$77:$AQ$77=MOD(H140,7))*$AM$67:$AQ$67)%,\"\")","v":""},{"$f":"IF(AND(I148=Labels!$B$118,WEEKDAY(I140,2)<6,I$142<>\"\"),$J$7*SUMPRODUCT(($AM$77:$AQ$77=MOD(I140,7))*$AM$67:$AQ$67)%,\"\")","v":""},{"$f":"IF(AND(J148=Labels!$B$118,WEEKDAY(J140,2)<6,J$142<>\"\"),$J$7*SUMPRODUCT(($AM$77:$AQ$77=MOD(J140,7))*$AM$67:$AQ$67)%,\"\")","v":""},{"$f":"IF(AND(K148=Labels!$B$118,WEEKDAY(K140,2)<6,K$142<>\"\"),$J$7*SUMPRODUCT(($AM$77:$AQ$77=MOD(K140,7))*$AM$67:$AQ$67)%,\"\")","v":""},{"$f":"IF(AND(L148=Labels!$B$118,WEEKDAY(L140,2)<6,L$142<>\"\"),$J$7*SUMPRODUCT(($AM$77:$AQ$77=MOD(L140,7))*$AM$67:$AQ$67)%,\"\")","v":""},{"$f":"IF(AND(M148=Labels!$B$118,WEEKDAY(M140,2)<6,M$142<>\"\"),$J$7*SUMPRODUCT(($AM$77:$AQ$77=MOD(M140,7))*$AM$67:$AQ$67)%,\"\")","v":""},{"$f":"IF(AND(N148=Labels!$B$118,WEEKDAY(N140,2)<6,N$142<>\"\"),$J$7*SUMPRODUCT(($AM$77:$AQ$77=MOD(N140,7))*$AM$67:$AQ$67)%,\"\")","v":""},{"$f":"IF(AND(O148=Labels!$B$118,WEEKDAY(O140,2)<6,O$142<>\"\"),$J$7*SUMPRODUCT(($AM$77:$AQ$77=MOD(O140,7))*$AM$67:$AQ$67)%,\"\")","v":""},{"$f":"IF(AND(P148=Labels!$B$118,WEEKDAY(P140,2)<6,P$142<>\"\"),$J$7*SUMPRODUCT(($AM$77:$AQ$77=MOD(P140,7))*$AM$67:$AQ$67)%,\"\")","v":""},{"$f":"IF(AND(Q148=Labels!$B$118,WEEKDAY(Q140,2)<6,Q$142<>\"\"),$J$7*SUMPRODUCT(($AM$77:$AQ$77=MOD(Q140,7))*$AM$67:$AQ$67)%,\"\")","v":""},{"$f":"IF(AND(R148=Labels!$B$118,WEEKDAY(R140,2)<6,R$142<>\"\"),$J$7*SUMPRODUCT(($AM$77:$AQ$77=MOD(R140,7))*$AM$67:$AQ$67)%,\"\")","v":""},{"$f":"IF(AND(S148=Labels!$B$118,WEEKDAY(S140,2)<6,S$142<>\"\"),$J$7*SUMPRODUCT(($AM$77:$AQ$77=MOD(S140,7))*$AM$67:$AQ$67)%,\"\")","v":""},{"$f":"IF(AND(T148=Labels!$B$118,WEEKDAY(T140,2)<6,T$142<>\"\"),$J$7*SUMPRODUCT(($AM$77:$AQ$77=MOD(T140,7))*$AM$67:$AQ$67)%,\"\")","v":""},{"$f":"IF(AND(U148=Labels!$B$118,WEEKDAY(U140,2)<6,U$142<>\"\"),$J$7*SUMPRODUCT(($AM$77:$AQ$77=MOD(U140,7))*$AM$67:$AQ$67)%,\"\")","v":""},{"$f":"IF(AND(V148=Labels!$B$118,WEEKDAY(V140,2)<6,V$142<>\"\"),$J$7*SUMPRODUCT(($AM$77:$AQ$77=MOD(V140,7))*$AM$67:$AQ$67)%,\"\")","v":""},{"$f":"IF(AND(W148=Labels!$B$118,WEEKDAY(W140,2)<6,W$142<>\"\"),$J$7*SUMPRODUCT(($AM$77:$AQ$77=MOD(W140,7))*$AM$67:$AQ$67)%,\"\")","v":""},{"$f":"IF(AND(X148=Labels!$B$118,WEEKDAY(X140,2)<6,X$142<>\"\"),$J$7*SUMPRODUCT(($AM$77:$AQ$77=MOD(X140,7))*$AM$67:$AQ$67)%,\"\")","v":""},{"$f":"IF(AND(Y148=Labels!$B$118,WEEKDAY(Y140,2)<6,Y$142<>\"\"),$J$7*SUMPRODUCT(($AM$77:$AQ$77=MOD(Y140,7))*$AM$67:$AQ$67)%,\"\")","v":""},{"$f":"IF(AND(Z148=Labels!$B$118,WEEKDAY(Z140,2)<6,Z$142<>\"\"),$J$7*SUMPRODUCT(($AM$77:$AQ$77=MOD(Z140,7))*$AM$67:$AQ$67)%,\"\")","v":""},{"$f":"IF(AND(AA148=Labels!$B$118,WEEKDAY(AA140,2)<6,AA$142<>\"\"),$J$7*SUMPRODUCT(($AM$77:$AQ$77=MOD(AA140,7))*$AM$67:$AQ$67)%,\"\")","v":""},{"$f":"IF(AND(AB148=Labels!$B$118,WEEKDAY(AB140,2)<6,AB$142<>\"\"),$J$7*SUMPRODUCT(($AM$77:$AQ$77=MOD(AB140,7))*$AM$67:$AQ$67)%,\"\")","v":""},{"$f":"IF(AND(AC148=Labels!$B$118,WEEKDAY(AC140,2)<6,AC$142<>\"\"),$J$7*SUMPRODUCT(($AM$77:$AQ$77=MOD(AC140,7))*$AM$67:$AQ$67)%,\"\")","v":""},{"$f":"IF(AND(AD148=Labels!$B$118,WEEKDAY(AD140,2)<6,AD$142<>\"\"),$J$7*SUMPRODUCT(($AM$77:$AQ$77=MOD(AD140,7))*$AM$67:$AQ$67)%,\"\")","v":""},{"$f":"IF(AND(AE148=Labels!$B$118,WEEKDAY(AE140,2)<6,AE$142<>\"\"),$J$7*SUMPRODUCT(($AM$77:$AQ$77=MOD(AE140,7))*$AM$67:$AQ$67)%,\"\")","v":""},{"$f":"IF(AND(AF148=Labels!$B$118,WEEKDAY(AF140,2)<6,AF$142<>\"\"),$J$7*SUMPRODUCT(($AM$77:$AQ$77=MOD(AF140,7))*$AM$67:$AQ$67)%,\"\")","v":""},{"$f":"SUM(B149:AF149)","v":0},"[06]"]
[{"$f":"$A$20","v":"total quotidien"},{"$f":"SUM(B145:B147)","v":0},{"$f":"SUM(C145:C147)","v":0},0,0,0,0,0,0,0,0,0,0,0,0,0,0,0,0,0,0,0,0,0,0,0,0,0,0,0,0,0,null,"TT"]
[{"$f":"$A$21","v":"."},null,null,null,null,null,null,null,null,null,null,null,null,null,null,null,null,null,null,null,null,null,null,null,null,null,null,null,null,null,null,null,null,"R"]
[{"$f":"$A$22","v":"."},null,null,null,null,null,null,null,null,null,null,null,null,null,null,null,null,null,null,null,null,null,null,null,null,null,null,null,null,null,null,null,null,"R"]
[{"$f":"$A$23","v":"transition mois"},{"$f":"IF(WEEKDAY(B140)=1,TEXT(B140-1,\"MMM\"&Labels!B13),\"\")","v":""},null,null,null,null,null,null,null,null,null,null,null,null,null,null,null,null,null,null,null,null,null,null,null,null,null,null,null,null,null,{"$f":"IF(AND(WEEKDAY(AF140)>1,WEEKDAY(AF140)<7),TEXT(DATE($B$5,MONTH(AF140)+1,1),\"MMM\"&Labels!B13),\"\")","v":"avr."},null,"MNT"]
[{"$f":"$A$24","v":"Total hebdomadaire"},{"$f":"IF(WEEKDAY(B140)=7,SUMIF($B76:$AF76,B141,$B85:$AF85)+SUMIF($B141:$AF141,B141,$B150:$AF150)+SUMIF($B206:$AF206,B141,$B215:$AF215),B153)","v":""},{"$f":"IF(WEEKDAY(C140)=7,SUMIF($B76:$AF76,C141,$B85:$AF85)+SUMIF($B141:$AF141,C141,$B150:$AF150)+SUMIF($B206:$AF206,C141,$B215:$AF215),\"\")","v":""},"",0,"","","","","","",0,"","","","","","",0,"","","","","","",0,"","","","","",{"$f":"IF(WEEKDAY(AF140)=7,SUMIF($B76:$AF76,AF141,$B85:$AF85)+SUMIF($B141:$AF141,AF141,$B150:$AF150)+SUMIF($B206:$AF206,AF141,$B215:$AF215),AF153)","v":"avr."},null,"WT"]
[{"$f":"$A$25","v":"Majorations temp. 1)"},{"$f":"IF(B162=\"FALSCH\",\"\",B162)","v":""},{"$f":"IF(C162=\"FALSCH\",\"\",C162)","v":""},"","","","","","","","","","","","","","","","","","","","","","","","","","","","","",{"$f":"SUM(B155:AF155)","v":0},"[07]"]
[{"$f":"$A$26","v":"Majorations temp. 2)"},{"$f":"IF((B145+B147)=0,\"\",SUM(B145,B147))","v":""},{"$f":"IF((C145+C147)=0,\"\",SUM(C145,C147))","v":""},"","","","","","","","","","","","","","","","","","","","","","","","","","","","","",0,"[08]"]
[{"$f":"$A$27","v":"Majorations temp. 3)"},{"$f":"SUM(B158:B161)","v":0},{"$f":"SUM(C158:C161)","v":0},0,0,0,0,0,0,0,0,0,0,0,0,0,0,0,0,0,0,0,0,0,0,0,0,0,0,0,0,0,0,"[09]"]
[{"$f":"$A$28","v":"Dimanche journée"},{"$f":"IF(WEEKDAY(B140)=1,B146,\"\")","v":""},{"$f":"IF(WEEKDAY(C140)=1,C146,\"\")","v":""},"","",0,"","","","","","",0,"","","","","","",0,"","","","","","",0,"","","","","",0,"[09-ST]"]
[{"$f":"$A$29","v":"Dimanche nuit"},{"$f":"IF(WEEKDAY(B140)=1,SUM(B145+B147),\"\")","v":""},{"$f":"IF(WEEKDAY(C140)=1,SUM(C145+C147),\"\")","v":""},"","",0,"","","","","","",0,"","","","","","",0,"","","","","","",0,"","","","","",0,"[09-SN]"]
[{"$f":"$A$30","v":"jf-jomajoration"},{"$f":"IF(B148=Labels!$B$118,B146,\"\")","v":""},{"$f":"IF(C148=Labels!$B$118,C146,\"\")","v":""},{"$f":"IF(D148=Labels!$B$118,D146,\"\")","v":""},{"$f":"IF(E148=Labels!$B$118,E146,\"\")","v":""},{"$f":"IF(F148=Labels!$B$118,F146,\"\")","v":""},{"$f":"IF(G148=Labels!$B$118,G146,\"\")","v":""},{"$f":"IF(H148=Labels!$B$118,H146,\"\")","v":""},{"$f":"IF(I148=Labels!$B$118,I146,\"\")","v":""},{"$f":"IF(J148=Labels!$B$118,J146,\"\")","v":""},{"$f":"IF(K148=Labels!$B$118,K146,\"\")","v":""},{"$f":"IF(L148=Labels!$B$118,L146,\"\")","v":""},{"$f":"IF(M148=Labels!$B$118,M146,\"\")","v":""},{"$f":"IF(N148=Labels!$B$118,N146,\"\")","v":""},{"$f":"IF(O148=Labels!$B$118,O146,\"\")","v":""},{"$f":"IF(P148=Labels!$B$118,P146,\"\")","v":""},{"$f":"IF(Q148=Labels!$B$118,Q146,\"\")","v":""},{"$f":"IF(R148=Labels!$B$118,R146,\"\")","v":""},{"$f":"IF(S148=Labels!$B$118,S146,\"\")","v":""},{"$f":"IF(T148=Labels!$B$118,T146,\"\")","v":""},{"$f":"IF(U148=Labels!$B$118,U146,\"\")","v":""},{"$f":"IF(V148=Labels!$B$118,V146,\"\")","v":""},{"$f":"IF(W148=Labels!$B$118,W146,\"\")","v":""},{"$f":"IF(X148=Labels!$B$118,X146,\"\")","v":""},{"$f":"IF(Y148=Labels!$B$118,Y146,\"\")","v":""},{"$f":"IF(Z148=Labels!$B$118,Z146,\"\")","v":""},{"$f":"IF(AA148=Labels!$B$118,AA146,\"\")","v":""},{"$f":"IF(AB148=Labels!$B$118,AB146,\"\")","v":""},{"$f":"IF(AC148=Labels!$B$118,AC146,\"\")","v":""},{"$f":"IF(AD148=Labels!$B$118,AD146,\"\")","v":""},{"$f":"IF(AE148=Labels!$B$118,AE146,\"\")","v":""},{"$f":"IF(AF148=Labels!$B$118,AF146,\"\")","v":""},0,"[09-FT]"]
[{"$f":"$A$31","v":"jf-numajoration"},{"$f":"IF(B148=Labels!$B$118,SUM(B145,B147),\"\")","v":""},{"$f":"IF(C148=Labels!$B$118,SUM(C145,C147),\"\")","v":""},{"$f":"IF(D148=Labels!$B$118,SUM(D145,D147),\"\")","v":""},{"$f":"IF(E148=Labels!$B$118,SUM(E145,E147),\"\")","v":""},{"$f":"IF(F148=Labels!$B$118,SUM(F145,F147),\"\")","v":""},{"$f":"IF(G148=Labels!$B$118,SUM(G145,G147),\"\")","v":""},{"$f":"IF(H148=Labels!$B$118,SUM(H145,H147),\"\")","v":""},{"$f":"IF(I148=Labels!$B$118,SUM(I145,I147),\"\")","v":""},{"$f":"IF(J148=Labels!$B$118,SUM(J145,J147),\"\")","v":""},{"$f":"IF(K148=Labels!$B$118,SUM(K145,K147),\"\")","v":""},{"$f":"IF(L148=Labels!$B$118,SUM(L145,L147),\"\")","v":""},{"$f":"IF(M148=Labels!$B$118,SUM(M145,M147),\"\")","v":""},{"$f":"IF(N148=Labels!$B$118,SUM(N145,N147),\"\")","v":""},{"$f":"IF(O148=Labels!$B$118,SUM(O145,O147),\"\")","v":""},{"$f":"IF(P148=Labels!$B$118,SUM(P145,P147),\"\")","v":""},{"$f":"IF(Q148=Labels!$B$118,SUM(Q145,Q147),\"\")","v":""},{"$f":"IF(R148=Labels!$B$118,SUM(R145,R147),\"\")","v":""},{"$f":"IF(S148=Labels!$B$118,SUM(S145,S147),\"\")","v":""},{"$f":"IF(T148=Labels!$B$118,SUM(T145,T147),\"\")","v":""},{"$f":"IF(U148=Labels!$B$118,SUM(U145,U147),\"\")","v":""},{"$f":"IF(V148=Labels!$B$118,SUM(V145,V147),\"\")","v":""},{"$f":"IF(W148=Labels!$B$118,SUM(W145,W147),\"\")","v":""},{"$f":"IF(X148=Labels!$B$118,SUM(X145,X147),\"\")","v":""},{"$f":"IF(Y148=Labels!$B$118,SUM(Y145,Y147),\"\")","v":""},{"$f":"IF(Z148=Labels!$B$118,SUM(Z145,Z147),\"\")","v":""},{"$f":"IF(AA148=Labels!$B$118,SUM(AA145,AA147),\"\")","v":""},{"$f":"IF(AB148=Labels!$B$118,SUM(AB145,AB147),\"\")","v":""},{"$f":"IF(AC148=Labels!$B$118,SUM(AC145,AC147),\"\")","v":""},{"$f":"IF(AD148=Labels!$B$118,SUM(AD145,AD147),\"\")","v":""},{"$f":"IF(AE148=Labels!$B$118,SUM(AE145,AE147),\"\")","v":""},{"$f":"IF(AF148=Labels!$B$118,SUM(AF145,AF147),\"\")","v":""},0,"[09-FN]"]
[{"$f":"$A$32","v":"majoration caché (total hebd.)"},{"$f":"IF($B137>=80,IF(OR(ISTEXT(B154),B154=\"\",B154<$B$7),\"\",ROUND(((B154-$B$7)*25%)/25,4)*25),IF(B150>($B$7/5),ROUND(((B150-($B$7/5))*25%)/25,4)*25,\"\"))","v":""},{"$f":"IF($B137>=80,IF(OR(ISTEXT(C154),C154=\"\",C154<$B$7),\"\",ROUND(((C154-$B$7)*25%)/25,4)*25),IF(C150>($B$7/5),ROUND(((C150-($B$7/5))*25%)/25,4)*25,\"\"))","v":""},"","","","","","","","","","","","","","","","","","","","","","","","","","","","","",{"$f":"AG146","v":0},"[03]"]
[null,{"$f":"$B$33","v":"1)  25% majoration temporelle pour depassement les heures maximales"},null,null,null,null,null,null,null,null,null,{"$f":"$L$33","v":"2) 100% majoration temporelle pour travail de nuit"},null,null,null,null,null,null,null,{"$f":"$T$33","v":"Saisie des heures payées l'année passée"},null,null,null,null,null,null,null,null,null,null,null,null,{"$f":"SUM(AG145+AG147)","v":0},"[4-5]"]
[null,{"$f":"$B$34","v":"3) 100% majoration temporelle pour travail du dimanche et jour férié"},null,null,null,null,null,null,null,null,null,null,null,null,null,null,null,null,null,{"$f":"$T$34","v":"Saisie des heures payées exercice en cours (heures supplémentaires)"},null,null,null,null,null,null,null,null,null,null,null,null,{"$f":"SUM(AG145:AG147)","v":0},"[3-5]"]
[{"$f":"$A$35","v":"Notes"},null,null,null,null,null,null,null,null,null,null,null,null,null,null,null,null,null,null,null,null,null,null,null,null,null,null,null,null,null,null,null,{"$f":"SUM(AG143:AG157)","v":0},"[10]"]
[null,null,null,null,null,null,null,null,null,null,null,null,null,null,null,null,null,null,null,null,null,null,null,null,null,null,null,null,null,null,null,null,{"$f":"AG142","v":184},"[00]"]
[{"$f":"IF(AG879=0,\"\",\"effektives Pensum:  \"&ROUND(COUNT(B142:AF142)/(AG879+COUNT(B142:AF142))%*B137%*20,0)/20&\" %\")","v":""},null,null,null,null,null,null,null,null,null,null,null,null,null,null,null,null,null,null,null,null,null,null,null,null,null,null,null,null,null,null,null,{"$f":"SUM(AG165-AG166)","v":-184},"[11]"]
[]
[{"$f":"Labels!$B$103","v":"Résumé"},null,null,null,null,null,{"$f":"Labels!$B$77","v":"Jan"},null,{"$f":"Labels!$B$78","v":"Fév"},null,{"$f":"Labels!$B$79","v":"Mar"},null,{"$f":"Labels!$B$80","v":"Avr"},null,{"$f":"Labels!$B$81","v":"Mai"},null,{"$f":"Labels!$B$82","v":"Jun"},null,{"$f":"Labels!$B$83","v":"Jul"},null,{"$f":"Labels!$B$84","v":"Aoû"},null,{"$f":"Labels!$B$85","v":"Sep"},null,{"$f":"Labels!$B$86","v":"Oct"},null,{"$f":"Labels!$B$87","v":"Nov"},null,{"$f":"Labels!$B$88","v":"Déc"},null,{"$f":"Labels!$B$101","v":"Année"}]
[{"$f":"Labels!$B$20","v":"Emploi %"},null,null,null,null,null,{"$f":"IF($B$4=0,0,$B$4)","v":100},null,{"$f":"IF($B$72=0,0,$B$72)","v":100},null,{"$f":"IF($B$137=0,0,$B$137)","v":100},null,{"$f":"IF($B$202=0,0,$B$202)","v":100},null,{"$f":"IF($B$267=0,0,$B$267)","v":100},null,{"$f":"IF($B$332=0,0,$B$332)","v":100},null,{"$f":"IF($B$397=0,0,$B$397)","v":100},null,{"$f":"IF($B$462=0,0,$B$462)","v":100},null,{"$f":"IF($B$527=0,0,$B$527)","v":100},null,{"$f":"IF($B$592=0,0,$B$592)","v":100},null,{"$f":"IF($B$657=0,0,$B$657)","v":100},null,{"$f":"IF($B$722=0,0,$B$722)","v":100}]
[{"$f":"Labels!$B$104","v":"Heures théoriques selon CCT"},null,null,null,null,null,{"$f":"IF($AG$36=0,0,$AG$36)","v":176},null,{"$f":"IF($AG$101=0,0,$AG$101)","v":160},null,{"$f":"IF($AG$142=0,0,$AG$142)","v":184},null,{"$f":"IF($AG$231=0,0,$AG$231)","v":160},null,{"$f":"IF($AG$296=0,0,$AG$296)","v":184},null,{"$f":"IF($AG$361=0,0,$AG$361)","v":176},null,{"$f":"IF($AG$426=0,0,$AG$426)","v":168},null,{"$f":"IF($AG$491=0,0,$AG$491)","v":184},null,{"$f":"IF($AG$556=0,0,$AG$556)","v":168},null,{"$f":"IF($AG$621=0,0,$AG$621)","v":176},null,{"$f":"IF($AG$686=0,0,$AG$686)","v":176},null,{"$f":"IF($AG$751=0,0,$AG$751)","v":168},null,{"$f":"SUM(G171:AD171)","v":2080}]
[{"$f":"Labels!$B$105","v":"Total heures productives"},{"$f":"Labels!$B$106","v":"06.00 - 20.00 h"},null,null,null,null,{"$f":"IF($AG$32=0,0,$AG$32)","v":0},null,{"$f":"IF($AG$96=0,0,$AG$96)","v":0},null,{"$f":"IF($AG$161=0,0,$AG$161)","v":0},null,{"$f":"IF($AG$226=0,0,$AG$226)","v":0},null,{"$f":"IF($AG$291=0,0,$AG$291)","v":0},null,{"$f":"IF($AG$356=0,0,$AG$356)","v":0},null,{"$f":"IF($AG$421=0,0,$AG$421)","v":0},null,{"$f":"IF($AG$486=0,0,$AG$486)","v":0},null,{"$f":"IF($AG$551=0,0,$AG$551)","v":0},null,{"$f":"IF($AG$616=0,0,$AG$616)","v":0},null,{"$f":"IF($AG$681=0,0,$AG$681)","v":0},null,{"$f":"IF($AG$746=0,0,$AG$746)","v":0},null,{"$f":"SUM(G172:AD172)","v":0}]
[null,{"$f":"Labels!$B$107","v":"nuit, dimanche et jour férié"},null,null,null,null,{"$f":"IF($AG$33=0,0,$AG$33)","v":0},null,{"$f":"IF($AG$97=0,0,$AG$97)","v":0},null,{"$f":"IF($AG$162=0,0,$AG$162)","v":0},null,{"$f":"IF($AG$227=0,0,$AG$227)","v":0},null,{"$f":"IF($AG$292=0,0,$AG$292)","v":0},null,{"$f":"IF($AG$357=0,0,$AG$357)","v":0},null,{"$f":"IF($AG$422=0,0,$AG$422)","v":0},null,{"$f":"IF($AG$487=0,0,$AG$487)","v":0},null,{"$f":"IF($AG$552=0,0,$AG$552)","v":0},null,{"$f":"IF($AG$617=0,0,$AG$617)","v":0},null,{"$f":"IF($AG$682=0,0,$AG$682)","v":0},null,{"$f":"IF($AG$747=0,0,$AG$747)","v":0},null,{"$f":"SUM(G173:AD173)","v":0}]
[{"$f":"Labels!$B$108","v":"Majorations temporelles"},{"$f":"Labels!$B$109","v":"depassement des heures maximales"},null,null,null,null,{"$f":"IF($AG$25=0,0,$AG$25)","v":0},null,{"$f":"IF($AG$89=0,0,$AG$89)","v":0},null,{"$f":"IF($AG$154=0,0,$AG$154)","v":0},null,{"$f":"IF($AG$219=0,0,$AG$219)","v":0},null,{"$f":"IF($AG$284=0,0,$AG$284)","v":0},null,{"$f":"IF($AG$349=0,0,$AG$349)","v":0},null,{"$f":"IF($AG$414=0,0,$AG$414)","v":0},null,{"$f":"IF($AG$479=0,0,$AG$479)","v":0},null,{"$f":"IF($AG$544=0,0,$AG$544)","v":0},null,{"$f":"IF($AG$609=0,0,$AG$609)","v":0},null,{"$f":"IF($AG$674=0,0,$AG$674)","v":0},null,{"$f":"IF($AG$739=0,0,$AG$739)","v":0},null,{"$f":"SUM(G174:AD174)","v":0}]
[null,{"$f":"Labels!$B$110","v":"nuit, dimanche et jour férié"},null,null,null,null,{"$f":"IF($AJ$23=0,0,$AJ$23)","v":0},null,{"$f":"IF($AK$23=0,0,$AK$23)","v":0},null,{"$f":"IF($AL$23=0,0,$AL$23)","v":0},null,{"$f":"IF($AM$23=0,0,$AM$23)","v":0},null,{"$f":"IF($AN$23=0,0,$AN$23)","v":0},null,{"$f":"IF($AO$23=0,0,$AO$23)","v":0},null,{"$f":"IF($AP$23=0,0,$AP$23)","v":0},null,{"$f":"IF($AQ$23=0,0,$AQ$23)","v":0},null,{"$f":"IF($AR$23=0,0,$AR$23)","v":0},null,{"$f":"IF($AS$23=0,0,$AS$23)","v":0},null,{"$f":"IF($AT$23=0,0,$AT$23)","v":0},null,{"$f":"IF($AU$23=0,0,$AU$23)","v":0},null,{"$f":"SUM(G175:AD175)","v":0}]
[{"$f":"Labels!$B$111","v":"Heures inproductives"}]
[{"$f":"Labels!$B$112","v":"   Absences art. 11 CCT"},null,null,null,null,{"$f":"Labels!$B$113","v":"ab"},{"$f":"IF($AJ$3=0,0,$AJ$3)","v":0},null,{"$f":"IF($AK$3=0,0,$AK$3)","v":0},null,{"$f":"IF($AL$3=0,0,$AL$3)","v":0},null,{"$f":"IF($AM$3=0,0,$AM$3)","v":0},null,{"$f":"IF($AN$3=0,0,$AN$3)","v":0},null,{"$f":"IF($AO$3=0,0,$AO$3)","v":0},null,{"$f":"IF($AP$3=0,0,$AP$3)","v":0},null,{"$f":"IF($AQ$3=0,0,$AQ$3)","v":0},null,{"$f":"IF($AR$3=0,0,$AR$3)","v":0},null,{"$f":"IF($AS$3=0,0,$AS$3)","v":0},null,{"$f":"IF(AT$3=0,0,$AT$3)","v":0},null,{"$f":"IF($AU$3=0,0,$AU$3)","v":0},null,{"$f":"IF($AV$3=0,0,$AV$3)","v":0}]
[{"$f":"Labels!$B$114","v":"   Vacances art. 12.1 CCT"},null,null,null,null,{"$f":"Labels!$B$115","v":"va"},{"$f":"IF($AJ$4=0,0,$AJ$4)","v":0},null,{"$f":"IF($AK$4=0,0,$AK$4)","v":0},null,{"$f":"IF($AL$4=0,0,$AL$4)","v":0},null,{"$f":"IF($AM$4=0,0,$AM$4)","v":0},null,{"$f":"IF($AN$4=0,0,$AN$4)","v":0},null,{"$f":"IF($AO$4=0,0,$AO$4)","v":0},null,{"$f":"IF($AP$4=0,0,$AP$4)","v":0},null,{"$f":"IF($AQ$4=0,0,$AQ$4)","v":0},null,{"$f":"IF($AR$4=0,0,$AR$4)","v":0},null,{"$f":"IF($AS$4=0,0,$AS$4)","v":0},null,{"$f":"IF($AT$4=0,0,$AT$4)","v":0},null,{"$f":"IF($AU$4=0,0,$AU$4)","v":0},null,{"$f":"IF($AV$4=0,0,$AV$4)","v":0}]
[{"$f":"Labels!$B$181","v":"   vacances non payées"},null,null,null,null,{"$f":"Labels!$B$182","v":"vn"},{"$f":"IF($AJ$13=0,0,$AJ$13)","v":0},null,{"$f":"IF($AK$13=0,0,$AK$13)","v":0},null,{"$f":"IF($AL$13=0,0,$AL$13)","v":0},null,{"$f":"IF($AM$13=0,0,$AM$13)","v":0},null,{"$f":"IF($AN$13=0,0,$AN$13)","v":0},null,{"$f":"IF($AO$13=0,0,$AO$13)","v":0},null,{"$f":"IF($AP$13=0,0,$AP$13)","v":0},null,{"$f":"IF($AQ$13=0,0,$AQ$13)","v":0},null,{"$f":"IF($AR$13=0,0,$AR$13)","v":0},null,{"$f":"IF($AS$13=0,0,$AS$13)","v":0},null,{"$f":"IF($AT$13=0,0,$AT$13)","v":0},null,{"$f":"IF($AU$13=0,0,$AU$13)","v":0},null,{"$f":"IF($AV$13=0,0,$AV$13)","v":0}]
[{"$f":"Labels!$B$116","v":"   Jours fériés art. 12.2 CCT"},null,{"$f":"IF($AJ$20=\"\",\"\",$AJ$20)","v":""},null,null,{"$f":"Labels!$B$118","v":"jf"},{"$f":"IF($AJ$18=0,0,$AJ$18)","v":0},null,{"$f":"IF($AK$18=0,0,$AK$18)","v":0},null,{"$f":"IF($AL$18=0,0,$AL$18)","v":0},null,{"$f":"IF($AM$18=0,0,$AM$18)","v":0},null,{"$f":"IF($AN$18=0,0,$AN$18)","v":0},null,{"$f":"IF($AO$18=0,0,$AO$18)","v":0},null,{"$f":"IF($AP$18=0,0,$AP$18)","v":0},null,{"$f":"IF($AQ$18=0,0,$AQ$18)","v":0},null,{"$f":"IF($AR$18=0,0,$AR$18)","v":0},null,{"$f":"IF($AS$18=0,0,$AS$18)","v":0},null,{"$f":"IF($AT$18=0,0,$AT$18)","v":0},null,{"$f":"IF($AU$18=0,0,$AU$18)","v":0},null,{"$f":"IF($AV$18=0,0,$AV$18)","v":0}]
[{"$f":"Labels!$B$119","v":"   Maladie art. 13 CCT"},null,null,null,null,{"$f":"Labels!$B$120","v":"ma"},{"$f":"IF($AJ$5=0,0,$AJ$5)","v":0},null,{"$f":"IF($AK$5=0,0,$AK$5)","v":0},null,{"$f":"IF($AL$5=0,0,$AL$5)","v":0},null,{"$f":"IF($AM$5=0,0,$AM$5)","v":0},null,{"$f":"IF($AN$5=0,0,$AN$5)","v":0},null,{"$f":"IF($AO$5=0,0,$AO$5)","v":0},null,{"$f":"IF($AP$5=0,0,$AP$5)","v":0},null,{"$f":"IF($AQ$5=0,0,$AQ$5)","v":0},null,{"$f":"IF($AR$5=0,0,$AR$5)","v":0},null,{"$f":"IF($AS$5=0,0,$AS$5)","v":0},null,{"$f":"IF($AT$5=0,0,$AT$5)","v":0},null,{"$f":"IF($AU$5=0,0,$AU$5)","v":0},null,{"$f":"IF($AV$5=0,0,$AV$5)","v":0}]
[{"$f":"Labels!$B$184","v":"non payeé"},null,null,null,null,null,{"$f":"IF(AJ$16=0,0,AJ$16)","v":0},null,{"$f":"IF($AK$16=0,0,$AK$16)","v":0},null,{"$f":"IF($AL$16=0,0,$AL$16)","v":0},null,{"$f":"IF($AM$16=0,0,$AM$16)","v":0},null,{"$f":"IF($AN$16=0,0,$AN$16)","v":0},null,{"$f":"IF($AO$16=0,0,$AO$16)","v":0},null,{"$f":"IF($AP$16=0,0,$AP$16)","v":0},null,{"$f":"IF($AQ$16=0,0,$AQ$16)","v":0},null,{"$f":"IF($AR$16=0,0,$AR$16)","v":0},null,{"$f":"IF($AS$16=0,0,$AS$16)","v":0},null,{"$f":"IF($AT$16=0,0,$AT$16)","v":0},null,{"$f":"IF($AU$16=0,0,$AU$16)","v":0},null,{"$f":"IF($AV$16=0,0,$AV$16)","v":0}]
[{"$f":"Labels!$B$121","v":"   Accident art. 14 CCT"},null,null,null,null,{"$f":"Labels!$B$122","v":"ac"},{"$f":"IF($AJ$6=0,0,$AJ$6)","v":0},null,{"$f":"IF($AK$6=0,0,$AK$6)","v":0},null,{"$f":"IF($AL$6=0,0,$AL$6)","v":0},null,{"$f":"IF($AM$6=0,0,$AM$6)","v":0},null,{"$f":"IF($AN$6=0,0,$AN$6)","v":0},null,{"$f":"IF($AO$6=0,0,$AO$6)","v":0},null,{"$f":"IF($AP$6=0,0,$AP$6)","v":0},null,{"$f":"IF($AQ$6=0,0,$AQ$6)","v":0},null,{"$f":"IF($AR$6=0,0,$AR$6)","v":0},null,{"$f":"IF($AS$6=0,0,$AS$6)","v":0},null,{"$f":"IF($AT$6=0,0,$AT$6)","v":0},null,{"$f":"IF($AU$6=0,0,$AU$6)","v":0},null,{"$f":"IF($AV$6=0,0,$AV$6)","v":0}]
[{"$f":"Labels!$B$123","v":"   Grossesse/Maternité art. 15 CCT"},null,null,null,null,{"$f":"Labels!$B$124","v":"gm"},{"$f":"IF($AJ$7=0,0,$AJ$7)","v":0},null,{"$f":"IF($AK$7=0,0,$AK$7)","v":0},null,{"$f":"IF($AL$7=0,0,$AL$7)","v":0},null,{"$f":"IF($AM$7=0,0,$AM$7)","v":0},null,{"$f":"IF($AN$7=0,0,$AN$7)","v":0},null,{"$f":"IF($AO$7=0,0,$AO$7)","v":0},null,{"$f":"IF($AP$7=0,0,$AP$7)","v":0},null,{"$f":"IF($AQ$7=0,0,$AQ$7)","v":0},null,{"$f":"IF($AR$7=0,0,$AR$7)","v":0},null,{"$f":"IF($AS$7=0,0,$AS$7)","v":0},null,{"$f":"IF($AT$7=0,0,$AT$7)","v":0},null,{"$f":"IF($AU$7=0,0,$AU$7)","v":0},null,{"$f":"IF($AV$7=0,0,$AV$7)","v":0}]
[{"$f":"Labels!$B$125","v":"   Militaire/Promotion/Protection civile art. 16 CCT"},null,null,null,null,{"$f":"Labels!$B$126","v":"mi"},{"$f":"IF($AJ$8=0,0,$AJ$8)","v":0},null,{"$f":"IF($AK$8=0,0,$AK$8)","v":0},null,{"$f":"IF($AL$8=0,0,$AL$8)","v":0},null,{"$f":"IF($AM$8=0,0,$AM$8)","v":0},null,{"$f":"IF($AN$8=0,0,$AN$8)","v":0},null,{"$f":"IF($AO$8=0,0,$AO$8)","v":0},null,{"$f":"IF($AP$8=0,0,$AP$8)","v":0},null,{"$f":"IF($AQ$8=0,0,$AQ$8)","v":0},null,{"$f":"IF($AR$8=0,0,$AR$8)","v":0},null,{"$f":"IF($AS$8=0,0,$AS$8)","v":0},null,{"$f":"IF($AT$8=0,0,$AT$8)","v":0},null,{"$f":"IF($AU$8=0,0,$AU$8)","v":0},null,{"$f":"IF($AV$8=0,0,$AV$8)","v":0}]
[{"$f":"Labels!$B$127","v":"   Chômage partiel et perte de travail cause d'intempéries"},null,null,null,null,{"$f":"Labels!$B$128","v":"ch"},{"$f":"IF($AJ$11=0,0,$AJ$11)","v":0},null,{"$f":"IF($AK$11=0,0,$AK$11)","v":0},null,{"$f":"IF($AL$11=0,0,$AL$11)","v":0},null,{"$f":"IF($AM$11=0,0,$AM$11)","v":0},null,{"$f":"IF($AN$11=0,0,$AN$11)","v":0},null,{"$f":"IF($AO$11=0,0,$AO$11)","v":0},null,{"$f":"IF($AP$11=0,0,$AP$11)","v":0},null,{"$f":"IF($AQ$11=0,0,$AQ$11)","v":0},null,{"$f":"IF($AR$11=0,0,$AR$11)","v":0},null,{"$f":"IF($AS$11=0,0,$AS$11)","v":0},null,{"$f":"IF($AT$11=0,0,$AT$11)","v":0},null,{"$f":"IF($AU$11=0,0,$AU$11)","v":0},null,{"$f":"IF($AV$11=0,0,$AV$11)","v":0}]
[{"$f":"Labels!$B$129","v":"   Ecole professionnelle"},null,null,null,null,{"$f":"Labels!$B$130","v":"ep"},{"$f":"IF($AJ$9=0,0,$AJ$9)","v":0},null,{"$f":"IF($AK$9=0,0,$AK$9)","v":0},null,{"$f":"IF($AL$9=0,0,$AL$9)","v":0},null,{"$f":"IF($AM$9=0,0,$AM$9)","v":0},null,{"$f":"IF($AN$9=0,0,$AN$9)","v":0},null,{"$f":"IF($AO$9=0,0,$AO$9)","v":0},null,{"$f":"IF($AP$9=0,0,$AP$9)","v":0},null,{"$f":"IF($AQ$9=0,0,$AQ$9)","v":0},null,{"$f":"IF($AR$9=0,0,$AR$9)","v":0},null,{"$f":"IF($AS$9=0,0,$AS$9)","v":0},null,{"$f":"IF($AT$9=0,0,$AT$9)","v":0},null,{"$f":"IF($AU$9=0,0,$AU$9)","v":0},null,{"$f":"IF($AV$9=0,0,$AV$9)","v":0}]
[{"$f":"Labels!$B$131","v":"   Cours"},null,null,null,null,{"$f":"Labels!$B$132","v":"co"},{"$f":"IF($AJ$10=0,0,$AJ$10)","v":0},null,{"$f":"IF($AK$10=0,0,$AK$10)","v":0},null,{"$f":"IF($AL$10=0,0,$AL$10)","v":0},null,{"$f":"IF($AM$10=0,0,$AM$10)","v":0},null,{"$f":"IF($AN$10=0,0,$AN$10)","v":0},null,{"$f":"IF($AO$10=0,0,$AO$10)","v":0},null,{"$f":"IF($AP$10=0,0,$AP$10)","v":0},null,{"$f":"IF($AQ$10=0,0,$AQ$10)","v":0},null,{"$f":"IF($AR$10=0,0,$AR$10)","v":0},null,{"$f":"IF($AS$10=0,0,$AS$10)","v":0},null,{"$f":"IF($AT$10=0,0,$AT$10)","v":0},null,{"$f":"IF($AU$10=0,0,$AU$10)","v":0},null,{"$f":"IF($AV$10=0,0,$AV$10)","v":0}]
[{"$f":"Labels!$B$133","v":"Heures de compensation"},{"$f":"Labels!$B$134","v":"de l'année passée"},null,null,null,{"$f":"Labels!$B$135","v":"cp"},{"$f":"IF($AJ$12=0,0,$AJ$12)","v":0},null,{"$f":"IF($AK$12=0,0,$AK$12)","v":0},null,{"$f":"IF($AL$12=0,0,$AL$12)","v":0},null,{"$f":"IF($AM$12=0,0,$AM$12)","v":0},null,{"$f":"IF($AN$12=0,0,$AN$12)","v":0},null,{"$f":"IF($AO$12=0,0,$AO$12)","v":0},null,{"$f":"IF($AP$12=0,0,$AP$12)","v":0},null,{"$f":"IF($AQ$12=0,0,$AQ$12)","v":0},null,{"$f":"IF($AR$12=0,0,$AR$12)","v":0},null,null,null,null,null,null,null,{"$f":"IF($AV$12=0,0,$AV$12)","v":0}]
[null,{"$f":"Labels!$B$136","v":"de l'année en cours (contrôle)"},null,null,null,{"$f":"Labels!$B$137","v":"cc"},{"$f":"IF($AJ$15=0,0,$AJ$15)","v":0},null,{"$f":"IF($AK$15=0,0,$AK$15)","v":0},null,{"$f":"IF($AL$15=0,0,$AL$15)","v":0},null,{"$f":"IF($AM$15=0,0,$AM$15)","v":0},null,{"$f":"IF($AN$15=0,0,$AN$15)","v":0},null,{"$f":"IF($AO$15=0,0,$AO$15)","v":0},null,{"$f":"IF($AP$15=0,0,$AP$15)","v":0},null,{"$f":"IF($AQ$15=0,0,$AQ$15)","v":0},null,{"$f":"IF($AR$15=0,0,$AR$15)","v":0},null,{"$f":"IF($AS$15=0,0,$AS$15)","v":0},null,{"$f":"IF($AT$15=0,0,$AT$15)","v":0},null,{"$f":"IF($AU$15=0,0,$AU$15)","v":0},null,{"$f":"IF($AV$15=0,0,$AV$15)","v":0}]
[{"$f":"Labels!$B$138","v":"Paiement des heures"},{"$f":"Labels!$B$139","v":"de l'année passée"},null,null,null,null,{"$f":"IF($AJ$21=0,0,$AJ$21)","v":0},null,{"$f":"IF($AK$21=0,0,$AK$21)","v":0},null,{"$f":"IF($AL$21=0,0,$AL$21)","v":0},null,{"$f":"IF($AM$21=0,0,$AM$21)","v":0},null,{"$f":"IF($AN$21=0,0,$AN$21)","v":0},null,{"$f":"IF($AO$21=0,0,$AO$21)","v":0},null,{"$f":"IF($AP$21=0,0,$AP$21)","v":0},null,{"$f":"IF($AQ$21=0,0,$AQ$21)","v":0},null,{"$f":"IF($AR$21=0,0,$AR$21)","v":0},null,null,null,null,null,null,null,{"$f":"IF($AV$21=0,0,$AV$21)","v":0}]
[{"$f":"Labels!$B$140","v":"Différence en heures"},{"$f":"Labels!$B$141","v":"après compensation et paiement"},null,null,null,null,{"$f":"IF(ROUND($P$4,3)=0,0,$P$4-G189-G191)","v":0},null,{"$f":"IF(ROUND(G192,3)=0,0,G192-(SUM(I189+I191)))","v":0},null,{"$f":"IF(ROUND(I192,3)=0,0,I192-K191-K189)","v":0},null,{"$f":"IF(ROUND(K192,3)=0,0,K192-(SUM(M191+M189)))","v":0},null,{"$f":"IF(ROUND(M192,3)=0,0,M192-(SUM(O191+O189)))","v":0},null,{"$f":"IF(ROUND(O192,3)=0,0,O192-(SUM(Q191+Q189)))","v":0},null,{"$f":"IF(ROUND(Q192,3)=0,0,Q192-(SUM(S191+S189)))","v":0},null,{"$f":"IF(ROUND(S192,3)=0,0,S192-(SUM(U191+U189)))","v":0},null,{"$f":"IF(ROUND(U192,3)=0,0,U192-(SUM(W191+W189)))","v":0},null,{"$f":"IF($W$62<0.1,\"\",AY174)","v":""}]
[{"$f":"Labels!$B$138","v":"Paiement des heures"},{"$f":"Labels!$B$142","v":"de l'année en cours"},null,null,null,null,{"$f":"IF($AJ$22=0,0,$AJ$22)","v":0},null,{"$f":"IF($AK$22=0,0,$AK$22)","v":0},null,{"$f":"IF($AL$22=0,0,$AL$22)","v":0},null,{"$f":"IF($AM$22=0,0,$AM$22)","v":0},null,{"$f":"IF($AN$22=0,0,$AN$22)","v":0},null,{"$f":"IF($AO$22=0,0,$AO$22)","v":0},null,{"$f":"IF($AP$22=0,0,$AP$22)","v":0},null,{"$f":"IF($AQ$22=0,0,$AQ$22)","v":0},null,{"$f":"IF($AR$22=0,0,$AR$22)","v":0},null,{"$f":"IF($AS$22=0,0,$AS$22)","v":0},null,{"$f":"IF($AT$22=0,0,$AT$22)","v":0},null,{"$f":"IF($AU$22=0,0,$AU$22)","v":0},null,{"$f":"IF($AV$22=0,0,$AV$22)","v":0}]
[{"$f":"Labels!$B$143","v":"Heures manquantes"},{"$f":"Labels!$B$144","v":"de l'année en cours (contrôle)"},null,null,null,{"$f":"Labels!$B$145","v":"hm"},{"$f":"IF($AJ$14=0,0,$AJ$14)","v":0},null,{"$f":"IF($AK$14=0,0,$AK$14)","v":0},null,{"$f":"IF($AL$14=0,0,$AL$14)","v":0},null,{"$f":"IF($AM$14=0,0,$AM$14)","v":0},null,{"$f":"IF($AN$14=0,0,$AN$14)","v":0},null,{"$f":"IF($AO$14=0,0,$AO$14)","v":0},null,{"$f":"IF($AP$14=0,0,$AP$14)","v":0},null,{"$f":"IF($AQ$14=0,0,$AQ$14)","v":0},null,{"$f":"IF($AR$14=0,0,$AR$14)","v":0},null,{"$f":"IF($AS$14=0,0,$AS$14)","v":0},null,{"$f":"IF($AT$14=0,0,$AT$14)","v":0},null,{"$f":"IF($AU$14=0,0,$AU$14)","v":0},null,{"$f":"IF($AV$14=0,0,$AV$14)","v":0}]
[{"$f":"Labels!$B$146","v":"Total (majorations inclus)"},{"$f":"Labels!$B$147","v":"heures productives et inproductives"},null,null,null,null,{"$f":"IF($AG$35=0,0,$AG$35)","v":0},null,{"$f":"IF($AG$100=0,0,$AG$100)","v":0},null,{"$f":"IF($AG$165=0,0,$AG$165)","v":0},null,{"$f":"IF($AG$230=0,0,$AG$230)","v":0},null,{"$f":"IF($AG$295=0,0,$AG$295)","v":0},null,{"$f":"IF($AG$360=0,0,$AG$360)","v":0},null,{"$f":"IF($AG$425=0,0,$AG$425)","v":0},null,{"$f":"IF($AG$490=0,0,$AG$490)","v":0},null,{"$f":"IF($AG$555=0,0,$AG$555)","v":0},null,{"$f":"IF($AG$620=0,0,$AG$620)","v":0},null,{"$f":"IF($AG$685=0,0,$AG$685)","v":0},null,{"$f":"IF($AG$750=0,0,$AG$750)","v":0},null,{"$f":"SUM($G$65:$AD$65)","v":0}]
[{"$f":"Labels!$B$148","v":"Comparaison des heures"},{"$f":"Labels!$B$149","v":"aux heures théorique CCT (heures \nmanquantes de l'année passée incl.)"},null,null,null,null,{"$f":"IF($AG$37=0,0,$AG$37)-$AE$34+$P$5","v":-176},null,{"$f":"IF($AG$102=0,0,$AG$102)-$AE$99","v":-160},null,{"$f":"IF($AG$167=0,0,$AG$167)-$AE$164","v":-184},null,{"$f":"IF($AG$232=0,0,$AG$232)-$AE$229","v":-160},null,{"$f":"IF($AG$297=0,0,$AG$297)-$AE$294","v":-184},null,{"$f":"IF($AG$362=0,0,$AG$362)-$AE$359","v":-176},null,{"$f":"IF($AG$427=0,0,$AG$427)-$AE$424","v":-168},null,{"$f":"IF($AG$492=0,0,$AG$492)-$AE$489","v":-184},null,{"$f":"IF($AG$557=0,0,$AG$557)-$AE$554","v":-168},null,{"$f":"IF($AG$622=0,0,$AG$622)-$AE$619","v":-176},null,{"$f":"IF($AG$687=0,0,$AG$687)-$AE$684","v":-176},null,{"$f":"IF($AG$752=0,0,$AG$752)-$AE$749","v":-168},null,{"$f":"SUM($G$66:$AD$66)","v":-2080}]
[null,{"$f":"Labels!$B$151","v":"aux heures théorique (cumulées)"},null,null,null,null,{"$f":"IF(G170=0,0,$G$66)","v":-176},null,{"$f":"IF(I170=0,0,SUM($G$66:$J$66))","v":-336},null,{"$f":"IF(K170=0,0,SUM($G$66:$L$66))","v":-520},null,{"$f":"IF(M170=0,0,SUM($G$66:$N$66))","v":-680},null,{"$f":"IF(O170=0,0,SUM($G$66:$P$66))","v":-864},null,{"$f":"IF(Q170=0,0,SUM($G$66:$R$66))","v":-1040},null,{"$f":"IF(S170=0,0,SUM($G$66:$T$66))","v":-1208},null,{"$f":"IF(U170=0,0,SUM($G$66:$V$66))","v":-1392},null,{"$f":"IF(W170=0,0,SUM($G$66:$X$66))","v":-1560},null,{"$f":"IF(Y170=0,0,SUM($G$66:$Z$66))","v":-1736},null,{"$f":"IF(AA170=0,0,SUM($G$66:$AB$66))","v":-1912},null,{"$f":"IF(AC170=0,0,SUM($G$66:$AD$66))","v":-2080}]
[{"$f":"Labels!$B$153","v":"Vacances (contrôle)"},{"$f":"Labels!$B$154","v":"Vacances année passée"},null,null,null,null,{"$f":"IF($AA$4=0,0,$AA$4)","v":0},null,{"$f":"Labels!$B$155","v":"Vacances selon \nart 12.1 CCT"},null,null,null,{"$f":"IF($AA$5=0,0,$AA$5)","v":0},null,{"$f":"Labels!$B$156","v":"Total des vacances"},null,null,null,{"$f":"SUM(G198+M198)","v":0},null,{"$f":"Labels!$B$157","v":"Vacances prises"},null,null,null,{"$f":"IF($AV$4=0,0,$AV$4)","v":0},null,{"$f":"Labels!$B$158","v":"Vacances restantes"},null,null,null,{"$f":"IF(S198=0,0,S198-Y198)","v":0}]
[]
[]
[{"$f":"$A$3","v":"Nom/Prénom"},{"$f":"IF($B$3=\"\",\"\",$B$3)","v":"Modèle Pierre"},null,null,null,null,null,null,null,null,null,null,null,null,null,null,null,null,null,null,null,null,null,null,null,null,null,null,null,null,null,{"$f":"AF3","v":0}]
[{"$f":"$A$4","v":"Emploi %"},{"$f":"$AL$51","v":100},null,{"$f":"Labels!B92","v":"en avril"}]
[{"$f":"$A$5","v":"Solde année en cours"},null,null,{"$f":"IF($AE$66=0,0,$AE$66)","v":-2080}]
[{"$f":"TEXT(DATE(YEAR(AP29),MONTH(AP29)+3,1),\"MMMM\"&Labels!B13)","v":"avril"},{"$f":"$B$9","v":"Solde mois + / -"},null,null,null,{"$f":"(AG206-(SUM(AG207:AG221)-AE229))*-1","v":160},null,null,null,null,{"$f":"$K$9","v":" = "},{"$f":"$L$9","v":"Les cases marquées en jaune doivent être remplies (les autres seront calculées automatiquement)"},null,null,null,null,null,null,null,null,null,null,null,null,null,null,null,null,null,null,null,null,{"$f":"COUNT(B207:AF207)&\" \"&Labels!$B$63","v":"20 Jours"}]
[{"$f":"$A$10","v":"Jour"},{"$f":"AF140+1","v":"2023-04-01"},{"$f":"B205+1","v":"2023-04-02"},{"$f":"C205+1","v":"2023-04-03"},"2023-04-04","2023-04-05","2023-04-06","2023-04-07","2023-04-08","2023-04-09","2023-04-10","2023-04-11","2023-04-12","2023-04-13","2023-04-14","2023-04-15","2023-04-16","2023-04-17","2023-04-18","2023-04-19","2023-04-20","2023-04-21","2023-04-22","2023-04-23","2023-04-24","2023-04-25","2023-04-26","2023-04-27","2023-04-28","2023-04-29","2023-04-30"]
[{"$f":"$A$11","v":"semaine civile"},{"$f":"IF(B205=\"\",\"\",TRUNC((B205-DATE(YEAR(B205+3-MOD(B205-2,7)),1,MOD(B205-2,7)-9))/7))","v":13},13,14,14,14,14,14,14,14,15,15,15,15,15,15,15,16,16,16,16,16,16,16,17,17,17,17,17,17,17,"",null,"Woche"]
[{"$f":"$A$12","v":"Théorique sel. CCT"},{"$f":"IF(AND(MOD(B205,7)>=2,SUMPRODUCT(($AM$60:$AQ$60=MOD(B205,7))*$AM$51:$AQ$51),B904=\"\"),$J$7*SUMPRODUCT(($AM$77:$AQ$77=MOD(B205,7))*$AM$68:$AQ$68)%,\"\")","v":""},{"$f":"IF(AND(MOD(C205,7)>=2,SUMPRODUCT(($AM$60:$AQ$60=MOD(C205,7))*$AM$51:$AQ$51),C904=\"\"),$J$7*SUMPRODUCT(($AM$77:$AQ$77=MOD(C205,7))*$AM$68:$AQ$68)%,\"\")","v":""},{"$f":"IF(AND(MOD(D205,7)>=2,SUMPRODUCT(($AM$60:$AQ$60=MOD(D205,7))*$AM$51:$AQ$51),D904=\"\"),$J$7*SUMPRODUCT(($AM$77:$AQ$77=MOD(D205,7))*$AM$68:$AQ$68)%,\"\")","v":8},{"$f":"IF(AND(MOD(E205,7)>=2,SUMPRODUCT(($AM$60:$AQ$60=MOD(E205,7))*$AM$51:$AQ$51),E904=\"\"),$J$7*SUMPRODUCT(($AM$77:$AQ$77=MOD(E205,7))*$AM$68:$AQ$68)%,\"\")","v":8},{"$f":"IF(AND(MOD(F205,7)>=2,SUMPRODUCT(($AM$60:$AQ$60=MOD(F205,7))*$AM$51:$AQ$51),F904=\"\"),$J$7*SUMPRODUCT(($AM$77:$AQ$77=MOD(F205,7))*$AM$68:$AQ$68)%,\"\")","v":8},{"$f":"IF(AND(MOD(G205,7)>=2,SUMPRODUCT(($AM$60:$AQ$60=MOD(G205,7))*$AM$51:$AQ$51),G904=\"\"),$J$7*SUMPRODUCT(($AM$77:$AQ$77=MOD(G205,7))*$AM$68:$AQ$68)%,\"\")","v":8},{"$f":"IF(AND(MOD(H205,7)>=2,SUMPRODUCT(($AM$60:$AQ$60=MOD(H205,7))*$AM$51:$AQ$51),H904=\"\"),$J$7*SUMPRODUCT(($AM$77:$AQ$77=MOD(H205,7))*$AM$68:$AQ$68)%,\"\")","v":8},{"$f":"IF(AND(MOD(I205,7)>=2,SUMPRODUCT(($AM$60:$AQ$60=MOD(I205,7))*$AM$51:$AQ$51),I904=\"\"),$J$7*SUMPRODUCT(($AM$77:$AQ$77=MOD(I205,7))*$AM$68:$AQ$68)%,\"\")","v":""},{"$f":"IF(AND(MOD(J205,7)>=2,SUMPRODUCT(($AM$60:$AQ$60=MOD(J205,7))*$AM$51:$AQ$51),J904=\"\"),$J$7*SUMPRODUCT(($AM$77:$AQ$77=MOD(J205,7))*$AM$68:$AQ$68)%,\"\")","v":""},{"$f":"IF(AND(MOD(K205,7)>=2,SUMPRODUCT(($AM$60:$AQ$60=MOD(K205,7))*$AM$51:$AQ$51),K904=\"\"),$J$7*SUMPRODUCT(($AM$77:$AQ$77=MOD(K205,7))*$AM$68:$AQ$68)%,\"\")","v":8},{"$f":"IF(AND(MOD(L205,7)>=2,SUMPRODUCT(($AM$60:$AQ$60=MOD(L205,7))*$AM$51:$AQ$51),L904=\"\"),$J$7*SUMPRODUCT(($AM$77:$AQ$77=MOD(L205,7))*$AM$68:$AQ$68)%,\"\")","v":8},{"$f":"IF(AND(MOD(M205,7)>=2,SUMPRODUCT(($AM$60:$AQ$60=MOD(M205,7))*$AM$51:$AQ$51),M904=\"\"),$J$7*SUMPRODUCT(($AM$77:$AQ$77=MOD(M205,7))*$AM$68:$AQ$68)%,\"\")","v":8},{"$f":"IF(AND(MOD(N205,7)>=2,SUMPRODUCT(($AM$60:$AQ$60=MOD(N205,7))*$AM$51:$AQ$51),N904=\"\"),$J$7*SUMPRODUCT(($AM$77:$AQ$77=MOD(N205,7))*$AM$68:$AQ$68)%,\"\")","v":8},{"$f":"IF(AND(MOD(O205,7)>=2,SUMPRODUCT(($AM$60:$AQ$60=MOD(O205,7))*$AM$51:$AQ$51),O904=\"\"),$J$7*SUMPRODUCT(($AM$77:$AQ$77=MOD(O205,7))*$AM$68:$AQ$68)%,\"\")","v":8},{"$f":"IF(AND(MOD(P205,7)>=2,SUMPRODUCT(($AM$60:$AQ$60=MOD(P205,7))*$AM$51:$AQ$51),P904=\"\"),$J$7*SUMPRODUCT(($AM$77:$AQ$77=MOD(P205,7))*$AM$68:$AQ$68)%,\"\")","v":""},{"$f":"IF(AND(MOD(Q205,7)>=2,SUMPRODUCT(($AM$60:$AQ$60=MOD(Q205,7))*$AM$51:$AQ$51),Q904=\"\"),$J$7*SUMPRODUCT(($AM$77:$AQ$77=MOD(Q205,7))*$AM$68:$AQ$68)%,\"\")","v":""},{"$f":"IF(AND(MOD(R205,7)>=2,SUMPRODUCT(($AM$60:$AQ$60=MOD(R205,7))*$AM$51:$AQ$51),R904=\"\"),$J$7*SUMPRODUCT(($AM$77:$AQ$77=MOD(R205,7))*$AM$68:$AQ$68)%,\"\")","v":8},{"$f":"IF(AND(MOD(S205,7)>=2,SUMPRODUCT(($AM$60:$AQ$60=MOD(S205,7))*$AM$51:$AQ$51),S904=\"\"),$J$7*SUMPRODUCT(($AM$77:$AQ$77=MOD(S205,7))*$AM$68:$AQ$68)%,\"\")","v":8},{"$f":"IF(AND(MOD(T205,7)>=2,SUMPRODUCT(($AM$60:$AQ$60=MOD(T205,7))*$AM$51:$AQ$51),T904=\"\"),$J$7*SUMPRODUCT(($AM$77:$AQ$77=MOD(T205,7))*$AM$68:$AQ$68)%,\"\")","v":8},{"$f":"IF(AND(MOD(U205,7)>=2,SUMPRODUCT(($AM$60:$AQ$60=MOD(U205,7))*$AM$51:$AQ$51),U904=\"\"),$J$7*SUMPRODUCT(($AM$77:$AQ$77=MOD(U205,7))*$AM$68:$AQ$68)%,\"\")","v":8},{"$f":"IF(AND(MOD(V205,7)>=2,SUMPRODUCT(($AM$60:$AQ$60=MOD(V205,7))*$AM$51:$AQ$51),V904=\"\"),$J$7*SUMPRODUCT(($AM$77:$AQ$77=MOD(V205,7))*$AM$68:$AQ$68)%,\"\")","v":8},{"$f":"IF(AND(MOD(W205,7)>=2,SUMPRODUCT(($AM$60:$AQ$60=MOD(W205,7))*$AM$51:$AQ$51),W904=\"\"),$J$7*SUMPRODUCT(($AM$77:$AQ$77=MOD(W205,7))*$AM$68:$AQ$68)%,\"\")","v":""},{"$f":"IF(AND(MOD(X205,7)>=2,SUMPRODUCT(($AM$60:$AQ$60=MOD(X205,7))*$AM$51:$AQ$51),X904=\"\"),$J$7*SUMPRODUCT(($AM$77:$AQ$77=MOD(X205,7))*$AM$68:$AQ$68)%,\"\")","v":""},{"$f":"IF(AND(MOD(Y205,7)>=2,SUMPRODUCT(($AM$60:$AQ$60=MOD(Y205,7))*$AM$51:$AQ$51),Y904=\"\"),$J$7*SUMPRODUCT(($AM$77:$AQ$77=MOD(Y205,7))*$AM$68:$AQ$68)%,\"\")","v":8},{"$f":"IF(AND(MOD(Z205,7)>=2,SUMPRODUCT(($AM$60:$AQ$60=MOD(Z205,7))*$AM$51:$AQ$51),Z904=\"\"),$J$7*SUMPRODUCT(($AM$77:$AQ$77=MOD(Z205,7))*$AM$68:$AQ$68)%,\"\")","v":8},{"$f":"IF(AND(MOD(AA205,7)>=2,SUMPRODUCT(($AM$60:$AQ$60=MOD(AA205,7))*$AM$51:$AQ$51),AA904=\"\"),$J$7*SUMPRODUCT(($AM$77:$AQ$77=MOD(AA205,7))*$AM$68:$AQ$68)%,\"\")","v":8},{"$f":"IF(AND(MOD(AB205,7)>=2,SUMPRODUCT(($AM$60:$AQ$60=MOD(AB205,7))*$AM$51:$AQ$51),AB904=\"\"),$J$7*SUMPRODUCT(($AM$77:$AQ$77=MOD(AB205,7))*$AM$68:$AQ$68)%,\"\")","v":8},{"$f":"IF(AND(MOD(AC205,7)>=2,SUMPRODUCT(($AM$60:$AQ$60=MOD(AC205,7))*$AM$51:$AQ$51),AC904=\"\"),$J$7*SUMPRODUCT(($AM$77:$AQ$77=MOD(AC205,7))*$AM$68:$AQ$68)%,\"\")","v":8},{"$f":"IF(AND(MOD(AD205,7)>=2,SUMPRODUCT(($AM$60:$AQ$60=MOD(AD205,7))*$AM$51:$AQ$51),AD904=\"\"),$J$7*SUMPRODUCT(($AM$77:$AQ$77=MOD(AD205,7))*$AM$68:$AQ$68)%,\"\")","v":""},{"$f":"IF(AND(MOD(AE205,7)>=2,SUMPRODUCT(($AM$60:$AQ$60=MOD(AE205,7))*$AM$51:$AQ$51),AE904=\"\"),$J$7*SUMPRODUCT(($AM$77:$AQ$77=MOD(AE205,7))*$AM$68:$AQ$68)%,\"\")","v":""},null,{"$f":"SUM(B207:AF207)","v":160},"[00]"]
[{"$f":"$A$13","v":"Absences"},{"$f":"B920","v":0},{"$f":"C920","v":0},0,0,0,0,0,0,0,0,0,0,0,0,0,0,0,0,0,0,0,0,0,0,0,0,0,0,0,0,null,{"$f":"SUM($AM$3:$AM$13)","v":0},"[01]"]
[{"$f":"$A$14","v":"Code"},{"$f":"IF(SUM(B907:B919)<>0,IF(MAX(B907:B919)<B920,Labels!$B$163,INDEX($AH$906:$AH$918,MATCH(MAX(B907:B919),B907:B919,0))),\"\")","v":""},{"$f":"IF(SUM(C907:C919)<>0,IF(MAX(C907:C919)<C920,Labels!$B$163,INDEX($AH$906:$AH$918,MATCH(MAX(C907:C919),C907:C919,0))),\"\")","v":""},{"$f":"IF(SUM(D907:D919)<>0,IF(MAX(D907:D919)<D920,Labels!$B$163,INDEX($AH$906:$AH$918,MATCH(MAX(D907:D919),D907:D919,0))),\"\")","v":""},{"$f":"IF(SUM(E907:E919)<>0,IF(MAX(E907:E919)<E920,Labels!$B$163,INDEX($AH$906:$AH$918,MATCH(MAX(E907:E919),E907:E919,0))),\"\")","v":""},{"$f":"IF(SUM(F907:F919)<>0,IF(MAX(F907:F919)<F920,Labels!$B$163,INDEX($AH$906:$AH$918,MATCH(MAX(F907:F919),F907:F919,0))),\"\")","v":""},{"$f":"IF(SUM(G907:G919)<>0,IF(MAX(G907:G919)<G920,Labels!$B$163,INDEX($AH$906:$AH$918,MATCH(MAX(G907:G919),G907:G919,0))),\"\")","v":""},{"$f":"IF(SUM(H907:H919)<>0,IF(MAX(H907:H919)<H920,Labels!$B$163,INDEX($AH$906:$AH$918,MATCH(MAX(H907:H919),H907:H919,0))),\"\")","v":""},{"$f":"IF(SUM(I907:I919)<>0,IF(MAX(I907:I919)<I920,Labels!$B$163,INDEX($AH$906:$AH$918,MATCH(MAX(I907:I919),I907:I919,0))),\"\")","v":""},{"$f":"IF(SUM(J907:J919)<>0,IF(MAX(J907:J919)<J920,Labels!$B$163,INDEX($AH$906:$AH$918,MATCH(MAX(J907:J919),J907:J919,0))),\"\")","v":""},{"$f":"IF(SUM(K907:K919)<>0,IF(MAX(K907:K919)<K920,Labels!$B$163,INDEX($AH$906:$AH$918,MATCH(MAX(K907:K919),K907:K919,0))),\"\")","v":""},{"$f":"IF(SUM(L907:L919)<>0,IF(MAX(L907:L919)<L920,Labels!$B$163,INDEX($AH$906:$AH$918,MATCH(MAX(L907:L919),L907:L919,0))),\"\")","v":""},{"$f":"IF(SUM(M907:M919)<>0,IF(MAX(M907:M919)<M920,Labels!$B$163,INDEX($AH$906:$AH$918,MATCH(MAX(M907:M919),M907:M919,0))),\"\")","v":""},{"$f":"IF(SUM(N907:N919)<>0,IF(MAX(N907:N919)<N920,Labels!$B$163,INDEX($AH$906:$AH$918,MATCH(MAX(N907:N919),N907:N919,0))),\"\")","v":""},{"$f":"IF(SUM(O907:O919)<>0,IF(MAX(O907:O919)<O920,Labels!$B$163,INDEX($AH$906:$AH$918,MATCH(MAX(O907:O919),O907:O919,0))),\"\")","v":""},{"$f":"IF(SUM(P907:P919)<>0,IF(MAX(P907:P919)<P920,Labels!$B$163,INDEX($AH$906:$AH$918,MATCH(MAX(P907:P919),P907:P919,0))),\"\")","v":""},{"$f":"IF(SUM(Q907:Q919)<>0,IF(MAX(Q907:Q919)<Q920,Labels!$B$163,INDEX($AH$906:$AH$918,MATCH(MAX(Q907:Q919),Q907:Q919,0))),\"\")","v":""},{"$f":"IF(SUM(R907:R919)<>0,IF(MAX(R907:R919)<R920,Labels!$B$163,INDEX($AH$906:$AH$918,MATCH(MAX(R907:R919),R907:R919,0))),\"\")","v":""},{"$f":"IF(SUM(S907:S919)<>0,IF(MAX(S907:S919)<S920,Labels!$B$163,INDEX($AH$906:$AH$918,MATCH(MAX(S907:S919),S907:S919,0))),\"\")","v":""},{"$f":"IF(SUM(T907:T919)<>0,IF(MAX(T907:T919)<T920,Labels!$B$163,INDEX($AH$906:$AH$918,MATCH(MAX(T907:T919),T907:T919,0))),\"\")","v":""},{"$f":"IF(SUM(U907:U919)<>0,IF(MAX(U907:U919)<U920,Labels!$B$163,INDEX($AH$906:$AH$918,MATCH(MAX(U907:U919),U907:U919,0))),\"\")","v":""},{"$f":"IF(SUM(V907:V919)<>0,IF(MAX(V907:V919)<V920,Labels!$B$163,INDEX($AH$906:$AH$918,MATCH(MAX(V907:V919),V907:V919,0))),\"\")","v":""},{"$f":"IF(SUM(W907:W919)<>0,IF(MAX(W907:W919)<W920,Labels!$B$163,INDEX($AH$906:$AH$918,MATCH(MAX(W907:W919),W907:W919,0))),\"\")","v":""},{"$f":"IF(SUM(X907:X919)<>0,IF(MAX(X907:X919)<X920,Labels!$B$163,INDEX($AH$906:$AH$918,MATCH(MAX(X907:X919),X907:X919,0))),\"\")","v":""},{"$f":"IF(SUM(Y907:Y919)<>0,IF(MAX(Y907:Y919)<Y920,Labels!$B$163,INDEX($AH$906:$AH$918,MATCH(MAX(Y907:Y919),Y907:Y919,0))),\"\")","v":""},{"$f":"IF(SUM(Z907:Z919)<>0,IF(MAX(Z907:Z919)<Z920,Labels!$B$163,INDEX($AH$906:$AH$918,MATCH(MAX(Z907:Z919),Z907:Z919,0))),\"\")","v":""},{"$f":"IF(SUM(AA907:AA919)<>0,IF(MAX(AA907:AA919)<AA920,Labels!$B$163,INDEX($AH$906:$AH$918,MATCH(MAX(AA907:AA919),AA907:AA919,0))),\"\")","v":""},{"$f":"IF(SUM(AB907:AB919)<>0,IF(MAX(AB907:AB919)<AB920,Labels!$B$163,INDEX($AH$906:$AH$918,MATCH(MAX(AB907:AB919),AB907:AB919,0))),\"\")","v":""},{"$f":"IF(SUM(AC907:AC919)<>0,IF(MAX(AC907:AC919)<AC920,Labels!$B$163,INDEX($AH$906:$AH$918,MATCH(MAX(AC907:AC919),AC907:AC919,0))),\"\")","v":""},{"$f":"IF(SUM(AD907:AD919)<>0,IF(MAX(AD907:AD919)<AD920,Labels!$B$163,INDEX($AH$906:$AH$918,MATCH(MAX(AD907:AD919),AD907:AD919,0))),\"\")","v":""},{"$f":"IF(SUM(AE907:AE919)<>0,IF(MAX(AE907:AE919)<AE920,Labels!$B$163,INDEX($AH$906:$AH$918,MATCH(MAX(AE907:AE919),AE907:AE919,0))),\"\")","v":""},null,{"$f":"$AM$16*-1","v":0},"[02]"]
[{"$f":"$A$15","v":"00h00-06h00 1)"},null,null,null,null,null,null,null,null,null,null,null,null,null,null,null,null,null,null,null,null,null,null,null,null,null,null,null,null,null,null,null,{"$f":"SUM(B210:AF210)","v":0},"[04]"]
[{"$f":"$A$16","v":"06h00-20h00 2)"},null,null,null,null,null,null,null,null,null,null,null,null,null,null,null,null,null,null,null,null,null,null,null,null,null,null,null,null,null,null,null,{"$f":"SUM(B211:AF211)","v":0},"[03]"]
[{"$f":"$A$17","v":"20h00-24h00 3)"},null,null,null,null,null,null,null,null,null,null,null,null,null,null,null,null,null,null,null,null,null,null,null,null,null,null,null,null,null,null,null,{"$f":"SUM(B212:AF212)","v":0},"[05]"]
[{"$f":"$A$18","v":"Jours fériés \"jf\""},{"$f":"IF(WEEKDAY(B205,2)<=6,IF(CALENDRIER!E9=\"x\",Labels!$B$118,\"\"),\"\")","v":""},{"$f":"IF(WEEKDAY(C205,2)<=6,IF(CALENDRIER!F9=\"x\",Labels!$B$118,\"\"),\"\")","v":""},{"$f":"IF(WEEKDAY(D205,2)<=6,IF(CALENDRIER!G9=\"x\",Labels!$B$118,\"\"),\"\")","v":""},{"$f":"IF(WEEKDAY(E205,2)<=6,IF(CALENDRIER!H9=\"x\",Labels!$B$118,\"\"),\"\")","v":""},{"$f":"IF(WEEKDAY(F205,2)<=6,IF(CALENDRIER!I9=\"x\",Labels!$B$118,\"\"),\"\")","v":""},{"$f":"IF(WEEKDAY(G205,2)<=6,IF(CALENDRIER!J9=\"x\",Labels!$B$118,\"\"),\"\")","v":""},{"$f":"IF(WEEKDAY(H205,2)<=6,IF(CALENDRIER!K9=\"x\",Labels!$B$118,\"\"),\"\")","v":""},{"$f":"IF(WEEKDAY(I205,2)<=6,IF(CALENDRIER!L9=\"x\",Labels!$B$118,\"\"),\"\")","v":""},{"$f":"IF(WEEKDAY(J205,2)<=6,IF(CALENDRIER!M9=\"x\",Labels!$B$118,\"\"),\"\")","v":""},{"$f":"IF(WEEKDAY(K205,2)<=6,IF(CALENDRIER!N9=\"x\",Labels!$B$118,\"\"),\"\")","v":""},{"$f":"IF(WEEKDAY(L205,2)<=6,IF(CALENDRIER!O9=\"x\",Labels!$B$118,\"\"),\"\")","v":""},{"$f":"IF(WEEKDAY(M205,2)<=6,IF(CALENDRIER!P9=\"x\",Labels!$B$118,\"\"),\"\")","v":""},{"$f":"IF(WEEKDAY(N205,2)<=6,IF(CALENDRIER!Q9=\"x\",Labels!$B$118,\"\"),\"\")","v":""},{"$f":"IF(WEEKDAY(O205,2)<=6,IF(CALENDRIER!R9=\"x\",Labels!$B$118,\"\"),\"\")","v":""},{"$f":"IF(WEEKDAY(P205,2)<=6,IF(CALENDRIER!S9=\"x\",Labels!$B$118,\"\"),\"\")","v":""},{"$f":"IF(WEEKDAY(Q205,2)<=6,IF(CALENDRIER!T9=\"x\",Labels!$B$118,\"\"),\"\")","v":""},{"$f":"IF(WEEKDAY(R205,2)<=6,IF(CALENDRIER!U9=\"x\",Labels!$B$118,\"\"),\"\")","v":""},{"$f":"IF(WEEKDAY(S205,2)<=6,IF(CALENDRIER!V9=\"x\",Labels!$B$118,\"\"),\"\")","v":""},{"$f":"IF(WEEKDAY(T205,2)<=6,IF(CALENDRIER!W9=\"x\",Labels!$B$118,\"\"),\"\")","v":""},{"$f":"IF(WEEKDAY(U205,2)<=6,IF(CALENDRIER!X9=\"x\",Labels!$B$118,\"\"),\"\")","v":""},{"$f":"IF(WEEKDAY(V205,2)<=6,IF(CALENDRIER!Y9=\"x\",Labels!$B$118,\"\"),\"\")","v":""},{"$f":"IF(WEEKDAY(W205,2)<=6,IF(CALENDRIER!Z9=\"x\",Labels!$B$118,\"\"),\"\")","v":""},{"$f":"IF(WEEKDAY(X205,2)<=6,IF(CALENDRIER!AA9=\"x\",Labels!$B$118,\"\"),\"\")","v":""},{"$f":"IF(WEEKDAY(Y205,2)<=6,IF(CALENDRIER!AB9=\"x\",Labels!$B$118,\"\"),\"\")","v":""},{"$f":"IF(WEEKDAY(Z205,2)<=6,IF(CALENDRIER!AC9=\"x\",Labels!$B$118,\"\"),\"\")","v":""},{"$f":"IF(WEEKDAY(AA205,2)<=6,IF(CALENDRIER!AD9=\"x\",Labels!$B$118,\"\"),\"\")","v":""},{"$f":"IF(WEEKDAY(AB205,2)<=6,IF(CALENDRIER!AE9=\"x\",Labels!$B$118,\"\"),\"\")","v":""},{"$f":"IF(WEEKDAY(AC205,2)<=6,IF(CALENDRIER!AF9=\"x\",Labels!$B$118,\"\"),\"\")","v":""},{"$f":"IF(WEEKDAY(AD205,2)<=6,IF(CALENDRIER!AG9=\"x\",Labels!$B$118,\"\"),\"\")","v":""},{"$f":"IF(WEEKDAY(AE205,2)<=6,IF(CALENDRIER!AH9=\"x\",Labels!$B$118,\"\"),\"\")","v":""},null,null,"FT"]
[{"$f":"$A$19","v":"Majoration  \"jf\""},{"$f":"IF(AND(B213=Labels!$B$118,WEEKDAY(B205,2)<6,B$207<>\"\"),$J$7*SUMPRODUCT(($AM$77:$AQ$77=MOD(B205,7))*$AM$68:$AQ$68)%,\"\")","v":""},{"$f":"IF(AND(C213=Labels!$B$118,WEEKDAY(C205,2)<6,C$207<>\"\"),$J$7*SUMPRODUCT(($AM$77:$AQ$77=MOD(C205,7))*$AM$68:$AQ$68)%,\"\")","v":""},{"$f":"IF(AND(D213=Labels!$B$118,WEEKDAY(D205,2)<6,D$207<>\"\"),$J$7*SUMPRODUCT(($AM$77:$AQ$77=MOD(D205,7))*$AM$68:$AQ$68)%,\"\")","v":""},{"$f":"IF(AND(E213=Labels!$B$118,WEEKDAY(E205,2)<6,E$207<>\"\"),$J$7*SUMPRODUCT(($AM$77:$AQ$77=MOD(E205,7))*$AM$68:$AQ$68)%,\"\")","v":""},{"$f":"IF(AND(F213=Labels!$B$118,WEEKDAY(F205,2)<6,F$207<>\"\"),$J$7*SUMPRODUCT(($AM$77:$AQ$77=MOD(F205,7))*$AM$68:$AQ$68)%,\"\")","v":""},{"$f":"IF(AND(G213=Labels!$B$118,WEEKDAY(G205,2)<6,G$207<>\"\"),$J$7*SUMPRODUCT(($AM$77:$AQ$77=MOD(G205,7))*$AM$68:$AQ$68)%,\"\")","v":""},{"$f":"IF(AND(H213=Labels!$B$118,WEEKDAY(H205,2)<6,H$207<>\"\"),$J$7*SUMPRODUCT(($AM$77:$AQ$77=MOD(H205,7))*$AM$68:$AQ$68)%,\"\")","v":""},{"$f":"IF(AND(I213=Labels!$B$118,WEEKDAY(I205,2)<6,I$207<>\"\"),$J$7*SUMPRODUCT(($AM$77:$AQ$77=MOD(I205,7))*$AM$68:$AQ$68)%,\"\")","v":""},{"$f":"IF(AND(J213=Labels!$B$118,WEEKDAY(J205,2)<6,J$207<>\"\"),$J$7*SUMPRODUCT(($AM$77:$AQ$77=MOD(J205,7))*$AM$68:$AQ$68)%,\"\")","v":""},{"$f":"IF(AND(K213=Labels!$B$118,WEEKDAY(K205,2)<6,K$207<>\"\"),$J$7*SUMPRODUCT(($AM$77:$AQ$77=MOD(K205,7))*$AM$68:$AQ$68)%,\"\")","v":""},{"$f":"IF(AND(L213=Labels!$B$118,WEEKDAY(L205,2)<6,L$207<>\"\"),$J$7*SUMPRODUCT(($AM$77:$AQ$77=MOD(L205,7))*$AM$68:$AQ$68)%,\"\")","v":""},{"$f":"IF(AND(M213=Labels!$B$118,WEEKDAY(M205,2)<6,M$207<>\"\"),$J$7*SUMPRODUCT(($AM$77:$AQ$77=MOD(M205,7))*$AM$68:$AQ$68)%,\"\")","v":""},{"$f":"IF(AND(N213=Labels!$B$118,WEEKDAY(N205,2)<6,N$207<>\"\"),$J$7*SUMPRODUCT(($AM$77:$AQ$77=MOD(N205,7))*$AM$68:$AQ$68)%,\"\")","v":""},{"$f":"IF(AND(O213=Labels!$B$118,WEEKDAY(O205,2)<6,O$207<>\"\"),$J$7*SUMPRODUCT(($AM$77:$AQ$77=MOD(O205,7))*$AM$68:$AQ$68)%,\"\")","v":""},{"$f":"IF(AND(P213=Labels!$B$118,WEEKDAY(P205,2)<6,P$207<>\"\"),$J$7*SUMPRODUCT(($AM$77:$AQ$77=MOD(P205,7))*$AM$68:$AQ$68)%,\"\")","v":""},{"$f":"IF(AND(Q213=Labels!$B$118,WEEKDAY(Q205,2)<6,Q$207<>\"\"),$J$7*SUMPRODUCT(($AM$77:$AQ$77=MOD(Q205,7))*$AM$68:$AQ$68)%,\"\")","v":""},{"$f":"IF(AND(R213=Labels!$B$118,WEEKDAY(R205,2)<6,R$207<>\"\"),$J$7*SUMPRODUCT(($AM$77:$AQ$77=MOD(R205,7))*$AM$68:$AQ$68)%,\"\")","v":""},{"$f":"IF(AND(S213=Labels!$B$118,WEEKDAY(S205,2)<6,S$207<>\"\"),$J$7*SUMPRODUCT(($AM$77:$AQ$77=MOD(S205,7))*$AM$68:$AQ$68)%,\"\")","v":""},{"$f":"IF(AND(T213=Labels!$B$118,WEEKDAY(T205,2)<6,T$207<>\"\"),$J$7*SUMPRODUCT(($AM$77:$AQ$77=MOD(T205,7))*$AM$68:$AQ$68)%,\"\")","v":""},{"$f":"IF(AND(U213=Labels!$B$118,WEEKDAY(U205,2)<6,U$207<>\"\"),$J$7*SUMPRODUCT(($AM$77:$AQ$77=MOD(U205,7))*$AM$68:$AQ$68)%,\"\")","v":""},{"$f":"IF(AND(V213=Labels!$B$118,WEEKDAY(V205,2)<6,V$207<>\"\"),$J$7*SUMPRODUCT(($AM$77:$AQ$77=MOD(V205,7))*$AM$68:$AQ$68)%,\"\")","v":""},{"$f":"IF(AND(W213=Labels!$B$118,WEEKDAY(W205,2)<6,W$207<>\"\"),$J$7*SUMPRODUCT(($AM$77:$AQ$77=MOD(W205,7))*$AM$68:$AQ$68)%,\"\")","v":""},{"$f":"IF(AND(X213=Labels!$B$118,WEEKDAY(X205,2)<6,X$207<>\"\"),$J$7*SUMPRODUCT(($AM$77:$AQ$77=MOD(X205,7))*$AM$68:$AQ$68)%,\"\")","v":""},{"$f":"IF(AND(Y213=Labels!$B$118,WEEKDAY(Y205,2)<6,Y$207<>\"\"),$J$7*SUMPRODUCT(($AM$77:$AQ$77=MOD(Y205,7))*$AM$68:$AQ$68)%,\"\")","v":""},{"$f":"IF(AND(Z213=Labels!$B$118,WEEKDAY(Z205,2)<6,Z$207<>\"\"),$J$7*SUMPRODUCT(($AM$77:$AQ$77=MOD(Z205,7))*$AM$68:$AQ$68)%,\"\")","v":""},{"$f":"IF(AND(AA213=Labels!$B$118,WEEKDAY(AA205,2)<6,AA$207<>\"\"),$J$7*SUMPRODUCT(($AM$77:$AQ$77=MOD(AA205,7))*$AM$68:$AQ$68)%,\"\")","v":""},{"$f":"IF(AND(AB213=Labels!$B$118,WEEKDAY(AB205,2)<6,AB$207<>\"\"),$J$7*SUMPRODUCT(($AM$77:$AQ$77=MOD(AB205,7))*$AM$68:$AQ$68)%,\"\")","v":""},{"$f":"IF(AND(AC213=Labels!$B$118,WEEKDAY(AC205,2)<6,AC$207<>\"\"),$J$7*SUMPRODUCT(($AM$77:$AQ$77=MOD(AC205,7))*$AM$68:$AQ$68)%,\"\")","v":""},{"$f":"IF(AND(AD213=Labels!$B$118,WEEKDAY(AD205,2)<6,AD$207<>\"\"),$J$7*SUMPRODUCT(($AM$77:$AQ$77=MOD(AD205,7))*$AM$68:$AQ$68)%,\"\")","v":""},{"$f":"IF(AND(AE213=Labels!$B$118,WEEKDAY(AE205,2)<6,AE$207<>\"\"),$J$7*SUMPRODUCT(($AM$77:$AQ$77=MOD(AE205,7))*$AM$68:$AQ$68)%,\"\")","v":""},{"$f":"IF(AND(AF213=Labels!$B$118,WEEKDAY(AF205,2)<6),$J$7*$B$202%,\"\")","v":""},{"$f":"SUM(B214:AF214)","v":0},"[06]"]
[{"$f":"$A$20","v":"total quotidien"},{"$f":"SUM(B210:B212)","v":0},{"$f":"SUM(C210:C212)","v":0},0,0,0,0,0,0,0,0,0,0,0,0,0,0,0,0,0,0,0,0,0,0,0,0,0,0,0,0,null,null,"TT"]
[{"$f":"$A$21","v":"."},null,null,null,null,null,null,null,null,null,null,null,null,null,null,null,null,null,null,null,null,null,null,null,null,null,null,null,null,null,null,null,null,"R"]
[{"$f":"$A$22","v":"."},null,null,null,null,null,null,null,null,null,null,null,null,null,null,null,null,null,null,null,null,null,null,null,null,null,null,null,null,null,null,null,null,"R"]
[{"$f":"$A$23","v":"transition mois"},{"$f":"IF(WEEKDAY(B205)=1,TEXT(B205-1,\"MMM\"&Labels!B13),\"\")","v":""},null,null,null,null,null,null,null,null,null,null,null,null,null,null,null,null,null,null,null,null,null,null,null,null,null,null,null,null,{"$f":"IF(AND(WEEKDAY(AE205)>1,WEEKDAY(AE205)<7),TEXT(DATE($B$5,MONTH(AE205)+1,1),\"MMM\"&Labels!B13),\"\")","v":""},null,null,"MNT"]
[{"$f":"$A$24","v":"Total hebdomadaire"},{"$f":"IF(WEEKDAY(B205)=7,SUMIF($B141:$AF141,B206,$B150:$AF150)+SUMIF($B206:$AF206,B206,$B215:$AF215)+SUMIF($B271:$AF271,B206,$B280:$AF280),B218)","v":0},{"$f":"IF(WEEKDAY(C205)=7,SUMIF($B141:$AF141,C206,$B150:$AF150)+SUMIF($B206:$AF206,C206,$B215:$AF215)+SUMIF($B271:$AF271,C206,$B280:$AF280),\"\")","v":""},"","","","","",0,"","","","","","",0,"","","","","","",0,"","","","","","",0,{"$f":"IF(WEEKDAY(AE205)=7,SUMIF($B141:$AF141,AE206,$B150:$AF150)+SUMIF($B206:$AF206,AE206,$B215:$AF215)+SUMIF($B271:$AF271,AE206,$B280:$AF280),AE218)","v":""},null,null,"WT"]
[{"$f":"$A$25","v":"Majorations temp. 1)"},{"$f":"IF(B227=\"FALSCH\",\"\",B227)","v":""},{"$f":"IF(C227=\"FALSCH\",\"\",C227)","v":""},"","","","","","","","","","","","","","","","","","","","","","","","","","","","",null,{"$f":"SUM(B220:AF220)","v":0},"[07]"]
[{"$f":"$A$26","v":"Majorations temp. 2)"},{"$f":"IF((B210+B212)=0,\"\",SUM(B210,B212))","v":""},{"$f":"IF((C210+C212)=0,\"\",SUM(C210,C212))","v":""},"","","","","","","","","","","","","","","","","","","","","","","","","","","","",null,0,"[08]"]
[{"$f":"$A$27","v":"Majorations temp. 3)"},{"$f":"SUM(B223:B226)","v":0},{"$f":"SUM(C223:C226)","v":0},0,0,0,0,0,0,0,0,0,0,0,0,0,0,0,0,0,0,0,0,0,0,0,0,0,0,0,0,null,0,"[09]"]
[{"$f":"$A$28","v":"Dimanche journée"},{"$f":"IF(WEEKDAY(B205)=1,B211,\"\")","v":""},{"$f":"IF(WEEKDAY(C205)=1,C211,\"\")","v":0},"","","","","","",0,"","","","","","",0,"","","","","","",0,"","","","","","",0,null,0,"[09-ST]"]
[{"$f":"$A$29","v":"Dimanche nuit"},{"$f":"IF(WEEKDAY(B205)=1,SUM(B210+B212),\"\")","v":""},{"$f":"IF(WEEKDAY(C205)=1,SUM(C210+C212),\"\")","v":0},"","","","","","",0,"","","","","","",0,"","","","","","",0,"","","","","","",0,null,0,"[09-SN]"]
[{"$f":"$A$30","v":"jf-jomajoration"},{"$f":"IF(B213=Labels!$B$118,B211,\"\")","v":""},{"$f":"IF(C213=Labels!$B$118,C211,\"\")","v":""},{"$f":"IF(D213=Labels!$B$118,D211,\"\")","v":""},{"$f":"IF(E213=Labels!$B$118,E211,\"\")","v":""},{"$f":"IF(F213=Labels!$B$118,F211,\"\")","v":""},{"$f":"IF(G213=Labels!$B$118,G211,\"\")","v":""},{"$f":"IF(H213=Labels!$B$118,H211,\"\")","v":""},{"$f":"IF(I213=Labels!$B$118,I211,\"\")","v":""},{"$f":"IF(J213=Labels!$B$118,J211,\"\")","v":""},{"$f":"IF(K213=Labels!$B$118,K211,\"\")","v":""},{"$f":"IF(L213=Labels!$B$118,L211,\"\")","v":""},{"$f":"IF(M213=Labels!$B$118,M211,\"\")","v":""},{"$f":"IF(N213=Labels!$B$118,N211,\"\")","v":""},{"$f":"IF(O213=Labels!$B$118,O211,\"\")","v":""},{"$f":"IF(P213=Labels!$B$118,P211,\"\")","v":""},{"$f":"IF(Q213=Labels!$B$118,Q211,\"\")","v":""},{"$f":"IF(R213=Labels!$B$118,R211,\"\")","v":""},{"$f":"IF(S213=Labels!$B$118,S211,\"\")","v":""},{"$f":"IF(T213=Labels!$B$118,T211,\"\")","v":""},{"$f":"IF(U213=Labels!$B$118,U211,\"\")","v":""},{"$f":"IF(V213=Labels!$B$118,V211,\"\")","v":""},{"$f":"IF(W213=Labels!$B$118,W211,\"\")","v":""},{"$f":"IF(X213=Labels!$B$118,X211,\"\")","v":""},{"$f":"IF(Y213=Labels!$B$118,Y211,\"\")","v":""},{"$f":"IF(Z213=Labels!$B$118,Z211,\"\")","v":""},{"$f":"IF(AA213=Labels!$B$118,AA211,\"\")","v":""},{"$f":"IF(AB213=Labels!$B$118,AB211,\"\")","v":""},{"$f":"IF(AC213=Labels!$B$118,AC211,\"\")","v":""},{"$f":"IF(AD213=Labels!$B$118,AD211,\"\")","v":""},{"$f":"IF(AE213=Labels!$B$118,AE211,\"\")","v":""},null,0,"[09-FT]"]
[{"$f":"$A$31","v":"jf-numajoration"},{"$f":"IF(B213=Labels!$B$118,SUM(B210,B212),\"\")","v":""},{"$f":"IF(C213=Labels!$B$118,SUM(C210,C212),\"\")","v":""},{"$f":"IF(D213=Labels!$B$118,SUM(D210,D212),\"\")","v":""},{"$f":"IF(E213=Labels!$B$118,SUM(E210,E212),\"\")","v":""},{"$f":"IF(F213=Labels!$B$118,SUM(F210,F212),\"\")","v":""},{"$f":"IF(G213=Labels!$B$118,SUM(G210,G212),\"\")","v":""},{"$f":"IF(H213=Labels!$B$118,SUM(H210,H212),\"\")","v":""},{"$f":"IF(I213=Labels!$B$118,SUM(I210,I212),\"\")","v":""},{"$f":"IF(J213=Labels!$B$118,SUM(J210,J212),\"\")","v":""},{"$f":"IF(K213=Labels!$B$118,SUM(K210,K212),\"\")","v":""},{"$f":"IF(L213=Labels!$B$118,SUM(L210,L212),\"\")","v":""},{"$f":"IF(M213=Labels!$B$118,SUM(M210,M212),\"\")","v":""},{"$f":"IF(N213=Labels!$B$118,SUM(N210,N212),\"\")","v":""},{"$f":"IF(O213=Labels!$B$118,SUM(O210,O212),\"\")","v":""},{"$f":"IF(P213=Labels!$B$118,SUM(P210,P212),\"\")","v":""},{"$f":"IF(Q213=Labels!$B$118,SUM(Q210,Q212),\"\")","v":""},{"$f":"IF(R213=Labels!$B$118,SUM(R210,R212),\"\")","v":""},{"$f":"IF(S213=Labels!$B$118,SUM(S210,S212),\"\")","v":""},{"$f":"IF(T213=Labels!$B$118,SUM(T210,T212),\"\")","v":""},{"$f":"IF(U213=Labels!$B$118,SUM(U210,U212),\"\")","v":""},{"$f":"IF(V213=Labels!$B$118,SUM(V210,V212),\"\")","v":""},{"$f":"IF(W213=Labels!$B$118,SUM(W210,W212),\"\")","v":""},{"$f":"IF(X213=Labels!$B$118,SUM(X210,X212),\"\")","v":""},{"$f":"IF(Y213=Labels!$B$118,SUM(Y210,Y212),\"\")","v":""},{"$f":"IF(Z213=Labels!$B$118,SUM(Z210,Z212),\"\")","v":""},{"$f":"IF(AA213=Labels!$B$118,SUM(AA210,AA212),\"\")","v":""},{"$f":"IF(AB213=Labels!$B$118,SUM(AB210,AB212),\"\")","v":""},{"$f":"IF(AC213=Labels!$B$118,SUM(AC210,AC212),\"\")","v":""},{"$f":"IF(AD213=Labels!$B$118,SUM(AD210,AD212),\"\")","v":""},{"$f":"IF(AE213=Labels!$B$118,SUM(AE210,AE212),\"\")","v":""},null,0,"[09-FN]"]
[{"$f":"$A$32","v":"majoration caché (total hebd.)"},{"$f":"IF($B202>=80,IF(OR(ISTEXT(B219),B219=\"\",B219<$B$7),\"\",ROUND(((B219-$B$7)*25%)/25,4)*25),IF(B215>($B$7/5),ROUND(((B215-($B$7/5))*25%)/25,4)*25,\"\"))","v":""},{"$f":"IF($B202>=80,IF(OR(ISTEXT(C219),C219=\"\",C219<$B$7),\"\",ROUND(((C219-$B$7)*25%)/25,4)*25),IF(C215>($B$7/5),ROUND(((C215-($B$7/5))*25%)/25,4)*25,\"\"))","v":""},"","","","","","","","","","","","","","","","","","","","","","","","","","","","",null,{"$f":"AG211","v":0},"[03]"]
[null,{"$f":"$B$33","v":"1)  25% majoration temporelle pour depassement les heures maximales"},null,null,null,null,null,null,null,null,null,{"$f":"$L$33","v":"2) 100% majoration temporelle pour travail de nuit"},null,null,null,null,null,null,null,{"$f":"$T$33","v":"Saisie des heures payées l'année passée"},null,null,null,null,null,null,null,null,null,null,null,null,{"$f":"SUM(AG210+AG212)","v":0},"[4-5]"]
[null,{"$f":"$B$34","v":"3) 100% majoration temporelle pour travail du dimanche et jour férié"},null,null,null,null,null,null,null,null,null,null,null,null,null,null,null,null,null,{"$f":"$T$34","v":"Saisie des heures payées exercice en cours (heures supplémentaires)"},null,null,null,null,null,null,null,null,null,null,null,null,{"$f":"SUM(AG210:AG212)","v":0},"[3-5]"]
[{"$f":"$A$35","v":"Notes"},null,null,null,null,null,null,null,null,null,null,null,null,null,null,null,null,null,null,null,null,null,null,null,null,null,null,null,null,null,null,null,{"$f":"SUM(AG208:AG222)","v":0},"[10]"]
[null,null,null,null,null,null,null,null,null,null,null,null,null,null,null,null,null,null,null,null,null,null,null,null,null,null,null,null,null,null,null,null,{"$f":"AG207","v":160},"[00]"]
[{"$f":"IF(AG904=0,\"\",\"effektives Pensum:  \"&ROUND(COUNT(B207:AF207)/(AG904+COUNT(B207:AF207))%*B202%*20,0)/20&\" %\")","v":""},null,null,null,null,null,null,null,null,null,null,null,null,null,null,null,null,null,null,null,null,null,null,null,null,null,null,null,null,null,null,null,{"$f":"SUM(AG230-AG231)","v":-160},"[11]"]
[]
[{"$f":"Labels!$B$103","v":"Résumé"},null,null,null,null,null,{"$f":"Labels!$B$77","v":"Jan"},null,{"$f":"Labels!$B$78","v":"Fév"},null,{"$f":"Labels!$B$79","v":"Mar"},null,{"$f":"Labels!$B$80","v":"Avr"},null,{"$f":"Labels!$B$81","v":"Mai"},null,{"$f":"Labels!$B$82","v":"Jun"},null,{"$f":"Labels!$B$83","v":"Jul"},null,{"$f":"Labels!$B$84","v":"Aoû"},null,{"$f":"Labels!$B$85","v":"Sep"},null,{"$f":"Labels!$B$86","v":"Oct"},null,{"$f":"Labels!$B$87","v":"Nov"},null,{"$f":"Labels!$B$88","v":"Déc"},null,{"$f":"Labels!$B$101","v":"Année"}]
[{"$f":"Labels!$B$20","v":"Emploi %"},null,null,null,null,null,{"$f":"IF($B$4=0,0,$B$4)","v":100},null,{"$f":"IF($B$72=0,0,$B$72)","v":100},null,{"$f":"IF($B$137=0,0,$B$137)","v":100},null,{"$f":"IF($B$202=0,0,$B$202)","v":100},null,{"$f":"IF($B$267=0,0,$B$267)","v":100},null,{"$f":"IF($B$332=0,0,$B$332)","v":100},null,{"$f":"IF($B$397=0,0,$B$397)","v":100},null,{"$f":"IF($B$462=0,0,$B$462)","v":100},null,{"$f":"IF($B$527=0,0,$B$527)","v":100},null,{"$f":"IF($B$592=0,0,$B$592)","v":100},null,{"$f":"IF($B$657=0,0,$B$657)","v":100},null,{"$f":"IF($B$722=0,0,$B$722)","v":100}]
[{"$f":"Labels!$B$104","v":"Heures théoriques selon CCT"},null,null,null,null,null,{"$f":"IF($AG$36=0,0,$AG$36)","v":176},null,{"$f":"IF($AG$101=0,0,$AG$101)","v":160},null,{"$f":"IF($AG$142=0,0,$AG$142)","v":184},null,{"$f":"IF($AG$231=0,0,$AG$231)","v":160},null,{"$f":"IF($AG$296=0,0,$AG$296)","v":184},null,{"$f":"IF($AG$361=0,0,$AG$361)","v":176},null,{"$f":"IF($AG$426=0,0,$AG$426)","v":168},null,{"$f":"IF($AG$491=0,0,$AG$491)","v":184},null,{"$f":"IF($AG$556=0,0,$AG$556)","v":168},null,{"$f":"IF($AG$621=0,0,$AG$621)","v":176},null,{"$f":"IF($AG$686=0,0,$AG$686)","v":176},null,{"$f":"IF($AG$751=0,0,$AG$751)","v":168},null,{"$f":"SUM(G236:AD236)","v":2080}]
[{"$f":"Labels!$B$105","v":"Total heures productives"},{"$f":"Labels!$B$106","v":"06.00 - 20.00 h"},null,null,null,null,{"$f":"IF($AG$32=0,0,$AG$32)","v":0},null,{"$f":"IF($AG$96=0,0,$AG$96)","v":0},null,{"$f":"IF($AG$161=0,0,$AG$161)","v":0},null,{"$f":"IF($AG$226=0,0,$AG$226)","v":0},null,{"$f":"IF($AG$291=0,0,$AG$291)","v":0},null,{"$f":"IF($AG$356=0,0,$AG$356)","v":0},null,{"$f":"IF($AG$421=0,0,$AG$421)","v":0},null,{"$f":"IF($AG$486=0,0,$AG$486)","v":0},null,{"$f":"IF($AG$551=0,0,$AG$551)","v":0},null,{"$f":"IF($AG$616=0,0,$AG$616)","v":0},null,{"$f":"IF($AG$681=0,0,$AG$681)","v":0},null,{"$f":"IF($AG$746=0,0,$AG$746)","v":0},null,{"$f":"SUM(G237:AD237)","v":0}]
[null,{"$f":"Labels!$B$107","v":"nuit, dimanche et jour férié"},null,null,null,null,{"$f":"IF($AG$33=0,0,$AG$33)","v":0},null,{"$f":"IF($AG$97=0,0,$AG$97)","v":0},null,{"$f":"IF($AG$162=0,0,$AG$162)","v":0},null,{"$f":"IF($AG$227=0,0,$AG$227)","v":0},null,{"$f":"IF($AG$292=0,0,$AG$292)","v":0},null,{"$f":"IF($AG$357=0,0,$AG$357)","v":0},null,{"$f":"IF($AG$422=0,0,$AG$422)","v":0},null,{"$f":"IF($AG$487=0,0,$AG$487)","v":0},null,{"$f":"IF($AG$552=0,0,$AG$552)","v":0},null,{"$f":"IF($AG$617=0,0,$AG$617)","v":0},null,{"$f":"IF($AG$682=0,0,$AG$682)","v":0},null,{"$f":"IF($AG$747=0,0,$AG$747)","v":0},null,{"$f":"SUM(G238:AD238)","v":0}]
[{"$f":"Labels!$B$108","v":"Majorations temporelles"},{"$f":"Labels!$B$109","v":"depassement des heures maximales"},null,null,null,null,{"$f":"IF($AG$25=0,0,$AG$25)","v":0},null,{"$f":"IF($AG$89=0,0,$AG$89)","v":0},null,{"$f":"IF($AG$154=0,0,$AG$154)","v":0},null,{"$f":"IF($AG$219=0,0,$AG$219)","v":0},null,{"$f":"IF($AG$284=0,0,$AG$284)","v":0},null,{"$f":"IF($AG$349=0,0,$AG$349)","v":0},null,{"$f":"IF($AG$414=0,0,$AG$414)","v":0},null,{"$f":"IF($AG$479=0,0,$AG$479)","v":0},null,{"$f":"IF($AG$544=0,0,$AG$544)","v":0},null,{"$f":"IF($AG$609=0,0,$AG$609)","v":0},null,{"$f":"IF($AG$674=0,0,$AG$674)","v":0},null,{"$f":"IF($AG$739=0,0,$AG$739)","v":0},null,{"$f":"SUM(G239:AD239)","v":0}]
[null,{"$f":"Labels!$B$110","v":"nuit, dimanche et jour férié"},null,null,null,null,{"$f":"IF($AJ$23=0,0,$AJ$23)","v":0},null,{"$f":"IF($AK$23=0,0,$AK$23)","v":0},null,{"$f":"IF($AL$23=0,0,$AL$23)","v":0},null,{"$f":"IF($AM$23=0,0,$AM$23)","v":0},null,{"$f":"IF($AN$23=0,0,$AN$23)","v":0},null,{"$f":"IF($AO$23=0,0,$AO$23)","v":0},null,{"$f":"IF($AP$23=0,0,$AP$23)","v":0},null,{"$f":"IF($AQ$23=0,0,$AQ$23)","v":0},null,{"$f":"IF($AR$23=0,0,$AR$23)","v":0},null,{"$f":"IF($AS$23=0,0,$AS$23)","v":0},null,{"$f":"IF($AT$23=0,0,$AT$23)","v":0},null,{"$f":"IF($AU$23=0,0,$AU$23)","v":0},null,{"$f":"SUM(G240:AD240)","v":0}]
[{"$f":"Labels!$B$111","v":"Heures inproductives"}]
[{"$f":"Labels!$B$112","v":"   Absences art. 11 CCT"},null,null,null,null,{"$f":"Labels!$B$113","v":"ab"},{"$f":"IF($AJ$3=0,0,$AJ$3)","v":0},null,{"$f":"IF($AK$3=0,0,$AK$3)","v":0},null,{"$f":"IF($AL$3=0,0,$AL$3)","v":0},null,{"$f":"IF($AM$3=0,0,$AM$3)","v":0},null,{"$f":"IF($AN$3=0,0,$AN$3)","v":0},null,{"$f":"IF($AO$3=0,0,$AO$3)","v":0},null,{"$f":"IF($AP$3=0,0,$AP$3)","v":0},null,{"$f":"IF($AQ$3=0,0,$AQ$3)","v":0},null,{"$f":"IF($AR$3=0,0,$AR$3)","v":0},null,{"$f":"IF($AS$3=0,0,$AS$3)","v":0},null,{"$f":"IF(AT$3=0,0,$AT$3)","v":0},null,{"$f":"IF($AU$3=0,0,$AU$3)","v":0},null,{"$f":"IF($AV$3=0,0,$AV$3)","v":0}]
[{"$f":"Labels!$B$114","v":"   Vacances art. 12.1 CCT"},null,null,null,null,{"$f":"Labels!$B$115","v":"va"},{"$f":"IF($AJ$4=0,0,$AJ$4)","v":0},null,{"$f":"IF($AK$4=0,0,$AK$4)","v":0},null,{"$f":"IF($AL$4=0,0,$AL$4)","v":0},null,{"$f":"IF($AM$4=0,0,$AM$4)","v":0},null,{"$f":"IF($AN$4=0,0,$AN$4)","v":0},null,{"$f":"IF($AO$4=0,0,$AO$4)","v":0},null,{"$f":"IF($AP$4=0,0,$AP$4)","v":0},null,{"$f":"IF($AQ$4=0,0,$AQ$4)","v":0},null,{"$f":"IF($AR$4=0,0,$AR$4)","v":0},null,{"$f":"IF($AS$4=0,0,$AS$4)","v":0},null,{"$f":"IF($AT$4=0,0,$AT$4)","v":0},null,{"$f":"IF($AU$4=0,0,$AU$4)","v":0},null,{"$f":"IF($AV$4=0,0,$AV$4)","v":0}]
[{"$f":"Labels!$B$181","v":"   vacances non payées"},null,null,null,null,{"$f":"Labels!$B$182","v":"vn"},{"$f":"IF($AJ$13=0,0,$AJ$13)","v":0},null,{"$f":"IF($AK$13=0,0,$AK$13)","v":0},null,{"$f":"IF($AL$13=0,0,$AL$13)","v":0},null,{"$f":"IF($AM$13=0,0,$AM$13)","v":0},null,{"$f":"IF($AN$13=0,0,$AN$13)","v":0},null,{"$f":"IF($AO$13=0,0,$AO$13)","v":0},null,{"$f":"IF($AP$13=0,0,$AP$13)","v":0},null,{"$f":"IF($AQ$13=0,0,$AQ$13)","v":0},null,{"$f":"IF($AR$13=0,0,$AR$13)","v":0},null,{"$f":"IF($AS$13=0,0,$AS$13)","v":0},null,{"$f":"IF($AT$13=0,0,$AT$13)","v":0},null,{"$f":"IF($AU$13=0,0,$AU$13)","v":0},null,{"$f":"IF($AV$13=0,0,$AV$13)","v":0}]
[{"$f":"Labels!$B$116","v":"   Jours fériés art. 12.2 CCT"},null,{"$f":"IF($AJ$20=\"\",\"\",$AJ$20)","v":""},null,null,{"$f":"Labels!$B$118","v":"jf"},{"$f":"IF($AJ$18=0,0,$AJ$18)","v":0},null,{"$f":"IF($AK$18=0,0,$AK$18)","v":0},null,{"$f":"IF($AL$18=0,0,$AL$18)","v":0},null,{"$f":"IF($AM$18=0,0,$AM$18)","v":0},null,{"$f":"IF($AN$18=0,0,$AN$18)","v":0},null,{"$f":"IF($AO$18=0,0,$AO$18)","v":0},null,{"$f":"IF($AP$18=0,0,$AP$18)","v":0},null,{"$f":"IF($AQ$18=0,0,$AQ$18)","v":0},null,{"$f":"IF($AR$18=0,0,$AR$18)","v":0},null,{"$f":"IF($AS$18=0,0,$AS$18)","v":0},null,{"$f":"IF($AT$18=0,0,$AT$18)","v":0},null,{"$f":"IF($AU$18=0,0,$AU$18)","v":0},null,{"$f":"IF($AV$18=0,0,$AV$18)","v":0}]
[{"$f":"Labels!$B$119","v":"   Maladie art. 13 CCT"},null,null,null,null,{"$f":"Labels!$B$120","v":"ma"},{"$f":"IF($AJ$5=0,0,$AJ$5)","v":0},null,{"$f":"IF($AK$5=0,0,$AK$5)","v":0},null,{"$f":"IF($AL$5=0,0,$AL$5)","v":0},null,{"$f":"IF($AM$5=0,0,$AM$5)","v":0},null,{"$f":"IF($AN$5=0,0,$AN$5)","v":0},null,{"$f":"IF($AO$5=0,0,$AO$5)","v":0},null,{"$f":"IF($AP$5=0,0,$AP$5)","v":0},null,{"$f":"IF($AQ$5=0,0,$AQ$5)","v":0},null,{"$f":"IF($AR$5=0,0,$AR$5)","v":0},null,{"$f":"IF($AS$5=0,0,$AS$5)","v":0},null,{"$f":"IF($AT$5=0,0,$AT$5)","v":0},null,{"$f":"IF($AU$5=0,0,$AU$5)","v":0},null,{"$f":"IF($AV$5=0,0,$AV$5)","v":0}]
[{"$f":"Labels!$B$184","v":"non payeé"},null,null,null,null,null,{"$f":"IF(AJ$16=0,0,AJ$16)","v":0},null,{"$f":"IF($AK$16=0,0,$AK$16)","v":0},null,{"$f":"IF($AL$16=0,0,$AL$16)","v":0},null,{"$f":"IF($AM$16=0,0,$AM$16)","v":0},null,{"$f":"IF($AN$16=0,0,$AN$16)","v":0},null,{"$f":"IF($AO$16=0,0,$AO$16)","v":0},null,{"$f":"IF($AP$16=0,0,$AP$16)","v":0},null,{"$f":"IF($AQ$16=0,0,$AQ$16)","v":0},null,{"$f":"IF($AR$16=0,0,$AR$16)","v":0},null,{"$f":"IF($AS$16=0,0,$AS$16)","v":0},null,{"$f":"IF($AT$16=0,0,$AT$16)","v":0},null,{"$f":"IF($AU$16=0,0,$AU$16)","v":0},null,{"$f":"IF($AV$16=0,0,$AV$16)","v":0}]
[{"$f":"Labels!$B$121","v":"   Accident art. 14 CCT"},null,null,null,null,{"$f":"Labels!$B$122","v":"ac"},{"$f":"IF($AJ$6=0,0,$AJ$6)","v":0},null,{"$f":"IF($AK$6=0,0,$AK$6)","v":0},null,{"$f":"IF($AL$6=0,0,$AL$6)","v":0},null,{"$f":"IF($AM$6=0,0,$AM$6)","v":0},null,{"$f":"IF($AN$6=0,0,$AN$6)","v":0},null,{"$f":"IF($AO$6=0,0,$AO$6)","v":0},null,{"$f":"IF($AP$6=0,0,$AP$6)","v":0},null,{"$f":"IF($AQ$6=0,0,$AQ$6)","v":0},null,{"$f":"IF($AR$6=0,0,$AR$6)","v":0},null,{"$f":"IF($AS$6=0,0,$AS$6)","v":0},null,{"$f":"IF($AT$6=0,0,$AT$6)","v":0},null,{"$f":"IF($AU$6=0,0,$AU$6)","v":0},null,{"$f":"IF($AV$6=0,0,$AV$6)","v":0}]
[{"$f":"Labels!$B$123","v":"   Grossesse/Maternité art. 15 CCT"},null,null,null,null,{"$f":"Labels!$B$124","v":"gm"},{"$f":"IF($AJ$7=0,0,$AJ$7)","v":0},null,{"$f":"IF($AK$7=0,0,$AK$7)","v":0},null,{"$f":"IF($AL$7=0,0,$AL$7)","v":0},null,{"$f":"IF($AM$7=0,0,$AM$7)","v":0},null,{"$f":"IF($AN$7=0,0,$AN$7)","v":0},null,{"$f":"IF($AO$7=0,0,$AO$7)","v":0},null,{"$f":"IF($AP$7=0,0,$AP$7)","v":0},null,{"$f":"IF($AQ$7=0,0,$AQ$7)","v":0},null,{"$f":"IF($AR$7=0,0,$AR$7)","v":0},null,{"$f":"IF($AS$7=0,0,$AS$7)","v":0},null,{"$f":"IF($AT$7=0,0,$AT$7)","v":0},null,{"$f":"IF($AU$7=0,0,$AU$7)","v":0},null,{"$f":"IF($AV$7=0,0,$AV$7)","v":0}]
[{"$f":"Labels!$B$125","v":"   Militaire/Promotion/Protection civile art. 16 CCT"},null,null,null,null,{"$f":"Labels!$B$126","v":"mi"},{"$f":"IF($AJ$8=0,0,$AJ$8)","v":0},null,{"$f":"IF($AK$8=0,0,$AK$8)","v":0},null,{"$f":"IF($AL$8=0,0,$AL$8)","v":0},null,{"$f":"IF($AM$8=0,0,$AM$8)","v":0},null,{"$f":"IF($AN$8=0,0,$AN$8)","v":0},null,{"$f":"IF($AO$8=0,0,$AO$8)","v":0},null,{"$f":"IF($AP$8=0,0,$AP$8)","v":0},null,{"$f":"IF($AQ$8=0,0,$AQ$8)","v":0},null,{"$f":"IF($AR$8=0,0,$AR$8)","v":0},null,{"$f":"IF($AS$8=0,0,$AS$8)","v":0},null,{"$f":"IF($AT$8=0,0,$AT$8)","v":0},null,{"$f":"IF($AU$8=0,0,$AU$8)","v":0},null,{"$f":"IF($AV$8=0,0,$AV$8)","v":0}]
[{"$f":"Labels!$B$127","v":"   Chômage partiel et perte de travail cause d'intempéries"},null,null,null,null,{"$f":"Labels!$B$128","v":"ch"},{"$f":"IF($AJ$11=0,0,$AJ$11)","v":0},null,{"$f":"IF($AK$11=0,0,$AK$11)","v":0},null,{"$f":"IF($AL$11=0,0,$AL$11)","v":0},null,{"$f":"IF($AM$11=0,0,$AM$11)","v":0},null,{"$f":"IF($AN$11=0,0,$AN$11)","v":0},null,{"$f":"IF($AO$11=0,0,$AO$11)","v":0},null,{"$f":"IF($AP$11=0,0,$AP$11)","v":0},null,{"$f":"IF($AQ$11=0,0,$AQ$11)","v":0},null,{"$f":"IF($AR$11=0,0,$AR$11)","v":0},null,{"$f":"IF($AS$11=0,0,$AS$11)","v":0},null,{"$f":"IF($AT$11=0,0,$AT$11)","v":0},null,{"$f":"IF($AU$11=0,0,$AU$11)","v":0},null,{"$f":"IF($AV$11=0,0,$AV$11)","v":0}]
[{"$f":"Labels!$B$129","v":"   Ecole professionnelle"},null,null,null,null,{"$f":"Labels!$B$130","v":"ep"},{"$f":"IF($AJ$9=0,0,$AJ$9)","v":0},null,{"$f":"IF($AK$9=0,0,$AK$9)","v":0},null,{"$f":"IF($AL$9=0,0,$AL$9)","v":0},null,{"$f":"IF($AM$9=0,0,$AM$9)","v":0},null,{"$f":"IF($AN$9=0,0,$AN$9)","v":0},null,{"$f":"IF($AO$9=0,0,$AO$9)","v":0},null,{"$f":"IF($AP$9=0,0,$AP$9)","v":0},null,{"$f":"IF($AQ$9=0,0,$AQ$9)","v":0},null,{"$f":"IF($AR$9=0,0,$AR$9)","v":0},null,{"$f":"IF($AS$9=0,0,$AS$9)","v":0},null,{"$f":"IF($AT$9=0,0,$AT$9)","v":0},null,{"$f":"IF($AU$9=0,0,$AU$9)","v":0},null,{"$f":"IF($AV$9=0,0,$AV$9)","v":0}]
[{"$f":"Labels!$B$131","v":"   Cours"},null,null,null,null,{"$f":"Labels!$B$132","v":"co"},{"$f":"IF($AJ$10=0,0,$AJ$10)","v":0},null,{"$f":"IF($AK$10=0,0,$AK$10)","v":0},null,{"$f":"IF($AL$10=0,0,$AL$10)","v":0},null,{"$f":"IF($AM$10=0,0,$AM$10)","v":0},null,{"$f":"IF($AN$10=0,0,$AN$10)","v":0},null,{"$f":"IF($AO$10=0,0,$AO$10)","v":0},null,{"$f":"IF($AP$10=0,0,$AP$10)","v":0},null,{"$f":"IF($AQ$10=0,0,$AQ$10)","v":0},null,{"$f":"IF($AR$10=0,0,$AR$10)","v":0},null,{"$f":"IF($AS$10=0,0,$AS$10)","v":0},null,{"$f":"IF($AT$10=0,0,$AT$10)","v":0},null,{"$f":"IF($AU$10=0,0,$AU$10)","v":0},null,{"$f":"IF($AV$10=0,0,$AV$10)","v":0}]
[{"$f":"Labels!$B$133","v":"Heures de compensation"},{"$f":"Labels!$B$134","v":"de l'année passée"},null,null,null,{"$f":"Labels!$B$135","v":"cp"},{"$f":"IF($AJ$12=0,0,$AJ$12)","v":0},null,{"$f":"IF($AK$12=0,0,$AK$12)","v":0},null,{"$f":"IF($AL$12=0,0,$AL$12)","v":0},null,{"$f":"IF($AM$12=0,0,$AM$12)","v":0},null,{"$f":"IF($AN$12=0,0,$AN$12)","v":0},null,{"$f":"IF($AO$12=0,0,$AO$12)","v":0},null,{"$f":"IF($AP$12=0,0,$AP$12)","v":0},null,{"$f":"IF($AQ$12=0,0,$AQ$12)","v":0},null,{"$f":"IF($AR$12=0,0,$AR$12)","v":0},null,null,null,null,null,null,null,{"$f":"IF($AV$12=0,0,$AV$12)","v":0}]
[null,{"$f":"Labels!$B$136","v":"de l'année en cours (contrôle)"},null,null,null,{"$f":"Labels!$B$137","v":"cc"},{"$f":"IF($AJ$15=0,0,$AJ$15)","v":0},null,{"$f":"IF($AK$15=0,0,$AK$15)","v":0},null,{"$f":"IF($AL$15=0,0,$AL$15)","v":0},null,{"$f":"IF($AM$15=0,0,$AM$15)","v":0},null,{"$f":"IF($AN$15=0,0,$AN$15)","v":0},null,{"$f":"IF($AO$15=0,0,$AO$15)","v":0},null,{"$f":"IF($AP$15=0,0,$AP$15)","v":0},null,{"$f":"IF($AQ$15=0,0,$AQ$15)","v":0},null,{"$f":"IF($AR$15=0,0,$AR$15)","v":0},null,{"$f":"IF($AS$15=0,0,$AS$15)","v":0},null,{"$f":"IF($AT$15=0,0,$AT$15)","v":0},null,{"$f":"IF($AU$15=0,0,$AU$15)","v":0},null,{"$f":"IF($AV$15=0,0,$AV$15)","v":0}]
[{"$f":"Labels!$B$138","v":"Paiement des heures"},{"$f":"Labels!$B$139","v":"de l'année passée"},null,null,null,null,{"$f":"IF($AJ$21=0,0,$AJ$21)","v":0},null,{"$f":"IF($AK$21=0,0,$AK$21)","v":0},null,{"$f":"IF($AL$21=0,0,$AL$21)","v":0},null,{"$f":"IF($AM$21=0,0,$AM$21)","v":0},null,{"$f":"IF($AN$21=0,0,$AN$21)","v":0},null,{"$f":"IF($AO$21=0,0,$AO$21)","v":0},null,{"$f":"IF($AP$21=0,0,$AP$21)","v":0},null,{"$f":"IF($AQ$21=0,0,$AQ$21)","v":0},null,{"$f":"IF($AR$21=0,0,$AR$21)","v":0},null,null,null,null,null,null,null,{"$f":"IF($AV$21=0,0,$AV$21)","v":0}]
[{"$f":"Labels!$B$140","v":"Différence en heures"},{"$f":"Labels!$B$141","v":"après compensation et paiement"},null,null,null,null,{"$f":"IF(ROUND($P$4,3)=0,0,$P$4-G254-G256)","v":0},null,{"$f":"IF(ROUND(G257,3)=0,0,G257-(SUM(I254+I256)))","v":0},null,{"$f":"IF(ROUND(I257,3)=0,0,I257-K256-K254)","v":0},null,{"$f":"IF(ROUND(K257,3)=0,0,K257-(SUM(M256+M254)))","v":0},null,{"$f":"IF(ROUND(M257,3)=0,0,M257-(SUM(O256+O254)))","v":0},null,{"$f":"IF(ROUND(O257,3)=0,0,O257-(SUM(Q256+Q254)))","v":0},null,{"$f":"IF(ROUND(Q257,3)=0,0,Q257-(SUM(S256+S254)))","v":0},null,{"$f":"IF(ROUND(S257,3)=0,0,S257-(SUM(U256+U254)))","v":0},null,{"$f":"IF(ROUND(U257,3)=0,0,U257-(SUM(W256+W254)))","v":0},null,{"$f":"IF($W$62<0.1,\"\",AY239)","v":""}]
[{"$f":"Labels!$B$138","v":"Paiement des heures"},{"$f":"Labels!$B$142","v":"de l'année en cours"},null,null,null,null,{"$f":"IF($AJ$22=0,0,$AJ$22)","v":0},null,{"$f":"IF($AK$22=0,0,$AK$22)","v":0},null,{"$f":"IF($AL$22=0,0,$AL$22)","v":0},null,{"$f":"IF($AM$22=0,0,$AM$22)","v":0},null,{"$f":"IF($AN$22=0,0,$AN$22)","v":0},null,{"$f":"IF($AO$22=0,0,$AO$22)","v":0},null,{"$f":"IF($AP$22=0,0,$AP$22)","v":0},null,{"$f":"IF($AQ$22=0,0,$AQ$22)","v":0},null,{"$f":"IF($AR$22=0,0,$AR$22)","v":0},null,{"$f":"IF($AS$22=0,0,$AS$22)","v":0},null,{"$f":"IF($AT$22=0,0,$AT$22)","v":0},null,{"$f":"IF($AU$22=0,0,$AU$22)","v":0},null,{"$f":"IF($AV$22=0,0,$AV$22)","v":0}]
[{"$f":"Labels!$B$143","v":"Heures manquantes"},{"$f":"Labels!$B$144","v":"de l'année en cours (contrôle)"},null,null,null,{"$f":"Labels!$B$145","v":"hm"},{"$f":"IF($AJ$14=0,0,$AJ$14)","v":0},null,{"$f":"IF($AK$14=0,0,$AK$14)","v":0},null,{"$f":"IF($AL$14=0,0,$AL$14)","v":0},null,{"$f":"IF($AM$14=0,0,$AM$14)","v":0},null,{"$f":"IF($AN$14=0,0,$AN$14)","v":0},null,{"$f":"IF($AO$14=0,0,$AO$14)","v":0},null,{"$f":"IF($AP$14=0,0,$AP$14)","v":0},null,{"$f":"IF($AQ$14=0,0,$AQ$14)","v":0},null,{"$f":"IF($AR$14=0,0,$AR$14)","v":0},null,{"$f":"IF($AS$14=0,0,$AS$14)","v":0},null,{"$f":"IF($AT$14=0,0,$AT$14)","v":0},null,{"$f":"IF($AU$14=0,0,$AU$14)","v":0},null,{"$f":"IF($AV$14=0,0,$AV$14)","v":0}]
[{"$f":"Labels!$B$146","v":"Total (majorations inclus)"},{"$f":"Labels!$B$147","v":"heures productives et inproductives"},null,null,null,null,{"$f":"IF($AG$35=0,0,$AG$35)","v":0},null,{"$f":"IF($AG$100=0,0,$AG$100)","v":0},null,{"$f":"IF($AG$165=0,0,$AG$165)","v":0},null,{"$f":"IF($AG$230=0,0,$AG$230)","v":0},null,{"$f":"IF($AG$295=0,0,$AG$295)","v":0},null,{"$f":"IF($AG$360=0,0,$AG$360)","v":0},null,{"$f":"IF($AG$425=0,0,$AG$425)","v":0},null,{"$f":"IF($AG$490=0,0,$AG$490)","v":0},null,{"$f":"IF($AG$555=0,0,$AG$555)","v":0},null,{"$f":"IF($AG$620=0,0,$AG$620)","v":0},null,{"$f":"IF($AG$685=0,0,$AG$685)","v":0},null,{"$f":"IF($AG$750=0,0,$AG$750)","v":0},null,{"$f":"SUM($G$65:$AD$65)","v":0}]
[{"$f":"Labels!$B$148","v":"Comparaison des heures"},{"$f":"Labels!$B$149","v":"aux heures théorique CCT (heures \nmanquantes de l'année passée incl.)"},null,null,null,null,{"$f":"IF($AG$37=0,0,$AG$37)-$AE$34+$P$5","v":-176},null,{"$f":"IF($AG$102=0,0,$AG$102)-$AE$99","v":-160},null,{"$f":"IF($AG$167=0,0,$AG$167)-$AE$164","v":-184},null,{"$f":"IF($AG$232=0,0,$AG$232)-$AE$229","v":-160},null,{"$f":"IF($AG$297=0,0,$AG$297)-$AE$294","v":-184},null,{"$f":"IF($AG$362=0,0,$AG$362)-$AE$359","v":-176},null,{"$f":"IF($AG$427=0,0,$AG$427)-$AE$424","v":-168},null,{"$f":"IF($AG$492=0,0,$AG$492)-$AE$489","v":-184},null,{"$f":"IF($AG$557=0,0,$AG$557)-$AE$554","v":-168},null,{"$f":"IF($AG$622=0,0,$AG$622)-$AE$619","v":-176},null,{"$f":"IF($AG$687=0,0,$AG$687)-$AE$684","v":-176},null,{"$f":"IF($AG$752=0,0,$AG$752)-$AE$749","v":-168},null,{"$f":"SUM($G$66:$AD$66)","v":-2080}]
[null,{"$f":"Labels!$B$151","v":"aux heures théorique (cumulées)"},null,null,null,null,{"$f":"IF(G235=0,0,$G$66)","v":-176},null,{"$f":"IF(I235=0,0,SUM($G$66:$J$66))","v":-336},null,{"$f":"IF(K235=0,0,SUM($G$66:$L$66))","v":-520},null,{"$f":"IF(M235=0,0,SUM($G$66:$N$66))","v":-680},null,{"$f":"IF(O235=0,0,SUM($G$66:$P$66))","v":-864},null,{"$f":"IF(Q235=0,0,SUM($G$66:$R$66))","v":-1040},null,{"$f":"IF(S235=0,0,SUM($G$66:$T$66))","v":-1208},null,{"$f":"IF(U235=0,0,SUM($G$66:$V$66))","v":-1392},null,{"$f":"IF(W235=0,0,SUM($G$66:$X$66))","v":-1560},null,{"$f":"IF(Y235=0,0,SUM($G$66:$Z$66))","v":-1736},null,{"$f":"IF(AA235=0,0,SUM($G$66:$AB$66))","v":-1912},null,{"$f":"IF(AC235=0,0,SUM($G$66:$AD$66))","v":-2080}]
[{"$f":"Labels!$B$153","v":"Vacances (contrôle)"},{"$f":"Labels!$B$154","v":"Vacances année passée"},null,null,null,null,{"$f":"IF($AA$4=0,0,$AA$4)","v":0},null,{"$f":"Labels!$B$155","v":"Vacances selon \nart 12.1 CCT"},null,null,null,{"$f":"IF($AA$5=0,0,$AA$5)","v":0},null,{"$f":"Labels!$B$156","v":"Total des vacances"},null,null,null,{"$f":"SUM(G263+M263)","v":0},null,{"$f":"Labels!$B$157","v":"Vacances prises"},null,null,null,{"$f":"IF($AV$4=0,0,$AV$4)","v":0},null,{"$f":"Labels!$B$158","v":"Vacances restantes"},null,null,null,{"$f":"IF(S263=0,0,S263-Y263)","v":0}]
[]
[]
[{"$f":"$A$3","v":"Nom/Prénom"},{"$f":"IF($B$3=\"\",\"\",$B$3)","v":"Modèle Pierre"},null,null,null,null,null,null,null,null,null,null,null,null,null,null,null,null,null,null,null,null,null,null,null,null,null,null,null,null,null,{"$f":"AF3","v":0}]
[{"$f":"$A$4","v":"Emploi %"},{"$f":"$AL$52","v":100},null,{"$f":"Labels!B93","v":"en mai"}]
[{"$f":"$A$5","v":"Solde année en cours"},null,null,{"$f":"IF($AE$66=0,0,$AE$66)","v":-2080}]
[{"$f":"TEXT(DATE(YEAR(AP29),MONTH(AP29)+4,1),\"MMMM\"&Labels!B13)","v":"mai"},{"$f":"$B$9","v":"Solde mois + / -"},null,null,null,{"$f":"(AG271-(SUM(AG272:AG286)-AE294))*-1","v":184},null,null,null,null,{"$f":"$K$9","v":" = "},{"$f":"$L$9","v":"Les cases marquées en jaune doivent être remplies (les autres seront calculées automatiquement)"},null,null,null,null,null,null,null,null,null,null,null,null,null,null,null,null,null,null,null,null,{"$f":"COUNT(B272:AF272)&\" \"&Labels!$B$63","v":"23 Jours"}]
[{"$f":"$A$10","v":"Jour"},{"$f":"AE205+1","v":"2023-05-01"},{"$f":"B270+1","v":"2023-05-02"},{"$f":"C270+1","v":"2023-05-03"},"2023-05-04","2023-05-05","2023-05-06","2023-05-07","2023-05-08","2023-05-09","2023-05-10","2023-05-11","2023-05-12","2023-05-13","2023-05-14","2023-05-15","2023-05-16","2023-05-17","2023-05-18","2023-05-19","2023-05-20","2023-05-21","2023-05-22","2023-05-23","2023-05-24","2023-05-25","2023-05-26","2023-05-27","2023-05-28","2023-05-29","2023-05-30","2023-05-31"]
[{"$f":"$A$11","v":"semaine civile"},{"$f":"IF(B270=\"\",\"\",TRUNC((B270-DATE(YEAR(B270+3-MOD(B270-2,7)),1,MOD(B270-2,7)-9))/7))","v":18},18,18,18,18,18,18,19,19,19,19,19,19,19,20,20,20,20,20,20,20,21,21,21,21,21,21,21,22,22,22,null,"Woche"]
[{"$f":"$A$12","v":"Théorique sel. CCT"},{"$f":"IF(AND(MOD(B270,7)>=2,SUMPRODUCT(($AM$60:$AQ$60=MOD(B270,7))*$AM$52:$AQ$52),B929=\"\"),$J$7*SUMPRODUCT(($AM$77:$AQ$77=MOD(B270,7))*$AM$69:$AQ$69)%,\"\")","v":8},{"$f":"IF(AND(MOD(C270,7)>=2,SUMPRODUCT(($AM$60:$AQ$60=MOD(C270,7))*$AM$52:$AQ$52),C929=\"\"),$J$7*SUMPRODUCT(($AM$77:$AQ$77=MOD(C270,7))*$AM$69:$AQ$69)%,\"\")","v":8},{"$f":"IF(AND(MOD(D270,7)>=2,SUMPRODUCT(($AM$60:$AQ$60=MOD(D270,7))*$AM$52:$AQ$52),D929=\"\"),$J$7*SUMPRODUCT(($AM$77:$AQ$77=MOD(D270,7))*$AM$69:$AQ$69)%,\"\")","v":8},{"$f":"IF(AND(MOD(E270,7)>=2,SUMPRODUCT(($AM$60:$AQ$60=MOD(E270,7))*$AM$52:$AQ$52),E929=\"\"),$J$7*SUMPRODUCT(($AM$77:$AQ$77=MOD(E270,7))*$AM$69:$AQ$69)%,\"\")","v":8},{"$f":"IF(AND(MOD(F270,7)>=2,SUMPRODUCT(($AM$60:$AQ$60=MOD(F270,7))*$AM$52:$AQ$52),F929=\"\"),$J$7*SUMPRODUCT(($AM$77:$AQ$77=MOD(F270,7))*$AM$69:$AQ$69)%,\"\")","v":8},{"$f":"IF(AND(MOD(G270,7)>=2,SUMPRODUCT(($AM$60:$AQ$60=MOD(G270,7))*$AM$52:$AQ$52),G929=\"\"),$J$7*SUMPRODUCT(($AM$77:$AQ$77=MOD(G270,7))*$AM$69:$AQ$69)%,\"\")","v":""},{"$f":"IF(AND(MOD(H270,7)>=2,SUMPRODUCT(($AM$60:$AQ$60=MOD(H270,7))*$AM$52:$AQ$52),H929=\"\"),$J$7*SUMPRODUCT(($AM$77:$AQ$77=MOD(H270,7))*$AM$69:$AQ$69)%,\"\")","v":""},{"$f":"IF(AND(MOD(I270,7)>=2,SUMPRODUCT(($AM$60:$AQ$60=MOD(I270,7))*$AM$52:$AQ$52),I929=\"\"),$J$7*SUMPRODUCT(($AM$77:$AQ$77=MOD(I270,7))*$AM$69:$AQ$69)%,\"\")","v":8},{"$f":"IF(AND(MOD(J270,7)>=2,SUMPRODUCT(($AM$60:$AQ$60=MOD(J270,7))*$AM$52:$AQ$52),J929=\"\"),$J$7*SUMPRODUCT(($AM$77:$AQ$77=MOD(J270,7))*$AM$69:$AQ$69)%,\"\")","v":8},{"$f":"IF(AND(MOD(K270,7)>=2,SUMPRODUCT(($AM$60:$AQ$60=MOD(K270,7))*$AM$52:$AQ$52),K929=\"\"),$J$7*SUMPRODUCT(($AM$77:$AQ$77=MOD(K270,7))*$AM$69:$AQ$69)%,\"\")","v":8},{"$f":"IF(AND(MOD(L270,7)>=2,SUMPRODUCT(($AM$60:$AQ$60=MOD(L270,7))*$AM$52:$AQ$52),L929=\"\"),$J$7*SUMPRODUCT(($AM$77:$AQ$77=MOD(L270,7))*$AM$69:$AQ$69)%,\"\")","v":8},{"$f":"IF(AND(MOD(M270,7)>=2,SUMPRODUCT(($AM$60:$AQ$60=MOD(M270,7))*$AM$52:$AQ$52),M929=\"\"),$J$7*SUMPRODUCT(($AM$77:$AQ$77=MOD(M270,7))*$AM$69:$AQ$69)%,\"\")","v":8},{"$f":"IF(AND(MOD(N270,7)>=2,SUMPRODUCT(($AM$60:$AQ$60=MOD(N270,7))*$AM$52:$AQ$52),N929=\"\"),$J$7*SUMPRODUCT(($AM$77:$AQ$77=MOD(N270,7))*$AM$69:$AQ$69)%,\"\")","v":""},{"$f":"IF(AND(MOD(O270,7)>=2,SUMPRODUCT(($AM$60:$AQ$60=MOD(O270,7))*$AM$52:$AQ$52),O929=\"\"),$J$7*SUMPRODUCT(($AM$77:$AQ$77=MOD(O270,7))*$AM$69:$AQ$69)%,\"\")","v":""},{"$f":"IF(AND(MOD(P270,7)>=2,SUMPRODUCT(($AM$60:$AQ$60=MOD(P270,7))*$AM$52:$AQ$52),P929=\"\"),$J$7*SUMPRODUCT(($AM$77:$AQ$77=MOD(P270,7))*$AM$69:$AQ$69)%,\"\")","v":8},{"$f":"IF(AND(MOD(Q270,7)>=2,SUMPRODUCT(($AM$60:$AQ$60=MOD(Q270,7))*$AM$52:$AQ$52),Q929=\"\"),$J$7*SUMPRODUCT(($AM$77:$AQ$77=MOD(Q270,7))*$AM$69:$AQ$69)%,\"\")","v":8},{"$f":"IF(AND(MOD(R270,7)>=2,SUMPRODUCT(($AM$60:$AQ$60=MOD(R270,7))*$AM$52:$AQ$52),R929=\"\"),$J$7*SUMPRODUCT(($AM$77:$AQ$77=MOD(R270,7))*$AM$69:$AQ$69)%,\"\")","v":8},{"$f":"IF(AND(MOD(S270,7)>=2,SUMPRODUCT(($AM$60:$AQ$60=MOD(S270,7))*$AM$52:$AQ$52),S929=\"\"),$J$7*SUMPRODUCT(($AM$77:$AQ$77=MOD(S270,7))*$AM$69:$AQ$69)%,\"\")","v":8},{"$f":"IF(AND(MOD(T270,7)>=2,SUMPRODUCT(($AM$60:$AQ$60=MOD(T270,7))*$AM$52:$AQ$52),T929=\"\"),$J$7*SUMPRODUCT(($AM$77:$AQ$77=MOD(T270,7))*$AM$69:$AQ$69)%,\"\")","v":8},{"$f":"IF(AND(MOD(U270,7)>=2,SUMPRODUCT(($AM$60:$AQ$60=MOD(U270,7))*$AM$52:$AQ$52),U929=\"\"),$J$7*SUMPRODUCT(($AM$77:$AQ$77=MOD(U270,7))*$AM$69:$AQ$69)%,\"\")","v":""},{"$f":"IF(AND(MOD(V270,7)>=2,SUMPRODUCT(($AM$60:$AQ$60=MOD(V270,7))*$AM$52:$AQ$52),V929=\"\"),$J$7*SUMPRODUCT(($AM$77:$AQ$77=MOD(V270,7))*$AM$69:$AQ$69)%,\"\")","v":""},{"$f":"IF(AND(MOD(W270,7)>=2,SUMPRODUCT(($AM$60:$AQ$60=MOD(W270,7))*$AM$52:$AQ$52),W929=\"\"),$J$7*SUMPRODUCT(($AM$77:$AQ$77=MOD(W270,7))*$AM$69:$AQ$69)%,\"\")","v":8},{"$f":"IF(AND(MOD(X270,7)>=2,SUMPRODUCT(($AM$60:$AQ$60=MOD(X270,7))*$AM$52:$AQ$52),X929=\"\"),$J$7*SUMPRODUCT(($AM$77:$AQ$77=MOD(X270,7))*$AM$69:$AQ$69)%,\"\")","v":8},{"$f":"IF(AND(MOD(Y270,7)>=2,SUMPRODUCT(($AM$60:$AQ$60=MOD(Y270,7))*$AM$52:$AQ$52),Y929=\"\"),$J$7*SUMPRODUCT(($AM$77:$AQ$77=MOD(Y270,7))*$AM$69:$AQ$69)%,\"\")","v":8},{"$f":"IF(AND(MOD(Z270,7)>=2,SUMPRODUCT(($AM$60:$AQ$60=MOD(Z270,7))*$AM$52:$AQ$52),Z929=\"\"),$J$7*SUMPRODUCT(($AM$77:$AQ$77=MOD(Z270,7))*$AM$69:$AQ$69)%,\"\")","v":8},{"$f":"IF(AND(MOD(AA270,7)>=2,SUMPRODUCT(($AM$60:$AQ$60=MOD(AA270,7))*$AM$52:$AQ$52),AA929=\"\"),$J$7*SUMPRODUCT(($AM$77:$AQ$77=MOD(AA270,7))*$AM$69:$AQ$69)%,\"\")","v":8},{"$f":"IF(AND(MOD(AB270,7)>=2,SUMPRODUCT(($AM$60:$AQ$60=MOD(AB270,7))*$AM$52:$AQ$52),AB929=\"\"),$J$7*SUMPRODUCT(($AM$77:$AQ$77=MOD(AB270,7))*$AM$69:$AQ$69)%,\"\")","v":""},{"$f":"IF(AND(MOD(AC270,7)>=2,SUMPRODUCT(($AM$60:$AQ$60=MOD(AC270,7))*$AM$52:$AQ$52),AC929=\"\"),$J$7*SUMPRODUCT(($AM$77:$AQ$77=MOD(AC270,7))*$AM$69:$AQ$69)%,\"\")","v":""},{"$f":"IF(AND(MOD(AD270,7)>=2,SUMPRODUCT(($AM$60:$AQ$60=MOD(AD270,7))*$AM$52:$AQ$52),AD929=\"\"),$J$7*SUMPRODUCT(($AM$77:$AQ$77=MOD(AD270,7))*$AM$69:$AQ$69)%,\"\")","v":8},{"$f":"IF(AND(MOD(AE270,7)>=2,SUMPRODUCT(($AM$60:$AQ$60=MOD(AE270,7))*$AM$52:$AQ$52),AE929=\"\"),$J$7*SUMPRODUCT(($AM$77:$AQ$77=MOD(AE270,7))*$AM$69:$AQ$69)%,\"\")","v":8},{"$f":"IF(AND(MOD(AF270,7)>=2,SUMPRODUCT(($AM$60:$AQ$60=MOD(AF270,7))*$AM$52:$AQ$52),AF929=\"\"),$J$7*SUMPRODUCT(($AM$77:$AQ$77=MOD(AF270,7))*$AM$69:$AQ$69)%,\"\")","v":8},{"$f":"SUM(B272:AF272)","v":184},"[00]"]
[{"$f":"$A$13","v":"Absences"},{"$f":"B945","v":0},{"$f":"C945","v":0},0,0,0,0,0,0,0,0,0,0,0,0,0,0,0,0,0,0,0,0,0,0,0,0,0,0,0,0,0,{"$f":"SUM($AN$3:$AN$13)","v":0},"[01]"]
[{"$f":"$A$14","v":"Code"},{"$f":"IF(SUM(B932:B944)<>0,IF(MAX(B932:B944)<B945,Labels!$B$163,INDEX($AH$931:$AH$943,MATCH(MAX(B932:B944),B932:B944,0))),\"\")","v":""},{"$f":"IF(SUM(C932:C944)<>0,IF(MAX(C932:C944)<C945,Labels!$B$163,INDEX($AH$931:$AH$943,MATCH(MAX(C932:C944),C932:C944,0))),\"\")","v":""},{"$f":"IF(SUM(D932:D944)<>0,IF(MAX(D932:D944)<D945,Labels!$B$163,INDEX($AH$931:$AH$943,MATCH(MAX(D932:D944),D932:D944,0))),\"\")","v":""},{"$f":"IF(SUM(E932:E944)<>0,IF(MAX(E932:E944)<E945,Labels!$B$163,INDEX($AH$931:$AH$943,MATCH(MAX(E932:E944),E932:E944,0))),\"\")","v":""},{"$f":"IF(SUM(F932:F944)<>0,IF(MAX(F932:F944)<F945,Labels!$B$163,INDEX($AH$931:$AH$943,MATCH(MAX(F932:F944),F932:F944,0))),\"\")","v":""},{"$f":"IF(SUM(G932:G944)<>0,IF(MAX(G932:G944)<G945,Labels!$B$163,INDEX($AH$931:$AH$943,MATCH(MAX(G932:G944),G932:G944,0))),\"\")","v":""},{"$f":"IF(SUM(H932:H944)<>0,IF(MAX(H932:H944)<H945,Labels!$B$163,INDEX($AH$931:$AH$943,MATCH(MAX(H932:H944),H932:H944,0))),\"\")","v":""},{"$f":"IF(SUM(I932:I944)<>0,IF(MAX(I932:I944)<I945,Labels!$B$163,INDEX($AH$931:$AH$943,MATCH(MAX(I932:I944),I932:I944,0))),\"\")","v":""},{"$f":"IF(SUM(J932:J944)<>0,IF(MAX(J932:J944)<J945,Labels!$B$163,INDEX($AH$931:$AH$943,MATCH(MAX(J932:J944),J932:J944,0))),\"\")","v":""},{"$f":"IF(SUM(K932:K944)<>0,IF(MAX(K932:K944)<K945,Labels!$B$163,INDEX($AH$931:$AH$943,MATCH(MAX(K932:K944),K932:K944,0))),\"\")","v":""},{"$f":"IF(SUM(L932:L944)<>0,IF(MAX(L932:L944)<L945,Labels!$B$163,INDEX($AH$931:$AH$943,MATCH(MAX(L932:L944),L932:L944,0))),\"\")","v":""},{"$f":"IF(SUM(M932:M944)<>0,IF(MAX(M932:M944)<M945,Labels!$B$163,INDEX($AH$931:$AH$943,MATCH(MAX(M932:M944),M932:M944,0))),\"\")","v":""},{"$f":"IF(SUM(N932:N944)<>0,IF(MAX(N932:N944)<N945,Labels!$B$163,INDEX($AH$931:$AH$943,MATCH(MAX(N932:N944),N932:N944,0))),\"\")","v":""},{"$f":"IF(SUM(O932:O944)<>0,IF(MAX(O932:O944)<O945,Labels!$B$163,INDEX($AH$931:$AH$943,MATCH(MAX(O932:O944),O932:O944,0))),\"\")","v":""},{"$f":"IF(SUM(P932:P944)<>0,IF(MAX(P932:P944)<P945,Labels!$B$163,INDEX($AH$931:$AH$943,MATCH(MAX(P932:P944),P932:P944,0))),\"\")","v":""},{"$f":"IF(SUM(Q932:Q944)<>0,IF(MAX(Q932:Q944)<Q945,Labels!$B$163,INDEX($AH$931:$AH$943,MATCH(MAX(Q932:Q944),Q932:Q944,0))),\"\")","v":""},{"$f":"IF(SUM(R932:R944)<>0,IF(MAX(R932:R944)<R945,Labels!$B$163,INDEX($AH$931:$AH$943,MATCH(MAX(R932:R944),R932:R944,0))),\"\")","v":""},{"$f":"IF(SUM(S932:S944)<>0,IF(MAX(S932:S944)<S945,Labels!$B$163,INDEX($AH$931:$AH$943,MATCH(MAX(S932:S944),S932:S944,0))),\"\")","v":""},{"$f":"IF(SUM(T932:T944)<>0,IF(MAX(T932:T944)<T945,Labels!$B$163,INDEX($AH$931:$AH$943,MATCH(MAX(T932:T944),T932:T944,0))),\"\")","v":""},{"$f":"IF(SUM(U932:U944)<>0,IF(MAX(U932:U944)<U945,Labels!$B$163,INDEX($AH$931:$AH$943,MATCH(MAX(U932:U944),U932:U944,0))),\"\")","v":""},{"$f":"IF(SUM(V932:V944)<>0,IF(MAX(V932:V944)<V945,Labels!$B$163,INDEX($AH$931:$AH$943,MATCH(MAX(V932:V944),V932:V944,0))),\"\")","v":""},{"$f":"IF(SUM(W932:W944)<>0,IF(MAX(W932:W944)<W945,Labels!$B$163,INDEX($AH$931:$AH$943,MATCH(MAX(W932:W944),W932:W944,0))),\"\")","v":""},{"$f":"IF(SUM(X932:X944)<>0,IF(MAX(X932:X944)<X945,Labels!$B$163,INDEX($AH$931:$AH$943,MATCH(MAX(X932:X944),X932:X944,0))),\"\")","v":""},{"$f":"IF(SUM(Y932:Y944)<>0,IF(MAX(Y932:Y944)<Y945,Labels!$B$163,INDEX($AH$931:$AH$943,MATCH(MAX(Y932:Y944),Y932:Y944,0))),\"\")","v":""},{"$f":"IF(SUM(Z932:Z944)<>0,IF(MAX(Z932:Z944)<Z945,Labels!$B$163,INDEX($AH$931:$AH$943,MATCH(MAX(Z932:Z944),Z932:Z944,0))),\"\")","v":""},{"$f":"IF(SUM(AA932:AA944)<>0,IF(MAX(AA932:AA944)<AA945,Labels!$B$163,INDEX($AH$931:$AH$943,MATCH(MAX(AA932:AA944),AA932:AA944,0))),\"\")","v":""},{"$f":"IF(SUM(AB932:AB944)<>0,IF(MAX(AB932:AB944)<AB945,Labels!$B$163,INDEX($AH$931:$AH$943,MATCH(MAX(AB932:AB944),AB932:AB944,0))),\"\")","v":""},{"$f":"IF(SUM(AC932:AC944)<>0,IF(MAX(AC932:AC944)<AC945,Labels!$B$163,INDEX($AH$931:$AH$943,MATCH(MAX(AC932:AC944),AC932:AC944,0))),\"\")","v":""},{"$f":"IF(SUM(AD932:AD944)<>0,IF(MAX(AD932:AD944)<AD945,Labels!$B$163,INDEX($AH$931:$AH$943,MATCH(MAX(AD932:AD944),AD932:AD944,0))),\"\")","v":""},{"$f":"IF(SUM(AE932:AE944)<>0,IF(MAX(AE932:AE944)<AE945,Labels!$B$163,INDEX($AH$931:$AH$943,MATCH(MAX(AE932:AE944),AE932:AE944,0))),\"\")","v":""},{"$f":"IF(SUM(AF932:AF944)<>0,IF(MAX(AF932:AF944)<AF945,Labels!$B$163,INDEX($AH$931:$AH$943,MATCH(MAX(AF932:AF944),AF932:AF944,0))),\"\")","v":""},{"$f":"$AN$16*-1","v":0},"[02]"]
[{"$f":"$A$15","v":"00h00-06h00 1)"},null,null,null,null,null,null,null,null,null,null,null,null,null,null,null,null,null,null,null,null,null,null,null,null,null,null,null,null,null,null,null,{"$f":"SUM(B275:AF275)","v":0},"[04]"]
[{"$f":"$A$16","v":"06h00-20h00 2)"},null,null,null,null,null,null,null,null,null,null,null,null,null,null,null,null,null,null,null,null,null,null,null,null,null,null,null,null,null,null,null,{"$f":"SUM(B276:AF276)","v":0},"[03]"]
[{"$f":"$A$17","v":"20h00-24h00 3)"},null,null,null,null,null,null,null,null,null,null,null,null,null,null,null,null,null,null,null,null,null,null,null,null,null,null,null,null,null,null,null,{"$f":"SUM(B277:AF277)","v":0},"[05]"]
[{"$f":"$A$18","v":"Jours fériés \"jf\""},{"$f":"IF(WEEKDAY(B270,2)<=6,IF(CALENDRIER!E11=\"x\",Labels!$B$118,\"\"),\"\")","v":""},{"$f":"IF(WEEKDAY(C270,2)<=6,IF(CALENDRIER!F11=\"x\",Labels!$B$118,\"\"),\"\")","v":""},{"$f":"IF(WEEKDAY(D270,2)<=6,IF(CALENDRIER!G11=\"x\",Labels!$B$118,\"\"),\"\")","v":""},{"$f":"IF(WEEKDAY(E270,2)<=6,IF(CALENDRIER!H11=\"x\",Labels!$B$118,\"\"),\"\")","v":""},{"$f":"IF(WEEKDAY(F270,2)<=6,IF(CALENDRIER!I11=\"x\",Labels!$B$118,\"\"),\"\")","v":""},{"$f":"IF(WEEKDAY(G270,2)<=6,IF(CALENDRIER!J11=\"x\",Labels!$B$118,\"\"),\"\")","v":""},{"$f":"IF(WEEKDAY(H270,2)<=6,IF(CALENDRIER!K11=\"x\",Labels!$B$118,\"\"),\"\")","v":""},{"$f":"IF(WEEKDAY(I270,2)<=6,IF(CALENDRIER!L11=\"x\",Labels!$B$118,\"\"),\"\")","v":""},{"$f":"IF(WEEKDAY(J270,2)<=6,IF(CALENDRIER!M11=\"x\",Labels!$B$118,\"\"),\"\")","v":""},{"$f":"IF(WEEKDAY(K270,2)<=6,IF(CALENDRIER!N11=\"x\",Labels!$B$118,\"\"),\"\")","v":""},{"$f":"IF(WEEKDAY(L270,2)<=6,IF(CALENDRIER!O11=\"x\",Labels!$B$118,\"\"),\"\")","v":""},{"$f":"IF(WEEKDAY(M270,2)<=6,IF(CALENDRIER!P11=\"x\",Labels!$B$118,\"\"),\"\")","v":""},{"$f":"IF(WEEKDAY(N270,2)<=6,IF(CALENDRIER!Q11=\"x\",Labels!$B$118,\"\"),\"\")","v":""},{"$f":"IF(WEEKDAY(O270,2)<=6,IF(CALENDRIER!R11=\"x\",Labels!$B$118,\"\"),\"\")","v":""},{"$f":"IF(WEEKDAY(P270,2)<=6,IF(CALENDRIER!S11=\"x\",Labels!$B$118,\"\"),\"\")","v":""},{"$f":"IF(WEEKDAY(Q270,2)<=6,IF(CALENDRIER!T11=\"x\",Labels!$B$118,\"\"),\"\")","v":""},{"$f":"IF(WEEKDAY(R270,2)<=6,IF(CALENDRIER!U11=\"x\",Labels!$B$118,\"\"),\"\")","v":""},{"$f":"IF(WEEKDAY(S270,2)<=6,IF(CALENDRIER!V11=\"x\",Labels!$B$118,\"\"),\"\")","v":""},{"$f":"IF(WEEKDAY(T270,2)<=6,IF(CALENDRIER!W11=\"x\",Labels!$B$118,\"\"),\"\")","v":""},{"$f":"IF(WEEKDAY(U270,2)<=6,IF(CALENDRIER!X11=\"x\",Labels!$B$118,\"\"),\"\")","v":""},{"$f":"IF(WEEKDAY(V270,2)<=6,IF(CALENDRIER!Y11=\"x\",Labels!$B$118,\"\"),\"\")","v":""},{"$f":"IF(WEEKDAY(W270,2)<=6,IF(CALENDRIER!Z11=\"x\",Labels!$B$118,\"\"),\"\")","v":""},{"$f":"IF(WEEKDAY(X270,2)<=6,IF(CALENDRIER!AA11=\"x\",Labels!$B$118,\"\"),\"\")","v":""},{"$f":"IF(WEEKDAY(Y270,2)<=6,IF(CALENDRIER!AB11=\"x\",Labels!$B$118,\"\"),\"\")","v":""},{"$f":"IF(WEEKDAY(Z270,2)<=6,IF(CALENDRIER!AC11=\"x\",Labels!$B$118,\"\"),\"\")","v":""},{"$f":"IF(WEEKDAY(AA270,2)<=6,IF(CALENDRIER!AD11=\"x\",Labels!$B$118,\"\"),\"\")","v":""},{"$f":"IF(WEEKDAY(AB270,2)<=6,IF(CALENDRIER!AE11=\"x\",Labels!$B$118,\"\"),\"\")","v":""},{"$f":"IF(WEEKDAY(AC270,2)<=6,IF(CALENDRIER!AF11=\"x\",Labels!$B$118,\"\"),\"\")","v":""},{"$f":"IF(WEEKDAY(AD270,2)<=6,IF(CALENDRIER!AG11=\"x\",Labels!$B$118,\"\"),\"\")","v":""},{"$f":"IF(WEEKDAY(AE270,2)<=6,IF(CALENDRIER!AH11=\"x\",Labels!$B$118,\"\"),\"\")","v":""},{"$f":"IF(WEEKDAY(AF270,2)<=6,IF(CALENDRIER!AI11=\"x\",Labels!$B$118,\"\"),\"\")","v":""},null,"FT"]
[{"$f":"$A$19","v":"Majoration  \"jf\""},{"$f":"IF(AND(B278=Labels!$B$118,WEEKDAY(B270,2)<6,B$272<>\"\"),$J$7*SUMPRODUCT(($AM$77:$AQ$77=MOD(B270,7))*$AM$69:$AQ$69)%,\"\")","v":""},{"$f":"IF(AND(C278=Labels!$B$118,WEEKDAY(C270,2)<6,C$272<>\"\"),$J$7*SUMPRODUCT(($AM$77:$AQ$77=MOD(C270,7))*$AM$69:$AQ$69)%,\"\")","v":""},{"$f":"IF(AND(D278=Labels!$B$118,WEEKDAY(D270,2)<6,D$272<>\"\"),$J$7*SUMPRODUCT(($AM$77:$AQ$77=MOD(D270,7))*$AM$69:$AQ$69)%,\"\")","v":""},{"$f":"IF(AND(E278=Labels!$B$118,WEEKDAY(E270,2)<6,E$272<>\"\"),$J$7*SUMPRODUCT(($AM$77:$AQ$77=MOD(E270,7))*$AM$69:$AQ$69)%,\"\")","v":""},{"$f":"IF(AND(F278=Labels!$B$118,WEEKDAY(F270,2)<6,F$272<>\"\"),$J$7*SUMPRODUCT(($AM$77:$AQ$77=MOD(F270,7))*$AM$69:$AQ$69)%,\"\")","v":""},{"$f":"IF(AND(G278=Labels!$B$118,WEEKDAY(G270,2)<6,G$272<>\"\"),$J$7*SUMPRODUCT(($AM$77:$AQ$77=MOD(G270,7))*$AM$69:$AQ$69)%,\"\")","v":""},{"$f":"IF(AND(H278=Labels!$B$118,WEEKDAY(H270,2)<6,H$272<>\"\"),$J$7*SUMPRODUCT(($AM$77:$AQ$77=MOD(H270,7))*$AM$69:$AQ$69)%,\"\")","v":""},{"$f":"IF(AND(I278=Labels!$B$118,WEEKDAY(I270,2)<6,I$272<>\"\"),$J$7*SUMPRODUCT(($AM$77:$AQ$77=MOD(I270,7))*$AM$69:$AQ$69)%,\"\")","v":""},{"$f":"IF(AND(J278=Labels!$B$118,WEEKDAY(J270,2)<6,J$272<>\"\"),$J$7*SUMPRODUCT(($AM$77:$AQ$77=MOD(J270,7))*$AM$69:$AQ$69)%,\"\")","v":""},{"$f":"IF(AND(K278=Labels!$B$118,WEEKDAY(K270,2)<6,K$272<>\"\"),$J$7*SUMPRODUCT(($AM$77:$AQ$77=MOD(K270,7))*$AM$69:$AQ$69)%,\"\")","v":""},{"$f":"IF(AND(L278=Labels!$B$118,WEEKDAY(L270,2)<6,L$272<>\"\"),$J$7*SUMPRODUCT(($AM$77:$AQ$77=MOD(L270,7))*$AM$69:$AQ$69)%,\"\")","v":""},{"$f":"IF(AND(M278=Labels!$B$118,WEEKDAY(M270,2)<6,M$272<>\"\"),$J$7*SUMPRODUCT(($AM$77:$AQ$77=MOD(M270,7))*$AM$69:$AQ$69)%,\"\")","v":""},{"$f":"IF(AND(N278=Labels!$B$118,WEEKDAY(N270,2)<6,N$272<>\"\"),$J$7*SUMPRODUCT(($AM$77:$AQ$77=MOD(N270,7))*$AM$69:$AQ$69)%,\"\")","v":""},{"$f":"IF(AND(O278=Labels!$B$118,WEEKDAY(O270,2)<6,O$272<>\"\"),$J$7*SUMPRODUCT(($AM$77:$AQ$77=MOD(O270,7))*$AM$69:$AQ$69)%,\"\")","v":""},{"$f":"IF(AND(P278=Labels!$B$118,WEEKDAY(P270,2)<6,P$272<>\"\"),$J$7*SUMPRODUCT(($AM$77:$AQ$77=MOD(P270,7))*$AM$69:$AQ$69)%,\"\")","v":""},{"$f":"IF(AND(Q278=Labels!$B$118,WEEKDAY(Q270,2)<6,Q$272<>\"\"),$J$7*SUMPRODUCT(($AM$77:$AQ$77=MOD(Q270,7))*$AM$69:$AQ$69)%,\"\")","v":""},{"$f":"IF(AND(R278=Labels!$B$118,WEEKDAY(R270,2)<6,R$272<>\"\"),$J$7*SUMPRODUCT(($AM$77:$AQ$77=MOD(R270,7))*$AM$69:$AQ$69)%,\"\")","v":""},{"$f":"IF(AND(S278=Labels!$B$118,WEEKDAY(S270,2)<6,S$272<>\"\"),$J$7*SUMPRODUCT(($AM$77:$AQ$77=MOD(S270,7))*$AM$69:$AQ$69)%,\"\")","v":""},{"$f":"IF(AND(T278=Labels!$B$118,WEEKDAY(T270,2)<6,T$272<>\"\"),$J$7*SUMPRODUCT(($AM$77:$AQ$77=MOD(T270,7))*$AM$69:$AQ$69)%,\"\")","v":""},{"$f":"IF(AND(U278=Labels!$B$118,WEEKDAY(U270,2)<6,U$272<>\"\"),$J$7*SUMPRODUCT(($AM$77:$AQ$77=MOD(U270,7))*$AM$69:$AQ$69)%,\"\")","v":""},{"$f":"IF(AND(V278=Labels!$B$118,WEEKDAY(V270,2)<6,V$272<>\"\"),$J$7*SUMPRODUCT(($AM$77:$AQ$77=MOD(V270,7))*$AM$69:$AQ$69)%,\"\")","v":""},{"$f":"IF(AND(W278=Labels!$B$118,WEEKDAY(W270,2)<6,W$272<>\"\"),$J$7*SUMPRODUCT(($AM$77:$AQ$77=MOD(W270,7))*$AM$69:$AQ$69)%,\"\")","v":""},{"$f":"IF(AND(X278=Labels!$B$118,WEEKDAY(X270,2)<6,X$272<>\"\"),$J$7*SUMPRODUCT(($AM$77:$AQ$77=MOD(X270,7))*$AM$69:$AQ$69)%,\"\")","v":""},{"$f":"IF(AND(Y278=Labels!$B$118,WEEKDAY(Y270,2)<6,Y$272<>\"\"),$J$7*SUMPRODUCT(($AM$77:$AQ$77=MOD(Y270,7))*$AM$69:$AQ$69)%,\"\")","v":""},{"$f":"IF(AND(Z278=Labels!$B$118,WEEKDAY(Z270,2)<6,Z$272<>\"\"),$J$7*SUMPRODUCT(($AM$77:$AQ$77=MOD(Z270,7))*$AM$69:$AQ$69)%,\"\")","v":""},{"$f":"IF(AND(AA278=Labels!$B$118,WEEKDAY(AA270,2)<6,AA$272<>\"\"),$J$7*SUMPRODUCT(($AM$77:$AQ$77=MOD(AA270,7))*$AM$69:$AQ$69)%,\"\")","v":""},{"$f":"IF(AND(AB278=Labels!$B$118,WEEKDAY(AB270,2)<6,AB$272<>\"\"),$J$7*SUMPRODUCT(($AM$77:$AQ$77=MOD(AB270,7))*$AM$69:$AQ$69)%,\"\")","v":""},{"$f":"IF(AND(AC278=Labels!$B$118,WEEKDAY(AC270,2)<6,AC$272<>\"\"),$J$7*SUMPRODUCT(($AM$77:$AQ$77=MOD(AC270,7))*$AM$69:$AQ$69)%,\"\")","v":""},{"$f":"IF(AND(AD278=Labels!$B$118,WEEKDAY(AD270,2)<6,AD$272<>\"\"),$J$7*SUMPRODUCT(($AM$77:$AQ$77=MOD(AD270,7))*$AM$69:$AQ$69)%,\"\")","v":""},{"$f":"IF(AND(AE278=Labels!$B$118,WEEKDAY(AE270,2)<6,AE$272<>\"\"),$J$7*SUMPRODUCT(($AM$77:$AQ$77=MOD(AE270,7))*$AM$69:$AQ$69)%,\"\")","v":""},{"$f":"IF(AND(AF278=Labels!$B$118,WEEKDAY(AF270,2)<6,AF$272<>\"\"),$J$7*SUMPRODUCT(($AM$77:$AQ$77=MOD(AF270,7))*$AM$69:$AQ$69)%,\"\")","v":""},{"$f":"SUM(B279:AF279)","v":0},"[06]"]
[{"$f":"$A$20","v":"total quotidien"},{"$f":"SUM(B275:B277)","v":0},{"$f":"SUM(C275:C277)","v":0},0,0,0,0,0,0,0,0,0,0,0,0,0,0,0,0,0,0,0,0,0,0,0,0,0,0,0,0,0,null,"TT"]
[{"$f":"$A$21","v":"."},null,null,null,null,null,null,null,null,null,null,null,null,null,null,null,null,null,null,null,null,null,null,null,null,null,null,null,null,null,null,null,null,"R"]
[{"$f":"$A$22","v":"."},null,null,null,null,null,null,null,null,null,null,null,null,null,null,null,null,null,null,null,null,null,null,null,null,null,null,null,null,null,null,null,null,"R"]
[{"$f":"$A$23","v":"transition mois"},{"$f":"IF(WEEKDAY(B270)=1,TEXT(B270-1,\"MMM\"&Labels!B13),\"\")","v":""},null,null,null,null,null,null,null,null,null,null,null,null,null,null,null,null,null,null,null,null,null,null,null,null,null,null,null,null,null,{"$f":"IF(AND(WEEKDAY(AF270)>1,WEEKDAY(AF270)<7),TEXT(DATE($B$5,MONTH(AF270)+1,1),\"MMM\"&Labels!B13),\"\")","v":"juin"},null,"MNT"]
[{"$f":"$A$24","v":"Total hebdomadaire"},{"$f":"IF(WEEKDAY(B270)=7,SUMIF($B206:$AF206,B271,$B215:$AF215)+SUMIF($B271:$AF271,B271,$B280:$AF280)+SUMIF($B336:$AF336,B271,$B345:$AF345),B283)","v":""},{"$f":"IF(WEEKDAY(C270)=7,SUMIF($B206:$AF206,C271,$B215:$AF215)+SUMIF($B271:$AF271,C271,$B280:$AF280)+SUMIF($B336:$AF336,C271,$B345:$AF345),\"\")","v":""},"","","",0,"","","","","","",0,"","","","","","",0,"","","","","","",0,"","","",{"$f":"IF(WEEKDAY(AF270)=7,SUMIF($B206:$AF206,AF271,$B215:$AF215)+SUMIF($B271:$AF271,AF271,$B280:$AF280)+SUMIF($B336:$AF336,AF271,$B345:$AF345),AF283)","v":"juin"},null,"WT"]
[{"$f":"$A$25","v":"Majorations temp. 1)"},{"$f":"IF(B292=\"FALSCH\",\"\",B292)","v":""},{"$f":"IF(C292=\"FALSCH\",\"\",C292)","v":""},"","","","","","","","","","","","","","","","","","","","","","","","","","","","","",{"$f":"SUM(B285:AF285)","v":0},"[07]"]
[{"$f":"$A$26","v":"Majorations temp. 2)"},{"$f":"IF((B275+B277)=0,\"\",SUM(B275,B277))","v":""},{"$f":"IF((C275+C277)=0,\"\",SUM(C275,C277))","v":""},"","","","","","","","","","","","","","","","","","","","","","","","","","","","","",0,"[08]"]
[{"$f":"$A$27","v":"Majorations temp. 3)"},{"$f":"SUM(B288:B291)","v":0},{"$f":"SUM(C288:C291)","v":0},0,0,0,0,0,0,0,0,0,0,0,0,0,0,0,0,0,0,0,0,0,0,0,0,0,0,0,0,0,0,"[09]"]
[{"$f":"$A$28","v":"Dimanche journée"},{"$f":"IF(WEEKDAY(B270)=1,B276,\"\")","v":""},{"$f":"IF(WEEKDAY(C270)=1,C276,\"\")","v":""},"","","","",0,"","","","","","",0,"","","","","","",0,"","","","","","",0,"","","",0,"[09-ST]"]
[{"$f":"$A$29","v":"Dimanche nuit"},{"$f":"IF(WEEKDAY(B270)=1,SUM(B275+B277),\"\")","v":""},{"$f":"IF(WEEKDAY(C270)=1,SUM(C275+C277),\"\")","v":""},"","","","",0,"","","","","","",0,"","","","","","",0,"","","","","","",0,"","","",0,"[09-SN]"]
[{"$f":"$A$30","v":"jf-jomajoration"},{"$f":"IF(B278=Labels!$B$118,B276,\"\")","v":""},{"$f":"IF(C278=Labels!$B$118,C276,\"\")","v":""},{"$f":"IF(D278=Labels!$B$118,D276,\"\")","v":""},{"$f":"IF(E278=Labels!$B$118,E276,\"\")","v":""},{"$f":"IF(F278=Labels!$B$118,F276,\"\")","v":""},{"$f":"IF(G278=Labels!$B$118,G276,\"\")","v":""},{"$f":"IF(H278=Labels!$B$118,H276,\"\")","v":""},{"$f":"IF(I278=Labels!$B$118,I276,\"\")","v":""},{"$f":"IF(J278=Labels!$B$118,J276,\"\")","v":""},{"$f":"IF(K278=Labels!$B$118,K276,\"\")","v":""},{"$f":"IF(L278=Labels!$B$118,L276,\"\")","v":""},{"$f":"IF(M278=Labels!$B$118,M276,\"\")","v":""},{"$f":"IF(N278=Labels!$B$118,N276,\"\")","v":""},{"$f":"IF(O278=Labels!$B$118,O276,\"\")","v":""},{"$f":"IF(P278=Labels!$B$118,P276,\"\")","v":""},{"$f":"IF(Q278=Labels!$B$118,Q276,\"\")","v":""},{"$f":"IF(R278=Labels!$B$118,R276,\"\")","v":""},{"$f":"IF(S278=Labels!$B$118,S276,\"\")","v":""},{"$f":"IF(T278=Labels!$B$118,T276,\"\")","v":""},{"$f":"IF(U278=Labels!$B$118,U276,\"\")","v":""},{"$f":"IF(V278=Labels!$B$118,V276,\"\")","v":""},{"$f":"IF(W278=Labels!$B$118,W276,\"\")","v":""},{"$f":"IF(X278=Labels!$B$118,X276,\"\")","v":""},{"$f":"IF(Y278=Labels!$B$118,Y276,\"\")","v":""},{"$f":"IF(Z278=Labels!$B$118,Z276,\"\")","v":""},{"$f":"IF(AA278=Labels!$B$118,AA276,\"\")","v":""},{"$f":"IF(AB278=Labels!$B$118,AB276,\"\")","v":""},{"$f":"IF(AC278=Labels!$B$118,AC276,\"\")","v":""},{"$f":"IF(AD278=Labels!$B$118,AD276,\"\")","v":""},{"$f":"IF(AE278=Labels!$B$118,AE276,\"\")","v":""},{"$f":"IF(AF278=Labels!$B$118,AF276,\"\")","v":""},0,"[09-FT]"]
[{"$f":"$A$31","v":"jf-numajoration"},{"$f":"IF(B278=Labels!$B$118,SUM(B275,B277),\"\")","v":""},{"$f":"IF(C278=Labels!$B$118,SUM(C275,C277),\"\")","v":""},{"$f":"IF(D278=Labels!$B$118,SUM(D275,D277),\"\")","v":""},{"$f":"IF(E278=Labels!$B$118,SUM(E275,E277),\"\")","v":""},{"$f":"IF(F278=Labels!$B$118,SUM(F275,F277),\"\")","v":""},{"$f":"IF(G278=Labels!$B$118,SUM(G275,G277),\"\")","v":""},{"$f":"IF(H278=Labels!$B$118,SUM(H275,H277),\"\")","v":""},{"$f":"IF(I278=Labels!$B$118,SUM(I275,I277),\"\")","v":""},{"$f":"IF(J278=Labels!$B$118,SUM(J275,J277),\"\")","v":""},{"$f":"IF(K278=Labels!$B$118,SUM(K275,K277),\"\")","v":""},{"$f":"IF(L278=Labels!$B$118,SUM(L275,L277),\"\")","v":""},{"$f":"IF(M278=Labels!$B$118,SUM(M275,M277),\"\")","v":""},{"$f":"IF(N278=Labels!$B$118,SUM(N275,N277),\"\")","v":""},{"$f":"IF(O278=Labels!$B$118,SUM(O275,O277),\"\")","v":""},{"$f":"IF(P278=Labels!$B$118,SUM(P275,P277),\"\")","v":""},{"$f":"IF(Q278=Labels!$B$118,SUM(Q275,Q277),\"\")","v":""},{"$f":"IF(R278=Labels!$B$118,SUM(R275,R277),\"\")","v":""},{"$f":"IF(S278=Labels!$B$118,SUM(S275,S277),\"\")","v":""},{"$f":"IF(T278=Labels!$B$118,SUM(T275,T277),\"\")","v":""},{"$f":"IF(U278=Labels!$B$118,SUM(U275,U277),\"\")","v":""},{"$f":"IF(V278=Labels!$B$118,SUM(V275,V277),\"\")","v":""},{"$f":"IF(W278=Labels!$B$118,SUM(W275,W277),\"\")","v":""},{"$f":"IF(X278=Labels!$B$118,SUM(X275,X277),\"\")","v":""},{"$f":"IF(Y278=Labels!$B$118,SUM(Y275,Y277),\"\")","v":""},{"$f":"IF(Z278=Labels!$B$118,SUM(Z275,Z277),\"\")","v":""},{"$f":"IF(AA278=Labels!$B$118,SUM(AA275,AA277),\"\")","v":""},{"$f":"IF(AB278=Labels!$B$118,SUM(AB275,AB277),\"\")","v":""},{"$f":"IF(AC278=Labels!$B$118,SUM(AC275,AC277),\"\")","v":""},{"$f":"IF(AD278=Labels!$B$118,SUM(AD275,AD277),\"\")","v":""},{"$f":"IF(AE278=Labels!$B$118,SUM(AE275,AE277),\"\")","v":""},{"$f":"IF(AF278=Labels!$B$118,SUM(AF275,AF277),\"\")","v":""},0,"[09-FN]"]
[{"$f":"$A$32","v":"majoration caché (total hebd.)"},{"$f":"IF($B267>=80,IF(OR(ISTEXT(B284),B284=\"\",B284<$B$7),\"\",ROUND(((B284-$B$7)*25%)/25,4)*25),IF(B280>($B$7/5),ROUND(((B280-($B$7/5))*25%)/25,4)*25,\"\"))","v":""},{"$f":"IF($B267>=80,IF(OR(ISTEXT(C284),C284=\"\",C284<$B$7),\"\",ROUND(((C284-$B$7)*25%)/25,4)*25),IF(C280>($B$7/5),ROUND(((C280-($B$7/5))*25%)/25,4)*25,\"\"))","v":""},"","","","","","","","","","","","","","","","","","","","","","","","","","","","","",{"$f":"AG276","v":0},"[03]"]
[null,{"$f":"$B$33","v":"1)  25% majoration temporelle pour depassement les heures maximales"},null,null,null,null,null,null,null,null,null,{"$f":"$L$33","v":"2) 100% majoration temporelle pour travail de nuit"},null,null,null,null,null,null,null,{"$f":"$T$33","v":"Saisie des heures payées l'année passée"},null,null,null,null,null,null,null,null,null,null,null,null,{"$f":"SUM(AG275+AG277)","v":0},"[4-5]"]
[null,{"$f":"$B$34","v":"3) 100% majoration temporelle pour travail du dimanche et jour férié"},null,null,null,null,null,null,null,null,null,null,null,null,null,null,null,null,null,{"$f":"$T$34","v":"Saisie des heures payées exercice en cours (heures supplémentaires)"},null,null,null,null,null,null,null,null,null,null,null,null,{"$f":"SUM(AG275:AG277)","v":0},"[3-5]"]
[{"$f":"$A$35","v":"Notes"},null,null,null,null,null,null,null,null,null,null,null,null,null,null,null,null,null,null,null,null,null,null,null,null,null,null,null,null,null,null,null,{"$f":"SUM(AG273:AG287)","v":0},"[10]"]
[null,null,null,null,null,null,null,null,null,null,null,null,null,null,null,null,null,null,null,null,null,null,null,null,null,null,null,null,null,null,null,null,{"$f":"AG272","v":184},"[00]"]
[{"$f":"IF(AG929=0,\"\",\"effektives Pensum:  \"&ROUND(COUNT(B272:AF272)/(AG929+COUNT(B272:AF272))%*B267%*20,0)/20&\" %\")","v":""},null,null,null,null,null,null,null,null,null,null,null,null,null,null,null,null,null,null,null,null,null,null,null,null,null,null,null,null,null,null,null,{"$f":"SUM(AG295-AG296)","v":-184},"[11]"]
[]
[{"$f":"Labels!$B$103","v":"Résumé"},null,null,null,null,null,{"$f":"Labels!$B$77","v":"Jan"},null,{"$f":"Labels!$B$78","v":"Fév"},null,{"$f":"Labels!$B$79","v":"Mar"},null,{"$f":"Labels!$B$80","v":"Avr"},null,{"$f":"Labels!$B$81","v":"Mai"},null,{"$f":"Labels!$B$82","v":"Jun"},null,{"$f":"Labels!$B$83","v":"Jul"},null,{"$f":"Labels!$B$84","v":"Aoû"},null,{"$f":"Labels!$B$85","v":"Sep"},null,{"$f":"Labels!$B$86","v":"Oct"},null,{"$f":"Labels!$B$87","v":"Nov"},null,{"$f":"Labels!$B$88","v":"Déc"},null,{"$f":"Labels!$B$101","v":"Année"}]
[{"$f":"Labels!$B$20","v":"Emploi %"},null,null,null,null,null,{"$f":"IF($B$4=0,0,$B$4)","v":100},null,{"$f":"IF($B$72=0,0,$B$72)","v":100},null,{"$f":"IF($B$137=0,0,$B$137)","v":100},null,{"$f":"IF($B$202=0,0,$B$202)","v":100},null,{"$f":"IF($B$267=0,0,$B$267)","v":100},null,{"$f":"IF($B$332=0,0,$B$332)","v":100},null,{"$f":"IF($B$397=0,0,$B$397)","v":100},null,{"$f":"IF($B$462=0,0,$B$462)","v":100},null,{"$f":"IF($B$527=0,0,$B$527)","v":100},null,{"$f":"IF($B$592=0,0,$B$592)","v":100},null,{"$f":"IF($B$657=0,0,$B$657)","v":100},null,{"$f":"IF($B$722=0,0,$B$722)","v":100}]
[{"$f":"Labels!$B$104","v":"Heures théoriques selon CCT"},null,null,null,null,null,{"$f":"IF($AG$36=0,0,$AG$36)","v":176},null,{"$f":"IF($AG$101=0,0,$AG$101)","v":160},null,{"$f":"IF($AG$142=0,0,$AG$142)","v":184},null,{"$f":"IF($AG$231=0,0,$AG$231)","v":160},null,{"$f":"IF($AG$296=0,0,$AG$296)","v":184},null,{"$f":"IF($AG$361=0,0,$AG$361)","v":176},null,{"$f":"IF($AG$426=0,0,$AG$426)","v":168},null,{"$f":"IF($AG$491=0,0,$AG$491)","v":184},null,{"$f":"IF($AG$556=0,0,$AG$556)","v":168},null,{"$f":"IF($AG$621=0,0,$AG$621)","v":176},null,{"$f":"IF($AG$686=0,0,$AG$686)","v":176},null,{"$f":"IF($AG$751=0,0,$AG$751)","v":168},null,{"$f":"SUM(G301:AD301)","v":2080}]
[{"$f":"Labels!$B$105","v":"Total heures productives"},{"$f":"Labels!$B$106","v":"06.00 - 20.00 h"},null,null,null,null,{"$f":"IF($AG$32=0,0,$AG$32)","v":0},null,{"$f":"IF($AG$96=0,0,$AG$96)","v":0},null,{"$f":"IF($AG$161=0,0,$AG$161)","v":0},null,{"$f":"IF($AG$226=0,0,$AG$226)","v":0},null,{"$f":"IF($AG$291=0,0,$AG$291)","v":0},null,{"$f":"IF($AG$356=0,0,$AG$356)","v":0},null,{"$f":"IF($AG$421=0,0,$AG$421)","v":0},null,{"$f":"IF($AG$486=0,0,$AG$486)","v":0},null,{"$f":"IF($AG$551=0,0,$AG$551)","v":0},null,{"$f":"IF($AG$616=0,0,$AG$616)","v":0},null,{"$f":"IF($AG$681=0,0,$AG$681)","v":0},null,{"$f":"IF($AG$746=0,0,$AG$746)","v":0},null,{"$f":"SUM(G302:AD302)","v":0}]
[null,{"$f":"Labels!$B$107","v":"nuit, dimanche et jour férié"},null,null,null,null,{"$f":"IF($AG$33=0,0,$AG$33)","v":0},null,{"$f":"IF($AG$97=0,0,$AG$97)","v":0},null,{"$f":"IF($AG$162=0,0,$AG$162)","v":0},null,{"$f":"IF($AG$227=0,0,$AG$227)","v":0},null,{"$f":"IF($AG$292=0,0,$AG$292)","v":0},null,{"$f":"IF($AG$357=0,0,$AG$357)","v":0},null,{"$f":"IF($AG$422=0,0,$AG$422)","v":0},null,{"$f":"IF($AG$487=0,0,$AG$487)","v":0},null,{"$f":"IF($AG$552=0,0,$AG$552)","v":0},null,{"$f":"IF($AG$617=0,0,$AG$617)","v":0},null,{"$f":"IF($AG$682=0,0,$AG$682)","v":0},null,{"$f":"IF($AG$747=0,0,$AG$747)","v":0},null,{"$f":"SUM(G303:AD303)","v":0}]
[{"$f":"Labels!$B$108","v":"Majorations temporelles"},{"$f":"Labels!$B$109","v":"depassement des heures maximales"},null,null,null,null,{"$f":"IF($AG$25=0,0,$AG$25)","v":0},null,{"$f":"IF($AG$89=0,0,$AG$89)","v":0},null,{"$f":"IF($AG$154=0,0,$AG$154)","v":0},null,{"$f":"IF($AG$219=0,0,$AG$219)","v":0},null,{"$f":"IF($AG$284=0,0,$AG$284)","v":0},null,{"$f":"IF($AG$349=0,0,$AG$349)","v":0},null,{"$f":"IF($AG$414=0,0,$AG$414)","v":0},null,{"$f":"IF($AG$479=0,0,$AG$479)","v":0},null,{"$f":"IF($AG$544=0,0,$AG$544)","v":0},null,{"$f":"IF($AG$609=0,0,$AG$609)","v":0},null,{"$f":"IF($AG$674=0,0,$AG$674)","v":0},null,{"$f":"IF($AG$739=0,0,$AG$739)","v":0},null,{"$f":"SUM(G304:AD304)","v":0}]
[null,{"$f":"Labels!$B$110","v":"nuit, dimanche et jour férié"},null,null,null,null,{"$f":"IF($AJ$23=0,0,$AJ$23)","v":0},null,{"$f":"IF($AK$23=0,0,$AK$23)","v":0},null,{"$f":"IF($AL$23=0,0,$AL$23)","v":0},null,{"$f":"IF($AM$23=0,0,$AM$23)","v":0},null,{"$f":"IF($AN$23=0,0,$AN$23)","v":0},null,{"$f":"IF($AO$23=0,0,$AO$23)","v":0},null,{"$f":"IF($AP$23=0,0,$AP$23)","v":0},null,{"$f":"IF($AQ$23=0,0,$AQ$23)","v":0},null,{"$f":"IF($AR$23=0,0,$AR$23)","v":0},null,{"$f":"IF($AS$23=0,0,$AS$23)","v":0},null,{"$f":"IF($AT$23=0,0,$AT$23)","v":0},null,{"$f":"IF($AU$23=0,0,$AU$23)","v":0},null,{"$f":"SUM(G305:AD305)","v":0}]
[{"$f":"Labels!$B$111","v":"Heures inproductives"}]
[{"$f":"Labels!$B$112","v":"   Absences art. 11 CCT"},null,null,null,null,{"$f":"Labels!$B$113","v":"ab"},{"$f":"IF($AJ$3=0,0,$AJ$3)","v":0},null,{"$f":"IF($AK$3=0,0,$AK$3)","v":0},null,{"$f":"IF($AL$3=0,0,$AL$3)","v":0},null,{"$f":"IF($AM$3=0,0,$AM$3)","v":0},null,{"$f":"IF($AN$3=0,0,$AN$3)","v":0},null,{"$f":"IF($AO$3=0,0,$AO$3)","v":0},null,{"$f":"IF($AP$3=0,0,$AP$3)","v":0},null,{"$f":"IF($AQ$3=0,0,$AQ$3)","v":0},null,{"$f":"IF($AR$3=0,0,$AR$3)","v":0},null,{"$f":"IF($AS$3=0,0,$AS$3)","v":0},null,{"$f":"IF(AT$3=0,0,$AT$3)","v":0},null,{"$f":"IF($AU$3=0,0,$AU$3)","v":0},null,{"$f":"IF($AV$3=0,0,$AV$3)","v":0}]
[{"$f":"Labels!$B$114","v":"   Vacances art. 12.1 CCT"},null,null,null,null,{"$f":"Labels!$B$115","v":"va"},{"$f":"IF($AJ$4=0,0,$AJ$4)","v":0},null,{"$f":"IF($AK$4=0,0,$AK$4)","v":0},null,{"$f":"IF($AL$4=0,0,$AL$4)","v":0},null,{"$f":"IF($AM$4=0,0,$AM$4)","v":0},null,{"$f":"IF($AN$4=0,0,$AN$4)","v":0},null,{"$f":"IF($AO$4=0,0,$AO$4)","v":0},null,{"$f":"IF($AP$4=0,0,$AP$4)","v":0},null,{"$f":"IF($AQ$4=0,0,$AQ$4)","v":0},null,{"$f":"IF($AR$4=0,0,$AR$4)","v":0},null,{"$f":"IF($AS$4=0,0,$AS$4)","v":0},null,{"$f":"IF($AT$4=0,0,$AT$4)","v":0},null,{"$f":"IF($AU$4=0,0,$AU$4)","v":0},null,{"$f":"IF($AV$4=0,0,$AV$4)","v":0}]
[{"$f":"Labels!$B$181","v":"   vacances non payées"},null,null,null,null,{"$f":"Labels!$B$182","v":"vn"},{"$f":"IF($AJ$13=0,0,$AJ$13)","v":0},null,{"$f":"IF($AK$13=0,0,$AK$13)","v":0},null,{"$f":"IF($AL$13=0,0,$AL$13)","v":0},null,{"$f":"IF($AM$13=0,0,$AM$13)","v":0},null,{"$f":"IF($AN$13=0,0,$AN$13)","v":0},null,{"$f":"IF($AO$13=0,0,$AO$13)","v":0},null,{"$f":"IF($AP$13=0,0,$AP$13)","v":0},null,{"$f":"IF($AQ$13=0,0,$AQ$13)","v":0},null,{"$f":"IF($AR$13=0,0,$AR$13)","v":0},null,{"$f":"IF($AS$13=0,0,$AS$13)","v":0},null,{"$f":"IF($AT$13=0,0,$AT$13)","v":0},null,{"$f":"IF($AU$13=0,0,$AU$13)","v":0},null,{"$f":"IF($AV$13=0,0,$AV$13)","v":0}]
[{"$f":"Labels!$B$116","v":"   Jours fériés art. 12.2 CCT"},null,{"$f":"IF($AJ$20=\"\",\"\",$AJ$20)","v":""},null,null,{"$f":"Labels!$B$118","v":"jf"},{"$f":"IF($AJ$18=0,0,$AJ$18)","v":0},null,{"$f":"IF($AK$18=0,0,$AK$18)","v":0},null,{"$f":"IF($AL$18=0,0,$AL$18)","v":0},null,{"$f":"IF($AM$18=0,0,$AM$18)","v":0},null,{"$f":"IF($AN$18=0,0,$AN$18)","v":0},null,{"$f":"IF($AO$18=0,0,$AO$18)","v":0},null,{"$f":"IF($AP$18=0,0,$AP$18)","v":0},null,{"$f":"IF($AQ$18=0,0,$AQ$18)","v":0},null,{"$f":"IF($AR$18=0,0,$AR$18)","v":0},null,{"$f":"IF($AS$18=0,0,$AS$18)","v":0},null,{"$f":"IF($AT$18=0,0,$AT$18)","v":0},null,{"$f":"IF($AU$18=0,0,$AU$18)","v":0},null,{"$f":"IF($AV$18=0,0,$AV$18)","v":0}]
[{"$f":"Labels!$B$119","v":"   Maladie art. 13 CCT"},null,null,null,null,{"$f":"Labels!$B$120","v":"ma"},{"$f":"IF($AJ$5=0,0,$AJ$5)","v":0},null,{"$f":"IF($AK$5=0,0,$AK$5)","v":0},null,{"$f":"IF($AL$5=0,0,$AL$5)","v":0},null,{"$f":"IF($AM$5=0,0,$AM$5)","v":0},null,{"$f":"IF($AN$5=0,0,$AN$5)","v":0},null,{"$f":"IF($AO$5=0,0,$AO$5)","v":0},null,{"$f":"IF($AP$5=0,0,$AP$5)","v":0},null,{"$f":"IF($AQ$5=0,0,$AQ$5)","v":0},null,{"$f":"IF($AR$5=0,0,$AR$5)","v":0},null,{"$f":"IF($AS$5=0,0,$AS$5)","v":0},null,{"$f":"IF($AT$5=0,0,$AT$5)","v":0},null,{"$f":"IF($AU$5=0,0,$AU$5)","v":0},null,{"$f":"IF($AV$5=0,0,$AV$5)","v":0}]
[{"$f":"Labels!$B$184","v":"non payeé"},null,null,null,null,null,{"$f":"IF(AJ$16=0,0,AJ$16)","v":0},null,{"$f":"IF($AK$16=0,0,$AK$16)","v":0},null,{"$f":"IF($AL$16=0,0,$AL$16)","v":0},null,{"$f":"IF($AM$16=0,0,$AM$16)","v":0},null,{"$f":"IF($AN$16=0,0,$AN$16)","v":0},null,{"$f":"IF($AO$16=0,0,$AO$16)","v":0},null,{"$f":"IF($AP$16=0,0,$AP$16)","v":0},null,{"$f":"IF($AQ$16=0,0,$AQ$16)","v":0},null,{"$f":"IF($AR$16=0,0,$AR$16)","v":0},null,{"$f":"IF($AS$16=0,0,$AS$16)","v":0},null,{"$f":"IF($AT$16=0,0,$AT$16)","v":0},null,{"$f":"IF($AU$16=0,0,$AU$16)","v":0},null,{"$f":"IF($AV$16=0,0,$AV$16)","v":0}]
[{"$f":"Labels!$B$121","v":"   Accident art. 14 CCT"},null,null,null,null,{"$f":"Labels!$B$122","v":"ac"},{"$f":"IF($AJ$6=0,0,$AJ$6)","v":0},null,{"$f":"IF($AK$6=0,0,$AK$6)","v":0},null,{"$f":"IF($AL$6=0,0,$AL$6)","v":0},null,{"$f":"IF($AM$6=0,0,$AM$6)","v":0},null,{"$f":"IF($AN$6=0,0,$AN$6)","v":0},null,{"$f":"IF($AO$6=0,0,$AO$6)","v":0},null,{"$f":"IF($AP$6=0,0,$AP$6)","v":0},null,{"$f":"IF($AQ$6=0,0,$AQ$6)","v":0},null,{"$f":"IF($AR$6=0,0,$AR$6)","v":0},null,{"$f":"IF($AS$6=0,0,$AS$6)","v":0},null,{"$f":"IF($AT$6=0,0,$AT$6)","v":0},null,{"$f":"IF($AU$6=0,0,$AU$6)","v":0},null,{"$f":"IF($AV$6=0,0,$AV$6)","v":0}]
[{"$f":"Labels!$B$123","v":"   Grossesse/Maternité art. 15 CCT"},null,null,null,null,{"$f":"Labels!$B$124","v":"gm"},{"$f":"IF($AJ$7=0,0,$AJ$7)","v":0},null,{"$f":"IF($AK$7=0,0,$AK$7)","v":0},null,{"$f":"IF($AL$7=0,0,$AL$7)","v":0},null,{"$f":"IF($AM$7=0,0,$AM$7)","v":0},null,{"$f":"IF($AN$7=0,0,$AN$7)","v":0},null,{"$f":"IF($AO$7=0,0,$AO$7)","v":0},null,{"$f":"IF($AP$7=0,0,$AP$7)","v":0},null,{"$f":"IF($AQ$7=0,0,$AQ$7)","v":0},null,{"$f":"IF($AR$7=0,0,$AR$7)","v":0},null,{"$f":"IF($AS$7=0,0,$AS$7)","v":0},null,{"$f":"IF($AT$7=0,0,$AT$7)","v":0},null,{"$f":"IF($AU$7=0,0,$AU$7)","v":0},null,{"$f":"IF($AV$7=0,0,$AV$7)","v":0}]
[{"$f":"Labels!$B$125","v":"   Militaire/Promotion/Protection civile art. 16 CCT"},null,null,null,null,{"$f":"Labels!$B$126","v":"mi"},{"$f":"IF($AJ$8=0,0,$AJ$8)","v":0},null,{"$f":"IF($AK$8=0,0,$AK$8)","v":0},null,{"$f":"IF($AL$8=0,0,$AL$8)","v":0},null,{"$f":"IF($AM$8=0,0,$AM$8)","v":0},null,{"$f":"IF($AN$8=0,0,$AN$8)","v":0},null,{"$f":"IF($AO$8=0,0,$AO$8)","v":0},null,{"$f":"IF($AP$8=0,0,$AP$8)","v":0},null,{"$f":"IF($AQ$8=0,0,$AQ$8)","v":0},null,{"$f":"IF($AR$8=0,0,$AR$8)","v":0},null,{"$f":"IF($AS$8=0,0,$AS$8)","v":0},null,{"$f":"IF($AT$8=0,0,$AT$8)","v":0},null,{"$f":"IF($AU$8=0,0,$AU$8)","v":0},null,{"$f":"IF($AV$8=0,0,$AV$8)","v":0}]
[{"$f":"Labels!$B$127","v":"   Chômage partiel et perte de travail cause d'intempéries"},null,null,null,null,{"$f":"Labels!$B$128","v":"ch"},{"$f":"IF($AJ$11=0,0,$AJ$11)","v":0},null,{"$f":"IF($AK$11=0,0,$AK$11)","v":0},null,{"$f":"IF($AL$11=0,0,$AL$11)","v":0},null,{"$f":"IF($AM$11=0,0,$AM$11)","v":0},null,{"$f":"IF($AN$11=0,0,$AN$11)","v":0},null,{"$f":"IF($AO$11=0,0,$AO$11)","v":0},null,{"$f":"IF($AP$11=0,0,$AP$11)","v":0},null,{"$f":"IF($AQ$11=0,0,$AQ$11)","v":0},null,{"$f":"IF($AR$11=0,0,$AR$11)","v":0},null,{"$f":"IF($AS$11=0,0,$AS$11)","v":0},null,{"$f":"IF($AT$11=0,0,$AT$11)","v":0},null,{"$f":"IF($AU$11=0,0,$AU$11)","v":0},null,{"$f":"IF($AV$11=0,0,$AV$11)","v":0}]
[{"$f":"Labels!$B$129","v":"   Ecole professionnelle"},null,null,null,null,{"$f":"Labels!$B$130","v":"ep"},{"$f":"IF($AJ$9=0,0,$AJ$9)","v":0},null,{"$f":"IF($AK$9=0,0,$AK$9)","v":0},null,{"$f":"IF($AL$9=0,0,$AL$9)","v":0},null,{"$f":"IF($AM$9=0,0,$AM$9)","v":0},null,{"$f":"IF($AN$9=0,0,$AN$9)","v":0},null,{"$f":"IF($AO$9=0,0,$AO$9)","v":0},null,{"$f":"IF($AP$9=0,0,$AP$9)","v":0},null,{"$f":"IF($AQ$9=0,0,$AQ$9)","v":0},null,{"$f":"IF($AR$9=0,0,$AR$9)","v":0},null,{"$f":"IF($AS$9=0,0,$AS$9)","v":0},null,{"$f":"IF($AT$9=0,0,$AT$9)","v":0},null,{"$f":"IF($AU$9=0,0,$AU$9)","v":0},null,{"$f":"IF($AV$9=0,0,$AV$9)","v":0}]
[{"$f":"Labels!$B$131","v":"   Cours"},null,null,null,null,{"$f":"Labels!$B$132","v":"co"},{"$f":"IF($AJ$10=0,0,$AJ$10)","v":0},null,{"$f":"IF($AK$10=0,0,$AK$10)","v":0},null,{"$f":"IF($AL$10=0,0,$AL$10)","v":0},null,{"$f":"IF($AM$10=0,0,$AM$10)","v":0},null,{"$f":"IF($AN$10=0,0,$AN$10)","v":0},null,{"$f":"IF($AO$10=0,0,$AO$10)","v":0},null,{"$f":"IF($AP$10=0,0,$AP$10)","v":0},null,{"$f":"IF($AQ$10=0,0,$AQ$10)","v":0},null,{"$f":"IF($AR$10=0,0,$AR$10)","v":0},null,{"$f":"IF($AS$10=0,0,$AS$10)","v":0},null,{"$f":"IF($AT$10=0,0,$AT$10)","v":0},null,{"$f":"IF($AU$10=0,0,$AU$10)","v":0},null,{"$f":"IF($AV$10=0,0,$AV$10)","v":0}]
[{"$f":"Labels!$B$133","v":"Heures de compensation"},{"$f":"Labels!$B$134","v":"de l'année passée"},null,null,null,{"$f":"Labels!$B$135","v":"cp"},{"$f":"IF($AJ$12=0,0,$AJ$12)","v":0},null,{"$f":"IF($AK$12=0,0,$AK$12)","v":0},null,{"$f":"IF($AL$12=0,0,$AL$12)","v":0},null,{"$f":"IF($AM$12=0,0,$AM$12)","v":0},null,{"$f":"IF($AN$12=0,0,$AN$12)","v":0},null,{"$f":"IF($AO$12=0,0,$AO$12)","v":0},null,{"$f":"IF($AP$12=0,0,$AP$12)","v":0},null,{"$f":"IF($AQ$12=0,0,$AQ$12)","v":0},null,{"$f":"IF($AR$12=0,0,$AR$12)","v":0},null,null,null,null,null,null,null,{"$f":"IF($AV$12=0,0,$AV$12)","v":0}]
[null,{"$f":"Labels!$B$136","v":"de l'année en cours (contrôle)"},null,null,null,{"$f":"Labels!$B$137","v":"cc"},{"$f":"IF($AJ$15=0,0,$AJ$15)","v":0},null,{"$f":"IF($AK$15=0,0,$AK$15)","v":0},null,{"$f":"IF($AL$15=0,0,$AL$15)","v":0},null,{"$f":"IF($AM$15=0,0,$AM$15)","v":0},null,{"$f":"IF($AN$15=0,0,$AN$15)","v":0},null,{"$f":"IF($AO$15=0,0,$AO$15)","v":0},null,{"$f":"IF($AP$15=0,0,$AP$15)","v":0},null,{"$f":"IF($AQ$15=0,0,$AQ$15)","v":0},null,{"$f":"IF($AR$15=0,0,$AR$15)","v":0},null,{"$f":"IF($AS$15=0,0,$AS$15)","v":0},null,{"$f":"IF($AT$15=0,0,$AT$15)","v":0},null,{"$f":"IF($AU$15=0,0,$AU$15)","v":0},null,{"$f":"IF($AV$15=0,0,$AV$15)","v":0}]
[{"$f":"Labels!$B$138","v":"Paiement des heures"},{"$f":"Labels!$B$139","v":"de l'année passée"},null,null,null,null,{"$f":"IF($AJ$21=0,0,$AJ$21)","v":0},null,{"$f":"IF($AK$21=0,0,$AK$21)","v":0},null,{"$f":"IF($AL$21=0,0,$AL$21)","v":0},null,{"$f":"IF($AM$21=0,0,$AM$21)","v":0},null,{"$f":"IF($AN$21=0,0,$AN$21)","v":0},null,{"$f":"IF($AO$21=0,0,$AO$21)","v":0},null,{"$f":"IF($AP$21=0,0,$AP$21)","v":0},null,{"$f":"IF($AQ$21=0,0,$AQ$21)","v":0},null,{"$f":"IF($AR$21=0,0,$AR$21)","v":0},null,null,null,null,null,null,null,{"$f":"IF($AV$21=0,0,$AV$21)","v":0}]
[{"$f":"Labels!$B$140","v":"Différence en heures"},{"$f":"Labels!$B$141","v":"après compensation et paiement"},null,null,null,null,{"$f":"IF(ROUND($P$4,3)=0,0,$P$4-G319-G321)","v":0},null,{"$f":"IF(ROUND(G322,3)=0,0,G322-(SUM(I319+I321)))","v":0},null,{"$f":"IF(ROUND(I322,3)=0,0,I322-K321-K319)","v":0},null,{"$f":"IF(ROUND(K322,3)=0,0,K322-(SUM(M321+M319)))","v":0},null,{"$f":"IF(ROUND(M322,3)=0,0,M322-(SUM(O321+O319)))","v":0},null,{"$f":"IF(ROUND(O322,3)=0,0,O322-(SUM(Q321+Q319)))","v":0},null,{"$f":"IF(ROUND(Q322,3)=0,0,Q322-(SUM(S321+S319)))","v":0},null,{"$f":"IF(ROUND(S322,3)=0,0,S322-(SUM(U321+U319)))","v":0},null,{"$f":"IF(ROUND(U322,3)=0,0,U322-(SUM(W321+W319)))","v":0},null,{"$f":"IF($W$62<0.1,\"\",AY304)","v":""}]
[{"$f":"Labels!$B$138","v":"Paiement des heures"},{"$f":"Labels!$B$142","v":"de l'année en cours"},null,null,null,null,{"$f":"IF($AJ$22=0,0,$AJ$22)","v":0},null,{"$f":"IF($AK$22=0,0,$AK$22)","v":0},null,{"$f":"IF($AL$22=0,0,$AL$22)","v":0},null,{"$f":"IF($AM$22=0,0,$AM$22)","v":0},null,{"$f":"IF($AN$22=0,0,$AN$22)","v":0},null,{"$f":"IF($AO$22=0,0,$AO$22)","v":0},null,{"$f":"IF($AP$22=0,0,$AP$22)","v":0},null,{"$f":"IF($AQ$22=0,0,$AQ$22)","v":0},null,{"$f":"IF($AR$22=0,0,$AR$22)","v":0},null,{"$f":"IF($AS$22=0,0,$AS$22)","v":0},null,{"$f":"IF($AT$22=0,0,$AT$22)","v":0},null,{"$f":"IF($AU$22=0,0,$AU$22)","v":0},null,{"$f":"IF($AV$22=0,0,$AV$22)","v":0}]
[{"$f":"Labels!$B$143","v":"Heures manquantes"},{"$f":"Labels!$B$144","v":"de l'année en cours (contrôle)"},null,null,null,{"$f":"Labels!$B$145","v":"hm"},{"$f":"IF($AJ$14=0,0,$AJ$14)","v":0},null,{"$f":"IF($AK$14=0,0,$AK$14)","v":0},null,{"$f":"IF($AL$14=0,0,$AL$14)","v":0},null,{"$f":"IF($AM$14=0,0,$AM$14)","v":0},null,{"$f":"IF($AN$14=0,0,$AN$14)","v":0},null,{"$f":"IF($AO$14=0,0,$AO$14)","v":0},null,{"$f":"IF($AP$14=0,0,$AP$14)","v":0},null,{"$f":"IF($AQ$14=0,0,$AQ$14)","v":0},null,{"$f":"IF($AR$14=0,0,$AR$14)","v":0},null,{"$f":"IF($AS$14=0,0,$AS$14)","v":0},null,{"$f":"IF($AT$14=0,0,$AT$14)","v":0},null,{"$f":"IF($AU$14=0,0,$AU$14)","v":0},null,{"$f":"IF($AV$14=0,0,$AV$14)","v":0}]
[{"$f":"Labels!$B$146","v":"Total (majorations inclus)"},{"$f":"Labels!$B$147","v":"heures productives et inproductives"},null,null,null,null,{"$f":"IF($AG$35=0,0,$AG$35)","v":0},null,{"$f":"IF($AG$100=0,0,$AG$100)","v":0},null,{"$f":"IF($AG$165=0,0,$AG$165)","v":0},null,{"$f":"IF($AG$230=0,0,$AG$230)","v":0},null,{"$f":"IF($AG$295=0,0,$AG$295)","v":0},null,{"$f":"IF($AG$360=0,0,$AG$360)","v":0},null,{"$f":"IF($AG$425=0,0,$AG$425)","v":0},null,{"$f":"IF($AG$490=0,0,$AG$490)","v":0},null,{"$f":"IF($AG$555=0,0,$AG$555)","v":0},null,{"$f":"IF($AG$620=0,0,$AG$620)","v":0},null,{"$f":"IF($AG$685=0,0,$AG$685)","v":0},null,{"$f":"IF($AG$750=0,0,$AG$750)","v":0},null,{"$f":"SUM($G$65:$AD$65)","v":0}]
[{"$f":"Labels!$B$148","v":"Comparaison des heures"},{"$f":"Labels!$B$149","v":"aux heures théorique CCT (heures \nmanquantes de l'année passée incl.)"},null,null,null,null,{"$f":"IF($AG$37=0,0,$AG$37)-$AE$34+$P$5","v":-176},null,{"$f":"IF($AG$102=0,0,$AG$102)-$AE$99","v":-160},null,{"$f":"IF($AG$167=0,0,$AG$167)-$AE$164","v":-184},null,{"$f":"IF($AG$232=0,0,$AG$232)-$AE$229","v":-160},null,{"$f":"IF($AG$297=0,0,$AG$297)-$AE$294","v":-184},null,{"$f":"IF($AG$362=0,0,$AG$362)-$AE$359","v":-176},null,{"$f":"IF($AG$427=0,0,$AG$427)-$AE$424","v":-168},null,{"$f":"IF($AG$492=0,0,$AG$492)-$AE$489","v":-184},null,{"$f":"IF($AG$557=0,0,$AG$557)-$AE$554","v":-168},null,{"$f":"IF($AG$622=0,0,$AG$622)-$AE$619","v":-176},null,{"$f":"IF($AG$687=0,0,$AG$687)-$AE$684","v":-176},null,{"$f":"IF($AG$752=0,0,$AG$752)-$AE$749","v":-168},null,{"$f":"SUM($G$66:$AD$66)","v":-2080}]
[null,{"$f":"Labels!$B$151","v":"aux heures théorique (cumulées)"},null,null,null,null,{"$f":"IF(G300=0,0,$G$66)","v":-176},null,{"$f":"IF(I300=0,0,SUM($G$66:$J$66))","v":-336},null,{"$f":"IF(K300=0,0,SUM($G$66:$L$66))","v":-520},null,{"$f":"IF(M300=0,0,SUM($G$66:$N$66))","v":-680},null,{"$f":"IF(O300=0,0,SUM($G$66:$P$66))","v":-864},null,{"$f":"IF(Q300=0,0,SUM($G$66:$R$66))","v":-1040},null,{"$f":"IF(S300=0,0,SUM($G$66:$T$66))","v":-1208},null,{"$f":"IF(U300=0,0,SUM($G$66:$V$66))","v":-1392},null,{"$f":"IF(W300=0,0,SUM($G$66:$X$66))","v":-1560},null,{"$f":"IF(Y300=0,0,SUM($G$66:$Z$66))","v":-1736},null,{"$f":"IF(AA300=0,0,SUM($G$66:$AB$66))","v":-1912},null,{"$f":"IF(AC300=0,0,SUM($G$66:$AD$66))","v":-2080}]
[{"$f":"Labels!$B$153","v":"Vacances (contrôle)"},{"$f":"Labels!$B$154","v":"Vacances année passée"},null,null,null,null,{"$f":"IF($AA$4=0,0,$AA$4)","v":0},null,{"$f":"Labels!$B$155","v":"Vacances selon \nart 12.1 CCT"},null,null,null,{"$f":"IF($AA$5=0,0,$AA$5)","v":0},null,{"$f":"Labels!$B$156","v":"Total des vacances"},null,null,null,{"$f":"SUM(G328+M328)","v":0},null,{"$f":"Labels!$B$157","v":"Vacances prises"},null,null,null,{"$f":"IF($AV$4=0,0,$AV$4)","v":0},null,{"$f":"Labels!$B$158","v":"Vacances restantes"},null,null,null,{"$f":"IF(S328=0,0,S328-Y328)","v":0}]
[]
[]
[{"$f":"$A$3","v":"Nom/Prénom"},{"$f":"IF($B$3=\"\",\"\",$B$3)","v":"Modèle Pierre"},null,null,null,null,null,null,null,null,null,null,null,null,null,null,null,null,null,null,null,null,null,null,null,null,null,null,null,null,null,{"$f":"AF3","v":0}]
[{"$f":"$A$4","v":"Emploi %"},{"$f":"$AL$53","v":100},null,{"$f":"Labels!B94","v":"en juin"}]
[{"$f":"$A$5","v":"Solde année en cours"},null,null,{"$f":"IF($AE$66=0,0,$AE$66)","v":-2080}]
[{"$f":"TEXT(DATE(YEAR(AP29),MONTH(AP29)+5,1),\"MMMM\"&Labels!B13)","v":"juin"},{"$f":"$B$9","v":"Solde mois + / -"},null,null,null,{"$f":"(AG336-(SUM(AG337:AG351)-AE359))*-1","v":176},null,null,null,null,{"$f":"$K$9","v":" = "},{"$f":"$L$9","v":"Les cases marquées en jaune doivent être remplies (les autres seront calculées automatiquement)"},null,null,null,null,null,null,null,null,null,null,null,null,null,null,null,null,null,null,null,null,{"$f":"COUNT(B337:AF337)&\" \"&Labels!$B$63","v":"22 Jours"}]
[{"$f":"$A$10","v":"Jour"},{"$f":"AF270+1","v":"2023-06-01"},{"$f":"B335+1","v":"2023-06-02"},{"$f":"C335+1","v":"2023-06-03"},"2023-06-04","2023-06-05","2023-06-06","2023-06-07","2023-06-08","2023-06-09","2023-06-10","2023-06-11","2023-06-12","2023-06-13","2023-06-14","2023-06-15","2023-06-16","2023-06-17","2023-06-18","2023-06-19","2023-06-20","2023-06-21","2023-06-22","2023-06-23","2023-06-24","2023-06-25","2023-06-26","2023-06-27","2023-06-28","2023-06-29","2023-06-30"]
[{"$f":"$A$11","v":"semaine civile"},{"$f":"IF(B335=\"\",\"\",TRUNC((B335-DATE(YEAR(B335+3-MOD(B335-2,7)),1,MOD(B335-2,7)-9))/7))","v":22},22,22,22,23,23,23,23,23,23,23,24,24,24,24,24,24,24,25,25,25,25,25,25,25,26,26,26,26,26,"",null,"Woche"]
[{"$f":"$A$12","v":"Théorique sel. CCT"},{"$f":"IF(AND(MOD(B335,7)>=2,SUMPRODUCT(($AM$60:$AQ$60=MOD(B335,7))*$AM$53:$AQ$53),B954=\"\"),$J$7*SUMPRODUCT(($AM$77:$AQ$77=MOD(B335,7))*$AM$70:$AQ$70)%,\"\")","v":8},{"$f":"IF(AND(MOD(C335,7)>=2,SUMPRODUCT(($AM$60:$AQ$60=MOD(C335,7))*$AM$53:$AQ$53),C954=\"\"),$J$7*SUMPRODUCT(($AM$77:$AQ$77=MOD(C335,7))*$AM$70:$AQ$70)%,\"\")","v":8},{"$f":"IF(AND(MOD(D335,7)>=2,SUMPRODUCT(($AM$60:$AQ$60=MOD(D335,7))*$AM$53:$AQ$53),D954=\"\"),$J$7*SUMPRODUCT(($AM$77:$AQ$77=MOD(D335,7))*$AM$70:$AQ$70)%,\"\")","v":""},{"$f":"IF(AND(MOD(E335,7)>=2,SUMPRODUCT(($AM$60:$AQ$60=MOD(E335,7))*$AM$53:$AQ$53),E954=\"\"),$J$7*SUMPRODUCT(($AM$77:$AQ$77=MOD(E335,7))*$AM$70:$AQ$70)%,\"\")","v":""},{"$f":"IF(AND(MOD(F335,7)>=2,SUMPRODUCT(($AM$60:$AQ$60=MOD(F335,7))*$AM$53:$AQ$53),F954=\"\"),$J$7*SUMPRODUCT(($AM$77:$AQ$77=MOD(F335,7))*$AM$70:$AQ$70)%,\"\")","v":8},{"$f":"IF(AND(MOD(G335,7)>=2,SUMPRODUCT(($AM$60:$AQ$60=MOD(G335,7))*$AM$53:$AQ$53),G954=\"\"),$J$7*SUMPRODUCT(($AM$77:$AQ$77=MOD(G335,7))*$AM$70:$AQ$70)%,\"\")","v":8},{"$f":"IF(AND(MOD(H335,7)>=2,SUMPRODUCT(($AM$60:$AQ$60=MOD(H335,7))*$AM$53:$AQ$53),H954=\"\"),$J$7*SUMPRODUCT(($AM$77:$AQ$77=MOD(H335,7))*$AM$70:$AQ$70)%,\"\")","v":8},{"$f":"IF(AND(MOD(I335,7)>=2,SUMPRODUCT(($AM$60:$AQ$60=MOD(I335,7))*$AM$53:$AQ$53),I954=\"\"),$J$7*SUMPRODUCT(($AM$77:$AQ$77=MOD(I335,7))*$AM$70:$AQ$70)%,\"\")","v":8},{"$f":"IF(AND(MOD(J335,7)>=2,SUMPRODUCT(($AM$60:$AQ$60=MOD(J335,7))*$AM$53:$AQ$53),J954=\"\"),$J$7*SUMPRODUCT(($AM$77:$AQ$77=MOD(J335,7))*$AM$70:$AQ$70)%,\"\")","v":8},{"$f":"IF(AND(MOD(K335,7)>=2,SUMPRODUCT(($AM$60:$AQ$60=MOD(K335,7))*$AM$53:$AQ$53),K954=\"\"),$J$7*SUMPRODUCT(($AM$77:$AQ$77=MOD(K335,7))*$AM$70:$AQ$70)%,\"\")","v":""},{"$f":"IF(AND(MOD(L335,7)>=2,SUMPRODUCT(($AM$60:$AQ$60=MOD(L335,7))*$AM$53:$AQ$53),L954=\"\"),$J$7*SUMPRODUCT(($AM$77:$AQ$77=MOD(L335,7))*$AM$70:$AQ$70)%,\"\")","v":""},{"$f":"IF(AND(MOD(M335,7)>=2,SUMPRODUCT(($AM$60:$AQ$60=MOD(M335,7))*$AM$53:$AQ$53),M954=\"\"),$J$7*SUMPRODUCT(($AM$77:$AQ$77=MOD(M335,7))*$AM$70:$AQ$70)%,\"\")","v":8},{"$f":"IF(AND(MOD(N335,7)>=2,SUMPRODUCT(($AM$60:$AQ$60=MOD(N335,7))*$AM$53:$AQ$53),N954=\"\"),$J$7*SUMPRODUCT(($AM$77:$AQ$77=MOD(N335,7))*$AM$70:$AQ$70)%,\"\")","v":8},{"$f":"IF(AND(MOD(O335,7)>=2,SUMPRODUCT(($AM$60:$AQ$60=MOD(O335,7))*$AM$53:$AQ$53),O954=\"\"),$J$7*SUMPRODUCT(($AM$77:$AQ$77=MOD(O335,7))*$AM$70:$AQ$70)%,\"\")","v":8},{"$f":"IF(AND(MOD(P335,7)>=2,SUMPRODUCT(($AM$60:$AQ$60=MOD(P335,7))*$AM$53:$AQ$53),P954=\"\"),$J$7*SUMPRODUCT(($AM$77:$AQ$77=MOD(P335,7))*$AM$70:$AQ$70)%,\"\")","v":8},{"$f":"IF(AND(MOD(Q335,7)>=2,SUMPRODUCT(($AM$60:$AQ$60=MOD(Q335,7))*$AM$53:$AQ$53),Q954=\"\"),$J$7*SUMPRODUCT(($AM$77:$AQ$77=MOD(Q335,7))*$AM$70:$AQ$70)%,\"\")","v":8},{"$f":"IF(AND(MOD(R335,7)>=2,SUMPRODUCT(($AM$60:$AQ$60=MOD(R335,7))*$AM$53:$AQ$53),R954=\"\"),$J$7*SUMPRODUCT(($AM$77:$AQ$77=MOD(R335,7))*$AM$70:$AQ$70)%,\"\")","v":""},{"$f":"IF(AND(MOD(S335,7)>=2,SUMPRODUCT(($AM$60:$AQ$60=MOD(S335,7))*$AM$53:$AQ$53),S954=\"\"),$J$7*SUMPRODUCT(($AM$77:$AQ$77=MOD(S335,7))*$AM$70:$AQ$70)%,\"\")","v":""},{"$f":"IF(AND(MOD(T335,7)>=2,SUMPRODUCT(($AM$60:$AQ$60=MOD(T335,7))*$AM$53:$AQ$53),T954=\"\"),$J$7*SUMPRODUCT(($AM$77:$AQ$77=MOD(T335,7))*$AM$70:$AQ$70)%,\"\")","v":8},{"$f":"IF(AND(MOD(U335,7)>=2,SUMPRODUCT(($AM$60:$AQ$60=MOD(U335,7))*$AM$53:$AQ$53),U954=\"\"),$J$7*SUMPRODUCT(($AM$77:$AQ$77=MOD(U335,7))*$AM$70:$AQ$70)%,\"\")","v":8},{"$f":"IF(AND(MOD(V335,7)>=2,SUMPRODUCT(($AM$60:$AQ$60=MOD(V335,7))*$AM$53:$AQ$53),V954=\"\"),$J$7*SUMPRODUCT(($AM$77:$AQ$77=MOD(V335,7))*$AM$70:$AQ$70)%,\"\")","v":8},{"$f":"IF(AND(MOD(W335,7)>=2,SUMPRODUCT(($AM$60:$AQ$60=MOD(W335,7))*$AM$53:$AQ$53),W954=\"\"),$J$7*SUMPRODUCT(($AM$77:$AQ$77=MOD(W335,7))*$AM$70:$AQ$70)%,\"\")","v":8},{"$f":"IF(AND(MOD(X335,7)>=2,SUMPRODUCT(($AM$60:$AQ$60=MOD(X335,7))*$AM$53:$AQ$53),X954=\"\"),$J$7*SUMPRODUCT(($AM$77:$AQ$77=MOD(X335,7))*$AM$70:$AQ$70)%,\"\")","v":8},{"$f":"IF(AND(MOD(Y335,7)>=2,SUMPRODUCT(($AM$60:$AQ$60=MOD(Y335,7))*$AM$53:$AQ$53),Y954=\"\"),$J$7*SUMPRODUCT(($AM$77:$AQ$77=MOD(Y335,7))*$AM$70:$AQ$70)%,\"\")","v":""},{"$f":"IF(AND(MOD(Z335,7)>=2,SUMPRODUCT(($AM$60:$AQ$60=MOD(Z335,7))*$AM$53:$AQ$53),Z954=\"\"),$J$7*SUMPRODUCT(($AM$77:$AQ$77=MOD(Z335,7))*$AM$70:$AQ$70)%,\"\")","v":""},{"$f":"IF(AND(MOD(AA335,7)>=2,SUMPRODUCT(($AM$60:$AQ$60=MOD(AA335,7))*$AM$53:$AQ$53),AA954=\"\"),$J$7*SUMPRODUCT(($AM$77:$AQ$77=MOD(AA335,7))*$AM$70:$AQ$70)%,\"\")","v":8},{"$f":"IF(AND(MOD(AB335,7)>=2,SUMPRODUCT(($AM$60:$AQ$60=MOD(AB335,7))*$AM$53:$AQ$53),AB954=\"\"),$J$7*SUMPRODUCT(($AM$77:$AQ$77=MOD(AB335,7))*$AM$70:$AQ$70)%,\"\")","v":8},{"$f":"IF(AND(MOD(AC335,7)>=2,SUMPRODUCT(($AM$60:$AQ$60=MOD(AC335,7))*$AM$53:$AQ$53),AC954=\"\"),$J$7*SUMPRODUCT(($AM$77:$AQ$77=MOD(AC335,7))*$AM$70:$AQ$70)%,\"\")","v":8},{"$f":"IF(AND(MOD(AD335,7)>=2,SUMPRODUCT(($AM$60:$AQ$60=MOD(AD335,7))*$AM$53:$AQ$53),AD954=\"\"),$J$7*SUMPRODUCT(($AM$77:$AQ$77=MOD(AD335,7))*$AM$70:$AQ$70)%,\"\")","v":8},{"$f":"IF(AND(MOD(AE335,7)>=2,SUMPRODUCT(($AM$60:$AQ$60=MOD(AE335,7))*$AM$53:$AQ$53),AE954=\"\"),$J$7*SUMPRODUCT(($AM$77:$AQ$77=MOD(AE335,7))*$AM$70:$AQ$70)%,\"\")","v":8},null,{"$f":"SUM(B337:AF337)","v":176},"[00]"]
[{"$f":"$A$13","v":"Absences"},{"$f":"B970","v":0},{"$f":"C970","v":0},0,0,0,0,0,0,0,0,0,0,0,0,0,0,0,0,0,0,0,0,0,0,0,0,0,0,0,0,null,{"$f":"SUM($AO$3:$AO$13)","v":0},"[01]"]
[{"$f":"$A$14","v":"Code"},{"$f":"IF(SUM(B957:B969)<>0,IF(MAX(B957:B969)<B970,Labels!$B$163,INDEX($AH$956:$AH$968,MATCH(MAX(B957:B969),B957:B969,0))),\"\")","v":""},{"$f":"IF(SUM(C957:C969)<>0,IF(MAX(C957:C969)<C970,Labels!$B$163,INDEX($AH$956:$AH$968,MATCH(MAX(C957:C969),C957:C969,0))),\"\")","v":""},{"$f":"IF(SUM(D957:D969)<>0,IF(MAX(D957:D969)<D970,Labels!$B$163,INDEX($AH$956:$AH$968,MATCH(MAX(D957:D969),D957:D969,0))),\"\")","v":""},{"$f":"IF(SUM(E957:E969)<>0,IF(MAX(E957:E969)<E970,Labels!$B$163,INDEX($AH$956:$AH$968,MATCH(MAX(E957:E969),E957:E969,0))),\"\")","v":""},{"$f":"IF(SUM(F957:F969)<>0,IF(MAX(F957:F969)<F970,Labels!$B$163,INDEX($AH$956:$AH$968,MATCH(MAX(F957:F969),F957:F969,0))),\"\")","v":""},{"$f":"IF(SUM(G957:G969)<>0,IF(MAX(G957:G969)<G970,Labels!$B$163,INDEX($AH$956:$AH$968,MATCH(MAX(G957:G969),G957:G969,0))),\"\")","v":""},{"$f":"IF(SUM(H957:H969)<>0,IF(MAX(H957:H969)<H970,Labels!$B$163,INDEX($AH$956:$AH$968,MATCH(MAX(H957:H969),H957:H969,0))),\"\")","v":""},{"$f":"IF(SUM(I957:I969)<>0,IF(MAX(I957:I969)<I970,Labels!$B$163,INDEX($AH$956:$AH$968,MATCH(MAX(I957:I969),I957:I969,0))),\"\")","v":""},{"$f":"IF(SUM(J957:J969)<>0,IF(MAX(J957:J969)<J970,Labels!$B$163,INDEX($AH$956:$AH$968,MATCH(MAX(J957:J969),J957:J969,0))),\"\")","v":""},{"$f":"IF(SUM(K957:K969)<>0,IF(MAX(K957:K969)<K970,Labels!$B$163,INDEX($AH$956:$AH$968,MATCH(MAX(K957:K969),K957:K969,0))),\"\")","v":""},{"$f":"IF(SUM(L957:L969)<>0,IF(MAX(L957:L969)<L970,Labels!$B$163,INDEX($AH$956:$AH$968,MATCH(MAX(L957:L969),L957:L969,0))),\"\")","v":""},{"$f":"IF(SUM(M957:M969)<>0,IF(MAX(M957:M969)<M970,Labels!$B$163,INDEX($AH$956:$AH$968,MATCH(MAX(M957:M969),M957:M969,0))),\"\")","v":""},{"$f":"IF(SUM(N957:N969)<>0,IF(MAX(N957:N969)<N970,Labels!$B$163,INDEX($AH$956:$AH$968,MATCH(MAX(N957:N969),N957:N969,0))),\"\")","v":""},{"$f":"IF(SUM(O957:O969)<>0,IF(MAX(O957:O969)<O970,Labels!$B$163,INDEX($AH$956:$AH$968,MATCH(MAX(O957:O969),O957:O969,0))),\"\")","v":""},{"$f":"IF(SUM(P957:P969)<>0,IF(MAX(P957:P969)<P970,Labels!$B$163,INDEX($AH$956:$AH$968,MATCH(MAX(P957:P969),P957:P969,0))),\"\")","v":""},{"$f":"IF(SUM(Q957:Q969)<>0,IF(MAX(Q957:Q969)<Q970,Labels!$B$163,INDEX($AH$956:$AH$968,MATCH(MAX(Q957:Q969),Q957:Q969,0))),\"\")","v":""},{"$f":"IF(SUM(R957:R969)<>0,IF(MAX(R957:R969)<R970,Labels!$B$163,INDEX($AH$956:$AH$968,MATCH(MAX(R957:R969),R957:R969,0))),\"\")","v":""},{"$f":"IF(SUM(S957:S969)<>0,IF(MAX(S957:S969)<S970,Labels!$B$163,INDEX($AH$956:$AH$968,MATCH(MAX(S957:S969),S957:S969,0))),\"\")","v":""},{"$f":"IF(SUM(T957:T969)<>0,IF(MAX(T957:T969)<T970,Labels!$B$163,INDEX($AH$956:$AH$968,MATCH(MAX(T957:T969),T957:T969,0))),\"\")","v":""},{"$f":"IF(SUM(U957:U969)<>0,IF(MAX(U957:U969)<U970,Labels!$B$163,INDEX($AH$956:$AH$968,MATCH(MAX(U957:U969),U957:U969,0))),\"\")","v":""},{"$f":"IF(SUM(V957:V969)<>0,IF(MAX(V957:V969)<V970,Labels!$B$163,INDEX($AH$956:$AH$968,MATCH(MAX(V957:V969),V957:V969,0))),\"\")","v":""},{"$f":"IF(SUM(W957:W969)<>0,IF(MAX(W957:W969)<W970,Labels!$B$163,INDEX($AH$956:$AH$968,MATCH(MAX(W957:W969),W957:W969,0))),\"\")","v":""},{"$f":"IF(SUM(X957:X969)<>0,IF(MAX(X957:X969)<X970,Labels!$B$163,INDEX($AH$956:$AH$968,MATCH(MAX(X957:X969),X957:X969,0))),\"\")","v":""},{"$f":"IF(SUM(Y957:Y969)<>0,IF(MAX(Y957:Y969)<Y970,Labels!$B$163,INDEX($AH$956:$AH$968,MATCH(MAX(Y957:Y969),Y957:Y969,0))),\"\")","v":""},{"$f":"IF(SUM(Z957:Z969)<>0,IF(MAX(Z957:Z969)<Z970,Labels!$B$163,INDEX($AH$956:$AH$968,MATCH(MAX(Z957:Z969),Z957:Z969,0))),\"\")","v":""},{"$f":"IF(SUM(AA957:AA969)<>0,IF(MAX(AA957:AA969)<AA970,Labels!$B$163,INDEX($AH$956:$AH$968,MATCH(MAX(AA957:AA969),AA957:AA969,0))),\"\")","v":""},{"$f":"IF(SUM(AB957:AB969)<>0,IF(MAX(AB957:AB969)<AB970,Labels!$B$163,INDEX($AH$956:$AH$968,MATCH(MAX(AB957:AB969),AB957:AB969,0))),\"\")","v":""},{"$f":"IF(SUM(AC957:AC969)<>0,IF(MAX(AC957:AC969)<AC970,Labels!$B$163,INDEX($AH$956:$AH$968,MATCH(MAX(AC957:AC969),AC957:AC969,0))),\"\")","v":""},{"$f":"IF(SUM(AD957:AD969)<>0,IF(MAX(AD957:AD969)<AD970,Labels!$B$163,INDEX($AH$956:$AH$968,MATCH(MAX(AD957:AD969),AD957:AD969,0))),\"\")","v":""},{"$f":"IF(SUM(AE957:AE969)<>0,IF(MAX(AE957:AE969)<AE970,Labels!$B$163,INDEX($AH$956:$AH$968,MATCH(MAX(AE957:AE969),AE957:AE969,0))),\"\")","v":""},null,{"$f":"$AO$16*-1","v":0},"[02]"]
[{"$f":"$A$15","v":"00h00-06h00 1)"},null,null,null,null,null,null,null,null,null,null,null,null,null,null,null,null,null,null,null,null,null,null,null,null,null,null,null,null,null,null,null,{"$f":"SUM(B340:AF340)","v":0},"[04]"]
[{"$f":"$A$16","v":"06h00-20h00 2)"},null,null,null,null,null,null,null,null,null,null,null,null,null,null,null,null,null,null,null,null,null,null,null,null,null,null,null,null,null,null,null,{"$f":"SUM(B341:AF341)","v":0},"[03]"]
[{"$f":"$A$17","v":"20h00-24h00 3)"},null,null,null,null,null,null,null,null,null,null,null,null,null,null,null,null,null,null,null,null,null,null,null,null,null,null,null,null,null,null,null,{"$f":"SUM(B342:AF342)","v":0},"[05]"]
[{"$f":"$A$18","v":"Jours fériés \"jf\""},{"$f":"IF(WEEKDAY(B335,2)<=6,IF(CALENDRIER!E13=\"x\",Labels!$B$118,\"\"),\"\")","v":""},{"$f":"IF(WEEKDAY(C335,2)<=6,IF(CALENDRIER!F13=\"x\",Labels!$B$118,\"\"),\"\")","v":""},{"$f":"IF(WEEKDAY(D335,2)<=6,IF(CALENDRIER!G13=\"x\",Labels!$B$118,\"\"),\"\")","v":""},{"$f":"IF(WEEKDAY(E335,2)<=6,IF(CALENDRIER!H13=\"x\",Labels!$B$118,\"\"),\"\")","v":""},{"$f":"IF(WEEKDAY(F335,2)<=6,IF(CALENDRIER!I13=\"x\",Labels!$B$118,\"\"),\"\")","v":""},{"$f":"IF(WEEKDAY(G335,2)<=6,IF(CALENDRIER!J13=\"x\",Labels!$B$118,\"\"),\"\")","v":""},{"$f":"IF(WEEKDAY(H335,2)<=6,IF(CALENDRIER!K13=\"x\",Labels!$B$118,\"\"),\"\")","v":""},{"$f":"IF(WEEKDAY(I335,2)<=6,IF(CALENDRIER!L13=\"x\",Labels!$B$118,\"\"),\"\")","v":""},{"$f":"IF(WEEKDAY(J335,2)<=6,IF(CALENDRIER!M13=\"x\",Labels!$B$118,\"\"),\"\")","v":""},{"$f":"IF(WEEKDAY(K335,2)<=6,IF(CALENDRIER!N13=\"x\",Labels!$B$118,\"\"),\"\")","v":""},{"$f":"IF(WEEKDAY(L335,2)<=6,IF(CALENDRIER!O13=\"x\",Labels!$B$118,\"\"),\"\")","v":""},{"$f":"IF(WEEKDAY(M335,2)<=6,IF(CALENDRIER!P13=\"x\",Labels!$B$118,\"\"),\"\")","v":""},{"$f":"IF(WEEKDAY(N335,2)<=6,IF(CALENDRIER!Q13=\"x\",Labels!$B$118,\"\"),\"\")","v":""},{"$f":"IF(WEEKDAY(O335,2)<=6,IF(CALENDRIER!R13=\"x\",Labels!$B$118,\"\"),\"\")","v":""},{"$f":"IF(WEEKDAY(P335,2)<=6,IF(CALENDRIER!S13=\"x\",Labels!$B$118,\"\"),\"\")","v":""},{"$f":"IF(WEEKDAY(Q335,2)<=6,IF(CALENDRIER!T13=\"x\",Labels!$B$118,\"\"),\"\")","v":""},{"$f":"IF(WEEKDAY(R335,2)<=6,IF(CALENDRIER!U13=\"x\",Labels!$B$118,\"\"),\"\")","v":""},{"$f":"IF(WEEKDAY(S335,2)<=6,IF(CALENDRIER!V13=\"x\",Labels!$B$118,\"\"),\"\")","v":""},{"$f":"IF(WEEKDAY(T335,2)<=6,IF(CALENDRIER!W13=\"x\",Labels!$B$118,\"\"),\"\")","v":""},{"$f":"IF(WEEKDAY(U335,2)<=6,IF(CALENDRIER!X13=\"x\",Labels!$B$118,\"\"),\"\")","v":""},{"$f":"IF(WEEKDAY(V335,2)<=6,IF(CALENDRIER!Y13=\"x\",Labels!$B$118,\"\"),\"\")","v":""},{"$f":"IF(WEEKDAY(W335,2)<=6,IF(CALENDRIER!Z13=\"x\",Labels!$B$118,\"\"),\"\")","v":""},{"$f":"IF(WEEKDAY(X335,2)<=6,IF(CALENDRIER!AA13=\"x\",Labels!$B$118,\"\"),\"\")","v":""},{"$f":"IF(WEEKDAY(Y335,2)<=6,IF(CALENDRIER!AB13=\"x\",Labels!$B$118,\"\"),\"\")","v":""},{"$f":"IF(WEEKDAY(Z335,2)<=6,IF(CALENDRIER!AC13=\"x\",Labels!$B$118,\"\"),\"\")","v":""},{"$f":"IF(WEEKDAY(AA335,2)<=6,IF(CALENDRIER!AD13=\"x\",Labels!$B$118,\"\"),\"\")","v":""},{"$f":"IF(WEEKDAY(AB335,2)<=6,IF(CALENDRIER!AE13=\"x\",Labels!$B$118,\"\"),\"\")","v":""},{"$f":"IF(WEEKDAY(AC335,2)<=6,IF(CALENDRIER!AF13=\"x\",Labels!$B$118,\"\"),\"\")","v":""},{"$f":"IF(WEEKDAY(AD335,2)<=6,IF(CALENDRIER!AG13=\"x\",Labels!$B$118,\"\"),\"\")","v":""},{"$f":"IF(WEEKDAY(AE335,2)<=6,IF(CALENDRIER!AH13=\"x\",Labels!$B$118,\"\"),\"\")","v":""},{"$f":"IF(WEEKDAY(AF335,2)<=6,IF(CALENDRIER!AI13=\"x\",Labels!$B$118,\"\"),\"\")","v":""},null,"FT"]
[{"$f":"$A$19","v":"Majoration  \"jf\""},{"$f":"IF(AND(B343=Labels!$B$118,WEEKDAY(B335,2)<6,B$337<>\"\"),$J$7*SUMPRODUCT(($AM$77:$AQ$77=MOD(B335,7))*$AM$70:$AQ$70)%,\"\")","v":""},{"$f":"IF(AND(C343=Labels!$B$118,WEEKDAY(C335,2)<6,C$337<>\"\"),$J$7*SUMPRODUCT(($AM$77:$AQ$77=MOD(C335,7))*$AM$70:$AQ$70)%,\"\")","v":""},{"$f":"IF(AND(D343=Labels!$B$118,WEEKDAY(D335,2)<6,D$337<>\"\"),$J$7*SUMPRODUCT(($AM$77:$AQ$77=MOD(D335,7))*$AM$70:$AQ$70)%,\"\")","v":""},{"$f":"IF(AND(E343=Labels!$B$118,WEEKDAY(E335,2)<6,E$337<>\"\"),$J$7*SUMPRODUCT(($AM$77:$AQ$77=MOD(E335,7))*$AM$70:$AQ$70)%,\"\")","v":""},{"$f":"IF(AND(F343=Labels!$B$118,WEEKDAY(F335,2)<6,F$337<>\"\"),$J$7*SUMPRODUCT(($AM$77:$AQ$77=MOD(F335,7))*$AM$70:$AQ$70)%,\"\")","v":""},{"$f":"IF(AND(G343=Labels!$B$118,WEEKDAY(G335,2)<6,G$337<>\"\"),$J$7*SUMPRODUCT(($AM$77:$AQ$77=MOD(G335,7))*$AM$70:$AQ$70)%,\"\")","v":""},{"$f":"IF(AND(H343=Labels!$B$118,WEEKDAY(H335,2)<6,H$337<>\"\"),$J$7*SUMPRODUCT(($AM$77:$AQ$77=MOD(H335,7))*$AM$70:$AQ$70)%,\"\")","v":""},{"$f":"IF(AND(I343=Labels!$B$118,WEEKDAY(I335,2)<6,I$337<>\"\"),$J$7*SUMPRODUCT(($AM$77:$AQ$77=MOD(I335,7))*$AM$70:$AQ$70)%,\"\")","v":""},{"$f":"IF(AND(J343=Labels!$B$118,WEEKDAY(J335,2)<6,J$337<>\"\"),$J$7*SUMPRODUCT(($AM$77:$AQ$77=MOD(J335,7))*$AM$70:$AQ$70)%,\"\")","v":""},{"$f":"IF(AND(K343=Labels!$B$118,WEEKDAY(K335,2)<6,K$337<>\"\"),$J$7*SUMPRODUCT(($AM$77:$AQ$77=MOD(K335,7))*$AM$70:$AQ$70)%,\"\")","v":""},{"$f":"IF(AND(L343=Labels!$B$118,WEEKDAY(L335,2)<6,L$337<>\"\"),$J$7*SUMPRODUCT(($AM$77:$AQ$77=MOD(L335,7))*$AM$70:$AQ$70)%,\"\")","v":""},{"$f":"IF(AND(M343=Labels!$B$118,WEEKDAY(M335,2)<6,M$337<>\"\"),$J$7*SUMPRODUCT(($AM$77:$AQ$77=MOD(M335,7))*$AM$70:$AQ$70)%,\"\")","v":""},{"$f":"IF(AND(N343=Labels!$B$118,WEEKDAY(N335,2)<6,N$337<>\"\"),$J$7*SUMPRODUCT(($AM$77:$AQ$77=MOD(N335,7))*$AM$70:$AQ$70)%,\"\")","v":""},{"$f":"IF(AND(O343=Labels!$B$118,WEEKDAY(O335,2)<6,O$337<>\"\"),$J$7*SUMPRODUCT(($AM$77:$AQ$77=MOD(O335,7))*$AM$70:$AQ$70)%,\"\")","v":""},{"$f":"IF(AND(P343=Labels!$B$118,WEEKDAY(P335,2)<6,P$337<>\"\"),$J$7*SUMPRODUCT(($AM$77:$AQ$77=MOD(P335,7))*$AM$70:$AQ$70)%,\"\")","v":""},{"$f":"IF(AND(Q343=Labels!$B$118,WEEKDAY(Q335,2)<6,Q$337<>\"\"),$J$7*SUMPRODUCT(($AM$77:$AQ$77=MOD(Q335,7))*$AM$70:$AQ$70)%,\"\")","v":""},{"$f":"IF(AND(R343=Labels!$B$118,WEEKDAY(R335,2)<6,R$337<>\"\"),$J$7*SUMPRODUCT(($AM$77:$AQ$77=MOD(R335,7))*$AM$70:$AQ$70)%,\"\")","v":""},{"$f":"IF(AND(S343=Labels!$B$118,WEEKDAY(S335,2)<6,S$337<>\"\"),$J$7*SUMPRODUCT(($AM$77:$AQ$77=MOD(S335,7))*$AM$70:$AQ$70)%,\"\")","v":""},{"$f":"IF(AND(T343=Labels!$B$118,WEEKDAY(T335,2)<6,T$337<>\"\"),$J$7*SUMPRODUCT(($AM$77:$AQ$77=MOD(T335,7))*$AM$70:$AQ$70)%,\"\")","v":""},{"$f":"IF(AND(U343=Labels!$B$118,WEEKDAY(U335,2)<6,U$337<>\"\"),$J$7*SUMPRODUCT(($AM$77:$AQ$77=MOD(U335,7))*$AM$70:$AQ$70)%,\"\")","v":""},{"$f":"IF(AND(V343=Labels!$B$118,WEEKDAY(V335,2)<6,V$337<>\"\"),$J$7*SUMPRODUCT(($AM$77:$AQ$77=MOD(V335,7))*$AM$70:$AQ$70)%,\"\")","v":""},{"$f":"IF(AND(W343=Labels!$B$118,WEEKDAY(W335,2)<6,W$337<>\"\"),$J$7*SUMPRODUCT(($AM$77:$AQ$77=MOD(W335,7))*$AM$70:$AQ$70)%,\"\")","v":""},{"$f":"IF(AND(X343=Labels!$B$118,WEEKDAY(X335,2)<6,X$337<>\"\"),$J$7*SUMPRODUCT(($AM$77:$AQ$77=MOD(X335,7))*$AM$70:$AQ$70)%,\"\")","v":""},{"$f":"IF(AND(Y343=Labels!$B$118,WEEKDAY(Y335,2)<6,Y$337<>\"\"),$J$7*SUMPRODUCT(($AM$77:$AQ$77=MOD(Y335,7))*$AM$70:$AQ$70)%,\"\")","v":""},{"$f":"IF(AND(Z343=Labels!$B$118,WEEKDAY(Z335,2)<6,Z$337<>\"\"),$J$7*SUMPRODUCT(($AM$77:$AQ$77=MOD(Z335,7))*$AM$70:$AQ$70)%,\"\")","v":""},{"$f":"IF(AND(AA343=Labels!$B$118,WEEKDAY(AA335,2)<6,AA$337<>\"\"),$J$7*SUMPRODUCT(($AM$77:$AQ$77=MOD(AA335,7))*$AM$70:$AQ$70)%,\"\")","v":""},{"$f":"IF(AND(AB343=Labels!$B$118,WEEKDAY(AB335,2)<6,AB$337<>\"\"),$J$7*SUMPRODUCT(($AM$77:$AQ$77=MOD(AB335,7))*$AM$70:$AQ$70)%,\"\")","v":""},{"$f":"IF(AND(AC343=Labels!$B$118,WEEKDAY(AC335,2)<6,AC$337<>\"\"),$J$7*SUMPRODUCT(($AM$77:$AQ$77=MOD(AC335,7))*$AM$70:$AQ$70)%,\"\")","v":""},{"$f":"IF(AND(AD343=Labels!$B$118,WEEKDAY(AD335,2)<6,AD$337<>\"\"),$J$7*SUMPRODUCT(($AM$77:$AQ$77=MOD(AD335,7))*$AM$70:$AQ$70)%,\"\")","v":""},{"$f":"IF(AND(AE343=Labels!$B$118,WEEKDAY(AE335,2)<6,AE$337<>\"\"),$J$7*SUMPRODUCT(($AM$77:$AQ$77=MOD(AE335,7))*$AM$70:$AQ$70)%,\"\")","v":""},{"$f":"IF(AND(AF343=Labels!$B$118,WEEKDAY(AF335,2)<6),$J$7*$B$332%,\"\")","v":""},{"$f":"SUM(B344:AF344)","v":0},"[06]"]
[{"$f":"$A$20","v":"total quotidien"},{"$f":"SUM(B340:B342)","v":0},{"$f":"SUM(C340:C342)","v":0},0,0,0,0,0,0,0,0,0,0,0,0,0,0,0,0,0,0,0,0,0,0,0,0,0,0,0,0,null,null,"TT"]
[{"$f":"$A$21","v":"."},null,null,null,null,null,null,null,null,null,null,null,null,null,null,null,null,null,null,null,null,null,null,null,null,null,null,null,null,null,null,null,null,"R"]
[{"$f":"$A$22","v":"."},null,null,null,null,null,null,null,null,null,null,null,null,null,null,null,null,null,null,null,null,null,null,null,null,null,null,null,null,null,null,null,null,"R"]
[{"$f":"$A$23","v":"transition mois"},{"$f":"IF(WEEKDAY(B335)=1,TEXT(B335-1,\"MMM\"&Labels!B13),\"\")","v":""},null,null,null,null,null,null,null,null,null,null,null,null,null,null,null,null,null,null,null,null,null,null,null,null,null,null,null,null,{"$f":"IF(AND(WEEKDAY(AE335)>1,WEEKDAY(AE335)<7),TEXT(DATE($B$5,MONTH(AE335)+1,1),\"MMM\"&Labels!B13),\"\")","v":"juil."},null,null,"MNT"]
[{"$f":"$A$24","v":"Total hebdomadaire"},{"$f":"IF(WEEKDAY(B335)=7,SUMIF($B271:$AF271,B336,$B280:$AF280)+SUMIF($B336:$AF336,B336,$B345:$AF345)+SUMIF($B401:$AF401,B336,$B410:$AF410),B348)","v":""},{"$f":"IF(WEEKDAY(C335)=7,SUMIF($B271:$AF271,C336,$B280:$AF280)+SUMIF($B336:$AF336,C336,$B345:$AF345)+SUMIF($B401:$AF401,C336,$B410:$AF410),\"\")","v":""},0,"","","","","","",0,"","","","","","",0,"","","","","","",0,"","","","","",{"$f":"IF(WEEKDAY(AE335)=7,SUMIF($B271:$AF271,AE336,$B280:$AF280)+SUMIF($B336:$AF336,AE336,$B345:$AF345)+SUMIF($B401:$AF401,AE336,$B410:$AF410),AE348)","v":"juil."},null,null,"WT"]
[{"$f":"$A$25","v":"Majorations temp. 1)"},{"$f":"IF(B357=\"FALSCH\",\"\",B357)","v":""},{"$f":"IF(C357=\"FALSCH\",\"\",C357)","v":""},"","","","","","","","","","","","","","","","","","","","","","","","","","","","",null,{"$f":"SUM(B350:AF350)","v":0},"[07]"]
[{"$f":"$A$26","v":"Majorations temp. 2)"},{"$f":"IF((B340+B342)=0,\"\",SUM(B340,B342))","v":""},{"$f":"IF((C340+C342)=0,\"\",SUM(C340,C342))","v":""},"","","","","","","","","","","","","","","","","","","","","","","","","","","","",null,0,"[08]"]
[{"$f":"$A$27","v":"Majorations temp. 3)"},{"$f":"SUM(B353:B356)","v":0},{"$f":"SUM(C353:C356)","v":0},0,0,0,0,0,0,0,0,0,0,0,0,0,0,0,0,0,0,0,0,0,0,0,0,0,0,0,0,null,0,"[09]"]
[{"$f":"$A$28","v":"Dimanche journée"},{"$f":"IF(WEEKDAY(B335)=1,B341,\"\")","v":""},{"$f":"IF(WEEKDAY(C335)=1,C341,\"\")","v":""},"",0,"","","","","","",0,"","","","","","",0,"","","","","","",0,"","","","","",null,0,"[09-ST]"]
[{"$f":"$A$29","v":"Dimanche nuit"},{"$f":"IF(WEEKDAY(B335)=1,SUM(B340+B342),\"\")","v":""},{"$f":"IF(WEEKDAY(C335)=1,SUM(C340+C342),\"\")","v":""},"",0,"","","","","","",0,"","","","","","",0,"","","","","","",0,"","","","","",null,0,"[09-SN]"]
[{"$f":"$A$30","v":"jf-jomajoration"},{"$f":"IF(B343=Labels!$B$118,B341,\"\")","v":""},{"$f":"IF(C343=Labels!$B$118,C341,\"\")","v":""},{"$f":"IF(D343=Labels!$B$118,D341,\"\")","v":""},{"$f":"IF(E343=Labels!$B$118,E341,\"\")","v":""},{"$f":"IF(F343=Labels!$B$118,F341,\"\")","v":""},{"$f":"IF(G343=Labels!$B$118,G341,\"\")","v":""},{"$f":"IF(H343=Labels!$B$118,H341,\"\")","v":""},{"$f":"IF(I343=Labels!$B$118,I341,\"\")","v":""},{"$f":"IF(J343=Labels!$B$118,J341,\"\")","v":""},{"$f":"IF(K343=Labels!$B$118,K341,\"\")","v":""},{"$f":"IF(L343=Labels!$B$118,L341,\"\")","v":""},{"$f":"IF(M343=Labels!$B$118,M341,\"\")","v":""},{"$f":"IF(N343=Labels!$B$118,N341,\"\")","v":""},{"$f":"IF(O343=Labels!$B$118,O341,\"\")","v":""},{"$f":"IF(P343=Labels!$B$118,P341,\"\")","v":""},{"$f":"IF(Q343=Labels!$B$118,Q341,\"\")","v":""},{"$f":"IF(R343=Labels!$B$118,R341,\"\")","v":""},{"$f":"IF(S343=Labels!$B$118,S341,\"\")","v":""},{"$f":"IF(T343=Labels!$B$118,T341,\"\")","v":""},{"$f":"IF(U343=Labels!$B$118,U341,\"\")","v":""},{"$f":"IF(V343=Labels!$B$118,V341,\"\")","v":""},{"$f":"IF(W343=Labels!$B$118,W341,\"\")","v":""},{"$f":"IF(X343=Labels!$B$118,X341,\"\")","v":""},{"$f":"IF(Y343=Labels!$B$118,Y341,\"\")","v":""},{"$f":"IF(Z343=Labels!$B$118,Z341,\"\")","v":""},{"$f":"IF(AA343=Labels!$B$118,AA341,\"\")","v":""},{"$f":"IF(AB343=Labels!$B$118,AB341,\"\")","v":""},{"$f":"IF(AC343=Labels!$B$118,AC341,\"\")","v":""},{"$f":"IF(AD343=Labels!$B$118,AD341,\"\")","v":""},{"$f":"IF(AE343=Labels!$B$118,AE341,\"\")","v":""},null,0,"[09-FT]"]
[{"$f":"$A$31","v":"jf-numajoration"},{"$f":"IF(B343=Labels!$B$118,SUM(B340,B342),\"\")","v":""},{"$f":"IF(C343=Labels!$B$118,SUM(C340,C342),\"\")","v":""},{"$f":"IF(D343=Labels!$B$118,SUM(D340,D342),\"\")","v":""},{"$f":"IF(E343=Labels!$B$118,SUM(E340,E342),\"\")","v":""},{"$f":"IF(F343=Labels!$B$118,SUM(F340,F342),\"\")","v":""},{"$f":"IF(G343=Labels!$B$118,SUM(G340,G342),\"\")","v":""},{"$f":"IF(H343=Labels!$B$118,SUM(H340,H342),\"\")","v":""},{"$f":"IF(I343=Labels!$B$118,SUM(I340,I342),\"\")","v":""},{"$f":"IF(J343=Labels!$B$118,SUM(J340,J342),\"\")","v":""},{"$f":"IF(K343=Labels!$B$118,SUM(K340,K342),\"\")","v":""},{"$f":"IF(L343=Labels!$B$118,SUM(L340,L342),\"\")","v":""},{"$f":"IF(M343=Labels!$B$118,SUM(M340,M342),\"\")","v":""},{"$f":"IF(N343=Labels!$B$118,SUM(N340,N342),\"\")","v":""},{"$f":"IF(O343=Labels!$B$118,SUM(O340,O342),\"\")","v":""},{"$f":"IF(P343=Labels!$B$118,SUM(P340,P342),\"\")","v":""},{"$f":"IF(Q343=Labels!$B$118,SUM(Q340,Q342),\"\")","v":""},{"$f":"IF(R343=Labels!$B$118,SUM(R340,R342),\"\")","v":""},{"$f":"IF(S343=Labels!$B$118,SUM(S340,S342),\"\")","v":""},{"$f":"IF(T343=Labels!$B$118,SUM(T340,T342),\"\")","v":""},{"$f":"IF(U343=Labels!$B$118,SUM(U340,U342),\"\")","v":""},{"$f":"IF(V343=Labels!$B$118,SUM(V340,V342),\"\")","v":""},{"$f":"IF(W343=Labels!$B$118,SUM(W340,W342),\"\")","v":""},{"$f":"IF(X343=Labels!$B$118,SUM(X340,X342),\"\")","v":""},{"$f":"IF(Y343=Labels!$B$118,SUM(Y340,Y342),\"\")","v":""},{"$f":"IF(Z343=Labels!$B$118,SUM(Z340,Z342),\"\")","v":""},{"$f":"IF(AA343=Labels!$B$118,SUM(AA340,AA342),\"\")","v":""},{"$f":"IF(AB343=Labels!$B$118,SUM(AB340,AB342),\"\")","v":""},{"$f":"IF(AC343=Labels!$B$118,SUM(AC340,AC342),\"\")","v":""},{"$f":"IF(AD343=Labels!$B$118,SUM(AD340,AD342),\"\")","v":""},{"$f":"IF(AE343=Labels!$B$118,SUM(AE340,AE342),\"\")","v":""},null,0,"[09-FN]"]
[{"$f":"$A$32","v":"majoration caché (total hebd.)"},{"$f":"IF($B332>=80,IF(OR(ISTEXT(B349),B349=\"\",B349<$B$7),\"\",ROUND(((B349-$B$7)*25%)/25,4)*25),IF(B345>($B$7/5),ROUND(((B345-($B$7/5))*25%)/25,4)*25,\"\"))","v":""},{"$f":"IF($B332>=80,IF(OR(ISTEXT(C349),C349=\"\",C349<$B$7),\"\",ROUND(((C349-$B$7)*25%)/25,4)*25),IF(C345>($B$7/5),ROUND(((C345-($B$7/5))*25%)/25,4)*25,\"\"))","v":""},"","","","","","","","","","","","","","","","","","","","","","","","","","","","",null,{"$f":"AG341","v":0},"[03]"]
[null,{"$f":"$B$33","v":"1)  25% majoration temporelle pour depassement les heures maximales"},null,null,null,null,null,null,null,null,null,{"$f":"$L$33","v":"2) 100% majoration temporelle pour travail de nuit"},null,null,null,null,null,null,null,{"$f":"$T$33","v":"Saisie des heures payées l'année passée"},null,null,null,null,null,null,null,null,null,null,null,null,{"$f":"SUM(AG340+AG342)","v":0},"[4-5]"]
[null,{"$f":"$B$34","v":"3) 100% majoration temporelle pour travail du dimanche et jour férié"},null,null,null,null,null,null,null,null,null,null,null,null,null,null,null,null,null,{"$f":"$T$34","v":"Saisie des heures payées exercice en cours (heures supplémentaires)"},null,null,null,null,null,null,null,null,null,null,null,null,{"$f":"SUM(AG340:AG342)","v":0},"[3-5]"]
[{"$f":"$A$35","v":"Notes"},null,null,null,null,null,null,null,null,null,null,null,null,null,null,null,null,null,null,null,null,null,null,null,null,null,null,null,null,null,null,null,{"$f":"SUM(AG338:AG352)","v":0},"[10]"]
[null,null,null,null,null,null,null,null,null,null,null,null,null,null,null,null,null,null,null,null,null,null,null,null,null,null,null,null,null,null,null,null,{"$f":"AG337","v":176},"[00]"]
[{"$f":"IF(AG954=0,\"\",\"effektives Pensum:  \"&ROUND(COUNT(B337:AF337)/(AG954+COUNT(B337:AF337))%*B332%*20,0)/20&\" %\")","v":""},null,null,null,null,null,null,null,null,null,null,null,null,null,null,null,null,null,null,null,null,null,null,null,null,null,null,null,null,null,null,null,{"$f":"SUM(AG360-AG361)","v":-176},"[11]"]
[]
[{"$f":"Labels!$B$103","v":"Résumé"},null,null,null,null,null,{"$f":"Labels!$B$77","v":"Jan"},null,{"$f":"Labels!$B$78","v":"Fév"},null,{"$f":"Labels!$B$79","v":"Mar"},null,{"$f":"Labels!$B$80","v":"Avr"},null,{"$f":"Labels!$B$81","v":"Mai"},null,{"$f":"Labels!$B$82","v":"Jun"},null,{"$f":"Labels!$B$83","v":"Jul"},null,{"$f":"Labels!$B$84","v":"Aoû"},null,{"$f":"Labels!$B$85","v":"Sep"},null,{"$f":"Labels!$B$86","v":"Oct"},null,{"$f":"Labels!$B$87","v":"Nov"},null,{"$f":"Labels!$B$88","v":"Déc"},null,{"$f":"Labels!$B$101","v":"Année"}]
[{"$f":"Labels!$B$20","v":"Emploi %"},null,null,null,null,null,{"$f":"IF($B$4=0,0,$B$4)","v":100},null,{"$f":"IF($B$72=0,0,$B$72)","v":100},null,{"$f":"IF($B$137=0,0,$B$137)","v":100},null,{"$f":"IF($B$202=0,0,$B$202)","v":100},null,{"$f":"IF($B$267=0,0,$B$267)","v":100},null,{"$f":"IF($B$332=0,0,$B$332)","v":100},null,{"$f":"IF($B$397=0,0,$B$397)","v":100},null,{"$f":"IF($B$462=0,0,$B$462)","v":100},null,{"$f":"IF($B$527=0,0,$B$527)","v":100},null,{"$f":"IF($B$592=0,0,$B$592)","v":100},null,{"$f":"IF($B$657=0,0,$B$657)","v":100},null,{"$f":"IF($B$722=0,0,$B$722)","v":100}]
[{"$f":"Labels!$B$104","v":"Heures théoriques selon CCT"},null,null,null,null,null,{"$f":"IF($AG$36=0,0,$AG$36)","v":176},null,{"$f":"IF($AG$101=0,0,$AG$101)","v":160},null,{"$f":"IF($AG$142=0,0,$AG$142)","v":184},null,{"$f":"IF($AG$231=0,0,$AG$231)","v":160},null,{"$f":"IF($AG$296=0,0,$AG$296)","v":184},null,{"$f":"IF($AG$361=0,0,$AG$361)","v":176},null,{"$f":"IF($AG$426=0,0,$AG$426)","v":168},null,{"$f":"IF($AG$491=0,0,$AG$491)","v":184},null,{"$f":"IF($AG$556=0,0,$AG$556)","v":168},null,{"$f":"IF($AG$621=0,0,$AG$621)","v":176},null,{"$f":"IF($AG$686=0,0,$AG$686)","v":176},null,{"$f":"IF($AG$751=0,0,$AG$751)","v":168},null,{"$f":"SUM(G366:AD366)","v":2080}]
[{"$f":"Labels!$B$105","v":"Total heures productives"},{"$f":"Labels!$B$106","v":"06.00 - 20.00 h"},null,null,null,null,{"$f":"IF($AG$32=0,0,$AG$32)","v":0},null,{"$f":"IF($AG$96=0,0,$AG$96)","v":0},null,{"$f":"IF($AG$161=0,0,$AG$161)","v":0},null,{"$f":"IF($AG$226=0,0,$AG$226)","v":0},null,{"$f":"IF($AG$291=0,0,$AG$291)","v":0},null,{"$f":"IF($AG$356=0,0,$AG$356)","v":0},null,{"$f":"IF($AG$421=0,0,$AG$421)","v":0},null,{"$f":"IF($AG$486=0,0,$AG$486)","v":0},null,{"$f":"IF($AG$551=0,0,$AG$551)","v":0},null,{"$f":"IF($AG$616=0,0,$AG$616)","v":0},null,{"$f":"IF($AG$681=0,0,$AG$681)","v":0},null,{"$f":"IF($AG$746=0,0,$AG$746)","v":0},null,{"$f":"SUM(G367:AD367)","v":0}]
[null,{"$f":"Labels!$B$107","v":"nuit, dimanche et jour férié"},null,null,null,null,{"$f":"IF($AG$33=0,0,$AG$33)","v":0},null,{"$f":"IF($AG$97=0,0,$AG$97)","v":0},null,{"$f":"IF($AG$162=0,0,$AG$162)","v":0},null,{"$f":"IF($AG$227=0,0,$AG$227)","v":0},null,{"$f":"IF($AG$292=0,0,$AG$292)","v":0},null,{"$f":"IF($AG$357=0,0,$AG$357)","v":0},null,{"$f":"IF($AG$422=0,0,$AG$422)","v":0},null,{"$f":"IF($AG$487=0,0,$AG$487)","v":0},null,{"$f":"IF($AG$552=0,0,$AG$552)","v":0},null,{"$f":"IF($AG$617=0,0,$AG$617)","v":0},null,{"$f":"IF($AG$682=0,0,$AG$682)","v":0},null,{"$f":"IF($AG$747=0,0,$AG$747)","v":0},null,{"$f":"SUM(G368:AD368)","v":0}]
[{"$f":"Labels!$B$108","v":"Majorations temporelles"},{"$f":"Labels!$B$109","v":"depassement des heures maximales"},null,null,null,null,{"$f":"IF($AG$25=0,0,$AG$25)","v":0},null,{"$f":"IF($AG$89=0,0,$AG$89)","v":0},null,{"$f":"IF($AG$154=0,0,$AG$154)","v":0},null,{"$f":"IF($AG$219=0,0,$AG$219)","v":0},null,{"$f":"IF($AG$284=0,0,$AG$284)","v":0},null,{"$f":"IF($AG$349=0,0,$AG$349)","v":0},null,{"$f":"IF($AG$414=0,0,$AG$414)","v":0},null,{"$f":"IF($AG$479=0,0,$AG$479)","v":0},null,{"$f":"IF($AG$544=0,0,$AG$544)","v":0},null,{"$f":"IF($AG$609=0,0,$AG$609)","v":0},null,{"$f":"IF($AG$674=0,0,$AG$674)","v":0},null,{"$f":"IF($AG$739=0,0,$AG$739)","v":0},null,{"$f":"SUM(G369:AD369)","v":0}]
[null,{"$f":"Labels!$B$110","v":"nuit, dimanche et jour férié"},null,null,null,null,{"$f":"IF($AJ$23=0,0,$AJ$23)","v":0},null,{"$f":"IF($AK$23=0,0,$AK$23)","v":0},null,{"$f":"IF($AL$23=0,0,$AL$23)","v":0},null,{"$f":"IF($AM$23=0,0,$AM$23)","v":0},null,{"$f":"IF($AN$23=0,0,$AN$23)","v":0},null,{"$f":"IF($AO$23=0,0,$AO$23)","v":0},null,{"$f":"IF($AP$23=0,0,$AP$23)","v":0},null,{"$f":"IF($AQ$23=0,0,$AQ$23)","v":0},null,{"$f":"IF($AR$23=0,0,$AR$23)","v":0},null,{"$f":"IF($AS$23=0,0,$AS$23)","v":0},null,{"$f":"IF($AT$23=0,0,$AT$23)","v":0},null,{"$f":"IF($AU$23=0,0,$AU$23)","v":0},null,{"$f":"SUM(G370:AD370)","v":0}]
[{"$f":"Labels!$B$111","v":"Heures inproductives"}]
[{"$f":"Labels!$B$112","v":"   Absences art. 11 CCT"},null,null,null,null,{"$f":"Labels!$B$113","v":"ab"},{"$f":"IF($AJ$3=0,0,$AJ$3)","v":0},null,{"$f":"IF($AK$3=0,0,$AK$3)","v":0},null,{"$f":"IF($AL$3=0,0,$AL$3)","v":0},null,{"$f":"IF($AM$3=0,0,$AM$3)","v":0},null,{"$f":"IF($AN$3=0,0,$AN$3)","v":0},null,{"$f":"IF($AO$3=0,0,$AO$3)","v":0},null,{"$f":"IF($AP$3=0,0,$AP$3)","v":0},null,{"$f":"IF($AQ$3=0,0,$AQ$3)","v":0},null,{"$f":"IF($AR$3=0,0,$AR$3)","v":0},null,{"$f":"IF($AS$3=0,0,$AS$3)","v":0},null,{"$f":"IF(AT$3=0,0,$AT$3)","v":0},null,{"$f":"IF($AU$3=0,0,$AU$3)","v":0},null,{"$f":"IF($AV$3=0,0,$AV$3)","v":0}]
[{"$f":"Labels!$B$114","v":"   Vacances art. 12.1 CCT"},null,null,null,null,{"$f":"Labels!$B$115","v":"va"},{"$f":"IF($AJ$4=0,0,$AJ$4)","v":0},null,{"$f":"IF($AK$4=0,0,$AK$4)","v":0},null,{"$f":"IF($AL$4=0,0,$AL$4)","v":0},null,{"$f":"IF($AM$4=0,0,$AM$4)","v":0},null,{"$f":"IF($AN$4=0,0,$AN$4)","v":0},null,{"$f":"IF($AO$4=0,0,$AO$4)","v":0},null,{"$f":"IF($AP$4=0,0,$AP$4)","v":0},null,{"$f":"IF($AQ$4=0,0,$AQ$4)","v":0},null,{"$f":"IF($AR$4=0,0,$AR$4)","v":0},null,{"$f":"IF($AS$4=0,0,$AS$4)","v":0},null,{"$f":"IF($AT$4=0,0,$AT$4)","v":0},null,{"$f":"IF($AU$4=0,0,$AU$4)","v":0},null,{"$f":"IF($AV$4=0,0,$AV$4)","v":0}]
[{"$f":"Labels!$B$181","v":"   vacances non payées"},null,null,null,null,{"$f":"Labels!$B$182","v":"vn"},{"$f":"IF($AJ$13=0,0,$AJ$13)","v":0},null,{"$f":"IF($AK$13=0,0,$AK$13)","v":0},null,{"$f":"IF($AL$13=0,0,$AL$13)","v":0},null,{"$f":"IF($AM$13=0,0,$AM$13)","v":0},null,{"$f":"IF($AN$13=0,0,$AN$13)","v":0},null,{"$f":"IF($AO$13=0,0,$AO$13)","v":0},null,{"$f":"IF($AP$13=0,0,$AP$13)","v":0},null,{"$f":"IF($AQ$13=0,0,$AQ$13)","v":0},null,{"$f":"IF($AR$13=0,0,$AR$13)","v":0},null,{"$f":"IF($AS$13=0,0,$AS$13)","v":0},null,{"$f":"IF($AT$13=0,0,$AT$13)","v":0},null,{"$f":"IF($AU$13=0,0,$AU$13)","v":0},null,{"$f":"IF($AV$13=0,0,$AV$13)","v":0}]
[{"$f":"Labels!$B$116","v":"   Jours fériés art. 12.2 CCT"},null,{"$f":"IF($AJ$20=\"\",\"\",$AJ$20)","v":""},null,null,{"$f":"Labels!$B$118","v":"jf"},{"$f":"IF($AJ$18=0,0,$AJ$18)","v":0},null,{"$f":"IF($AK$18=0,0,$AK$18)","v":0},null,{"$f":"IF($AL$18=0,0,$AL$18)","v":0},null,{"$f":"IF($AM$18=0,0,$AM$18)","v":0},null,{"$f":"IF($AN$18=0,0,$AN$18)","v":0},null,{"$f":"IF($AO$18=0,0,$AO$18)","v":0},null,{"$f":"IF($AP$18=0,0,$AP$18)","v":0},null,{"$f":"IF($AQ$18=0,0,$AQ$18)","v":0},null,{"$f":"IF($AR$18=0,0,$AR$18)","v":0},null,{"$f":"IF($AS$18=0,0,$AS$18)","v":0},null,{"$f":"IF($AT$18=0,0,$AT$18)","v":0},null,{"$f":"IF($AU$18=0,0,$AU$18)","v":0},null,{"$f":"IF($AV$18=0,0,$AV$18)","v":0}]
[{"$f":"Labels!$B$119","v":"   Maladie art. 13 CCT"},null,null,null,null,{"$f":"Labels!$B$120","v":"ma"},{"$f":"IF($AJ$5=0,0,$AJ$5)","v":0},null,{"$f":"IF($AK$5=0,0,$AK$5)","v":0},null,{"$f":"IF($AL$5=0,0,$AL$5)","v":0},null,{"$f":"IF($AM$5=0,0,$AM$5)","v":0},null,{"$f":"IF($AN$5=0,0,$AN$5)","v":0},null,{"$f":"IF($AO$5=0,0,$AO$5)","v":0},null,{"$f":"IF($AP$5=0,0,$AP$5)","v":0},null,{"$f":"IF($AQ$5=0,0,$AQ$5)","v":0},null,{"$f":"IF($AR$5=0,0,$AR$5)","v":0},null,{"$f":"IF($AS$5=0,0,$AS$5)","v":0},null,{"$f":"IF($AT$5=0,0,$AT$5)","v":0},null,{"$f":"IF($AU$5=0,0,$AU$5)","v":0},null,{"$f":"IF($AV$5=0,0,$AV$5)","v":0}]
[{"$f":"Labels!$B$184","v":"non payeé"},null,null,null,null,null,{"$f":"IF(AJ$16=0,0,AJ$16)","v":0},null,{"$f":"IF($AK$16=0,0,$AK$16)","v":0},null,{"$f":"IF($AL$16=0,0,$AL$16)","v":0},null,{"$f":"IF($AM$16=0,0,$AM$16)","v":0},null,{"$f":"IF($AN$16=0,0,$AN$16)","v":0},null,{"$f":"IF($AO$16=0,0,$AO$16)","v":0},null,{"$f":"IF($AP$16=0,0,$AP$16)","v":0},null,{"$f":"IF($AQ$16=0,0,$AQ$16)","v":0},null,{"$f":"IF($AR$16=0,0,$AR$16)","v":0},null,{"$f":"IF($AS$16=0,0,$AS$16)","v":0},null,{"$f":"IF($AT$16=0,0,$AT$16)","v":0},null,{"$f":"IF($AU$16=0,0,$AU$16)","v":0},null,{"$f":"IF($AV$16=0,0,$AV$16)","v":0}]
[{"$f":"Labels!$B$121","v":"   Accident art. 14 CCT"},null,null,null,null,{"$f":"Labels!$B$122","v":"ac"},{"$f":"IF($AJ$6=0,0,$AJ$6)","v":0},null,{"$f":"IF($AK$6=0,0,$AK$6)","v":0},null,{"$f":"IF($AL$6=0,0,$AL$6)","v":0},null,{"$f":"IF($AM$6=0,0,$AM$6)","v":0},null,{"$f":"IF($AN$6=0,0,$AN$6)","v":0},null,{"$f":"IF($AO$6=0,0,$AO$6)","v":0},null,{"$f":"IF($AP$6=0,0,$AP$6)","v":0},null,{"$f":"IF($AQ$6=0,0,$AQ$6)","v":0},null,{"$f":"IF($AR$6=0,0,$AR$6)","v":0},null,{"$f":"IF($AS$6=0,0,$AS$6)","v":0},null,{"$f":"IF($AT$6=0,0,$AT$6)","v":0},null,{"$f":"IF($AU$6=0,0,$AU$6)","v":0},null,{"$f":"IF($AV$6=0,0,$AV$6)","v":0}]
[{"$f":"Labels!$B$123","v":"   Grossesse/Maternité art. 15 CCT"},null,null,null,null,{"$f":"Labels!$B$124","v":"gm"},{"$f":"IF($AJ$7=0,0,$AJ$7)","v":0},null,{"$f":"IF($AK$7=0,0,$AK$7)","v":0},null,{"$f":"IF($AL$7=0,0,$AL$7)","v":0},null,{"$f":"IF($AM$7=0,0,$AM$7)","v":0},null,{"$f":"IF($AN$7=0,0,$AN$7)","v":0},null,{"$f":"IF($AO$7=0,0,$AO$7)","v":0},null,{"$f":"IF($AP$7=0,0,$AP$7)","v":0},null,{"$f":"IF($AQ$7=0,0,$AQ$7)","v":0},null,{"$f":"IF($AR$7=0,0,$AR$7)","v":0},null,{"$f":"IF($AS$7=0,0,$AS$7)","v":0},null,{"$f":"IF($AT$7=0,0,$AT$7)","v":0},null,{"$f":"IF($AU$7=0,0,$AU$7)","v":0},null,{"$f":"IF($AV$7=0,0,$AV$7)","v":0}]
[{"$f":"Labels!$B$125","v":"   Militaire/Promotion/Protection civile art. 16 CCT"},null,null,null,null,{"$f":"Labels!$B$126","v":"mi"},{"$f":"IF($AJ$8=0,0,$AJ$8)","v":0},null,{"$f":"IF($AK$8=0,0,$AK$8)","v":0},null,{"$f":"IF($AL$8=0,0,$AL$8)","v":0},null,{"$f":"IF($AM$8=0,0,$AM$8)","v":0},null,{"$f":"IF($AN$8=0,0,$AN$8)","v":0},null,{"$f":"IF($AO$8=0,0,$AO$8)","v":0},null,{"$f":"IF($AP$8=0,0,$AP$8)","v":0},null,{"$f":"IF($AQ$8=0,0,$AQ$8)","v":0},null,{"$f":"IF($AR$8=0,0,$AR$8)","v":0},null,{"$f":"IF($AS$8=0,0,$AS$8)","v":0},null,{"$f":"IF($AT$8=0,0,$AT$8)","v":0},null,{"$f":"IF($AU$8=0,0,$AU$8)","v":0},null,{"$f":"IF($AV$8=0,0,$AV$8)","v":0}]
[{"$f":"Labels!$B$127","v":"   Chômage partiel et perte de travail cause d'intempéries"},null,null,null,null,{"$f":"Labels!$B$128","v":"ch"},{"$f":"IF($AJ$11=0,0,$AJ$11)","v":0},null,{"$f":"IF($AK$11=0,0,$AK$11)","v":0},null,{"$f":"IF($AL$11=0,0,$AL$11)","v":0},null,{"$f":"IF($AM$11=0,0,$AM$11)","v":0},null,{"$f":"IF($AN$11=0,0,$AN$11)","v":0},null,{"$f":"IF($AO$11=0,0,$AO$11)","v":0},null,{"$f":"IF($AP$11=0,0,$AP$11)","v":0},null,{"$f":"IF($AQ$11=0,0,$AQ$11)","v":0},null,{"$f":"IF($AR$11=0,0,$AR$11)","v":0},null,{"$f":"IF($AS$11=0,0,$AS$11)","v":0},null,{"$f":"IF($AT$11=0,0,$AT$11)","v":0},null,{"$f":"IF($AU$11=0,0,$AU$11)","v":0},null,{"$f":"IF($AV$11=0,0,$AV$11)","v":0}]
[{"$f":"Labels!$B$129","v":"   Ecole professionnelle"},null,null,null,null,{"$f":"Labels!$B$130","v":"ep"},{"$f":"IF($AJ$9=0,0,$AJ$9)","v":0},null,{"$f":"IF($AK$9=0,0,$AK$9)","v":0},null,{"$f":"IF($AL$9=0,0,$AL$9)","v":0},null,{"$f":"IF($AM$9=0,0,$AM$9)","v":0},null,{"$f":"IF($AN$9=0,0,$AN$9)","v":0},null,{"$f":"IF($AO$9=0,0,$AO$9)","v":0},null,{"$f":"IF($AP$9=0,0,$AP$9)","v":0},null,{"$f":"IF($AQ$9=0,0,$AQ$9)","v":0},null,{"$f":"IF($AR$9=0,0,$AR$9)","v":0},null,{"$f":"IF($AS$9=0,0,$AS$9)","v":0},null,{"$f":"IF($AT$9=0,0,$AT$9)","v":0},null,{"$f":"IF($AU$9=0,0,$AU$9)","v":0},null,{"$f":"IF($AV$9=0,0,$AV$9)","v":0}]
[{"$f":"Labels!$B$131","v":"   Cours"},null,null,null,null,{"$f":"Labels!$B$132","v":"co"},{"$f":"IF($AJ$10=0,0,$AJ$10)","v":0},null,{"$f":"IF($AK$10=0,0,$AK$10)","v":0},null,{"$f":"IF($AL$10=0,0,$AL$10)","v":0},null,{"$f":"IF($AM$10=0,0,$AM$10)","v":0},null,{"$f":"IF($AN$10=0,0,$AN$10)","v":0},null,{"$f":"IF($AO$10=0,0,$AO$10)","v":0},null,{"$f":"IF($AP$10=0,0,$AP$10)","v":0},null,{"$f":"IF($AQ$10=0,0,$AQ$10)","v":0},null,{"$f":"IF($AR$10=0,0,$AR$10)","v":0},null,{"$f":"IF($AS$10=0,0,$AS$10)","v":0},null,{"$f":"IF($AT$10=0,0,$AT$10)","v":0},null,{"$f":"IF($AU$10=0,0,$AU$10)","v":0},null,{"$f":"IF($AV$10=0,0,$AV$10)","v":0}]
[{"$f":"Labels!$B$133","v":"Heures de compensation"},{"$f":"Labels!$B$134","v":"de l'année passée"},null,null,null,{"$f":"Labels!$B$135","v":"cp"},{"$f":"IF($AJ$12=0,0,$AJ$12)","v":0},null,{"$f":"IF($AK$12=0,0,$AK$12)","v":0},null,{"$f":"IF($AL$12=0,0,$AL$12)","v":0},null,{"$f":"IF($AM$12=0,0,$AM$12)","v":0},null,{"$f":"IF($AN$12=0,0,$AN$12)","v":0},null,{"$f":"IF($AO$12=0,0,$AO$12)","v":0},null,{"$f":"IF($AP$12=0,0,$AP$12)","v":0},null,{"$f":"IF($AQ$12=0,0,$AQ$12)","v":0},null,{"$f":"IF($AR$12=0,0,$AR$12)","v":0},null,null,null,null,null,null,null,{"$f":"IF($AV$12=0,0,$AV$12)","v":0}]
[null,{"$f":"Labels!$B$136","v":"de l'année en cours (contrôle)"},null,null,null,{"$f":"Labels!$B$137","v":"cc"},{"$f":"IF($AJ$15=0,0,$AJ$15)","v":0},null,{"$f":"IF($AK$15=0,0,$AK$15)","v":0},null,{"$f":"IF($AL$15=0,0,$AL$15)","v":0},null,{"$f":"IF($AM$15=0,0,$AM$15)","v":0},null,{"$f":"IF($AN$15=0,0,$AN$15)","v":0},null,{"$f":"IF($AO$15=0,0,$AO$15)","v":0},null,{"$f":"IF($AP$15=0,0,$AP$15)","v":0},null,{"$f":"IF($AQ$15=0,0,$AQ$15)","v":0},null,{"$f":"IF($AR$15=0,0,$AR$15)","v":0},null,{"$f":"IF($AS$15=0,0,$AS$15)","v":0},null,{"$f":"IF($AT$15=0,0,$AT$15)","v":0},null,{"$f":"IF($AU$15=0,0,$AU$15)","v":0},null,{"$f":"IF($AV$15=0,0,$AV$15)","v":0}]
[{"$f":"Labels!$B$138","v":"Paiement des heures"},{"$f":"Labels!$B$139","v":"de l'année passée"},null,null,null,null,{"$f":"IF($AJ$21=0,0,$AJ$21)","v":0},null,{"$f":"IF($AK$21=0,0,$AK$21)","v":0},null,{"$f":"IF($AL$21=0,0,$AL$21)","v":0},null,{"$f":"IF($AM$21=0,0,$AM$21)","v":0},null,{"$f":"IF($AN$21=0,0,$AN$21)","v":0},null,{"$f":"IF($AO$21=0,0,$AO$21)","v":0},null,{"$f":"IF($AP$21=0,0,$AP$21)","v":0},null,{"$f":"IF($AQ$21=0,0,$AQ$21)","v":0},null,{"$f":"IF($AR$21=0,0,$AR$21)","v":0},null,null,null,null,null,null,null,{"$f":"IF($AV$21=0,0,$AV$21)","v":0}]
[{"$f":"Labels!$B$140","v":"Différence en heures"},{"$f":"Labels!$B$141","v":"après compensation et paiement"},null,null,null,null,{"$f":"IF(ROUND($P$4,3)=0,0,$P$4-G384-G386)","v":0},null,{"$f":"IF(ROUND(G387,3)=0,0,G387-(SUM(I384+I386)))","v":0},null,{"$f":"IF(ROUND(I387,3)=0,0,I387-K386-K384)","v":0},null,{"$f":"IF(ROUND(K387,3)=0,0,K387-(SUM(M386+M384)))","v":0},null,{"$f":"IF(ROUND(M387,3)=0,0,M387-(SUM(O386+O384)))","v":0},null,{"$f":"IF(ROUND(O387,3)=0,0,O387-(SUM(Q386+Q384)))","v":0},null,{"$f":"IF(ROUND(Q387,3)=0,0,Q387-(SUM(S386+S384)))","v":0},null,{"$f":"IF(ROUND(S387,3)=0,0,S387-(SUM(U386+U384)))","v":0},null,{"$f":"IF(ROUND(U387,3)=0,0,U387-(SUM(W386+W384)))","v":0},null,{"$f":"IF($W$62<0.1,\"\",AY369)","v":""}]
[{"$f":"Labels!$B$138","v":"Paiement des heures"},{"$f":"Labels!$B$142","v":"de l'année en cours"},null,null,null,null,{"$f":"IF($AJ$22=0,0,$AJ$22)","v":0},null,{"$f":"IF($AK$22=0,0,$AK$22)","v":0},null,{"$f":"IF($AL$22=0,0,$AL$22)","v":0},null,{"$f":"IF($AM$22=0,0,$AM$22)","v":0},null,{"$f":"IF($AN$22=0,0,$AN$22)","v":0},null,{"$f":"IF($AO$22=0,0,$AO$22)","v":0},null,{"$f":"IF($AP$22=0,0,$AP$22)","v":0},null,{"$f":"IF($AQ$22=0,0,$AQ$22)","v":0},null,{"$f":"IF($AR$22=0,0,$AR$22)","v":0},null,{"$f":"IF($AS$22=0,0,$AS$22)","v":0},null,{"$f":"IF($AT$22=0,0,$AT$22)","v":0},null,{"$f":"IF($AU$22=0,0,$AU$22)","v":0},null,{"$f":"IF($AV$22=0,0,$AV$22)","v":0}]
[{"$f":"Labels!$B$143","v":"Heures manquantes"},{"$f":"Labels!$B$144","v":"de l'année en cours (contrôle)"},null,null,null,{"$f":"Labels!$B$145","v":"hm"},{"$f":"IF($AJ$14=0,0,$AJ$14)","v":0},null,{"$f":"IF($AK$14=0,0,$AK$14)","v":0},null,{"$f":"IF($AL$14=0,0,$AL$14)","v":0},null,{"$f":"IF($AM$14=0,0,$AM$14)","v":0},null,{"$f":"IF($AN$14=0,0,$AN$14)","v":0},null,{"$f":"IF($AO$14=0,0,$AO$14)","v":0},null,{"$f":"IF($AP$14=0,0,$AP$14)","v":0},null,{"$f":"IF($AQ$14=0,0,$AQ$14)","v":0},null,{"$f":"IF($AR$14=0,0,$AR$14)","v":0},null,{"$f":"IF($AS$14=0,0,$AS$14)","v":0},null,{"$f":"IF($AT$14=0,0,$AT$14)","v":0},null,{"$f":"IF($AU$14=0,0,$AU$14)","v":0},null,{"$f":"IF($AV$14=0,0,$AV$14)","v":0}]
[{"$f":"Labels!$B$146","v":"Total (majorations inclus)"},{"$f":"Labels!$B$147","v":"heures productives et inproductives"},null,null,null,null,{"$f":"IF($AG$35=0,0,$AG$35)","v":0},null,{"$f":"IF($AG$100=0,0,$AG$100)","v":0},null,{"$f":"IF($AG$165=0,0,$AG$165)","v":0},null,{"$f":"IF($AG$230=0,0,$AG$230)","v":0},null,{"$f":"IF($AG$295=0,0,$AG$295)","v":0},null,{"$f":"IF($AG$360=0,0,$AG$360)","v":0},null,{"$f":"IF($AG$425=0,0,$AG$425)","v":0},null,{"$f":"IF($AG$490=0,0,$AG$490)","v":0},null,{"$f":"IF($AG$555=0,0,$AG$555)","v":0},null,{"$f":"IF($AG$620=0,0,$AG$620)","v":0},null,{"$f":"IF($AG$685=0,0,$AG$685)","v":0},null,{"$f":"IF($AG$750=0,0,$AG$750)","v":0},null,{"$f":"SUM($G$65:$AD$65)","v":0}]
[{"$f":"Labels!$B$148","v":"Comparaison des heures"},{"$f":"Labels!$B$149","v":"aux heures théorique CCT (heures \nmanquantes de l'année passée incl.)"},null,null,null,null,{"$f":"IF($AG$37=0,0,$AG$37)-$AE$34+$P$5","v":-176},null,{"$f":"IF($AG$102=0,0,$AG$102)-$AE$99","v":-160},null,{"$f":"IF($AG$167=0,0,$AG$167)-$AE$164","v":-184},null,{"$f":"IF($AG$232=0,0,$AG$232)-$AE$229","v":-160},null,{"$f":"IF($AG$297=0,0,$AG$297)-$AE$294","v":-184},null,{"$f":"IF($AG$362=0,0,$AG$362)-$AE$359","v":-176},null,{"$f":"IF($AG$427=0,0,$AG$427)-$AE$424","v":-168},null,{"$f":"IF($AG$492=0,0,$AG$492)-$AE$489","v":-184},null,{"$f":"IF($AG$557=0,0,$AG$557)-$AE$554","v":-168},null,{"$f":"IF($AG$622=0,0,$AG$622)-$AE$619","v":-176},null,{"$f":"IF($AG$687=0,0,$AG$687)-$AE$684","v":-176},null,{"$f":"IF($AG$752=0,0,$AG$752)-$AE$749","v":-168},null,{"$f":"SUM($G$66:$AD$66)","v":-2080}]
[null,{"$f":"Labels!$B$151","v":"aux heures théorique (cumulées)"},null,null,null,null,{"$f":"IF(G365=0,0,$G$66)","v":-176},null,{"$f":"IF(I365=0,0,SUM($G$66:$J$66))","v":-336},null,{"$f":"IF(K365=0,0,SUM($G$66:$L$66))","v":-520},null,{"$f":"IF(M365=0,0,SUM($G$66:$N$66))","v":-680},null,{"$f":"IF(O365=0,0,SUM($G$66:$P$66))","v":-864},null,{"$f":"IF(Q365=0,0,SUM($G$66:$R$66))","v":-1040},null,{"$f":"IF(S365=0,0,SUM($G$66:$T$66))","v":-1208},null,{"$f":"IF(U365=0,0,SUM($G$66:$V$66))","v":-1392},null,{"$f":"IF(W365=0,0,SUM($G$66:$X$66))","v":-1560},null,{"$f":"IF(Y365=0,0,SUM($G$66:$Z$66))","v":-1736},null,{"$f":"IF(AA365=0,0,SUM($G$66:$AB$66))","v":-1912},null,{"$f":"IF(AC365=0,0,SUM($G$66:$AD$66))","v":-2080}]
[{"$f":"Labels!$B$153","v":"Vacances (contrôle)"},{"$f":"Labels!$B$154","v":"Vacances année passée"},null,null,null,null,{"$f":"IF($AA$4=0,0,$AA$4)","v":0},null,{"$f":"Labels!$B$155","v":"Vacances selon \nart 12.1 CCT"},null,null,null,{"$f":"IF($AA$5=0,0,$AA$5)","v":0},null,{"$f":"Labels!$B$156","v":"Total des vacances"},null,null,null,{"$f":"SUM(G393+M393)","v":0},null,{"$f":"Labels!$B$157","v":"Vacances prises"},null,null,null,{"$f":"IF($AV$4=0,0,$AV$4)","v":0},null,{"$f":"Labels!$B$158","v":"Vacances restantes"},null,null,null,{"$f":"IF(S393=0,0,S393-Y393)","v":0}]
[]
[]
[{"$f":"$A$3","v":"Nom/Prénom"},{"$f":"IF($B$3=\"\",\"\",$B$3)","v":"Modèle Pierre"},null,null,null,null,null,null,null,null,null,null,null,null,null,null,null,null,null,null,null,null,null,null,null,null,null,null,null,null,null,{"$f":"AF3","v":0}]
[{"$f":"$A$4","v":"Emploi %"},{"$f":"$AL$54","v":100},null,{"$f":"Labels!B95","v":"en juillet"}]
[{"$f":"$A$5","v":"Solde année en cours"},null,null,{"$f":"IF($AE$66=0,0,$AE$66)","v":-2080}]
[{"$f":"TEXT(DATE(YEAR(AP29),MONTH(AP29)+6,1),\"MMMM\"&Labels!B13)","v":"juillet"},{"$f":"$B$9","v":"Solde mois + / -"},null,null,null,{"$f":"(AG401-(SUM(AG402:AG416)-AE424))*-1","v":168},null,null,null,null,{"$f":"$K$9","v":" = "},{"$f":"$L$9","v":"Les cases marquées en jaune doivent être remplies (les autres seront calculées automatiquement)"},null,null,null,null,null,null,null,null,null,null,null,null,null,null,null,null,null,null,null,null,{"$f":"COUNT(B402:AF402)&\" \"&Labels!$B$63","v":"21 Jours"}]
[{"$f":"$A$10","v":"Jour"},{"$f":"AE335+1","v":"2023-07-01"},{"$f":"B400+1","v":"2023-07-02"},"2023-07-03","2023-07-04","2023-07-05","2023-07-06","2023-07-07","2023-07-08","2023-07-09","2023-07-10","2023-07-11","2023-07-12","2023-07-13","2023-07-14","2023-07-15","2023-07-16","2023-07-17","2023-07-18","2023-07-19","2023-07-20","2023-07-21","2023-07-22","2023-07-23","2023-07-24","2023-07-25","2023-07-26","2023-07-27","2023-07-28","2023-07-29","2023-07-30","2023-07-31"]
[{"$f":"$A$11","v":"semaine civile"},{"$f":"IF(B400=\"\",\"\",TRUNC((B400-DATE(YEAR(B400+3-MOD(B400-2,7)),1,MOD(B400-2,7)-9))/7))","v":26},26,27,27,27,27,27,27,27,28,28,28,28,28,28,28,29,29,29,29,29,29,29,30,30,30,30,30,30,30,31,null,"Woche"]
[{"$f":"$A$12","v":"Théorique sel. CCT"},{"$f":"IF(AND(MOD(B400,7)>=2,SUMPRODUCT(($AM$60:$AQ$60=MOD(B400,7))*$AM$54:$AQ$54),B979=\"\"),$J$7*SUMPRODUCT(($AM$77:$AQ$77=MOD(B400,7))*$AM$71:$AQ$71)%,\"\")","v":""},{"$f":"IF(AND(MOD(C400,7)>=2,SUMPRODUCT(($AM$60:$AQ$60=MOD(C400,7))*$AM$54:$AQ$54),C979=\"\"),$J$7*SUMPRODUCT(($AM$77:$AQ$77=MOD(C400,7))*$AM$71:$AQ$71)%,\"\")","v":""},{"$f":"IF(AND(MOD(D400,7)>=2,SUMPRODUCT(($AM$60:$AQ$60=MOD(D400,7))*$AM$54:$AQ$54),D979=\"\"),$J$7*SUMPRODUCT(($AM$77:$AQ$77=MOD(D400,7))*$AM$71:$AQ$71)%,\"\")","v":8},{"$f":"IF(AND(MOD(E400,7)>=2,SUMPRODUCT(($AM$60:$AQ$60=MOD(E400,7))*$AM$54:$AQ$54),E979=\"\"),$J$7*SUMPRODUCT(($AM$77:$AQ$77=MOD(E400,7))*$AM$71:$AQ$71)%,\"\")","v":8},{"$f":"IF(AND(MOD(F400,7)>=2,SUMPRODUCT(($AM$60:$AQ$60=MOD(F400,7))*$AM$54:$AQ$54),F979=\"\"),$J$7*SUMPRODUCT(($AM$77:$AQ$77=MOD(F400,7))*$AM$71:$AQ$71)%,\"\")","v":8},{"$f":"IF(AND(MOD(G400,7)>=2,SUMPRODUCT(($AM$60:$AQ$60=MOD(G400,7))*$AM$54:$AQ$54),G979=\"\"),$J$7*SUMPRODUCT(($AM$77:$AQ$77=MOD(G400,7))*$AM$71:$AQ$71)%,\"\")","v":8},{"$f":"IF(AND(MOD(H400,7)>=2,SUMPRODUCT(($AM$60:$AQ$60=MOD(H400,7))*$AM$54:$AQ$54),H979=\"\"),$J$7*SUMPRODUCT(($AM$77:$AQ$77=MOD(H400,7))*$AM$71:$AQ$71)%,\"\")","v":8},{"$f":"IF(AND(MOD(I400,7)>=2,SUMPRODUCT(($AM$60:$AQ$60=MOD(I400,7))*$AM$54:$AQ$54),I979=\"\"),$J$7*SUMPRODUCT(($AM$77:$AQ$77=MOD(I400,7))*$AM$71:$AQ$71)%,\"\")","v":""},{"$f":"IF(AND(MOD(J400,7)>=2,SUMPRODUCT(($AM$60:$AQ$60=MOD(J400,7))*$AM$54:$AQ$54),J979=\"\"),$J$7*SUMPRODUCT(($AM$77:$AQ$77=MOD(J400,7))*$AM$71:$AQ$71)%,\"\")","v":""},{"$f":"IF(AND(MOD(K400,7)>=2,SUMPRODUCT(($AM$60:$AQ$60=MOD(K400,7))*$AM$54:$AQ$54),K979=\"\"),$J$7*SUMPRODUCT(($AM$77:$AQ$77=MOD(K400,7))*$AM$71:$AQ$71)%,\"\")","v":8},{"$f":"IF(AND(MOD(L400,7)>=2,SUMPRODUCT(($AM$60:$AQ$60=MOD(L400,7))*$AM$54:$AQ$54),L979=\"\"),$J$7*SUMPRODUCT(($AM$77:$AQ$77=MOD(L400,7))*$AM$71:$AQ$71)%,\"\")","v":8},{"$f":"IF(AND(MOD(M400,7)>=2,SUMPRODUCT(($AM$60:$AQ$60=MOD(M400,7))*$AM$54:$AQ$54),M979=\"\"),$J$7*SUMPRODUCT(($AM$77:$AQ$77=MOD(M400,7))*$AM$71:$AQ$71)%,\"\")","v":8},{"$f":"IF(AND(MOD(N400,7)>=2,SUMPRODUCT(($AM$60:$AQ$60=MOD(N400,7))*$AM$54:$AQ$54),N979=\"\"),$J$7*SUMPRODUCT(($AM$77:$AQ$77=MOD(N400,7))*$AM$71:$AQ$71)%,\"\")","v":8},{"$f":"IF(AND(MOD(O400,7)>=2,SUMPRODUCT(($AM$60:$AQ$60=MOD(O400,7))*$AM$54:$AQ$54),O979=\"\"),$J$7*SUMPRODUCT(($AM$77:$AQ$77=MOD(O400,7))*$AM$71:$AQ$71)%,\"\")","v":8},{"$f":"IF(AND(MOD(P400,7)>=2,SUMPRODUCT(($AM$60:$AQ$60=MOD(P400,7))*$AM$54:$AQ$54),P979=\"\"),$J$7*SUMPRODUCT(($AM$77:$AQ$77=MOD(P400,7))*$AM$71:$AQ$71)%,\"\")","v":""},{"$f":"IF(AND(MOD(Q400,7)>=2,SUMPRODUCT(($AM$60:$AQ$60=MOD(Q400,7))*$AM$54:$AQ$54),Q979=\"\"),$J$7*SUMPRODUCT(($AM$77:$AQ$77=MOD(Q400,7))*$AM$71:$AQ$71)%,\"\")","v":""},{"$f":"IF(AND(MOD(R400,7)>=2,SUMPRODUCT(($AM$60:$AQ$60=MOD(R400,7))*$AM$54:$AQ$54),R979=\"\"),$J$7*SUMPRODUCT(($AM$77:$AQ$77=MOD(R400,7))*$AM$71:$AQ$71)%,\"\")","v":8},{"$f":"IF(AND(MOD(S400,7)>=2,SUMPRODUCT(($AM$60:$AQ$60=MOD(S400,7))*$AM$54:$AQ$54),S979=\"\"),$J$7*SUMPRODUCT(($AM$77:$AQ$77=MOD(S400,7))*$AM$71:$AQ$71)%,\"\")","v":8},{"$f":"IF(AND(MOD(T400,7)>=2,SUMPRODUCT(($AM$60:$AQ$60=MOD(T400,7))*$AM$54:$AQ$54),T979=\"\"),$J$7*SUMPRODUCT(($AM$77:$AQ$77=MOD(T400,7))*$AM$71:$AQ$71)%,\"\")","v":8},{"$f":"IF(AND(MOD(U400,7)>=2,SUMPRODUCT(($AM$60:$AQ$60=MOD(U400,7))*$AM$54:$AQ$54),U979=\"\"),$J$7*SUMPRODUCT(($AM$77:$AQ$77=MOD(U400,7))*$AM$71:$AQ$71)%,\"\")","v":8},{"$f":"IF(AND(MOD(V400,7)>=2,SUMPRODUCT(($AM$60:$AQ$60=MOD(V400,7))*$AM$54:$AQ$54),V979=\"\"),$J$7*SUMPRODUCT(($AM$77:$AQ$77=MOD(V400,7))*$AM$71:$AQ$71)%,\"\")","v":8},{"$f":"IF(AND(MOD(W400,7)>=2,SUMPRODUCT(($AM$60:$AQ$60=MOD(W400,7))*$AM$54:$AQ$54),W979=\"\"),$J$7*SUMPRODUCT(($AM$77:$AQ$77=MOD(W400,7))*$AM$71:$AQ$71)%,\"\")","v":""},{"$f":"IF(AND(MOD(X400,7)>=2,SUMPRODUCT(($AM$60:$AQ$60=MOD(X400,7))*$AM$54:$AQ$54),X979=\"\"),$J$7*SUMPRODUCT(($AM$77:$AQ$77=MOD(X400,7))*$AM$71:$AQ$71)%,\"\")","v":""},{"$f":"IF(AND(MOD(Y400,7)>=2,SUMPRODUCT(($AM$60:$AQ$60=MOD(Y400,7))*$AM$54:$AQ$54),Y979=\"\"),$J$7*SUMPRODUCT(($AM$77:$AQ$77=MOD(Y400,7))*$AM$71:$AQ$71)%,\"\")","v":8},{"$f":"IF(AND(MOD(Z400,7)>=2,SUMPRODUCT(($AM$60:$AQ$60=MOD(Z400,7))*$AM$54:$AQ$54),Z979=\"\"),$J$7*SUMPRODUCT(($AM$77:$AQ$77=MOD(Z400,7))*$AM$71:$AQ$71)%,\"\")","v":8},{"$f":"IF(AND(MOD(AA400,7)>=2,SUMPRODUCT(($AM$60:$AQ$60=MOD(AA400,7))*$AM$54:$AQ$54),AA979=\"\"),$J$7*SUMPRODUCT(($AM$77:$AQ$77=MOD(AA400,7))*$AM$71:$AQ$71)%,\"\")","v":8},{"$f":"IF(AND(MOD(AB400,7)>=2,SUMPRODUCT(($AM$60:$AQ$60=MOD(AB400,7))*$AM$54:$AQ$54),AB979=\"\"),$J$7*SUMPRODUCT(($AM$77:$AQ$77=MOD(AB400,7))*$AM$71:$AQ$71)%,\"\")","v":8},{"$f":"IF(AND(MOD(AC400,7)>=2,SUMPRODUCT(($AM$60:$AQ$60=MOD(AC400,7))*$AM$54:$AQ$54),AC979=\"\"),$J$7*SUMPRODUCT(($AM$77:$AQ$77=MOD(AC400,7))*$AM$71:$AQ$71)%,\"\")","v":8},{"$f":"IF(AND(MOD(AD400,7)>=2,SUMPRODUCT(($AM$60:$AQ$60=MOD(AD400,7))*$AM$54:$AQ$54),AD979=\"\"),$J$7*SUMPRODUCT(($AM$77:$AQ$77=MOD(AD400,7))*$AM$71:$AQ$71)%,\"\")","v":""},{"$f":"IF(AND(MOD(AE400,7)>=2,SUMPRODUCT(($AM$60:$AQ$60=MOD(AE400,7))*$AM$54:$AQ$54),AE979=\"\"),$J$7*SUMPRODUCT(($AM$77:$AQ$77=MOD(AE400,7))*$AM$71:$AQ$71)%,\"\")","v":""},{"$f":"IF(AND(MOD(AF400,7)>=2,SUMPRODUCT(($AM$60:$AQ$60=MOD(AF400,7))*$AM$54:$AQ$54),AF979=\"\"),$J$7*SUMPRODUCT(($AM$77:$AQ$77=MOD(AF400,7))*$AM$71:$AQ$71)%,\"\")","v":8},{"$f":"SUM(B402:AF402)","v":168},"[00]"]
[{"$f":"$A$13","v":"Absences"},{"$f":"B995","v":0},{"$f":"C995","v":0},0,0,0,0,0,0,0,0,0,0,0,0,0,0,0,0,0,0,0,0,0,0,0,0,0,0,0,0,0,{"$f":"SUM($AP$3:$AP$13)","v":0},"[01]"]
[{"$f":"$A$14","v":"Code"},{"$f":"IF(SUM(B982:B994)<>0,IF(MAX(B982:B994)<B995,Labels!$B$163,INDEX($AH$981:$AH$993,MATCH(MAX(B982:B994),B982:B994,0))),\"\")","v":""},{"$f":"IF(SUM(C982:C994)<>0,IF(MAX(C982:C994)<C995,Labels!$B$163,INDEX($AH$981:$AH$993,MATCH(MAX(C982:C994),C982:C994,0))),\"\")","v":""},{"$f":"IF(SUM(D982:D994)<>0,IF(MAX(D982:D994)<D995,Labels!$B$163,INDEX($AH$981:$AH$993,MATCH(MAX(D982:D994),D982:D994,0))),\"\")","v":""},{"$f":"IF(SUM(E982:E994)<>0,IF(MAX(E982:E994)<E995,Labels!$B$163,INDEX($AH$981:$AH$993,MATCH(MAX(E982:E994),E982:E994,0))),\"\")","v":""},{"$f":"IF(SUM(F982:F994)<>0,IF(MAX(F982:F994)<F995,Labels!$B$163,INDEX($AH$981:$AH$993,MATCH(MAX(F982:F994),F982:F994,0))),\"\")","v":""},{"$f":"IF(SUM(G982:G994)<>0,IF(MAX(G982:G994)<G995,Labels!$B$163,INDEX($AH$981:$AH$993,MATCH(MAX(G982:G994),G982:G994,0))),\"\")","v":""},{"$f":"IF(SUM(H982:H994)<>0,IF(MAX(H982:H994)<H995,Labels!$B$163,INDEX($AH$981:$AH$993,MATCH(MAX(H982:H994),H982:H994,0))),\"\")","v":""},{"$f":"IF(SUM(I982:I994)<>0,IF(MAX(I982:I994)<I995,Labels!$B$163,INDEX($AH$981:$AH$993,MATCH(MAX(I982:I994),I982:I994,0))),\"\")","v":""},{"$f":"IF(SUM(J982:J994)<>0,IF(MAX(J982:J994)<J995,Labels!$B$163,INDEX($AH$981:$AH$993,MATCH(MAX(J982:J994),J982:J994,0))),\"\")","v":""},{"$f":"IF(SUM(K982:K994)<>0,IF(MAX(K982:K994)<K995,Labels!$B$163,INDEX($AH$981:$AH$993,MATCH(MAX(K982:K994),K982:K994,0))),\"\")","v":""},{"$f":"IF(SUM(L982:L994)<>0,IF(MAX(L982:L994)<L995,Labels!$B$163,INDEX($AH$981:$AH$993,MATCH(MAX(L982:L994),L982:L994,0))),\"\")","v":""},{"$f":"IF(SUM(M982:M994)<>0,IF(MAX(M982:M994)<M995,Labels!$B$163,INDEX($AH$981:$AH$993,MATCH(MAX(M982:M994),M982:M994,0))),\"\")","v":""},{"$f":"IF(SUM(N982:N994)<>0,IF(MAX(N982:N994)<N995,Labels!$B$163,INDEX($AH$981:$AH$993,MATCH(MAX(N982:N994),N982:N994,0))),\"\")","v":""},{"$f":"IF(SUM(O982:O994)<>0,IF(MAX(O982:O994)<O995,Labels!$B$163,INDEX($AH$981:$AH$993,MATCH(MAX(O982:O994),O982:O994,0))),\"\")","v":""},{"$f":"IF(SUM(P982:P994)<>0,IF(MAX(P982:P994)<P995,Labels!$B$163,INDEX($AH$981:$AH$993,MATCH(MAX(P982:P994),P982:P994,0))),\"\")","v":""},{"$f":"IF(SUM(Q982:Q994)<>0,IF(MAX(Q982:Q994)<Q995,Labels!$B$163,INDEX($AH$981:$AH$993,MATCH(MAX(Q982:Q994),Q982:Q994,0))),\"\")","v":""},{"$f":"IF(SUM(R982:R994)<>0,IF(MAX(R982:R994)<R995,Labels!$B$163,INDEX($AH$981:$AH$993,MATCH(MAX(R982:R994),R982:R994,0))),\"\")","v":""},{"$f":"IF(SUM(S982:S994)<>0,IF(MAX(S982:S994)<S995,Labels!$B$163,INDEX($AH$981:$AH$993,MATCH(MAX(S982:S994),S982:S994,0))),\"\")","v":""},{"$f":"IF(SUM(T982:T994)<>0,IF(MAX(T982:T994)<T995,Labels!$B$163,INDEX($AH$981:$AH$993,MATCH(MAX(T982:T994),T982:T994,0))),\"\")","v":""},{"$f":"IF(SUM(U982:U994)<>0,IF(MAX(U982:U994)<U995,Labels!$B$163,INDEX($AH$981:$AH$993,MATCH(MAX(U982:U994),U982:U994,0))),\"\")","v":""},{"$f":"IF(SUM(V982:V994)<>0,IF(MAX(V982:V994)<V995,Labels!$B$163,INDEX($AH$981:$AH$993,MATCH(MAX(V982:V994),V982:V994,0))),\"\")","v":""},{"$f":"IF(SUM(W982:W994)<>0,IF(MAX(W982:W994)<W995,Labels!$B$163,INDEX($AH$981:$AH$993,MATCH(MAX(W982:W994),W982:W994,0))),\"\")","v":""},{"$f":"IF(SUM(X982:X994)<>0,IF(MAX(X982:X994)<X995,Labels!$B$163,INDEX($AH$981:$AH$993,MATCH(MAX(X982:X994),X982:X994,0))),\"\")","v":""},{"$f":"IF(SUM(Y982:Y994)<>0,IF(MAX(Y982:Y994)<Y995,Labels!$B$163,INDEX($AH$981:$AH$993,MATCH(MAX(Y982:Y994),Y982:Y994,0))),\"\")","v":""},{"$f":"IF(SUM(Z982:Z994)<>0,IF(MAX(Z982:Z994)<Z995,Labels!$B$163,INDEX($AH$981:$AH$993,MATCH(MAX(Z982:Z994),Z982:Z994,0))),\"\")","v":""},{"$f":"IF(SUM(AA982:AA994)<>0,IF(MAX(AA982:AA994)<AA995,Labels!$B$163,INDEX($AH$981:$AH$993,MATCH(MAX(AA982:AA994),AA982:AA994,0))),\"\")","v":""},{"$f":"IF(SUM(AB982:AB994)<>0,IF(MAX(AB982:AB994)<AB995,Labels!$B$163,INDEX($AH$981:$AH$993,MATCH(MAX(AB982:AB994),AB982:AB994,0))),\"\")","v":""},{"$f":"IF(SUM(AC982:AC994)<>0,IF(MAX(AC982:AC994)<AC995,Labels!$B$163,INDEX($AH$981:$AH$993,MATCH(MAX(AC982:AC994),AC982:AC994,0))),\"\")","v":""},{"$f":"IF(SUM(AD982:AD994)<>0,IF(MAX(AD982:AD994)<AD995,Labels!$B$163,INDEX($AH$981:$AH$993,MATCH(MAX(AD982:AD994),AD982:AD994,0))),\"\")","v":""},{"$f":"IF(SUM(AE982:AE994)<>0,IF(MAX(AE982:AE994)<AE995,Labels!$B$163,INDEX($AH$981:$AH$993,MATCH(MAX(AE982:AE994),AE982:AE994,0))),\"\")","v":""},{"$f":"IF(SUM(AF982:AF994)<>0,IF(MAX(AF982:AF994)<AF995,Labels!$B$163,INDEX($AH$981:$AH$993,MATCH(MAX(AF982:AF994),AF982:AF994,0))),\"\")","v":""},{"$f":"$AP$16*-1","v":0},"[02]"]
[{"$f":"$A$15","v":"00h00-06h00 1)"},null,null,null,null,null,null,null,null,null,null,null,null,null,null,null,null,null,null,null,null,null,null,null,null,null,null,null,null,null,null,null,{"$f":"SUM(B405:AF405)","v":0},"[04]"]
[{"$f":"$A$16","v":"06h00-20h00 2)"},null,null,null,null,null,null,null,null,null,null,null,null,null,null,null,null,null,null,null,null,null,null,null,null,null,null,null,null,null,null,null,{"$f":"SUM(B406:AF406)","v":0},"[03]"]
[{"$f":"$A$17","v":"20h00-24h00 3)"},null,null,null,null,null,null,null,null,null,null,null,null,null,null,null,null,null,null,null,null,null,null,null,null,null,null,null,null,null,null,null,{"$f":"SUM(B407:AF407)","v":0},"[05]"]
[{"$f":"$A$18","v":"Jours fériés \"jf\""},{"$f":"IF(WEEKDAY(B400,2)<=6,IF(CALENDRIER!E15=\"x\",Labels!$B$118,\"\"),\"\")","v":""},{"$f":"IF(WEEKDAY(C400,2)<=6,IF(CALENDRIER!F15=\"x\",Labels!$B$118,\"\"),\"\")","v":""},{"$f":"IF(WEEKDAY(D400,2)<=6,IF(CALENDRIER!G15=\"x\",Labels!$B$118,\"\"),\"\")","v":""},{"$f":"IF(WEEKDAY(E400,2)<=6,IF(CALENDRIER!H15=\"x\",Labels!$B$118,\"\"),\"\")","v":""},{"$f":"IF(WEEKDAY(F400,2)<=6,IF(CALENDRIER!I15=\"x\",Labels!$B$118,\"\"),\"\")","v":""},{"$f":"IF(WEEKDAY(G400,2)<=6,IF(CALENDRIER!J15=\"x\",Labels!$B$118,\"\"),\"\")","v":""},{"$f":"IF(WEEKDAY(H400,2)<=6,IF(CALENDRIER!K15=\"x\",Labels!$B$118,\"\"),\"\")","v":""},{"$f":"IF(WEEKDAY(I400,2)<=6,IF(CALENDRIER!L15=\"x\",Labels!$B$118,\"\"),\"\")","v":""},{"$f":"IF(WEEKDAY(J400,2)<=6,IF(CALENDRIER!M15=\"x\",Labels!$B$118,\"\"),\"\")","v":""},{"$f":"IF(WEEKDAY(K400,2)<=6,IF(CALENDRIER!N15=\"x\",Labels!$B$118,\"\"),\"\")","v":""},{"$f":"IF(WEEKDAY(L400,2)<=6,IF(CALENDRIER!O15=\"x\",Labels!$B$118,\"\"),\"\")","v":""},{"$f":"IF(WEEKDAY(M400,2)<=6,IF(CALENDRIER!P15=\"x\",Labels!$B$118,\"\"),\"\")","v":""},{"$f":"IF(WEEKDAY(N400,2)<=6,IF(CALENDRIER!Q15=\"x\",Labels!$B$118,\"\"),\"\")","v":""},{"$f":"IF(WEEKDAY(O400,2)<=6,IF(CALENDRIER!R15=\"x\",Labels!$B$118,\"\"),\"\")","v":""},{"$f":"IF(WEEKDAY(P400,2)<=6,IF(CALENDRIER!S15=\"x\",Labels!$B$118,\"\"),\"\")","v":""},{"$f":"IF(WEEKDAY(Q400,2)<=6,IF(CALENDRIER!T15=\"x\",Labels!$B$118,\"\"),\"\")","v":""},{"$f":"IF(WEEKDAY(R400,2)<=6,IF(CALENDRIER!U15=\"x\",Labels!$B$118,\"\"),\"\")","v":""},{"$f":"IF(WEEKDAY(S400,2)<=6,IF(CALENDRIER!V15=\"x\",Labels!$B$118,\"\"),\"\")","v":""},{"$f":"IF(WEEKDAY(T400,2)<=6,IF(CALENDRIER!W15=\"x\",Labels!$B$118,\"\"),\"\")","v":""},{"$f":"IF(WEEKDAY(U400,2)<=6,IF(CALENDRIER!X15=\"x\",Labels!$B$118,\"\"),\"\")","v":""},{"$f":"IF(WEEKDAY(V400,2)<=6,IF(CALENDRIER!Y15=\"x\",Labels!$B$118,\"\"),\"\")","v":""},{"$f":"IF(WEEKDAY(W400,2)<=6,IF(CALENDRIER!Z15=\"x\",Labels!$B$118,\"\"),\"\")","v":""},{"$f":"IF(WEEKDAY(X400,2)<=6,IF(CALENDRIER!AA15=\"x\",Labels!$B$118,\"\"),\"\")","v":""},{"$f":"IF(WEEKDAY(Y400,2)<=6,IF(CALENDRIER!AB15=\"x\",Labels!$B$118,\"\"),\"\")","v":""},{"$f":"IF(WEEKDAY(Z400,2)<=6,IF(CALENDRIER!AC15=\"x\",Labels!$B$118,\"\"),\"\")","v":""},{"$f":"IF(WEEKDAY(AA400,2)<=6,IF(CALENDRIER!AD15=\"x\",Labels!$B$118,\"\"),\"\")","v":""},{"$f":"IF(WEEKDAY(AB400,2)<=6,IF(CALENDRIER!AE15=\"x\",Labels!$B$118,\"\"),\"\")","v":""},{"$f":"IF(WEEKDAY(AC400,2)<=6,IF(CALENDRIER!AF15=\"x\",Labels!$B$118,\"\"),\"\")","v":""},{"$f":"IF(WEEKDAY(AD400,2)<=6,IF(CALENDRIER!AG15=\"x\",Labels!$B$118,\"\"),\"\")","v":""},{"$f":"IF(WEEKDAY(AE400,2)<=6,IF(CALENDRIER!AH15=\"x\",Labels!$B$118,\"\"),\"\")","v":""},{"$f":"IF(WEEKDAY(AF400,2)<=6,IF(CALENDRIER!AI15=\"x\",Labels!$B$118,\"\"),\"\")","v":""},null,"FT"]
[{"$f":"$A$19","v":"Majoration  \"jf\""},{"$f":"IF(AND(B408=Labels!$B$118,WEEKDAY(B400,2)<6,B$402<>\"\"),$J$7*SUMPRODUCT(($AM$77:$AQ$77=MOD(B400,7))*$AM$71:$AQ$71)%,\"\")","v":""},{"$f":"IF(AND(C408=Labels!$B$118,WEEKDAY(C400,2)<6,C$402<>\"\"),$J$7*SUMPRODUCT(($AM$77:$AQ$77=MOD(C400,7))*$AM$71:$AQ$71)%,\"\")","v":""},{"$f":"IF(AND(D408=Labels!$B$118,WEEKDAY(D400,2)<6,D$402<>\"\"),$J$7*SUMPRODUCT(($AM$77:$AQ$77=MOD(D400,7))*$AM$71:$AQ$71)%,\"\")","v":""},{"$f":"IF(AND(E408=Labels!$B$118,WEEKDAY(E400,2)<6,E$402<>\"\"),$J$7*SUMPRODUCT(($AM$77:$AQ$77=MOD(E400,7))*$AM$71:$AQ$71)%,\"\")","v":""},{"$f":"IF(AND(F408=Labels!$B$118,WEEKDAY(F400,2)<6,F$402<>\"\"),$J$7*SUMPRODUCT(($AM$77:$AQ$77=MOD(F400,7))*$AM$71:$AQ$71)%,\"\")","v":""},{"$f":"IF(AND(G408=Labels!$B$118,WEEKDAY(G400,2)<6,G$402<>\"\"),$J$7*SUMPRODUCT(($AM$77:$AQ$77=MOD(G400,7))*$AM$71:$AQ$71)%,\"\")","v":""},{"$f":"IF(AND(H408=Labels!$B$118,WEEKDAY(H400,2)<6,H$402<>\"\"),$J$7*SUMPRODUCT(($AM$77:$AQ$77=MOD(H400,7))*$AM$71:$AQ$71)%,\"\")","v":""},{"$f":"IF(AND(I408=Labels!$B$118,WEEKDAY(I400,2)<6,I$402<>\"\"),$J$7*SUMPRODUCT(($AM$77:$AQ$77=MOD(I400,7))*$AM$71:$AQ$71)%,\"\")","v":""},{"$f":"IF(AND(J408=Labels!$B$118,WEEKDAY(J400,2)<6,J$402<>\"\"),$J$7*SUMPRODUCT(($AM$77:$AQ$77=MOD(J400,7))*$AM$71:$AQ$71)%,\"\")","v":""},{"$f":"IF(AND(K408=Labels!$B$118,WEEKDAY(K400,2)<6,K$402<>\"\"),$J$7*SUMPRODUCT(($AM$77:$AQ$77=MOD(K400,7))*$AM$71:$AQ$71)%,\"\")","v":""},{"$f":"IF(AND(L408=Labels!$B$118,WEEKDAY(L400,2)<6,L$402<>\"\"),$J$7*SUMPRODUCT(($AM$77:$AQ$77=MOD(L400,7))*$AM$71:$AQ$71)%,\"\")","v":""},{"$f":"IF(AND(M408=Labels!$B$118,WEEKDAY(M400,2)<6,M$402<>\"\"),$J$7*SUMPRODUCT(($AM$77:$AQ$77=MOD(M400,7))*$AM$71:$AQ$71)%,\"\")","v":""},{"$f":"IF(AND(N408=Labels!$B$118,WEEKDAY(N400,2)<6,N$402<>\"\"),$J$7*SUMPRODUCT(($AM$77:$AQ$77=MOD(N400,7))*$AM$71:$AQ$71)%,\"\")","v":""},{"$f":"IF(AND(O408=Labels!$B$118,WEEKDAY(O400,2)<6,O$402<>\"\"),$J$7*SUMPRODUCT(($AM$77:$AQ$77=MOD(O400,7))*$AM$71:$AQ$71)%,\"\")","v":""},{"$f":"IF(AND(P408=Labels!$B$118,WEEKDAY(P400,2)<6,P$402<>\"\"),$J$7*SUMPRODUCT(($AM$77:$AQ$77=MOD(P400,7))*$AM$71:$AQ$71)%,\"\")","v":""},{"$f":"IF(AND(Q408=Labels!$B$118,WEEKDAY(Q400,2)<6,Q$402<>\"\"),$J$7*SUMPRODUCT(($AM$77:$AQ$77=MOD(Q400,7))*$AM$71:$AQ$71)%,\"\")","v":""},{"$f":"IF(AND(R408=Labels!$B$118,WEEKDAY(R400,2)<6,R$402<>\"\"),$J$7*SUMPRODUCT(($AM$77:$AQ$77=MOD(R400,7))*$AM$71:$AQ$71)%,\"\")","v":""},{"$f":"IF(AND(S408=Labels!$B$118,WEEKDAY(S400,2)<6,S$402<>\"\"),$J$7*SUMPRODUCT(($AM$77:$AQ$77=MOD(S400,7))*$AM$71:$AQ$71)%,\"\")","v":""},{"$f":"IF(AND(T408=Labels!$B$118,WEEKDAY(T400,2)<6,T$402<>\"\"),$J$7*SUMPRODUCT(($AM$77:$AQ$77=MOD(T400,7))*$AM$71:$AQ$71)%,\"\")","v":""},{"$f":"IF(AND(U408=Labels!$B$118,WEEKDAY(U400,2)<6,U$402<>\"\"),$J$7*SUMPRODUCT(($AM$77:$AQ$77=MOD(U400,7))*$AM$71:$AQ$71)%,\"\")","v":""},{"$f":"IF(AND(V408=Labels!$B$118,WEEKDAY(V400,2)<6,V$402<>\"\"),$J$7*SUMPRODUCT(($AM$77:$AQ$77=MOD(V400,7))*$AM$71:$AQ$71)%,\"\")","v":""},{"$f":"IF(AND(W408=Labels!$B$118,WEEKDAY(W400,2)<6,W$402<>\"\"),$J$7*SUMPRODUCT(($AM$77:$AQ$77=MOD(W400,7))*$AM$71:$AQ$71)%,\"\")","v":""},{"$f":"IF(AND(X408=Labels!$B$118,WEEKDAY(X400,2)<6,X$402<>\"\"),$J$7*SUMPRODUCT(($AM$77:$AQ$77=MOD(X400,7))*$AM$71:$AQ$71)%,\"\")","v":""},{"$f":"IF(AND(Y408=Labels!$B$118,WEEKDAY(Y400,2)<6,Y$402<>\"\"),$J$7*SUMPRODUCT(($AM$77:$AQ$77=MOD(Y400,7))*$AM$71:$AQ$71)%,\"\")","v":""},{"$f":"IF(AND(Z408=Labels!$B$118,WEEKDAY(Z400,2)<6,Z$402<>\"\"),$J$7*SUMPRODUCT(($AM$77:$AQ$77=MOD(Z400,7))*$AM$71:$AQ$71)%,\"\")","v":""},{"$f":"IF(AND(AA408=Labels!$B$118,WEEKDAY(AA400,2)<6,AA$402<>\"\"),$J$7*SUMPRODUCT(($AM$77:$AQ$77=MOD(AA400,7))*$AM$71:$AQ$71)%,\"\")","v":""},{"$f":"IF(AND(AB408=Labels!$B$118,WEEKDAY(AB400,2)<6,AB$402<>\"\"),$J$7*SUMPRODUCT(($AM$77:$AQ$77=MOD(AB400,7))*$AM$71:$AQ$71)%,\"\")","v":""},{"$f":"IF(AND(AC408=Labels!$B$118,WEEKDAY(AC400,2)<6,AC$402<>\"\"),$J$7*SUMPRODUCT(($AM$77:$AQ$77=MOD(AC400,7))*$AM$71:$AQ$71)%,\"\")","v":""},{"$f":"IF(AND(AD408=Labels!$B$118,WEEKDAY(AD400,2)<6,AD$402<>\"\"),$J$7*SUMPRODUCT(($AM$77:$AQ$77=MOD(AD400,7))*$AM$71:$AQ$71)%,\"\")","v":""},{"$f":"IF(AND(AE408=Labels!$B$118,WEEKDAY(AE400,2)<6,AE$402<>\"\"),$J$7*SUMPRODUCT(($AM$77:$AQ$77=MOD(AE400,7))*$AM$71:$AQ$71)%,\"\")","v":""},{"$f":"IF(AND(AF408=Labels!$B$118,WEEKDAY(AF400,2)<6,AF$402<>\"\"),$J$7*SUMPRODUCT(($AM$77:$AQ$77=MOD(AF400,7))*$AM$71:$AQ$71)%,\"\")","v":""},{"$f":"SUM(B409:AF409)","v":0},"[06]"]
[{"$f":"$A$20","v":"total quotidien"},{"$f":"SUM(B405:B407)","v":0},{"$f":"SUM(C405:C407)","v":0},0,0,0,0,0,0,0,0,0,0,0,0,0,0,0,0,0,0,0,0,0,0,0,0,0,0,0,0,0,null,"TT"]
[{"$f":"$A$21","v":"."},null,null,null,null,null,null,null,null,null,null,null,null,null,null,null,null,null,null,null,null,null,null,null,null,null,null,null,null,null,null,null,null,"R"]
[{"$f":"$A$22","v":"."},null,null,null,null,null,null,null,null,null,null,null,null,null,null,null,null,null,null,null,null,null,null,null,null,null,null,null,null,null,null,null,null,"R"]
[{"$f":"$A$23","v":"transition mois"},{"$f":"IF(WEEKDAY(B400)=1,TEXT(B400-1,\"MMM\"&Labels!B13),\"\")","v":""},null,null,null,null,null,null,null,null,null,null,null,null,null,null,null,null,null,null,null,null,null,null,null,null,null,null,null,null,null,{"$f":"IF(AND(WEEKDAY(AF400)>1,WEEKDAY(AF400)<7),TEXT(DATE($B$5,MONTH(AF400)+1,1),\"MMM\"&Labels!B13),\"\")","v":"août"},null,"MNT"]
[{"$f":"$A$24","v":"Total hebdomadaire"},{"$f":"IF(WEEKDAY(B400)=7,SUMIF($B336:$AF336,B401,$B345:$AF345)+SUMIF($B401:$AF401,B401,$B410:$AF410)+SUMIF($B466:$AF466,B401,$B475:$AF475),B413)","v":0},{"$f":"IF(WEEKDAY(C400)=7,SUMIF($B336:$AF336,C401,$B345:$AF345)+SUMIF($B401:$AF401,C401,$B410:$AF410)+SUMIF($B466:$AF466,C401,$B475:$AF475),\"\")","v":""},"","","","","",0,"","","","","","",0,"","","","","","",0,"","","","","","",0,"",{"$f":"IF(WEEKDAY(AF400)=7,SUMIF($B336:$AF336,AF401,$B345:$AF345)+SUMIF($B401:$AF401,AF401,$B410:$AF410)+SUMIF($B466:$AF466,AF401,$B475:$AF475),AF413)","v":"août"},null,"WT"]
[{"$f":"$A$25","v":"Majorations temp. 1)"},{"$f":"IF(B422=\"FALSCH\",\"\",B422)","v":""},{"$f":"IF(C422=\"FALSCH\",\"\",C422)","v":""},"","","","","","","","","","","","","","","","","","","","","","","","","","","","","",{"$f":"SUM(B415:AF415)","v":0},"[07]"]
[{"$f":"$A$26","v":"Majorations temp. 2)"},{"$f":"IF((B405+B407)=0,\"\",SUM(B405,B407))","v":""},{"$f":"IF((C405+C407)=0,\"\",SUM(C405,C407))","v":""},"","","","","","","","","","","","","","","","","","","","","","","","","","","","","",0,"[08]"]
[{"$f":"$A$27","v":"Majorations temp. 3)"},{"$f":"SUM(B418:B421)","v":0},{"$f":"SUM(C418:C421)","v":0},0,0,0,0,0,0,0,0,0,0,0,0,0,0,0,0,0,0,0,0,0,0,0,0,0,0,0,0,0,0,"[09]"]
[{"$f":"$A$28","v":"Dimanche journée"},{"$f":"IF(WEEKDAY(B400)=1,B406,\"\")","v":""},{"$f":"IF(WEEKDAY(C400)=1,C406,\"\")","v":0},"","","","","","",0,"","","","","","",0,"","","","","","",0,"","","","","","",0,"",0,"[09-ST]"]
[{"$f":"$A$29","v":"Dimanche nuit"},{"$f":"IF(WEEKDAY(B400)=1,SUM(B405+B407),\"\")","v":""},{"$f":"IF(WEEKDAY(C400)=1,SUM(C405+C407),\"\")","v":0},"","","","","","",0,"","","","","","",0,"","","","","","",0,"","","","","","",0,"",0,"[09-SN]"]
[{"$f":"$A$30","v":"jf-jomajoration"},{"$f":"IF(B408=Labels!$B$118,B406,\"\")","v":""},{"$f":"IF(C408=Labels!$B$118,C406,\"\")","v":""},{"$f":"IF(D408=Labels!$B$118,D406,\"\")","v":""},{"$f":"IF(E408=Labels!$B$118,E406,\"\")","v":""},{"$f":"IF(F408=Labels!$B$118,F406,\"\")","v":""},{"$f":"IF(G408=Labels!$B$118,G406,\"\")","v":""},{"$f":"IF(H408=Labels!$B$118,H406,\"\")","v":""},{"$f":"IF(I408=Labels!$B$118,I406,\"\")","v":""},{"$f":"IF(J408=Labels!$B$118,J406,\"\")","v":""},{"$f":"IF(K408=Labels!$B$118,K406,\"\")","v":""},{"$f":"IF(L408=Labels!$B$118,L406,\"\")","v":""},{"$f":"IF(M408=Labels!$B$118,M406,\"\")","v":""},{"$f":"IF(N408=Labels!$B$118,N406,\"\")","v":""},{"$f":"IF(O408=Labels!$B$118,O406,\"\")","v":""},{"$f":"IF(P408=Labels!$B$118,P406,\"\")","v":""},{"$f":"IF(Q408=Labels!$B$118,Q406,\"\")","v":""},{"$f":"IF(R408=Labels!$B$118,R406,\"\")","v":""},{"$f":"IF(S408=Labels!$B$118,S406,\"\")","v":""},{"$f":"IF(T408=Labels!$B$118,T406,\"\")","v":""},{"$f":"IF(U408=Labels!$B$118,U406,\"\")","v":""},{"$f":"IF(V408=Labels!$B$118,V406,\"\")","v":""},{"$f":"IF(W408=Labels!$B$118,W406,\"\")","v":""},{"$f":"IF(X408=Labels!$B$118,X406,\"\")","v":""},{"$f":"IF(Y408=Labels!$B$118,Y406,\"\")","v":""},{"$f":"IF(Z408=Labels!$B$118,Z406,\"\")","v":""},{"$f":"IF(AA408=Labels!$B$118,AA406,\"\")","v":""},{"$f":"IF(AB408=Labels!$B$118,AB406,\"\")","v":""},{"$f":"IF(AC408=Labels!$B$118,AC406,\"\")","v":""},{"$f":"IF(AD408=Labels!$B$118,AD406,\"\")","v":""},{"$f":"IF(AE408=Labels!$B$118,AE406,\"\")","v":""},{"$f":"IF(AF408=Labels!$B$118,AF406,\"\")","v":""},0,"[09-FT]"]
[{"$f":"$A$31","v":"jf-numajoration"},{"$f":"IF(B408=Labels!$B$118,SUM(B405,B407),\"\")","v":""},{"$f":"IF(C408=Labels!$B$118,SUM(C405,C407),\"\")","v":""},{"$f":"IF(D408=Labels!$B$118,SUM(D405,D407),\"\")","v":""},{"$f":"IF(E408=Labels!$B$118,SUM(E405,E407),\"\")","v":""},{"$f":"IF(F408=Labels!$B$118,SUM(F405,F407),\"\")","v":""},{"$f":"IF(G408=Labels!$B$118,SUM(G405,G407),\"\")","v":""},{"$f":"IF(H408=Labels!$B$118,SUM(H405,H407),\"\")","v":""},{"$f":"IF(I408=Labels!$B$118,SUM(I405,I407),\"\")","v":""},{"$f":"IF(J408=Labels!$B$118,SUM(J405,J407),\"\")","v":""},{"$f":"IF(K408=Labels!$B$118,SUM(K405,K407),\"\")","v":""},{"$f":"IF(L408=Labels!$B$118,SUM(L405,L407),\"\")","v":""},{"$f":"IF(M408=Labels!$B$118,SUM(M405,M407),\"\")","v":""},{"$f":"IF(N408=Labels!$B$118,SUM(N405,N407),\"\")","v":""},{"$f":"IF(O408=Labels!$B$118,SUM(O405,O407),\"\")","v":""},{"$f":"IF(P408=Labels!$B$118,SUM(P405,P407),\"\")","v":""},{"$f":"IF(Q408=Labels!$B$118,SUM(Q405,Q407),\"\")","v":""},{"$f":"IF(R408=Labels!$B$118,SUM(R405,R407),\"\")","v":""},{"$f":"IF(S408=Labels!$B$118,SUM(S405,S407),\"\")","v":""},{"$f":"IF(T408=Labels!$B$118,SUM(T405,T407),\"\")","v":""},{"$f":"IF(U408=Labels!$B$118,SUM(U405,U407),\"\")","v":""},{"$f":"IF(V408=Labels!$B$118,SUM(V405,V407),\"\")","v":""},{"$f":"IF(W408=Labels!$B$118,SUM(W405,W407),\"\")","v":""},{"$f":"IF(X408=Labels!$B$118,SUM(X405,X407),\"\")","v":""},{"$f":"IF(Y408=Labels!$B$118,SUM(Y405,Y407),\"\")","v":""},{"$f":"IF(Z408=Labels!$B$118,SUM(Z405,Z407),\"\")","v":""},{"$f":"IF(AA408=Labels!$B$118,SUM(AA405,AA407),\"\")","v":""},{"$f":"IF(AB408=Labels!$B$118,SUM(AB405,AB407),\"\")","v":""},{"$f":"IF(AC408=Labels!$B$118,SUM(AC405,AC407),\"\")","v":""},{"$f":"IF(AD408=Labels!$B$118,SUM(AD405,AD407),\"\")","v":""},{"$f":"IF(AE408=Labels!$B$118,SUM(AE405,AE407),\"\")","v":""},{"$f":"IF(AF408=Labels!$B$118,SUM(AF405,AF407),\"\")","v":""},0,"[09-FN]"]
[{"$f":"$A$32","v":"majoration caché (total hebd.)"},{"$f":"IF($B397>=80,IF(OR(ISTEXT(B414),B414=\"\",B414<$B$7),\"\",ROUND(((B414-$B$7)*25%)/25,4)*25),IF(B410>($B$7/5),ROUND(((B410-($B$7/5))*25%)/25,4)*25,\"\"))","v":""},{"$f":"IF($B397>=80,IF(OR(ISTEXT(C414),C414=\"\",C414<$B$7),\"\",ROUND(((C414-$B$7)*25%)/25,4)*25),IF(C410>($B$7/5),ROUND(((C410-($B$7/5))*25%)/25,4)*25,\"\"))","v":""},"","","","","","","","","","","","","","","","","","","","","","","","","","","","","",{"$f":"AG406","v":0},"[03]"]
[null,{"$f":"$B$33","v":"1)  25% majoration temporelle pour depassement les heures maximales"},null,null,null,null,null,null,null,null,null,{"$f":"$L$33","v":"2) 100% majoration temporelle pour travail de nuit"},null,null,null,null,null,null,null,{"$f":"$T$33","v":"Saisie des heures payées l'année passée"},null,null,null,null,null,null,null,null,null,null,null,null,{"$f":"SUM(AG405+AG407)","v":0},"[4-5]"]
[null,{"$f":"$B$34","v":"3) 100% majoration temporelle pour travail du dimanche et jour férié"},null,null,null,null,null,null,null,null,null,null,null,null,null,null,null,null,null,{"$f":"$T$34","v":"Saisie des heures payées exercice en cours (heures supplémentaires)"},null,null,null,null,null,null,null,null,null,null,null,null,{"$f":"SUM(AG405:AG407)","v":0},"[3-5]"]
[{"$f":"$A$35","v":"Notes"},null,null,null,null,null,null,null,null,null,null,null,null,null,null,null,null,null,null,null,null,null,null,null,null,null,null,null,null,null,null,null,{"$f":"SUM(AG403:AG417)","v":0},"[10]"]
[null,null,null,null,null,null,null,null,null,null,null,null,null,null,null,null,null,null,null,null,null,null,null,null,null,null,null,null,null,null,null,null,{"$f":"AG402","v":168},"[00]"]
[{"$f":"IF(AG979=0,\"\",\"effektives Pensum:  \"&ROUND(COUNT(B402:AF402)/(AG979+COUNT(B402:AF402))%*B397%*20,0)/20&\" %\")","v":""},null,null,null,null,null,null,null,null,null,null,null,null,null,null,null,null,null,null,null,null,null,null,null,null,null,null,null,null,null,null,null,{"$f":"SUM(AG425-AG426)","v":-168},"[11]"]
[]
[{"$f":"Labels!$B$103","v":"Résumé"},null,null,null,null,null,{"$f":"Labels!$B$77","v":"Jan"},null,{"$f":"Labels!$B$78","v":"Fév"},null,{"$f":"Labels!$B$79","v":"Mar"},null,{"$f":"Labels!$B$80","v":"Avr"},null,{"$f":"Labels!$B$81","v":"Mai"},null,{"$f":"Labels!$B$82","v":"Jun"},null,{"$f":"Labels!$B$83","v":"Jul"},null,{"$f":"Labels!$B$84","v":"Aoû"},null,{"$f":"Labels!$B$85","v":"Sep"},null,{"$f":"Labels!$B$86","v":"Oct"},null,{"$f":"Labels!$B$87","v":"Nov"},null,{"$f":"Labels!$B$88","v":"Déc"},null,{"$f":"Labels!$B$101","v":"Année"}]
[{"$f":"Labels!$B$20","v":"Emploi %"},null,null,null,null,null,{"$f":"IF($B$4=0,0,$B$4)","v":100},null,{"$f":"IF($B$72=0,0,$B$72)","v":100},null,{"$f":"IF($B$137=0,0,$B$137)","v":100},null,{"$f":"IF($B$202=0,0,$B$202)","v":100},null,{"$f":"IF($B$267=0,0,$B$267)","v":100},null,{"$f":"IF($B$332=0,0,$B$332)","v":100},null,{"$f":"IF($B$397=0,0,$B$397)","v":100},null,{"$f":"IF($B$462=0,0,$B$462)","v":100},null,{"$f":"IF($B$527=0,0,$B$527)","v":100},null,{"$f":"IF($B$592=0,0,$B$592)","v":100},null,{"$f":"IF($B$657=0,0,$B$657)","v":100},null,{"$f":"IF($B$722=0,0,$B$722)","v":100}]
[{"$f":"Labels!$B$104","v":"Heures théoriques selon CCT"},null,null,null,null,null,{"$f":"IF($AG$36=0,0,$AG$36)","v":176},null,{"$f":"IF($AG$101=0,0,$AG$101)","v":160},null,{"$f":"IF($AG$142=0,0,$AG$142)","v":184},null,{"$f":"IF($AG$231=0,0,$AG$231)","v":160},null,{"$f":"IF($AG$296=0,0,$AG$296)","v":184},null,{"$f":"IF($AG$361=0,0,$AG$361)","v":176},null,{"$f":"IF($AG$426=0,0,$AG$426)","v":168},null,{"$f":"IF($AG$491=0,0,$AG$491)","v":184},null,{"$f":"IF($AG$556=0,0,$AG$556)","v":168},null,{"$f":"IF($AG$621=0,0,$AG$621)","v":176},null,{"$f":"IF($AG$686=0,0,$AG$686)","v":176},null,{"$f":"IF($AG$751=0,0,$AG$751)","v":168},null,{"$f":"SUM(G431:AD431)","v":2080}]
[{"$f":"Labels!$B$105","v":"Total heures productives"},{"$f":"Labels!$B$106","v":"06.00 - 20.00 h"},null,null,null,null,{"$f":"IF($AG$32=0,0,$AG$32)","v":0},null,{"$f":"IF($AG$96=0,0,$AG$96)","v":0},null,{"$f":"IF($AG$161=0,0,$AG$161)","v":0},null,{"$f":"IF($AG$226=0,0,$AG$226)","v":0},null,{"$f":"IF($AG$291=0,0,$AG$291)","v":0},null,{"$f":"IF($AG$356=0,0,$AG$356)","v":0},null,{"$f":"IF($AG$421=0,0,$AG$421)","v":0},null,{"$f":"IF($AG$486=0,0,$AG$486)","v":0},null,{"$f":"IF($AG$551=0,0,$AG$551)","v":0},null,{"$f":"IF($AG$616=0,0,$AG$616)","v":0},null,{"$f":"IF($AG$681=0,0,$AG$681)","v":0},null,{"$f":"IF($AG$746=0,0,$AG$746)","v":0},null,{"$f":"SUM(G432:AD432)","v":0}]
[null,{"$f":"Labels!$B$107","v":"nuit, dimanche et jour férié"},null,null,null,null,{"$f":"IF($AG$33=0,0,$AG$33)","v":0},null,{"$f":"IF($AG$97=0,0,$AG$97)","v":0},null,{"$f":"IF($AG$162=0,0,$AG$162)","v":0},null,{"$f":"IF($AG$227=0,0,$AG$227)","v":0},null,{"$f":"IF($AG$292=0,0,$AG$292)","v":0},null,{"$f":"IF($AG$357=0,0,$AG$357)","v":0},null,{"$f":"IF($AG$422=0,0,$AG$422)","v":0},null,{"$f":"IF($AG$487=0,0,$AG$487)","v":0},null,{"$f":"IF($AG$552=0,0,$AG$552)","v":0},null,{"$f":"IF($AG$617=0,0,$AG$617)","v":0},null,{"$f":"IF($AG$682=0,0,$AG$682)","v":0},null,{"$f":"IF($AG$747=0,0,$AG$747)","v":0},null,{"$f":"SUM(G433:AD433)","v":0}]
[{"$f":"Labels!$B$108","v":"Majorations temporelles"},{"$f":"Labels!$B$109","v":"depassement des heures maximales"},null,null,null,null,{"$f":"IF($AG$25=0,0,$AG$25)","v":0},null,{"$f":"IF($AG$89=0,0,$AG$89)","v":0},null,{"$f":"IF($AG$154=0,0,$AG$154)","v":0},null,{"$f":"IF($AG$219=0,0,$AG$219)","v":0},null,{"$f":"IF($AG$284=0,0,$AG$284)","v":0},null,{"$f":"IF($AG$349=0,0,$AG$349)","v":0},null,{"$f":"IF($AG$414=0,0,$AG$414)","v":0},null,{"$f":"IF($AG$479=0,0,$AG$479)","v":0},null,{"$f":"IF($AG$544=0,0,$AG$544)","v":0},null,{"$f":"IF($AG$609=0,0,$AG$609)","v":0},null,{"$f":"IF($AG$674=0,0,$AG$674)","v":0},null,{"$f":"IF($AG$739=0,0,$AG$739)","v":0},null,{"$f":"SUM(G434:AD434)","v":0}]
[null,{"$f":"Labels!$B$110","v":"nuit, dimanche et jour férié"},null,null,null,null,{"$f":"IF($AJ$23=0,0,$AJ$23)","v":0},null,{"$f":"IF($AK$23=0,0,$AK$23)","v":0},null,{"$f":"IF($AL$23=0,0,$AL$23)","v":0},null,{"$f":"IF($AM$23=0,0,$AM$23)","v":0},null,{"$f":"IF($AN$23=0,0,$AN$23)","v":0},null,{"$f":"IF($AO$23=0,0,$AO$23)","v":0},null,{"$f":"IF($AP$23=0,0,$AP$23)","v":0},null,{"$f":"IF($AQ$23=0,0,$AQ$23)","v":0},null,{"$f":"IF($AR$23=0,0,$AR$23)","v":0},null,{"$f":"IF($AS$23=0,0,$AS$23)","v":0},null,{"$f":"IF($AT$23=0,0,$AT$23)","v":0},null,{"$f":"IF($AU$23=0,0,$AU$23)","v":0},null,{"$f":"SUM(G435:AD435)","v":0}]
[{"$f":"Labels!$B$111","v":"Heures inproductives"}]
[{"$f":"Labels!$B$112","v":"   Absences art. 11 CCT"},null,null,null,null,{"$f":"Labels!$B$113","v":"ab"},{"$f":"IF($AJ$3=0,0,$AJ$3)","v":0},null,{"$f":"IF($AK$3=0,0,$AK$3)","v":0},null,{"$f":"IF($AL$3=0,0,$AL$3)","v":0},null,{"$f":"IF($AM$3=0,0,$AM$3)","v":0},null,{"$f":"IF($AN$3=0,0,$AN$3)","v":0},null,{"$f":"IF($AO$3=0,0,$AO$3)","v":0},null,{"$f":"IF($AP$3=0,0,$AP$3)","v":0},null,{"$f":"IF($AQ$3=0,0,$AQ$3)","v":0},null,{"$f":"IF($AR$3=0,0,$AR$3)","v":0},null,{"$f":"IF($AS$3=0,0,$AS$3)","v":0},null,{"$f":"IF(AT$3=0,0,$AT$3)","v":0},null,{"$f":"IF($AU$3=0,0,$AU$3)","v":0},null,{"$f":"IF($AV$3=0,0,$AV$3)","v":0}]
[{"$f":"Labels!$B$114","v":"   Vacances art. 12.1 CCT"},null,null,null,null,{"$f":"Labels!$B$115","v":"va"},{"$f":"IF($AJ$4=0,0,$AJ$4)","v":0},null,{"$f":"IF($AK$4=0,0,$AK$4)","v":0},null,{"$f":"IF($AL$4=0,0,$AL$4)","v":0},null,{"$f":"IF($AM$4=0,0,$AM$4)","v":0},null,{"$f":"IF($AN$4=0,0,$AN$4)","v":0},null,{"$f":"IF($AO$4=0,0,$AO$4)","v":0},null,{"$f":"IF($AP$4=0,0,$AP$4)","v":0},null,{"$f":"IF($AQ$4=0,0,$AQ$4)","v":0},null,{"$f":"IF($AR$4=0,0,$AR$4)","v":0},null,{"$f":"IF($AS$4=0,0,$AS$4)","v":0},null,{"$f":"IF($AT$4=0,0,$AT$4)","v":0},null,{"$f":"IF($AU$4=0,0,$AU$4)","v":0},null,{"$f":"IF($AV$4=0,0,$AV$4)","v":0}]
[{"$f":"Labels!$B$181","v":"   vacances non payées"},null,null,null,null,{"$f":"Labels!$B$182","v":"vn"},{"$f":"IF($AJ$13=0,0,$AJ$13)","v":0},null,{"$f":"IF($AK$13=0,0,$AK$13)","v":0},null,{"$f":"IF($AL$13=0,0,$AL$13)","v":0},null,{"$f":"IF($AM$13=0,0,$AM$13)","v":0},null,{"$f":"IF($AN$13=0,0,$AN$13)","v":0},null,{"$f":"IF($AO$13=0,0,$AO$13)","v":0},null,{"$f":"IF($AP$13=0,0,$AP$13)","v":0},null,{"$f":"IF($AQ$13=0,0,$AQ$13)","v":0},null,{"$f":"IF($AR$13=0,0,$AR$13)","v":0},null,{"$f":"IF($AS$13=0,0,$AS$13)","v":0},null,{"$f":"IF($AT$13=0,0,$AT$13)","v":0},null,{"$f":"IF($AU$13=0,0,$AU$13)","v":0},null,{"$f":"IF($AV$13=0,0,$AV$13)","v":0}]
[{"$f":"Labels!$B$116","v":"   Jours fériés art. 12.2 CCT"},null,{"$f":"IF($AJ$20=\"\",\"\",$AJ$20)","v":""},null,null,{"$f":"Labels!$B$118","v":"jf"},{"$f":"IF($AJ$18=0,0,$AJ$18)","v":0},null,{"$f":"IF($AK$18=0,0,$AK$18)","v":0},null,{"$f":"IF($AL$18=0,0,$AL$18)","v":0},null,{"$f":"IF($AM$18=0,0,$AM$18)","v":0},null,{"$f":"IF($AN$18=0,0,$AN$18)","v":0},null,{"$f":"IF($AO$18=0,0,$AO$18)","v":0},null,{"$f":"IF($AP$18=0,0,$AP$18)","v":0},null,{"$f":"IF($AQ$18=0,0,$AQ$18)","v":0},null,{"$f":"IF($AR$18=0,0,$AR$18)","v":0},null,{"$f":"IF($AS$18=0,0,$AS$18)","v":0},null,{"$f":"IF($AT$18=0,0,$AT$18)","v":0},null,{"$f":"IF($AU$18=0,0,$AU$18)","v":0},null,{"$f":"IF($AV$18=0,0,$AV$18)","v":0}]
[{"$f":"Labels!$B$119","v":"   Maladie art. 13 CCT"},null,null,null,null,{"$f":"Labels!$B$120","v":"ma"},{"$f":"IF($AJ$5=0,0,$AJ$5)","v":0},null,{"$f":"IF($AK$5=0,0,$AK$5)","v":0},null,{"$f":"IF($AL$5=0,0,$AL$5)","v":0},null,{"$f":"IF($AM$5=0,0,$AM$5)","v":0},null,{"$f":"IF($AN$5=0,0,$AN$5)","v":0},null,{"$f":"IF($AO$5=0,0,$AO$5)","v":0},null,{"$f":"IF($AP$5=0,0,$AP$5)","v":0},null,{"$f":"IF($AQ$5=0,0,$AQ$5)","v":0},null,{"$f":"IF($AR$5=0,0,$AR$5)","v":0},null,{"$f":"IF($AS$5=0,0,$AS$5)","v":0},null,{"$f":"IF($AT$5=0,0,$AT$5)","v":0},null,{"$f":"IF($AU$5=0,0,$AU$5)","v":0},null,{"$f":"IF($AV$5=0,0,$AV$5)","v":0}]
[{"$f":"Labels!$B$184","v":"non payeé"},null,null,null,null,null,{"$f":"IF(AJ$16=0,0,AJ$16)","v":0},null,{"$f":"IF($AK$16=0,0,$AK$16)","v":0},null,{"$f":"IF($AL$16=0,0,$AL$16)","v":0},null,{"$f":"IF($AM$16=0,0,$AM$16)","v":0},null,{"$f":"IF($AN$16=0,0,$AN$16)","v":0},null,{"$f":"IF($AO$16=0,0,$AO$16)","v":0},null,{"$f":"IF($AP$16=0,0,$AP$16)","v":0},null,{"$f":"IF($AQ$16=0,0,$AQ$16)","v":0},null,{"$f":"IF($AR$16=0,0,$AR$16)","v":0},null,{"$f":"IF($AS$16=0,0,$AS$16)","v":0},null,{"$f":"IF($AT$16=0,0,$AT$16)","v":0},null,{"$f":"IF($AU$16=0,0,$AU$16)","v":0},null,{"$f":"IF($AV$16=0,0,$AV$16)","v":0}]
[{"$f":"Labels!$B$121","v":"   Accident art. 14 CCT"},null,null,null,null,{"$f":"Labels!$B$122","v":"ac"},{"$f":"IF($AJ$6=0,0,$AJ$6)","v":0},null,{"$f":"IF($AK$6=0,0,$AK$6)","v":0},null,{"$f":"IF($AL$6=0,0,$AL$6)","v":0},null,{"$f":"IF($AM$6=0,0,$AM$6)","v":0},null,{"$f":"IF($AN$6=0,0,$AN$6)","v":0},null,{"$f":"IF($AO$6=0,0,$AO$6)","v":0},null,{"$f":"IF($AP$6=0,0,$AP$6)","v":0},null,{"$f":"IF($AQ$6=0,0,$AQ$6)","v":0},null,{"$f":"IF($AR$6=0,0,$AR$6)","v":0},null,{"$f":"IF($AS$6=0,0,$AS$6)","v":0},null,{"$f":"IF($AT$6=0,0,$AT$6)","v":0},null,{"$f":"IF($AU$6=0,0,$AU$6)","v":0},null,{"$f":"IF($AV$6=0,0,$AV$6)","v":0}]
[{"$f":"Labels!$B$123","v":"   Grossesse/Maternité art. 15 CCT"},null,null,null,null,{"$f":"Labels!$B$124","v":"gm"},{"$f":"IF($AJ$7=0,0,$AJ$7)","v":0},null,{"$f":"IF($AK$7=0,0,$AK$7)","v":0},null,{"$f":"IF($AL$7=0,0,$AL$7)","v":0},null,{"$f":"IF($AM$7=0,0,$AM$7)","v":0},null,{"$f":"IF($AN$7=0,0,$AN$7)","v":0},null,{"$f":"IF($AO$7=0,0,$AO$7)","v":0},null,{"$f":"IF($AP$7=0,0,$AP$7)","v":0},null,{"$f":"IF($AQ$7=0,0,$AQ$7)","v":0},null,{"$f":"IF($AR$7=0,0,$AR$7)","v":0},null,{"$f":"IF($AS$7=0,0,$AS$7)","v":0},null,{"$f":"IF($AT$7=0,0,$AT$7)","v":0},null,{"$f":"IF($AU$7=0,0,$AU$7)","v":0},null,{"$f":"IF($AV$7=0,0,$AV$7)","v":0}]
[{"$f":"Labels!$B$125","v":"   Militaire/Promotion/Protection civile art. 16 CCT"},null,null,null,null,{"$f":"Labels!$B$126","v":"mi"},{"$f":"IF($AJ$8=0,0,$AJ$8)","v":0},null,{"$f":"IF($AK$8=0,0,$AK$8)","v":0},null,{"$f":"IF($AL$8=0,0,$AL$8)","v":0},null,{"$f":"IF($AM$8=0,0,$AM$8)","v":0},null,{"$f":"IF($AN$8=0,0,$AN$8)","v":0},null,{"$f":"IF($AO$8=0,0,$AO$8)","v":0},null,{"$f":"IF($AP$8=0,0,$AP$8)","v":0},null,{"$f":"IF($AQ$8=0,0,$AQ$8)","v":0},null,{"$f":"IF($AR$8=0,0,$AR$8)","v":0},null,{"$f":"IF($AS$8=0,0,$AS$8)","v":0},null,{"$f":"IF($AT$8=0,0,$AT$8)","v":0},null,{"$f":"IF($AU$8=0,0,$AU$8)","v":0},null,{"$f":"IF($AV$8=0,0,$AV$8)","v":0}]
[{"$f":"Labels!$B$127","v":"   Chômage partiel et perte de travail cause d'intempéries"},null,null,null,null,{"$f":"Labels!$B$128","v":"ch"},{"$f":"IF($AJ$11=0,0,$AJ$11)","v":0},null,{"$f":"IF($AK$11=0,0,$AK$11)","v":0},null,{"$f":"IF($AL$11=0,0,$AL$11)","v":0},null,{"$f":"IF($AM$11=0,0,$AM$11)","v":0},null,{"$f":"IF($AN$11=0,0,$AN$11)","v":0},null,{"$f":"IF($AO$11=0,0,$AO$11)","v":0},null,{"$f":"IF($AP$11=0,0,$AP$11)","v":0},null,{"$f":"IF($AQ$11=0,0,$AQ$11)","v":0},null,{"$f":"IF($AR$11=0,0,$AR$11)","v":0},null,{"$f":"IF($AS$11=0,0,$AS$11)","v":0},null,{"$f":"IF($AT$11=0,0,$AT$11)","v":0},null,{"$f":"IF($AU$11=0,0,$AU$11)","v":0},null,{"$f":"IF($AV$11=0,0,$AV$11)","v":0}]
[{"$f":"Labels!$B$129","v":"   Ecole professionnelle"},null,null,null,null,{"$f":"Labels!$B$130","v":"ep"},{"$f":"IF($AJ$9=0,0,$AJ$9)","v":0},null,{"$f":"IF($AK$9=0,0,$AK$9)","v":0},null,{"$f":"IF($AL$9=0,0,$AL$9)","v":0},null,{"$f":"IF($AM$9=0,0,$AM$9)","v":0},null,{"$f":"IF($AN$9=0,0,$AN$9)","v":0},null,{"$f":"IF($AO$9=0,0,$AO$9)","v":0},null,{"$f":"IF($AP$9=0,0,$AP$9)","v":0},null,{"$f":"IF($AQ$9=0,0,$AQ$9)","v":0},null,{"$f":"IF($AR$9=0,0,$AR$9)","v":0},null,{"$f":"IF($AS$9=0,0,$AS$9)","v":0},null,{"$f":"IF($AT$9=0,0,$AT$9)","v":0},null,{"$f":"IF($AU$9=0,0,$AU$9)","v":0},null,{"$f":"IF($AV$9=0,0,$AV$9)","v":0}]
[{"$f":"Labels!$B$131","v":"   Cours"},null,null,null,null,{"$f":"Labels!$B$132","v":"co"},{"$f":"IF($AJ$10=0,0,$AJ$10)","v":0},null,{"$f":"IF($AK$10=0,0,$AK$10)","v":0},null,{"$f":"IF($AL$10=0,0,$AL$10)","v":0},null,{"$f":"IF($AM$10=0,0,$AM$10)","v":0},null,{"$f":"IF($AN$10=0,0,$AN$10)","v":0},null,{"$f":"IF($AO$10=0,0,$AO$10)","v":0},null,{"$f":"IF($AP$10=0,0,$AP$10)","v":0},null,{"$f":"IF($AQ$10=0,0,$AQ$10)","v":0},null,{"$f":"IF($AR$10=0,0,$AR$10)","v":0},null,{"$f":"IF($AS$10=0,0,$AS$10)","v":0},null,{"$f":"IF($AT$10=0,0,$AT$10)","v":0},null,{"$f":"IF($AU$10=0,0,$AU$10)","v":0},null,{"$f":"IF($AV$10=0,0,$AV$10)","v":0}]
[{"$f":"Labels!$B$133","v":"Heures de compensation"},{"$f":"Labels!$B$134","v":"de l'année passée"},null,null,null,{"$f":"Labels!$B$135","v":"cp"},{"$f":"IF($AJ$12=0,0,$AJ$12)","v":0},null,{"$f":"IF($AK$12=0,0,$AK$12)","v":0},null,{"$f":"IF($AL$12=0,0,$AL$12)","v":0},null,{"$f":"IF($AM$12=0,0,$AM$12)","v":0},null,{"$f":"IF($AN$12=0,0,$AN$12)","v":0},null,{"$f":"IF($AO$12=0,0,$AO$12)","v":0},null,{"$f":"IF($AP$12=0,0,$AP$12)","v":0},null,{"$f":"IF($AQ$12=0,0,$AQ$12)","v":0},null,{"$f":"IF($AR$12=0,0,$AR$12)","v":0},null,null,null,null,null,null,null,{"$f":"IF($AV$12=0,0,$AV$12)","v":0}]
[null,{"$f":"Labels!$B$136","v":"de l'année en cours (contrôle)"},null,null,null,{"$f":"Labels!$B$137","v":"cc"},{"$f":"IF($AJ$15=0,0,$AJ$15)","v":0},null,{"$f":"IF($AK$15=0,0,$AK$15)","v":0},null,{"$f":"IF($AL$15=0,0,$AL$15)","v":0},null,{"$f":"IF($AM$15=0,0,$AM$15)","v":0},null,{"$f":"IF($AN$15=0,0,$AN$15)","v":0},null,{"$f":"IF($AO$15=0,0,$AO$15)","v":0},null,{"$f":"IF($AP$15=0,0,$AP$15)","v":0},null,{"$f":"IF($AQ$15=0,0,$AQ$15)","v":0},null,{"$f":"IF($AR$15=0,0,$AR$15)","v":0},null,{"$f":"IF($AS$15=0,0,$AS$15)","v":0},null,{"$f":"IF($AT$15=0,0,$AT$15)","v":0},null,{"$f":"IF($AU$15=0,0,$AU$15)","v":0},null,{"$f":"IF($AV$15=0,0,$AV$15)","v":0}]
[{"$f":"Labels!$B$138","v":"Paiement des heures"},{"$f":"Labels!$B$139","v":"de l'année passée"},null,null,null,null,{"$f":"IF($AJ$21=0,0,$AJ$21)","v":0},null,{"$f":"IF($AK$21=0,0,$AK$21)","v":0},null,{"$f":"IF($AL$21=0,0,$AL$21)","v":0},null,{"$f":"IF($AM$21=0,0,$AM$21)","v":0},null,{"$f":"IF($AN$21=0,0,$AN$21)","v":0},null,{"$f":"IF($AO$21=0,0,$AO$21)","v":0},null,{"$f":"IF($AP$21=0,0,$AP$21)","v":0},null,{"$f":"IF($AQ$21=0,0,$AQ$21)","v":0},null,{"$f":"IF($AR$21=0,0,$AR$21)","v":0},null,null,null,null,null,null,null,{"$f":"IF($AV$21=0,0,$AV$21)","v":0}]
[{"$f":"Labels!$B$140","v":"Différence en heures"},{"$f":"Labels!$B$141","v":"après compensation et paiement"},null,null,null,null,{"$f":"IF(ROUND($P$4,3)=0,0,$P$4-G449-G451)","v":0},null,{"$f":"IF(ROUND(G452,3)=0,0,G452-(SUM(I449+I451)))","v":0},null,{"$f":"IF(ROUND(I452,3)=0,0,I452-K451-K449)","v":0},null,{"$f":"IF(ROUND(K452,3)=0,0,K452-(SUM(M451+M449)))","v":0},null,{"$f":"IF(ROUND(M452,3)=0,0,M452-(SUM(O451+O449)))","v":0},null,{"$f":"IF(ROUND(O452,3)=0,0,O452-(SUM(Q451+Q449)))","v":0},null,{"$f":"IF(ROUND(Q452,3)=0,0,Q452-(SUM(S451+S449)))","v":0},null,{"$f":"IF(ROUND(S452,3)=0,0,S452-(SUM(U451+U449)))","v":0},null,{"$f":"IF(ROUND(U452,3)=0,0,U452-(SUM(W451+W449)))","v":0},null,{"$f":"IF($W$62<0.1,\"\",AY434)","v":""}]
[{"$f":"Labels!$B$138","v":"Paiement des heures"},{"$f":"Labels!$B$142","v":"de l'année en cours"},null,null,null,null,{"$f":"IF($AJ$22=0,0,$AJ$22)","v":0},null,{"$f":"IF($AK$22=0,0,$AK$22)","v":0},null,{"$f":"IF($AL$22=0,0,$AL$22)","v":0},null,{"$f":"IF($AM$22=0,0,$AM$22)","v":0},null,{"$f":"IF($AN$22=0,0,$AN$22)","v":0},null,{"$f":"IF($AO$22=0,0,$AO$22)","v":0},null,{"$f":"IF($AP$22=0,0,$AP$22)","v":0},null,{"$f":"IF($AQ$22=0,0,$AQ$22)","v":0},null,{"$f":"IF($AR$22=0,0,$AR$22)","v":0},null,{"$f":"IF($AS$22=0,0,$AS$22)","v":0},null,{"$f":"IF($AT$22=0,0,$AT$22)","v":0},null,{"$f":"IF($AU$22=0,0,$AU$22)","v":0},null,{"$f":"IF($AV$22=0,0,$AV$22)","v":0}]
[{"$f":"Labels!$B$143","v":"Heures manquantes"},{"$f":"Labels!$B$144","v":"de l'année en cours (contrôle)"},null,null,null,{"$f":"Labels!$B$145","v":"hm"},{"$f":"IF($AJ$14=0,0,$AJ$14)","v":0},null,{"$f":"IF($AK$14=0,0,$AK$14)","v":0},null,{"$f":"IF($AL$14=0,0,$AL$14)","v":0},null,{"$f":"IF($AM$14=0,0,$AM$14)","v":0},null,{"$f":"IF($AN$14=0,0,$AN$14)","v":0},null,{"$f":"IF($AO$14=0,0,$AO$14)","v":0},null,{"$f":"IF($AP$14=0,0,$AP$14)","v":0},null,{"$f":"IF($AQ$14=0,0,$AQ$14)","v":0},null,{"$f":"IF($AR$14=0,0,$AR$14)","v":0},null,{"$f":"IF($AS$14=0,0,$AS$14)","v":0},null,{"$f":"IF($AT$14=0,0,$AT$14)","v":0},null,{"$f":"IF($AU$14=0,0,$AU$14)","v":0},null,{"$f":"IF($AV$14=0,0,$AV$14)","v":0}]
[{"$f":"Labels!$B$146","v":"Total (majorations inclus)"},{"$f":"Labels!$B$147","v":"heures productives et inproductives"},null,null,null,null,{"$f":"IF($AG$35=0,0,$AG$35)","v":0},null,{"$f":"IF($AG$100=0,0,$AG$100)","v":0},null,{"$f":"IF($AG$165=0,0,$AG$165)","v":0},null,{"$f":"IF($AG$230=0,0,$AG$230)","v":0},null,{"$f":"IF($AG$295=0,0,$AG$295)","v":0},null,{"$f":"IF($AG$360=0,0,$AG$360)","v":0},null,{"$f":"IF($AG$425=0,0,$AG$425)","v":0},null,{"$f":"IF($AG$490=0,0,$AG$490)","v":0},null,{"$f":"IF($AG$555=0,0,$AG$555)","v":0},null,{"$f":"IF($AG$620=0,0,$AG$620)","v":0},null,{"$f":"IF($AG$685=0,0,$AG$685)","v":0},null,{"$f":"IF($AG$750=0,0,$AG$750)","v":0},null,{"$f":"SUM($G$65:$AD$65)","v":0}]
[{"$f":"Labels!$B$148","v":"Comparaison des heures"},{"$f":"Labels!$B$149","v":"aux heures théorique CCT (heures \nmanquantes de l'année passée incl.)"},null,null,null,null,{"$f":"IF($AG$37=0,0,$AG$37)-$AE$34+$P$5","v":-176},null,{"$f":"IF($AG$102=0,0,$AG$102)-$AE$99","v":-160},null,{"$f":"IF($AG$167=0,0,$AG$167)-$AE$164","v":-184},null,{"$f":"IF($AG$232=0,0,$AG$232)-$AE$229","v":-160},null,{"$f":"IF($AG$297=0,0,$AG$297)-$AE$294","v":-184},null,{"$f":"IF($AG$362=0,0,$AG$362)-$AE$359","v":-176},null,{"$f":"IF($AG$427=0,0,$AG$427)-$AE$424","v":-168},null,{"$f":"IF($AG$492=0,0,$AG$492)-$AE$489","v":-184},null,{"$f":"IF($AG$557=0,0,$AG$557)-$AE$554","v":-168},null,{"$f":"IF($AG$622=0,0,$AG$622)-$AE$619","v":-176},null,{"$f":"IF($AG$687=0,0,$AG$687)-$AE$684","v":-176},null,{"$f":"IF($AG$752=0,0,$AG$752)-$AE$749","v":-168},null,{"$f":"SUM($G$66:$AD$66)","v":-2080}]
[null,{"$f":"Labels!$B$151","v":"aux heures théorique (cumulées)"},null,null,null,null,{"$f":"IF(G430=0,0,$G$66)","v":-176},null,{"$f":"IF(I430=0,0,SUM($G$66:$J$66))","v":-336},null,{"$f":"IF(K430=0,0,SUM($G$66:$L$66))","v":-520},null,{"$f":"IF(M430=0,0,SUM($G$66:$N$66))","v":-680},null,{"$f":"IF(O430=0,0,SUM($G$66:$P$66))","v":-864},null,{"$f":"IF(Q430=0,0,SUM($G$66:$R$66))","v":-1040},null,{"$f":"IF(S430=0,0,SUM($G$66:$T$66))","v":-1208},null,{"$f":"IF(U430=0,0,SUM($G$66:$V$66))","v":-1392},null,{"$f":"IF(W430=0,0,SUM($G$66:$X$66))","v":-1560},null,{"$f":"IF(Y430=0,0,SUM($G$66:$Z$66))","v":-1736},null,{"$f":"IF(AA430=0,0,SUM($G$66:$AB$66))","v":-1912},null,{"$f":"IF(AC430=0,0,SUM($G$66:$AD$66))","v":-2080}]
[{"$f":"Labels!$B$153","v":"Vacances (contrôle)"},{"$f":"Labels!$B$154","v":"Vacances année passée"},null,null,null,null,{"$f":"IF($AA$4=0,0,$AA$4)","v":0},null,{"$f":"Labels!$B$155","v":"Vacances selon \nart 12.1 CCT"},null,null,null,{"$f":"IF($AA$5=0,0,$AA$5)","v":0},null,{"$f":"Labels!$B$156","v":"Total des vacances"},null,null,null,{"$f":"SUM(G458+M458)","v":0},null,{"$f":"Labels!$B$157","v":"Vacances prises"},null,null,null,{"$f":"IF($AV$4=0,0,$AV$4)","v":0},null,{"$f":"Labels!$B$158","v":"Vacances restantes"},null,null,null,{"$f":"IF(S458=0,0,S458-Y458)","v":0}]
[]
[]
[{"$f":"$A$3","v":"Nom/Prénom"},{"$f":"IF($B$3=\"\",\"\",$B$3)","v":"Modèle Pierre"},null,null,null,null,null,null,null,null,null,null,null,null,null,null,null,null,null,null,null,null,null,null,null,null,null,null,null,null,null,{"$f":"AF3","v":0}]
[{"$f":"$A$4","v":"Emploi %"},{"$f":"$AL$55","v":100},null,{"$f":"Labels!B96","v":"en août"}]
[{"$f":"$A$5","v":"Solde année en cours"},null,null,{"$f":"IF($AE$66=0,0,$AE$66)","v":-2080}]
[{"$f":"TEXT(DATE(YEAR(AP29),MONTH(AP29)+7,1),\"MMMM\"&Labels!B13)","v":"août"},{"$f":"$B$9","v":"Solde mois + / -"},null,null,null,{"$f":"(AG466-(SUM(AG467:AG481)-AE489))*-1","v":184},null,null,null,null,{"$f":"$K$9","v":" = "},{"$f":"$L$9","v":"Les cases marquées en jaune doivent être remplies (les autres seront calculées automatiquement)"},null,null,null,null,null,null,null,null,null,null,null,null,null,null,null,null,null,null,null,null,{"$f":"COUNT(B467:AF467)&\" \"&Labels!$B$63","v":"23 Jours"}]
[{"$f":"$A$10","v":"Jour"},{"$f":"AF400+1","v":"2023-08-01"},{"$f":"B465+1","v":"2023-08-02"},{"$f":"C465+1","v":"2023-08-03"},"2023-08-04","2023-08-05","2023-08-06","2023-08-07","2023-08-08","2023-08-09","2023-08-10","2023-08-11","2023-08-12","2023-08-13","2023-08-14","2023-08-15","2023-08-16","2023-08-17","2023-08-18","2023-08-19","2023-08-20","2023-08-21","2023-08-22","2023-08-23","2023-08-24","2023-08-25","2023-08-26","2023-08-27","2023-08-28","2023-08-29","2023-08-30","2023-08-31"]
[{"$f":"$A$11","v":"semaine civile"},{"$f":"IF(B465=\"\",\"\",TRUNC((B465-DATE(YEAR(B465+3-MOD(B465-2,7)),1,MOD(B465-2,7)-9))/7))","v":31},31,31,31,31,31,32,32,32,32,32,32,32,33,33,33,33,33,33,33,34,34,34,34,34,34,34,35,35,35,35,null,"Woche"]
[{"$f":"$A$12","v":"Théorique sel. CCT"},{"$f":"IF(AND(MOD(B465,7)>=2,SUMPRODUCT(($AM$60:$AQ$60=MOD(B465,7))*$AM$55:$AQ$55),B1004=\"\"),$J$7*SUMPRODUCT(($AM$77:$AQ$77=MOD(B465,7))*$AM$72:$AQ$72)%,\"\")","v":8},{"$f":"IF(AND(MOD(C465,7)>=2,SUMPRODUCT(($AM$60:$AQ$60=MOD(C465,7))*$AM$55:$AQ$55),C1004=\"\"),$J$7*SUMPRODUCT(($AM$77:$AQ$77=MOD(C465,7))*$AM$72:$AQ$72)%,\"\")","v":8},{"$f":"IF(AND(MOD(D465,7)>=2,SUMPRODUCT(($AM$60:$AQ$60=MOD(D465,7))*$AM$55:$AQ$55),D1004=\"\"),$J$7*SUMPRODUCT(($AM$77:$AQ$77=MOD(D465,7))*$AM$72:$AQ$72)%,\"\")","v":8},{"$f":"IF(AND(MOD(E465,7)>=2,SUMPRODUCT(($AM$60:$AQ$60=MOD(E465,7))*$AM$55:$AQ$55),E1004=\"\"),$J$7*SUMPRODUCT(($AM$77:$AQ$77=MOD(E465,7))*$AM$72:$AQ$72)%,\"\")","v":8},{"$f":"IF(AND(MOD(F465,7)>=2,SUMPRODUCT(($AM$60:$AQ$60=MOD(F465,7))*$AM$55:$AQ$55),F1004=\"\"),$J$7*SUMPRODUCT(($AM$77:$AQ$77=MOD(F465,7))*$AM$72:$AQ$72)%,\"\")","v":""},{"$f":"IF(AND(MOD(G465,7)>=2,SUMPRODUCT(($AM$60:$AQ$60=MOD(G465,7))*$AM$55:$AQ$55),G1004=\"\"),$J$7*SUMPRODUCT(($AM$77:$AQ$77=MOD(G465,7))*$AM$72:$AQ$72)%,\"\")","v":""},{"$f":"IF(AND(MOD(H465,7)>=2,SUMPRODUCT(($AM$60:$AQ$60=MOD(H465,7))*$AM$55:$AQ$55),H1004=\"\"),$J$7*SUMPRODUCT(($AM$77:$AQ$77=MOD(H465,7))*$AM$72:$AQ$72)%,\"\")","v":8},{"$f":"IF(AND(MOD(I465,7)>=2,SUMPRODUCT(($AM$60:$AQ$60=MOD(I465,7))*$AM$55:$AQ$55),I1004=\"\"),$J$7*SUMPRODUCT(($AM$77:$AQ$77=MOD(I465,7))*$AM$72:$AQ$72)%,\"\")","v":8},{"$f":"IF(AND(MOD(J465,7)>=2,SUMPRODUCT(($AM$60:$AQ$60=MOD(J465,7))*$AM$55:$AQ$55),J1004=\"\"),$J$7*SUMPRODUCT(($AM$77:$AQ$77=MOD(J465,7))*$AM$72:$AQ$72)%,\"\")","v":8},{"$f":"IF(AND(MOD(K465,7)>=2,SUMPRODUCT(($AM$60:$AQ$60=MOD(K465,7))*$AM$55:$AQ$55),K1004=\"\"),$J$7*SUMPRODUCT(($AM$77:$AQ$77=MOD(K465,7))*$AM$72:$AQ$72)%,\"\")","v":8},{"$f":"IF(AND(MOD(L465,7)>=2,SUMPRODUCT(($AM$60:$AQ$60=MOD(L465,7))*$AM$55:$AQ$55),L1004=\"\"),$J$7*SUMPRODUCT(($AM$77:$AQ$77=MOD(L465,7))*$AM$72:$AQ$72)%,\"\")","v":8},{"$f":"IF(AND(MOD(M465,7)>=2,SUMPRODUCT(($AM$60:$AQ$60=MOD(M465,7))*$AM$55:$AQ$55),M1004=\"\"),$J$7*SUMPRODUCT(($AM$77:$AQ$77=MOD(M465,7))*$AM$72:$AQ$72)%,\"\")","v":""},{"$f":"IF(AND(MOD(N465,7)>=2,SUMPRODUCT(($AM$60:$AQ$60=MOD(N465,7))*$AM$55:$AQ$55),N1004=\"\"),$J$7*SUMPRODUCT(($AM$77:$AQ$77=MOD(N465,7))*$AM$72:$AQ$72)%,\"\")","v":""},{"$f":"IF(AND(MOD(O465,7)>=2,SUMPRODUCT(($AM$60:$AQ$60=MOD(O465,7))*$AM$55:$AQ$55),O1004=\"\"),$J$7*SUMPRODUCT(($AM$77:$AQ$77=MOD(O465,7))*$AM$72:$AQ$72)%,\"\")","v":8},{"$f":"IF(AND(MOD(P465,7)>=2,SUMPRODUCT(($AM$60:$AQ$60=MOD(P465,7))*$AM$55:$AQ$55),P1004=\"\"),$J$7*SUMPRODUCT(($AM$77:$AQ$77=MOD(P465,7))*$AM$72:$AQ$72)%,\"\")","v":8},{"$f":"IF(AND(MOD(Q465,7)>=2,SUMPRODUCT(($AM$60:$AQ$60=MOD(Q465,7))*$AM$55:$AQ$55),Q1004=\"\"),$J$7*SUMPRODUCT(($AM$77:$AQ$77=MOD(Q465,7))*$AM$72:$AQ$72)%,\"\")","v":8},{"$f":"IF(AND(MOD(R465,7)>=2,SUMPRODUCT(($AM$60:$AQ$60=MOD(R465,7))*$AM$55:$AQ$55),R1004=\"\"),$J$7*SUMPRODUCT(($AM$77:$AQ$77=MOD(R465,7))*$AM$72:$AQ$72)%,\"\")","v":8},{"$f":"IF(AND(MOD(S465,7)>=2,SUMPRODUCT(($AM$60:$AQ$60=MOD(S465,7))*$AM$55:$AQ$55),S1004=\"\"),$J$7*SUMPRODUCT(($AM$77:$AQ$77=MOD(S465,7))*$AM$72:$AQ$72)%,\"\")","v":8},{"$f":"IF(AND(MOD(T465,7)>=2,SUMPRODUCT(($AM$60:$AQ$60=MOD(T465,7))*$AM$55:$AQ$55),T1004=\"\"),$J$7*SUMPRODUCT(($AM$77:$AQ$77=MOD(T465,7))*$AM$72:$AQ$72)%,\"\")","v":""},{"$f":"IF(AND(MOD(U465,7)>=2,SUMPRODUCT(($AM$60:$AQ$60=MOD(U465,7))*$AM$55:$AQ$55),U1004=\"\"),$J$7*SUMPRODUCT(($AM$77:$AQ$77=MOD(U465,7))*$AM$72:$AQ$72)%,\"\")","v":""},{"$f":"IF(AND(MOD(V465,7)>=2,SUMPRODUCT(($AM$60:$AQ$60=MOD(V465,7))*$AM$55:$AQ$55),V1004=\"\"),$J$7*SUMPRODUCT(($AM$77:$AQ$77=MOD(V465,7))*$AM$72:$AQ$72)%,\"\")","v":8},{"$f":"IF(AND(MOD(W465,7)>=2,SUMPRODUCT(($AM$60:$AQ$60=MOD(W465,7))*$AM$55:$AQ$55),W1004=\"\"),$J$7*SUMPRODUCT(($AM$77:$AQ$77=MOD(W465,7))*$AM$72:$AQ$72)%,\"\")","v":8},{"$f":"IF(AND(MOD(X465,7)>=2,SUMPRODUCT(($AM$60:$AQ$60=MOD(X465,7))*$AM$55:$AQ$55),X1004=\"\"),$J$7*SUMPRODUCT(($AM$77:$AQ$77=MOD(X465,7))*$AM$72:$AQ$72)%,\"\")","v":8},{"$f":"IF(AND(MOD(Y465,7)>=2,SUMPRODUCT(($AM$60:$AQ$60=MOD(Y465,7))*$AM$55:$AQ$55),Y1004=\"\"),$J$7*SUMPRODUCT(($AM$77:$AQ$77=MOD(Y465,7))*$AM$72:$AQ$72)%,\"\")","v":8},{"$f":"IF(AND(MOD(Z465,7)>=2,SUMPRODUCT(($AM$60:$AQ$60=MOD(Z465,7))*$AM$55:$AQ$55),Z1004=\"\"),$J$7*SUMPRODUCT(($AM$77:$AQ$77=MOD(Z465,7))*$AM$72:$AQ$72)%,\"\")","v":8},{"$f":"IF(AND(MOD(AA465,7)>=2,SUMPRODUCT(($AM$60:$AQ$60=MOD(AA465,7))*$AM$55:$AQ$55),AA1004=\"\"),$J$7*SUMPRODUCT(($AM$77:$AQ$77=MOD(AA465,7))*$AM$72:$AQ$72)%,\"\")","v":""},{"$f":"IF(AND(MOD(AB465,7)>=2,SUMPRODUCT(($AM$60:$AQ$60=MOD(AB465,7))*$AM$55:$AQ$55),AB1004=\"\"),$J$7*SUMPRODUCT(($AM$77:$AQ$77=MOD(AB465,7))*$AM$72:$AQ$72)%,\"\")","v":""},{"$f":"IF(AND(MOD(AC465,7)>=2,SUMPRODUCT(($AM$60:$AQ$60=MOD(AC465,7))*$AM$55:$AQ$55),AC1004=\"\"),$J$7*SUMPRODUCT(($AM$77:$AQ$77=MOD(AC465,7))*$AM$72:$AQ$72)%,\"\")","v":8},{"$f":"IF(AND(MOD(AD465,7)>=2,SUMPRODUCT(($AM$60:$AQ$60=MOD(AD465,7))*$AM$55:$AQ$55),AD1004=\"\"),$J$7*SUMPRODUCT(($AM$77:$AQ$77=MOD(AD465,7))*$AM$72:$AQ$72)%,\"\")","v":8},{"$f":"IF(AND(MOD(AE465,7)>=2,SUMPRODUCT(($AM$60:$AQ$60=MOD(AE465,7))*$AM$55:$AQ$55),AE1004=\"\"),$J$7*SUMPRODUCT(($AM$77:$AQ$77=MOD(AE465,7))*$AM$72:$AQ$72)%,\"\")","v":8},{"$f":"IF(AND(MOD(AF465,7)>=2,SUMPRODUCT(($AM$60:$AQ$60=MOD(AF465,7))*$AM$55:$AQ$55),AF1004=\"\"),$J$7*SUMPRODUCT(($AM$77:$AQ$77=MOD(AF465,7))*$AM$72:$AQ$72)%,\"\")","v":8},{"$f":"SUM(B467:AF467)","v":184},"[00]"]
[{"$f":"$A$13","v":"Absences"},{"$f":"B1020","v":0},{"$f":"C1020","v":0},0,0,0,0,0,0,0,0,0,0,0,0,0,0,0,0,0,0,0,0,0,0,0,0,0,0,0,0,0,{"$f":"SUM($AQ$3:$AQ$13)","v":0},"[01]"]
[{"$f":"$A$14","v":"Code"},{"$f":"IF(SUM(B1007:B1019)<>0,IF(MAX(B1007:B1019)<B1020,Labels!$B$163,INDEX($AH$1006:$AH$1018,MATCH(MAX(B1007:B1019),B1007:B1019,0))),\"\")","v":""},{"$f":"IF(SUM(C1007:C1019)<>0,IF(MAX(C1007:C1019)<C1020,Labels!$B$163,INDEX($AH$1006:$AH$1018,MATCH(MAX(C1007:C1019),C1007:C1019,0))),\"\")","v":""},{"$f":"IF(SUM(D1007:D1019)<>0,IF(MAX(D1007:D1019)<D1020,Labels!$B$163,INDEX($AH$1006:$AH$1018,MATCH(MAX(D1007:D1019),D1007:D1019,0))),\"\")","v":""},{"$f":"IF(SUM(E1007:E1019)<>0,IF(MAX(E1007:E1019)<E1020,Labels!$B$163,INDEX($AH$1006:$AH$1018,MATCH(MAX(E1007:E1019),E1007:E1019,0))),\"\")","v":""},{"$f":"IF(SUM(F1007:F1019)<>0,IF(MAX(F1007:F1019)<F1020,Labels!$B$163,INDEX($AH$1006:$AH$1018,MATCH(MAX(F1007:F1019),F1007:F1019,0))),\"\")","v":""},{"$f":"IF(SUM(G1007:G1019)<>0,IF(MAX(G1007:G1019)<G1020,Labels!$B$163,INDEX($AH$1006:$AH$1018,MATCH(MAX(G1007:G1019),G1007:G1019,0))),\"\")","v":""},{"$f":"IF(SUM(H1007:H1019)<>0,IF(MAX(H1007:H1019)<H1020,Labels!$B$163,INDEX($AH$1006:$AH$1018,MATCH(MAX(H1007:H1019),H1007:H1019,0))),\"\")","v":""},{"$f":"IF(SUM(I1007:I1019)<>0,IF(MAX(I1007:I1019)<I1020,Labels!$B$163,INDEX($AH$1006:$AH$1018,MATCH(MAX(I1007:I1019),I1007:I1019,0))),\"\")","v":""},{"$f":"IF(SUM(J1007:J1019)<>0,IF(MAX(J1007:J1019)<J1020,Labels!$B$163,INDEX($AH$1006:$AH$1018,MATCH(MAX(J1007:J1019),J1007:J1019,0))),\"\")","v":""},{"$f":"IF(SUM(K1007:K1019)<>0,IF(MAX(K1007:K1019)<K1020,Labels!$B$163,INDEX($AH$1006:$AH$1018,MATCH(MAX(K1007:K1019),K1007:K1019,0))),\"\")","v":""},{"$f":"IF(SUM(L1007:L1019)<>0,IF(MAX(L1007:L1019)<L1020,Labels!$B$163,INDEX($AH$1006:$AH$1018,MATCH(MAX(L1007:L1019),L1007:L1019,0))),\"\")","v":""},{"$f":"IF(SUM(M1007:M1019)<>0,IF(MAX(M1007:M1019)<M1020,Labels!$B$163,INDEX($AH$1006:$AH$1018,MATCH(MAX(M1007:M1019),M1007:M1019,0))),\"\")","v":""},{"$f":"IF(SUM(N1007:N1019)<>0,IF(MAX(N1007:N1019)<N1020,Labels!$B$163,INDEX($AH$1006:$AH$1018,MATCH(MAX(N1007:N1019),N1007:N1019,0))),\"\")","v":""},{"$f":"IF(SUM(O1007:O1019)<>0,IF(MAX(O1007:O1019)<O1020,Labels!$B$163,INDEX($AH$1006:$AH$1018,MATCH(MAX(O1007:O1019),O1007:O1019,0))),\"\")","v":""},{"$f":"IF(SUM(P1007:P1019)<>0,IF(MAX(P1007:P1019)<P1020,Labels!$B$163,INDEX($AH$1006:$AH$1018,MATCH(MAX(P1007:P1019),P1007:P1019,0))),\"\")","v":""},{"$f":"IF(SUM(Q1007:Q1019)<>0,IF(MAX(Q1007:Q1019)<Q1020,Labels!$B$163,INDEX($AH$1006:$AH$1018,MATCH(MAX(Q1007:Q1019),Q1007:Q1019,0))),\"\")","v":""},{"$f":"IF(SUM(R1007:R1019)<>0,IF(MAX(R1007:R1019)<R1020,Labels!$B$163,INDEX($AH$1006:$AH$1018,MATCH(MAX(R1007:R1019),R1007:R1019,0))),\"\")","v":""},{"$f":"IF(SUM(S1007:S1019)<>0,IF(MAX(S1007:S1019)<S1020,Labels!$B$163,INDEX($AH$1006:$AH$1018,MATCH(MAX(S1007:S1019),S1007:S1019,0))),\"\")","v":""},{"$f":"IF(SUM(T1007:T1019)<>0,IF(MAX(T1007:T1019)<T1020,Labels!$B$163,INDEX($AH$1006:$AH$1018,MATCH(MAX(T1007:T1019),T1007:T1019,0))),\"\")","v":""},{"$f":"IF(SUM(U1007:U1019)<>0,IF(MAX(U1007:U1019)<U1020,Labels!$B$163,INDEX($AH$1006:$AH$1018,MATCH(MAX(U1007:U1019),U1007:U1019,0))),\"\")","v":""},{"$f":"IF(SUM(V1007:V1019)<>0,IF(MAX(V1007:V1019)<V1020,Labels!$B$163,INDEX($AH$1006:$AH$1018,MATCH(MAX(V1007:V1019),V1007:V1019,0))),\"\")","v":""},{"$f":"IF(SUM(W1007:W1019)<>0,IF(MAX(W1007:W1019)<W1020,Labels!$B$163,INDEX($AH$1006:$AH$1018,MATCH(MAX(W1007:W1019),W1007:W1019,0))),\"\")","v":""},{"$f":"IF(SUM(X1007:X1019)<>0,IF(MAX(X1007:X1019)<X1020,Labels!$B$163,INDEX($AH$1006:$AH$1018,MATCH(MAX(X1007:X1019),X1007:X1019,0))),\"\")","v":""},{"$f":"IF(SUM(Y1007:Y1019)<>0,IF(MAX(Y1007:Y1019)<Y1020,Labels!$B$163,INDEX($AH$1006:$AH$1018,MATCH(MAX(Y1007:Y1019),Y1007:Y1019,0))),\"\")","v":""},{"$f":"IF(SUM(Z1007:Z1019)<>0,IF(MAX(Z1007:Z1019)<Z1020,Labels!$B$163,INDEX($AH$1006:$AH$1018,MATCH(MAX(Z1007:Z1019),Z1007:Z1019,0))),\"\")","v":""},{"$f":"IF(SUM(AA1007:AA1019)<>0,IF(MAX(AA1007:AA1019)<AA1020,Labels!$B$163,INDEX($AH$1006:$AH$1018,MATCH(MAX(AA1007:AA1019),AA1007:AA1019,0))),\"\")","v":""},{"$f":"IF(SUM(AB1007:AB1019)<>0,IF(MAX(AB1007:AB1019)<AB1020,Labels!$B$163,INDEX($AH$1006:$AH$1018,MATCH(MAX(AB1007:AB1019),AB1007:AB1019,0))),\"\")","v":""},{"$f":"IF(SUM(AC1007:AC1019)<>0,IF(MAX(AC1007:AC1019)<AC1020,Labels!$B$163,INDEX($AH$1006:$AH$1018,MATCH(MAX(AC1007:AC1019),AC1007:AC1019,0))),\"\")","v":""},{"$f":"IF(SUM(AD1007:AD1019)<>0,IF(MAX(AD1007:AD1019)<AD1020,Labels!$B$163,INDEX($AH$1006:$AH$1018,MATCH(MAX(AD1007:AD1019),AD1007:AD1019,0))),\"\")","v":""},{"$f":"IF(SUM(AE1007:AE1019)<>0,IF(MAX(AE1007:AE1019)<AE1020,Labels!$B$163,INDEX($AH$1006:$AH$1018,MATCH(MAX(AE1007:AE1019),AE1007:AE1019,0))),\"\")","v":""},{"$f":"IF(SUM(AF1007:AF1019)<>0,IF(MAX(AF1007:AF1019)<AF1020,Labels!$B$163,INDEX($AH$1006:$AH$1018,MATCH(MAX(AF1007:AF1019),AF1007:AF1019,0))),\"\")","v":""},{"$f":"$AQ$16*-1","v":0},"[02]"]
[{"$f":"$A$15","v":"00h00-06h00 1)"},null,null,null,null,null,null,null,null,null,null,null,null,null,null,null,null,null,null,null,null,null,null,null,null,null,null,null,null,null,null,null,{"$f":"SUM(B470:AF470)","v":0},"[04]"]
[{"$f":"$A$16","v":"06h00-20h00 2)"},null,null,null,null,null,null,null,null,null,null,null,null,null,null,null,null,null,null,null,null,null,null,null,null,null,null,null,null,null,null,null,{"$f":"SUM(B471:AF471)","v":0},"[03]"]
[{"$f":"$A$17","v":"20h00-24h00 3)"},null,null,null,null,null,null,null,null,null,null,null,null,null,null,null,null,null,null,null,null,null,null,null,null,null,null,null,null,null,null,null,{"$f":"SUM(B472:AF472)","v":0},"[05]"]
[{"$f":"$A$18","v":"Jours fériés \"jf\""},{"$f":"IF(WEEKDAY(B465,2)<=6,IF(CALENDRIER!E17=\"x\",Labels!$B$118,\"\"),\"\")","v":""},{"$f":"IF(WEEKDAY(C465,2)<=6,IF(CALENDRIER!F17=\"x\",Labels!$B$118,\"\"),\"\")","v":""},{"$f":"IF(WEEKDAY(D465,2)<=6,IF(CALENDRIER!G17=\"x\",Labels!$B$118,\"\"),\"\")","v":""},{"$f":"IF(WEEKDAY(E465,2)<=6,IF(CALENDRIER!H17=\"x\",Labels!$B$118,\"\"),\"\")","v":""},{"$f":"IF(WEEKDAY(F465,2)<=6,IF(CALENDRIER!I17=\"x\",Labels!$B$118,\"\"),\"\")","v":""},{"$f":"IF(WEEKDAY(G465,2)<=6,IF(CALENDRIER!J17=\"x\",Labels!$B$118,\"\"),\"\")","v":""},{"$f":"IF(WEEKDAY(H465,2)<=6,IF(CALENDRIER!K17=\"x\",Labels!$B$118,\"\"),\"\")","v":""},{"$f":"IF(WEEKDAY(I465,2)<=6,IF(CALENDRIER!L17=\"x\",Labels!$B$118,\"\"),\"\")","v":""},{"$f":"IF(WEEKDAY(J465,2)<=6,IF(CALENDRIER!M17=\"x\",Labels!$B$118,\"\"),\"\")","v":""},{"$f":"IF(WEEKDAY(K465,2)<=6,IF(CALENDRIER!N17=\"x\",Labels!$B$118,\"\"),\"\")","v":""},{"$f":"IF(WEEKDAY(L465,2)<=6,IF(CALENDRIER!O17=\"x\",Labels!$B$118,\"\"),\"\")","v":""},{"$f":"IF(WEEKDAY(M465,2)<=6,IF(CALENDRIER!P17=\"x\",Labels!$B$118,\"\"),\"\")","v":""},{"$f":"IF(WEEKDAY(N465,2)<=6,IF(CALENDRIER!Q17=\"x\",Labels!$B$118,\"\"),\"\")","v":""},{"$f":"IF(WEEKDAY(O465,2)<=6,IF(CALENDRIER!R17=\"x\",Labels!$B$118,\"\"),\"\")","v":""},{"$f":"IF(WEEKDAY(P465,2)<=6,IF(CALENDRIER!S17=\"x\",Labels!$B$118,\"\"),\"\")","v":""},{"$f":"IF(WEEKDAY(Q465,2)<=6,IF(CALENDRIER!T17=\"x\",Labels!$B$118,\"\"),\"\")","v":""},{"$f":"IF(WEEKDAY(R465,2)<=6,IF(CALENDRIER!U17=\"x\",Labels!$B$118,\"\"),\"\")","v":""},{"$f":"IF(WEEKDAY(S465,2)<=6,IF(CALENDRIER!V17=\"x\",Labels!$B$118,\"\"),\"\")","v":""},{"$f":"IF(WEEKDAY(T465,2)<=6,IF(CALENDRIER!W17=\"x\",Labels!$B$118,\"\"),\"\")","v":""},{"$f":"IF(WEEKDAY(U465,2)<=6,IF(CALENDRIER!X17=\"x\",Labels!$B$118,\"\"),\"\")","v":""},{"$f":"IF(WEEKDAY(V465,2)<=6,IF(CALENDRIER!Y17=\"x\",Labels!$B$118,\"\"),\"\")","v":""},{"$f":"IF(WEEKDAY(W465,2)<=6,IF(CALENDRIER!Z17=\"x\",Labels!$B$118,\"\"),\"\")","v":""},{"$f":"IF(WEEKDAY(X465,2)<=6,IF(CALENDRIER!AA17=\"x\",Labels!$B$118,\"\"),\"\")","v":""},{"$f":"IF(WEEKDAY(Y465,2)<=6,IF(CALENDRIER!AB17=\"x\",Labels!$B$118,\"\"),\"\")","v":""},{"$f":"IF(WEEKDAY(Z465,2)<=6,IF(CALENDRIER!AC17=\"x\",Labels!$B$118,\"\"),\"\")","v":""},{"$f":"IF(WEEKDAY(AA465,2)<=6,IF(CALENDRIER!AD17=\"x\",Labels!$B$118,\"\"),\"\")","v":""},{"$f":"IF(WEEKDAY(AB465,2)<=6,IF(CALENDRIER!AE17=\"x\",Labels!$B$118,\"\"),\"\")","v":""},{"$f":"IF(WEEKDAY(AC465,2)<=6,IF(CALENDRIER!AF17=\"x\",Labels!$B$118,\"\"),\"\")","v":""},{"$f":"IF(WEEKDAY(AD465,2)<=6,IF(CALENDRIER!AG17=\"x\",Labels!$B$118,\"\"),\"\")","v":""},{"$f":"IF(WEEKDAY(AE465,2)<=6,IF(CALENDRIER!AH17=\"x\",Labels!$B$118,\"\"),\"\")","v":""},{"$f":"IF(WEEKDAY(AF465,2)<=6,IF(CALENDRIER!AI17=\"x\",Labels!$B$118,\"\"),\"\")","v":""},null,"FT"]
[{"$f":"$A$19","v":"Majoration  \"jf\""},{"$f":"IF(AND(B473=Labels!$B$118,WEEKDAY(B465,2)<6,B$467<>\"\"),$J$7*SUMPRODUCT(($AM$77:$AQ$77=MOD(B465,7))*$AM$72:$AQ$72)%,\"\")","v":""},{"$f":"IF(AND(C473=Labels!$B$118,WEEKDAY(C465,2)<6,C$467<>\"\"),$J$7*SUMPRODUCT(($AM$77:$AQ$77=MOD(C465,7))*$AM$72:$AQ$72)%,\"\")","v":""},{"$f":"IF(AND(D473=Labels!$B$118,WEEKDAY(D465,2)<6,D$467<>\"\"),$J$7*SUMPRODUCT(($AM$77:$AQ$77=MOD(D465,7))*$AM$72:$AQ$72)%,\"\")","v":""},{"$f":"IF(AND(E473=Labels!$B$118,WEEKDAY(E465,2)<6,E$467<>\"\"),$J$7*SUMPRODUCT(($AM$77:$AQ$77=MOD(E465,7))*$AM$72:$AQ$72)%,\"\")","v":""},{"$f":"IF(AND(F473=Labels!$B$118,WEEKDAY(F465,2)<6,F$467<>\"\"),$J$7*SUMPRODUCT(($AM$77:$AQ$77=MOD(F465,7))*$AM$72:$AQ$72)%,\"\")","v":""},{"$f":"IF(AND(G473=Labels!$B$118,WEEKDAY(G465,2)<6,G$467<>\"\"),$J$7*SUMPRODUCT(($AM$77:$AQ$77=MOD(G465,7))*$AM$72:$AQ$72)%,\"\")","v":""},{"$f":"IF(AND(H473=Labels!$B$118,WEEKDAY(H465,2)<6,H$467<>\"\"),$J$7*SUMPRODUCT(($AM$77:$AQ$77=MOD(H465,7))*$AM$72:$AQ$72)%,\"\")","v":""},{"$f":"IF(AND(I473=Labels!$B$118,WEEKDAY(I465,2)<6,I$467<>\"\"),$J$7*SUMPRODUCT(($AM$77:$AQ$77=MOD(I465,7))*$AM$72:$AQ$72)%,\"\")","v":""},{"$f":"IF(AND(J473=Labels!$B$118,WEEKDAY(J465,2)<6,J$467<>\"\"),$J$7*SUMPRODUCT(($AM$77:$AQ$77=MOD(J465,7))*$AM$72:$AQ$72)%,\"\")","v":""},{"$f":"IF(AND(K473=Labels!$B$118,WEEKDAY(K465,2)<6,K$467<>\"\"),$J$7*SUMPRODUCT(($AM$77:$AQ$77=MOD(K465,7))*$AM$72:$AQ$72)%,\"\")","v":""},{"$f":"IF(AND(L473=Labels!$B$118,WEEKDAY(L465,2)<6,L$467<>\"\"),$J$7*SUMPRODUCT(($AM$77:$AQ$77=MOD(L465,7))*$AM$72:$AQ$72)%,\"\")","v":""},{"$f":"IF(AND(M473=Labels!$B$118,WEEKDAY(M465,2)<6,M$467<>\"\"),$J$7*SUMPRODUCT(($AM$77:$AQ$77=MOD(M465,7))*$AM$72:$AQ$72)%,\"\")","v":""},{"$f":"IF(AND(N473=Labels!$B$118,WEEKDAY(N465,2)<6,N$467<>\"\"),$J$7*SUMPRODUCT(($AM$77:$AQ$77=MOD(N465,7))*$AM$72:$AQ$72)%,\"\")","v":""},{"$f":"IF(AND(O473=Labels!$B$118,WEEKDAY(O465,2)<6,O$467<>\"\"),$J$7*SUMPRODUCT(($AM$77:$AQ$77=MOD(O465,7))*$AM$72:$AQ$72)%,\"\")","v":""},{"$f":"IF(AND(P473=Labels!$B$118,WEEKDAY(P465,2)<6,P$467<>\"\"),$J$7*SUMPRODUCT(($AM$77:$AQ$77=MOD(P465,7))*$AM$72:$AQ$72)%,\"\")","v":""},{"$f":"IF(AND(Q473=Labels!$B$118,WEEKDAY(Q465,2)<6,Q$467<>\"\"),$J$7*SUMPRODUCT(($AM$77:$AQ$77=MOD(Q465,7))*$AM$72:$AQ$72)%,\"\")","v":""},{"$f":"IF(AND(R473=Labels!$B$118,WEEKDAY(R465,2)<6,R$467<>\"\"),$J$7*SUMPRODUCT(($AM$77:$AQ$77=MOD(R465,7))*$AM$72:$AQ$72)%,\"\")","v":""},{"$f":"IF(AND(S473=Labels!$B$118,WEEKDAY(S465,2)<6,S$467<>\"\"),$J$7*SUMPRODUCT(($AM$77:$AQ$77=MOD(S465,7))*$AM$72:$AQ$72)%,\"\")","v":""},{"$f":"IF(AND(T473=Labels!$B$118,WEEKDAY(T465,2)<6,T$467<>\"\"),$J$7*SUMPRODUCT(($AM$77:$AQ$77=MOD(T465,7))*$AM$72:$AQ$72)%,\"\")","v":""},{"$f":"IF(AND(U473=Labels!$B$118,WEEKDAY(U465,2)<6,U$467<>\"\"),$J$7*SUMPRODUCT(($AM$77:$AQ$77=MOD(U465,7))*$AM$72:$AQ$72)%,\"\")","v":""},{"$f":"IF(AND(V473=Labels!$B$118,WEEKDAY(V465,2)<6,V$467<>\"\"),$J$7*SUMPRODUCT(($AM$77:$AQ$77=MOD(V465,7))*$AM$72:$AQ$72)%,\"\")","v":""},{"$f":"IF(AND(W473=Labels!$B$118,WEEKDAY(W465,2)<6,W$467<>\"\"),$J$7*SUMPRODUCT(($AM$77:$AQ$77=MOD(W465,7))*$AM$72:$AQ$72)%,\"\")","v":""},{"$f":"IF(AND(X473=Labels!$B$118,WEEKDAY(X465,2)<6,X$467<>\"\"),$J$7*SUMPRODUCT(($AM$77:$AQ$77=MOD(X465,7))*$AM$72:$AQ$72)%,\"\")","v":""},{"$f":"IF(AND(Y473=Labels!$B$118,WEEKDAY(Y465,2)<6,Y$467<>\"\"),$J$7*SUMPRODUCT(($AM$77:$AQ$77=MOD(Y465,7))*$AM$72:$AQ$72)%,\"\")","v":""},{"$f":"IF(AND(Z473=Labels!$B$118,WEEKDAY(Z465,2)<6,Z$467<>\"\"),$J$7*SUMPRODUCT(($AM$77:$AQ$77=MOD(Z465,7))*$AM$72:$AQ$72)%,\"\")","v":""},{"$f":"IF(AND(AA473=Labels!$B$118,WEEKDAY(AA465,2)<6,AA$467<>\"\"),$J$7*SUMPRODUCT(($AM$77:$AQ$77=MOD(AA465,7))*$AM$72:$AQ$72)%,\"\")","v":""},{"$f":"IF(AND(AB473=Labels!$B$118,WEEKDAY(AB465,2)<6,AB$467<>\"\"),$J$7*SUMPRODUCT(($AM$77:$AQ$77=MOD(AB465,7))*$AM$72:$AQ$72)%,\"\")","v":""},{"$f":"IF(AND(AC473=Labels!$B$118,WEEKDAY(AC465,2)<6,AC$467<>\"\"),$J$7*SUMPRODUCT(($AM$77:$AQ$77=MOD(AC465,7))*$AM$72:$AQ$72)%,\"\")","v":""},{"$f":"IF(AND(AD473=Labels!$B$118,WEEKDAY(AD465,2)<6,AD$467<>\"\"),$J$7*SUMPRODUCT(($AM$77:$AQ$77=MOD(AD465,7))*$AM$72:$AQ$72)%,\"\")","v":""},{"$f":"IF(AND(AE473=Labels!$B$118,WEEKDAY(AE465,2)<6,AE$467<>\"\"),$J$7*SUMPRODUCT(($AM$77:$AQ$77=MOD(AE465,7))*$AM$72:$AQ$72)%,\"\")","v":""},{"$f":"IF(AND(AF473=Labels!$B$118,WEEKDAY(AF465,2)<6,AF$467<>\"\"),$J$7*SUMPRODUCT(($AM$77:$AQ$77=MOD(AF465,7))*$AM$72:$AQ$72)%,\"\")","v":""},{"$f":"SUM(B474:AF474)","v":0},"[06]"]
[{"$f":"$A$20","v":"total quotidien"},{"$f":"SUM(B470:B472)","v":0},{"$f":"SUM(C470:C472)","v":0},0,0,0,0,0,0,0,0,0,0,0,0,0,0,0,0,0,0,0,0,0,0,0,0,0,0,0,0,0,null,"TT"]
[{"$f":"$A$21","v":"."},null,null,null,null,null,null,null,null,null,null,null,null,null,null,null,null,null,null,null,null,null,null,null,null,null,null,null,null,null,null,null,null,"R"]
[{"$f":"$A$22","v":"."},null,null,null,null,null,null,null,null,null,null,null,null,null,null,null,null,null,null,null,null,null,null,null,null,null,null,null,null,null,null,null,null,"R"]
[{"$f":"$A$23","v":"transition mois"},{"$f":"IF(WEEKDAY(B465)=1,TEXT(B465-1,\"MMM\"&Labels!B13),\"\")","v":""},null,null,null,null,null,null,null,null,null,null,null,null,null,null,null,null,null,null,null,null,null,null,null,null,null,null,null,null,null,{"$f":"IF(AND(WEEKDAY(AF465)>1,WEEKDAY(AF465)<7),TEXT(DATE($B$5,MONTH(AF465)+1,1),\"MMM\"&Labels!B13),\"\")","v":"sept."},null,"MNT"]
[{"$f":"$A$24","v":"Total hebdomadaire"},{"$f":"IF(WEEKDAY(B465)=7,SUMIF($B401:$AF401,B466,$B410:$AF410)+SUMIF($B466:$AF466,B466,$B475:$AF475)+SUMIF($B531:$AF531,B466,$B540:$AF540),B478)","v":""},{"$f":"IF(WEEKDAY(C465)=7,SUMIF($B401:$AF401,C466,$B410:$AF410)+SUMIF($B466:$AF466,C466,$B475:$AF475)+SUMIF($B531:$AF531,C466,$B540:$AF540),\"\")","v":""},"","",0,"","","","","","",0,"","","","","","",0,"","","","","","",0,"","","","",{"$f":"IF(WEEKDAY(AF465)=7,SUMIF($B401:$AF401,AF466,$B410:$AF410)+SUMIF($B466:$AF466,AF466,$B475:$AF475)+SUMIF($B531:$AF531,AF466,$B540:$AF540),AF478)","v":"sept."},null,"WT"]
[{"$f":"$A$25","v":"Majorations temp. 1)"},{"$f":"IF(B487=\"FALSCH\",\"\",B487)","v":""},{"$f":"IF(C487=\"FALSCH\",\"\",C487)","v":""},"","","","","","","","","","","","","","","","","","","","","","","","","","","","","",{"$f":"SUM(B480:AF480)","v":0},"[07]"]
[{"$f":"$A$26","v":"Majorations temp. 2)"},{"$f":"IF((B470+B472)=0,\"\",SUM(B470,B472))","v":""},{"$f":"IF((C470+C472)=0,\"\",SUM(C470,C472))","v":""},"","","","","","","","","","","","","","","","","","","","","","","","","","","","","",0,"[08]"]
[{"$f":"$A$27","v":"Majorations temp. 3)"},{"$f":"SUM(B483:B486)","v":0},{"$f":"SUM(C483:C486)","v":0},0,0,0,0,0,0,0,0,0,0,0,0,0,0,0,0,0,0,0,0,0,0,0,0,0,0,0,0,0,0,"[09]"]
[{"$f":"$A$28","v":"Dimanche journée"},{"$f":"IF(WEEKDAY(B465)=1,B471,\"\")","v":""},{"$f":"IF(WEEKDAY(C465)=1,C471,\"\")","v":""},"","","",0,"","","","","","",0,"","","","","","",0,"","","","","","",0,"","","","",0,"[09-ST]"]
[{"$f":"$A$29","v":"Dimanche nuit"},{"$f":"IF(WEEKDAY(B465)=1,SUM(B470+B472),\"\")","v":""},{"$f":"IF(WEEKDAY(C465)=1,SUM(C470+C472),\"\")","v":""},"","","",0,"","","","","","",0,"","","","","","",0,"","","","","","",0,"","","","",0,"[09-SN]"]
[{"$f":"$A$30","v":"jf-jomajoration"},{"$f":"IF(B473=Labels!$B$118,B471,\"\")","v":""},{"$f":"IF(C473=Labels!$B$118,C471,\"\")","v":""},{"$f":"IF(D473=Labels!$B$118,D471,\"\")","v":""},{"$f":"IF(E473=Labels!$B$118,E471,\"\")","v":""},{"$f":"IF(F473=Labels!$B$118,F471,\"\")","v":""},{"$f":"IF(G473=Labels!$B$118,G471,\"\")","v":""},{"$f":"IF(H473=Labels!$B$118,H471,\"\")","v":""},{"$f":"IF(I473=Labels!$B$118,I471,\"\")","v":""},{"$f":"IF(J473=Labels!$B$118,J471,\"\")","v":""},{"$f":"IF(K473=Labels!$B$118,K471,\"\")","v":""},{"$f":"IF(L473=Labels!$B$118,L471,\"\")","v":""},{"$f":"IF(M473=Labels!$B$118,M471,\"\")","v":""},{"$f":"IF(N473=Labels!$B$118,N471,\"\")","v":""},{"$f":"IF(O473=Labels!$B$118,O471,\"\")","v":""},{"$f":"IF(P473=Labels!$B$118,P471,\"\")","v":""},{"$f":"IF(Q473=Labels!$B$118,Q471,\"\")","v":""},{"$f":"IF(R473=Labels!$B$118,R471,\"\")","v":""},{"$f":"IF(S473=Labels!$B$118,S471,\"\")","v":""},{"$f":"IF(T473=Labels!$B$118,T471,\"\")","v":""},{"$f":"IF(U473=Labels!$B$118,U471,\"\")","v":""},{"$f":"IF(V473=Labels!$B$118,V471,\"\")","v":""},{"$f":"IF(W473=Labels!$B$118,W471,\"\")","v":""},{"$f":"IF(X473=Labels!$B$118,X471,\"\")","v":""},{"$f":"IF(Y473=Labels!$B$118,Y471,\"\")","v":""},{"$f":"IF(Z473=Labels!$B$118,Z471,\"\")","v":""},{"$f":"IF(AA473=Labels!$B$118,AA471,\"\")","v":""},{"$f":"IF(AB473=Labels!$B$118,AB471,\"\")","v":""},{"$f":"IF(AC473=Labels!$B$118,AC471,\"\")","v":""},{"$f":"IF(AD473=Labels!$B$118,AD471,\"\")","v":""},{"$f":"IF(AE473=Labels!$B$118,AE471,\"\")","v":""},{"$f":"IF(AF473=Labels!$B$118,AF471,\"\")","v":""},0,"[09-FT]"]
[{"$f":"$A$31","v":"jf-numajoration"},{"$f":"IF(B473=Labels!$B$118,SUM(B470,B472),\"\")","v":""},{"$f":"IF(C473=Labels!$B$118,SUM(C470,C472),\"\")","v":""},{"$f":"IF(D473=Labels!$B$118,SUM(D470,D472),\"\")","v":""},{"$f":"IF(E473=Labels!$B$118,SUM(E470,E472),\"\")","v":""},{"$f":"IF(F473=Labels!$B$118,SUM(F470,F472),\"\")","v":""},{"$f":"IF(G473=Labels!$B$118,SUM(G470,G472),\"\")","v":""},{"$f":"IF(H473=Labels!$B$118,SUM(H470,H472),\"\")","v":""},{"$f":"IF(I473=Labels!$B$118,SUM(I470,I472),\"\")","v":""},{"$f":"IF(J473=Labels!$B$118,SUM(J470,J472),\"\")","v":""},{"$f":"IF(K473=Labels!$B$118,SUM(K470,K472),\"\")","v":""},{"$f":"IF(L473=Labels!$B$118,SUM(L470,L472),\"\")","v":""},{"$f":"IF(M473=Labels!$B$118,SUM(M470,M472),\"\")","v":""},{"$f":"IF(N473=Labels!$B$118,SUM(N470,N472),\"\")","v":""},{"$f":"IF(O473=Labels!$B$118,SUM(O470,O472),\"\")","v":""},{"$f":"IF(P473=Labels!$B$118,SUM(P470,P472),\"\")","v":""},{"$f":"IF(Q473=Labels!$B$118,SUM(Q470,Q472),\"\")","v":""},{"$f":"IF(R473=Labels!$B$118,SUM(R470,R472),\"\")","v":""},{"$f":"IF(S473=Labels!$B$118,SUM(S470,S472),\"\")","v":""},{"$f":"IF(T473=Labels!$B$118,SUM(T470,T472),\"\")","v":""},{"$f":"IF(U473=Labels!$B$118,SUM(U470,U472),\"\")","v":""},{"$f":"IF(V473=Labels!$B$118,SUM(V470,V472),\"\")","v":""},{"$f":"IF(W473=Labels!$B$118,SUM(W470,W472),\"\")","v":""},{"$f":"IF(X473=Labels!$B$118,SUM(X470,X472),\"\")","v":""},{"$f":"IF(Y473=Labels!$B$118,SUM(Y470,Y472),\"\")","v":""},{"$f":"IF(Z473=Labels!$B$118,SUM(Z470,Z472),\"\")","v":""},{"$f":"IF(AA473=Labels!$B$118,SUM(AA470,AA472),\"\")","v":""},{"$f":"IF(AB473=Labels!$B$118,SUM(AB470,AB472),\"\")","v":""},{"$f":"IF(AC473=Labels!$B$118,SUM(AC470,AC472),\"\")","v":""},{"$f":"IF(AD473=Labels!$B$118,SUM(AD470,AD472),\"\")","v":""},{"$f":"IF(AE473=Labels!$B$118,SUM(AE470,AE472),\"\")","v":""},{"$f":"IF(AF473=Labels!$B$118,SUM(AF470,AF472),\"\")","v":""},0,"[09-FN]"]
[{"$f":"$A$32","v":"majoration caché (total hebd.)"},{"$f":"IF($B462>=80,IF(OR(ISTEXT(B479),B479=\"\",B479<$B$7),\"\",ROUND(((B479-$B$7)*25%)/25,4)*25),IF(B475>($B$7/5),ROUND(((B475-($B$7/5))*25%)/25,4)*25,\"\"))","v":""},{"$f":"IF($B462>=80,IF(OR(ISTEXT(C479),C479=\"\",C479<$B$7),\"\",ROUND(((C479-$B$7)*25%)/25,4)*25),IF(C475>($B$7/5),ROUND(((C475-($B$7/5))*25%)/25,4)*25,\"\"))","v":""},"","","","","","","","","","","","","","","","","","","","","","","","","","","","","",{"$f":"AG471","v":0},"[03]"]
[null,{"$f":"$B$33","v":"1)  25% majoration temporelle pour depassement les heures maximales"},null,null,null,null,null,null,null,null,null,{"$f":"$L$33","v":"2) 100% majoration temporelle pour travail de nuit"},null,null,null,null,null,null,null,{"$f":"$T$33","v":"Saisie des heures payées l'année passée"},null,null,null,null,null,null,null,null,null,null,null,null,{"$f":"SUM(AG470+AG472)","v":0},"[4-5]"]
[null,{"$f":"$B$34","v":"3) 100% majoration temporelle pour travail du dimanche et jour férié"},null,null,null,null,null,null,null,null,null,null,null,null,null,null,null,null,null,{"$f":"$T$34","v":"Saisie des heures payées exercice en cours (heures supplémentaires)"},null,null,null,null,null,null,null,null,null,null,null,null,{"$f":"SUM(AG470:AG472)","v":0},"[3-5]"]
[{"$f":"$A$35","v":"Notes"},null,null,null,null,null,null,null,null,null,null,null,null,null,null,null,null,null,null,null,null,null,null,null,null,null,null,null,null,null,null,null,{"$f":"SUM(AG468:AG482)","v":0},"[10]"]
[null,null,null,null,null,null,null,null,null,null,null,null,null,null,null,null,null,null,null,null,null,null,null,null,null,null,null,null,null,null,null,null,{"$f":"AG467","v":184},"[00]"]
[{"$f":"IF(AG1004=0,\"\",\"effektives Pensum:  \"&ROUND(COUNT(B467:AF467)/(AG1004+COUNT(B467:AF467))%*B462%*20,0)/20&\" %\")","v":""},null,null,null,null,null,null,null,null,null,null,null,null,null,null,null,null,null,null,null,null,null,null,null,null,null,null,null,null,null,null,null,{"$f":"SUM(AG490-AG491)","v":-184},"[11]"]
[]
[{"$f":"Labels!$B$103","v":"Résumé"},null,null,null,null,null,{"$f":"Labels!$B$77","v":"Jan"},null,{"$f":"Labels!$B$78","v":"Fév"},null,{"$f":"Labels!$B$79","v":"Mar"},null,{"$f":"Labels!$B$80","v":"Avr"},null,{"$f":"Labels!$B$81","v":"Mai"},null,{"$f":"Labels!$B$82","v":"Jun"},null,{"$f":"Labels!$B$83","v":"Jul"},null,{"$f":"Labels!$B$84","v":"Aoû"},null,{"$f":"Labels!$B$85","v":"Sep"},null,{"$f":"Labels!$B$86","v":"Oct"},null,{"$f":"Labels!$B$87","v":"Nov"},null,{"$f":"Labels!$B$88","v":"Déc"},null,{"$f":"Labels!$B$101","v":"Année"}]
[{"$f":"Labels!$B$20","v":"Emploi %"},null,null,null,null,null,{"$f":"IF($B$4=0,0,$B$4)","v":100},null,{"$f":"IF($B$72=0,0,$B$72)","v":100},null,{"$f":"IF($B$137=0,0,$B$137)","v":100},null,{"$f":"IF($B$202=0,0,$B$202)","v":100},null,{"$f":"IF($B$267=0,0,$B$267)","v":100},null,{"$f":"IF($B$332=0,0,$B$332)","v":100},null,{"$f":"IF($B$397=0,0,$B$397)","v":100},null,{"$f":"IF($B$462=0,0,$B$462)","v":100},null,{"$f":"IF($B$527=0,0,$B$527)","v":100},null,{"$f":"IF($B$592=0,0,$B$592)","v":100},null,{"$f":"IF($B$657=0,0,$B$657)","v":100},null,{"$f":"IF($B$722=0,0,$B$722)","v":100}]
[{"$f":"Labels!$B$104","v":"Heures théoriques selon CCT"},null,null,null,null,null,{"$f":"IF($AG$36=0,0,$AG$36)","v":176},null,{"$f":"IF($AG$101=0,0,$AG$101)","v":160},null,{"$f":"IF($AG$142=0,0,$AG$142)","v":184},null,{"$f":"IF($AG$231=0,0,$AG$231)","v":160},null,{"$f":"IF($AG$296=0,0,$AG$296)","v":184},null,{"$f":"IF($AG$361=0,0,$AG$361)","v":176},null,{"$f":"IF($AG$426=0,0,$AG$426)","v":168},null,{"$f":"IF($AG$491=0,0,$AG$491)","v":184},null,{"$f":"IF($AG$556=0,0,$AG$556)","v":168},null,{"$f":"IF($AG$621=0,0,$AG$621)","v":176},null,{"$f":"IF($AG$686=0,0,$AG$686)","v":176},null,{"$f":"IF($AG$751=0,0,$AG$751)","v":168},null,{"$f":"SUM(G496:AD496)","v":2080}]
[{"$f":"Labels!$B$105","v":"Total heures productives"},{"$f":"Labels!$B$106","v":"06.00 - 20.00 h"},null,null,null,null,{"$f":"IF($AG$32=0,0,$AG$32)","v":0},null,{"$f":"IF($AG$96=0,0,$AG$96)","v":0},null,{"$f":"IF($AG$161=0,0,$AG$161)","v":0},null,{"$f":"IF($AG$226=0,0,$AG$226)","v":0},null,{"$f":"IF($AG$291=0,0,$AG$291)","v":0},null,{"$f":"IF($AG$356=0,0,$AG$356)","v":0},null,{"$f":"IF($AG$421=0,0,$AG$421)","v":0},null,{"$f":"IF($AG$486=0,0,$AG$486)","v":0},null,{"$f":"IF($AG$551=0,0,$AG$551)","v":0},null,{"$f":"IF($AG$616=0,0,$AG$616)","v":0},null,{"$f":"IF($AG$681=0,0,$AG$681)","v":0},null,{"$f":"IF($AG$746=0,0,$AG$746)","v":0},null,{"$f":"SUM(G497:AD497)","v":0}]
[null,{"$f":"Labels!$B$107","v":"nuit, dimanche et jour férié"},null,null,null,null,{"$f":"IF($AG$33=0,0,$AG$33)","v":0},null,{"$f":"IF($AG$97=0,0,$AG$97)","v":0},null,{"$f":"IF($AG$162=0,0,$AG$162)","v":0},null,{"$f":"IF($AG$227=0,0,$AG$227)","v":0},null,{"$f":"IF($AG$292=0,0,$AG$292)","v":0},null,{"$f":"IF($AG$357=0,0,$AG$357)","v":0},null,{"$f":"IF($AG$422=0,0,$AG$422)","v":0},null,{"$f":"IF($AG$487=0,0,$AG$487)","v":0},null,{"$f":"IF($AG$552=0,0,$AG$552)","v":0},null,{"$f":"IF($AG$617=0,0,$AG$617)","v":0},null,{"$f":"IF($AG$682=0,0,$AG$682)","v":0},null,{"$f":"IF($AG$747=0,0,$AG$747)","v":0},null,{"$f":"SUM(G498:AD498)","v":0}]
[{"$f":"Labels!$B$108","v":"Majorations temporelles"},{"$f":"Labels!$B$109","v":"depassement des heures maximales"},null,null,null,null,{"$f":"IF($AG$25=0,0,$AG$25)","v":0},null,{"$f":"IF($AG$89=0,0,$AG$89)","v":0},null,{"$f":"IF($AG$154=0,0,$AG$154)","v":0},null,{"$f":"IF($AG$219=0,0,$AG$219)","v":0},null,{"$f":"IF($AG$284=0,0,$AG$284)","v":0},null,{"$f":"IF($AG$349=0,0,$AG$349)","v":0},null,{"$f":"IF($AG$414=0,0,$AG$414)","v":0},null,{"$f":"IF($AG$479=0,0,$AG$479)","v":0},null,{"$f":"IF($AG$544=0,0,$AG$544)","v":0},null,{"$f":"IF($AG$609=0,0,$AG$609)","v":0},null,{"$f":"IF($AG$674=0,0,$AG$674)","v":0},null,{"$f":"IF($AG$739=0,0,$AG$739)","v":0},null,{"$f":"SUM(G499:AD499)","v":0}]
[null,{"$f":"Labels!$B$110","v":"nuit, dimanche et jour férié"},null,null,null,null,{"$f":"IF($AJ$23=0,0,$AJ$23)","v":0},null,{"$f":"IF($AK$23=0,0,$AK$23)","v":0},null,{"$f":"IF($AL$23=0,0,$AL$23)","v":0},null,{"$f":"IF($AM$23=0,0,$AM$23)","v":0},null,{"$f":"IF($AN$23=0,0,$AN$23)","v":0},null,{"$f":"IF($AO$23=0,0,$AO$23)","v":0},null,{"$f":"IF($AP$23=0,0,$AP$23)","v":0},null,{"$f":"IF($AQ$23=0,0,$AQ$23)","v":0},null,{"$f":"IF($AR$23=0,0,$AR$23)","v":0},null,{"$f":"IF($AS$23=0,0,$AS$23)","v":0},null,{"$f":"IF($AT$23=0,0,$AT$23)","v":0},null,{"$f":"IF($AU$23=0,0,$AU$23)","v":0},null,{"$f":"SUM(G500:AD500)","v":0}]
[{"$f":"Labels!$B$111","v":"Heures inproductives"}]
[{"$f":"Labels!$B$112","v":"   Absences art. 11 CCT"},null,null,null,null,{"$f":"Labels!$B$113","v":"ab"},{"$f":"IF($AJ$3=0,0,$AJ$3)","v":0},null,{"$f":"IF($AK$3=0,0,$AK$3)","v":0},null,{"$f":"IF($AL$3=0,0,$AL$3)","v":0},null,{"$f":"IF($AM$3=0,0,$AM$3)","v":0},null,{"$f":"IF($AN$3=0,0,$AN$3)","v":0},null,{"$f":"IF($AO$3=0,0,$AO$3)","v":0},null,{"$f":"IF($AP$3=0,0,$AP$3)","v":0},null,{"$f":"IF($AQ$3=0,0,$AQ$3)","v":0},null,{"$f":"IF($AR$3=0,0,$AR$3)","v":0},null,{"$f":"IF($AS$3=0,0,$AS$3)","v":0},null,{"$f":"IF(AT$3=0,0,$AT$3)","v":0},null,{"$f":"IF($AU$3=0,0,$AU$3)","v":0},null,{"$f":"IF($AV$3=0,0,$AV$3)","v":0}]
[{"$f":"Labels!$B$114","v":"   Vacances art. 12.1 CCT"},null,null,null,null,{"$f":"Labels!$B$115","v":"va"},{"$f":"IF($AJ$4=0,0,$AJ$4)","v":0},null,{"$f":"IF($AK$4=0,0,$AK$4)","v":0},null,{"$f":"IF($AL$4=0,0,$AL$4)","v":0},null,{"$f":"IF($AM$4=0,0,$AM$4)","v":0},null,{"$f":"IF($AN$4=0,0,$AN$4)","v":0},null,{"$f":"IF($AO$4=0,0,$AO$4)","v":0},null,{"$f":"IF($AP$4=0,0,$AP$4)","v":0},null,{"$f":"IF($AQ$4=0,0,$AQ$4)","v":0},null,{"$f":"IF($AR$4=0,0,$AR$4)","v":0},null,{"$f":"IF($AS$4=0,0,$AS$4)","v":0},null,{"$f":"IF($AT$4=0,0,$AT$4)","v":0},null,{"$f":"IF($AU$4=0,0,$AU$4)","v":0},null,{"$f":"IF($AV$4=0,0,$AV$4)","v":0}]
[{"$f":"Labels!$B$181","v":"   vacances non payées"},null,null,null,null,{"$f":"Labels!$B$182","v":"vn"},{"$f":"IF($AJ$13=0,0,$AJ$13)","v":0},null,{"$f":"IF($AK$13=0,0,$AK$13)","v":0},null,{"$f":"IF($AL$13=0,0,$AL$13)","v":0},null,{"$f":"IF($AM$13=0,0,$AM$13)","v":0},null,{"$f":"IF($AN$13=0,0,$AN$13)","v":0},null,{"$f":"IF($AO$13=0,0,$AO$13)","v":0},null,{"$f":"IF($AP$13=0,0,$AP$13)","v":0},null,{"$f":"IF($AQ$13=0,0,$AQ$13)","v":0},null,{"$f":"IF($AR$13=0,0,$AR$13)","v":0},null,{"$f":"IF($AS$13=0,0,$AS$13)","v":0},null,{"$f":"IF($AT$13=0,0,$AT$13)","v":0},null,{"$f":"IF($AU$13=0,0,$AU$13)","v":0},null,{"$f":"IF($AV$13=0,0,$AV$13)","v":0}]
[{"$f":"Labels!$B$116","v":"   Jours fériés art. 12.2 CCT"},null,{"$f":"IF($AJ$20=\"\",\"\",$AJ$20)","v":""},null,null,{"$f":"Labels!$B$118","v":"jf"},{"$f":"IF($AJ$18=0,0,$AJ$18)","v":0},null,{"$f":"IF($AK$18=0,0,$AK$18)","v":0},null,{"$f":"IF($AL$18=0,0,$AL$18)","v":0},null,{"$f":"IF($AM$18=0,0,$AM$18)","v":0},null,{"$f":"IF($AN$18=0,0,$AN$18)","v":0},null,{"$f":"IF($AO$18=0,0,$AO$18)","v":0},null,{"$f":"IF($AP$18=0,0,$AP$18)","v":0},null,{"$f":"IF($AQ$18=0,0,$AQ$18)","v":0},null,{"$f":"IF($AR$18=0,0,$AR$18)","v":0},null,{"$f":"IF($AS$18=0,0,$AS$18)","v":0},null,{"$f":"IF($AT$18=0,0,$AT$18)","v":0},null,{"$f":"IF($AU$18=0,0,$AU$18)","v":0},null,{"$f":"IF($AV$18=0,0,$AV$18)","v":0}]
[{"$f":"Labels!$B$119","v":"   Maladie art. 13 CCT"},null,null,null,null,{"$f":"Labels!$B$120","v":"ma"},{"$f":"IF($AJ$5=0,0,$AJ$5)","v":0},null,{"$f":"IF($AK$5=0,0,$AK$5)","v":0},null,{"$f":"IF($AL$5=0,0,$AL$5)","v":0},null,{"$f":"IF($AM$5=0,0,$AM$5)","v":0},null,{"$f":"IF($AN$5=0,0,$AN$5)","v":0},null,{"$f":"IF($AO$5=0,0,$AO$5)","v":0},null,{"$f":"IF($AP$5=0,0,$AP$5)","v":0},null,{"$f":"IF($AQ$5=0,0,$AQ$5)","v":0},null,{"$f":"IF($AR$5=0,0,$AR$5)","v":0},null,{"$f":"IF($AS$5=0,0,$AS$5)","v":0},null,{"$f":"IF($AT$5=0,0,$AT$5)","v":0},null,{"$f":"IF($AU$5=0,0,$AU$5)","v":0},null,{"$f":"IF($AV$5=0,0,$AV$5)","v":0}]
[{"$f":"Labels!$B$184","v":"non payeé"},null,null,null,null,null,{"$f":"IF(AJ$16=0,0,AJ$16)","v":0},null,{"$f":"IF($AK$16=0,0,$AK$16)","v":0},null,{"$f":"IF($AL$16=0,0,$AL$16)","v":0},null,{"$f":"IF($AM$16=0,0,$AM$16)","v":0},null,{"$f":"IF($AN$16=0,0,$AN$16)","v":0},null,{"$f":"IF($AO$16=0,0,$AO$16)","v":0},null,{"$f":"IF($AP$16=0,0,$AP$16)","v":0},null,{"$f":"IF($AQ$16=0,0,$AQ$16)","v":0},null,{"$f":"IF($AR$16=0,0,$AR$16)","v":0},null,{"$f":"IF($AS$16=0,0,$AS$16)","v":0},null,{"$f":"IF($AT$16=0,0,$AT$16)","v":0},null,{"$f":"IF($AU$16=0,0,$AU$16)","v":0},null,{"$f":"IF($AV$16=0,0,$AV$16)","v":0}]
[{"$f":"Labels!$B$121","v":"   Accident art. 14 CCT"},null,null,null,null,{"$f":"Labels!$B$122","v":"ac"},{"$f":"IF($AJ$6=0,0,$AJ$6)","v":0},null,{"$f":"IF($AK$6=0,0,$AK$6)","v":0},null,{"$f":"IF($AL$6=0,0,$AL$6)","v":0},null,{"$f":"IF($AM$6=0,0,$AM$6)","v":0},null,{"$f":"IF($AN$6=0,0,$AN$6)","v":0},null,{"$f":"IF($AO$6=0,0,$AO$6)","v":0},null,{"$f":"IF($AP$6=0,0,$AP$6)","v":0},null,{"$f":"IF($AQ$6=0,0,$AQ$6)","v":0},null,{"$f":"IF($AR$6=0,0,$AR$6)","v":0},null,{"$f":"IF($AS$6=0,0,$AS$6)","v":0},null,{"$f":"IF($AT$6=0,0,$AT$6)","v":0},null,{"$f":"IF($AU$6=0,0,$AU$6)","v":0},null,{"$f":"IF($AV$6=0,0,$AV$6)","v":0}]
[{"$f":"Labels!$B$123","v":"   Grossesse/Maternité art. 15 CCT"},null,null,null,null,{"$f":"Labels!$B$124","v":"gm"},{"$f":"IF($AJ$7=0,0,$AJ$7)","v":0},null,{"$f":"IF($AK$7=0,0,$AK$7)","v":0},null,{"$f":"IF($AL$7=0,0,$AL$7)","v":0},null,{"$f":"IF($AM$7=0,0,$AM$7)","v":0},null,{"$f":"IF($AN$7=0,0,$AN$7)","v":0},null,{"$f":"IF($AO$7=0,0,$AO$7)","v":0},null,{"$f":"IF($AP$7=0,0,$AP$7)","v":0},null,{"$f":"IF($AQ$7=0,0,$AQ$7)","v":0},null,{"$f":"IF($AR$7=0,0,$AR$7)","v":0},null,{"$f":"IF($AS$7=0,0,$AS$7)","v":0},null,{"$f":"IF($AT$7=0,0,$AT$7)","v":0},null,{"$f":"IF($AU$7=0,0,$AU$7)","v":0},null,{"$f":"IF($AV$7=0,0,$AV$7)","v":0}]
[{"$f":"Labels!$B$125","v":"   Militaire/Promotion/Protection civile art. 16 CCT"},null,null,null,null,{"$f":"Labels!$B$126","v":"mi"},{"$f":"IF($AJ$8=0,0,$AJ$8)","v":0},null,{"$f":"IF($AK$8=0,0,$AK$8)","v":0},null,{"$f":"IF($AL$8=0,0,$AL$8)","v":0},null,{"$f":"IF($AM$8=0,0,$AM$8)","v":0},null,{"$f":"IF($AN$8=0,0,$AN$8)","v":0},null,{"$f":"IF($AO$8=0,0,$AO$8)","v":0},null,{"$f":"IF($AP$8=0,0,$AP$8)","v":0},null,{"$f":"IF($AQ$8=0,0,$AQ$8)","v":0},null,{"$f":"IF($AR$8=0,0,$AR$8)","v":0},null,{"$f":"IF($AS$8=0,0,$AS$8)","v":0},null,{"$f":"IF($AT$8=0,0,$AT$8)","v":0},null,{"$f":"IF($AU$8=0,0,$AU$8)","v":0},null,{"$f":"IF($AV$8=0,0,$AV$8)","v":0}]
[{"$f":"Labels!$B$127","v":"   Chômage partiel et perte de travail cause d'intempéries"},null,null,null,null,{"$f":"Labels!$B$128","v":"ch"},{"$f":"IF($AJ$11=0,0,$AJ$11)","v":0},null,{"$f":"IF($AK$11=0,0,$AK$11)","v":0},null,{"$f":"IF($AL$11=0,0,$AL$11)","v":0},null,{"$f":"IF($AM$11=0,0,$AM$11)","v":0},null,{"$f":"IF($AN$11=0,0,$AN$11)","v":0},null,{"$f":"IF($AO$11=0,0,$AO$11)","v":0},null,{"$f":"IF($AP$11=0,0,$AP$11)","v":0},null,{"$f":"IF($AQ$11=0,0,$AQ$11)","v":0},null,{"$f":"IF($AR$11=0,0,$AR$11)","v":0},null,{"$f":"IF($AS$11=0,0,$AS$11)","v":0},null,{"$f":"IF($AT$11=0,0,$AT$11)","v":0},null,{"$f":"IF($AU$11=0,0,$AU$11)","v":0},null,{"$f":"IF($AV$11=0,0,$AV$11)","v":0}]
[{"$f":"Labels!$B$129","v":"   Ecole professionnelle"},null,null,null,null,{"$f":"Labels!$B$130","v":"ep"},{"$f":"IF($AJ$9=0,0,$AJ$9)","v":0},null,{"$f":"IF($AK$9=0,0,$AK$9)","v":0},null,{"$f":"IF($AL$9=0,0,$AL$9)","v":0},null,{"$f":"IF($AM$9=0,0,$AM$9)","v":0},null,{"$f":"IF($AN$9=0,0,$AN$9)","v":0},null,{"$f":"IF($AO$9=0,0,$AO$9)","v":0},null,{"$f":"IF($AP$9=0,0,$AP$9)","v":0},null,{"$f":"IF($AQ$9=0,0,$AQ$9)","v":0},null,{"$f":"IF($AR$9=0,0,$AR$9)","v":0},null,{"$f":"IF($AS$9=0,0,$AS$9)","v":0},null,{"$f":"IF($AT$9=0,0,$AT$9)","v":0},null,{"$f":"IF($AU$9=0,0,$AU$9)","v":0},null,{"$f":"IF($AV$9=0,0,$AV$9)","v":0}]
[{"$f":"Labels!$B$131","v":"   Cours"},null,null,null,null,{"$f":"Labels!$B$132","v":"co"},{"$f":"IF($AJ$10=0,0,$AJ$10)","v":0},null,{"$f":"IF($AK$10=0,0,$AK$10)","v":0},null,{"$f":"IF($AL$10=0,0,$AL$10)","v":0},null,{"$f":"IF($AM$10=0,0,$AM$10)","v":0},null,{"$f":"IF($AN$10=0,0,$AN$10)","v":0},null,{"$f":"IF($AO$10=0,0,$AO$10)","v":0},null,{"$f":"IF($AP$10=0,0,$AP$10)","v":0},null,{"$f":"IF($AQ$10=0,0,$AQ$10)","v":0},null,{"$f":"IF($AR$10=0,0,$AR$10)","v":0},null,{"$f":"IF($AS$10=0,0,$AS$10)","v":0},null,{"$f":"IF($AT$10=0,0,$AT$10)","v":0},null,{"$f":"IF($AU$10=0,0,$AU$10)","v":0},null,{"$f":"IF($AV$10=0,0,$AV$10)","v":0}]
[{"$f":"Labels!$B$133","v":"Heures de compensation"},{"$f":"Labels!$B$134","v":"de l'année passée"},null,null,null,{"$f":"Labels!$B$135","v":"cp"},{"$f":"IF($AJ$12=0,0,$AJ$12)","v":0},null,{"$f":"IF($AK$12=0,0,$AK$12)","v":0},null,{"$f":"IF($AL$12=0,0,$AL$12)","v":0},null,{"$f":"IF($AM$12=0,0,$AM$12)","v":0},null,{"$f":"IF($AN$12=0,0,$AN$12)","v":0},null,{"$f":"IF($AO$12=0,0,$AO$12)","v":0},null,{"$f":"IF($AP$12=0,0,$AP$12)","v":0},null,{"$f":"IF($AQ$12=0,0,$AQ$12)","v":0},null,{"$f":"IF($AR$12=0,0,$AR$12)","v":0},null,null,null,null,null,null,null,{"$f":"IF($AV$12=0,0,$AV$12)","v":0}]
[null,{"$f":"Labels!$B$136","v":"de l'année en cours (contrôle)"},null,null,null,{"$f":"Labels!$B$137","v":"cc"},{"$f":"IF($AJ$15=0,0,$AJ$15)","v":0},null,{"$f":"IF($AK$15=0,0,$AK$15)","v":0},null,{"$f":"IF($AL$15=0,0,$AL$15)","v":0},null,{"$f":"IF($AM$15=0,0,$AM$15)","v":0},null,{"$f":"IF($AN$15=0,0,$AN$15)","v":0},null,{"$f":"IF($AO$15=0,0,$AO$15)","v":0},null,{"$f":"IF($AP$15=0,0,$AP$15)","v":0},null,{"$f":"IF($AQ$15=0,0,$AQ$15)","v":0},null,{"$f":"IF($AR$15=0,0,$AR$15)","v":0},null,{"$f":"IF($AS$15=0,0,$AS$15)","v":0},null,{"$f":"IF($AT$15=0,0,$AT$15)","v":0},null,{"$f":"IF($AU$15=0,0,$AU$15)","v":0},null,{"$f":"IF($AV$15=0,0,$AV$15)","v":0}]
[{"$f":"Labels!$B$138","v":"Paiement des heures"},{"$f":"Labels!$B$139","v":"de l'année passée"},null,null,null,null,{"$f":"IF($AJ$21=0,0,$AJ$21)","v":0},null,{"$f":"IF($AK$21=0,0,$AK$21)","v":0},null,{"$f":"IF($AL$21=0,0,$AL$21)","v":0},null,{"$f":"IF($AM$21=0,0,$AM$21)","v":0},null,{"$f":"IF($AN$21=0,0,$AN$21)","v":0},null,{"$f":"IF($AO$21=0,0,$AO$21)","v":0},null,{"$f":"IF($AP$21=0,0,$AP$21)","v":0},null,{"$f":"IF($AQ$21=0,0,$AQ$21)","v":0},null,{"$f":"IF($AR$21=0,0,$AR$21)","v":0},null,null,null,null,null,null,null,{"$f":"IF($AV$21=0,0,$AV$21)","v":0}]
[{"$f":"Labels!$B$140","v":"Différence en heures"},{"$f":"Labels!$B$141","v":"après compensation et paiement"},null,null,null,null,{"$f":"IF(ROUND($P$4,3)=0,0,$P$4-G514-G516)","v":0},null,{"$f":"IF(ROUND(G517,3)=0,0,G517-(SUM(I514+I516)))","v":0},null,{"$f":"IF(ROUND(I517,3)=0,0,I517-K516-K514)","v":0},null,{"$f":"IF(ROUND(K517,3)=0,0,K517-(SUM(M516+M514)))","v":0},null,{"$f":"IF(ROUND(M517,3)=0,0,M517-(SUM(O516+O514)))","v":0},null,{"$f":"IF(ROUND(O517,3)=0,0,O517-(SUM(Q516+Q514)))","v":0},null,{"$f":"IF(ROUND(Q517,3)=0,0,Q517-(SUM(S516+S514)))","v":0},null,{"$f":"IF(ROUND(S517,3)=0,0,S517-(SUM(U516+U514)))","v":0},null,{"$f":"IF(ROUND(U517,3)=0,0,U517-(SUM(W516+W514)))","v":0},null,{"$f":"IF($W$62<0.1,\"\",AY499)","v":""}]
[{"$f":"Labels!$B$138","v":"Paiement des heures"},{"$f":"Labels!$B$142","v":"de l'année en cours"},null,null,null,null,{"$f":"IF($AJ$22=0,0,$AJ$22)","v":0},null,{"$f":"IF($AK$22=0,0,$AK$22)","v":0},null,{"$f":"IF($AL$22=0,0,$AL$22)","v":0},null,{"$f":"IF($AM$22=0,0,$AM$22)","v":0},null,{"$f":"IF($AN$22=0,0,$AN$22)","v":0},null,{"$f":"IF($AO$22=0,0,$AO$22)","v":0},null,{"$f":"IF($AP$22=0,0,$AP$22)","v":0},null,{"$f":"IF($AQ$22=0,0,$AQ$22)","v":0},null,{"$f":"IF($AR$22=0,0,$AR$22)","v":0},null,{"$f":"IF($AS$22=0,0,$AS$22)","v":0},null,{"$f":"IF($AT$22=0,0,$AT$22)","v":0},null,{"$f":"IF($AU$22=0,0,$AU$22)","v":0},null,{"$f":"IF($AV$22=0,0,$AV$22)","v":0}]
[{"$f":"Labels!$B$143","v":"Heures manquantes"},{"$f":"Labels!$B$144","v":"de l'année en cours (contrôle)"},null,null,null,{"$f":"Labels!$B$145","v":"hm"},{"$f":"IF($AJ$14=0,0,$AJ$14)","v":0},null,{"$f":"IF($AK$14=0,0,$AK$14)","v":0},null,{"$f":"IF($AL$14=0,0,$AL$14)","v":0},null,{"$f":"IF($AM$14=0,0,$AM$14)","v":0},null,{"$f":"IF($AN$14=0,0,$AN$14)","v":0},null,{"$f":"IF($AO$14=0,0,$AO$14)","v":0},null,{"$f":"IF($AP$14=0,0,$AP$14)","v":0},null,{"$f":"IF($AQ$14=0,0,$AQ$14)","v":0},null,{"$f":"IF($AR$14=0,0,$AR$14)","v":0},null,{"$f":"IF($AS$14=0,0,$AS$14)","v":0},null,{"$f":"IF($AT$14=0,0,$AT$14)","v":0},null,{"$f":"IF($AU$14=0,0,$AU$14)","v":0},null,{"$f":"IF($AV$14=0,0,$AV$14)","v":0}]
[{"$f":"Labels!$B$146","v":"Total (majorations inclus)"},{"$f":"Labels!$B$147","v":"heures productives et inproductives"},null,null,null,null,{"$f":"IF($AG$35=0,0,$AG$35)","v":0},null,{"$f":"IF($AG$100=0,0,$AG$100)","v":0},null,{"$f":"IF($AG$165=0,0,$AG$165)","v":0},null,{"$f":"IF($AG$230=0,0,$AG$230)","v":0},null,{"$f":"IF($AG$295=0,0,$AG$295)","v":0},null,{"$f":"IF($AG$360=0,0,$AG$360)","v":0},null,{"$f":"IF($AG$425=0,0,$AG$425)","v":0},null,{"$f":"IF($AG$490=0,0,$AG$490)","v":0},null,{"$f":"IF($AG$555=0,0,$AG$555)","v":0},null,{"$f":"IF($AG$620=0,0,$AG$620)","v":0},null,{"$f":"IF($AG$685=0,0,$AG$685)","v":0},null,{"$f":"IF($AG$750=0,0,$AG$750)","v":0},null,{"$f":"SUM($G$65:$AD$65)","v":0}]
[{"$f":"Labels!$B$148","v":"Comparaison des heures"},{"$f":"Labels!$B$149","v":"aux heures théorique CCT (heures \nmanquantes de l'année passée incl.)"},null,null,null,null,{"$f":"IF($AG$37=0,0,$AG$37)-$AE$34+$P$5","v":-176},null,{"$f":"IF($AG$102=0,0,$AG$102)-$AE$99","v":-160},null,{"$f":"IF($AG$167=0,0,$AG$167)-$AE$164","v":-184},null,{"$f":"IF($AG$232=0,0,$AG$232)-$AE$229","v":-160},null,{"$f":"IF($AG$297=0,0,$AG$297)-$AE$294","v":-184},null,{"$f":"IF($AG$362=0,0,$AG$362)-$AE$359","v":-176},null,{"$f":"IF($AG$427=0,0,$AG$427)-$AE$424","v":-168},null,{"$f":"IF($AG$492=0,0,$AG$492)-$AE$489","v":-184},null,{"$f":"IF($AG$557=0,0,$AG$557)-$AE$554","v":-168},null,{"$f":"IF($AG$622=0,0,$AG$622)-$AE$619","v":-176},null,{"$f":"IF($AG$687=0,0,$AG$687)-$AE$684","v":-176},null,{"$f":"IF($AG$752=0,0,$AG$752)-$AE$749","v":-168},null,{"$f":"SUM($G$66:$AD$66)","v":-2080}]
[null,{"$f":"Labels!$B$151","v":"aux heures théorique (cumulées)"},null,null,null,null,{"$f":"IF(G495=0,0,$G$66)","v":-176},null,{"$f":"IF(I495=0,0,SUM($G$66:$J$66))","v":-336},null,{"$f":"IF(K495=0,0,SUM($G$66:$L$66))","v":-520},null,{"$f":"IF(M495=0,0,SUM($G$66:$N$66))","v":-680},null,{"$f":"IF(O495=0,0,SUM($G$66:$P$66))","v":-864},null,{"$f":"IF(Q495=0,0,SUM($G$66:$R$66))","v":-1040},null,{"$f":"IF(S495=0,0,SUM($G$66:$T$66))","v":-1208},null,{"$f":"IF(U495=0,0,SUM($G$66:$V$66))","v":-1392},null,{"$f":"IF(W495=0,0,SUM($G$66:$X$66))","v":-1560},null,{"$f":"IF(Y495=0,0,SUM($G$66:$Z$66))","v":-1736},null,{"$f":"IF(AA495=0,0,SUM($G$66:$AB$66))","v":-1912},null,{"$f":"IF(AC495=0,0,SUM($G$66:$AD$66))","v":-2080}]
[{"$f":"Labels!$B$153","v":"Vacances (contrôle)"},{"$f":"Labels!$B$154","v":"Vacances année passée"},null,null,null,null,{"$f":"IF($AA$4=0,0,$AA$4)","v":0},null,{"$f":"Labels!$B$155","v":"Vacances selon \nart 12.1 CCT"},null,null,null,{"$f":"IF($AA$5=0,0,$AA$5)","v":0},null,{"$f":"Labels!$B$156","v":"Total des vacances"},null,null,null,{"$f":"SUM(G523+M523)","v":0},null,{"$f":"Labels!$B$157","v":"Vacances prises"},null,null,null,{"$f":"IF($AV$4=0,0,$AV$4)","v":0},null,{"$f":"Labels!$B$158","v":"Vacances restantes"},null,null,null,{"$f":"IF(S523=0,0,S523-Y523)","v":0}]
[]
[]
[{"$f":"$A$3","v":"Nom/Prénom"},{"$f":"IF($B$3=\"\",\"\",$B$3)","v":"Modèle Pierre"},null,null,null,null,null,null,null,null,null,null,null,null,null,null,null,null,null,null,null,null,null,null,null,null,null,null,null,null,null,{"$f":"AF3","v":0}]
[{"$f":"$A$4","v":"Emploi %"},{"$f":"$AL$56","v":100},null,{"$f":"Labels!B97","v":"en septembre"}]
[{"$f":"$A$5","v":"Solde année en cours"},null,null,{"$f":"IF($AE$66=0,0,$AE$66)","v":-2080}]
[{"$f":"TEXT(DATE(YEAR(AP29),MONTH(AP29)+8,1),\"MMMM\"&Labels!B13)","v":"septembre"},{"$f":"$B$9","v":"Solde mois + / -"},null,null,null,{"$f":"(AG531-(SUM(AG532:AG546)-AE554))*-1","v":168},null,null,null,null,{"$f":"$K$9","v":" = "},{"$f":"$L$9","v":"Les cases marquées en jaune doivent être remplies (les autres seront calculées automatiquement)"},null,null,null,null,null,null,null,null,null,null,null,null,null,null,null,null,null,null,null,null,{"$f":"COUNT(B532:AF532)&\" \"&Labels!$B$63","v":"21 Jours"}]
[{"$f":"$A$10","v":"Jour"},{"$f":"AF465+1","v":"2023-09-01"},{"$f":"B530+1","v":"2023-09-02"},{"$f":"C530+1","v":"2023-09-03"},"2023-09-04","2023-09-05","2023-09-06","2023-09-07","2023-09-08","2023-09-09","2023-09-10","2023-09-11","2023-09-12","2023-09-13","2023-09-14","2023-09-15","2023-09-16","2023-09-17","2023-09-18","2023-09-19","2023-09-20","2023-09-21","2023-09-22","2023-09-23","2023-09-24","2023-09-25","2023-09-26","2023-09-27","2023-09-28","2023-09-29","2023-09-30"]
[{"$f":"$A$11","v":"semaine civile"},{"$f":"IF(B530=\"\",\"\",TRUNC((B530-DATE(YEAR(B530+3-MOD(B530-2,7)),1,MOD(B530-2,7)-9))/7))","v":35},35,35,36,36,36,36,36,36,36,37,37,37,37,37,37,37,38,38,38,38,38,38,38,39,39,39,39,39,39,"",null,"Woche"]
[{"$f":"$A$12","v":"Théorique sel. CCT"},{"$f":"IF(AND(MOD(B530,7)>=2,SUMPRODUCT(($AM$60:$AQ$60=MOD(B530,7))*$AM$56:$AQ$56),B1029=\"\"),$J$7*SUMPRODUCT(($AM$77:$AQ$77=MOD(B530,7))*$AM$73:$AQ$73)%,\"\")","v":8},{"$f":"IF(AND(MOD(C530,7)>=2,SUMPRODUCT(($AM$60:$AQ$60=MOD(C530,7))*$AM$56:$AQ$56),C1029=\"\"),$J$7*SUMPRODUCT(($AM$77:$AQ$77=MOD(C530,7))*$AM$73:$AQ$73)%,\"\")","v":""},{"$f":"IF(AND(MOD(D530,7)>=2,SUMPRODUCT(($AM$60:$AQ$60=MOD(D530,7))*$AM$56:$AQ$56),D1029=\"\"),$J$7*SUMPRODUCT(($AM$77:$AQ$77=MOD(D530,7))*$AM$73:$AQ$73)%,\"\")","v":""},{"$f":"IF(AND(MOD(E530,7)>=2,SUMPRODUCT(($AM$60:$AQ$60=MOD(E530,7))*$AM$56:$AQ$56),E1029=\"\"),$J$7*SUMPRODUCT(($AM$77:$AQ$77=MOD(E530,7))*$AM$73:$AQ$73)%,\"\")","v":8},{"$f":"IF(AND(MOD(F530,7)>=2,SUMPRODUCT(($AM$60:$AQ$60=MOD(F530,7))*$AM$56:$AQ$56),F1029=\"\"),$J$7*SUMPRODUCT(($AM$77:$AQ$77=MOD(F530,7))*$AM$73:$AQ$73)%,\"\")","v":8},{"$f":"IF(AND(MOD(G530,7)>=2,SUMPRODUCT(($AM$60:$AQ$60=MOD(G530,7))*$AM$56:$AQ$56),G1029=\"\"),$J$7*SUMPRODUCT(($AM$77:$AQ$77=MOD(G530,7))*$AM$73:$AQ$73)%,\"\")","v":8},{"$f":"IF(AND(MOD(H530,7)>=2,SUMPRODUCT(($AM$60:$AQ$60=MOD(H530,7))*$AM$56:$AQ$56),H1029=\"\"),$J$7*SUMPRODUCT(($AM$77:$AQ$77=MOD(H530,7))*$AM$73:$AQ$73)%,\"\")","v":8},{"$f":"IF(AND(MOD(I530,7)>=2,SUMPRODUCT(($AM$60:$AQ$60=MOD(I530,7))*$AM$56:$AQ$56),I1029=\"\"),$J$7*SUMPRODUCT(($AM$77:$AQ$77=MOD(I530,7))*$AM$73:$AQ$73)%,\"\")","v":8},{"$f":"IF(AND(MOD(J530,7)>=2,SUMPRODUCT(($AM$60:$AQ$60=MOD(J530,7))*$AM$56:$AQ$56),J1029=\"\"),$J$7*SUMPRODUCT(($AM$77:$AQ$77=MOD(J530,7))*$AM$73:$AQ$73)%,\"\")","v":""},{"$f":"IF(AND(MOD(K530,7)>=2,SUMPRODUCT(($AM$60:$AQ$60=MOD(K530,7))*$AM$56:$AQ$56),K1029=\"\"),$J$7*SUMPRODUCT(($AM$77:$AQ$77=MOD(K530,7))*$AM$73:$AQ$73)%,\"\")","v":""},{"$f":"IF(AND(MOD(L530,7)>=2,SUMPRODUCT(($AM$60:$AQ$60=MOD(L530,7))*$AM$56:$AQ$56),L1029=\"\"),$J$7*SUMPRODUCT(($AM$77:$AQ$77=MOD(L530,7))*$AM$73:$AQ$73)%,\"\")","v":8},{"$f":"IF(AND(MOD(M530,7)>=2,SUMPRODUCT(($AM$60:$AQ$60=MOD(M530,7))*$AM$56:$AQ$56),M1029=\"\"),$J$7*SUMPRODUCT(($AM$77:$AQ$77=MOD(M530,7))*$AM$73:$AQ$73)%,\"\")","v":8},{"$f":"IF(AND(MOD(N530,7)>=2,SUMPRODUCT(($AM$60:$AQ$60=MOD(N530,7))*$AM$56:$AQ$56),N1029=\"\"),$J$7*SUMPRODUCT(($AM$77:$AQ$77=MOD(N530,7))*$AM$73:$AQ$73)%,\"\")","v":8},{"$f":"IF(AND(MOD(O530,7)>=2,SUMPRODUCT(($AM$60:$AQ$60=MOD(O530,7))*$AM$56:$AQ$56),O1029=\"\"),$J$7*SUMPRODUCT(($AM$77:$AQ$77=MOD(O530,7))*$AM$73:$AQ$73)%,\"\")","v":8},{"$f":"IF(AND(MOD(P530,7)>=2,SUMPRODUCT(($AM$60:$AQ$60=MOD(P530,7))*$AM$56:$AQ$56),P1029=\"\"),$J$7*SUMPRODUCT(($AM$77:$AQ$77=MOD(P530,7))*$AM$73:$AQ$73)%,\"\")","v":8},{"$f":"IF(AND(MOD(Q530,7)>=2,SUMPRODUCT(($AM$60:$AQ$60=MOD(Q530,7))*$AM$56:$AQ$56),Q1029=\"\"),$J$7*SUMPRODUCT(($AM$77:$AQ$77=MOD(Q530,7))*$AM$73:$AQ$73)%,\"\")","v":""},{"$f":"IF(AND(MOD(R530,7)>=2,SUMPRODUCT(($AM$60:$AQ$60=MOD(R530,7))*$AM$56:$AQ$56),R1029=\"\"),$J$7*SUMPRODUCT(($AM$77:$AQ$77=MOD(R530,7))*$AM$73:$AQ$73)%,\"\")","v":""},{"$f":"IF(AND(MOD(S530,7)>=2,SUMPRODUCT(($AM$60:$AQ$60=MOD(S530,7))*$AM$56:$AQ$56),S1029=\"\"),$J$7*SUMPRODUCT(($AM$77:$AQ$77=MOD(S530,7))*$AM$73:$AQ$73)%,\"\")","v":8},{"$f":"IF(AND(MOD(T530,7)>=2,SUMPRODUCT(($AM$60:$AQ$60=MOD(T530,7))*$AM$56:$AQ$56),T1029=\"\"),$J$7*SUMPRODUCT(($AM$77:$AQ$77=MOD(T530,7))*$AM$73:$AQ$73)%,\"\")","v":8},{"$f":"IF(AND(MOD(U530,7)>=2,SUMPRODUCT(($AM$60:$AQ$60=MOD(U530,7))*$AM$56:$AQ$56),U1029=\"\"),$J$7*SUMPRODUCT(($AM$77:$AQ$77=MOD(U530,7))*$AM$73:$AQ$73)%,\"\")","v":8},{"$f":"IF(AND(MOD(V530,7)>=2,SUMPRODUCT(($AM$60:$AQ$60=MOD(V530,7))*$AM$56:$AQ$56),V1029=\"\"),$J$7*SUMPRODUCT(($AM$77:$AQ$77=MOD(V530,7))*$AM$73:$AQ$73)%,\"\")","v":8},{"$f":"IF(AND(MOD(W530,7)>=2,SUMPRODUCT(($AM$60:$AQ$60=MOD(W530,7))*$AM$56:$AQ$56),W1029=\"\"),$J$7*SUMPRODUCT(($AM$77:$AQ$77=MOD(W530,7))*$AM$73:$AQ$73)%,\"\")","v":8},{"$f":"IF(AND(MOD(X530,7)>=2,SUMPRODUCT(($AM$60:$AQ$60=MOD(X530,7))*$AM$56:$AQ$56),X1029=\"\"),$J$7*SUMPRODUCT(($AM$77:$AQ$77=MOD(X530,7))*$AM$73:$AQ$73)%,\"\")","v":""},{"$f":"IF(AND(MOD(Y530,7)>=2,SUMPRODUCT(($AM$60:$AQ$60=MOD(Y530,7))*$AM$56:$AQ$56),Y1029=\"\"),$J$7*SUMPRODUCT(($AM$77:$AQ$77=MOD(Y530,7))*$AM$73:$AQ$73)%,\"\")","v":""},{"$f":"IF(AND(MOD(Z530,7)>=2,SUMPRODUCT(($AM$60:$AQ$60=MOD(Z530,7))*$AM$56:$AQ$56),Z1029=\"\"),$J$7*SUMPRODUCT(($AM$77:$AQ$77=MOD(Z530,7))*$AM$73:$AQ$73)%,\"\")","v":8},{"$f":"IF(AND(MOD(AA530,7)>=2,SUMPRODUCT(($AM$60:$AQ$60=MOD(AA530,7))*$AM$56:$AQ$56),AA1029=\"\"),$J$7*SUMPRODUCT(($AM$77:$AQ$77=MOD(AA530,7))*$AM$73:$AQ$73)%,\"\")","v":8},{"$f":"IF(AND(MOD(AB530,7)>=2,SUMPRODUCT(($AM$60:$AQ$60=MOD(AB530,7))*$AM$56:$AQ$56),AB1029=\"\"),$J$7*SUMPRODUCT(($AM$77:$AQ$77=MOD(AB530,7))*$AM$73:$AQ$73)%,\"\")","v":8},{"$f":"IF(AND(MOD(AC530,7)>=2,SUMPRODUCT(($AM$60:$AQ$60=MOD(AC530,7))*$AM$56:$AQ$56),AC1029=\"\"),$J$7*SUMPRODUCT(($AM$77:$AQ$77=MOD(AC530,7))*$AM$73:$AQ$73)%,\"\")","v":8},{"$f":"IF(AND(MOD(AD530,7)>=2,SUMPRODUCT(($AM$60:$AQ$60=MOD(AD530,7))*$AM$56:$AQ$56),AD1029=\"\"),$J$7*SUMPRODUCT(($AM$77:$AQ$77=MOD(AD530,7))*$AM$73:$AQ$73)%,\"\")","v":8},{"$f":"IF(AND(MOD(AE530,7)>=2,SUMPRODUCT(($AM$60:$AQ$60=MOD(AE530,7))*$AM$56:$AQ$56),AE1029=\"\"),$J$7*SUMPRODUCT(($AM$77:$AQ$77=MOD(AE530,7))*$AM$73:$AQ$73)%,\"\")","v":""},null,{"$f":"SUM(B532:AF532)","v":168},"[00]"]
[{"$f":"$A$13","v":"Absences"},{"$f":"B1045","v":0},{"$f":"C1045","v":0},0,0,0,0,0,0,0,0,0,0,0,0,0,0,0,0,0,0,0,0,0,0,0,0,0,0,0,0,null,{"$f":"SUM($AR$3:$AR$13)","v":0},"[01]"]
[{"$f":"$A$14","v":"Code"},{"$f":"IF(SUM(B1032:B1044)<>0,IF(MAX(B1032:B1044)<B1045,Labels!$B$163,INDEX($AH$1031:$AH$1043,MATCH(MAX(B1032:B1044),B1032:B1044,0))),\"\")","v":""},{"$f":"IF(SUM(C1032:C1044)<>0,IF(MAX(C1032:C1044)<C1045,Labels!$B$163,INDEX($AH$1031:$AH$1043,MATCH(MAX(C1032:C1044),C1032:C1044,0))),\"\")","v":""},{"$f":"IF(SUM(D1032:D1044)<>0,IF(MAX(D1032:D1044)<D1045,Labels!$B$163,INDEX($AH$1031:$AH$1043,MATCH(MAX(D1032:D1044),D1032:D1044,0))),\"\")","v":""},{"$f":"IF(SUM(E1032:E1044)<>0,IF(MAX(E1032:E1044)<E1045,Labels!$B$163,INDEX($AH$1031:$AH$1043,MATCH(MAX(E1032:E1044),E1032:E1044,0))),\"\")","v":""},{"$f":"IF(SUM(F1032:F1044)<>0,IF(MAX(F1032:F1044)<F1045,Labels!$B$163,INDEX($AH$1031:$AH$1043,MATCH(MAX(F1032:F1044),F1032:F1044,0))),\"\")","v":""},{"$f":"IF(SUM(G1032:G1044)<>0,IF(MAX(G1032:G1044)<G1045,Labels!$B$163,INDEX($AH$1031:$AH$1043,MATCH(MAX(G1032:G1044),G1032:G1044,0))),\"\")","v":""},{"$f":"IF(SUM(H1032:H1044)<>0,IF(MAX(H1032:H1044)<H1045,Labels!$B$163,INDEX($AH$1031:$AH$1043,MATCH(MAX(H1032:H1044),H1032:H1044,0))),\"\")","v":""},{"$f":"IF(SUM(I1032:I1044)<>0,IF(MAX(I1032:I1044)<I1045,Labels!$B$163,INDEX($AH$1031:$AH$1043,MATCH(MAX(I1032:I1044),I1032:I1044,0))),\"\")","v":""},{"$f":"IF(SUM(J1032:J1044)<>0,IF(MAX(J1032:J1044)<J1045,Labels!$B$163,INDEX($AH$1031:$AH$1043,MATCH(MAX(J1032:J1044),J1032:J1044,0))),\"\")","v":""},{"$f":"IF(SUM(K1032:K1044)<>0,IF(MAX(K1032:K1044)<K1045,Labels!$B$163,INDEX($AH$1031:$AH$1043,MATCH(MAX(K1032:K1044),K1032:K1044,0))),\"\")","v":""},{"$f":"IF(SUM(L1032:L1044)<>0,IF(MAX(L1032:L1044)<L1045,Labels!$B$163,INDEX($AH$1031:$AH$1043,MATCH(MAX(L1032:L1044),L1032:L1044,0))),\"\")","v":""},{"$f":"IF(SUM(M1032:M1044)<>0,IF(MAX(M1032:M1044)<M1045,Labels!$B$163,INDEX($AH$1031:$AH$1043,MATCH(MAX(M1032:M1044),M1032:M1044,0))),\"\")","v":""},{"$f":"IF(SUM(N1032:N1044)<>0,IF(MAX(N1032:N1044)<N1045,Labels!$B$163,INDEX($AH$1031:$AH$1043,MATCH(MAX(N1032:N1044),N1032:N1044,0))),\"\")","v":""},{"$f":"IF(SUM(O1032:O1044)<>0,IF(MAX(O1032:O1044)<O1045,Labels!$B$163,INDEX($AH$1031:$AH$1043,MATCH(MAX(O1032:O1044),O1032:O1044,0))),\"\")","v":""},{"$f":"IF(SUM(P1032:P1044)<>0,IF(MAX(P1032:P1044)<P1045,Labels!$B$163,INDEX($AH$1031:$AH$1043,MATCH(MAX(P1032:P1044),P1032:P1044,0))),\"\")","v":""},{"$f":"IF(SUM(Q1032:Q1044)<>0,IF(MAX(Q1032:Q1044)<Q1045,Labels!$B$163,INDEX($AH$1031:$AH$1043,MATCH(MAX(Q1032:Q1044),Q1032:Q1044,0))),\"\")","v":""},{"$f":"IF(SUM(R1032:R1044)<>0,IF(MAX(R1032:R1044)<R1045,Labels!$B$163,INDEX($AH$1031:$AH$1043,MATCH(MAX(R1032:R1044),R1032:R1044,0))),\"\")","v":""},{"$f":"IF(SUM(S1032:S1044)<>0,IF(MAX(S1032:S1044)<S1045,Labels!$B$163,INDEX($AH$1031:$AH$1043,MATCH(MAX(S1032:S1044),S1032:S1044,0))),\"\")","v":""},{"$f":"IF(SUM(T1032:T1044)<>0,IF(MAX(T1032:T1044)<T1045,Labels!$B$163,INDEX($AH$1031:$AH$1043,MATCH(MAX(T1032:T1044),T1032:T1044,0))),\"\")","v":""},{"$f":"IF(SUM(U1032:U1044)<>0,IF(MAX(U1032:U1044)<U1045,Labels!$B$163,INDEX($AH$1031:$AH$1043,MATCH(MAX(U1032:U1044),U1032:U1044,0))),\"\")","v":""},{"$f":"IF(SUM(V1032:V1044)<>0,IF(MAX(V1032:V1044)<V1045,Labels!$B$163,INDEX($AH$1031:$AH$1043,MATCH(MAX(V1032:V1044),V1032:V1044,0))),\"\")","v":""},{"$f":"IF(SUM(W1032:W1044)<>0,IF(MAX(W1032:W1044)<W1045,Labels!$B$163,INDEX($AH$1031:$AH$1043,MATCH(MAX(W1032:W1044),W1032:W1044,0))),\"\")","v":""},{"$f":"IF(SUM(X1032:X1044)<>0,IF(MAX(X1032:X1044)<X1045,Labels!$B$163,INDEX($AH$1031:$AH$1043,MATCH(MAX(X1032:X1044),X1032:X1044,0))),\"\")","v":""},{"$f":"IF(SUM(Y1032:Y1044)<>0,IF(MAX(Y1032:Y1044)<Y1045,Labels!$B$163,INDEX($AH$1031:$AH$1043,MATCH(MAX(Y1032:Y1044),Y1032:Y1044,0))),\"\")","v":""},{"$f":"IF(SUM(Z1032:Z1044)<>0,IF(MAX(Z1032:Z1044)<Z1045,Labels!$B$163,INDEX($AH$1031:$AH$1043,MATCH(MAX(Z1032:Z1044),Z1032:Z1044,0))),\"\")","v":""},{"$f":"IF(SUM(AA1032:AA1044)<>0,IF(MAX(AA1032:AA1044)<AA1045,Labels!$B$163,INDEX($AH$1031:$AH$1043,MATCH(MAX(AA1032:AA1044),AA1032:AA1044,0))),\"\")","v":""},{"$f":"IF(SUM(AB1032:AB1044)<>0,IF(MAX(AB1032:AB1044)<AB1045,Labels!$B$163,INDEX($AH$1031:$AH$1043,MATCH(MAX(AB1032:AB1044),AB1032:AB1044,0))),\"\")","v":""},{"$f":"IF(SUM(AC1032:AC1044)<>0,IF(MAX(AC1032:AC1044)<AC1045,Labels!$B$163,INDEX($AH$1031:$AH$1043,MATCH(MAX(AC1032:AC1044),AC1032:AC1044,0))),\"\")","v":""},{"$f":"IF(SUM(AD1032:AD1044)<>0,IF(MAX(AD1032:AD1044)<AD1045,Labels!$B$163,INDEX($AH$1031:$AH$1043,MATCH(MAX(AD1032:AD1044),AD1032:AD1044,0))),\"\")","v":""},{"$f":"IF(SUM(AE1032:AE1044)<>0,IF(MAX(AE1032:AE1044)<AE1045,Labels!$B$163,INDEX($AH$1031:$AH$1043,MATCH(MAX(AE1032:AE1044),AE1032:AE1044,0))),\"\")","v":""},null,{"$f":"$AR$16*-1","v":0},"[02]"]
[{"$f":"$A$15","v":"00h00-06h00 1)"},null,null,null,null,null,null,null,null,null,null,null,null,null,null,null,null,null,null,null,null,null,null,null,null,null,null,null,null,null,null,null,{"$f":"SUM(B535:AF535)","v":0},"[04]"]
[{"$f":"$A$16","v":"06h00-20h00 2)"},null,null,null,null,null,null,null,null,null,null,null,null,null,null,null,null,null,null,null,null,null,null,null,null,null,null,null,null,null,null,null,{"$f":"SUM(B536:AF536)","v":0},"[03]"]
[{"$f":"$A$17","v":"20h00-24h00 3)"},null,null,null,null,null,null,null,null,null,null,null,null,null,null,null,null,null,null,null,null,null,null,null,null,null,null,null,null,null,null,null,{"$f":"SUM(B537:AF537)","v":0},"[05]"]
[{"$f":"$A$18","v":"Jours fériés \"jf\""},{"$f":"IF(WEEKDAY(B530,2)<=6,IF(CALENDRIER!E19=\"x\",Labels!$B$118,\"\"),\"\")","v":""},{"$f":"IF(WEEKDAY(C530,2)<=6,IF(CALENDRIER!F19=\"x\",Labels!$B$118,\"\"),\"\")","v":""},{"$f":"IF(WEEKDAY(D530,2)<=6,IF(CALENDRIER!G19=\"x\",Labels!$B$118,\"\"),\"\")","v":""},{"$f":"IF(WEEKDAY(E530,2)<=6,IF(CALENDRIER!H19=\"x\",Labels!$B$118,\"\"),\"\")","v":""},{"$f":"IF(WEEKDAY(F530,2)<=6,IF(CALENDRIER!I19=\"x\",Labels!$B$118,\"\"),\"\")","v":""},{"$f":"IF(WEEKDAY(G530,2)<=6,IF(CALENDRIER!J19=\"x\",Labels!$B$118,\"\"),\"\")","v":""},{"$f":"IF(WEEKDAY(H530,2)<=6,IF(CALENDRIER!K19=\"x\",Labels!$B$118,\"\"),\"\")","v":""},{"$f":"IF(WEEKDAY(I530,2)<=6,IF(CALENDRIER!L19=\"x\",Labels!$B$118,\"\"),\"\")","v":""},{"$f":"IF(WEEKDAY(J530,2)<=6,IF(CALENDRIER!M19=\"x\",Labels!$B$118,\"\"),\"\")","v":""},{"$f":"IF(WEEKDAY(K530,2)<=6,IF(CALENDRIER!N19=\"x\",Labels!$B$118,\"\"),\"\")","v":""},{"$f":"IF(WEEKDAY(L530,2)<=6,IF(CALENDRIER!O19=\"x\",Labels!$B$118,\"\"),\"\")","v":""},{"$f":"IF(WEEKDAY(M530,2)<=6,IF(CALENDRIER!P19=\"x\",Labels!$B$118,\"\"),\"\")","v":""},{"$f":"IF(WEEKDAY(N530,2)<=6,IF(CALENDRIER!Q19=\"x\",Labels!$B$118,\"\"),\"\")","v":""},{"$f":"IF(WEEKDAY(O530,2)<=6,IF(CALENDRIER!R19=\"x\",Labels!$B$118,\"\"),\"\")","v":""},{"$f":"IF(WEEKDAY(P530,2)<=6,IF(CALENDRIER!S19=\"x\",Labels!$B$118,\"\"),\"\")","v":""},{"$f":"IF(WEEKDAY(Q530,2)<=6,IF(CALENDRIER!T19=\"x\",Labels!$B$118,\"\"),\"\")","v":""},{"$f":"IF(WEEKDAY(R530,2)<=6,IF(CALENDRIER!U19=\"x\",Labels!$B$118,\"\"),\"\")","v":""},{"$f":"IF(WEEKDAY(S530,2)<=6,IF(CALENDRIER!V19=\"x\",Labels!$B$118,\"\"),\"\")","v":""},{"$f":"IF(WEEKDAY(T530,2)<=6,IF(CALENDRIER!W19=\"x\",Labels!$B$118,\"\"),\"\")","v":""},{"$f":"IF(WEEKDAY(U530,2)<=6,IF(CALENDRIER!X19=\"x\",Labels!$B$118,\"\"),\"\")","v":""},{"$f":"IF(WEEKDAY(V530,2)<=6,IF(CALENDRIER!Y19=\"x\",Labels!$B$118,\"\"),\"\")","v":""},{"$f":"IF(WEEKDAY(W530,2)<=6,IF(CALENDRIER!Z19=\"x\",Labels!$B$118,\"\"),\"\")","v":""},{"$f":"IF(WEEKDAY(X530,2)<=6,IF(CALENDRIER!AA19=\"x\",Labels!$B$118,\"\"),\"\")","v":""},{"$f":"IF(WEEKDAY(Y530,2)<=6,IF(CALENDRIER!AB19=\"x\",Labels!$B$118,\"\"),\"\")","v":""},{"$f":"IF(WEEKDAY(Z530,2)<=6,IF(CALENDRIER!AC19=\"x\",Labels!$B$118,\"\"),\"\")","v":""},{"$f":"IF(WEEKDAY(AA530,2)<=6,IF(CALENDRIER!AD19=\"x\",Labels!$B$118,\"\"),\"\")","v":""},{"$f":"IF(WEEKDAY(AB530,2)<=6,IF(CALENDRIER!AE19=\"x\",Labels!$B$118,\"\"),\"\")","v":""},{"$f":"IF(WEEKDAY(AC530,2)<=6,IF(CALENDRIER!AF19=\"x\",Labels!$B$118,\"\"),\"\")","v":""},{"$f":"IF(WEEKDAY(AD530,2)<=6,IF(CALENDRIER!AG19=\"x\",Labels!$B$118,\"\"),\"\")","v":""},{"$f":"IF(WEEKDAY(AE530,2)<=6,IF(CALENDRIER!AH19=\"x\",Labels!$B$118,\"\"),\"\")","v":""},{"$f":"IF(WEEKDAY(AF530,2)<=6,IF(CALENDRIER!AI19=\"x\",Labels!$B$118,\"\"),\"\")","v":""},null,"FT"]
[{"$f":"$A$19","v":"Majoration  \"jf\""},{"$f":"IF(AND(B538=Labels!$B$118,WEEKDAY(B530,2)<6,B$532<>\"\"),$J$7*SUMPRODUCT(($AM$77:$AQ$77=MOD(B530,7))*$AM$73:$AQ$73)%,\"\")","v":""},{"$f":"IF(AND(C538=Labels!$B$118,WEEKDAY(C530,2)<6,C$532<>\"\"),$J$7*SUMPRODUCT(($AM$77:$AQ$77=MOD(C530,7))*$AM$73:$AQ$73)%,\"\")","v":""},{"$f":"IF(AND(D538=Labels!$B$118,WEEKDAY(D530,2)<6,D$532<>\"\"),$J$7*SUMPRODUCT(($AM$77:$AQ$77=MOD(D530,7))*$AM$73:$AQ$73)%,\"\")","v":""},{"$f":"IF(AND(E538=Labels!$B$118,WEEKDAY(E530,2)<6,E$532<>\"\"),$J$7*SUMPRODUCT(($AM$77:$AQ$77=MOD(E530,7))*$AM$73:$AQ$73)%,\"\")","v":""},{"$f":"IF(AND(F538=Labels!$B$118,WEEKDAY(F530,2)<6,F$532<>\"\"),$J$7*SUMPRODUCT(($AM$77:$AQ$77=MOD(F530,7))*$AM$73:$AQ$73)%,\"\")","v":""},{"$f":"IF(AND(G538=Labels!$B$118,WEEKDAY(G530,2)<6,G$532<>\"\"),$J$7*SUMPRODUCT(($AM$77:$AQ$77=MOD(G530,7))*$AM$73:$AQ$73)%,\"\")","v":""},{"$f":"IF(AND(H538=Labels!$B$118,WEEKDAY(H530,2)<6,H$532<>\"\"),$J$7*SUMPRODUCT(($AM$77:$AQ$77=MOD(H530,7))*$AM$73:$AQ$73)%,\"\")","v":""},{"$f":"IF(AND(I538=Labels!$B$118,WEEKDAY(I530,2)<6,I$532<>\"\"),$J$7*SUMPRODUCT(($AM$77:$AQ$77=MOD(I530,7))*$AM$73:$AQ$73)%,\"\")","v":""},{"$f":"IF(AND(J538=Labels!$B$118,WEEKDAY(J530,2)<6,J$532<>\"\"),$J$7*SUMPRODUCT(($AM$77:$AQ$77=MOD(J530,7))*$AM$73:$AQ$73)%,\"\")","v":""},{"$f":"IF(AND(K538=Labels!$B$118,WEEKDAY(K530,2)<6,K$532<>\"\"),$J$7*SUMPRODUCT(($AM$77:$AQ$77=MOD(K530,7))*$AM$73:$AQ$73)%,\"\")","v":""},{"$f":"IF(AND(L538=Labels!$B$118,WEEKDAY(L530,2)<6,L$532<>\"\"),$J$7*SUMPRODUCT(($AM$77:$AQ$77=MOD(L530,7))*$AM$73:$AQ$73)%,\"\")","v":""},{"$f":"IF(AND(M538=Labels!$B$118,WEEKDAY(M530,2)<6,M$532<>\"\"),$J$7*SUMPRODUCT(($AM$77:$AQ$77=MOD(M530,7))*$AM$73:$AQ$73)%,\"\")","v":""},{"$f":"IF(AND(N538=Labels!$B$118,WEEKDAY(N530,2)<6,N$532<>\"\"),$J$7*SUMPRODUCT(($AM$77:$AQ$77=MOD(N530,7))*$AM$73:$AQ$73)%,\"\")","v":""},{"$f":"IF(AND(O538=Labels!$B$118,WEEKDAY(O530,2)<6,O$532<>\"\"),$J$7*SUMPRODUCT(($AM$77:$AQ$77=MOD(O530,7))*$AM$73:$AQ$73)%,\"\")","v":""},{"$f":"IF(AND(P538=Labels!$B$118,WEEKDAY(P530,2)<6,P$532<>\"\"),$J$7*SUMPRODUCT(($AM$77:$AQ$77=MOD(P530,7))*$AM$73:$AQ$73)%,\"\")","v":""},{"$f":"IF(AND(Q538=Labels!$B$118,WEEKDAY(Q530,2)<6,Q$532<>\"\"),$J$7*SUMPRODUCT(($AM$77:$AQ$77=MOD(Q530,7))*$AM$73:$AQ$73)%,\"\")","v":""},{"$f":"IF(AND(R538=Labels!$B$118,WEEKDAY(R530,2)<6,R$532<>\"\"),$J$7*SUMPRODUCT(($AM$77:$AQ$77=MOD(R530,7))*$AM$73:$AQ$73)%,\"\")","v":""},{"$f":"IF(AND(S538=Labels!$B$118,WEEKDAY(S530,2)<6,S$532<>\"\"),$J$7*SUMPRODUCT(($AM$77:$AQ$77=MOD(S530,7))*$AM$73:$AQ$73)%,\"\")","v":""},{"$f":"IF(AND(T538=Labels!$B$118,WEEKDAY(T530,2)<6,T$532<>\"\"),$J$7*SUMPRODUCT(($AM$77:$AQ$77=MOD(T530,7))*$AM$73:$AQ$73)%,\"\")","v":""},{"$f":"IF(AND(U538=Labels!$B$118,WEEKDAY(U530,2)<6,U$532<>\"\"),$J$7*SUMPRODUCT(($AM$77:$AQ$77=MOD(U530,7))*$AM$73:$AQ$73)%,\"\")","v":""},{"$f":"IF(AND(V538=Labels!$B$118,WEEKDAY(V530,2)<6,V$532<>\"\"),$J$7*SUMPRODUCT(($AM$77:$AQ$77=MOD(V530,7))*$AM$73:$AQ$73)%,\"\")","v":""},{"$f":"IF(AND(W538=Labels!$B$118,WEEKDAY(W530,2)<6,W$532<>\"\"),$J$7*SUMPRODUCT(($AM$77:$AQ$77=MOD(W530,7))*$AM$73:$AQ$73)%,\"\")","v":""},{"$f":"IF(AND(X538=Labels!$B$118,WEEKDAY(X530,2)<6,X$532<>\"\"),$J$7*SUMPRODUCT(($AM$77:$AQ$77=MOD(X530,7))*$AM$73:$AQ$73)%,\"\")","v":""},{"$f":"IF(AND(Y538=Labels!$B$118,WEEKDAY(Y530,2)<6,Y$532<>\"\"),$J$7*SUMPRODUCT(($AM$77:$AQ$77=MOD(Y530,7))*$AM$73:$AQ$73)%,\"\")","v":""},{"$f":"IF(AND(Z538=Labels!$B$118,WEEKDAY(Z530,2)<6,Z$532<>\"\"),$J$7*SUMPRODUCT(($AM$77:$AQ$77=MOD(Z530,7))*$AM$73:$AQ$73)%,\"\")","v":""},{"$f":"IF(AND(AA538=Labels!$B$118,WEEKDAY(AA530,2)<6,AA$532<>\"\"),$J$7*SUMPRODUCT(($AM$77:$AQ$77=MOD(AA530,7))*$AM$73:$AQ$73)%,\"\")","v":""},{"$f":"IF(AND(AB538=Labels!$B$118,WEEKDAY(AB530,2)<6,AB$532<>\"\"),$J$7*SUMPRODUCT(($AM$77:$AQ$77=MOD(AB530,7))*$AM$73:$AQ$73)%,\"\")","v":""},{"$f":"IF(AND(AC538=Labels!$B$118,WEEKDAY(AC530,2)<6,AC$532<>\"\"),$J$7*SUMPRODUCT(($AM$77:$AQ$77=MOD(AC530,7))*$AM$73:$AQ$73)%,\"\")","v":""},{"$f":"IF(AND(AD538=Labels!$B$118,WEEKDAY(AD530,2)<6,AD$532<>\"\"),$J$7*SUMPRODUCT(($AM$77:$AQ$77=MOD(AD530,7))*$AM$73:$AQ$73)%,\"\")","v":""},{"$f":"IF(AND(AE538=Labels!$B$118,WEEKDAY(AE530,2)<6,AE$532<>\"\"),$J$7*SUMPRODUCT(($AM$77:$AQ$77=MOD(AE530,7))*$AM$73:$AQ$73)%,\"\")","v":""},{"$f":"IF(AND(AF538=Labels!$B$118,WEEKDAY(AF530,2)<6),$J$7*$B$527%,\"\")","v":""},{"$f":"SUM(B539:AF539)","v":0},"[06]"]
[{"$f":"$A$20","v":"total quotidien"},{"$f":"SUM(B535:B537)","v":0},{"$f":"SUM(C535:C537)","v":0},0,0,0,0,0,0,0,0,0,0,0,0,0,0,0,0,0,0,0,0,0,0,0,0,0,0,0,0,0,null,"TT"]
[{"$f":"$A$21","v":"."},null,null,null,null,null,null,null,null,null,null,null,null,null,null,null,null,null,null,null,null,null,null,null,null,null,null,null,null,null,null,null,null,"R"]
[{"$f":"$A$22","v":"."},null,null,null,null,null,null,null,null,null,null,null,null,null,null,null,null,null,null,null,null,null,null,null,null,null,null,null,null,null,null,null,null,"R"]
[{"$f":"$A$23","v":"transition mois"},{"$f":"IF(WEEKDAY(B530)=1,TEXT(B530-1,\"MMM\"&Labels!B13),\"\")","v":""},null,null,null,null,null,null,null,null,null,null,null,null,null,null,null,null,null,null,null,null,null,null,null,null,null,null,null,null,{"$f":"IF(AND(WEEKDAY(AE530)>1,WEEKDAY(AE530)<7),TEXT(DATE($B$5,MONTH(AE530)+1,1),\"MMM\"&Labels!B13),\"\")","v":""},null,null,"MNT"]
[{"$f":"$A$24","v":"Total hebdomadaire"},{"$f":"IF(WEEKDAY(B530)=7,SUMIF($B466:$AF466,B531,$B475:$AF475)+SUMIF($B531:$AF531,B531,$B540:$AF540)+SUMIF($B596:$AF596,B531,$B605:$AF605),B543)","v":""},{"$f":"IF(WEEKDAY(C530)=7,SUMIF($B466:$AF466,C531,$B475:$AF475)+SUMIF($B531:$AF531,C531,$B540:$AF540)+SUMIF($B596:$AF596,C531,$B605:$AF605),\"\")","v":0},"","","","","","",0,"","","","","","",0,"","","","","","",0,"","","","","","",{"$f":"IF(WEEKDAY(AE530)=7,SUMIF($B466:$AF466,AE531,$B475:$AF475)+SUMIF($B531:$AF531,AE531,$B540:$AF540)+SUMIF($B596:$AF596,AE531,$B605:$AF605),AE543)","v":0},null,null,"WT"]
[{"$f":"$A$25","v":"Majorations temp. 1)"},{"$f":"IF(B552=\"FALSCH\",\"\",B552)","v":""},{"$f":"IF(C552=\"FALSCH\",\"\",C552)","v":""},"","","","","","","","","","","","","","","","","","","","","","","","","","","","",null,{"$f":"SUM(B545:AF545)","v":0},"[07]"]
[{"$f":"$A$26","v":"Majorations temp. 2)"},{"$f":"IF((B535+B537)=0,\"\",SUM(B535,B537))","v":""},{"$f":"IF((C535+C537)=0,\"\",SUM(C535,C537))","v":""},"","","","","","","","","","","","","","","","","","","","","","","","","","","","",null,0,"[08]"]
[{"$f":"$A$27","v":"Majorations temp. 3)"},{"$f":"SUM(B548:B551)","v":0},{"$f":"SUM(C548:C551)","v":0},0,0,0,0,0,0,0,0,0,0,0,0,0,0,0,0,0,0,0,0,0,0,0,0,0,0,0,0,null,0,"[09]"]
[{"$f":"$A$28","v":"Dimanche journée"},{"$f":"IF(WEEKDAY(B530)=1,B536,\"\")","v":""},{"$f":"IF(WEEKDAY(C530)=1,C536,\"\")","v":""},0,"","","","","","",0,"","","","","","",0,"","","","","","",0,"","","","","","",null,0,"[09-ST]"]
[{"$f":"$A$29","v":"Dimanche nuit"},{"$f":"IF(WEEKDAY(B530)=1,SUM(B535+B537),\"\")","v":""},{"$f":"IF(WEEKDAY(C530)=1,SUM(C535+C537),\"\")","v":""},0,"","","","","","",0,"","","","","","",0,"","","","","","",0,"","","","","","",null,0,"[09-SN]"]
[{"$f":"$A$30","v":"jf-jomajoration"},{"$f":"IF(B538=Labels!$B$118,B536,\"\")","v":""},{"$f":"IF(C538=Labels!$B$118,C536,\"\")","v":""},{"$f":"IF(D538=Labels!$B$118,D536,\"\")","v":""},{"$f":"IF(E538=Labels!$B$118,E536,\"\")","v":""},{"$f":"IF(F538=Labels!$B$118,F536,\"\")","v":""},{"$f":"IF(G538=Labels!$B$118,G536,\"\")","v":""},{"$f":"IF(H538=Labels!$B$118,H536,\"\")","v":""},{"$f":"IF(I538=Labels!$B$118,I536,\"\")","v":""},{"$f":"IF(J538=Labels!$B$118,J536,\"\")","v":""},{"$f":"IF(K538=Labels!$B$118,K536,\"\")","v":""},{"$f":"IF(L538=Labels!$B$118,L536,\"\")","v":""},{"$f":"IF(M538=Labels!$B$118,M536,\"\")","v":""},{"$f":"IF(N538=Labels!$B$118,N536,\"\")","v":""},{"$f":"IF(O538=Labels!$B$118,O536,\"\")","v":""},{"$f":"IF(P538=Labels!$B$118,P536,\"\")","v":""},{"$f":"IF(Q538=Labels!$B$118,Q536,\"\")","v":""},{"$f":"IF(R538=Labels!$B$118,R536,\"\")","v":""},{"$f":"IF(S538=Labels!$B$118,S536,\"\")","v":""},{"$f":"IF(T538=Labels!$B$118,T536,\"\")","v":""},{"$f":"IF(U538=Labels!$B$118,U536,\"\")","v":""},{"$f":"IF(V538=Labels!$B$118,V536,\"\")","v":""},{"$f":"IF(W538=Labels!$B$118,W536,\"\")","v":""},{"$f":"IF(X538=Labels!$B$118,X536,\"\")","v":""},{"$f":"IF(Y538=Labels!$B$118,Y536,\"\")","v":""},{"$f":"IF(Z538=Labels!$B$118,Z536,\"\")","v":""},{"$f":"IF(AA538=Labels!$B$118,AA536,\"\")","v":""},{"$f":"IF(AB538=Labels!$B$118,AB536,\"\")","v":""},{"$f":"IF(AC538=Labels!$B$118,AC536,\"\")","v":""},{"$f":"IF(AD538=Labels!$B$118,AD536,\"\")","v":""},{"$f":"IF(AE538=Labels!$B$118,AE536,\"\")","v":""},null,0,"[09-FT]"]
[{"$f":"$A$31","v":"jf-numajoration"},{"$f":"IF(B538=Labels!$B$118,SUM(B535,B537),\"\")","v":""},{"$f":"IF(C538=Labels!$B$118,SUM(C535,C537),\"\")","v":""},{"$f":"IF(D538=Labels!$B$118,SUM(D535,D537),\"\")","v":""},{"$f":"IF(E538=Labels!$B$118,SUM(E535,E537),\"\")","v":""},{"$f":"IF(F538=Labels!$B$118,SUM(F535,F537),\"\")","v":""},{"$f":"IF(G538=Labels!$B$118,SUM(G535,G537),\"\")","v":""},{"$f":"IF(H538=Labels!$B$118,SUM(H535,H537),\"\")","v":""},{"$f":"IF(I538=Labels!$B$118,SUM(I535,I537),\"\")","v":""},{"$f":"IF(J538=Labels!$B$118,SUM(J535,J537),\"\")","v":""},{"$f":"IF(K538=Labels!$B$118,SUM(K535,K537),\"\")","v":""},{"$f":"IF(L538=Labels!$B$118,SUM(L535,L537),\"\")","v":""},{"$f":"IF(M538=Labels!$B$118,SUM(M535,M537),\"\")","v":""},{"$f":"IF(N538=Labels!$B$118,SUM(N535,N537),\"\")","v":""},{"$f":"IF(O538=Labels!$B$118,SUM(O535,O537),\"\")","v":""},{"$f":"IF(P538=Labels!$B$118,SUM(P535,P537),\"\")","v":""},{"$f":"IF(Q538=Labels!$B$118,SUM(Q535,Q537),\"\")","v":""},{"$f":"IF(R538=Labels!$B$118,SUM(R535,R537),\"\")","v":""},{"$f":"IF(S538=Labels!$B$118,SUM(S535,S537),\"\")","v":""},{"$f":"IF(T538=Labels!$B$118,SUM(T535,T537),\"\")","v":""},{"$f":"IF(U538=Labels!$B$118,SUM(U535,U537),\"\")","v":""},{"$f":"IF(V538=Labels!$B$118,SUM(V535,V537),\"\")","v":""},{"$f":"IF(W538=Labels!$B$118,SUM(W535,W537),\"\")","v":""},{"$f":"IF(X538=Labels!$B$118,SUM(X535,X537),\"\")","v":""},{"$f":"IF(Y538=Labels!$B$118,SUM(Y535,Y537),\"\")","v":""},{"$f":"IF(Z538=Labels!$B$118,SUM(Z535,Z537),\"\")","v":""},{"$f":"IF(AA538=Labels!$B$118,SUM(AA535,AA537),\"\")","v":""},{"$f":"IF(AB538=Labels!$B$118,SUM(AB535,AB537),\"\")","v":""},{"$f":"IF(AC538=Labels!$B$118,SUM(AC535,AC537),\"\")","v":""},{"$f":"IF(AD538=Labels!$B$118,SUM(AD535,AD537),\"\")","v":""},{"$f":"IF(AE538=Labels!$B$118,SUM(AE535,AE537),\"\")","v":""},null,0,"[09-FN]"]
[{"$f":"$A$32","v":"majoration caché (total hebd.)"},{"$f":"IF($B527>=80,IF(OR(ISTEXT(B544),B544=\"\",B544<$B$7),\"\",ROUND(((B544-$B$7)*25%)/25,4)*25),IF(B540>($B$7/5),ROUND(((B540-($B$7/5))*25%)/25,4)*25,\"\"))","v":""},{"$f":"IF($B527>=80,IF(OR(ISTEXT(C544),C544=\"\",C544<$B$7),\"\",ROUND(((C544-$B$7)*25%)/25,4)*25),IF(C540>($B$7/5),ROUND(((C540-($B$7/5))*25%)/25,4)*25,\"\"))","v":""},"","","","","","","","","","","","","","","","","","","","","","","","","","","","",null,{"$f":"AG536","v":0},"[03]"]
[null,{"$f":"$B$33","v":"1)  25% majoration temporelle pour depassement les heures maximales"},null,null,null,null,null,null,null,null,null,{"$f":"$L$33","v":"2) 100% majoration temporelle pour travail de nuit"},null,null,null,null,null,null,null,{"$f":"$T$33","v":"Saisie des heures payées l'année passée"},null,null,null,null,null,null,null,null,null,null,null,null,{"$f":"SUM(AG535+AG537)","v":0},"[4-5]"]
[null,{"$f":"$B$34","v":"3) 100% majoration temporelle pour travail du dimanche et jour férié"},null,null,null,null,null,null,null,null,null,null,null,null,null,null,null,null,null,{"$f":"$T$34","v":"Saisie des heures payées exercice en cours (heures supplémentaires)"},null,null,null,null,null,null,null,null,null,null,null,null,{"$f":"SUM(AG535:AG537)","v":0},"[3-5]"]
[{"$f":"$A$35","v":"Notes"},null,null,null,null,null,null,null,null,null,null,null,null,null,null,null,null,null,null,null,null,null,null,null,null,null,null,null,null,null,null,null,{"$f":"SUM(AG533:AG547)","v":0},"[10]"]
[null,null,null,null,null,null,null,null,null,null,null,null,null,null,null,null,null,null,null,null,null,null,null,null,null,null,null,null,null,null,null,null,{"$f":"AG532","v":168},"[00]"]
[{"$f":"IF(AG1029=0,\"\",\"effektives Pensum:  \"&ROUND(COUNT(B532:AF532)/(AG1029+COUNT(B532:AF532))%*B527%*20,0)/20&\" %\")","v":""},null,null,null,null,null,null,null,null,null,null,null,null,null,null,null,null,null,null,null,null,null,null,null,null,null,null,null,null,null,null,null,{"$f":"SUM(AG555-AG556)","v":-168},"[11]"]
[]
[{"$f":"Labels!$B$103","v":"Résumé"},null,null,null,null,null,{"$f":"Labels!$B$77","v":"Jan"},null,{"$f":"Labels!$B$78","v":"Fév"},null,{"$f":"Labels!$B$79","v":"Mar"},null,{"$f":"Labels!$B$80","v":"Avr"},null,{"$f":"Labels!$B$81","v":"Mai"},null,{"$f":"Labels!$B$82","v":"Jun"},null,{"$f":"Labels!$B$83","v":"Jul"},null,{"$f":"Labels!$B$84","v":"Aoû"},null,{"$f":"Labels!$B$85","v":"Sep"},null,{"$f":"Labels!$B$86","v":"Oct"},null,{"$f":"Labels!$B$87","v":"Nov"},null,{"$f":"Labels!$B$88","v":"Déc"},null,{"$f":"Labels!$B$101","v":"Année"}]
[{"$f":"Labels!$B$20","v":"Emploi %"},null,null,null,null,null,{"$f":"IF($B$4=0,0,$B$4)","v":100},null,{"$f":"IF($B$72=0,0,$B$72)","v":100},null,{"$f":"IF($B$137=0,0,$B$137)","v":100},null,{"$f":"IF($B$202=0,0,$B$202)","v":100},null,{"$f":"IF($B$267=0,0,$B$267)","v":100},null,{"$f":"IF($B$332=0,0,$B$332)","v":100},null,{"$f":"IF($B$397=0,0,$B$397)","v":100},null,{"$f":"IF($B$462=0,0,$B$462)","v":100},null,{"$f":"IF($B$527=0,0,$B$527)","v":100},null,{"$f":"IF($B$592=0,0,$B$592)","v":100},null,{"$f":"IF($B$657=0,0,$B$657)","v":100},null,{"$f":"IF($B$722=0,0,$B$722)","v":100}]
[{"$f":"Labels!$B$104","v":"Heures théoriques selon CCT"},null,null,null,null,null,{"$f":"IF($AG$36=0,0,$AG$36)","v":176},null,{"$f":"IF($AG$101=0,0,$AG$101)","v":160},null,{"$f":"IF($AG$142=0,0,$AG$142)","v":184},null,{"$f":"IF($AG$231=0,0,$AG$231)","v":160},null,{"$f":"IF($AG$296=0,0,$AG$296)","v":184},null,{"$f":"IF($AG$361=0,0,$AG$361)","v":176},null,{"$f":"IF($AG$426=0,0,$AG$426)","v":168},null,{"$f":"IF($AG$491=0,0,$AG$491)","v":184},null,{"$f":"IF($AG$556=0,0,$AG$556)","v":168},null,{"$f":"IF($AG$621=0,0,$AG$621)","v":176},null,{"$f":"IF($AG$686=0,0,$AG$686)","v":176},null,{"$f":"IF($AG$751=0,0,$AG$751)","v":168},null,{"$f":"SUM(G561:AD561)","v":2080}]
[{"$f":"Labels!$B$105","v":"Total heures productives"},{"$f":"Labels!$B$106","v":"06.00 - 20.00 h"},null,null,null,null,{"$f":"IF($AG$32=0,0,$AG$32)","v":0},null,{"$f":"IF($AG$96=0,0,$AG$96)","v":0},null,{"$f":"IF($AG$161=0,0,$AG$161)","v":0},null,{"$f":"IF($AG$226=0,0,$AG$226)","v":0},null,{"$f":"IF($AG$291=0,0,$AG$291)","v":0},null,{"$f":"IF($AG$356=0,0,$AG$356)","v":0},null,{"$f":"IF($AG$421=0,0,$AG$421)","v":0},null,{"$f":"IF($AG$486=0,0,$AG$486)","v":0},null,{"$f":"IF($AG$551=0,0,$AG$551)","v":0},null,{"$f":"IF($AG$616=0,0,$AG$616)","v":0},null,{"$f":"IF($AG$681=0,0,$AG$681)","v":0},null,{"$f":"IF($AG$746=0,0,$AG$746)","v":0},null,{"$f":"SUM(G562:AD562)","v":0}]
[null,{"$f":"Labels!$B$107","v":"nuit, dimanche et jour férié"},null,null,null,null,{"$f":"IF($AG$33=0,0,$AG$33)","v":0},null,{"$f":"IF($AG$97=0,0,$AG$97)","v":0},null,{"$f":"IF($AG$162=0,0,$AG$162)","v":0},null,{"$f":"IF($AG$227=0,0,$AG$227)","v":0},null,{"$f":"IF($AG$292=0,0,$AG$292)","v":0},null,{"$f":"IF($AG$357=0,0,$AG$357)","v":0},null,{"$f":"IF($AG$422=0,0,$AG$422)","v":0},null,{"$f":"IF($AG$487=0,0,$AG$487)","v":0},null,{"$f":"IF($AG$552=0,0,$AG$552)","v":0},null,{"$f":"IF($AG$617=0,0,$AG$617)","v":0},null,{"$f":"IF($AG$682=0,0,$AG$682)","v":0},null,{"$f":"IF($AG$747=0,0,$AG$747)","v":0},null,{"$f":"SUM(G563:AD563)","v":0}]
[{"$f":"Labels!$B$108","v":"Majorations temporelles"},{"$f":"Labels!$B$109","v":"depassement des heures maximales"},null,null,null,null,{"$f":"IF($AG$25=0,0,$AG$25)","v":0},null,{"$f":"IF($AG$89=0,0,$AG$89)","v":0},null,{"$f":"IF($AG$154=0,0,$AG$154)","v":0},null,{"$f":"IF($AG$219=0,0,$AG$219)","v":0},null,{"$f":"IF($AG$284=0,0,$AG$284)","v":0},null,{"$f":"IF($AG$349=0,0,$AG$349)","v":0},null,{"$f":"IF($AG$414=0,0,$AG$414)","v":0},null,{"$f":"IF($AG$479=0,0,$AG$479)","v":0},null,{"$f":"IF($AG$544=0,0,$AG$544)","v":0},null,{"$f":"IF($AG$609=0,0,$AG$609)","v":0},null,{"$f":"IF($AG$674=0,0,$AG$674)","v":0},null,{"$f":"IF($AG$739=0,0,$AG$739)","v":0},null,{"$f":"SUM(G564:AD564)","v":0}]
[null,{"$f":"Labels!$B$110","v":"nuit, dimanche et jour férié"},null,null,null,null,{"$f":"IF($AJ$23=0,0,$AJ$23)","v":0},null,{"$f":"IF($AK$23=0,0,$AK$23)","v":0},null,{"$f":"IF($AL$23=0,0,$AL$23)","v":0},null,{"$f":"IF($AM$23=0,0,$AM$23)","v":0},null,{"$f":"IF($AN$23=0,0,$AN$23)","v":0},null,{"$f":"IF($AO$23=0,0,$AO$23)","v":0},null,{"$f":"IF($AP$23=0,0,$AP$23)","v":0},null,{"$f":"IF($AQ$23=0,0,$AQ$23)","v":0},null,{"$f":"IF($AR$23=0,0,$AR$23)","v":0},null,{"$f":"IF($AS$23=0,0,$AS$23)","v":0},null,{"$f":"IF($AT$23=0,0,$AT$23)","v":0},null,{"$f":"IF($AU$23=0,0,$AU$23)","v":0},null,{"$f":"SUM(G565:AD565)","v":0}]
[{"$f":"Labels!$B$111","v":"Heures inproductives"}]
[{"$f":"Labels!$B$112","v":"   Absences art. 11 CCT"},null,null,null,null,{"$f":"Labels!$B$113","v":"ab"},{"$f":"IF($AJ$3=0,0,$AJ$3)","v":0},null,{"$f":"IF($AK$3=0,0,$AK$3)","v":0},null,{"$f":"IF($AL$3=0,0,$AL$3)","v":0},null,{"$f":"IF($AM$3=0,0,$AM$3)","v":0},null,{"$f":"IF($AN$3=0,0,$AN$3)","v":0},null,{"$f":"IF($AO$3=0,0,$AO$3)","v":0},null,{"$f":"IF($AP$3=0,0,$AP$3)","v":0},null,{"$f":"IF($AQ$3=0,0,$AQ$3)","v":0},null,{"$f":"IF($AR$3=0,0,$AR$3)","v":0},null,{"$f":"IF($AS$3=0,0,$AS$3)","v":0},null,{"$f":"IF(AT$3=0,0,$AT$3)","v":0},null,{"$f":"IF($AU$3=0,0,$AU$3)","v":0},null,{"$f":"IF($AV$3=0,0,$AV$3)","v":0}]
[{"$f":"Labels!$B$114","v":"   Vacances art. 12.1 CCT"},null,null,null,null,{"$f":"Labels!$B$115","v":"va"},{"$f":"IF($AJ$4=0,0,$AJ$4)","v":0},null,{"$f":"IF($AK$4=0,0,$AK$4)","v":0},null,{"$f":"IF($AL$4=0,0,$AL$4)","v":0},null,{"$f":"IF($AM$4=0,0,$AM$4)","v":0},null,{"$f":"IF($AN$4=0,0,$AN$4)","v":0},null,{"$f":"IF($AO$4=0,0,$AO$4)","v":0},null,{"$f":"IF($AP$4=0,0,$AP$4)","v":0},null,{"$f":"IF($AQ$4=0,0,$AQ$4)","v":0},null,{"$f":"IF($AR$4=0,0,$AR$4)","v":0},null,{"$f":"IF($AS$4=0,0,$AS$4)","v":0},null,{"$f":"IF($AT$4=0,0,$AT$4)","v":0},null,{"$f":"IF($AU$4=0,0,$AU$4)","v":0},null,{"$f":"IF($AV$4=0,0,$AV$4)","v":0}]
[{"$f":"Labels!$B$181","v":"   vacances non payées"},null,null,null,null,{"$f":"Labels!$B$182","v":"vn"},{"$f":"IF($AJ$13=0,0,$AJ$13)","v":0},null,{"$f":"IF($AK$13=0,0,$AK$13)","v":0},null,{"$f":"IF($AL$13=0,0,$AL$13)","v":0},null,{"$f":"IF($AM$13=0,0,$AM$13)","v":0},null,{"$f":"IF($AN$13=0,0,$AN$13)","v":0},null,{"$f":"IF($AO$13=0,0,$AO$13)","v":0},null,{"$f":"IF($AP$13=0,0,$AP$13)","v":0},null,{"$f":"IF($AQ$13=0,0,$AQ$13)","v":0},null,{"$f":"IF($AR$13=0,0,$AR$13)","v":0},null,{"$f":"IF($AS$13=0,0,$AS$13)","v":0},null,{"$f":"IF($AT$13=0,0,$AT$13)","v":0},null,{"$f":"IF($AU$13=0,0,$AU$13)","v":0},null,{"$f":"IF($AV$13=0,0,$AV$13)","v":0}]
[{"$f":"Labels!$B$116","v":"   Jours fériés art. 12.2 CCT"},null,{"$f":"IF($AJ$20=\"\",\"\",$AJ$20)","v":""},null,null,{"$f":"Labels!$B$118","v":"jf"},{"$f":"IF($AJ$18=0,0,$AJ$18)","v":0},null,{"$f":"IF($AK$18=0,0,$AK$18)","v":0},null,{"$f":"IF($AL$18=0,0,$AL$18)","v":0},null,{"$f":"IF($AM$18=0,0,$AM$18)","v":0},null,{"$f":"IF($AN$18=0,0,$AN$18)","v":0},null,{"$f":"IF($AO$18=0,0,$AO$18)","v":0},null,{"$f":"IF($AP$18=0,0,$AP$18)","v":0},null,{"$f":"IF($AQ$18=0,0,$AQ$18)","v":0},null,{"$f":"IF($AR$18=0,0,$AR$18)","v":0},null,{"$f":"IF($AS$18=0,0,$AS$18)","v":0},null,{"$f":"IF($AT$18=0,0,$AT$18)","v":0},null,{"$f":"IF($AU$18=0,0,$AU$18)","v":0},null,{"$f":"IF($AV$18=0,0,$AV$18)","v":0}]
[{"$f":"Labels!$B$119","v":"   Maladie art. 13 CCT"},null,null,null,null,{"$f":"Labels!$B$120","v":"ma"},{"$f":"IF($AJ$5=0,0,$AJ$5)","v":0},null,{"$f":"IF($AK$5=0,0,$AK$5)","v":0},null,{"$f":"IF($AL$5=0,0,$AL$5)","v":0},null,{"$f":"IF($AM$5=0,0,$AM$5)","v":0},null,{"$f":"IF($AN$5=0,0,$AN$5)","v":0},null,{"$f":"IF($AO$5=0,0,$AO$5)","v":0},null,{"$f":"IF($AP$5=0,0,$AP$5)","v":0},null,{"$f":"IF($AQ$5=0,0,$AQ$5)","v":0},null,{"$f":"IF($AR$5=0,0,$AR$5)","v":0},null,{"$f":"IF($AS$5=0,0,$AS$5)","v":0},null,{"$f":"IF($AT$5=0,0,$AT$5)","v":0},null,{"$f":"IF($AU$5=0,0,$AU$5)","v":0},null,{"$f":"IF($AV$5=0,0,$AV$5)","v":0}]
[{"$f":"Labels!$B$184","v":"non payeé"},null,null,null,null,null,{"$f":"IF(AJ$16=0,0,AJ$16)","v":0},null,{"$f":"IF($AK$16=0,0,$AK$16)","v":0},null,{"$f":"IF($AL$16=0,0,$AL$16)","v":0},null,{"$f":"IF($AM$16=0,0,$AM$16)","v":0},null,{"$f":"IF($AN$16=0,0,$AN$16)","v":0},null,{"$f":"IF($AO$16=0,0,$AO$16)","v":0},null,{"$f":"IF($AP$16=0,0,$AP$16)","v":0},null,{"$f":"IF($AQ$16=0,0,$AQ$16)","v":0},null,{"$f":"IF($AR$16=0,0,$AR$16)","v":0},null,{"$f":"IF($AS$16=0,0,$AS$16)","v":0},null,{"$f":"IF($AT$16=0,0,$AT$16)","v":0},null,{"$f":"IF($AU$16=0,0,$AU$16)","v":0},null,{"$f":"IF($AV$16=0,0,$AV$16)","v":0}]
[{"$f":"Labels!$B$121","v":"   Accident art. 14 CCT"},null,null,null,null,{"$f":"Labels!$B$122","v":"ac"},{"$f":"IF($AJ$6=0,0,$AJ$6)","v":0},null,{"$f":"IF($AK$6=0,0,$AK$6)","v":0},null,{"$f":"IF($AL$6=0,0,$AL$6)","v":0},null,{"$f":"IF($AM$6=0,0,$AM$6)","v":0},null,{"$f":"IF($AN$6=0,0,$AN$6)","v":0},null,{"$f":"IF($AO$6=0,0,$AO$6)","v":0},null,{"$f":"IF($AP$6=0,0,$AP$6)","v":0},null,{"$f":"IF($AQ$6=0,0,$AQ$6)","v":0},null,{"$f":"IF($AR$6=0,0,$AR$6)","v":0},null,{"$f":"IF($AS$6=0,0,$AS$6)","v":0},null,{"$f":"IF($AT$6=0,0,$AT$6)","v":0},null,{"$f":"IF($AU$6=0,0,$AU$6)","v":0},null,{"$f":"IF($AV$6=0,0,$AV$6)","v":0}]
[{"$f":"Labels!$B$123","v":"   Grossesse/Maternité art. 15 CCT"},null,null,null,null,{"$f":"Labels!$B$124","v":"gm"},{"$f":"IF($AJ$7=0,0,$AJ$7)","v":0},null,{"$f":"IF($AK$7=0,0,$AK$7)","v":0},null,{"$f":"IF($AL$7=0,0,$AL$7)","v":0},null,{"$f":"IF($AM$7=0,0,$AM$7)","v":0},null,{"$f":"IF($AN$7=0,0,$AN$7)","v":0},null,{"$f":"IF($AO$7=0,0,$AO$7)","v":0},null,{"$f":"IF($AP$7=0,0,$AP$7)","v":0},null,{"$f":"IF($AQ$7=0,0,$AQ$7)","v":0},null,{"$f":"IF($AR$7=0,0,$AR$7)","v":0},null,{"$f":"IF($AS$7=0,0,$AS$7)","v":0},null,{"$f":"IF($AT$7=0,0,$AT$7)","v":0},null,{"$f":"IF($AU$7=0,0,$AU$7)","v":0},null,{"$f":"IF($AV$7=0,0,$AV$7)","v":0}]
[{"$f":"Labels!$B$125","v":"   Militaire/Promotion/Protection civile art. 16 CCT"},null,null,null,null,{"$f":"Labels!$B$126","v":"mi"},{"$f":"IF($AJ$8=0,0,$AJ$8)","v":0},null,{"$f":"IF($AK$8=0,0,$AK$8)","v":0},null,{"$f":"IF($AL$8=0,0,$AL$8)","v":0},null,{"$f":"IF($AM$8=0,0,$AM$8)","v":0},null,{"$f":"IF($AN$8=0,0,$AN$8)","v":0},null,{"$f":"IF($AO$8=0,0,$AO$8)","v":0},null,{"$f":"IF($AP$8=0,0,$AP$8)","v":0},null,{"$f":"IF($AQ$8=0,0,$AQ$8)","v":0},null,{"$f":"IF($AR$8=0,0,$AR$8)","v":0},null,{"$f":"IF($AS$8=0,0,$AS$8)","v":0},null,{"$f":"IF($AT$8=0,0,$AT$8)","v":0},null,{"$f":"IF($AU$8=0,0,$AU$8)","v":0},null,{"$f":"IF($AV$8=0,0,$AV$8)","v":0}]
[{"$f":"Labels!$B$127","v":"   Chômage partiel et perte de travail cause d'intempéries"},null,null,null,null,{"$f":"Labels!$B$128","v":"ch"},{"$f":"IF($AJ$11=0,0,$AJ$11)","v":0},null,{"$f":"IF($AK$11=0,0,$AK$11)","v":0},null,{"$f":"IF($AL$11=0,0,$AL$11)","v":0},null,{"$f":"IF($AM$11=0,0,$AM$11)","v":0},null,{"$f":"IF($AN$11=0,0,$AN$11)","v":0},null,{"$f":"IF($AO$11=0,0,$AO$11)","v":0},null,{"$f":"IF($AP$11=0,0,$AP$11)","v":0},null,{"$f":"IF($AQ$11=0,0,$AQ$11)","v":0},null,{"$f":"IF($AR$11=0,0,$AR$11)","v":0},null,{"$f":"IF($AS$11=0,0,$AS$11)","v":0},null,{"$f":"IF($AT$11=0,0,$AT$11)","v":0},null,{"$f":"IF($AU$11=0,0,$AU$11)","v":0},null,{"$f":"IF($AV$11=0,0,$AV$11)","v":0}]
[{"$f":"Labels!$B$129","v":"   Ecole professionnelle"},null,null,null,null,{"$f":"Labels!$B$130","v":"ep"},{"$f":"IF($AJ$9=0,0,$AJ$9)","v":0},null,{"$f":"IF($AK$9=0,0,$AK$9)","v":0},null,{"$f":"IF($AL$9=0,0,$AL$9)","v":0},null,{"$f":"IF($AM$9=0,0,$AM$9)","v":0},null,{"$f":"IF($AN$9=0,0,$AN$9)","v":0},null,{"$f":"IF($AO$9=0,0,$AO$9)","v":0},null,{"$f":"IF($AP$9=0,0,$AP$9)","v":0},null,{"$f":"IF($AQ$9=0,0,$AQ$9)","v":0},null,{"$f":"IF($AR$9=0,0,$AR$9)","v":0},null,{"$f":"IF($AS$9=0,0,$AS$9)","v":0},null,{"$f":"IF($AT$9=0,0,$AT$9)","v":0},null,{"$f":"IF($AU$9=0,0,$AU$9)","v":0},null,{"$f":"IF($AV$9=0,0,$AV$9)","v":0}]
[{"$f":"Labels!$B$131","v":"   Cours"},null,null,null,null,{"$f":"Labels!$B$132","v":"co"},{"$f":"IF($AJ$10=0,0,$AJ$10)","v":0},null,{"$f":"IF($AK$10=0,0,$AK$10)","v":0},null,{"$f":"IF($AL$10=0,0,$AL$10)","v":0},null,{"$f":"IF($AM$10=0,0,$AM$10)","v":0},null,{"$f":"IF($AN$10=0,0,$AN$10)","v":0},null,{"$f":"IF($AO$10=0,0,$AO$10)","v":0},null,{"$f":"IF($AP$10=0,0,$AP$10)","v":0},null,{"$f":"IF($AQ$10=0,0,$AQ$10)","v":0},null,{"$f":"IF($AR$10=0,0,$AR$10)","v":0},null,{"$f":"IF($AS$10=0,0,$AS$10)","v":0},null,{"$f":"IF($AT$10=0,0,$AT$10)","v":0},null,{"$f":"IF($AU$10=0,0,$AU$10)","v":0},null,{"$f":"IF($AV$10=0,0,$AV$10)","v":0}]
[{"$f":"Labels!$B$133","v":"Heures de compensation"},{"$f":"Labels!$B$134","v":"de l'année passée"},null,null,null,{"$f":"Labels!$B$135","v":"cp"},{"$f":"IF($AJ$12=0,0,$AJ$12)","v":0},null,{"$f":"IF($AK$12=0,0,$AK$12)","v":0},null,{"$f":"IF($AL$12=0,0,$AL$12)","v":0},null,{"$f":"IF($AM$12=0,0,$AM$12)","v":0},null,{"$f":"IF($AN$12=0,0,$AN$12)","v":0},null,{"$f":"IF($AO$12=0,0,$AO$12)","v":0},null,{"$f":"IF($AP$12=0,0,$AP$12)","v":0},null,{"$f":"IF($AQ$12=0,0,$AQ$12)","v":0},null,{"$f":"IF($AR$12=0,0,$AR$12)","v":0},null,null,null,null,null,null,null,{"$f":"IF($AV$12=0,0,$AV$12)","v":0}]
[null,{"$f":"Labels!$B$136","v":"de l'année en cours (contrôle)"},null,null,null,{"$f":"Labels!$B$137","v":"cc"},{"$f":"IF($AJ$15=0,0,$AJ$15)","v":0},null,{"$f":"IF($AK$15=0,0,$AK$15)","v":0},null,{"$f":"IF($AL$15=0,0,$AL$15)","v":0},null,{"$f":"IF($AM$15=0,0,$AM$15)","v":0},null,{"$f":"IF($AN$15=0,0,$AN$15)","v":0},null,{"$f":"IF($AO$15=0,0,$AO$15)","v":0},null,{"$f":"IF($AP$15=0,0,$AP$15)","v":0},null,{"$f":"IF($AQ$15=0,0,$AQ$15)","v":0},null,{"$f":"IF($AR$15=0,0,$AR$15)","v":0},null,{"$f":"IF($AS$15=0,0,$AS$15)","v":0},null,{"$f":"IF($AT$15=0,0,$AT$15)","v":0},null,{"$f":"IF($AU$15=0,0,$AU$15)","v":0},null,{"$f":"IF($AV$15=0,0,$AV$15)","v":0}]
[{"$f":"Labels!$B$138","v":"Paiement des heures"},{"$f":"Labels!$B$139","v":"de l'année passée"},null,null,null,null,{"$f":"IF($AJ$21=0,0,$AJ$21)","v":0},null,{"$f":"IF($AK$21=0,0,$AK$21)","v":0},null,{"$f":"IF($AL$21=0,0,$AL$21)","v":0},null,{"$f":"IF($AM$21=0,0,$AM$21)","v":0},null,{"$f":"IF($AN$21=0,0,$AN$21)","v":0},null,{"$f":"IF($AO$21=0,0,$AO$21)","v":0},null,{"$f":"IF($AP$21=0,0,$AP$21)","v":0},null,{"$f":"IF($AQ$21=0,0,$AQ$21)","v":0},null,{"$f":"IF($AR$21=0,0,$AR$21)","v":0},null,null,null,null,null,null,null,{"$f":"IF($AV$21=0,0,$AV$21)","v":0}]
[{"$f":"Labels!$B$140","v":"Différence en heures"},{"$f":"Labels!$B$141","v":"après compensation et paiement"},null,null,null,null,{"$f":"IF(ROUND($P$4,3)=0,0,$P$4-G579-G581)","v":0},null,{"$f":"IF(ROUND(G582,3)=0,0,G582-(SUM(I579+I581)))","v":0},null,{"$f":"IF(ROUND(I582,3)=0,0,I582-K581-K579)","v":0},null,{"$f":"IF(ROUND(K582,3)=0,0,K582-(SUM(M581+M579)))","v":0},null,{"$f":"IF(ROUND(M582,3)=0,0,M582-(SUM(O581+O579)))","v":0},null,{"$f":"IF(ROUND(O582,3)=0,0,O582-(SUM(Q581+Q579)))","v":0},null,{"$f":"IF(ROUND(Q582,3)=0,0,Q582-(SUM(S581+S579)))","v":0},null,{"$f":"IF(ROUND(S582,3)=0,0,S582-(SUM(U581+U579)))","v":0},null,{"$f":"IF(ROUND(U582,3)=0,0,U582-(SUM(W581+W579)))","v":0},null,{"$f":"IF($W$62<0.1,\"\",AY564)","v":""}]
[{"$f":"Labels!$B$138","v":"Paiement des heures"},{"$f":"Labels!$B$142","v":"de l'année en cours"},null,null,null,null,{"$f":"IF($AJ$22=0,0,$AJ$22)","v":0},null,{"$f":"IF($AK$22=0,0,$AK$22)","v":0},null,{"$f":"IF($AL$22=0,0,$AL$22)","v":0},null,{"$f":"IF($AM$22=0,0,$AM$22)","v":0},null,{"$f":"IF($AN$22=0,0,$AN$22)","v":0},null,{"$f":"IF($AO$22=0,0,$AO$22)","v":0},null,{"$f":"IF($AP$22=0,0,$AP$22)","v":0},null,{"$f":"IF($AQ$22=0,0,$AQ$22)","v":0},null,{"$f":"IF($AR$22=0,0,$AR$22)","v":0},null,{"$f":"IF($AS$22=0,0,$AS$22)","v":0},null,{"$f":"IF($AT$22=0,0,$AT$22)","v":0},null,{"$f":"IF($AU$22=0,0,$AU$22)","v":0},null,{"$f":"IF($AV$22=0,0,$AV$22)","v":0}]
[{"$f":"Labels!$B$143","v":"Heures manquantes"},{"$f":"Labels!$B$144","v":"de l'année en cours (contrôle)"},null,null,null,{"$f":"Labels!$B$145","v":"hm"},{"$f":"IF($AJ$14=0,0,$AJ$14)","v":0},null,{"$f":"IF($AK$14=0,0,$AK$14)","v":0},null,{"$f":"IF($AL$14=0,0,$AL$14)","v":0},null,{"$f":"IF($AM$14=0,0,$AM$14)","v":0},null,{"$f":"IF($AN$14=0,0,$AN$14)","v":0},null,{"$f":"IF($AO$14=0,0,$AO$14)","v":0},null,{"$f":"IF($AP$14=0,0,$AP$14)","v":0},null,{"$f":"IF($AQ$14=0,0,$AQ$14)","v":0},null,{"$f":"IF($AR$14=0,0,$AR$14)","v":0},null,{"$f":"IF($AS$14=0,0,$AS$14)","v":0},null,{"$f":"IF($AT$14=0,0,$AT$14)","v":0},null,{"$f":"IF($AU$14=0,0,$AU$14)","v":0},null,{"$f":"IF($AV$14=0,0,$AV$14)","v":0}]
[{"$f":"Labels!$B$146","v":"Total (majorations inclus)"},{"$f":"Labels!$B$147","v":"heures productives et inproductives"},null,null,null,null,{"$f":"IF($AG$35=0,0,$AG$35)","v":0},null,{"$f":"IF($AG$100=0,0,$AG$100)","v":0},null,{"$f":"IF($AG$165=0,0,$AG$165)","v":0},null,{"$f":"IF($AG$230=0,0,$AG$230)","v":0},null,{"$f":"IF($AG$295=0,0,$AG$295)","v":0},null,{"$f":"IF($AG$360=0,0,$AG$360)","v":0},null,{"$f":"IF($AG$425=0,0,$AG$425)","v":0},null,{"$f":"IF($AG$490=0,0,$AG$490)","v":0},null,{"$f":"IF($AG$555=0,0,$AG$555)","v":0},null,{"$f":"IF($AG$620=0,0,$AG$620)","v":0},null,{"$f":"IF($AG$685=0,0,$AG$685)","v":0},null,{"$f":"IF($AG$750=0,0,$AG$750)","v":0},null,{"$f":"SUM($G$65:$AD$65)","v":0}]
[{"$f":"Labels!$B$148","v":"Comparaison des heures"},{"$f":"Labels!$B$149","v":"aux heures théorique CCT (heures \nmanquantes de l'année passée incl.)"},null,null,null,null,{"$f":"IF($AG$37=0,0,$AG$37)-$AE$34+$P$5","v":-176},null,{"$f":"IF($AG$102=0,0,$AG$102)-$AE$99","v":-160},null,{"$f":"IF($AG$167=0,0,$AG$167)-$AE$164","v":-184},null,{"$f":"IF($AG$232=0,0,$AG$232)-$AE$229","v":-160},null,{"$f":"IF($AG$297=0,0,$AG$297)-$AE$294","v":-184},null,{"$f":"IF($AG$362=0,0,$AG$362)-$AE$359","v":-176},null,{"$f":"IF($AG$427=0,0,$AG$427)-$AE$424","v":-168},null,{"$f":"IF($AG$492=0,0,$AG$492)-$AE$489","v":-184},null,{"$f":"IF($AG$557=0,0,$AG$557)-$AE$554","v":-168},null,{"$f":"IF($AG$622=0,0,$AG$622)-$AE$619","v":-176},null,{"$f":"IF($AG$687=0,0,$AG$687)-$AE$684","v":-176},null,{"$f":"IF($AG$752=0,0,$AG$752)-$AE$749","v":-168},null,{"$f":"SUM($G$66:$AD$66)","v":-2080}]
[null,{"$f":"Labels!$B$151","v":"aux heures théorique (cumulées)"},null,null,null,null,{"$f":"IF(G560=0,0,$G$66)","v":-176},null,{"$f":"IF(I560=0,0,SUM($G$66:$J$66))","v":-336},null,{"$f":"IF(K560=0,0,SUM($G$66:$L$66))","v":-520},null,{"$f":"IF(M560=0,0,SUM($G$66:$N$66))","v":-680},null,{"$f":"IF(O560=0,0,SUM($G$66:$P$66))","v":-864},null,{"$f":"IF(Q560=0,0,SUM($G$66:$R$66))","v":-1040},null,{"$f":"IF(S560=0,0,SUM($G$66:$T$66))","v":-1208},null,{"$f":"IF(U560=0,0,SUM($G$66:$V$66))","v":-1392},null,{"$f":"IF(W560=0,0,SUM($G$66:$X$66))","v":-1560},null,{"$f":"IF(Y560=0,0,SUM($G$66:$Z$66))","v":-1736},null,{"$f":"IF(AA560=0,0,SUM($G$66:$AB$66))","v":-1912},null,{"$f":"IF(AC560=0,0,SUM($G$66:$AD$66))","v":-2080}]
[{"$f":"Labels!$B$153","v":"Vacances (contrôle)"},{"$f":"Labels!$B$154","v":"Vacances année passée"},null,null,null,null,{"$f":"IF($AA$4=0,0,$AA$4)","v":0},null,{"$f":"Labels!$B$155","v":"Vacances selon \nart 12.1 CCT"},null,null,null,{"$f":"IF($AA$5=0,0,$AA$5)","v":0},null,{"$f":"Labels!$B$156","v":"Total des vacances"},null,null,null,{"$f":"SUM(G588+M588)","v":0},null,{"$f":"Labels!$B$157","v":"Vacances prises"},null,null,null,{"$f":"IF($AV$4=0,0,$AV$4)","v":0},null,{"$f":"Labels!$B$158","v":"Vacances restantes"},null,null,null,{"$f":"IF(S588=0,0,S588-Y588)","v":0}]
[]
[]
[{"$f":"$A$3","v":"Nom/Prénom"},{"$f":"IF($B$3=\"\",\"\",$B$3)","v":"Modèle Pierre"},null,null,null,null,null,null,null,null,null,null,null,null,null,null,null,null,null,null,null,null,null,null,null,null,null,null,null,null,null,{"$f":"AF3","v":0}]
[{"$f":"$A$4","v":"Emploi %"},{"$f":"$AL$57","v":100},null,{"$f":"Labels!B98","v":"en octobre"}]
[{"$f":"$A$5","v":"Solde année en cours"},null,null,{"$f":"IF($AE$66=0,0,$AE$66)","v":-2080}]
[{"$f":"TEXT(DATE(YEAR(AP29),MONTH(AP29)+9,1),\"MMMM\"&Labels!B13)","v":"octobre"},{"$f":"$B$9","v":"Solde mois + / -"},null,null,null,{"$f":"(AG596-(SUM(AG597:AG611)-AE619))*-1","v":176},null,null,null,null,{"$f":"$K$9","v":" = "},{"$f":"$L$9","v":"Les cases marquées en jaune doivent être remplies (les autres seront calculées automatiquement)"},null,null,null,null,null,null,null,null,null,null,null,null,null,null,null,null,null,null,null,null,{"$f":"COUNT(B597:AF597)&\" \"&Labels!$B$63","v":"22 Jours"}]
[{"$f":"$A$10","v":"Jour"},{"$f":"AE530+1","v":"2023-10-01"},{"$f":"B595+1","v":"2023-10-02"},{"$f":"C595+1","v":"2023-10-03"},"2023-10-04","2023-10-05","2023-10-06","2023-10-07","2023-10-08","2023-10-09","2023-10-10","2023-10-11","2023-10-12","2023-10-13","2023-10-14","2023-10-15","2023-10-16","2023-10-17","2023-10-18","2023-10-19","2023-10-20","2023-10-21","2023-10-22","2023-10-23","2023-10-24","2023-10-25","2023-10-26","2023-10-27","2023-10-28","2023-10-29","2023-10-30","2023-10-31"]
[{"$f":"$A$11","v":"semaine civile"},{"$f":"IF(B595=\"\",\"\",TRUNC((B595-DATE(YEAR(B595+3-MOD(B595-2,7)),1,MOD(B595-2,7)-9))/7))","v":39},40,40,40,40,40,40,40,41,41,41,41,41,41,41,42,42,42,42,42,42,42,43,43,43,43,43,43,43,44,44,null,"Woche"]
[{"$f":"$A$12","v":"Théorique sel. CCT"},{"$f":"IF(AND(MOD(B595,7)>=2,SUMPRODUCT(($AM$60:$AQ$60=MOD(B595,7))*$AM$57:$AQ$57),B1054=\"\"),$J$7*SUMPRODUCT(($AM$77:$AQ$77=MOD(B595,7))*$AM$74:$AQ$74)%,\"\")","v":""},{"$f":"IF(AND(MOD(C595,7)>=2,SUMPRODUCT(($AM$60:$AQ$60=MOD(C595,7))*$AM$57:$AQ$57),C1054=\"\"),$J$7*SUMPRODUCT(($AM$77:$AQ$77=MOD(C595,7))*$AM$74:$AQ$74)%,\"\")","v":8},{"$f":"IF(AND(MOD(D595,7)>=2,SUMPRODUCT(($AM$60:$AQ$60=MOD(D595,7))*$AM$57:$AQ$57),D1054=\"\"),$J$7*SUMPRODUCT(($AM$77:$AQ$77=MOD(D595,7))*$AM$74:$AQ$74)%,\"\")","v":8},{"$f":"IF(AND(MOD(E595,7)>=2,SUMPRODUCT(($AM$60:$AQ$60=MOD(E595,7))*$AM$57:$AQ$57),E1054=\"\"),$J$7*SUMPRODUCT(($AM$77:$AQ$77=MOD(E595,7))*$AM$74:$AQ$74)%,\"\")","v":8},{"$f":"IF(AND(MOD(F595,7)>=2,SUMPRODUCT(($AM$60:$AQ$60=MOD(F595,7))*$AM$57:$AQ$57),F1054=\"\"),$J$7*SUMPRODUCT(($AM$77:$AQ$77=MOD(F595,7))*$AM$74:$AQ$74)%,\"\")","v":8},{"$f":"IF(AND(MOD(G595,7)>=2,SUMPRODUCT(($AM$60:$AQ$60=MOD(G595,7))*$AM$57:$AQ$57),G1054=\"\"),$J$7*SUMPRODUCT(($AM$77:$AQ$77=MOD(G595,7))*$AM$74:$AQ$74)%,\"\")","v":8},{"$f":"IF(AND(MOD(H595,7)>=2,SUMPRODUCT(($AM$60:$AQ$60=MOD(H595,7))*$AM$57:$AQ$57),H1054=\"\"),$J$7*SUMPRODUCT(($AM$77:$AQ$77=MOD(H595,7))*$AM$74:$AQ$74)%,\"\")","v":""},{"$f":"IF(AND(MOD(I595,7)>=2,SUMPRODUCT(($AM$60:$AQ$60=MOD(I595,7))*$AM$57:$AQ$57),I1054=\"\"),$J$7*SUMPRODUCT(($AM$77:$AQ$77=MOD(I595,7))*$AM$74:$AQ$74)%,\"\")","v":""},{"$f":"IF(AND(MOD(J595,7)>=2,SUMPRODUCT(($AM$60:$AQ$60=MOD(J595,7))*$AM$57:$AQ$57),J1054=\"\"),$J$7*SUMPRODUCT(($AM$77:$AQ$77=MOD(J595,7))*$AM$74:$AQ$74)%,\"\")","v":8},{"$f":"IF(AND(MOD(K595,7)>=2,SUMPRODUCT(($AM$60:$AQ$60=MOD(K595,7))*$AM$57:$AQ$57),K1054=\"\"),$J$7*SUMPRODUCT(($AM$77:$AQ$77=MOD(K595,7))*$AM$74:$AQ$74)%,\"\")","v":8},{"$f":"IF(AND(MOD(L595,7)>=2,SUMPRODUCT(($AM$60:$AQ$60=MOD(L595,7))*$AM$57:$AQ$57),L1054=\"\"),$J$7*SUMPRODUCT(($AM$77:$AQ$77=MOD(L595,7))*$AM$74:$AQ$74)%,\"\")","v":8},{"$f":"IF(AND(MOD(M595,7)>=2,SUMPRODUCT(($AM$60:$AQ$60=MOD(M595,7))*$AM$57:$AQ$57),M1054=\"\"),$J$7*SUMPRODUCT(($AM$77:$AQ$77=MOD(M595,7))*$AM$74:$AQ$74)%,\"\")","v":8},{"$f":"IF(AND(MOD(N595,7)>=2,SUMPRODUCT(($AM$60:$AQ$60=MOD(N595,7))*$AM$57:$AQ$57),N1054=\"\"),$J$7*SUMPRODUCT(($AM$77:$AQ$77=MOD(N595,7))*$AM$74:$AQ$74)%,\"\")","v":8},{"$f":"IF(AND(MOD(O595,7)>=2,SUMPRODUCT(($AM$60:$AQ$60=MOD(O595,7))*$AM$57:$AQ$57),O1054=\"\"),$J$7*SUMPRODUCT(($AM$77:$AQ$77=MOD(O595,7))*$AM$74:$AQ$74)%,\"\")","v":""},{"$f":"IF(AND(MOD(P595,7)>=2,SUMPRODUCT(($AM$60:$AQ$60=MOD(P595,7))*$AM$57:$AQ$57),P1054=\"\"),$J$7*SUMPRODUCT(($AM$77:$AQ$77=MOD(P595,7))*$AM$74:$AQ$74)%,\"\")","v":""},{"$f":"IF(AND(MOD(Q595,7)>=2,SUMPRODUCT(($AM$60:$AQ$60=MOD(Q595,7))*$AM$57:$AQ$57),Q1054=\"\"),$J$7*SUMPRODUCT(($AM$77:$AQ$77=MOD(Q595,7))*$AM$74:$AQ$74)%,\"\")","v":8},{"$f":"IF(AND(MOD(R595,7)>=2,SUMPRODUCT(($AM$60:$AQ$60=MOD(R595,7))*$AM$57:$AQ$57),R1054=\"\"),$J$7*SUMPRODUCT(($AM$77:$AQ$77=MOD(R595,7))*$AM$74:$AQ$74)%,\"\")","v":8},{"$f":"IF(AND(MOD(S595,7)>=2,SUMPRODUCT(($AM$60:$AQ$60=MOD(S595,7))*$AM$57:$AQ$57),S1054=\"\"),$J$7*SUMPRODUCT(($AM$77:$AQ$77=MOD(S595,7))*$AM$74:$AQ$74)%,\"\")","v":8},{"$f":"IF(AND(MOD(T595,7)>=2,SUMPRODUCT(($AM$60:$AQ$60=MOD(T595,7))*$AM$57:$AQ$57),T1054=\"\"),$J$7*SUMPRODUCT(($AM$77:$AQ$77=MOD(T595,7))*$AM$74:$AQ$74)%,\"\")","v":8},{"$f":"IF(AND(MOD(U595,7)>=2,SUMPRODUCT(($AM$60:$AQ$60=MOD(U595,7))*$AM$57:$AQ$57),U1054=\"\"),$J$7*SUMPRODUCT(($AM$77:$AQ$77=MOD(U595,7))*$AM$74:$AQ$74)%,\"\")","v":8},{"$f":"IF(AND(MOD(V595,7)>=2,SUMPRODUCT(($AM$60:$AQ$60=MOD(V595,7))*$AM$57:$AQ$57),V1054=\"\"),$J$7*SUMPRODUCT(($AM$77:$AQ$77=MOD(V595,7))*$AM$74:$AQ$74)%,\"\")","v":""},{"$f":"IF(AND(MOD(W595,7)>=2,SUMPRODUCT(($AM$60:$AQ$60=MOD(W595,7))*$AM$57:$AQ$57),W1054=\"\"),$J$7*SUMPRODUCT(($AM$77:$AQ$77=MOD(W595,7))*$AM$74:$AQ$74)%,\"\")","v":""},{"$f":"IF(AND(MOD(X595,7)>=2,SUMPRODUCT(($AM$60:$AQ$60=MOD(X595,7))*$AM$57:$AQ$57),X1054=\"\"),$J$7*SUMPRODUCT(($AM$77:$AQ$77=MOD(X595,7))*$AM$74:$AQ$74)%,\"\")","v":8},{"$f":"IF(AND(MOD(Y595,7)>=2,SUMPRODUCT(($AM$60:$AQ$60=MOD(Y595,7))*$AM$57:$AQ$57),Y1054=\"\"),$J$7*SUMPRODUCT(($AM$77:$AQ$77=MOD(Y595,7))*$AM$74:$AQ$74)%,\"\")","v":8},{"$f":"IF(AND(MOD(Z595,7)>=2,SUMPRODUCT(($AM$60:$AQ$60=MOD(Z595,7))*$AM$57:$AQ$57),Z1054=\"\"),$J$7*SUMPRODUCT(($AM$77:$AQ$77=MOD(Z595,7))*$AM$74:$AQ$74)%,\"\")","v":8},{"$f":"IF(AND(MOD(AA595,7)>=2,SUMPRODUCT(($AM$60:$AQ$60=MOD(AA595,7))*$AM$57:$AQ$57),AA1054=\"\"),$J$7*SUMPRODUCT(($AM$77:$AQ$77=MOD(AA595,7))*$AM$74:$AQ$74)%,\"\")","v":8},{"$f":"IF(AND(MOD(AB595,7)>=2,SUMPRODUCT(($AM$60:$AQ$60=MOD(AB595,7))*$AM$57:$AQ$57),AB1054=\"\"),$J$7*SUMPRODUCT(($AM$77:$AQ$77=MOD(AB595,7))*$AM$74:$AQ$74)%,\"\")","v":8},{"$f":"IF(AND(MOD(AC595,7)>=2,SUMPRODUCT(($AM$60:$AQ$60=MOD(AC595,7))*$AM$57:$AQ$57),AC1054=\"\"),$J$7*SUMPRODUCT(($AM$77:$AQ$77=MOD(AC595,7))*$AM$74:$AQ$74)%,\"\")","v":""},{"$f":"IF(AND(MOD(AD595,7)>=2,SUMPRODUCT(($AM$60:$AQ$60=MOD(AD595,7))*$AM$57:$AQ$57),AD1054=\"\"),$J$7*SUMPRODUCT(($AM$77:$AQ$77=MOD(AD595,7))*$AM$74:$AQ$74)%,\"\")","v":""},{"$f":"IF(AND(MOD(AE595,7)>=2,SUMPRODUCT(($AM$60:$AQ$60=MOD(AE595,7))*$AM$57:$AQ$57),AE1054=\"\"),$J$7*SUMPRODUCT(($AM$77:$AQ$77=MOD(AE595,7))*$AM$74:$AQ$74)%,\"\")","v":8},{"$f":"IF(AND(MOD(AF595,7)>=2,SUMPRODUCT(($AM$60:$AQ$60=MOD(AF595,7))*$AM$57:$AQ$57),AF1054=\"\"),$J$7*SUMPRODUCT(($AM$77:$AQ$77=MOD(AF595,7))*$AM$74:$AQ$74)%,\"\")","v":8},{"$f":"SUM(B597:AF597)","v":176},"[00]"]
[{"$f":"$A$13","v":"Absences"},{"$f":"B1070","v":0},{"$f":"C1070","v":0},0,0,0,0,0,0,0,0,0,0,0,0,0,0,0,0,0,0,0,0,0,0,0,0,0,0,0,0,0,{"$f":"SUM($AS$3:$AS$13)","v":0},"[01]"]
[{"$f":"$A$14","v":"Code"},{"$f":"IF(SUM(B1057:B1069)<>0,IF(MAX(B1057:B1069)<B1070,Labels!$B$163,INDEX($AH$1056:$AH$1068,MATCH(MAX(B1057:B1069),B1057:B1069,0))),\"\")","v":""},{"$f":"IF(SUM(C1057:C1069)<>0,IF(MAX(C1057:C1069)<C1070,Labels!$B$163,INDEX($AH$1056:$AH$1068,MATCH(MAX(C1057:C1069),C1057:C1069,0))),\"\")","v":""},{"$f":"IF(SUM(D1057:D1069)<>0,IF(MAX(D1057:D1069)<D1070,Labels!$B$163,INDEX($AH$1056:$AH$1068,MATCH(MAX(D1057:D1069),D1057:D1069,0))),\"\")","v":""},{"$f":"IF(SUM(E1057:E1069)<>0,IF(MAX(E1057:E1069)<E1070,Labels!$B$163,INDEX($AH$1056:$AH$1068,MATCH(MAX(E1057:E1069),E1057:E1069,0))),\"\")","v":""},{"$f":"IF(SUM(F1057:F1069)<>0,IF(MAX(F1057:F1069)<F1070,Labels!$B$163,INDEX($AH$1056:$AH$1068,MATCH(MAX(F1057:F1069),F1057:F1069,0))),\"\")","v":""},{"$f":"IF(SUM(G1057:G1069)<>0,IF(MAX(G1057:G1069)<G1070,Labels!$B$163,INDEX($AH$1056:$AH$1068,MATCH(MAX(G1057:G1069),G1057:G1069,0))),\"\")","v":""},{"$f":"IF(SUM(H1057:H1069)<>0,IF(MAX(H1057:H1069)<H1070,Labels!$B$163,INDEX($AH$1056:$AH$1068,MATCH(MAX(H1057:H1069),H1057:H1069,0))),\"\")","v":""},{"$f":"IF(SUM(I1057:I1069)<>0,IF(MAX(I1057:I1069)<I1070,Labels!$B$163,INDEX($AH$1056:$AH$1068,MATCH(MAX(I1057:I1069),I1057:I1069,0))),\"\")","v":""},{"$f":"IF(SUM(J1057:J1069)<>0,IF(MAX(J1057:J1069)<J1070,Labels!$B$163,INDEX($AH$1056:$AH$1068,MATCH(MAX(J1057:J1069),J1057:J1069,0))),\"\")","v":""},{"$f":"IF(SUM(K1057:K1069)<>0,IF(MAX(K1057:K1069)<K1070,Labels!$B$163,INDEX($AH$1056:$AH$1068,MATCH(MAX(K1057:K1069),K1057:K1069,0))),\"\")","v":""},{"$f":"IF(SUM(L1057:L1069)<>0,IF(MAX(L1057:L1069)<L1070,Labels!$B$163,INDEX($AH$1056:$AH$1068,MATCH(MAX(L1057:L1069),L1057:L1069,0))),\"\")","v":""},{"$f":"IF(SUM(M1057:M1069)<>0,IF(MAX(M1057:M1069)<M1070,Labels!$B$163,INDEX($AH$1056:$AH$1068,MATCH(MAX(M1057:M1069),M1057:M1069,0))),\"\")","v":""},{"$f":"IF(SUM(N1057:N1069)<>0,IF(MAX(N1057:N1069)<N1070,Labels!$B$163,INDEX($AH$1056:$AH$1068,MATCH(MAX(N1057:N1069),N1057:N1069,0))),\"\")","v":""},{"$f":"IF(SUM(O1057:O1069)<>0,IF(MAX(O1057:O1069)<O1070,Labels!$B$163,INDEX($AH$1056:$AH$1068,MATCH(MAX(O1057:O1069),O1057:O1069,0))),\"\")","v":""},{"$f":"IF(SUM(P1057:P1069)<>0,IF(MAX(P1057:P1069)<P1070,Labels!$B$163,INDEX($AH$1056:$AH$1068,MATCH(MAX(P1057:P1069),P1057:P1069,0))),\"\")","v":""},{"$f":"IF(SUM(Q1057:Q1069)<>0,IF(MAX(Q1057:Q1069)<Q1070,Labels!$B$163,INDEX($AH$1056:$AH$1068,MATCH(MAX(Q1057:Q1069),Q1057:Q1069,0))),\"\")","v":""},{"$f":"IF(SUM(R1057:R1069)<>0,IF(MAX(R1057:R1069)<R1070,Labels!$B$163,INDEX($AH$1056:$AH$1068,MATCH(MAX(R1057:R1069),R1057:R1069,0))),\"\")","v":""},{"$f":"IF(SUM(S1057:S1069)<>0,IF(MAX(S1057:S1069)<S1070,Labels!$B$163,INDEX($AH$1056:$AH$1068,MATCH(MAX(S1057:S1069),S1057:S1069,0))),\"\")","v":""},{"$f":"IF(SUM(T1057:T1069)<>0,IF(MAX(T1057:T1069)<T1070,Labels!$B$163,INDEX($AH$1056:$AH$1068,MATCH(MAX(T1057:T1069),T1057:T1069,0))),\"\")","v":""},{"$f":"IF(SUM(U1057:U1069)<>0,IF(MAX(U1057:U1069)<U1070,Labels!$B$163,INDEX($AH$1056:$AH$1068,MATCH(MAX(U1057:U1069),U1057:U1069,0))),\"\")","v":""},{"$f":"IF(SUM(V1057:V1069)<>0,IF(MAX(V1057:V1069)<V1070,Labels!$B$163,INDEX($AH$1056:$AH$1068,MATCH(MAX(V1057:V1069),V1057:V1069,0))),\"\")","v":""},{"$f":"IF(SUM(W1057:W1069)<>0,IF(MAX(W1057:W1069)<W1070,Labels!$B$163,INDEX($AH$1056:$AH$1068,MATCH(MAX(W1057:W1069),W1057:W1069,0))),\"\")","v":""},{"$f":"IF(SUM(X1057:X1069)<>0,IF(MAX(X1057:X1069)<X1070,Labels!$B$163,INDEX($AH$1056:$AH$1068,MATCH(MAX(X1057:X1069),X1057:X1069,0))),\"\")","v":""},{"$f":"IF(SUM(Y1057:Y1069)<>0,IF(MAX(Y1057:Y1069)<Y1070,Labels!$B$163,INDEX($AH$1056:$AH$1068,MATCH(MAX(Y1057:Y1069),Y1057:Y1069,0))),\"\")","v":""},{"$f":"IF(SUM(Z1057:Z1069)<>0,IF(MAX(Z1057:Z1069)<Z1070,Labels!$B$163,INDEX($AH$1056:$AH$1068,MATCH(MAX(Z1057:Z1069),Z1057:Z1069,0))),\"\")","v":""},{"$f":"IF(SUM(AA1057:AA1069)<>0,IF(MAX(AA1057:AA1069)<AA1070,Labels!$B$163,INDEX($AH$1056:$AH$1068,MATCH(MAX(AA1057:AA1069),AA1057:AA1069,0))),\"\")","v":""},{"$f":"IF(SUM(AB1057:AB1069)<>0,IF(MAX(AB1057:AB1069)<AB1070,Labels!$B$163,INDEX($AH$1056:$AH$1068,MATCH(MAX(AB1057:AB1069),AB1057:AB1069,0))),\"\")","v":""},{"$f":"IF(SUM(AC1057:AC1069)<>0,IF(MAX(AC1057:AC1069)<AC1070,Labels!$B$163,INDEX($AH$1056:$AH$1068,MATCH(MAX(AC1057:AC1069),AC1057:AC1069,0))),\"\")","v":""},{"$f":"IF(SUM(AD1057:AD1069)<>0,IF(MAX(AD1057:AD1069)<AD1070,Labels!$B$163,INDEX($AH$1056:$AH$1068,MATCH(MAX(AD1057:AD1069),AD1057:AD1069,0))),\"\")","v":""},{"$f":"IF(SUM(AE1057:AE1069)<>0,IF(MAX(AE1057:AE1069)<AE1070,Labels!$B$163,INDEX($AH$1056:$AH$1068,MATCH(MAX(AE1057:AE1069),AE1057:AE1069,0))),\"\")","v":""},{"$f":"IF(SUM(AF1057:AF1069)<>0,IF(MAX(AF1057:AF1069)<AF1070,Labels!$B$163,INDEX($AH$1056:$AH$1068,MATCH(MAX(AF1057:AF1069),AF1057:AF1069,0))),\"\")","v":""},{"$f":"$AS$16*-1","v":0},"[02]"]
[{"$f":"$A$15","v":"00h00-06h00 1)"},null,null,null,null,null,null,null,null,null,null,null,null,null,null,null,null,null,null,null,null,null,null,null,null,null,null,null,null,null,null,null,{"$f":"SUM(B600:AF600)","v":0},"[04]"]
[{"$f":"$A$16","v":"06h00-20h00 2)"},null,null,null,null,null,null,null,null,null,null,null,null,null,null,null,null,null,null,null,null,null,null,null,null,null,null,null,null,null,null,null,{"$f":"SUM(B601:AF601)","v":0},"[03]"]
[{"$f":"$A$17","v":"20h00-24h00 3)"},null,null,null,null,null,null,null,null,null,null,null,null,null,null,null,null,null,null,null,null,null,null,null,null,null,null,null,null,null,null,null,{"$f":"SUM(B602:AF602)","v":0},"[05]"]
[{"$f":"$A$18","v":"Jours fériés \"jf\""},{"$f":"IF(WEEKDAY(B595,2)<=6,IF(CALENDRIER!E21=\"x\",Labels!$B$118,\"\"),\"\")","v":""},{"$f":"IF(WEEKDAY(C595,2)<=6,IF(CALENDRIER!F21=\"x\",Labels!$B$118,\"\"),\"\")","v":""},{"$f":"IF(WEEKDAY(D595,2)<=6,IF(CALENDRIER!G21=\"x\",Labels!$B$118,\"\"),\"\")","v":""},{"$f":"IF(WEEKDAY(E595,2)<=6,IF(CALENDRIER!H21=\"x\",Labels!$B$118,\"\"),\"\")","v":""},{"$f":"IF(WEEKDAY(F595,2)<=6,IF(CALENDRIER!I21=\"x\",Labels!$B$118,\"\"),\"\")","v":""},{"$f":"IF(WEEKDAY(G595,2)<=6,IF(CALENDRIER!J21=\"x\",Labels!$B$118,\"\"),\"\")","v":""},{"$f":"IF(WEEKDAY(H595,2)<=6,IF(CALENDRIER!K21=\"x\",Labels!$B$118,\"\"),\"\")","v":""},{"$f":"IF(WEEKDAY(I595,2)<=6,IF(CALENDRIER!L21=\"x\",Labels!$B$118,\"\"),\"\")","v":""},{"$f":"IF(WEEKDAY(J595,2)<=6,IF(CALENDRIER!M21=\"x\",Labels!$B$118,\"\"),\"\")","v":""},{"$f":"IF(WEEKDAY(K595,2)<=6,IF(CALENDRIER!N21=\"x\",Labels!$B$118,\"\"),\"\")","v":""},{"$f":"IF(WEEKDAY(L595,2)<=6,IF(CALENDRIER!O21=\"x\",Labels!$B$118,\"\"),\"\")","v":""},{"$f":"IF(WEEKDAY(M595,2)<=6,IF(CALENDRIER!P21=\"x\",Labels!$B$118,\"\"),\"\")","v":""},{"$f":"IF(WEEKDAY(N595,2)<=6,IF(CALENDRIER!Q21=\"x\",Labels!$B$118,\"\"),\"\")","v":""},{"$f":"IF(WEEKDAY(O595,2)<=6,IF(CALENDRIER!R21=\"x\",Labels!$B$118,\"\"),\"\")","v":""},{"$f":"IF(WEEKDAY(P595,2)<=6,IF(CALENDRIER!S21=\"x\",Labels!$B$118,\"\"),\"\")","v":""},{"$f":"IF(WEEKDAY(Q595,2)<=6,IF(CALENDRIER!T21=\"x\",Labels!$B$118,\"\"),\"\")","v":""},{"$f":"IF(WEEKDAY(R595,2)<=6,IF(CALENDRIER!U21=\"x\",Labels!$B$118,\"\"),\"\")","v":""},{"$f":"IF(WEEKDAY(S595,2)<=6,IF(CALENDRIER!V21=\"x\",Labels!$B$118,\"\"),\"\")","v":""},{"$f":"IF(WEEKDAY(T595,2)<=6,IF(CALENDRIER!W21=\"x\",Labels!$B$118,\"\"),\"\")","v":""},{"$f":"IF(WEEKDAY(U595,2)<=6,IF(CALENDRIER!X21=\"x\",Labels!$B$118,\"\"),\"\")","v":""},{"$f":"IF(WEEKDAY(V595,2)<=6,IF(CALENDRIER!Y21=\"x\",Labels!$B$118,\"\"),\"\")","v":""},{"$f":"IF(WEEKDAY(W595,2)<=6,IF(CALENDRIER!Z21=\"x\",Labels!$B$118,\"\"),\"\")","v":""},{"$f":"IF(WEEKDAY(X595,2)<=6,IF(CALENDRIER!AA21=\"x\",Labels!$B$118,\"\"),\"\")","v":""},{"$f":"IF(WEEKDAY(Y595,2)<=6,IF(CALENDRIER!AB21=\"x\",Labels!$B$118,\"\"),\"\")","v":""},{"$f":"IF(WEEKDAY(Z595,2)<=6,IF(CALENDRIER!AC21=\"x\",Labels!$B$118,\"\"),\"\")","v":""},{"$f":"IF(WEEKDAY(AA595,2)<=6,IF(CALENDRIER!AD21=\"x\",Labels!$B$118,\"\"),\"\")","v":""},{"$f":"IF(WEEKDAY(AB595,2)<=6,IF(CALENDRIER!AE21=\"x\",Labels!$B$118,\"\"),\"\")","v":""},{"$f":"IF(WEEKDAY(AC595,2)<=6,IF(CALENDRIER!AF21=\"x\",Labels!$B$118,\"\"),\"\")","v":""},{"$f":"IF(WEEKDAY(AD595,2)<=6,IF(CALENDRIER!AG21=\"x\",Labels!$B$118,\"\"),\"\")","v":""},{"$f":"IF(WEEKDAY(AE595,2)<=6,IF(CALENDRIER!AH21=\"x\",Labels!$B$118,\"\"),\"\")","v":""},{"$f":"IF(WEEKDAY(AF595,2)<=6,IF(CALENDRIER!AI21=\"x\",Labels!$B$118,\"\"),\"\")","v":""},null,"FT"]
[{"$f":"$A$19","v":"Majoration  \"jf\""},{"$f":"IF(AND(B603=Labels!$B$118,WEEKDAY(B595,2)<6,B$597<>\"\"),$J$7*SUMPRODUCT(($AM$77:$AQ$77=MOD(B595,7))*$AM$74:$AQ$74)%,\"\")","v":""},{"$f":"IF(AND(C603=Labels!$B$118,WEEKDAY(C595,2)<6,C$597<>\"\"),$J$7*SUMPRODUCT(($AM$77:$AQ$77=MOD(C595,7))*$AM$74:$AQ$74)%,\"\")","v":""},{"$f":"IF(AND(D603=Labels!$B$118,WEEKDAY(D595,2)<6,D$597<>\"\"),$J$7*SUMPRODUCT(($AM$77:$AQ$77=MOD(D595,7))*$AM$74:$AQ$74)%,\"\")","v":""},{"$f":"IF(AND(E603=Labels!$B$118,WEEKDAY(E595,2)<6,E$597<>\"\"),$J$7*SUMPRODUCT(($AM$77:$AQ$77=MOD(E595,7))*$AM$74:$AQ$74)%,\"\")","v":""},{"$f":"IF(AND(F603=Labels!$B$118,WEEKDAY(F595,2)<6,F$597<>\"\"),$J$7*SUMPRODUCT(($AM$77:$AQ$77=MOD(F595,7))*$AM$74:$AQ$74)%,\"\")","v":""},{"$f":"IF(AND(G603=Labels!$B$118,WEEKDAY(G595,2)<6,G$597<>\"\"),$J$7*SUMPRODUCT(($AM$77:$AQ$77=MOD(G595,7))*$AM$74:$AQ$74)%,\"\")","v":""},{"$f":"IF(AND(H603=Labels!$B$118,WEEKDAY(H595,2)<6,H$597<>\"\"),$J$7*SUMPRODUCT(($AM$77:$AQ$77=MOD(H595,7))*$AM$74:$AQ$74)%,\"\")","v":""},{"$f":"IF(AND(I603=Labels!$B$118,WEEKDAY(I595,2)<6,I$597<>\"\"),$J$7*SUMPRODUCT(($AM$77:$AQ$77=MOD(I595,7))*$AM$74:$AQ$74)%,\"\")","v":""},{"$f":"IF(AND(J603=Labels!$B$118,WEEKDAY(J595,2)<6,J$597<>\"\"),$J$7*SUMPRODUCT(($AM$77:$AQ$77=MOD(J595,7))*$AM$74:$AQ$74)%,\"\")","v":""},{"$f":"IF(AND(K603=Labels!$B$118,WEEKDAY(K595,2)<6,K$597<>\"\"),$J$7*SUMPRODUCT(($AM$77:$AQ$77=MOD(K595,7))*$AM$74:$AQ$74)%,\"\")","v":""},{"$f":"IF(AND(L603=Labels!$B$118,WEEKDAY(L595,2)<6,L$597<>\"\"),$J$7*SUMPRODUCT(($AM$77:$AQ$77=MOD(L595,7))*$AM$74:$AQ$74)%,\"\")","v":""},{"$f":"IF(AND(M603=Labels!$B$118,WEEKDAY(M595,2)<6,M$597<>\"\"),$J$7*SUMPRODUCT(($AM$77:$AQ$77=MOD(M595,7))*$AM$74:$AQ$74)%,\"\")","v":""},{"$f":"IF(AND(N603=Labels!$B$118,WEEKDAY(N595,2)<6,N$597<>\"\"),$J$7*SUMPRODUCT(($AM$77:$AQ$77=MOD(N595,7))*$AM$74:$AQ$74)%,\"\")","v":""},{"$f":"IF(AND(O603=Labels!$B$118,WEEKDAY(O595,2)<6,O$597<>\"\"),$J$7*SUMPRODUCT(($AM$77:$AQ$77=MOD(O595,7))*$AM$74:$AQ$74)%,\"\")","v":""},{"$f":"IF(AND(P603=Labels!$B$118,WEEKDAY(P595,2)<6,P$597<>\"\"),$J$7*SUMPRODUCT(($AM$77:$AQ$77=MOD(P595,7))*$AM$74:$AQ$74)%,\"\")","v":""},{"$f":"IF(AND(Q603=Labels!$B$118,WEEKDAY(Q595,2)<6,Q$597<>\"\"),$J$7*SUMPRODUCT(($AM$77:$AQ$77=MOD(Q595,7))*$AM$74:$AQ$74)%,\"\")","v":""},{"$f":"IF(AND(R603=Labels!$B$118,WEEKDAY(R595,2)<6,R$597<>\"\"),$J$7*SUMPRODUCT(($AM$77:$AQ$77=MOD(R595,7))*$AM$74:$AQ$74)%,\"\")","v":""},{"$f":"IF(AND(S603=Labels!$B$118,WEEKDAY(S595,2)<6,S$597<>\"\"),$J$7*SUMPRODUCT(($AM$77:$AQ$77=MOD(S595,7))*$AM$74:$AQ$74)%,\"\")","v":""},{"$f":"IF(AND(T603=Labels!$B$118,WEEKDAY(T595,2)<6,T$597<>\"\"),$J$7*SUMPRODUCT(($AM$77:$AQ$77=MOD(T595,7))*$AM$74:$AQ$74)%,\"\")","v":""},{"$f":"IF(AND(U603=Labels!$B$118,WEEKDAY(U595,2)<6,U$597<>\"\"),$J$7*SUMPRODUCT(($AM$77:$AQ$77=MOD(U595,7))*$AM$74:$AQ$74)%,\"\")","v":""},{"$f":"IF(AND(V603=Labels!$B$118,WEEKDAY(V595,2)<6,V$597<>\"\"),$J$7*SUMPRODUCT(($AM$77:$AQ$77=MOD(V595,7))*$AM$74:$AQ$74)%,\"\")","v":""},{"$f":"IF(AND(W603=Labels!$B$118,WEEKDAY(W595,2)<6,W$597<>\"\"),$J$7*SUMPRODUCT(($AM$77:$AQ$77=MOD(W595,7))*$AM$74:$AQ$74)%,\"\")","v":""},{"$f":"IF(AND(X603=Labels!$B$118,WEEKDAY(X595,2)<6,X$597<>\"\"),$J$7*SUMPRODUCT(($AM$77:$AQ$77=MOD(X595,7))*$AM$74:$AQ$74)%,\"\")","v":""},{"$f":"IF(AND(Y603=Labels!$B$118,WEEKDAY(Y595,2)<6,Y$597<>\"\"),$J$7*SUMPRODUCT(($AM$77:$AQ$77=MOD(Y595,7))*$AM$74:$AQ$74)%,\"\")","v":""},{"$f":"IF(AND(Z603=Labels!$B$118,WEEKDAY(Z595,2)<6,Z$597<>\"\"),$J$7*SUMPRODUCT(($AM$77:$AQ$77=MOD(Z595,7))*$AM$74:$AQ$74)%,\"\")","v":""},{"$f":"IF(AND(AA603=Labels!$B$118,WEEKDAY(AA595,2)<6,AA$597<>\"\"),$J$7*SUMPRODUCT(($AM$77:$AQ$77=MOD(AA595,7))*$AM$74:$AQ$74)%,\"\")","v":""},{"$f":"IF(AND(AB603=Labels!$B$118,WEEKDAY(AB595,2)<6,AB$597<>\"\"),$J$7*SUMPRODUCT(($AM$77:$AQ$77=MOD(AB595,7))*$AM$74:$AQ$74)%,\"\")","v":""},{"$f":"IF(AND(AC603=Labels!$B$118,WEEKDAY(AC595,2)<6,AC$597<>\"\"),$J$7*SUMPRODUCT(($AM$77:$AQ$77=MOD(AC595,7))*$AM$74:$AQ$74)%,\"\")","v":""},{"$f":"IF(AND(AD603=Labels!$B$118,WEEKDAY(AD595,2)<6,AD$597<>\"\"),$J$7*SUMPRODUCT(($AM$77:$AQ$77=MOD(AD595,7))*$AM$74:$AQ$74)%,\"\")","v":""},{"$f":"IF(AND(AE603=Labels!$B$118,WEEKDAY(AE595,2)<6,AE$597<>\"\"),$J$7*SUMPRODUCT(($AM$77:$AQ$77=MOD(AE595,7))*$AM$74:$AQ$74)%,\"\")","v":""},{"$f":"IF(AND(AF603=Labels!$B$118,WEEKDAY(AF595,2)<6,AF$597<>\"\"),$J$7*SUMPRODUCT(($AM$77:$AQ$77=MOD(AF595,7))*$AM$74:$AQ$74)%,\"\")","v":""},{"$f":"SUM(B604:AF604)","v":0},"[06]"]
[{"$f":"$A$20","v":"total quotidien"},{"$f":"SUM(B600:B602)","v":0},{"$f":"SUM(C600:C602)","v":0},0,0,0,0,0,0,0,0,0,0,0,0,0,0,0,0,0,0,0,0,0,0,0,0,0,0,0,0,0,null,"TT"]
[{"$f":"$A$21","v":"."},null,null,null,null,null,null,null,null,null,null,null,null,null,null,null,null,null,null,null,null,null,null,null,null,null,null,null,null,null,null,null,null,"R"]
[{"$f":"$A$22","v":"."},null,null,null,null,null,null,null,null,null,null,null,null,null,null,null,null,null,null,null,null,null,null,null,null,null,null,null,null,null,null,null,null,"R"]
[{"$f":"$A$23","v":"transition mois"},{"$f":"IF(WEEKDAY(B595)=1,TEXT(B595-1,\"MMM\"&Labels!B13),\"\")","v":"sept."},null,null,null,null,null,null,null,null,null,null,null,null,null,null,null,null,null,null,null,null,null,null,null,null,null,null,null,null,null,{"$f":"IF(AND(WEEKDAY(AF595)>1,WEEKDAY(AF595)<7),TEXT(DATE($B$5,MONTH(AF595)+1,1),\"MMM\"&Labels!B13),\"\")","v":"nov."},null,"MNT"]
[{"$f":"$A$24","v":"Total hebdomadaire"},{"$f":"IF(WEEKDAY(B595)=7,SUMIF($B531:$AF531,B596,$B540:$AF540)+SUMIF($B596:$AF596,B596,$B605:$AF605)+SUMIF($B661:$AF661,B596,$B670:$AF670),B608)","v":"sept."},{"$f":"IF(WEEKDAY(C595)=7,SUMIF($B531:$AF531,C596,$B540:$AF540)+SUMIF($B596:$AF596,C596,$B605:$AF605)+SUMIF($B661:$AF661,C596,$B670:$AF670),\"\")","v":""},"","","","",0,"","","","","","",0,"","","","","","",0,"","","","","","",0,"","",{"$f":"IF(WEEKDAY(AF595)=7,SUMIF($B531:$AF531,AF596,$B540:$AF540)+SUMIF($B596:$AF596,AF596,$B605:$AF605)+SUMIF($B661:$AF661,AF596,$B670:$AF670),AF608)","v":"nov."},null,"WT"]
[{"$f":"$A$25","v":"Majorations temp. 1)"},{"$f":"IF(B617=\"FALSCH\",\"\",B617)","v":""},{"$f":"IF(C617=\"FALSCH\",\"\",C617)","v":""},"","","","","","","","","","","","","","","","","","","","","","","","","","","","","",{"$f":"SUM(B610:AF610)","v":0},"[07]"]
[{"$f":"$A$26","v":"Majorations temp. 2)"},{"$f":"IF((B600+B602)=0,\"\",SUM(B600,B602))","v":""},{"$f":"IF((C600+C602)=0,\"\",SUM(C600,C602))","v":""},"","","","","","","","","","","","","","","","","","","","","","","","","","","","","",0,"[08]"]
[{"$f":"$A$27","v":"Majorations temp. 3)"},{"$f":"SUM(B613:B616)","v":0},{"$f":"SUM(C613:C616)","v":0},0,0,0,0,0,0,0,0,0,0,0,0,0,0,0,0,0,0,0,0,0,0,0,0,0,0,0,0,0,0,"[09]"]
[{"$f":"$A$28","v":"Dimanche journée"},{"$f":"IF(WEEKDAY(B595)=1,B601,\"\")","v":0},{"$f":"IF(WEEKDAY(C595)=1,C601,\"\")","v":""},"","","","","",0,"","","","","","",0,"","","","","","",0,"","","","","","",0,"","",0,"[09-ST]"]
[{"$f":"$A$29","v":"Dimanche nuit"},{"$f":"IF(WEEKDAY(B595)=1,SUM(B600+B602),\"\")","v":0},{"$f":"IF(WEEKDAY(C595)=1,SUM(C600+C602),\"\")","v":""},"","","","","",0,"","","","","","",0,"","","","","","",0,"","","","","","",0,"","",0,"[09-SN]"]
[{"$f":"$A$30","v":"jf-jomajoration"},{"$f":"IF(B603=Labels!$B$118,B601,\"\")","v":""},{"$f":"IF(C603=Labels!$B$118,C601,\"\")","v":""},{"$f":"IF(D603=Labels!$B$118,D601,\"\")","v":""},{"$f":"IF(E603=Labels!$B$118,E601,\"\")","v":""},{"$f":"IF(F603=Labels!$B$118,F601,\"\")","v":""},{"$f":"IF(G603=Labels!$B$118,G601,\"\")","v":""},{"$f":"IF(H603=Labels!$B$118,H601,\"\")","v":""},{"$f":"IF(I603=Labels!$B$118,I601,\"\")","v":""},{"$f":"IF(J603=Labels!$B$118,J601,\"\")","v":""},{"$f":"IF(K603=Labels!$B$118,K601,\"\")","v":""},{"$f":"IF(L603=Labels!$B$118,L601,\"\")","v":""},{"$f":"IF(M603=Labels!$B$118,M601,\"\")","v":""},{"$f":"IF(N603=Labels!$B$118,N601,\"\")","v":""},{"$f":"IF(O603=Labels!$B$118,O601,\"\")","v":""},{"$f":"IF(P603=Labels!$B$118,P601,\"\")","v":""},{"$f":"IF(Q603=Labels!$B$118,Q601,\"\")","v":""},{"$f":"IF(R603=Labels!$B$118,R601,\"\")","v":""},{"$f":"IF(S603=Labels!$B$118,S601,\"\")","v":""},{"$f":"IF(T603=Labels!$B$118,T601,\"\")","v":""},{"$f":"IF(U603=Labels!$B$118,U601,\"\")","v":""},{"$f":"IF(V603=Labels!$B$118,V601,\"\")","v":""},{"$f":"IF(W603=Labels!$B$118,W601,\"\")","v":""},{"$f":"IF(X603=Labels!$B$118,X601,\"\")","v":""},{"$f":"IF(Y603=Labels!$B$118,Y601,\"\")","v":""},{"$f":"IF(Z603=Labels!$B$118,Z601,\"\")","v":""},{"$f":"IF(AA603=Labels!$B$118,AA601,\"\")","v":""},{"$f":"IF(AB603=Labels!$B$118,AB601,\"\")","v":""},{"$f":"IF(AC603=Labels!$B$118,AC601,\"\")","v":""},{"$f":"IF(AD603=Labels!$B$118,AD601,\"\")","v":""},{"$f":"IF(AE603=Labels!$B$118,AE601,\"\")","v":""},{"$f":"IF(AF603=Labels!$B$118,AF601,\"\")","v":""},0,"[09-FT]"]
[{"$f":"$A$31","v":"jf-numajoration"},{"$f":"IF(B603=Labels!$B$118,SUM(B600,B602),\"\")","v":""},{"$f":"IF(C603=Labels!$B$118,SUM(C600,C602),\"\")","v":""},{"$f":"IF(D603=Labels!$B$118,SUM(D600,D602),\"\")","v":""},{"$f":"IF(E603=Labels!$B$118,SUM(E600,E602),\"\")","v":""},{"$f":"IF(F603=Labels!$B$118,SUM(F600,F602),\"\")","v":""},{"$f":"IF(G603=Labels!$B$118,SUM(G600,G602),\"\")","v":""},{"$f":"IF(H603=Labels!$B$118,SUM(H600,H602),\"\")","v":""},{"$f":"IF(I603=Labels!$B$118,SUM(I600,I602),\"\")","v":""},{"$f":"IF(J603=Labels!$B$118,SUM(J600,J602),\"\")","v":""},{"$f":"IF(K603=Labels!$B$118,SUM(K600,K602),\"\")","v":""},{"$f":"IF(L603=Labels!$B$118,SUM(L600,L602),\"\")","v":""},{"$f":"IF(M603=Labels!$B$118,SUM(M600,M602),\"\")","v":""},{"$f":"IF(N603=Labels!$B$118,SUM(N600,N602),\"\")","v":""},{"$f":"IF(O603=Labels!$B$118,SUM(O600,O602),\"\")","v":""},{"$f":"IF(P603=Labels!$B$118,SUM(P600,P602),\"\")","v":""},{"$f":"IF(Q603=Labels!$B$118,SUM(Q600,Q602),\"\")","v":""},{"$f":"IF(R603=Labels!$B$118,SUM(R600,R602),\"\")","v":""},{"$f":"IF(S603=Labels!$B$118,SUM(S600,S602),\"\")","v":""},{"$f":"IF(T603=Labels!$B$118,SUM(T600,T602),\"\")","v":""},{"$f":"IF(U603=Labels!$B$118,SUM(U600,U602),\"\")","v":""},{"$f":"IF(V603=Labels!$B$118,SUM(V600,V602),\"\")","v":""},{"$f":"IF(W603=Labels!$B$118,SUM(W600,W602),\"\")","v":""},{"$f":"IF(X603=Labels!$B$118,SUM(X600,X602),\"\")","v":""},{"$f":"IF(Y603=Labels!$B$118,SUM(Y600,Y602),\"\")","v":""},{"$f":"IF(Z603=Labels!$B$118,SUM(Z600,Z602),\"\")","v":""},{"$f":"IF(AA603=Labels!$B$118,SUM(AA600,AA602),\"\")","v":""},{"$f":"IF(AB603=Labels!$B$118,SUM(AB600,AB602),\"\")","v":""},{"$f":"IF(AC603=Labels!$B$118,SUM(AC600,AC602),\"\")","v":""},{"$f":"IF(AD603=Labels!$B$118,SUM(AD600,AD602),\"\")","v":""},{"$f":"IF(AE603=Labels!$B$118,SUM(AE600,AE602),\"\")","v":""},{"$f":"IF(AF603=Labels!$B$118,SUM(AF600,AF602),\"\")","v":""},0,"[09-FN]"]
[{"$f":"$A$32","v":"majoration caché (total hebd.)"},{"$f":"IF($B592>=80,IF(OR(ISTEXT(B609),B609=\"\",B609<$B$7),\"\",ROUND(((B609-$B$7)*25%)/25,4)*25),IF(B605>($B$7/5),ROUND(((B605-($B$7/5))*25%)/25,4)*25,\"\"))","v":""},{"$f":"IF($B592>=80,IF(OR(ISTEXT(C609),C609=\"\",C609<$B$7),\"\",ROUND(((C609-$B$7)*25%)/25,4)*25),IF(C605>($B$7/5),ROUND(((C605-($B$7/5))*25%)/25,4)*25,\"\"))","v":""},"","","","","","","","","","","","","","","","","","","","","","","","","","","","","",{"$f":"AG601","v":0},"[03]"]
[null,{"$f":"$B$33","v":"1)  25% majoration temporelle pour depassement les heures maximales"},null,null,null,null,null,null,null,null,null,{"$f":"$L$33","v":"2) 100% majoration temporelle pour travail de nuit"},null,null,null,null,null,null,null,null,null,null,null,null,null,null,null,null,null,null,null,null,{"$f":"SUM(AG600+AG602)","v":0},"[4-5]"]
[null,{"$f":"$B$34","v":"3) 100% majoration temporelle pour travail du dimanche et jour férié"},null,null,null,null,null,null,null,null,null,null,null,null,null,null,null,null,null,{"$f":"$T$34","v":"Saisie des heures payées exercice en cours (heures supplémentaires)"},null,null,null,null,null,null,null,null,null,null,null,null,{"$f":"SUM(AG600:AG602)","v":0},"[3-5]"]
[{"$f":"$A$35","v":"Notes"},null,null,null,null,null,null,null,null,null,null,null,null,null,null,null,null,null,null,null,null,null,null,null,null,null,null,null,null,null,null,null,{"$f":"SUM(AG598:AG612)","v":0},"[10]"]
[null,null,null,null,null,null,null,null,null,null,null,null,null,null,null,null,null,null,null,null,null,null,null,null,null,null,null,null,null,null,null,null,{"$f":"AG597","v":176},"[00]"]
[{"$f":"IF(AG1054=0,\"\",\"effektives Pensum:  \"&ROUND(COUNT(B597:AF597)/(AG1054+COUNT(B597:AF597))%*B592%*20,0)/20&\" %\")","v":""},null,null,null,null,null,null,null,null,null,null,null,null,null,null,null,null,null,null,null,null,null,null,null,null,null,null,null,null,null,null,null,{"$f":"SUM(AG620-AG621)","v":-176},"[11]"]
[]
[{"$f":"Labels!$B$103","v":"Résumé"},null,null,null,null,null,{"$f":"Labels!$B$77","v":"Jan"},null,{"$f":"Labels!$B$78","v":"Fév"},null,{"$f":"Labels!$B$79","v":"Mar"},null,{"$f":"Labels!$B$80","v":"Avr"},null,{"$f":"Labels!$B$81","v":"Mai"},null,{"$f":"Labels!$B$82","v":"Jun"},null,{"$f":"Labels!$B$83","v":"Jul"},null,{"$f":"Labels!$B$84","v":"Aoû"},null,{"$f":"Labels!$B$85","v":"Sep"},null,{"$f":"Labels!$B$86","v":"Oct"},null,{"$f":"Labels!$B$87","v":"Nov"},null,{"$f":"Labels!$B$88","v":"Déc"},null,{"$f":"Labels!$B$101","v":"Année"}]
[{"$f":"Labels!$B$20","v":"Emploi %"},null,null,null,null,null,{"$f":"IF($B$4=0,0,$B$4)","v":100},null,{"$f":"IF($B$72=0,0,$B$72)","v":100},null,{"$f":"IF($B$137=0,0,$B$137)","v":100},null,{"$f":"IF($B$202=0,0,$B$202)","v":100},null,{"$f":"IF($B$267=0,0,$B$267)","v":100},null,{"$f":"IF($B$332=0,0,$B$332)","v":100},null,{"$f":"IF($B$397=0,0,$B$397)","v":100},null,{"$f":"IF($B$462=0,0,$B$462)","v":100},null,{"$f":"IF($B$527=0,0,$B$527)","v":100},null,{"$f":"IF($B$592=0,0,$B$592)","v":100},null,{"$f":"IF($B$657=0,0,$B$657)","v":100},null,{"$f":"IF($B$722=0,0,$B$722)","v":100}]
[{"$f":"Labels!$B$104","v":"Heures théoriques selon CCT"},null,null,null,null,null,{"$f":"IF($AG$36=0,0,$AG$36)","v":176},null,{"$f":"IF($AG$101=0,0,$AG$101)","v":160},null,{"$f":"IF($AG$142=0,0,$AG$142)","v":184},null,{"$f":"IF($AG$231=0,0,$AG$231)","v":160},null,{"$f":"IF($AG$296=0,0,$AG$296)","v":184},null,{"$f":"IF($AG$361=0,0,$AG$361)","v":176},null,{"$f":"IF($AG$426=0,0,$AG$426)","v":168},null,{"$f":"IF($AG$491=0,0,$AG$491)","v":184},null,{"$f":"IF($AG$556=0,0,$AG$556)","v":168},null,{"$f":"IF($AG$621=0,0,$AG$621)","v":176},null,{"$f":"IF($AG$686=0,0,$AG$686)","v":176},null,{"$f":"IF($AG$751=0,0,$AG$751)","v":168},null,{"$f":"SUM(G626:AD626)","v":2080}]
[{"$f":"Labels!$B$105","v":"Total heures productives"},{"$f":"Labels!$B$106","v":"06.00 - 20.00 h"},null,null,null,null,{"$f":"IF($AG$32=0,0,$AG$32)","v":0},null,{"$f":"IF($AG$96=0,0,$AG$96)","v":0},null,{"$f":"IF($AG$161=0,0,$AG$161)","v":0},null,{"$f":"IF($AG$226=0,0,$AG$226)","v":0},null,{"$f":"IF($AG$291=0,0,$AG$291)","v":0},null,{"$f":"IF($AG$356=0,0,$AG$356)","v":0},null,{"$f":"IF($AG$421=0,0,$AG$421)","v":0},null,{"$f":"IF($AG$486=0,0,$AG$486)","v":0},null,{"$f":"IF($AG$551=0,0,$AG$551)","v":0},null,{"$f":"IF($AG$616=0,0,$AG$616)","v":0},null,{"$f":"IF($AG$681=0,0,$AG$681)","v":0},null,{"$f":"IF($AG$746=0,0,$AG$746)","v":0},null,{"$f":"SUM(G627:AD627)","v":0}]
[null,{"$f":"Labels!$B$107","v":"nuit, dimanche et jour férié"},null,null,null,null,{"$f":"IF($AG$33=0,0,$AG$33)","v":0},null,{"$f":"IF($AG$97=0,0,$AG$97)","v":0},null,{"$f":"IF($AG$162=0,0,$AG$162)","v":0},null,{"$f":"IF($AG$227=0,0,$AG$227)","v":0},null,{"$f":"IF($AG$292=0,0,$AG$292)","v":0},null,{"$f":"IF($AG$357=0,0,$AG$357)","v":0},null,{"$f":"IF($AG$422=0,0,$AG$422)","v":0},null,{"$f":"IF($AG$487=0,0,$AG$487)","v":0},null,{"$f":"IF($AG$552=0,0,$AG$552)","v":0},null,{"$f":"IF($AG$617=0,0,$AG$617)","v":0},null,{"$f":"IF($AG$682=0,0,$AG$682)","v":0},null,{"$f":"IF($AG$747=0,0,$AG$747)","v":0},null,{"$f":"SUM(G628:AD628)","v":0}]
[{"$f":"Labels!$B$108","v":"Majorations temporelles"},{"$f":"Labels!$B$109","v":"depassement des heures maximales"},null,null,null,null,{"$f":"IF($AG$25=0,0,$AG$25)","v":0},null,{"$f":"IF($AG$89=0,0,$AG$89)","v":0},null,{"$f":"IF($AG$154=0,0,$AG$154)","v":0},null,{"$f":"IF($AG$219=0,0,$AG$219)","v":0},null,{"$f":"IF($AG$284=0,0,$AG$284)","v":0},null,{"$f":"IF($AG$349=0,0,$AG$349)","v":0},null,{"$f":"IF($AG$414=0,0,$AG$414)","v":0},null,{"$f":"IF($AG$479=0,0,$AG$479)","v":0},null,{"$f":"IF($AG$544=0,0,$AG$544)","v":0},null,{"$f":"IF($AG$609=0,0,$AG$609)","v":0},null,{"$f":"IF($AG$674=0,0,$AG$674)","v":0},null,{"$f":"IF($AG$739=0,0,$AG$739)","v":0},null,{"$f":"SUM(G629:AD629)","v":0}]
[null,{"$f":"Labels!$B$110","v":"nuit, dimanche et jour férié"},null,null,null,null,{"$f":"IF($AJ$23=0,0,$AJ$23)","v":0},null,{"$f":"IF($AK$23=0,0,$AK$23)","v":0},null,{"$f":"IF($AL$23=0,0,$AL$23)","v":0},null,{"$f":"IF($AM$23=0,0,$AM$23)","v":0},null,{"$f":"IF($AN$23=0,0,$AN$23)","v":0},null,{"$f":"IF($AO$23=0,0,$AO$23)","v":0},null,{"$f":"IF($AP$23=0,0,$AP$23)","v":0},null,{"$f":"IF($AQ$23=0,0,$AQ$23)","v":0},null,{"$f":"IF($AR$23=0,0,$AR$23)","v":0},null,{"$f":"IF($AS$23=0,0,$AS$23)","v":0},null,{"$f":"IF($AT$23=0,0,$AT$23)","v":0},null,{"$f":"IF($AU$23=0,0,$AU$23)","v":0},null,{"$f":"SUM(G630:AD630)","v":0}]
[{"$f":"Labels!$B$111","v":"Heures inproductives"}]
[{"$f":"Labels!$B$112","v":"   Absences art. 11 CCT"},null,null,null,null,{"$f":"Labels!$B$113","v":"ab"},{"$f":"IF($AJ$3=0,0,$AJ$3)","v":0},null,{"$f":"IF($AK$3=0,0,$AK$3)","v":0},null,{"$f":"IF($AL$3=0,0,$AL$3)","v":0},null,{"$f":"IF($AM$3=0,0,$AM$3)","v":0},null,{"$f":"IF($AN$3=0,0,$AN$3)","v":0},null,{"$f":"IF($AO$3=0,0,$AO$3)","v":0},null,{"$f":"IF($AP$3=0,0,$AP$3)","v":0},null,{"$f":"IF($AQ$3=0,0,$AQ$3)","v":0},null,{"$f":"IF($AR$3=0,0,$AR$3)","v":0},null,{"$f":"IF($AS$3=0,0,$AS$3)","v":0},null,{"$f":"IF(AT$3=0,0,$AT$3)","v":0},null,{"$f":"IF($AU$3=0,0,$AU$3)","v":0},null,{"$f":"IF($AV$3=0,0,$AV$3)","v":0}]
[{"$f":"Labels!$B$114","v":"   Vacances art. 12.1 CCT"},null,null,null,null,{"$f":"Labels!$B$115","v":"va"},{"$f":"IF($AJ$4=0,0,$AJ$4)","v":0},null,{"$f":"IF($AK$4=0,0,$AK$4)","v":0},null,{"$f":"IF($AL$4=0,0,$AL$4)","v":0},null,{"$f":"IF($AM$4=0,0,$AM$4)","v":0},null,{"$f":"IF($AN$4=0,0,$AN$4)","v":0},null,{"$f":"IF($AO$4=0,0,$AO$4)","v":0},null,{"$f":"IF($AP$4=0,0,$AP$4)","v":0},null,{"$f":"IF($AQ$4=0,0,$AQ$4)","v":0},null,{"$f":"IF($AR$4=0,0,$AR$4)","v":0},null,{"$f":"IF($AS$4=0,0,$AS$4)","v":0},null,{"$f":"IF($AT$4=0,0,$AT$4)","v":0},null,{"$f":"IF($AU$4=0,0,$AU$4)","v":0},null,{"$f":"IF($AV$4=0,0,$AV$4)","v":0}]
[{"$f":"Labels!$B$181","v":"   vacances non payées"},null,null,null,null,{"$f":"Labels!$B$182","v":"vn"},{"$f":"IF($AJ$13=0,0,$AJ$13)","v":0},null,{"$f":"IF($AK$13=0,0,$AK$13)","v":0},null,{"$f":"IF($AL$13=0,0,$AL$13)","v":0},null,{"$f":"IF($AM$13=0,0,$AM$13)","v":0},null,{"$f":"IF($AN$13=0,0,$AN$13)","v":0},null,{"$f":"IF($AO$13=0,0,$AO$13)","v":0},null,{"$f":"IF($AP$13=0,0,$AP$13)","v":0},null,{"$f":"IF($AQ$13=0,0,$AQ$13)","v":0},null,{"$f":"IF($AR$13=0,0,$AR$13)","v":0},null,{"$f":"IF($AS$13=0,0,$AS$13)","v":0},null,{"$f":"IF($AT$13=0,0,$AT$13)","v":0},null,{"$f":"IF($AU$13=0,0,$AU$13)","v":0},null,{"$f":"IF($AV$13=0,0,$AV$13)","v":0}]
[{"$f":"Labels!$B$116","v":"   Jours fériés art. 12.2 CCT"},null,{"$f":"IF($AJ$20=\"\",\"\",$AJ$20)","v":""},null,null,{"$f":"Labels!$B$118","v":"jf"},{"$f":"IF($AJ$18=0,0,$AJ$18)","v":0},null,{"$f":"IF($AK$18=0,0,$AK$18)","v":0},null,{"$f":"IF($AL$18=0,0,$AL$18)","v":0},null,{"$f":"IF($AM$18=0,0,$AM$18)","v":0},null,{"$f":"IF($AN$18=0,0,$AN$18)","v":0},null,{"$f":"IF($AO$18=0,0,$AO$18)","v":0},null,{"$f":"IF($AP$18=0,0,$AP$18)","v":0},null,{"$f":"IF($AQ$18=0,0,$AQ$18)","v":0},null,{"$f":"IF($AR$18=0,0,$AR$18)","v":0},null,{"$f":"IF($AS$18=0,0,$AS$18)","v":0},null,{"$f":"IF($AT$18=0,0,$AT$18)","v":0},null,{"$f":"IF($AU$18=0,0,$AU$18)","v":0},null,{"$f":"IF($AV$18=0,0,$AV$18)","v":0}]
[{"$f":"Labels!$B$119","v":"   Maladie art. 13 CCT"},null,null,null,null,{"$f":"Labels!$B$120","v":"ma"},{"$f":"IF($AJ$5=0,0,$AJ$5)","v":0},null,{"$f":"IF($AK$5=0,0,$AK$5)","v":0},null,{"$f":"IF($AL$5=0,0,$AL$5)","v":0},null,{"$f":"IF($AM$5=0,0,$AM$5)","v":0},null,{"$f":"IF($AN$5=0,0,$AN$5)","v":0},null,{"$f":"IF($AO$5=0,0,$AO$5)","v":0},null,{"$f":"IF($AP$5=0,0,$AP$5)","v":0},null,{"$f":"IF($AQ$5=0,0,$AQ$5)","v":0},null,{"$f":"IF($AR$5=0,0,$AR$5)","v":0},null,{"$f":"IF($AS$5=0,0,$AS$5)","v":0},null,{"$f":"IF($AT$5=0,0,$AT$5)","v":0},null,{"$f":"IF($AU$5=0,0,$AU$5)","v":0},null,{"$f":"IF($AV$5=0,0,$AV$5)","v":0}]
[{"$f":"Labels!$B$184","v":"non payeé"},null,null,null,null,null,{"$f":"IF(AJ$16=0,0,AJ$16)","v":0},null,{"$f":"IF($AK$16=0,0,$AK$16)","v":0},null,{"$f":"IF($AL$16=0,0,$AL$16)","v":0},null,{"$f":"IF($AM$16=0,0,$AM$16)","v":0},null,{"$f":"IF($AN$16=0,0,$AN$16)","v":0},null,{"$f":"IF($AO$16=0,0,$AO$16)","v":0},null,{"$f":"IF($AP$16=0,0,$AP$16)","v":0},null,{"$f":"IF($AQ$16=0,0,$AQ$16)","v":0},null,{"$f":"IF($AR$16=0,0,$AR$16)","v":0},null,{"$f":"IF($AS$16=0,0,$AS$16)","v":0},null,{"$f":"IF($AT$16=0,0,$AT$16)","v":0},null,{"$f":"IF($AU$16=0,0,$AU$16)","v":0},null,{"$f":"IF($AV$16=0,0,$AV$16)","v":0}]
[{"$f":"Labels!$B$121","v":"   Accident art. 14 CCT"},null,null,null,null,{"$f":"Labels!$B$122","v":"ac"},{"$f":"IF($AJ$6=0,0,$AJ$6)","v":0},null,{"$f":"IF($AK$6=0,0,$AK$6)","v":0},null,{"$f":"IF($AL$6=0,0,$AL$6)","v":0},null,{"$f":"IF($AM$6=0,0,$AM$6)","v":0},null,{"$f":"IF($AN$6=0,0,$AN$6)","v":0},null,{"$f":"IF($AO$6=0,0,$AO$6)","v":0},null,{"$f":"IF($AP$6=0,0,$AP$6)","v":0},null,{"$f":"IF($AQ$6=0,0,$AQ$6)","v":0},null,{"$f":"IF($AR$6=0,0,$AR$6)","v":0},null,{"$f":"IF($AS$6=0,0,$AS$6)","v":0},null,{"$f":"IF($AT$6=0,0,$AT$6)","v":0},null,{"$f":"IF($AU$6=0,0,$AU$6)","v":0},null,{"$f":"IF($AV$6=0,0,$AV$6)","v":0}]
[{"$f":"Labels!$B$123","v":"   Grossesse/Maternité art. 15 CCT"},null,null,null,null,{"$f":"Labels!$B$124","v":"gm"},{"$f":"IF($AJ$7=0,0,$AJ$7)","v":0},null,{"$f":"IF($AK$7=0,0,$AK$7)","v":0},null,{"$f":"IF($AL$7=0,0,$AL$7)","v":0},null,{"$f":"IF($AM$7=0,0,$AM$7)","v":0},null,{"$f":"IF($AN$7=0,0,$AN$7)","v":0},null,{"$f":"IF($AO$7=0,0,$AO$7)","v":0},null,{"$f":"IF($AP$7=0,0,$AP$7)","v":0},null,{"$f":"IF($AQ$7=0,0,$AQ$7)","v":0},null,{"$f":"IF($AR$7=0,0,$AR$7)","v":0},null,{"$f":"IF($AS$7=0,0,$AS$7)","v":0},null,{"$f":"IF($AT$7=0,0,$AT$7)","v":0},null,{"$f":"IF($AU$7=0,0,$AU$7)","v":0},null,{"$f":"IF($AV$7=0,0,$AV$7)","v":0}]
[{"$f":"Labels!$B$125","v":"   Militaire/Promotion/Protection civile art. 16 CCT"},null,null,null,null,{"$f":"Labels!$B$126","v":"mi"},{"$f":"IF($AJ$8=0,0,$AJ$8)","v":0},null,{"$f":"IF($AK$8=0,0,$AK$8)","v":0},null,{"$f":"IF($AL$8=0,0,$AL$8)","v":0},null,{"$f":"IF($AM$8=0,0,$AM$8)","v":0},null,{"$f":"IF($AN$8=0,0,$AN$8)","v":0},null,{"$f":"IF($AO$8=0,0,$AO$8)","v":0},null,{"$f":"IF($AP$8=0,0,$AP$8)","v":0},null,{"$f":"IF($AQ$8=0,0,$AQ$8)","v":0},null,{"$f":"IF($AR$8=0,0,$AR$8)","v":0},null,{"$f":"IF($AS$8=0,0,$AS$8)","v":0},null,{"$f":"IF($AT$8=0,0,$AT$8)","v":0},null,{"$f":"IF($AU$8=0,0,$AU$8)","v":0},null,{"$f":"IF($AV$8=0,0,$AV$8)","v":0}]
[{"$f":"Labels!$B$127","v":"   Chômage partiel et perte de travail cause d'intempéries"},null,null,null,null,{"$f":"Labels!$B$128","v":"ch"},{"$f":"IF($AJ$11=0,0,$AJ$11)","v":0},null,{"$f":"IF($AK$11=0,0,$AK$11)","v":0},null,{"$f":"IF($AL$11=0,0,$AL$11)","v":0},null,{"$f":"IF($AM$11=0,0,$AM$11)","v":0},null,{"$f":"IF($AN$11=0,0,$AN$11)","v":0},null,{"$f":"IF($AO$11=0,0,$AO$11)","v":0},null,{"$f":"IF($AP$11=0,0,$AP$11)","v":0},null,{"$f":"IF($AQ$11=0,0,$AQ$11)","v":0},null,{"$f":"IF($AR$11=0,0,$AR$11)","v":0},null,{"$f":"IF($AS$11=0,0,$AS$11)","v":0},null,{"$f":"IF($AT$11=0,0,$AT$11)","v":0},null,{"$f":"IF($AU$11=0,0,$AU$11)","v":0},null,{"$f":"IF($AV$11=0,0,$AV$11)","v":0}]
[{"$f":"Labels!$B$129","v":"   Ecole professionnelle"},null,null,null,null,{"$f":"Labels!$B$130","v":"ep"},{"$f":"IF($AJ$9=0,0,$AJ$9)","v":0},null,{"$f":"IF($AK$9=0,0,$AK$9)","v":0},null,{"$f":"IF($AL$9=0,0,$AL$9)","v":0},null,{"$f":"IF($AM$9=0,0,$AM$9)","v":0},null,{"$f":"IF($AN$9=0,0,$AN$9)","v":0},null,{"$f":"IF($AO$9=0,0,$AO$9)","v":0},null,{"$f":"IF($AP$9=0,0,$AP$9)","v":0},null,{"$f":"IF($AQ$9=0,0,$AQ$9)","v":0},null,{"$f":"IF($AR$9=0,0,$AR$9)","v":0},null,{"$f":"IF($AS$9=0,0,$AS$9)","v":0},null,{"$f":"IF($AT$9=0,0,$AT$9)","v":0},null,{"$f":"IF($AU$9=0,0,$AU$9)","v":0},null,{"$f":"IF($AV$9=0,0,$AV$9)","v":0}]
[{"$f":"Labels!$B$131","v":"   Cours"},null,null,null,null,{"$f":"Labels!$B$132","v":"co"},{"$f":"IF($AJ$10=0,0,$AJ$10)","v":0},null,{"$f":"IF($AK$10=0,0,$AK$10)","v":0},null,{"$f":"IF($AL$10=0,0,$AL$10)","v":0},null,{"$f":"IF($AM$10=0,0,$AM$10)","v":0},null,{"$f":"IF($AN$10=0,0,$AN$10)","v":0},null,{"$f":"IF($AO$10=0,0,$AO$10)","v":0},null,{"$f":"IF($AP$10=0,0,$AP$10)","v":0},null,{"$f":"IF($AQ$10=0,0,$AQ$10)","v":0},null,{"$f":"IF($AR$10=0,0,$AR$10)","v":0},null,{"$f":"IF($AS$10=0,0,$AS$10)","v":0},null,{"$f":"IF($AT$10=0,0,$AT$10)","v":0},null,{"$f":"IF($AU$10=0,0,$AU$10)","v":0},null,{"$f":"IF($AV$10=0,0,$AV$10)","v":0}]
[{"$f":"Labels!$B$133","v":"Heures de compensation"},{"$f":"Labels!$B$134","v":"de l'année passée"},null,null,null,{"$f":"Labels!$B$135","v":"cp"},{"$f":"IF($AJ$12=0,0,$AJ$12)","v":0},null,{"$f":"IF($AK$12=0,0,$AK$12)","v":0},null,{"$f":"IF($AL$12=0,0,$AL$12)","v":0},null,{"$f":"IF($AM$12=0,0,$AM$12)","v":0},null,{"$f":"IF($AN$12=0,0,$AN$12)","v":0},null,{"$f":"IF($AO$12=0,0,$AO$12)","v":0},null,{"$f":"IF($AP$12=0,0,$AP$12)","v":0},null,{"$f":"IF($AQ$12=0,0,$AQ$12)","v":0},null,{"$f":"IF($AR$12=0,0,$AR$12)","v":0},null,null,null,null,null,null,null,{"$f":"IF($AV$12=0,0,$AV$12)","v":0}]
[null,{"$f":"Labels!$B$136","v":"de l'année en cours (contrôle)"},null,null,null,{"$f":"Labels!$B$137","v":"cc"},{"$f":"IF($AJ$15=0,0,$AJ$15)","v":0},null,{"$f":"IF($AK$15=0,0,$AK$15)","v":0},null,{"$f":"IF($AL$15=0,0,$AL$15)","v":0},null,{"$f":"IF($AM$15=0,0,$AM$15)","v":0},null,{"$f":"IF($AN$15=0,0,$AN$15)","v":0},null,{"$f":"IF($AO$15=0,0,$AO$15)","v":0},null,{"$f":"IF($AP$15=0,0,$AP$15)","v":0},null,{"$f":"IF($AQ$15=0,0,$AQ$15)","v":0},null,{"$f":"IF($AR$15=0,0,$AR$15)","v":0},null,{"$f":"IF($AS$15=0,0,$AS$15)","v":0},null,{"$f":"IF($AT$15=0,0,$AT$15)","v":0},null,{"$f":"IF($AU$15=0,0,$AU$15)","v":0},null,{"$f":"IF($AV$15=0,0,$AV$15)","v":0}]
[{"$f":"Labels!$B$138","v":"Paiement des heures"},{"$f":"Labels!$B$139","v":"de l'année passée"},null,null,null,null,{"$f":"IF($AJ$21=0,0,$AJ$21)","v":0},null,{"$f":"IF($AK$21=0,0,$AK$21)","v":0},null,{"$f":"IF($AL$21=0,0,$AL$21)","v":0},null,{"$f":"IF($AM$21=0,0,$AM$21)","v":0},null,{"$f":"IF($AN$21=0,0,$AN$21)","v":0},null,{"$f":"IF($AO$21=0,0,$AO$21)","v":0},null,{"$f":"IF($AP$21=0,0,$AP$21)","v":0},null,{"$f":"IF($AQ$21=0,0,$AQ$21)","v":0},null,{"$f":"IF($AR$21=0,0,$AR$21)","v":0},null,null,null,null,null,null,null,{"$f":"IF($AV$21=0,0,$AV$21)","v":0}]
[{"$f":"Labels!$B$140","v":"Différence en heures"},{"$f":"Labels!$B$141","v":"après compensation et paiement"},null,null,null,null,{"$f":"IF(ROUND($P$4,3)=0,0,$P$4-G644-G646)","v":0},null,{"$f":"IF(ROUND(G647,3)=0,0,G647-(SUM(I644+I646)))","v":0},null,{"$f":"IF(ROUND(I647,3)=0,0,I647-K646-K644)","v":0},null,{"$f":"IF(ROUND(K647,3)=0,0,K647-(SUM(M646+M644)))","v":0},null,{"$f":"IF(ROUND(M647,3)=0,0,M647-(SUM(O646+O644)))","v":0},null,{"$f":"IF(ROUND(O647,3)=0,0,O647-(SUM(Q646+Q644)))","v":0},null,{"$f":"IF(ROUND(Q647,3)=0,0,Q647-(SUM(S646+S644)))","v":0},null,{"$f":"IF(ROUND(S647,3)=0,0,S647-(SUM(U646+U644)))","v":0},null,{"$f":"IF(ROUND(U647,3)=0,0,U647-(SUM(W646+W644)))","v":0},null,{"$f":"IF($W$62<0.1,\"\",AY629)","v":""}]
[{"$f":"Labels!$B$138","v":"Paiement des heures"},{"$f":"Labels!$B$142","v":"de l'année en cours"},null,null,null,null,{"$f":"IF($AJ$22=0,0,$AJ$22)","v":0},null,{"$f":"IF($AK$22=0,0,$AK$22)","v":0},null,{"$f":"IF($AL$22=0,0,$AL$22)","v":0},null,{"$f":"IF($AM$22=0,0,$AM$22)","v":0},null,{"$f":"IF($AN$22=0,0,$AN$22)","v":0},null,{"$f":"IF($AO$22=0,0,$AO$22)","v":0},null,{"$f":"IF($AP$22=0,0,$AP$22)","v":0},null,{"$f":"IF($AQ$22=0,0,$AQ$22)","v":0},null,{"$f":"IF($AR$22=0,0,$AR$22)","v":0},null,{"$f":"IF($AS$22=0,0,$AS$22)","v":0},null,{"$f":"IF($AT$22=0,0,$AT$22)","v":0},null,{"$f":"IF($AU$22=0,0,$AU$22)","v":0},null,{"$f":"IF($AV$22=0,0,$AV$22)","v":0}]
[{"$f":"Labels!$B$143","v":"Heures manquantes"},{"$f":"Labels!$B$144","v":"de l'année en cours (contrôle)"},null,null,null,{"$f":"Labels!$B$145","v":"hm"},{"$f":"IF($AJ$14=0,0,$AJ$14)","v":0},null,{"$f":"IF($AK$14=0,0,$AK$14)","v":0},null,{"$f":"IF($AL$14=0,0,$AL$14)","v":0},null,{"$f":"IF($AM$14=0,0,$AM$14)","v":0},null,{"$f":"IF($AN$14=0,0,$AN$14)","v":0},null,{"$f":"IF($AO$14=0,0,$AO$14)","v":0},null,{"$f":"IF($AP$14=0,0,$AP$14)","v":0},null,{"$f":"IF($AQ$14=0,0,$AQ$14)","v":0},null,{"$f":"IF($AR$14=0,0,$AR$14)","v":0},null,{"$f":"IF($AS$14=0,0,$AS$14)","v":0},null,{"$f":"IF($AT$14=0,0,$AT$14)","v":0},null,{"$f":"IF($AU$14=0,0,$AU$14)","v":0},null,{"$f":"IF($AV$14=0,0,$AV$14)","v":0}]
[{"$f":"Labels!$B$146","v":"Total (majorations inclus)"},{"$f":"Labels!$B$147","v":"heures productives et inproductives"},null,null,null,null,{"$f":"IF($AG$35=0,0,$AG$35)","v":0},null,{"$f":"IF($AG$100=0,0,$AG$100)","v":0},null,{"$f":"IF($AG$165=0,0,$AG$165)","v":0},null,{"$f":"IF($AG$230=0,0,$AG$230)","v":0},null,{"$f":"IF($AG$295=0,0,$AG$295)","v":0},null,{"$f":"IF($AG$360=0,0,$AG$360)","v":0},null,{"$f":"IF($AG$425=0,0,$AG$425)","v":0},null,{"$f":"IF($AG$490=0,0,$AG$490)","v":0},null,{"$f":"IF($AG$555=0,0,$AG$555)","v":0},null,{"$f":"IF($AG$620=0,0,$AG$620)","v":0},null,{"$f":"IF($AG$685=0,0,$AG$685)","v":0},null,{"$f":"IF($AG$750=0,0,$AG$750)","v":0},null,{"$f":"SUM($G$65:$AD$65)","v":0}]
[{"$f":"Labels!$B$148","v":"Comparaison des heures"},{"$f":"Labels!$B$149","v":"aux heures théorique CCT (heures \nmanquantes de l'année passée incl.)"},null,null,null,null,{"$f":"IF($AG$37=0,0,$AG$37)-$AE$34+$P$5","v":-176},null,{"$f":"IF($AG$102=0,0,$AG$102)-$AE$99","v":-160},null,{"$f":"IF($AG$167=0,0,$AG$167)-$AE$164","v":-184},null,{"$f":"IF($AG$232=0,0,$AG$232)-$AE$229","v":-160},null,{"$f":"IF($AG$297=0,0,$AG$297)-$AE$294","v":-184},null,{"$f":"IF($AG$362=0,0,$AG$362)-$AE$359","v":-176},null,{"$f":"IF($AG$427=0,0,$AG$427)-$AE$424","v":-168},null,{"$f":"IF($AG$492=0,0,$AG$492)-$AE$489","v":-184},null,{"$f":"IF($AG$557=0,0,$AG$557)-$AE$554","v":-168},null,{"$f":"IF($AG$622=0,0,$AG$622)-$AE$619","v":-176},null,{"$f":"IF($AG$687=0,0,$AG$687)-$AE$684","v":-176},null,{"$f":"IF($AG$752=0,0,$AG$752)-$AE$749","v":-168},null,{"$f":"SUM($G$66:$AD$66)","v":-2080}]
[null,{"$f":"Labels!$B$151","v":"aux heures théorique (cumulées)"},null,null,null,null,{"$f":"IF(G625=0,0,$G$66)","v":-176},null,{"$f":"IF(I625=0,0,SUM($G$66:$J$66))","v":-336},null,{"$f":"IF(K625=0,0,SUM($G$66:$L$66))","v":-520},null,{"$f":"IF(M625=0,0,SUM($G$66:$N$66))","v":-680},null,{"$f":"IF(O625=0,0,SUM($G$66:$P$66))","v":-864},null,{"$f":"IF(Q625=0,0,SUM($G$66:$R$66))","v":-1040},null,{"$f":"IF(S625=0,0,SUM($G$66:$T$66))","v":-1208},null,{"$f":"IF(U625=0,0,SUM($G$66:$V$66))","v":-1392},null,{"$f":"IF(W625=0,0,SUM($G$66:$X$66))","v":-1560},null,{"$f":"IF(Y625=0,0,SUM($G$66:$Z$66))","v":-1736},null,{"$f":"IF(AA625=0,0,SUM($G$66:$AB$66))","v":-1912},null,{"$f":"IF(AC625=0,0,SUM($G$66:$AD$66))","v":-2080}]
[{"$f":"Labels!$B$153","v":"Vacances (contrôle)"},{"$f":"Labels!$B$154","v":"Vacances année passée"},null,null,null,null,{"$f":"IF($AA$4=0,0,$AA$4)","v":0},null,{"$f":"Labels!$B$155","v":"Vacances selon \nart 12.1 CCT"},null,null,null,{"$f":"IF($AA$5=0,0,$AA$5)","v":0},null,{"$f":"Labels!$B$156","v":"Total des vacances"},null,null,null,{"$f":"SUM(G653+M653)","v":0},null,{"$f":"Labels!$B$157","v":"Vacances prises"},null,null,null,{"$f":"IF($AV$4=0,0,$AV$4)","v":0},null,{"$f":"Labels!$B$158","v":"Vacances restantes"},null,null,null,{"$f":"IF(S653=0,0,S653-Y653)","v":0}]
[]
[]
[{"$f":"$A$3","v":"Nom/Prénom"},{"$f":"IF($B$3=\"\",\"\",$B$3)","v":"Modèle Pierre"},null,null,null,null,null,null,null,null,null,null,null,null,null,null,null,null,null,null,null,null,null,null,null,null,null,null,null,null,null,{"$f":"AF3","v":0}]
[{"$f":"$A$4","v":"Emploi %"},{"$f":"$AL$58","v":100},null,{"$f":"Labels!B99","v":"en novembre"}]
[{"$f":"$A$5","v":"Solde année en cours"},null,null,{"$f":"IF($AE$66=0,0,$AE$66)","v":-2080}]
[{"$f":"TEXT(DATE(YEAR(AP29),MONTH(AP29)+10,1),\"MMMM\"&Labels!B13)","v":"novembre"},{"$f":"$B$9","v":"Solde mois + / -"},null,null,null,{"$f":"(AG661-(SUM(AG662:AG676)-AE684))*-1","v":176},null,null,null,null,{"$f":"$K$9","v":" = "},{"$f":"$L$9","v":"Les cases marquées en jaune doivent être remplies (les autres seront calculées automatiquement)"},null,null,null,null,null,null,null,null,null,null,null,null,null,null,null,null,null,null,null,null,{"$f":"COUNT(B662:AF662)&\" \"&Labels!$B$63","v":"22 Jours"}]
[{"$f":"$A$10","v":"Jour"},{"$f":"AF595+1","v":"2023-11-01"},{"$f":"B660+1","v":"2023-11-02"},{"$f":"C660+1","v":"2023-11-03"},"2023-11-04","2023-11-05","2023-11-06","2023-11-07","2023-11-08","2023-11-09","2023-11-10","2023-11-11","2023-11-12","2023-11-13","2023-11-14","2023-11-15","2023-11-16","2023-11-17","2023-11-18","2023-11-19","2023-11-20","2023-11-21","2023-11-22","2023-11-23","2023-11-24","2023-11-25","2023-11-26","2023-11-27","2023-11-28","2023-11-29","2023-11-30"]
[{"$f":"$A$11","v":"semaine civile"},{"$f":"IF(B660=\"\",\"\",TRUNC((B660-DATE(YEAR(B660+3-MOD(B660-2,7)),1,MOD(B660-2,7)-9))/7))","v":44},44,44,44,44,45,45,45,45,45,45,45,46,46,46,46,46,46,46,47,47,47,47,47,47,47,48,48,48,48,"",null,"Woche"]
[{"$f":"$A$12","v":"Théorique sel. CCT"},{"$f":"IF(AND(MOD(B660,7)>=2,SUMPRODUCT(($AM$60:$AQ$60=MOD(B660,7))*$AM$58:$AQ$58),B1079=\"\"),$J$7*SUMPRODUCT(($AM$77:$AQ$77=MOD(B660,7))*$AM$75:$AQ$75)%,\"\")","v":8},{"$f":"IF(AND(MOD(C660,7)>=2,SUMPRODUCT(($AM$60:$AQ$60=MOD(C660,7))*$AM$58:$AQ$58),C1079=\"\"),$J$7*SUMPRODUCT(($AM$77:$AQ$77=MOD(C660,7))*$AM$75:$AQ$75)%,\"\")","v":8},{"$f":"IF(AND(MOD(D660,7)>=2,SUMPRODUCT(($AM$60:$AQ$60=MOD(D660,7))*$AM$58:$AQ$58),D1079=\"\"),$J$7*SUMPRODUCT(($AM$77:$AQ$77=MOD(D660,7))*$AM$75:$AQ$75)%,\"\")","v":8},{"$f":"IF(AND(MOD(E660,7)>=2,SUMPRODUCT(($AM$60:$AQ$60=MOD(E660,7))*$AM$58:$AQ$58),E1079=\"\"),$J$7*SUMPRODUCT(($AM$77:$AQ$77=MOD(E660,7))*$AM$75:$AQ$75)%,\"\")","v":""},{"$f":"IF(AND(MOD(F660,7)>=2,SUMPRODUCT(($AM$60:$AQ$60=MOD(F660,7))*$AM$58:$AQ$58),F1079=\"\"),$J$7*SUMPRODUCT(($AM$77:$AQ$77=MOD(F660,7))*$AM$75:$AQ$75)%,\"\")","v":""},{"$f":"IF(AND(MOD(G660,7)>=2,SUMPRODUCT(($AM$60:$AQ$60=MOD(G660,7))*$AM$58:$AQ$58),G1079=\"\"),$J$7*SUMPRODUCT(($AM$77:$AQ$77=MOD(G660,7))*$AM$75:$AQ$75)%,\"\")","v":8},{"$f":"IF(AND(MOD(H660,7)>=2,SUMPRODUCT(($AM$60:$AQ$60=MOD(H660,7))*$AM$58:$AQ$58),H1079=\"\"),$J$7*SUMPRODUCT(($AM$77:$AQ$77=MOD(H660,7))*$AM$75:$AQ$75)%,\"\")","v":8},{"$f":"IF(AND(MOD(I660,7)>=2,SUMPRODUCT(($AM$60:$AQ$60=MOD(I660,7))*$AM$58:$AQ$58),I1079=\"\"),$J$7*SUMPRODUCT(($AM$77:$AQ$77=MOD(I660,7))*$AM$75:$AQ$75)%,\"\")","v":8},{"$f":"IF(AND(MOD(J660,7)>=2,SUMPRODUCT(($AM$60:$AQ$60=MOD(J660,7))*$AM$58:$AQ$58),J1079=\"\"),$J$7*SUMPRODUCT(($AM$77:$AQ$77=MOD(J660,7))*$AM$75:$AQ$75)%,\"\")","v":8},{"$f":"IF(AND(MOD(K660,7)>=2,SUMPRODUCT(($AM$60:$AQ$60=MOD(K660,7))*$AM$58:$AQ$58),K1079=\"\"),$J$7*SUMPRODUCT(($AM$77:$AQ$77=MOD(K660,7))*$AM$75:$AQ$75)%,\"\")","v":8},{"$f":"IF(AND(MOD(L660,7)>=2,SUMPRODUCT(($AM$60:$AQ$60=MOD(L660,7))*$AM$58:$AQ$58),L1079=\"\"),$J$7*SUMPRODUCT(($AM$77:$AQ$77=MOD(L660,7))*$AM$75:$AQ$75)%,\"\")","v":""},{"$f":"IF(AND(MOD(M660,7)>=2,SUMPRODUCT(($AM$60:$AQ$60=MOD(M660,7))*$AM$58:$AQ$58),M1079=\"\"),$J$7*SUMPRODUCT(($AM$77:$AQ$77=MOD(M660,7))*$AM$75:$AQ$75)%,\"\")","v":""},{"$f":"IF(AND(MOD(N660,7)>=2,SUMPRODUCT(($AM$60:$AQ$60=MOD(N660,7))*$AM$58:$AQ$58),N1079=\"\"),$J$7*SUMPRODUCT(($AM$77:$AQ$77=MOD(N660,7))*$AM$75:$AQ$75)%,\"\")","v":8},{"$f":"IF(AND(MOD(O660,7)>=2,SUMPRODUCT(($AM$60:$AQ$60=MOD(O660,7))*$AM$58:$AQ$58),O1079=\"\"),$J$7*SUMPRODUCT(($AM$77:$AQ$77=MOD(O660,7))*$AM$75:$AQ$75)%,\"\")","v":8},{"$f":"IF(AND(MOD(P660,7)>=2,SUMPRODUCT(($AM$60:$AQ$60=MOD(P660,7))*$AM$58:$AQ$58),P1079=\"\"),$J$7*SUMPRODUCT(($AM$77:$AQ$77=MOD(P660,7))*$AM$75:$AQ$75)%,\"\")","v":8},{"$f":"IF(AND(MOD(Q660,7)>=2,SUMPRODUCT(($AM$60:$AQ$60=MOD(Q660,7))*$AM$58:$AQ$58),Q1079=\"\"),$J$7*SUMPRODUCT(($AM$77:$AQ$77=MOD(Q660,7))*$AM$75:$AQ$75)%,\"\")","v":8},{"$f":"IF(AND(MOD(R660,7)>=2,SUMPRODUCT(($AM$60:$AQ$60=MOD(R660,7))*$AM$58:$AQ$58),R1079=\"\"),$J$7*SUMPRODUCT(($AM$77:$AQ$77=MOD(R660,7))*$AM$75:$AQ$75)%,\"\")","v":8},{"$f":"IF(AND(MOD(S660,7)>=2,SUMPRODUCT(($AM$60:$AQ$60=MOD(S660,7))*$AM$58:$AQ$58),S1079=\"\"),$J$7*SUMPRODUCT(($AM$77:$AQ$77=MOD(S660,7))*$AM$75:$AQ$75)%,\"\")","v":""},{"$f":"IF(AND(MOD(T660,7)>=2,SUMPRODUCT(($AM$60:$AQ$60=MOD(T660,7))*$AM$58:$AQ$58),T1079=\"\"),$J$7*SUMPRODUCT(($AM$77:$AQ$77=MOD(T660,7))*$AM$75:$AQ$75)%,\"\")","v":""},{"$f":"IF(AND(MOD(U660,7)>=2,SUMPRODUCT(($AM$60:$AQ$60=MOD(U660,7))*$AM$58:$AQ$58),U1079=\"\"),$J$7*SUMPRODUCT(($AM$77:$AQ$77=MOD(U660,7))*$AM$75:$AQ$75)%,\"\")","v":8},{"$f":"IF(AND(MOD(V660,7)>=2,SUMPRODUCT(($AM$60:$AQ$60=MOD(V660,7))*$AM$58:$AQ$58),V1079=\"\"),$J$7*SUMPRODUCT(($AM$77:$AQ$77=MOD(V660,7))*$AM$75:$AQ$75)%,\"\")","v":8},{"$f":"IF(AND(MOD(W660,7)>=2,SUMPRODUCT(($AM$60:$AQ$60=MOD(W660,7))*$AM$58:$AQ$58),W1079=\"\"),$J$7*SUMPRODUCT(($AM$77:$AQ$77=MOD(W660,7))*$AM$75:$AQ$75)%,\"\")","v":8},{"$f":"IF(AND(MOD(X660,7)>=2,SUMPRODUCT(($AM$60:$AQ$60=MOD(X660,7))*$AM$58:$AQ$58),X1079=\"\"),$J$7*SUMPRODUCT(($AM$77:$AQ$77=MOD(X660,7))*$AM$75:$AQ$75)%,\"\")","v":8},{"$f":"IF(AND(MOD(Y660,7)>=2,SUMPRODUCT(($AM$60:$AQ$60=MOD(Y660,7))*$AM$58:$AQ$58),Y1079=\"\"),$J$7*SUMPRODUCT(($AM$77:$AQ$77=MOD(Y660,7))*$AM$75:$AQ$75)%,\"\")","v":8},{"$f":"IF(AND(MOD(Z660,7)>=2,SUMPRODUCT(($AM$60:$AQ$60=MOD(Z660,7))*$AM$58:$AQ$58),Z1079=\"\"),$J$7*SUMPRODUCT(($AM$77:$AQ$77=MOD(Z660,7))*$AM$75:$AQ$75)%,\"\")","v":""},{"$f":"IF(AND(MOD(AA660,7)>=2,SUMPRODUCT(($AM$60:$AQ$60=MOD(AA660,7))*$AM$58:$AQ$58),AA1079=\"\"),$J$7*SUMPRODUCT(($AM$77:$AQ$77=MOD(AA660,7))*$AM$75:$AQ$75)%,\"\")","v":""},{"$f":"IF(AND(MOD(AB660,7)>=2,SUMPRODUCT(($AM$60:$AQ$60=MOD(AB660,7))*$AM$58:$AQ$58),AB1079=\"\"),$J$7*SUMPRODUCT(($AM$77:$AQ$77=MOD(AB660,7))*$AM$75:$AQ$75)%,\"\")","v":8},{"$f":"IF(AND(MOD(AC660,7)>=2,SUMPRODUCT(($AM$60:$AQ$60=MOD(AC660,7))*$AM$58:$AQ$58),AC1079=\"\"),$J$7*SUMPRODUCT(($AM$77:$AQ$77=MOD(AC660,7))*$AM$75:$AQ$75)%,\"\")","v":8},{"$f":"IF(AND(MOD(AD660,7)>=2,SUMPRODUCT(($AM$60:$AQ$60=MOD(AD660,7))*$AM$58:$AQ$58),AD1079=\"\"),$J$7*SUMPRODUCT(($AM$77:$AQ$77=MOD(AD660,7))*$AM$75:$AQ$75)%,\"\")","v":8},{"$f":"IF(AND(MOD(AE660,7)>=2,SUMPRODUCT(($AM$60:$AQ$60=MOD(AE660,7))*$AM$58:$AQ$58),AE1079=\"\"),$J$7*SUMPRODUCT(($AM$77:$AQ$77=MOD(AE660,7))*$AM$75:$AQ$75)%,\"\")","v":8},null,{"$f":"SUM(B662:AF662)","v":176},"[00]"]
[{"$f":"$A$13","v":"Absences"},{"$f":"B1095","v":0},{"$f":"C1095","v":0},0,0,0,0,0,0,0,0,0,0,0,0,0,0,0,0,0,0,0,0,0,0,0,0,0,0,0,0,null,{"$f":"SUM($AT$3:$AT$13)","v":0},"[01]"]
[{"$f":"$A$14","v":"Code"},{"$f":"IF(SUM(B1082:B1094)<>0,IF(MAX(B1082:B1094)<B1095,Labels!$B$163,INDEX($AH$1081:$AH$1093,MATCH(MAX(B1082:B1094),B1082:B1094,0))),\"\")","v":""},{"$f":"IF(SUM(C1082:C1094)<>0,IF(MAX(C1082:C1094)<C1095,Labels!$B$163,INDEX($AH$1081:$AH$1093,MATCH(MAX(C1082:C1094),C1082:C1094,0))),\"\")","v":""},{"$f":"IF(SUM(D1082:D1094)<>0,IF(MAX(D1082:D1094)<D1095,Labels!$B$163,INDEX($AH$1081:$AH$1093,MATCH(MAX(D1082:D1094),D1082:D1094,0))),\"\")","v":""},{"$f":"IF(SUM(E1082:E1094)<>0,IF(MAX(E1082:E1094)<E1095,Labels!$B$163,INDEX($AH$1081:$AH$1093,MATCH(MAX(E1082:E1094),E1082:E1094,0))),\"\")","v":""},{"$f":"IF(SUM(F1082:F1094)<>0,IF(MAX(F1082:F1094)<F1095,Labels!$B$163,INDEX($AH$1081:$AH$1093,MATCH(MAX(F1082:F1094),F1082:F1094,0))),\"\")","v":""},{"$f":"IF(SUM(G1082:G1094)<>0,IF(MAX(G1082:G1094)<G1095,Labels!$B$163,INDEX($AH$1081:$AH$1093,MATCH(MAX(G1082:G1094),G1082:G1094,0))),\"\")","v":""},{"$f":"IF(SUM(H1082:H1094)<>0,IF(MAX(H1082:H1094)<H1095,Labels!$B$163,INDEX($AH$1081:$AH$1093,MATCH(MAX(H1082:H1094),H1082:H1094,0))),\"\")","v":""},{"$f":"IF(SUM(I1082:I1094)<>0,IF(MAX(I1082:I1094)<I1095,Labels!$B$163,INDEX($AH$1081:$AH$1093,MATCH(MAX(I1082:I1094),I1082:I1094,0))),\"\")","v":""},{"$f":"IF(SUM(J1082:J1094)<>0,IF(MAX(J1082:J1094)<J1095,Labels!$B$163,INDEX($AH$1081:$AH$1093,MATCH(MAX(J1082:J1094),J1082:J1094,0))),\"\")","v":""},{"$f":"IF(SUM(K1082:K1094)<>0,IF(MAX(K1082:K1094)<K1095,Labels!$B$163,INDEX($AH$1081:$AH$1093,MATCH(MAX(K1082:K1094),K1082:K1094,0))),\"\")","v":""},{"$f":"IF(SUM(L1082:L1094)<>0,IF(MAX(L1082:L1094)<L1095,Labels!$B$163,INDEX($AH$1081:$AH$1093,MATCH(MAX(L1082:L1094),L1082:L1094,0))),\"\")","v":""},{"$f":"IF(SUM(M1082:M1094)<>0,IF(MAX(M1082:M1094)<M1095,Labels!$B$163,INDEX($AH$1081:$AH$1093,MATCH(MAX(M1082:M1094),M1082:M1094,0))),\"\")","v":""},{"$f":"IF(SUM(N1082:N1094)<>0,IF(MAX(N1082:N1094)<N1095,Labels!$B$163,INDEX($AH$1081:$AH$1093,MATCH(MAX(N1082:N1094),N1082:N1094,0))),\"\")","v":""},{"$f":"IF(SUM(O1082:O1094)<>0,IF(MAX(O1082:O1094)<O1095,Labels!$B$163,INDEX($AH$1081:$AH$1093,MATCH(MAX(O1082:O1094),O1082:O1094,0))),\"\")","v":""},{"$f":"IF(SUM(P1082:P1094)<>0,IF(MAX(P1082:P1094)<P1095,Labels!$B$163,INDEX($AH$1081:$AH$1093,MATCH(MAX(P1082:P1094),P1082:P1094,0))),\"\")","v":""},{"$f":"IF(SUM(Q1082:Q1094)<>0,IF(MAX(Q1082:Q1094)<Q1095,Labels!$B$163,INDEX($AH$1081:$AH$1093,MATCH(MAX(Q1082:Q1094),Q1082:Q1094,0))),\"\")","v":""},{"$f":"IF(SUM(R1082:R1094)<>0,IF(MAX(R1082:R1094)<R1095,Labels!$B$163,INDEX($AH$1081:$AH$1093,MATCH(MAX(R1082:R1094),R1082:R1094,0))),\"\")","v":""},{"$f":"IF(SUM(S1082:S1094)<>0,IF(MAX(S1082:S1094)<S1095,Labels!$B$163,INDEX($AH$1081:$AH$1093,MATCH(MAX(S1082:S1094),S1082:S1094,0))),\"\")","v":""},{"$f":"IF(SUM(T1082:T1094)<>0,IF(MAX(T1082:T1094)<T1095,Labels!$B$163,INDEX($AH$1081:$AH$1093,MATCH(MAX(T1082:T1094),T1082:T1094,0))),\"\")","v":""},{"$f":"IF(SUM(U1082:U1094)<>0,IF(MAX(U1082:U1094)<U1095,Labels!$B$163,INDEX($AH$1081:$AH$1093,MATCH(MAX(U1082:U1094),U1082:U1094,0))),\"\")","v":""},{"$f":"IF(SUM(V1082:V1094)<>0,IF(MAX(V1082:V1094)<V1095,Labels!$B$163,INDEX($AH$1081:$AH$1093,MATCH(MAX(V1082:V1094),V1082:V1094,0))),\"\")","v":""},{"$f":"IF(SUM(W1082:W1094)<>0,IF(MAX(W1082:W1094)<W1095,Labels!$B$163,INDEX($AH$1081:$AH$1093,MATCH(MAX(W1082:W1094),W1082:W1094,0))),\"\")","v":""},{"$f":"IF(SUM(X1082:X1094)<>0,IF(MAX(X1082:X1094)<X1095,Labels!$B$163,INDEX($AH$1081:$AH$1093,MATCH(MAX(X1082:X1094),X1082:X1094,0))),\"\")","v":""},{"$f":"IF(SUM(Y1082:Y1094)<>0,IF(MAX(Y1082:Y1094)<Y1095,Labels!$B$163,INDEX($AH$1081:$AH$1093,MATCH(MAX(Y1082:Y1094),Y1082:Y1094,0))),\"\")","v":""},{"$f":"IF(SUM(Z1082:Z1094)<>0,IF(MAX(Z1082:Z1094)<Z1095,Labels!$B$163,INDEX($AH$1081:$AH$1093,MATCH(MAX(Z1082:Z1094),Z1082:Z1094,0))),\"\")","v":""},{"$f":"IF(SUM(AA1082:AA1094)<>0,IF(MAX(AA1082:AA1094)<AA1095,Labels!$B$163,INDEX($AH$1081:$AH$1093,MATCH(MAX(AA1082:AA1094),AA1082:AA1094,0))),\"\")","v":""},{"$f":"IF(SUM(AB1082:AB1094)<>0,IF(MAX(AB1082:AB1094)<AB1095,Labels!$B$163,INDEX($AH$1081:$AH$1093,MATCH(MAX(AB1082:AB1094),AB1082:AB1094,0))),\"\")","v":""},{"$f":"IF(SUM(AC1082:AC1094)<>0,IF(MAX(AC1082:AC1094)<AC1095,Labels!$B$163,INDEX($AH$1081:$AH$1093,MATCH(MAX(AC1082:AC1094),AC1082:AC1094,0))),\"\")","v":""},{"$f":"IF(SUM(AD1082:AD1094)<>0,IF(MAX(AD1082:AD1094)<AD1095,Labels!$B$163,INDEX($AH$1081:$AH$1093,MATCH(MAX(AD1082:AD1094),AD1082:AD1094,0))),\"\")","v":""},{"$f":"IF(SUM(AE1082:AE1094)<>0,IF(MAX(AE1082:AE1094)<AE1095,Labels!$B$163,INDEX($AH$1081:$AH$1093,MATCH(MAX(AE1082:AE1094),AE1082:AE1094,0))),\"\")","v":""},null,{"$f":"$AT$16*-1","v":0},"[02]"]
[{"$f":"$A$15","v":"00h00-06h00 1)"},null,null,null,null,null,null,null,null,null,null,null,null,null,null,null,null,null,null,null,null,null,null,null,null,null,null,null,null,null,null,null,{"$f":"SUM(B665:AF665)","v":0},"[04]"]
[{"$f":"$A$16","v":"06h00-20h00 2)"},null,null,null,null,null,null,null,null,null,null,null,null,null,null,null,null,null,null,null,null,null,null,null,null,null,null,null,null,null,null,null,{"$f":"SUM(B666:AF666)","v":0},"[03]"]
[{"$f":"$A$17","v":"20h00-24h00 3)"},null,null,null,null,null,null,null,null,null,null,null,null,null,null,null,null,null,null,null,null,null,null,null,null,null,null,null,null,null,null,null,{"$f":"SUM(B667:AF667)","v":0},"[05]"]
[{"$f":"$A$18","v":"Jours fériés \"jf\""},{"$f":"IF(WEEKDAY(B660,2)<=6,IF(CALENDRIER!E23=\"x\",Labels!$B$118,\"\"),\"\")","v":""},{"$f":"IF(WEEKDAY(C660,2)<=6,IF(CALENDRIER!F23=\"x\",Labels!$B$118,\"\"),\"\")","v":""},{"$f":"IF(WEEKDAY(D660,2)<=6,IF(CALENDRIER!G23=\"x\",Labels!$B$118,\"\"),\"\")","v":""},{"$f":"IF(WEEKDAY(E660,2)<=6,IF(CALENDRIER!H23=\"x\",Labels!$B$118,\"\"),\"\")","v":""},{"$f":"IF(WEEKDAY(F660,2)<=6,IF(CALENDRIER!I23=\"x\",Labels!$B$118,\"\"),\"\")","v":""},{"$f":"IF(WEEKDAY(G660,2)<=6,IF(CALENDRIER!J23=\"x\",Labels!$B$118,\"\"),\"\")","v":""},{"$f":"IF(WEEKDAY(H660,2)<=6,IF(CALENDRIER!K23=\"x\",Labels!$B$118,\"\"),\"\")","v":""},{"$f":"IF(WEEKDAY(I660,2)<=6,IF(CALENDRIER!L23=\"x\",Labels!$B$118,\"\"),\"\")","v":""},{"$f":"IF(WEEKDAY(J660,2)<=6,IF(CALENDRIER!M23=\"x\",Labels!$B$118,\"\"),\"\")","v":""},{"$f":"IF(WEEKDAY(K660,2)<=6,IF(CALENDRIER!N23=\"x\",Labels!$B$118,\"\"),\"\")","v":""},{"$f":"IF(WEEKDAY(L660,2)<=6,IF(CALENDRIER!O23=\"x\",Labels!$B$118,\"\"),\"\")","v":""},{"$f":"IF(WEEKDAY(M660,2)<=6,IF(CALENDRIER!P23=\"x\",Labels!$B$118,\"\"),\"\")","v":""},{"$f":"IF(WEEKDAY(N660,2)<=6,IF(CALENDRIER!Q23=\"x\",Labels!$B$118,\"\"),\"\")","v":""},{"$f":"IF(WEEKDAY(O660,2)<=6,IF(CALENDRIER!R23=\"x\",Labels!$B$118,\"\"),\"\")","v":""},{"$f":"IF(WEEKDAY(P660,2)<=6,IF(CALENDRIER!S23=\"x\",Labels!$B$118,\"\"),\"\")","v":""},{"$f":"IF(WEEKDAY(Q660,2)<=6,IF(CALENDRIER!T23=\"x\",Labels!$B$118,\"\"),\"\")","v":""},{"$f":"IF(WEEKDAY(R660,2)<=6,IF(CALENDRIER!U23=\"x\",Labels!$B$118,\"\"),\"\")","v":""},{"$f":"IF(WEEKDAY(S660,2)<=6,IF(CALENDRIER!V23=\"x\",Labels!$B$118,\"\"),\"\")","v":""},{"$f":"IF(WEEKDAY(T660,2)<=6,IF(CALENDRIER!W23=\"x\",Labels!$B$118,\"\"),\"\")","v":""},{"$f":"IF(WEEKDAY(U660,2)<=6,IF(CALENDRIER!X23=\"x\",Labels!$B$118,\"\"),\"\")","v":""},{"$f":"IF(WEEKDAY(V660,2)<=6,IF(CALENDRIER!Y23=\"x\",Labels!$B$118,\"\"),\"\")","v":""},{"$f":"IF(WEEKDAY(W660,2)<=6,IF(CALENDRIER!Z23=\"x\",Labels!$B$118,\"\"),\"\")","v":""},{"$f":"IF(WEEKDAY(X660,2)<=6,IF(CALENDRIER!AA23=\"x\",Labels!$B$118,\"\"),\"\")","v":""},{"$f":"IF(WEEKDAY(Y660,2)<=6,IF(CALENDRIER!AB23=\"x\",Labels!$B$118,\"\"),\"\")","v":""},{"$f":"IF(WEEKDAY(Z660,2)<=6,IF(CALENDRIER!AC23=\"x\",Labels!$B$118,\"\"),\"\")","v":""},{"$f":"IF(WEEKDAY(AA660,2)<=6,IF(CALENDRIER!AD23=\"x\",Labels!$B$118,\"\"),\"\")","v":""},{"$f":"IF(WEEKDAY(AB660,2)<=6,IF(CALENDRIER!AE23=\"x\",Labels!$B$118,\"\"),\"\")","v":""},{"$f":"IF(WEEKDAY(AC660,2)<=6,IF(CALENDRIER!AF23=\"x\",Labels!$B$118,\"\"),\"\")","v":""},{"$f":"IF(WEEKDAY(AD660,2)<=6,IF(CALENDRIER!AG23=\"x\",Labels!$B$118,\"\"),\"\")","v":""},{"$f":"IF(WEEKDAY(AE660,2)<=6,IF(CALENDRIER!AH23=\"x\",Labels!$B$118,\"\"),\"\")","v":""},{"$f":"IF(WEEKDAY(AF660,2)<=6,IF(CALENDRIER!AI23=\"x\",Labels!$B$118,\"\"),\"\")","v":""},null,"FT"]
[{"$f":"$A$19","v":"Majoration  \"jf\""},{"$f":"IF(AND(B668=Labels!$B$118,WEEKDAY(B660,2)<6,B$662<>\"\"),$J$7*SUMPRODUCT(($AM$77:$AQ$77=MOD(B660,7))*$AM$75:$AQ$75)%,\"\")","v":""},{"$f":"IF(AND(C668=Labels!$B$118,WEEKDAY(C660,2)<6,C$662<>\"\"),$J$7*SUMPRODUCT(($AM$77:$AQ$77=MOD(C660,7))*$AM$75:$AQ$75)%,\"\")","v":""},{"$f":"IF(AND(D668=Labels!$B$118,WEEKDAY(D660,2)<6,D$662<>\"\"),$J$7*SUMPRODUCT(($AM$77:$AQ$77=MOD(D660,7))*$AM$75:$AQ$75)%,\"\")","v":""},{"$f":"IF(AND(E668=Labels!$B$118,WEEKDAY(E660,2)<6,E$662<>\"\"),$J$7*SUMPRODUCT(($AM$77:$AQ$77=MOD(E660,7))*$AM$75:$AQ$75)%,\"\")","v":""},{"$f":"IF(AND(F668=Labels!$B$118,WEEKDAY(F660,2)<6,F$662<>\"\"),$J$7*SUMPRODUCT(($AM$77:$AQ$77=MOD(F660,7))*$AM$75:$AQ$75)%,\"\")","v":""},{"$f":"IF(AND(G668=Labels!$B$118,WEEKDAY(G660,2)<6,G$662<>\"\"),$J$7*SUMPRODUCT(($AM$77:$AQ$77=MOD(G660,7))*$AM$75:$AQ$75)%,\"\")","v":""},{"$f":"IF(AND(H668=Labels!$B$118,WEEKDAY(H660,2)<6,H$662<>\"\"),$J$7*SUMPRODUCT(($AM$77:$AQ$77=MOD(H660,7))*$AM$75:$AQ$75)%,\"\")","v":""},{"$f":"IF(AND(I668=Labels!$B$118,WEEKDAY(I660,2)<6,I$662<>\"\"),$J$7*SUMPRODUCT(($AM$77:$AQ$77=MOD(I660,7))*$AM$75:$AQ$75)%,\"\")","v":""},{"$f":"IF(AND(J668=Labels!$B$118,WEEKDAY(J660,2)<6,J$662<>\"\"),$J$7*SUMPRODUCT(($AM$77:$AQ$77=MOD(J660,7))*$AM$75:$AQ$75)%,\"\")","v":""},{"$f":"IF(AND(K668=Labels!$B$118,WEEKDAY(K660,2)<6,K$662<>\"\"),$J$7*SUMPRODUCT(($AM$77:$AQ$77=MOD(K660,7))*$AM$75:$AQ$75)%,\"\")","v":""},{"$f":"IF(AND(L668=Labels!$B$118,WEEKDAY(L660,2)<6,L$662<>\"\"),$J$7*SUMPRODUCT(($AM$77:$AQ$77=MOD(L660,7))*$AM$75:$AQ$75)%,\"\")","v":""},{"$f":"IF(AND(M668=Labels!$B$118,WEEKDAY(M660,2)<6,M$662<>\"\"),$J$7*SUMPRODUCT(($AM$77:$AQ$77=MOD(M660,7))*$AM$75:$AQ$75)%,\"\")","v":""},{"$f":"IF(AND(N668=Labels!$B$118,WEEKDAY(N660,2)<6,N$662<>\"\"),$J$7*SUMPRODUCT(($AM$77:$AQ$77=MOD(N660,7))*$AM$75:$AQ$75)%,\"\")","v":""},{"$f":"IF(AND(O668=Labels!$B$118,WEEKDAY(O660,2)<6,O$662<>\"\"),$J$7*SUMPRODUCT(($AM$77:$AQ$77=MOD(O660,7))*$AM$75:$AQ$75)%,\"\")","v":""},{"$f":"IF(AND(P668=Labels!$B$118,WEEKDAY(P660,2)<6,P$662<>\"\"),$J$7*SUMPRODUCT(($AM$77:$AQ$77=MOD(P660,7))*$AM$75:$AQ$75)%,\"\")","v":""},{"$f":"IF(AND(Q668=Labels!$B$118,WEEKDAY(Q660,2)<6,Q$662<>\"\"),$J$7*SUMPRODUCT(($AM$77:$AQ$77=MOD(Q660,7))*$AM$75:$AQ$75)%,\"\")","v":""},{"$f":"IF(AND(R668=Labels!$B$118,WEEKDAY(R660,2)<6,R$662<>\"\"),$J$7*SUMPRODUCT(($AM$77:$AQ$77=MOD(R660,7))*$AM$75:$AQ$75)%,\"\")","v":""},{"$f":"IF(AND(S668=Labels!$B$118,WEEKDAY(S660,2)<6,S$662<>\"\"),$J$7*SUMPRODUCT(($AM$77:$AQ$77=MOD(S660,7))*$AM$75:$AQ$75)%,\"\")","v":""},{"$f":"IF(AND(T668=Labels!$B$118,WEEKDAY(T660,2)<6,T$662<>\"\"),$J$7*SUMPRODUCT(($AM$77:$AQ$77=MOD(T660,7))*$AM$75:$AQ$75)%,\"\")","v":""},{"$f":"IF(AND(U668=Labels!$B$118,WEEKDAY(U660,2)<6,U$662<>\"\"),$J$7*SUMPRODUCT(($AM$77:$AQ$77=MOD(U660,7))*$AM$75:$AQ$75)%,\"\")","v":""},{"$f":"IF(AND(V668=Labels!$B$118,WEEKDAY(V660,2)<6,V$662<>\"\"),$J$7*SUMPRODUCT(($AM$77:$AQ$77=MOD(V660,7))*$AM$75:$AQ$75)%,\"\")","v":""},{"$f":"IF(AND(W668=Labels!$B$118,WEEKDAY(W660,2)<6,W$662<>\"\"),$J$7*SUMPRODUCT(($AM$77:$AQ$77=MOD(W660,7))*$AM$75:$AQ$75)%,\"\")","v":""},{"$f":"IF(AND(X668=Labels!$B$118,WEEKDAY(X660,2)<6,X$662<>\"\"),$J$7*SUMPRODUCT(($AM$77:$AQ$77=MOD(X660,7))*$AM$75:$AQ$75)%,\"\")","v":""},{"$f":"IF(AND(Y668=Labels!$B$118,WEEKDAY(Y660,2)<6,Y$662<>\"\"),$J$7*SUMPRODUCT(($AM$77:$AQ$77=MOD(Y660,7))*$AM$75:$AQ$75)%,\"\")","v":""},{"$f":"IF(AND(Z668=Labels!$B$118,WEEKDAY(Z660,2)<6,Z$662<>\"\"),$J$7*SUMPRODUCT(($AM$77:$AQ$77=MOD(Z660,7))*$AM$75:$AQ$75)%,\"\")","v":""},{"$f":"IF(AND(AA668=Labels!$B$118,WEEKDAY(AA660,2)<6,AA$662<>\"\"),$J$7*SUMPRODUCT(($AM$77:$AQ$77=MOD(AA660,7))*$AM$75:$AQ$75)%,\"\")","v":""},{"$f":"IF(AND(AB668=Labels!$B$118,WEEKDAY(AB660,2)<6,AB$662<>\"\"),$J$7*SUMPRODUCT(($AM$77:$AQ$77=MOD(AB660,7))*$AM$75:$AQ$75)%,\"\")","v":""},{"$f":"IF(AND(AC668=Labels!$B$118,WEEKDAY(AC660,2)<6,AC$662<>\"\"),$J$7*SUMPRODUCT(($AM$77:$AQ$77=MOD(AC660,7))*$AM$75:$AQ$75)%,\"\")","v":""},{"$f":"IF(AND(AD668=Labels!$B$118,WEEKDAY(AD660,2)<6,AD$662<>\"\"),$J$7*SUMPRODUCT(($AM$77:$AQ$77=MOD(AD660,7))*$AM$75:$AQ$75)%,\"\")","v":""},{"$f":"IF(AND(AE668=Labels!$B$118,WEEKDAY(AE660,2)<6,AE$662<>\"\"),$J$7*SUMPRODUCT(($AM$77:$AQ$77=MOD(AE660,7))*$AM$75:$AQ$75)%,\"\")","v":""},{"$f":"IF(AND(AF668=Labels!$B$118,WEEKDAY(AF660,2)<6),$J$7*$B$657%,\"\")","v":""},{"$f":"SUM(B669:AF669)","v":0},"[06]"]
[{"$f":"$A$20","v":"total quotidien"},{"$f":"SUM(B665:B667)","v":0},{"$f":"SUM(C665:C667)","v":0},0,0,0,0,0,0,0,0,0,0,0,0,0,0,0,0,0,0,0,0,0,0,0,0,0,0,0,0,null,null,"TT"]
[{"$f":"$A$21","v":"."},null,null,null,null,null,null,null,null,null,null,null,null,null,null,null,null,null,null,null,null,null,null,null,null,null,null,null,null,null,null,null,null,"R"]
[{"$f":"$A$22","v":"."},null,null,null,null,null,null,null,null,null,null,null,null,null,null,null,null,null,null,null,null,null,null,null,null,null,null,null,null,null,null,null,null,"R"]
[{"$f":"$A$23","v":"transition mois"},{"$f":"IF(WEEKDAY(B660)=1,TEXT(B660-1,\"MMM\"&Labels!B13),\"\")","v":""},null,null,null,null,null,null,null,null,null,null,null,null,null,null,null,null,null,null,null,null,null,null,null,null,null,null,null,null,{"$f":"IF(AND(WEEKDAY(AE660)>1,WEEKDAY(AE660)<7),TEXT(DATE($B$5,MONTH(AE660)+1,1),\"MMM\"&Labels!B13),\"\")","v":"déc."},null,null,"MNT"]
[{"$f":"$A$24","v":"Total hebdomadaire"},{"$f":"IF(WEEKDAY(B660)=7,SUMIF($B596:$AF596,B661,$B605:$AF605)+SUMIF($B661:$AF661,B661,$B670:$AF670)+SUMIF($B726:$AF726,B661,$B735:$AF735),B673)","v":""},{"$f":"IF(WEEKDAY(C660)=7,SUMIF($B596:$AF596,C661,$B605:$AF605)+SUMIF($B661:$AF661,C661,$B670:$AF670)+SUMIF($B726:$AF726,C661,$B735:$AF735),\"\")","v":""},"",0,"","","","","","",0,"","","","","","",0,"","","","","","",0,"","","","",{"$f":"IF(WEEKDAY(AE660)=7,SUMIF($B596:$AF596,AE661,$B605:$AF605)+SUMIF($B661:$AF661,AE661,$B670:$AF670)+SUMIF($B726:$AF726,AE661,$B735:$AF735),AE673)","v":"déc."},null,null,"WT"]
[{"$f":"$A$25","v":"Majorations temp. 1)"},{"$f":"IF(B682=\"FALSCH\",\"\",B682)","v":""},{"$f":"IF(C682=\"FALSCH\",\"\",C682)","v":""},"","","","","","","","","","","","","","","","","","","","","","","","","","","","",null,{"$f":"SUM(B675:AF675)","v":0},"[07]"]
[{"$f":"$A$26","v":"Majorations temp. 2)"},{"$f":"IF((B665+B667)=0,\"\",SUM(B665,B667))","v":""},{"$f":"IF((C665+C667)=0,\"\",SUM(C665,C667))","v":""},"","","","","","","","","","","","","","","","","","","","","","","","","","","","",null,0,"[08]"]
[{"$f":"$A$27","v":"Majorations temp. 3)"},{"$f":"SUM(B678:B681)","v":0},{"$f":"SUM(C678:C681)","v":0},0,0,0,0,0,0,0,0,0,0,0,0,0,0,0,0,0,0,0,0,0,0,0,0,0,0,0,0,null,0,"[09]"]
[{"$f":"$A$28","v":"Dimanche journée"},{"$f":"IF(WEEKDAY(B660)=1,B666,\"\")","v":""},{"$f":"IF(WEEKDAY(C660)=1,C666,\"\")","v":""},"","",0,"","","","","","",0,"","","","","","",0,"","","","","","",0,"","","","",null,0,"[09-ST]"]
[{"$f":"$A$29","v":"Dimanche nuit"},{"$f":"IF(WEEKDAY(B660)=1,SUM(B665+B667),\"\")","v":""},{"$f":"IF(WEEKDAY(C660)=1,SUM(C665+C667),\"\")","v":""},"","",0,"","","","","","",0,"","","","","","",0,"","","","","","",0,"","","","",null,0,"[09-SN]"]
[{"$f":"$A$30","v":"jf-jomajoration"},{"$f":"IF(B668=Labels!$B$118,B666,\"\")","v":""},{"$f":"IF(C668=Labels!$B$118,C666,\"\")","v":""},{"$f":"IF(D668=Labels!$B$118,D666,\"\")","v":""},{"$f":"IF(E668=Labels!$B$118,E666,\"\")","v":""},{"$f":"IF(F668=Labels!$B$118,F666,\"\")","v":""},{"$f":"IF(G668=Labels!$B$118,G666,\"\")","v":""},{"$f":"IF(H668=Labels!$B$118,H666,\"\")","v":""},{"$f":"IF(I668=Labels!$B$118,I666,\"\")","v":""},{"$f":"IF(J668=Labels!$B$118,J666,\"\")","v":""},{"$f":"IF(K668=Labels!$B$118,K666,\"\")","v":""},{"$f":"IF(L668=Labels!$B$118,L666,\"\")","v":""},{"$f":"IF(M668=Labels!$B$118,M666,\"\")","v":""},{"$f":"IF(N668=Labels!$B$118,N666,\"\")","v":""},{"$f":"IF(O668=Labels!$B$118,O666,\"\")","v":""},{"$f":"IF(P668=Labels!$B$118,P666,\"\")","v":""},{"$f":"IF(Q668=Labels!$B$118,Q666,\"\")","v":""},{"$f":"IF(R668=Labels!$B$118,R666,\"\")","v":""},{"$f":"IF(S668=Labels!$B$118,S666,\"\")","v":""},{"$f":"IF(T668=Labels!$B$118,T666,\"\")","v":""},{"$f":"IF(U668=Labels!$B$118,U666,\"\")","v":""},{"$f":"IF(V668=Labels!$B$118,V666,\"\")","v":""},{"$f":"IF(W668=Labels!$B$118,W666,\"\")","v":""},{"$f":"IF(X668=Labels!$B$118,X666,\"\")","v":""},{"$f":"IF(Y668=Labels!$B$118,Y666,\"\")","v":""},{"$f":"IF(Z668=Labels!$B$118,Z666,\"\")","v":""},{"$f":"IF(AA668=Labels!$B$118,AA666,\"\")","v":""},{"$f":"IF(AB668=Labels!$B$118,AB666,\"\")","v":""},{"$f":"IF(AC668=Labels!$B$118,AC666,\"\")","v":""},{"$f":"IF(AD668=Labels!$B$118,AD666,\"\")","v":""},{"$f":"IF(AE668=Labels!$B$118,AE666,\"\")","v":""},null,0,"[09-FT]"]
[{"$f":"$A$31","v":"jf-numajoration"},{"$f":"IF(B668=Labels!$B$118,SUM(B665,B667),\"\")","v":""},{"$f":"IF(C668=Labels!$B$118,SUM(C665,C667),\"\")","v":""},{"$f":"IF(D668=Labels!$B$118,SUM(D665,D667),\"\")","v":""},{"$f":"IF(E668=Labels!$B$118,SUM(E665,E667),\"\")","v":""},{"$f":"IF(F668=Labels!$B$118,SUM(F665,F667),\"\")","v":""},{"$f":"IF(G668=Labels!$B$118,SUM(G665,G667),\"\")","v":""},{"$f":"IF(H668=Labels!$B$118,SUM(H665,H667),\"\")","v":""},{"$f":"IF(I668=Labels!$B$118,SUM(I665,I667),\"\")","v":""},{"$f":"IF(J668=Labels!$B$118,SUM(J665,J667),\"\")","v":""},{"$f":"IF(K668=Labels!$B$118,SUM(K665,K667),\"\")","v":""},{"$f":"IF(L668=Labels!$B$118,SUM(L665,L667),\"\")","v":""},{"$f":"IF(M668=Labels!$B$118,SUM(M665,M667),\"\")","v":""},{"$f":"IF(N668=Labels!$B$118,SUM(N665,N667),\"\")","v":""},{"$f":"IF(O668=Labels!$B$118,SUM(O665,O667),\"\")","v":""},{"$f":"IF(P668=Labels!$B$118,SUM(P665,P667),\"\")","v":""},{"$f":"IF(Q668=Labels!$B$118,SUM(Q665,Q667),\"\")","v":""},{"$f":"IF(R668=Labels!$B$118,SUM(R665,R667),\"\")","v":""},{"$f":"IF(S668=Labels!$B$118,SUM(S665,S667),\"\")","v":""},{"$f":"IF(T668=Labels!$B$118,SUM(T665,T667),\"\")","v":""},{"$f":"IF(U668=Labels!$B$118,SUM(U665,U667),\"\")","v":""},{"$f":"IF(V668=Labels!$B$118,SUM(V665,V667),\"\")","v":""},{"$f":"IF(W668=Labels!$B$118,SUM(W665,W667),\"\")","v":""},{"$f":"IF(X668=Labels!$B$118,SUM(X665,X667),\"\")","v":""},{"$f":"IF(Y668=Labels!$B$118,SUM(Y665,Y667),\"\")","v":""},{"$f":"IF(Z668=Labels!$B$118,SUM(Z665,Z667),\"\")","v":""},{"$f":"IF(AA668=Labels!$B$118,SUM(AA665,AA667),\"\")","v":""},{"$f":"IF(AB668=Labels!$B$118,SUM(AB665,AB667),\"\")","v":""},{"$f":"IF(AC668=Labels!$B$118,SUM(AC665,AC667),\"\")","v":""},{"$f":"IF(AD668=Labels!$B$118,SUM(AD665,AD667),\"\")","v":""},{"$f":"IF(AE668=Labels!$B$118,SUM(AE665,AE667),\"\")","v":""},null,0,"[09-FN]"]
[{"$f":"$A$32","v":"majoration caché (total hebd.)"},{"$f":"IF($B657>=80,IF(OR(ISTEXT(B674),B674=\"\",B674<$B$7),\"\",ROUND(((B674-$B$7)*25%)/25,4)*25),IF(B670>($B$7/5),ROUND(((B670-($B$7/5))*25%)/25,4)*25,\"\"))","v":""},{"$f":"IF($B657>=80,IF(OR(ISTEXT(C674),C674=\"\",C674<$B$7),\"\",ROUND(((C674-$B$7)*25%)/25,4)*25),IF(C670>($B$7/5),ROUND(((C670-($B$7/5))*25%)/25,4)*25,\"\"))","v":""},"","","","","","","","","","","","","","","","","","","","","","","","","","","","",null,{"$f":"AG666","v":0},"[03]"]
[null,{"$f":"$B$33","v":"1)  25% majoration temporelle pour depassement les heures maximales"},null,null,null,null,null,null,null,null,null,{"$f":"$L$33","v":"2) 100% majoration temporelle pour travail de nuit"},null,null,null,null,null,null,null,null,null,null,null,null,null,null,null,null,null,null,null,null,{"$f":"SUM(AG665+AG667)","v":0},"[4-5]"]
[null,{"$f":"$B$34","v":"3) 100% majoration temporelle pour travail du dimanche et jour férié"},null,null,null,null,null,null,null,null,null,null,null,null,null,null,null,null,null,{"$f":"$T$34","v":"Saisie des heures payées exercice en cours (heures supplémentaires)"},null,null,null,null,null,null,null,null,null,null,null,null,{"$f":"SUM(AG665:AG667)","v":0},"[3-5]"]
[{"$f":"$A$35","v":"Notes"},null,null,null,null,null,null,null,null,null,null,null,null,null,null,null,null,null,null,null,null,null,null,null,null,null,null,null,null,null,null,null,{"$f":"SUM(AG663:AG677)","v":0},"[10]"]
[null,null,null,null,null,null,null,null,null,null,null,null,null,null,null,null,null,null,null,null,null,null,null,null,null,null,null,null,null,null,null,null,{"$f":"AG662","v":176},"[00]"]
[{"$f":"IF(AG1079=0,\"\",\"effektives Pensum:  \"&ROUND(COUNT(B662:AF662)/(AG1079+COUNT(B662:AF662))%*B657%*20,0)/20&\" %\")","v":""},null,null,null,null,null,null,null,null,null,null,null,null,null,null,null,null,null,null,null,null,null,null,null,null,null,null,null,null,null,null,null,{"$f":"SUM(AG685-AG686)","v":-176},"[11]"]
[]
[{"$f":"Labels!$B$103","v":"Résumé"},null,null,null,null,null,{"$f":"Labels!$B$77","v":"Jan"},null,{"$f":"Labels!$B$78","v":"Fév"},null,{"$f":"Labels!$B$79","v":"Mar"},null,{"$f":"Labels!$B$80","v":"Avr"},null,{"$f":"Labels!$B$81","v":"Mai"},null,{"$f":"Labels!$B$82","v":"Jun"},null,{"$f":"Labels!$B$83","v":"Jul"},null,{"$f":"Labels!$B$84","v":"Aoû"},null,{"$f":"Labels!$B$85","v":"Sep"},null,{"$f":"Labels!$B$86","v":"Oct"},null,{"$f":"Labels!$B$87","v":"Nov"},null,{"$f":"Labels!$B$88","v":"Déc"},null,{"$f":"Labels!$B$101","v":"Année"}]
[{"$f":"Labels!$B$20","v":"Emploi %"},null,null,null,null,null,{"$f":"IF($B$4=0,0,$B$4)","v":100},null,{"$f":"IF($B$72=0,0,$B$72)","v":100},null,{"$f":"IF($B$137=0,0,$B$137)","v":100},null,{"$f":"IF($B$202=0,0,$B$202)","v":100},null,{"$f":"IF($B$267=0,0,$B$267)","v":100},null,{"$f":"IF($B$332=0,0,$B$332)","v":100},null,{"$f":"IF($B$397=0,0,$B$397)","v":100},null,{"$f":"IF($B$462=0,0,$B$462)","v":100},null,{"$f":"IF($B$527=0,0,$B$527)","v":100},null,{"$f":"IF($B$592=0,0,$B$592)","v":100},null,{"$f":"IF($B$657=0,0,$B$657)","v":100},null,{"$f":"IF($B$722=0,0,$B$722)","v":100}]
[{"$f":"Labels!$B$104","v":"Heures théoriques selon CCT"},null,null,null,null,null,{"$f":"IF($AG$36=0,0,$AG$36)","v":176},null,{"$f":"IF($AG$101=0,0,$AG$101)","v":160},null,{"$f":"IF($AG$142=0,0,$AG$142)","v":184},null,{"$f":"IF($AG$231=0,0,$AG$231)","v":160},null,{"$f":"IF($AG$296=0,0,$AG$296)","v":184},null,{"$f":"IF($AG$361=0,0,$AG$361)","v":176},null,{"$f":"IF($AG$426=0,0,$AG$426)","v":168},null,{"$f":"IF($AG$491=0,0,$AG$491)","v":184},null,{"$f":"IF($AG$556=0,0,$AG$556)","v":168},null,{"$f":"IF($AG$621=0,0,$AG$621)","v":176},null,{"$f":"IF($AG$686=0,0,$AG$686)","v":176},null,{"$f":"IF($AG$751=0,0,$AG$751)","v":168},null,{"$f":"SUM(G691:AD691)","v":2080}]
[{"$f":"Labels!$B$105","v":"Total heures productives"},{"$f":"Labels!$B$106","v":"06.00 - 20.00 h"},null,null,null,null,{"$f":"IF($AG$32=0,0,$AG$32)","v":0},null,{"$f":"IF($AG$96=0,0,$AG$96)","v":0},null,{"$f":"IF($AG$161=0,0,$AG$161)","v":0},null,{"$f":"IF($AG$226=0,0,$AG$226)","v":0},null,{"$f":"IF($AG$291=0,0,$AG$291)","v":0},null,{"$f":"IF($AG$356=0,0,$AG$356)","v":0},null,{"$f":"IF($AG$421=0,0,$AG$421)","v":0},null,{"$f":"IF($AG$486=0,0,$AG$486)","v":0},null,{"$f":"IF($AG$551=0,0,$AG$551)","v":0},null,{"$f":"IF($AG$616=0,0,$AG$616)","v":0},null,{"$f":"IF($AG$681=0,0,$AG$681)","v":0},null,{"$f":"IF($AG$746=0,0,$AG$746)","v":0},null,{"$f":"SUM(G692:AD692)","v":0}]
[null,{"$f":"Labels!$B$107","v":"nuit, dimanche et jour férié"},null,null,null,null,{"$f":"IF($AG$33=0,0,$AG$33)","v":0},null,{"$f":"IF($AG$97=0,0,$AG$97)","v":0},null,{"$f":"IF($AG$162=0,0,$AG$162)","v":0},null,{"$f":"IF($AG$227=0,0,$AG$227)","v":0},null,{"$f":"IF($AG$292=0,0,$AG$292)","v":0},null,{"$f":"IF($AG$357=0,0,$AG$357)","v":0},null,{"$f":"IF($AG$422=0,0,$AG$422)","v":0},null,{"$f":"IF($AG$487=0,0,$AG$487)","v":0},null,{"$f":"IF($AG$552=0,0,$AG$552)","v":0},null,{"$f":"IF($AG$617=0,0,$AG$617)","v":0},null,{"$f":"IF($AG$682=0,0,$AG$682)","v":0},null,{"$f":"IF($AG$747=0,0,$AG$747)","v":0},null,{"$f":"SUM(G693:AD693)","v":0}]
[{"$f":"Labels!$B$108","v":"Majorations temporelles"},{"$f":"Labels!$B$109","v":"depassement des heures maximales"},null,null,null,null,{"$f":"IF($AG$25=0,0,$AG$25)","v":0},null,{"$f":"IF($AG$89=0,0,$AG$89)","v":0},null,{"$f":"IF($AG$154=0,0,$AG$154)","v":0},null,{"$f":"IF($AG$219=0,0,$AG$219)","v":0},null,{"$f":"IF($AG$284=0,0,$AG$284)","v":0},null,{"$f":"IF($AG$349=0,0,$AG$349)","v":0},null,{"$f":"IF($AG$414=0,0,$AG$414)","v":0},null,{"$f":"IF($AG$479=0,0,$AG$479)","v":0},null,{"$f":"IF($AG$544=0,0,$AG$544)","v":0},null,{"$f":"IF($AG$609=0,0,$AG$609)","v":0},null,{"$f":"IF($AG$674=0,0,$AG$674)","v":0},null,{"$f":"IF($AG$739=0,0,$AG$739)","v":0},null,{"$f":"SUM(G694:AD694)","v":0}]
[null,{"$f":"Labels!$B$110","v":"nuit, dimanche et jour férié"},null,null,null,null,{"$f":"IF($AJ$23=0,0,$AJ$23)","v":0},null,{"$f":"IF($AK$23=0,0,$AK$23)","v":0},null,{"$f":"IF($AL$23=0,0,$AL$23)","v":0},null,{"$f":"IF($AM$23=0,0,$AM$23)","v":0},null,{"$f":"IF($AN$23=0,0,$AN$23)","v":0},null,{"$f":"IF($AO$23=0,0,$AO$23)","v":0},null,{"$f":"IF($AP$23=0,0,$AP$23)","v":0},null,{"$f":"IF($AQ$23=0,0,$AQ$23)","v":0},null,{"$f":"IF($AR$23=0,0,$AR$23)","v":0},null,{"$f":"IF($AS$23=0,0,$AS$23)","v":0},null,{"$f":"IF($AT$23=0,0,$AT$23)","v":0},null,{"$f":"IF($AU$23=0,0,$AU$23)","v":0},null,{"$f":"SUM(G695:AD695)","v":0}]
[{"$f":"Labels!$B$111","v":"Heures inproductives"}]
[{"$f":"Labels!$B$112","v":"   Absences art. 11 CCT"},null,null,null,null,{"$f":"Labels!$B$113","v":"ab"},{"$f":"IF($AJ$3=0,0,$AJ$3)","v":0},null,{"$f":"IF($AK$3=0,0,$AK$3)","v":0},null,{"$f":"IF($AL$3=0,0,$AL$3)","v":0},null,{"$f":"IF($AM$3=0,0,$AM$3)","v":0},null,{"$f":"IF($AN$3=0,0,$AN$3)","v":0},null,{"$f":"IF($AO$3=0,0,$AO$3)","v":0},null,{"$f":"IF($AP$3=0,0,$AP$3)","v":0},null,{"$f":"IF($AQ$3=0,0,$AQ$3)","v":0},null,{"$f":"IF($AR$3=0,0,$AR$3)","v":0},null,{"$f":"IF($AS$3=0,0,$AS$3)","v":0},null,{"$f":"IF(AT$3=0,0,$AT$3)","v":0},null,{"$f":"IF($AU$3=0,0,$AU$3)","v":0},null,{"$f":"IF($AV$3=0,0,$AV$3)","v":0}]
[{"$f":"Labels!$B$114","v":"   Vacances art. 12.1 CCT"},null,null,null,null,{"$f":"Labels!$B$115","v":"va"},{"$f":"IF($AJ$4=0,0,$AJ$4)","v":0},null,{"$f":"IF($AK$4=0,0,$AK$4)","v":0},null,{"$f":"IF($AL$4=0,0,$AL$4)","v":0},null,{"$f":"IF($AM$4=0,0,$AM$4)","v":0},null,{"$f":"IF($AN$4=0,0,$AN$4)","v":0},null,{"$f":"IF($AO$4=0,0,$AO$4)","v":0},null,{"$f":"IF($AP$4=0,0,$AP$4)","v":0},null,{"$f":"IF($AQ$4=0,0,$AQ$4)","v":0},null,{"$f":"IF($AR$4=0,0,$AR$4)","v":0},null,{"$f":"IF($AS$4=0,0,$AS$4)","v":0},null,{"$f":"IF($AT$4=0,0,$AT$4)","v":0},null,{"$f":"IF($AU$4=0,0,$AU$4)","v":0},null,{"$f":"IF($AV$4=0,0,$AV$4)","v":0}]
[{"$f":"Labels!$B$181","v":"   vacances non payées"},null,null,null,null,{"$f":"Labels!$B$182","v":"vn"},{"$f":"IF($AJ$13=0,0,$AJ$13)","v":0},null,{"$f":"IF($AK$13=0,0,$AK$13)","v":0},null,{"$f":"IF($AL$13=0,0,$AL$13)","v":0},null,{"$f":"IF($AM$13=0,0,$AM$13)","v":0},null,{"$f":"IF($AN$13=0,0,$AN$13)","v":0},null,{"$f":"IF($AO$13=0,0,$AO$13)","v":0},null,{"$f":"IF($AP$13=0,0,$AP$13)","v":0},null,{"$f":"IF($AQ$13=0,0,$AQ$13)","v":0},null,{"$f":"IF($AR$13=0,0,$AR$13)","v":0},null,{"$f":"IF($AS$13=0,0,$AS$13)","v":0},null,{"$f":"IF($AT$13=0,0,$AT$13)","v":0},null,{"$f":"IF($AU$13=0,0,$AU$13)","v":0},null,{"$f":"IF($AV$13=0,0,$AV$13)","v":0}]
[{"$f":"Labels!$B$116","v":"   Jours fériés art. 12.2 CCT"},null,{"$f":"IF($AJ$20=\"\",\"\",$AJ$20)","v":""},null,null,{"$f":"Labels!$B$118","v":"jf"},{"$f":"IF($AJ$18=0,0,$AJ$18)","v":0},null,{"$f":"IF($AK$18=0,0,$AK$18)","v":0},null,{"$f":"IF($AL$18=0,0,$AL$18)","v":0},null,{"$f":"IF($AM$18=0,0,$AM$18)","v":0},null,{"$f":"IF($AN$18=0,0,$AN$18)","v":0},null,{"$f":"IF($AO$18=0,0,$AO$18)","v":0},null,{"$f":"IF($AP$18=0,0,$AP$18)","v":0},null,{"$f":"IF($AQ$18=0,0,$AQ$18)","v":0},null,{"$f":"IF($AR$18=0,0,$AR$18)","v":0},null,{"$f":"IF($AS$18=0,0,$AS$18)","v":0},null,{"$f":"IF($AT$18=0,0,$AT$18)","v":0},null,{"$f":"IF($AU$18=0,0,$AU$18)","v":0},null,{"$f":"IF($AV$18=0,0,$AV$18)","v":0}]
[{"$f":"Labels!$B$119","v":"   Maladie art. 13 CCT"},null,null,null,null,{"$f":"Labels!$B$120","v":"ma"},{"$f":"IF($AJ$5=0,0,$AJ$5)","v":0},null,{"$f":"IF($AK$5=0,0,$AK$5)","v":0},null,{"$f":"IF($AL$5=0,0,$AL$5)","v":0},null,{"$f":"IF($AM$5=0,0,$AM$5)","v":0},null,{"$f":"IF($AN$5=0,0,$AN$5)","v":0},null,{"$f":"IF($AO$5=0,0,$AO$5)","v":0},null,{"$f":"IF($AP$5=0,0,$AP$5)","v":0},null,{"$f":"IF($AQ$5=0,0,$AQ$5)","v":0},null,{"$f":"IF($AR$5=0,0,$AR$5)","v":0},null,{"$f":"IF($AS$5=0,0,$AS$5)","v":0},null,{"$f":"IF($AT$5=0,0,$AT$5)","v":0},null,{"$f":"IF($AU$5=0,0,$AU$5)","v":0},null,{"$f":"IF($AV$5=0,0,$AV$5)","v":0}]
[{"$f":"Labels!$B$184","v":"non payeé"},null,null,null,null,null,{"$f":"IF(AJ$16=0,0,AJ$16)","v":0},null,{"$f":"IF($AK$16=0,0,$AK$16)","v":0},null,{"$f":"IF($AL$16=0,0,$AL$16)","v":0},null,{"$f":"IF($AM$16=0,0,$AM$16)","v":0},null,{"$f":"IF($AN$16=0,0,$AN$16)","v":0},null,{"$f":"IF($AO$16=0,0,$AO$16)","v":0},null,{"$f":"IF($AP$16=0,0,$AP$16)","v":0},null,{"$f":"IF($AQ$16=0,0,$AQ$16)","v":0},null,{"$f":"IF($AR$16=0,0,$AR$16)","v":0},null,{"$f":"IF($AS$16=0,0,$AS$16)","v":0},null,{"$f":"IF($AT$16=0,0,$AT$16)","v":0},null,{"$f":"IF($AU$16=0,0,$AU$16)","v":0},null,{"$f":"IF($AV$16=0,0,$AV$16)","v":0}]
[{"$f":"Labels!$B$121","v":"   Accident art. 14 CCT"},null,null,null,null,{"$f":"Labels!$B$122","v":"ac"},{"$f":"IF($AJ$6=0,0,$AJ$6)","v":0},null,{"$f":"IF($AK$6=0,0,$AK$6)","v":0},null,{"$f":"IF($AL$6=0,0,$AL$6)","v":0},null,{"$f":"IF($AM$6=0,0,$AM$6)","v":0},null,{"$f":"IF($AN$6=0,0,$AN$6)","v":0},null,{"$f":"IF($AO$6=0,0,$AO$6)","v":0},null,{"$f":"IF($AP$6=0,0,$AP$6)","v":0},null,{"$f":"IF($AQ$6=0,0,$AQ$6)","v":0},null,{"$f":"IF($AR$6=0,0,$AR$6)","v":0},null,{"$f":"IF($AS$6=0,0,$AS$6)","v":0},null,{"$f":"IF($AT$6=0,0,$AT$6)","v":0},null,{"$f":"IF($AU$6=0,0,$AU$6)","v":0},null,{"$f":"IF($AV$6=0,0,$AV$6)","v":0}]
[{"$f":"Labels!$B$123","v":"   Grossesse/Maternité art. 15 CCT"},null,null,null,null,{"$f":"Labels!$B$124","v":"gm"},{"$f":"IF($AJ$7=0,0,$AJ$7)","v":0},null,{"$f":"IF($AK$7=0,0,$AK$7)","v":0},null,{"$f":"IF($AL$7=0,0,$AL$7)","v":0},null,{"$f":"IF($AM$7=0,0,$AM$7)","v":0},null,{"$f":"IF($AN$7=0,0,$AN$7)","v":0},null,{"$f":"IF($AO$7=0,0,$AO$7)","v":0},null,{"$f":"IF($AP$7=0,0,$AP$7)","v":0},null,{"$f":"IF($AQ$7=0,0,$AQ$7)","v":0},null,{"$f":"IF($AR$7=0,0,$AR$7)","v":0},null,{"$f":"IF($AS$7=0,0,$AS$7)","v":0},null,{"$f":"IF($AT$7=0,0,$AT$7)","v":0},null,{"$f":"IF($AU$7=0,0,$AU$7)","v":0},null,{"$f":"IF($AV$7=0,0,$AV$7)","v":0}]
[{"$f":"Labels!$B$125","v":"   Militaire/Promotion/Protection civile art. 16 CCT"},null,null,null,null,{"$f":"Labels!$B$126","v":"mi"},{"$f":"IF($AJ$8=0,0,$AJ$8)","v":0},null,{"$f":"IF($AK$8=0,0,$AK$8)","v":0},null,{"$f":"IF($AL$8=0,0,$AL$8)","v":0},null,{"$f":"IF($AM$8=0,0,$AM$8)","v":0},null,{"$f":"IF($AN$8=0,0,$AN$8)","v":0},null,{"$f":"IF($AO$8=0,0,$AO$8)","v":0},null,{"$f":"IF($AP$8=0,0,$AP$8)","v":0},null,{"$f":"IF($AQ$8=0,0,$AQ$8)","v":0},null,{"$f":"IF($AR$8=0,0,$AR$8)","v":0},null,{"$f":"IF($AS$8=0,0,$AS$8)","v":0},null,{"$f":"IF($AT$8=0,0,$AT$8)","v":0},null,{"$f":"IF($AU$8=0,0,$AU$8)","v":0},null,{"$f":"IF($AV$8=0,0,$AV$8)","v":0}]
[{"$f":"Labels!$B$127","v":"   Chômage partiel et perte de travail cause d'intempéries"},null,null,null,null,{"$f":"Labels!$B$128","v":"ch"},{"$f":"IF($AJ$11=0,0,$AJ$11)","v":0},null,{"$f":"IF($AK$11=0,0,$AK$11)","v":0},null,{"$f":"IF($AL$11=0,0,$AL$11)","v":0},null,{"$f":"IF($AM$11=0,0,$AM$11)","v":0},null,{"$f":"IF($AN$11=0,0,$AN$11)","v":0},null,{"$f":"IF($AO$11=0,0,$AO$11)","v":0},null,{"$f":"IF($AP$11=0,0,$AP$11)","v":0},null,{"$f":"IF($AQ$11=0,0,$AQ$11)","v":0},null,{"$f":"IF($AR$11=0,0,$AR$11)","v":0},null,{"$f":"IF($AS$11=0,0,$AS$11)","v":0},null,{"$f":"IF($AT$11=0,0,$AT$11)","v":0},null,{"$f":"IF($AU$11=0,0,$AU$11)","v":0},null,{"$f":"IF($AV$11=0,0,$AV$11)","v":0}]
[{"$f":"Labels!$B$129","v":"   Ecole professionnelle"},null,null,null,null,{"$f":"Labels!$B$130","v":"ep"},{"$f":"IF($AJ$9=0,0,$AJ$9)","v":0},null,{"$f":"IF($AK$9=0,0,$AK$9)","v":0},null,{"$f":"IF($AL$9=0,0,$AL$9)","v":0},null,{"$f":"IF($AM$9=0,0,$AM$9)","v":0},null,{"$f":"IF($AN$9=0,0,$AN$9)","v":0},null,{"$f":"IF($AO$9=0,0,$AO$9)","v":0},null,{"$f":"IF($AP$9=0,0,$AP$9)","v":0},null,{"$f":"IF($AQ$9=0,0,$AQ$9)","v":0},null,{"$f":"IF($AR$9=0,0,$AR$9)","v":0},null,{"$f":"IF($AS$9=0,0,$AS$9)","v":0},null,{"$f":"IF($AT$9=0,0,$AT$9)","v":0},null,{"$f":"IF($AU$9=0,0,$AU$9)","v":0},null,{"$f":"IF($AV$9=0,0,$AV$9)","v":0}]
[{"$f":"Labels!$B$131","v":"   Cours"},null,null,null,null,{"$f":"Labels!$B$132","v":"co"},{"$f":"IF($AJ$10=0,0,$AJ$10)","v":0},null,{"$f":"IF($AK$10=0,0,$AK$10)","v":0},null,{"$f":"IF($AL$10=0,0,$AL$10)","v":0},null,{"$f":"IF($AM$10=0,0,$AM$10)","v":0},null,{"$f":"IF($AN$10=0,0,$AN$10)","v":0},null,{"$f":"IF($AO$10=0,0,$AO$10)","v":0},null,{"$f":"IF($AP$10=0,0,$AP$10)","v":0},null,{"$f":"IF($AQ$10=0,0,$AQ$10)","v":0},null,{"$f":"IF($AR$10=0,0,$AR$10)","v":0},null,{"$f":"IF($AS$10=0,0,$AS$10)","v":0},null,{"$f":"IF($AT$10=0,0,$AT$10)","v":0},null,{"$f":"IF($AU$10=0,0,$AU$10)","v":0},null,{"$f":"IF($AV$10=0,0,$AV$10)","v":0}]
[{"$f":"Labels!$B$133","v":"Heures de compensation"},{"$f":"Labels!$B$134","v":"de l'année passée"},null,null,null,{"$f":"Labels!$B$135","v":"cp"},{"$f":"IF($AJ$12=0,0,$AJ$12)","v":0},null,{"$f":"IF($AK$12=0,0,$AK$12)","v":0},null,{"$f":"IF($AL$12=0,0,$AL$12)","v":0},null,{"$f":"IF($AM$12=0,0,$AM$12)","v":0},null,{"$f":"IF($AN$12=0,0,$AN$12)","v":0},null,{"$f":"IF($AO$12=0,0,$AO$12)","v":0},null,{"$f":"IF($AP$12=0,0,$AP$12)","v":0},null,{"$f":"IF($AQ$12=0,0,$AQ$12)","v":0},null,{"$f":"IF($AR$12=0,0,$AR$12)","v":0},null,null,null,null,null,null,null,{"$f":"IF($AV$12=0,0,$AV$12)","v":0}]
[null,{"$f":"Labels!$B$136","v":"de l'année en cours (contrôle)"},null,null,null,{"$f":"Labels!$B$137","v":"cc"},{"$f":"IF($AJ$15=0,0,$AJ$15)","v":0},null,{"$f":"IF($AK$15=0,0,$AK$15)","v":0},null,{"$f":"IF($AL$15=0,0,$AL$15)","v":0},null,{"$f":"IF($AM$15=0,0,$AM$15)","v":0},null,{"$f":"IF($AN$15=0,0,$AN$15)","v":0},null,{"$f":"IF($AO$15=0,0,$AO$15)","v":0},null,{"$f":"IF($AP$15=0,0,$AP$15)","v":0},null,{"$f":"IF($AQ$15=0,0,$AQ$15)","v":0},null,{"$f":"IF($AR$15=0,0,$AR$15)","v":0},null,{"$f":"IF($AS$15=0,0,$AS$15)","v":0},null,{"$f":"IF($AT$15=0,0,$AT$15)","v":0},null,{"$f":"IF($AU$15=0,0,$AU$15)","v":0},null,{"$f":"IF($AV$15=0,0,$AV$15)","v":0}]
[{"$f":"Labels!$B$138","v":"Paiement des heures"},{"$f":"Labels!$B$139","v":"de l'année passée"},null,null,null,null,{"$f":"IF($AJ$21=0,0,$AJ$21)","v":0},null,{"$f":"IF($AK$21=0,0,$AK$21)","v":0},null,{"$f":"IF($AL$21=0,0,$AL$21)","v":0},null,{"$f":"IF($AM$21=0,0,$AM$21)","v":0},null,{"$f":"IF($AN$21=0,0,$AN$21)","v":0},null,{"$f":"IF($AO$21=0,0,$AO$21)","v":0},null,{"$f":"IF($AP$21=0,0,$AP$21)","v":0},null,{"$f":"IF($AQ$21=0,0,$AQ$21)","v":0},null,{"$f":"IF($AR$21=0,0,$AR$21)","v":0},null,null,null,null,null,null,null,{"$f":"IF($AV$21=0,0,$AV$21)","v":0}]
[{"$f":"Labels!$B$140","v":"Différence en heures"},{"$f":"Labels!$B$141","v":"après compensation et paiement"},null,null,null,null,{"$f":"IF(ROUND($P$4,3)=0,0,$P$4-G709-G711)","v":0},null,{"$f":"IF(ROUND(G712,3)=0,0,G712-(SUM(I709+I711)))","v":0},null,{"$f":"IF(ROUND(I712,3)=0,0,I712-K711-K709)","v":0},null,{"$f":"IF(ROUND(K712,3)=0,0,K712-(SUM(M711+M709)))","v":0},null,{"$f":"IF(ROUND(M712,3)=0,0,M712-(SUM(O711+O709)))","v":0},null,{"$f":"IF(ROUND(O712,3)=0,0,O712-(SUM(Q711+Q709)))","v":0},null,{"$f":"IF(ROUND(Q712,3)=0,0,Q712-(SUM(S711+S709)))","v":0},null,{"$f":"IF(ROUND(S712,3)=0,0,S712-(SUM(U711+U709)))","v":0},null,{"$f":"IF(ROUND(U712,3)=0,0,U712-(SUM(W711+W709)))","v":0},null,{"$f":"IF($W$62<0.1,\"\",AY694)","v":""}]
[{"$f":"Labels!$B$138","v":"Paiement des heures"},{"$f":"Labels!$B$142","v":"de l'année en cours"},null,null,null,null,{"$f":"IF($AJ$22=0,0,$AJ$22)","v":0},null,{"$f":"IF($AK$22=0,0,$AK$22)","v":0},null,{"$f":"IF($AL$22=0,0,$AL$22)","v":0},null,{"$f":"IF($AM$22=0,0,$AM$22)","v":0},null,{"$f":"IF($AN$22=0,0,$AN$22)","v":0},null,{"$f":"IF($AO$22=0,0,$AO$22)","v":0},null,{"$f":"IF($AP$22=0,0,$AP$22)","v":0},null,{"$f":"IF($AQ$22=0,0,$AQ$22)","v":0},null,{"$f":"IF($AR$22=0,0,$AR$22)","v":0},null,{"$f":"IF($AS$22=0,0,$AS$22)","v":0},null,{"$f":"IF($AT$22=0,0,$AT$22)","v":0},null,{"$f":"IF($AU$22=0,0,$AU$22)","v":0},null,{"$f":"IF($AV$22=0,0,$AV$22)","v":0}]
[{"$f":"Labels!$B$143","v":"Heures manquantes"},{"$f":"Labels!$B$144","v":"de l'année en cours (contrôle)"},null,null,null,{"$f":"Labels!$B$145","v":"hm"},{"$f":"IF($AJ$14=0,0,$AJ$14)","v":0},null,{"$f":"IF($AK$14=0,0,$AK$14)","v":0},null,{"$f":"IF($AL$14=0,0,$AL$14)","v":0},null,{"$f":"IF($AM$14=0,0,$AM$14)","v":0},null,{"$f":"IF($AN$14=0,0,$AN$14)","v":0},null,{"$f":"IF($AO$14=0,0,$AO$14)","v":0},null,{"$f":"IF($AP$14=0,0,$AP$14)","v":0},null,{"$f":"IF($AQ$14=0,0,$AQ$14)","v":0},null,{"$f":"IF($AR$14=0,0,$AR$14)","v":0},null,{"$f":"IF($AS$14=0,0,$AS$14)","v":0},null,{"$f":"IF($AT$14=0,0,$AT$14)","v":0},null,{"$f":"IF($AU$14=0,0,$AU$14)","v":0},null,{"$f":"IF($AV$14=0,0,$AV$14)","v":0}]
[{"$f":"Labels!$B$146","v":"Total (majorations inclus)"},{"$f":"Labels!$B$147","v":"heures productives et inproductives"},null,null,null,null,{"$f":"IF($AG$35=0,0,$AG$35)","v":0},null,{"$f":"IF($AG$100=0,0,$AG$100)","v":0},null,{"$f":"IF($AG$165=0,0,$AG$165)","v":0},null,{"$f":"IF($AG$230=0,0,$AG$230)","v":0},null,{"$f":"IF($AG$295=0,0,$AG$295)","v":0},null,{"$f":"IF($AG$360=0,0,$AG$360)","v":0},null,{"$f":"IF($AG$425=0,0,$AG$425)","v":0},null,{"$f":"IF($AG$490=0,0,$AG$490)","v":0},null,{"$f":"IF($AG$555=0,0,$AG$555)","v":0},null,{"$f":"IF($AG$620=0,0,$AG$620)","v":0},null,{"$f":"IF($AG$685=0,0,$AG$685)","v":0},null,{"$f":"IF($AG$750=0,0,$AG$750)","v":0},null,{"$f":"SUM($G$65:$AD$65)","v":0}]
[{"$f":"Labels!$B$148","v":"Comparaison des heures"},{"$f":"Labels!$B$149","v":"aux heures théorique CCT (heures \nmanquantes de l'année passée incl.)"},null,null,null,null,{"$f":"IF($AG$37=0,0,$AG$37)-$AE$34+$P$5","v":-176},null,{"$f":"IF($AG$102=0,0,$AG$102)-$AE$99","v":-160},null,{"$f":"IF($AG$167=0,0,$AG$167)-$AE$164","v":-184},null,{"$f":"IF($AG$232=0,0,$AG$232)-$AE$229","v":-160},null,{"$f":"IF($AG$297=0,0,$AG$297)-$AE$294","v":-184},null,{"$f":"IF($AG$362=0,0,$AG$362)-$AE$359","v":-176},null,{"$f":"IF($AG$427=0,0,$AG$427)-$AE$424","v":-168},null,{"$f":"IF($AG$492=0,0,$AG$492)-$AE$489","v":-184},null,{"$f":"IF($AG$557=0,0,$AG$557)-$AE$554","v":-168},null,{"$f":"IF($AG$622=0,0,$AG$622)-$AE$619","v":-176},null,{"$f":"IF($AG$687=0,0,$AG$687)-$AE$684","v":-176},null,{"$f":"IF($AG$752=0,0,$AG$752)-$AE$749","v":-168},null,{"$f":"SUM($G$66:$AD$66)","v":-2080}]
[null,{"$f":"Labels!$B$151","v":"aux heures théorique (cumulées)"},null,null,null,null,{"$f":"IF(G690=0,0,$G$66)","v":-176},null,{"$f":"IF(I690=0,0,SUM($G$66:$J$66))","v":-336},null,{"$f":"IF(K690=0,0,SUM($G$66:$L$66))","v":-520},null,{"$f":"IF(M690=0,0,SUM($G$66:$N$66))","v":-680},null,{"$f":"IF(O690=0,0,SUM($G$66:$P$66))","v":-864},null,{"$f":"IF(Q690=0,0,SUM($G$66:$R$66))","v":-1040},null,{"$f":"IF(S690=0,0,SUM($G$66:$T$66))","v":-1208},null,{"$f":"IF(U690=0,0,SUM($G$66:$V$66))","v":-1392},null,{"$f":"IF(W690=0,0,SUM($G$66:$X$66))","v":-1560},null,{"$f":"IF(Y690=0,0,SUM($G$66:$Z$66))","v":-1736},null,{"$f":"IF(AA690=0,0,SUM($G$66:$AB$66))","v":-1912},null,{"$f":"IF(AC690=0,0,SUM($G$66:$AD$66))","v":-2080}]
[{"$f":"Labels!$B$153","v":"Vacances (contrôle)"},{"$f":"Labels!$B$154","v":"Vacances année passée"},null,null,null,null,{"$f":"IF($AA$4=0,0,$AA$4)","v":0},null,{"$f":"Labels!$B$155","v":"Vacances selon \nart 12.1 CCT"},null,null,null,{"$f":"IF($AA$5=0,0,$AA$5)","v":0},null,{"$f":"Labels!$B$156","v":"Total des vacances"},null,null,null,{"$f":"SUM(G718+M718)","v":0},null,{"$f":"Labels!$B$157","v":"Vacances prises"},null,null,null,{"$f":"IF($AV$4=0,0,$AV$4)","v":0},null,{"$f":"Labels!$B$158","v":"Vacances restantes"},null,null,null,{"$f":"IF(S718=0,0,S718-Y718)","v":0}]
[]
[]
[{"$f":"$A$3","v":"Nom/Prénom"},{"$f":"IF($B$3=\"\",\"\",$B$3)","v":"Modèle Pierre"},null,null,null,null,null,null,null,null,null,null,null,null,null,null,null,null,null,null,null,null,null,null,null,null,null,null,null,null,null,{"$f":"AF3","v":0}]
[{"$f":"$A$4","v":"Emploi %"},{"$f":"$AL$59","v":100},null,{"$f":"Labels!B100","v":"en décembre"}]
[{"$f":"$A$5","v":"Solde année en cours"},null,null,{"$f":"IF($AE$66=0,0,$AE$66)","v":-2080}]
[{"$f":"TEXT(DATE(YEAR(AP29),MONTH(AP29)+11,1),\"MMMM\"&Labels!B13)","v":"décembre"},{"$f":"$B$9","v":"Solde mois + / -"},null,null,null,{"$f":"(AG726-(SUM(AG727:AG741)-AE749))*-1","v":168},null,null,null,null,{"$f":"$K$9","v":" = "},{"$f":"$L$9","v":"Les cases marquées en jaune doivent être remplies (les autres seront calculées automatiquement)"},null,null,null,null,null,null,null,null,null,null,null,null,null,null,null,null,null,null,null,null,{"$f":"COUNT(B727:AF727)&\" \"&Labels!$B$63","v":"21 Jours"}]
[{"$f":"$A$10","v":"Jour"},{"$f":"AE660+1","v":"2023-12-01"},{"$f":"B725+1","v":"2023-12-02"},{"$f":"C725+1","v":"2023-12-03"},"2023-12-04","2023-12-05","2023-12-06","2023-12-07","2023-12-08","2023-12-09","2023-12-10","2023-12-11","2023-12-12","2023-12-13","2023-12-14","2023-12-15","2023-12-16","2023-12-17","2023-12-18","2023-12-19","2023-12-20","2023-12-21","2023-12-22","2023-12-23","2023-12-24","2023-12-25","2023-12-26","2023-12-27","2023-12-28","2023-12-29","2023-12-30","2023-12-31"]
[{"$f":"$A$11","v":"semaine civile"},{"$f":"IF(B725=\"\",\"\",TRUNC((B725-DATE(YEAR(B725+3-MOD(B725-2,7)),1,MOD(B725-2,7)-9))/7))","v":48},48,48,49,49,49,49,49,49,49,50,50,50,50,50,50,50,51,51,51,51,51,51,51,52,52,52,52,52,52,52,null,"Woche"]
[{"$f":"$A$12","v":"Théorique sel. CCT"},{"$f":"IF(AND(MOD(B725,7)>=2,SUMPRODUCT(($AM$60:$AQ$60=MOD(B725,7))*$AM$59:$AQ$59),B1104=\"\"),$J$7*SUMPRODUCT(($AM$77:$AQ$77=MOD(B725,7))*$AM$76:$AQ$76)%,\"\")","v":8},{"$f":"IF(AND(MOD(C725,7)>=2,SUMPRODUCT(($AM$60:$AQ$60=MOD(C725,7))*$AM$59:$AQ$59),C1104=\"\"),$J$7*SUMPRODUCT(($AM$77:$AQ$77=MOD(C725,7))*$AM$76:$AQ$76)%,\"\")","v":""},{"$f":"IF(AND(MOD(D725,7)>=2,SUMPRODUCT(($AM$60:$AQ$60=MOD(D725,7))*$AM$59:$AQ$59),D1104=\"\"),$J$7*SUMPRODUCT(($AM$77:$AQ$77=MOD(D725,7))*$AM$76:$AQ$76)%,\"\")","v":""},{"$f":"IF(AND(MOD(E725,7)>=2,SUMPRODUCT(($AM$60:$AQ$60=MOD(E725,7))*$AM$59:$AQ$59),E1104=\"\"),$J$7*SUMPRODUCT(($AM$77:$AQ$77=MOD(E725,7))*$AM$76:$AQ$76)%,\"\")","v":8},{"$f":"IF(AND(MOD(F725,7)>=2,SUMPRODUCT(($AM$60:$AQ$60=MOD(F725,7))*$AM$59:$AQ$59),F1104=\"\"),$J$7*SUMPRODUCT(($AM$77:$AQ$77=MOD(F725,7))*$AM$76:$AQ$76)%,\"\")","v":8},{"$f":"IF(AND(MOD(G725,7)>=2,SUMPRODUCT(($AM$60:$AQ$60=MOD(G725,7))*$AM$59:$AQ$59),G1104=\"\"),$J$7*SUMPRODUCT(($AM$77:$AQ$77=MOD(G725,7))*$AM$76:$AQ$76)%,\"\")","v":8},{"$f":"IF(AND(MOD(H725,7)>=2,SUMPRODUCT(($AM$60:$AQ$60=MOD(H725,7))*$AM$59:$AQ$59),H1104=\"\"),$J$7*SUMPRODUCT(($AM$77:$AQ$77=MOD(H725,7))*$AM$76:$AQ$76)%,\"\")","v":8},{"$f":"IF(AND(MOD(I725,7)>=2,SUMPRODUCT(($AM$60:$AQ$60=MOD(I725,7))*$AM$59:$AQ$59),I1104=\"\"),$J$7*SUMPRODUCT(($AM$77:$AQ$77=MOD(I725,7))*$AM$76:$AQ$76)%,\"\")","v":8},{"$f":"IF(AND(MOD(J725,7)>=2,SUMPRODUCT(($AM$60:$AQ$60=MOD(J725,7))*$AM$59:$AQ$59),J1104=\"\"),$J$7*SUMPRODUCT(($AM$77:$AQ$77=MOD(J725,7))*$AM$76:$AQ$76)%,\"\")","v":""},{"$f":"IF(AND(MOD(K725,7)>=2,SUMPRODUCT(($AM$60:$AQ$60=MOD(K725,7))*$AM$59:$AQ$59),K1104=\"\"),$J$7*SUMPRODUCT(($AM$77:$AQ$77=MOD(K725,7))*$AM$76:$AQ$76)%,\"\")","v":""},{"$f":"IF(AND(MOD(L725,7)>=2,SUMPRODUCT(($AM$60:$AQ$60=MOD(L725,7))*$AM$59:$AQ$59),L1104=\"\"),$J$7*SUMPRODUCT(($AM$77:$AQ$77=MOD(L725,7))*$AM$76:$AQ$76)%,\"\")","v":8},{"$f":"IF(AND(MOD(M725,7)>=2,SUMPRODUCT(($AM$60:$AQ$60=MOD(M725,7))*$AM$59:$AQ$59),M1104=\"\"),$J$7*SUMPRODUCT(($AM$77:$AQ$77=MOD(M725,7))*$AM$76:$AQ$76)%,\"\")","v":8},{"$f":"IF(AND(MOD(N725,7)>=2,SUMPRODUCT(($AM$60:$AQ$60=MOD(N725,7))*$AM$59:$AQ$59),N1104=\"\"),$J$7*SUMPRODUCT(($AM$77:$AQ$77=MOD(N725,7))*$AM$76:$AQ$76)%,\"\")","v":8},{"$f":"IF(AND(MOD(O725,7)>=2,SUMPRODUCT(($AM$60:$AQ$60=MOD(O725,7))*$AM$59:$AQ$59),O1104=\"\"),$J$7*SUMPRODUCT(($AM$77:$AQ$77=MOD(O725,7))*$AM$76:$AQ$76)%,\"\")","v":8},{"$f":"IF(AND(MOD(P725,7)>=2,SUMPRODUCT(($AM$60:$AQ$60=MOD(P725,7))*$AM$59:$AQ$59),P1104=\"\"),$J$7*SUMPRODUCT(($AM$77:$AQ$77=MOD(P725,7))*$AM$76:$AQ$76)%,\"\")","v":8},{"$f":"IF(AND(MOD(Q725,7)>=2,SUMPRODUCT(($AM$60:$AQ$60=MOD(Q725,7))*$AM$59:$AQ$59),Q1104=\"\"),$J$7*SUMPRODUCT(($AM$77:$AQ$77=MOD(Q725,7))*$AM$76:$AQ$76)%,\"\")","v":""},{"$f":"IF(AND(MOD(R725,7)>=2,SUMPRODUCT(($AM$60:$AQ$60=MOD(R725,7))*$AM$59:$AQ$59),R1104=\"\"),$J$7*SUMPRODUCT(($AM$77:$AQ$77=MOD(R725,7))*$AM$76:$AQ$76)%,\"\")","v":""},{"$f":"IF(AND(MOD(S725,7)>=2,SUMPRODUCT(($AM$60:$AQ$60=MOD(S725,7))*$AM$59:$AQ$59),S1104=\"\"),$J$7*SUMPRODUCT(($AM$77:$AQ$77=MOD(S725,7))*$AM$76:$AQ$76)%,\"\")","v":8},{"$f":"IF(AND(MOD(T725,7)>=2,SUMPRODUCT(($AM$60:$AQ$60=MOD(T725,7))*$AM$59:$AQ$59),T1104=\"\"),$J$7*SUMPRODUCT(($AM$77:$AQ$77=MOD(T725,7))*$AM$76:$AQ$76)%,\"\")","v":8},{"$f":"IF(AND(MOD(U725,7)>=2,SUMPRODUCT(($AM$60:$AQ$60=MOD(U725,7))*$AM$59:$AQ$59),U1104=\"\"),$J$7*SUMPRODUCT(($AM$77:$AQ$77=MOD(U725,7))*$AM$76:$AQ$76)%,\"\")","v":8},{"$f":"IF(AND(MOD(V725,7)>=2,SUMPRODUCT(($AM$60:$AQ$60=MOD(V725,7))*$AM$59:$AQ$59),V1104=\"\"),$J$7*SUMPRODUCT(($AM$77:$AQ$77=MOD(V725,7))*$AM$76:$AQ$76)%,\"\")","v":8},{"$f":"IF(AND(MOD(W725,7)>=2,SUMPRODUCT(($AM$60:$AQ$60=MOD(W725,7))*$AM$59:$AQ$59),W1104=\"\"),$J$7*SUMPRODUCT(($AM$77:$AQ$77=MOD(W725,7))*$AM$76:$AQ$76)%,\"\")","v":8},{"$f":"IF(AND(MOD(X725,7)>=2,SUMPRODUCT(($AM$60:$AQ$60=MOD(X725,7))*$AM$59:$AQ$59),X1104=\"\"),$J$7*SUMPRODUCT(($AM$77:$AQ$77=MOD(X725,7))*$AM$76:$AQ$76)%,\"\")","v":""},{"$f":"IF(AND(MOD(Y725,7)>=2,SUMPRODUCT(($AM$60:$AQ$60=MOD(Y725,7))*$AM$59:$AQ$59),Y1104=\"\"),$J$7*SUMPRODUCT(($AM$77:$AQ$77=MOD(Y725,7))*$AM$76:$AQ$76)%,\"\")","v":""},{"$f":"IF(AND(MOD(Z725,7)>=2,SUMPRODUCT(($AM$60:$AQ$60=MOD(Z725,7))*$AM$59:$AQ$59),Z1104=\"\"),$J$7*SUMPRODUCT(($AM$77:$AQ$77=MOD(Z725,7))*$AM$76:$AQ$76)%,\"\")","v":8},{"$f":"IF(AND(MOD(AA725,7)>=2,SUMPRODUCT(($AM$60:$AQ$60=MOD(AA725,7))*$AM$59:$AQ$59),AA1104=\"\"),$J$7*SUMPRODUCT(($AM$77:$AQ$77=MOD(AA725,7))*$AM$76:$AQ$76)%,\"\")","v":8},{"$f":"IF(AND(MOD(AB725,7)>=2,SUMPRODUCT(($AM$60:$AQ$60=MOD(AB725,7))*$AM$59:$AQ$59),AB1104=\"\"),$J$7*SUMPRODUCT(($AM$77:$AQ$77=MOD(AB725,7))*$AM$76:$AQ$76)%,\"\")","v":8},{"$f":"IF(AND(MOD(AC725,7)>=2,SUMPRODUCT(($AM$60:$AQ$60=MOD(AC725,7))*$AM$59:$AQ$59),AC1104=\"\"),$J$7*SUMPRODUCT(($AM$77:$AQ$77=MOD(AC725,7))*$AM$76:$AQ$76)%,\"\")","v":8},{"$f":"IF(AND(MOD(AD725,7)>=2,SUMPRODUCT(($AM$60:$AQ$60=MOD(AD725,7))*$AM$59:$AQ$59),AD1104=\"\"),$J$7*SUMPRODUCT(($AM$77:$AQ$77=MOD(AD725,7))*$AM$76:$AQ$76)%,\"\")","v":8},{"$f":"IF(AND(MOD(AE725,7)>=2,SUMPRODUCT(($AM$60:$AQ$60=MOD(AE725,7))*$AM$59:$AQ$59),AE1104=\"\"),$J$7*SUMPRODUCT(($AM$77:$AQ$77=MOD(AE725,7))*$AM$76:$AQ$76)%,\"\")","v":""},{"$f":"IF(AND(MOD(AF725,7)>=2,SUMPRODUCT(($AM$60:$AQ$60=MOD(AF725,7))*$AM$59:$AQ$59),AF1104=\"\"),$J$7*SUMPRODUCT(($AM$77:$AQ$77=MOD(AF725,7))*$AM$76:$AQ$76)%,\"\")","v":""},{"$f":"SUM(B727:AF727)","v":168},"[00]"]
[{"$f":"$A$13","v":"Absences"},{"$f":"B1120","v":0},{"$f":"C1120","v":0},0,0,0,0,0,0,0,0,0,0,0,0,0,0,0,0,0,0,0,0,0,0,0,0,0,0,0,0,0,{"$f":"SUM($AU$3:$AU$13)","v":0},"[01]"]
[{"$f":"$A$14","v":"Code"},{"$f":"IF(SUM(B1107:B1119)<>0,IF(MAX(B1107:B1119)<B1120,Labels!$B$163,INDEX($AH$1106:$AH$1118,MATCH(MAX(B1107:B1119),B1107:B1119,0))),\"\")","v":""},{"$f":"IF(SUM(C1107:C1119)<>0,IF(MAX(C1107:C1119)<C1120,Labels!$B$163,INDEX($AH$1106:$AH$1118,MATCH(MAX(C1107:C1119),C1107:C1119,0))),\"\")","v":""},{"$f":"IF(SUM(D1107:D1119)<>0,IF(MAX(D1107:D1119)<D1120,Labels!$B$163,INDEX($AH$1106:$AH$1118,MATCH(MAX(D1107:D1119),D1107:D1119,0))),\"\")","v":""},{"$f":"IF(SUM(E1107:E1119)<>0,IF(MAX(E1107:E1119)<E1120,Labels!$B$163,INDEX($AH$1106:$AH$1118,MATCH(MAX(E1107:E1119),E1107:E1119,0))),\"\")","v":""},{"$f":"IF(SUM(F1107:F1119)<>0,IF(MAX(F1107:F1119)<F1120,Labels!$B$163,INDEX($AH$1106:$AH$1118,MATCH(MAX(F1107:F1119),F1107:F1119,0))),\"\")","v":""},{"$f":"IF(SUM(G1107:G1119)<>0,IF(MAX(G1107:G1119)<G1120,Labels!$B$163,INDEX($AH$1106:$AH$1118,MATCH(MAX(G1107:G1119),G1107:G1119,0))),\"\")","v":""},{"$f":"IF(SUM(H1107:H1119)<>0,IF(MAX(H1107:H1119)<H1120,Labels!$B$163,INDEX($AH$1106:$AH$1118,MATCH(MAX(H1107:H1119),H1107:H1119,0))),\"\")","v":""},{"$f":"IF(SUM(I1107:I1119)<>0,IF(MAX(I1107:I1119)<I1120,Labels!$B$163,INDEX($AH$1106:$AH$1118,MATCH(MAX(I1107:I1119),I1107:I1119,0))),\"\")","v":""},{"$f":"IF(SUM(J1107:J1119)<>0,IF(MAX(J1107:J1119)<J1120,Labels!$B$163,INDEX($AH$1106:$AH$1118,MATCH(MAX(J1107:J1119),J1107:J1119,0))),\"\")","v":""},{"$f":"IF(SUM(K1107:K1119)<>0,IF(MAX(K1107:K1119)<K1120,Labels!$B$163,INDEX($AH$1106:$AH$1118,MATCH(MAX(K1107:K1119),K1107:K1119,0))),\"\")","v":""},{"$f":"IF(SUM(L1107:L1119)<>0,IF(MAX(L1107:L1119)<L1120,Labels!$B$163,INDEX($AH$1106:$AH$1118,MATCH(MAX(L1107:L1119),L1107:L1119,0))),\"\")","v":""},{"$f":"IF(SUM(M1107:M1119)<>0,IF(MAX(M1107:M1119)<M1120,Labels!$B$163,INDEX($AH$1106:$AH$1118,MATCH(MAX(M1107:M1119),M1107:M1119,0))),\"\")","v":""},{"$f":"IF(SUM(N1107:N1119)<>0,IF(MAX(N1107:N1119)<N1120,Labels!$B$163,INDEX($AH$1106:$AH$1118,MATCH(MAX(N1107:N1119),N1107:N1119,0))),\"\")","v":""},{"$f":"IF(SUM(O1107:O1119)<>0,IF(MAX(O1107:O1119)<O1120,Labels!$B$163,INDEX($AH$1106:$AH$1118,MATCH(MAX(O1107:O1119),O1107:O1119,0))),\"\")","v":""},{"$f":"IF(SUM(P1107:P1119)<>0,IF(MAX(P1107:P1119)<P1120,Labels!$B$163,INDEX($AH$1106:$AH$1118,MATCH(MAX(P1107:P1119),P1107:P1119,0))),\"\")","v":""},{"$f":"IF(SUM(Q1107:Q1119)<>0,IF(MAX(Q1107:Q1119)<Q1120,Labels!$B$163,INDEX($AH$1106:$AH$1118,MATCH(MAX(Q1107:Q1119),Q1107:Q1119,0))),\"\")","v":""},{"$f":"IF(SUM(R1107:R1119)<>0,IF(MAX(R1107:R1119)<R1120,Labels!$B$163,INDEX($AH$1106:$AH$1118,MATCH(MAX(R1107:R1119),R1107:R1119,0))),\"\")","v":""},{"$f":"IF(SUM(S1107:S1119)<>0,IF(MAX(S1107:S1119)<S1120,Labels!$B$163,INDEX($AH$1106:$AH$1118,MATCH(MAX(S1107:S1119),S1107:S1119,0))),\"\")","v":""},{"$f":"IF(SUM(T1107:T1119)<>0,IF(MAX(T1107:T1119)<T1120,Labels!$B$163,INDEX($AH$1106:$AH$1118,MATCH(MAX(T1107:T1119),T1107:T1119,0))),\"\")","v":""},{"$f":"IF(SUM(U1107:U1119)<>0,IF(MAX(U1107:U1119)<U1120,Labels!$B$163,INDEX($AH$1106:$AH$1118,MATCH(MAX(U1107:U1119),U1107:U1119,0))),\"\")","v":""},{"$f":"IF(SUM(V1107:V1119)<>0,IF(MAX(V1107:V1119)<V1120,Labels!$B$163,INDEX($AH$1106:$AH$1118,MATCH(MAX(V1107:V1119),V1107:V1119,0))),\"\")","v":""},{"$f":"IF(SUM(W1107:W1119)<>0,IF(MAX(W1107:W1119)<W1120,Labels!$B$163,INDEX($AH$1106:$AH$1118,MATCH(MAX(W1107:W1119),W1107:W1119,0))),\"\")","v":""},{"$f":"IF(SUM(X1107:X1119)<>0,IF(MAX(X1107:X1119)<X1120,Labels!$B$163,INDEX($AH$1106:$AH$1118,MATCH(MAX(X1107:X1119),X1107:X1119,0))),\"\")","v":""},{"$f":"IF(SUM(Y1107:Y1119)<>0,IF(MAX(Y1107:Y1119)<Y1120,Labels!$B$163,INDEX($AH$1106:$AH$1118,MATCH(MAX(Y1107:Y1119),Y1107:Y1119,0))),\"\")","v":""},{"$f":"IF(SUM(Z1107:Z1119)<>0,IF(MAX(Z1107:Z1119)<Z1120,Labels!$B$163,INDEX($AH$1106:$AH$1118,MATCH(MAX(Z1107:Z1119),Z1107:Z1119,0))),\"\")","v":""},{"$f":"IF(SUM(AA1107:AA1119)<>0,IF(MAX(AA1107:AA1119)<AA1120,Labels!$B$163,INDEX($AH$1106:$AH$1118,MATCH(MAX(AA1107:AA1119),AA1107:AA1119,0))),\"\")","v":""},{"$f":"IF(SUM(AB1107:AB1119)<>0,IF(MAX(AB1107:AB1119)<AB1120,Labels!$B$163,INDEX($AH$1106:$AH$1118,MATCH(MAX(AB1107:AB1119),AB1107:AB1119,0))),\"\")","v":""},{"$f":"IF(SUM(AC1107:AC1119)<>0,IF(MAX(AC1107:AC1119)<AC1120,Labels!$B$163,INDEX($AH$1106:$AH$1118,MATCH(MAX(AC1107:AC1119),AC1107:AC1119,0))),\"\")","v":""},{"$f":"IF(SUM(AD1107:AD1119)<>0,IF(MAX(AD1107:AD1119)<AD1120,Labels!$B$163,INDEX($AH$1106:$AH$1118,MATCH(MAX(AD1107:AD1119),AD1107:AD1119,0))),\"\")","v":""},{"$f":"IF(SUM(AE1107:AE1119)<>0,IF(MAX(AE1107:AE1119)<AE1120,Labels!$B$163,INDEX($AH$1106:$AH$1118,MATCH(MAX(AE1107:AE1119),AE1107:AE1119,0))),\"\")","v":""},{"$f":"IF(SUM(AF1107:AF1119)<>0,IF(MAX(AF1107:AF1119)<AF1120,Labels!$B$163,INDEX($AH$1106:$AH$1118,MATCH(MAX(AF1107:AF1119),AF1107:AF1119,0))),\"\")","v":""},{"$f":"$AU$16*-1","v":0},"[02]"]
[{"$f":"$A$15","v":"00h00-06h00 1)"},null,null,null,null,null,null,null,null,null,null,null,null,null,null,null,null,null,null,null,null,null,null,null,null,null,null,null,null,null,null,null,{"$f":"SUM(B730:AF730)","v":0},"[04]"]
[{"$f":"$A$16","v":"06h00-20h00 2)"},null,null,null,null,null,null,null,null,null,null,null,null,null,null,null,null,null,null,null,null,null,null,null,null,null,null,null,null,null,null,null,{"$f":"SUM(B731:AF731)","v":0},"[03]"]
[{"$f":"$A$17","v":"20h00-24h00 3)"},null,null,null,null,null,null,null,null,null,null,null,null,null,null,null,null,null,null,null,null,null,null,null,null,null,null,null,null,null,null,null,{"$f":"SUM(B732:AF732)","v":0},"[05]"]
[{"$f":"$A$18","v":"Jours fériés \"jf\""},{"$f":"IF(WEEKDAY(B725,2)<=6,IF(CALENDRIER!E25=\"x\",Labels!$B$118,\"\"),\"\")","v":""},{"$f":"IF(WEEKDAY(C725,2)<=6,IF(CALENDRIER!F25=\"x\",Labels!$B$118,\"\"),\"\")","v":""},{"$f":"IF(WEEKDAY(D725,2)<=6,IF(CALENDRIER!G25=\"x\",Labels!$B$118,\"\"),\"\")","v":""},{"$f":"IF(WEEKDAY(E725,2)<=6,IF(CALENDRIER!H25=\"x\",Labels!$B$118,\"\"),\"\")","v":""},{"$f":"IF(WEEKDAY(F725,2)<=6,IF(CALENDRIER!I25=\"x\",Labels!$B$118,\"\"),\"\")","v":""},{"$f":"IF(WEEKDAY(G725,2)<=6,IF(CALENDRIER!J25=\"x\",Labels!$B$118,\"\"),\"\")","v":""},{"$f":"IF(WEEKDAY(H725,2)<=6,IF(CALENDRIER!K25=\"x\",Labels!$B$118,\"\"),\"\")","v":""},{"$f":"IF(WEEKDAY(I725,2)<=6,IF(CALENDRIER!L25=\"x\",Labels!$B$118,\"\"),\"\")","v":""},{"$f":"IF(WEEKDAY(J725,2)<=6,IF(CALENDRIER!M25=\"x\",Labels!$B$118,\"\"),\"\")","v":""},{"$f":"IF(WEEKDAY(K725,2)<=6,IF(CALENDRIER!N25=\"x\",Labels!$B$118,\"\"),\"\")","v":""},{"$f":"IF(WEEKDAY(L725,2)<=6,IF(CALENDRIER!O25=\"x\",Labels!$B$118,\"\"),\"\")","v":""},{"$f":"IF(WEEKDAY(M725,2)<=6,IF(CALENDRIER!P25=\"x\",Labels!$B$118,\"\"),\"\")","v":""},{"$f":"IF(WEEKDAY(N725,2)<=6,IF(CALENDRIER!Q25=\"x\",Labels!$B$118,\"\"),\"\")","v":""},{"$f":"IF(WEEKDAY(O725,2)<=6,IF(CALENDRIER!R25=\"x\",Labels!$B$118,\"\"),\"\")","v":""},{"$f":"IF(WEEKDAY(P725,2)<=6,IF(CALENDRIER!S25=\"x\",Labels!$B$118,\"\"),\"\")","v":""},{"$f":"IF(WEEKDAY(Q725,2)<=6,IF(CALENDRIER!T25=\"x\",Labels!$B$118,\"\"),\"\")","v":""},{"$f":"IF(WEEKDAY(R725,2)<=6,IF(CALENDRIER!U25=\"x\",Labels!$B$118,\"\"),\"\")","v":""},{"$f":"IF(WEEKDAY(S725,2)<=6,IF(CALENDRIER!V25=\"x\",Labels!$B$118,\"\"),\"\")","v":""},{"$f":"IF(WEEKDAY(T725,2)<=6,IF(CALENDRIER!W25=\"x\",Labels!$B$118,\"\"),\"\")","v":""},{"$f":"IF(WEEKDAY(U725,2)<=6,IF(CALENDRIER!X25=\"x\",Labels!$B$118,\"\"),\"\")","v":""},{"$f":"IF(WEEKDAY(V725,2)<=6,IF(CALENDRIER!Y25=\"x\",Labels!$B$118,\"\"),\"\")","v":""},{"$f":"IF(WEEKDAY(W725,2)<=6,IF(CALENDRIER!Z25=\"x\",Labels!$B$118,\"\"),\"\")","v":""},{"$f":"IF(WEEKDAY(X725,2)<=6,IF(CALENDRIER!AA25=\"x\",Labels!$B$118,\"\"),\"\")","v":""},{"$f":"IF(WEEKDAY(Y725,2)<=6,IF(CALENDRIER!AB25=\"x\",Labels!$B$118,\"\"),\"\")","v":""},{"$f":"IF(WEEKDAY(Z725,2)<=6,IF(CALENDRIER!AC25=\"x\",Labels!$B$118,\"\"),\"\")","v":""},{"$f":"IF(WEEKDAY(AA725,2)<=6,IF(CALENDRIER!AD25=\"x\",Labels!$B$118,\"\"),\"\")","v":""},{"$f":"IF(WEEKDAY(AB725,2)<=6,IF(CALENDRIER!AE25=\"x\",Labels!$B$118,\"\"),\"\")","v":""},{"$f":"IF(WEEKDAY(AC725,2)<=6,IF(CALENDRIER!AF25=\"x\",Labels!$B$118,\"\"),\"\")","v":""},{"$f":"IF(WEEKDAY(AD725,2)<=6,IF(CALENDRIER!AG25=\"x\",Labels!$B$118,\"\"),\"\")","v":""},{"$f":"IF(WEEKDAY(AE725,2)<=6,IF(CALENDRIER!AH25=\"x\",Labels!$B$118,\"\"),\"\")","v":""},{"$f":"IF(WEEKDAY(AF725,2)<=6,IF(CALENDRIER!AI25=\"x\",Labels!$B$118,\"\"),\"\")","v":""},null,"FT"]
[{"$f":"$A$19","v":"Majoration  \"jf\""},{"$f":"IF(AND(B733=Labels!$B$118,WEEKDAY(B725,2)<6,B$727<>\"\"),$J$7*SUMPRODUCT(($AM$77:$AQ$77=MOD(B725,7))*$AM$76:$AQ$76)%,\"\")","v":""},{"$f":"IF(AND(C733=Labels!$B$118,WEEKDAY(C725,2)<6,C$727<>\"\"),$J$7*SUMPRODUCT(($AM$77:$AQ$77=MOD(C725,7))*$AM$76:$AQ$76)%,\"\")","v":""},{"$f":"IF(AND(D733=Labels!$B$118,WEEKDAY(D725,2)<6,D$727<>\"\"),$J$7*SUMPRODUCT(($AM$77:$AQ$77=MOD(D725,7))*$AM$76:$AQ$76)%,\"\")","v":""},{"$f":"IF(AND(E733=Labels!$B$118,WEEKDAY(E725,2)<6,E$727<>\"\"),$J$7*SUMPRODUCT(($AM$77:$AQ$77=MOD(E725,7))*$AM$76:$AQ$76)%,\"\")","v":""},{"$f":"IF(AND(F733=Labels!$B$118,WEEKDAY(F725,2)<6,F$727<>\"\"),$J$7*SUMPRODUCT(($AM$77:$AQ$77=MOD(F725,7))*$AM$76:$AQ$76)%,\"\")","v":""},{"$f":"IF(AND(G733=Labels!$B$118,WEEKDAY(G725,2)<6,G$727<>\"\"),$J$7*SUMPRODUCT(($AM$77:$AQ$77=MOD(G725,7))*$AM$76:$AQ$76)%,\"\")","v":""},{"$f":"IF(AND(H733=Labels!$B$118,WEEKDAY(H725,2)<6,H$727<>\"\"),$J$7*SUMPRODUCT(($AM$77:$AQ$77=MOD(H725,7))*$AM$76:$AQ$76)%,\"\")","v":""},{"$f":"IF(AND(I733=Labels!$B$118,WEEKDAY(I725,2)<6,I$727<>\"\"),$J$7*SUMPRODUCT(($AM$77:$AQ$77=MOD(I725,7))*$AM$76:$AQ$76)%,\"\")","v":""},{"$f":"IF(AND(J733=Labels!$B$118,WEEKDAY(J725,2)<6,J$727<>\"\"),$J$7*SUMPRODUCT(($AM$77:$AQ$77=MOD(J725,7))*$AM$76:$AQ$76)%,\"\")","v":""},{"$f":"IF(AND(K733=Labels!$B$118,WEEKDAY(K725,2)<6,K$727<>\"\"),$J$7*SUMPRODUCT(($AM$77:$AQ$77=MOD(K725,7))*$AM$76:$AQ$76)%,\"\")","v":""},{"$f":"IF(AND(L733=Labels!$B$118,WEEKDAY(L725,2)<6,L$727<>\"\"),$J$7*SUMPRODUCT(($AM$77:$AQ$77=MOD(L725,7))*$AM$76:$AQ$76)%,\"\")","v":""},{"$f":"IF(AND(M733=Labels!$B$118,WEEKDAY(M725,2)<6,M$727<>\"\"),$J$7*SUMPRODUCT(($AM$77:$AQ$77=MOD(M725,7))*$AM$76:$AQ$76)%,\"\")","v":""},{"$f":"IF(AND(N733=Labels!$B$118,WEEKDAY(N725,2)<6,N$727<>\"\"),$J$7*SUMPRODUCT(($AM$77:$AQ$77=MOD(N725,7))*$AM$76:$AQ$76)%,\"\")","v":""},{"$f":"IF(AND(O733=Labels!$B$118,WEEKDAY(O725,2)<6,O$727<>\"\"),$J$7*SUMPRODUCT(($AM$77:$AQ$77=MOD(O725,7))*$AM$76:$AQ$76)%,\"\")","v":""},{"$f":"IF(AND(P733=Labels!$B$118,WEEKDAY(P725,2)<6,P$727<>\"\"),$J$7*SUMPRODUCT(($AM$77:$AQ$77=MOD(P725,7))*$AM$76:$AQ$76)%,\"\")","v":""},{"$f":"IF(AND(Q733=Labels!$B$118,WEEKDAY(Q725,2)<6,Q$727<>\"\"),$J$7*SUMPRODUCT(($AM$77:$AQ$77=MOD(Q725,7))*$AM$76:$AQ$76)%,\"\")","v":""},{"$f":"IF(AND(R733=Labels!$B$118,WEEKDAY(R725,2)<6,R$727<>\"\"),$J$7*SUMPRODUCT(($AM$77:$AQ$77=MOD(R725,7))*$AM$76:$AQ$76)%,\"\")","v":""},{"$f":"IF(AND(S733=Labels!$B$118,WEEKDAY(S725,2)<6,S$727<>\"\"),$J$7*SUMPRODUCT(($AM$77:$AQ$77=MOD(S725,7))*$AM$76:$AQ$76)%,\"\")","v":""},{"$f":"IF(AND(T733=Labels!$B$118,WEEKDAY(T725,2)<6,T$727<>\"\"),$J$7*SUMPRODUCT(($AM$77:$AQ$77=MOD(T725,7))*$AM$76:$AQ$76)%,\"\")","v":""},{"$f":"IF(AND(U733=Labels!$B$118,WEEKDAY(U725,2)<6,U$727<>\"\"),$J$7*SUMPRODUCT(($AM$77:$AQ$77=MOD(U725,7))*$AM$76:$AQ$76)%,\"\")","v":""},{"$f":"IF(AND(V733=Labels!$B$118,WEEKDAY(V725,2)<6,V$727<>\"\"),$J$7*SUMPRODUCT(($AM$77:$AQ$77=MOD(V725,7))*$AM$76:$AQ$76)%,\"\")","v":""},{"$f":"IF(AND(W733=Labels!$B$118,WEEKDAY(W725,2)<6,W$727<>\"\"),$J$7*SUMPRODUCT(($AM$77:$AQ$77=MOD(W725,7))*$AM$76:$AQ$76)%,\"\")","v":""},{"$f":"IF(AND(X733=Labels!$B$118,WEEKDAY(X725,2)<6,X$727<>\"\"),$J$7*SUMPRODUCT(($AM$77:$AQ$77=MOD(X725,7))*$AM$76:$AQ$76)%,\"\")","v":""},{"$f":"IF(AND(Y733=Labels!$B$118,WEEKDAY(Y725,2)<6,Y$727<>\"\"),$J$7*SUMPRODUCT(($AM$77:$AQ$77=MOD(Y725,7))*$AM$76:$AQ$76)%,\"\")","v":""},{"$f":"IF(AND(Z733=Labels!$B$118,WEEKDAY(Z725,2)<6,Z$727<>\"\"),$J$7*SUMPRODUCT(($AM$77:$AQ$77=MOD(Z725,7))*$AM$76:$AQ$76)%,\"\")","v":""},{"$f":"IF(AND(AA733=Labels!$B$118,WEEKDAY(AA725,2)<6,AA$727<>\"\"),$J$7*SUMPRODUCT(($AM$77:$AQ$77=MOD(AA725,7))*$AM$76:$AQ$76)%,\"\")","v":""},{"$f":"IF(AND(AB733=Labels!$B$118,WEEKDAY(AB725,2)<6,AB$727<>\"\"),$J$7*SUMPRODUCT(($AM$77:$AQ$77=MOD(AB725,7))*$AM$76:$AQ$76)%,\"\")","v":""},{"$f":"IF(AND(AC733=Labels!$B$118,WEEKDAY(AC725,2)<6,AC$727<>\"\"),$J$7*SUMPRODUCT(($AM$77:$AQ$77=MOD(AC725,7))*$AM$76:$AQ$76)%,\"\")","v":""},{"$f":"IF(AND(AD733=Labels!$B$118,WEEKDAY(AD725,2)<6,AD$727<>\"\"),$J$7*SUMPRODUCT(($AM$77:$AQ$77=MOD(AD725,7))*$AM$76:$AQ$76)%,\"\")","v":""},{"$f":"IF(AND(AE733=Labels!$B$118,WEEKDAY(AE725,2)<6,AE$727<>\"\"),$J$7*SUMPRODUCT(($AM$77:$AQ$77=MOD(AE725,7))*$AM$76:$AQ$76)%,\"\")","v":""},{"$f":"IF(AND(AF733=Labels!$B$118,WEEKDAY(AF725,2)<6,AF$727<>\"\"),$J$7*SUMPRODUCT(($AM$77:$AQ$77=MOD(AF725,7))*$AM$76:$AQ$76)%,\"\")","v":""},{"$f":"SUM(B734:AF734)","v":0},"[06]"]
[{"$f":"$A$20","v":"total quotidien"},{"$f":"SUM(B730:B732)","v":0},{"$f":"SUM(C730:C732)","v":0},0,0,0,0,0,0,0,0,0,0,0,0,0,0,0,0,0,0,0,0,0,0,0,0,0,0,0,0,0,null,"TT"]
[{"$f":"$A$21","v":"."},null,null,null,null,null,null,null,null,null,null,null,null,null,null,null,null,null,null,null,null,null,null,null,null,null,null,null,null,null,null,null,null,"R"]
[{"$f":"$A$22","v":"."},null,null,null,null,null,null,null,null,null,null,null,null,null,null,null,null,null,null,null,null,null,null,null,null,null,null,null,null,null,null,null,null,"R"]
[{"$f":"$A$23","v":"transition mois"},{"$f":"IF(WEEKDAY(B725)=1,TEXT(B725-1,\"MMM\"&Labels!B13),\"\")","v":""},null,null,null,null,null,null,null,null,null,null,null,null,null,null,null,null,null,null,null,null,null,null,null,null,null,null,null,null,null,null,null,"MNT"]
[{"$f":"$A$24","v":"Total hebdomadaire"},{"$f":"IF(WEEKDAY(B725)=7,SUMIF($B661:$AF661,B726,$B670:$AF670)+SUMIF($B726:$AF726,B726,$B735:$AF735),B738)","v":""},{"$f":"IF(WEEKDAY(C725)=7,SUMIF($B661:$AF661,C726,$B670:$AF670)+SUMIF($B726:$AF726,C726,$B735:$AF735),\"\")","v":0},"","","","","","",0,"","","","","","",0,"","","","","","",0,"","","","","","",0,{"$f":"IF(WEEKDAY(AF725)>1,SUMIF($B661:$AF661,AF726,$B670:$AF670)+SUMIF($B726:$AF726,AF726,$B735:$AF735),\"\")","v":""},null,"WT"]
[{"$f":"$A$25","v":"Majorations temp. 1)"},{"$f":"IF(B747=\"FALSCH\",\"\",B747)","v":""},{"$f":"IF(C747=\"FALSCH\",\"\",C747)","v":""},"","","","","","","","","","","","","","","","","","","","","","","","","","","","","",{"$f":"SUM(B740:AF740)","v":0},"[07]"]
[{"$f":"$A$26","v":"Majorations temp. 2)"},{"$f":"IF((B730+B732)=0,\"\",SUM(B730,B732))","v":""},{"$f":"IF((C730+C732)=0,\"\",SUM(C730,C732))","v":""},"","","","","","","","","","","","","","","","","","","","","","","","","","","","","",0,"[08]"]
[{"$f":"$A$27","v":"Majorations temp. 3)"},{"$f":"SUM(B743:B746)","v":0},{"$f":"SUM(C743:C746)","v":0},0,0,0,0,0,0,0,0,0,0,0,0,0,0,0,0,0,0,0,0,0,0,0,0,0,0,0,0,0,0,"[09]"]
[{"$f":"$A$28","v":"Dimanche journée"},{"$f":"IF(WEEKDAY(B725)=1,B731,\"\")","v":""},{"$f":"IF(WEEKDAY(C725)=1,C731,\"\")","v":""},0,"","","","","","",0,"","","","","","",0,"","","","","","",0,"","","","","","",0,0,"[09-ST]"]
[{"$f":"$A$29","v":"Dimanche nuit"},{"$f":"IF(WEEKDAY(B725)=1,SUM(B730+B732),\"\")","v":""},{"$f":"IF(WEEKDAY(C725)=1,SUM(C730+C732),\"\")","v":""},0,"","","","","","",0,"","","","","","",0,"","","","","","",0,"","","","","","",0,0,"[09-SN]"]
[{"$f":"$A$30","v":"jf-jomajoration"},{"$f":"IF(B733=Labels!$B$118,B731,\"\")","v":""},{"$f":"IF(C733=Labels!$B$118,C731,\"\")","v":""},{"$f":"IF(D733=Labels!$B$118,D731,\"\")","v":""},{"$f":"IF(E733=Labels!$B$118,E731,\"\")","v":""},{"$f":"IF(F733=Labels!$B$118,F731,\"\")","v":""},{"$f":"IF(G733=Labels!$B$118,G731,\"\")","v":""},{"$f":"IF(H733=Labels!$B$118,H731,\"\")","v":""},{"$f":"IF(I733=Labels!$B$118,I731,\"\")","v":""},{"$f":"IF(J733=Labels!$B$118,J731,\"\")","v":""},{"$f":"IF(K733=Labels!$B$118,K731,\"\")","v":""},{"$f":"IF(L733=Labels!$B$118,L731,\"\")","v":""},{"$f":"IF(M733=Labels!$B$118,M731,\"\")","v":""},{"$f":"IF(N733=Labels!$B$118,N731,\"\")","v":""},{"$f":"IF(O733=Labels!$B$118,O731,\"\")","v":""},{"$f":"IF(P733=Labels!$B$118,P731,\"\")","v":""},{"$f":"IF(Q733=Labels!$B$118,Q731,\"\")","v":""},{"$f":"IF(R733=Labels!$B$118,R731,\"\")","v":""},{"$f":"IF(S733=Labels!$B$118,S731,\"\")","v":""},{"$f":"IF(T733=Labels!$B$118,T731,\"\")","v":""},{"$f":"IF(U733=Labels!$B$118,U731,\"\")","v":""},{"$f":"IF(V733=Labels!$B$118,V731,\"\")","v":""},{"$f":"IF(W733=Labels!$B$118,W731,\"\")","v":""},{"$f":"IF(X733=Labels!$B$118,X731,\"\")","v":""},{"$f":"IF(Y733=Labels!$B$118,Y731,\"\")","v":""},{"$f":"IF(Z733=Labels!$B$118,Z731,\"\")","v":""},{"$f":"IF(AA733=Labels!$B$118,AA731,\"\")","v":""},{"$f":"IF(AB733=Labels!$B$118,AB731,\"\")","v":""},{"$f":"IF(AC733=Labels!$B$118,AC731,\"\")","v":""},{"$f":"IF(AD733=Labels!$B$118,AD731,\"\")","v":""},{"$f":"IF(AE733=Labels!$B$118,AE731,\"\")","v":""},{"$f":"IF(AF733=Labels!$B$118,AF731,\"\")","v":""},0,"[09-FT]"]
[{"$f":"$A$31","v":"jf-numajoration"},{"$f":"IF(B733=Labels!$B$118,SUM(B730,B732),\"\")","v":""},{"$f":"IF(C733=Labels!$B$118,SUM(C730,C732),\"\")","v":""},{"$f":"IF(D733=Labels!$B$118,SUM(D730,D732),\"\")","v":""},{"$f":"IF(E733=Labels!$B$118,SUM(E730,E732),\"\")","v":""},{"$f":"IF(F733=Labels!$B$118,SUM(F730,F732),\"\")","v":""},{"$f":"IF(G733=Labels!$B$118,SUM(G730,G732),\"\")","v":""},{"$f":"IF(H733=Labels!$B$118,SUM(H730,H732),\"\")","v":""},{"$f":"IF(I733=Labels!$B$118,SUM(I730,I732),\"\")","v":""},{"$f":"IF(J733=Labels!$B$118,SUM(J730,J732),\"\")","v":""},{"$f":"IF(K733=Labels!$B$118,SUM(K730,K732),\"\")","v":""},{"$f":"IF(L733=Labels!$B$118,SUM(L730,L732),\"\")","v":""},{"$f":"IF(M733=Labels!$B$118,SUM(M730,M732),\"\")","v":""},{"$f":"IF(N733=Labels!$B$118,SUM(N730,N732),\"\")","v":""},{"$f":"IF(O733=Labels!$B$118,SUM(O730,O732),\"\")","v":""},{"$f":"IF(P733=Labels!$B$118,SUM(P730,P732),\"\")","v":""},{"$f":"IF(Q733=Labels!$B$118,SUM(Q730,Q732),\"\")","v":""},{"$f":"IF(R733=Labels!$B$118,SUM(R730,R732),\"\")","v":""},{"$f":"IF(S733=Labels!$B$118,SUM(S730,S732),\"\")","v":""},{"$f":"IF(T733=Labels!$B$118,SUM(T730,T732),\"\")","v":""},{"$f":"IF(U733=Labels!$B$118,SUM(U730,U732),\"\")","v":""},{"$f":"IF(V733=Labels!$B$118,SUM(V730,V732),\"\")","v":""},{"$f":"IF(W733=Labels!$B$118,SUM(W730,W732),\"\")","v":""},{"$f":"IF(X733=Labels!$B$118,SUM(X730,X732),\"\")","v":""},{"$f":"IF(Y733=Labels!$B$118,SUM(Y730,Y732),\"\")","v":""},{"$f":"IF(Z733=Labels!$B$118,SUM(Z730,Z732),\"\")","v":""},{"$f":"IF(AA733=Labels!$B$118,SUM(AA730,AA732),\"\")","v":""},{"$f":"IF(AB733=Labels!$B$118,SUM(AB730,AB732),\"\")","v":""},{"$f":"IF(AC733=Labels!$B$118,SUM(AC730,AC732),\"\")","v":""},{"$f":"IF(AD733=Labels!$B$118,SUM(AD730,AD732),\"\")","v":""},{"$f":"IF(AE733=Labels!$B$118,SUM(AE730,AE732),\"\")","v":""},{"$f":"IF(AF733=Labels!$B$118,SUM(AF730,AF732),\"\")","v":""},0,"[09-FN]"]
[{"$f":"$A$32","v":"majoration caché (total hebd.)"},{"$f":"IF($B722>=80,IF(OR(ISTEXT(B739),B739=\"\",B739<$B$7),\"\",ROUND(((B739-$B$7)*25%)/25,4)*25),IF(B735>($B$7/5),ROUND(((B735-($B$7/5))*25%)/25,4)*25,\"\"))","v":""},{"$f":"IF($B722>=80,IF(OR(ISTEXT(C739),C739=\"\",C739<$B$7),\"\",ROUND(((C739-$B$7)*25%)/25,4)*25),IF(C735>($B$7/5),ROUND(((C735-($B$7/5))*25%)/25,4)*25,\"\"))","v":""},"","","","","","","","","","","","","","","","","","","","","","","","","","","","","",{"$f":"AG731","v":0},"[03]"]
[null,{"$f":"$B$33","v":"1)  25% majoration temporelle pour depassement les heures maximales"},null,null,null,null,null,null,null,null,null,{"$f":"$L$33","v":"2) 100% majoration temporelle pour travail de nuit"},null,null,null,null,null,null,null,null,null,null,null,null,null,null,null,null,null,null,null,null,{"$f":"SUM(AG730+AG732)","v":0},"[4-5]"]
[null,{"$f":"$B$34","v":"3) 100% majoration temporelle pour travail du dimanche et jour férié"},null,null,null,null,null,null,null,null,null,null,null,null,null,null,null,null,null,{"$f":"$T$34","v":"Saisie des heures payées exercice en cours (heures supplémentaires)"},null,null,null,null,null,null,null,null,null,null,null,null,{"$f":"SUM(AG730:AG732)","v":0},"[3-5]"]
[{"$f":"$A$35","v":"Notes"},null,null,null,null,null,null,null,null,null,null,null,null,null,null,null,null,null,null,null,null,null,null,null,null,null,null,null,null,null,null,null,{"$f":"SUM(AG728:AG742)","v":0},"[10]"]
[null,null,null,null,null,null,null,null,null,null,null,null,null,null,null,null,null,null,null,null,null,null,null,null,null,null,null,null,null,null,null,null,{"$f":"AG727","v":168},"[00]"]
[{"$f":"IF(AG1104=0,\"\",\"effektives Pensum:  \"&ROUND(COUNT(B727:AF727)/(AG1104+COUNT(B727:AF727))%*B722%*20,0)/20&\" %\")","v":""},null,null,null,null,null,null,null,null,null,null,null,null,null,null,null,null,null,null,null,null,null,null,null,null,null,null,null,null,null,null,null,{"$f":"SUM(AG750-AG751)","v":-168},"[11]"]
[]
[{"$f":"Labels!$B$103","v":"Résumé"},null,null,null,null,null,{"$f":"Labels!$B$77","v":"Jan"},null,{"$f":"Labels!$B$78","v":"Fév"},null,{"$f":"Labels!$B$79","v":"Mar"},null,{"$f":"Labels!$B$80","v":"Avr"},null,{"$f":"Labels!$B$81","v":"Mai"},null,{"$f":"Labels!$B$82","v":"Jun"},null,{"$f":"Labels!$B$83","v":"Jul"},null,{"$f":"Labels!$B$84","v":"Aoû"},null,{"$f":"Labels!$B$85","v":"Sep"},null,{"$f":"Labels!$B$86","v":"Oct"},null,{"$f":"Labels!$B$87","v":"Nov"},null,{"$f":"Labels!$B$88","v":"Déc"},null,{"$f":"Labels!$B$101","v":"Année"}]
[{"$f":"Labels!$B$20","v":"Emploi %"},null,null,null,null,null,{"$f":"IF($B$4=0,0,$B$4)","v":100},null,{"$f":"IF($B$72=0,0,$B$72)","v":100},null,{"$f":"IF($B$137=0,0,$B$137)","v":100},null,{"$f":"IF($B$202=0,0,$B$202)","v":100},null,{"$f":"IF($B$267=0,0,$B$267)","v":100},null,{"$f":"IF($B$332=0,0,$B$332)","v":100},null,{"$f":"IF($B$397=0,0,$B$397)","v":100},null,{"$f":"IF($B$462=0,0,$B$462)","v":100},null,{"$f":"IF($B$527=0,0,$B$527)","v":100},null,{"$f":"IF($B$592=0,0,$B$592)","v":100},null,{"$f":"IF($B$657=0,0,$B$657)","v":100},null,{"$f":"IF($B$722=0,0,$B$722)","v":100}]
[{"$f":"Labels!$B$104","v":"Heures théoriques selon CCT"},null,null,null,null,null,{"$f":"IF($AG$36=0,0,$AG$36)","v":176},null,{"$f":"IF($AG$101=0,0,$AG$101)","v":160},null,{"$f":"IF($AG$142=0,0,$AG$142)","v":184},null,{"$f":"IF($AG$231=0,0,$AG$231)","v":160},null,{"$f":"IF($AG$296=0,0,$AG$296)","v":184},null,{"$f":"IF($AG$361=0,0,$AG$361)","v":176},null,{"$f":"IF($AG$426=0,0,$AG$426)","v":168},null,{"$f":"IF($AG$491=0,0,$AG$491)","v":184},null,{"$f":"IF($AG$556=0,0,$AG$556)","v":168},null,{"$f":"IF($AG$621=0,0,$AG$621)","v":176},null,{"$f":"IF($AG$686=0,0,$AG$686)","v":176},null,{"$f":"IF($AG$751=0,0,$AG$751)","v":168},null,{"$f":"SUM(G756:AD756)","v":2080}]
[{"$f":"Labels!$B$105","v":"Total heures productives"},{"$f":"Labels!$B$106","v":"06.00 - 20.00 h"},null,null,null,null,{"$f":"IF($AG$32=0,0,$AG$32)","v":0},null,{"$f":"IF($AG$96=0,0,$AG$96)","v":0},null,{"$f":"IF($AG$161=0,0,$AG$161)","v":0},null,{"$f":"IF($AG$226=0,0,$AG$226)","v":0},null,{"$f":"IF($AG$291=0,0,$AG$291)","v":0},null,{"$f":"IF($AG$356=0,0,$AG$356)","v":0},null,{"$f":"IF($AG$421=0,0,$AG$421)","v":0},null,{"$f":"IF($AG$486=0,0,$AG$486)","v":0},null,{"$f":"IF($AG$551=0,0,$AG$551)","v":0},null,{"$f":"IF($AG$616=0,0,$AG$616)","v":0},null,{"$f":"IF($AG$681=0,0,$AG$681)","v":0},null,{"$f":"IF($AG$746=0,0,$AG$746)","v":0},null,{"$f":"SUM(G757:AD757)","v":0}]
[null,{"$f":"Labels!$B$107","v":"nuit, dimanche et jour férié"},null,null,null,null,{"$f":"IF($AG$33=0,0,$AG$33)","v":0},null,{"$f":"IF($AG$97=0,0,$AG$97)","v":0},null,{"$f":"IF($AG$162=0,0,$AG$162)","v":0},null,{"$f":"IF($AG$227=0,0,$AG$227)","v":0},null,{"$f":"IF($AG$292=0,0,$AG$292)","v":0},null,{"$f":"IF($AG$357=0,0,$AG$357)","v":0},null,{"$f":"IF($AG$422=0,0,$AG$422)","v":0},null,{"$f":"IF($AG$487=0,0,$AG$487)","v":0},null,{"$f":"IF($AG$552=0,0,$AG$552)","v":0},null,{"$f":"IF($AG$617=0,0,$AG$617)","v":0},null,{"$f":"IF($AG$682=0,0,$AG$682)","v":0},null,{"$f":"IF($AG$747=0,0,$AG$747)","v":0},null,{"$f":"SUM(G758:AD758)","v":0}]
[{"$f":"Labels!$B$108","v":"Majorations temporelles"},{"$f":"Labels!$B$109","v":"depassement des heures maximales"},null,null,null,null,{"$f":"IF($AG$25=0,0,$AG$25)","v":0},null,{"$f":"IF($AG$89=0,0,$AG$89)","v":0},null,{"$f":"IF($AG$154=0,0,$AG$154)","v":0},null,{"$f":"IF($AG$219=0,0,$AG$219)","v":0},null,{"$f":"IF($AG$284=0,0,$AG$284)","v":0},null,{"$f":"IF($AG$349=0,0,$AG$349)","v":0},null,{"$f":"IF($AG$414=0,0,$AG$414)","v":0},null,{"$f":"IF($AG$479=0,0,$AG$479)","v":0},null,{"$f":"IF($AG$544=0,0,$AG$544)","v":0},null,{"$f":"IF($AG$609=0,0,$AG$609)","v":0},null,{"$f":"IF($AG$674=0,0,$AG$674)","v":0},null,{"$f":"IF($AG$739=0,0,$AG$739)","v":0},null,{"$f":"SUM(G759:AD759)","v":0}]
[null,{"$f":"Labels!$B$110","v":"nuit, dimanche et jour férié"},null,null,null,null,{"$f":"IF($AJ$23=0,0,$AJ$23)","v":0},null,{"$f":"IF($AK$23=0,0,$AK$23)","v":0},null,{"$f":"IF($AL$23=0,0,$AL$23)","v":0},null,{"$f":"IF($AM$23=0,0,$AM$23)","v":0},null,{"$f":"IF($AN$23=0,0,$AN$23)","v":0},null,{"$f":"IF($AO$23=0,0,$AO$23)","v":0},null,{"$f":"IF($AP$23=0,0,$AP$23)","v":0},null,{"$f":"IF($AQ$23=0,0,$AQ$23)","v":0},null,{"$f":"IF($AR$23=0,0,$AR$23)","v":0},null,{"$f":"IF($AS$23=0,0,$AS$23)","v":0},null,{"$f":"IF($AT$23=0,0,$AT$23)","v":0},null,{"$f":"IF($AU$23=0,0,$AU$23)","v":0},null,{"$f":"SUM(G760:AD760)","v":0}]
[{"$f":"Labels!$B$111","v":"Heures inproductives"}]
[{"$f":"Labels!$B$112","v":"   Absences art. 11 CCT"},null,null,null,null,{"$f":"Labels!$B$113","v":"ab"},{"$f":"IF($AJ$3=0,0,$AJ$3)","v":0},null,{"$f":"IF($AK$3=0,0,$AK$3)","v":0},null,{"$f":"IF($AL$3=0,0,$AL$3)","v":0},null,{"$f":"IF($AM$3=0,0,$AM$3)","v":0},null,{"$f":"IF($AN$3=0,0,$AN$3)","v":0},null,{"$f":"IF($AO$3=0,0,$AO$3)","v":0},null,{"$f":"IF($AP$3=0,0,$AP$3)","v":0},null,{"$f":"IF($AQ$3=0,0,$AQ$3)","v":0},null,{"$f":"IF($AR$3=0,0,$AR$3)","v":0},null,{"$f":"IF($AS$3=0,0,$AS$3)","v":0},null,{"$f":"IF(AT$3=0,0,$AT$3)","v":0},null,{"$f":"IF($AU$3=0,0,$AU$3)","v":0},null,{"$f":"IF($AV$3=0,0,$AV$3)","v":0}]
[{"$f":"Labels!$B$114","v":"   Vacances art. 12.1 CCT"},null,null,null,null,{"$f":"Labels!$B$115","v":"va"},{"$f":"IF($AJ$4=0,0,$AJ$4)","v":0},null,{"$f":"IF($AK$4=0,0,$AK$4)","v":0},null,{"$f":"IF($AL$4=0,0,$AL$4)","v":0},null,{"$f":"IF($AM$4=0,0,$AM$4)","v":0},null,{"$f":"IF($AN$4=0,0,$AN$4)","v":0},null,{"$f":"IF($AO$4=0,0,$AO$4)","v":0},null,{"$f":"IF($AP$4=0,0,$AP$4)","v":0},null,{"$f":"IF($AQ$4=0,0,$AQ$4)","v":0},null,{"$f":"IF($AR$4=0,0,$AR$4)","v":0},null,{"$f":"IF($AS$4=0,0,$AS$4)","v":0},null,{"$f":"IF($AT$4=0,0,$AT$4)","v":0},null,{"$f":"IF($AU$4=0,0,$AU$4)","v":0},null,{"$f":"IF($AV$4=0,0,$AV$4)","v":0}]
[{"$f":"Labels!$B$181","v":"   vacances non payées"},null,null,null,null,{"$f":"Labels!$B$182","v":"vn"},{"$f":"IF($AJ$13=0,0,$AJ$13)","v":0},null,{"$f":"IF($AK$13=0,0,$AK$13)","v":0},null,{"$f":"IF($AL$13=0,0,$AL$13)","v":0},null,{"$f":"IF($AM$13=0,0,$AM$13)","v":0},null,{"$f":"IF($AN$13=0,0,$AN$13)","v":0},null,{"$f":"IF($AO$13=0,0,$AO$13)","v":0},null,{"$f":"IF($AP$13=0,0,$AP$13)","v":0},null,{"$f":"IF($AQ$13=0,0,$AQ$13)","v":0},null,{"$f":"IF($AR$13=0,0,$AR$13)","v":0},null,{"$f":"IF($AS$13=0,0,$AS$13)","v":0},null,{"$f":"IF($AT$13=0,0,$AT$13)","v":0},null,{"$f":"IF($AU$13=0,0,$AU$13)","v":0},null,{"$f":"IF($AV$13=0,0,$AV$13)","v":0}]
[{"$f":"Labels!$B$116","v":"   Jours fériés art. 12.2 CCT"},null,{"$f":"IF($AJ$20=\"\",\"\",$AJ$20)","v":""},null,null,{"$f":"Labels!$B$118","v":"jf"},{"$f":"IF($AJ$18=0,0,$AJ$18)","v":0},null,{"$f":"IF($AK$18=0,0,$AK$18)","v":0},null,{"$f":"IF($AL$18=0,0,$AL$18)","v":0},null,{"$f":"IF($AM$18=0,0,$AM$18)","v":0},null,{"$f":"IF($AN$18=0,0,$AN$18)","v":0},null,{"$f":"IF($AO$18=0,0,$AO$18)","v":0},null,{"$f":"IF($AP$18=0,0,$AP$18)","v":0},null,{"$f":"IF($AQ$18=0,0,$AQ$18)","v":0},null,{"$f":"IF($AR$18=0,0,$AR$18)","v":0},null,{"$f":"IF($AS$18=0,0,$AS$18)","v":0},null,{"$f":"IF($AT$18=0,0,$AT$18)","v":0},null,{"$f":"IF($AU$18=0,0,$AU$18)","v":0},null,{"$f":"IF($AV$18=0,0,$AV$18)","v":0}]
[{"$f":"Labels!$B$119","v":"   Maladie art. 13 CCT"},null,null,null,null,{"$f":"Labels!$B$120","v":"ma"},{"$f":"IF($AJ$5=0,0,$AJ$5)","v":0},null,{"$f":"IF($AK$5=0,0,$AK$5)","v":0},null,{"$f":"IF($AL$5=0,0,$AL$5)","v":0},null,{"$f":"IF($AM$5=0,0,$AM$5)","v":0},null,{"$f":"IF($AN$5=0,0,$AN$5)","v":0},null,{"$f":"IF($AO$5=0,0,$AO$5)","v":0},null,{"$f":"IF($AP$5=0,0,$AP$5)","v":0},null,{"$f":"IF($AQ$5=0,0,$AQ$5)","v":0},null,{"$f":"IF($AR$5=0,0,$AR$5)","v":0},null,{"$f":"IF($AS$5=0,0,$AS$5)","v":0},null,{"$f":"IF($AT$5=0,0,$AT$5)","v":0},null,{"$f":"IF($AU$5=0,0,$AU$5)","v":0},null,{"$f":"IF($AV$5=0,0,$AV$5)","v":0}]
[{"$f":"Labels!$B$184","v":"non payeé"},null,null,null,null,null,{"$f":"IF(AJ$16=0,0,AJ$16)","v":0},null,{"$f":"IF($AK$16=0,0,$AK$16)","v":0},null,{"$f":"IF($AL$16=0,0,$AL$16)","v":0},null,{"$f":"IF($AM$16=0,0,$AM$16)","v":0},null,{"$f":"IF($AN$16=0,0,$AN$16)","v":0},null,{"$f":"IF($AO$16=0,0,$AO$16)","v":0},null,{"$f":"IF($AP$16=0,0,$AP$16)","v":0},null,{"$f":"IF($AQ$16=0,0,$AQ$16)","v":0},null,{"$f":"IF($AR$16=0,0,$AR$16)","v":0},null,{"$f":"IF($AS$16=0,0,$AS$16)","v":0},null,{"$f":"IF($AT$16=0,0,$AT$16)","v":0},null,{"$f":"IF($AU$16=0,0,$AU$16)","v":0},null,{"$f":"IF($AV$16=0,0,$AV$16)","v":0}]
[{"$f":"Labels!$B$121","v":"   Accident art. 14 CCT"},null,null,null,null,{"$f":"Labels!$B$122","v":"ac"},{"$f":"IF($AJ$6=0,0,$AJ$6)","v":0},null,{"$f":"IF($AK$6=0,0,$AK$6)","v":0},null,{"$f":"IF($AL$6=0,0,$AL$6)","v":0},null,{"$f":"IF($AM$6=0,0,$AM$6)","v":0},null,{"$f":"IF($AN$6=0,0,$AN$6)","v":0},null,{"$f":"IF($AO$6=0,0,$AO$6)","v":0},null,{"$f":"IF($AP$6=0,0,$AP$6)","v":0},null,{"$f":"IF($AQ$6=0,0,$AQ$6)","v":0},null,{"$f":"IF($AR$6=0,0,$AR$6)","v":0},null,{"$f":"IF($AS$6=0,0,$AS$6)","v":0},null,{"$f":"IF($AT$6=0,0,$AT$6)","v":0},null,{"$f":"IF($AU$6=0,0,$AU$6)","v":0},null,{"$f":"IF($AV$6=0,0,$AV$6)","v":0}]
[{"$f":"Labels!$B$123","v":"   Grossesse/Maternité art. 15 CCT"},null,null,null,null,{"$f":"Labels!$B$124","v":"gm"},{"$f":"IF($AJ$7=0,0,$AJ$7)","v":0},null,{"$f":"IF($AK$7=0,0,$AK$7)","v":0},null,{"$f":"IF($AL$7=0,0,$AL$7)","v":0},null,{"$f":"IF($AM$7=0,0,$AM$7)","v":0},null,{"$f":"IF($AN$7=0,0,$AN$7)","v":0},null,{"$f":"IF($AO$7=0,0,$AO$7)","v":0},null,{"$f":"IF($AP$7=0,0,$AP$7)","v":0},null,{"$f":"IF($AQ$7=0,0,$AQ$7)","v":0},null,{"$f":"IF($AR$7=0,0,$AR$7)","v":0},null,{"$f":"IF($AS$7=0,0,$AS$7)","v":0},null,{"$f":"IF($AT$7=0,0,$AT$7)","v":0},null,{"$f":"IF($AU$7=0,0,$AU$7)","v":0},null,{"$f":"IF($AV$7=0,0,$AV$7)","v":0}]
[{"$f":"Labels!$B$125","v":"   Militaire/Promotion/Protection civile art. 16 CCT"},null,null,null,null,{"$f":"Labels!$B$126","v":"mi"},{"$f":"IF($AJ$8=0,0,$AJ$8)","v":0},null,{"$f":"IF($AK$8=0,0,$AK$8)","v":0},null,{"$f":"IF($AL$8=0,0,$AL$8)","v":0},null,{"$f":"IF($AM$8=0,0,$AM$8)","v":0},null,{"$f":"IF($AN$8=0,0,$AN$8)","v":0},null,{"$f":"IF($AO$8=0,0,$AO$8)","v":0},null,{"$f":"IF($AP$8=0,0,$AP$8)","v":0},null,{"$f":"IF($AQ$8=0,0,$AQ$8)","v":0},null,{"$f":"IF($AR$8=0,0,$AR$8)","v":0},null,{"$f":"IF($AS$8=0,0,$AS$8)","v":0},null,{"$f":"IF($AT$8=0,0,$AT$8)","v":0},null,{"$f":"IF($AU$8=0,0,$AU$8)","v":0},null,{"$f":"IF($AV$8=0,0,$AV$8)","v":0}]
[{"$f":"Labels!$B$127","v":"   Chômage partiel et perte de travail cause d'intempéries"},null,null,null,null,{"$f":"Labels!$B$128","v":"ch"},{"$f":"IF($AJ$11=0,0,$AJ$11)","v":0},null,{"$f":"IF($AK$11=0,0,$AK$11)","v":0},null,{"$f":"IF($AL$11=0,0,$AL$11)","v":0},null,{"$f":"IF($AM$11=0,0,$AM$11)","v":0},null,{"$f":"IF($AN$11=0,0,$AN$11)","v":0},null,{"$f":"IF($AO$11=0,0,$AO$11)","v":0},null,{"$f":"IF($AP$11=0,0,$AP$11)","v":0},null,{"$f":"IF($AQ$11=0,0,$AQ$11)","v":0},null,{"$f":"IF($AR$11=0,0,$AR$11)","v":0},null,{"$f":"IF($AS$11=0,0,$AS$11)","v":0},null,{"$f":"IF($AT$11=0,0,$AT$11)","v":0},null,{"$f":"IF($AU$11=0,0,$AU$11)","v":0},null,{"$f":"IF($AV$11=0,0,$AV$11)","v":0}]
[{"$f":"Labels!$B$129","v":"   Ecole professionnelle"},null,null,null,null,{"$f":"Labels!$B$130","v":"ep"},{"$f":"IF($AJ$9=0,0,$AJ$9)","v":0},null,{"$f":"IF($AK$9=0,0,$AK$9)","v":0},null,{"$f":"IF($AL$9=0,0,$AL$9)","v":0},null,{"$f":"IF($AM$9=0,0,$AM$9)","v":0},null,{"$f":"IF($AN$9=0,0,$AN$9)","v":0},null,{"$f":"IF($AO$9=0,0,$AO$9)","v":0},null,{"$f":"IF($AP$9=0,0,$AP$9)","v":0},null,{"$f":"IF($AQ$9=0,0,$AQ$9)","v":0},null,{"$f":"IF($AR$9=0,0,$AR$9)","v":0},null,{"$f":"IF($AS$9=0,0,$AS$9)","v":0},null,{"$f":"IF($AT$9=0,0,$AT$9)","v":0},null,{"$f":"IF($AU$9=0,0,$AU$9)","v":0},null,{"$f":"IF($AV$9=0,0,$AV$9)","v":0}]
[{"$f":"Labels!$B$131","v":"   Cours"},null,null,null,null,{"$f":"Labels!$B$132","v":"co"},{"$f":"IF($AJ$10=0,0,$AJ$10)","v":0},null,{"$f":"IF($AK$10=0,0,$AK$10)","v":0},null,{"$f":"IF($AL$10=0,0,$AL$10)","v":0},null,{"$f":"IF($AM$10=0,0,$AM$10)","v":0},null,{"$f":"IF($AN$10=0,0,$AN$10)","v":0},null,{"$f":"IF($AO$10=0,0,$AO$10)","v":0},null,{"$f":"IF($AP$10=0,0,$AP$10)","v":0},null,{"$f":"IF($AQ$10=0,0,$AQ$10)","v":0},null,{"$f":"IF($AR$10=0,0,$AR$10)","v":0},null,{"$f":"IF($AS$10=0,0,$AS$10)","v":0},null,{"$f":"IF($AT$10=0,0,$AT$10)","v":0},null,{"$f":"IF($AU$10=0,0,$AU$10)","v":0},null,{"$f":"IF($AV$10=0,0,$AV$10)","v":0}]
[{"$f":"Labels!$B$133","v":"Heures de compensation"},{"$f":"Labels!$B$134","v":"de l'année passée"},null,null,null,{"$f":"Labels!$B$135","v":"cp"},{"$f":"IF($AJ$12=0,0,$AJ$12)","v":0},null,{"$f":"IF($AK$12=0,0,$AK$12)","v":0},null,{"$f":"IF($AL$12=0,0,$AL$12)","v":0},null,{"$f":"IF($AM$12=0,0,$AM$12)","v":0},null,{"$f":"IF($AN$12=0,0,$AN$12)","v":0},null,{"$f":"IF($AO$12=0,0,$AO$12)","v":0},null,{"$f":"IF($AP$12=0,0,$AP$12)","v":0},null,{"$f":"IF($AQ$12=0,0,$AQ$12)","v":0},null,{"$f":"IF($AR$12=0,0,$AR$12)","v":0},null,null,null,null,null,null,null,{"$f":"IF($AV$12=0,0,$AV$12)","v":0}]
[null,{"$f":"Labels!$B$136","v":"de l'année en cours (contrôle)"},null,null,null,{"$f":"Labels!$B$137","v":"cc"},{"$f":"IF($AJ$15=0,0,$AJ$15)","v":0},null,{"$f":"IF($AK$15=0,0,$AK$15)","v":0},null,{"$f":"IF($AL$15=0,0,$AL$15)","v":0},null,{"$f":"IF($AM$15=0,0,$AM$15)","v":0},null,{"$f":"IF($AN$15=0,0,$AN$15)","v":0},null,{"$f":"IF($AO$15=0,0,$AO$15)","v":0},null,{"$f":"IF($AP$15=0,0,$AP$15)","v":0},null,{"$f":"IF($AQ$15=0,0,$AQ$15)","v":0},null,{"$f":"IF($AR$15=0,0,$AR$15)","v":0},null,{"$f":"IF($AS$15=0,0,$AS$15)","v":0},null,{"$f":"IF($AT$15=0,0,$AT$15)","v":0},null,{"$f":"IF($AU$15=0,0,$AU$15)","v":0},null,{"$f":"IF($AV$15=0,0,$AV$15)","v":0}]
[{"$f":"Labels!$B$138","v":"Paiement des heures"},{"$f":"Labels!$B$139","v":"de l'année passée"},null,null,null,null,{"$f":"IF($AJ$21=0,0,$AJ$21)","v":0},null,{"$f":"IF($AK$21=0,0,$AK$21)","v":0},null,{"$f":"IF($AL$21=0,0,$AL$21)","v":0},null,{"$f":"IF($AM$21=0,0,$AM$21)","v":0},null,{"$f":"IF($AN$21=0,0,$AN$21)","v":0},null,{"$f":"IF($AO$21=0,0,$AO$21)","v":0},null,{"$f":"IF($AP$21=0,0,$AP$21)","v":0},null,{"$f":"IF($AQ$21=0,0,$AQ$21)","v":0},null,{"$f":"IF($AR$21=0,0,$AR$21)","v":0},null,null,null,null,null,null,null,{"$f":"IF($AV$21=0,0,$AV$21)","v":0}]
[{"$f":"Labels!$B$140","v":"Différence en heures"},{"$f":"Labels!$B$141","v":"après compensation et paiement"},null,null,null,null,{"$f":"IF(ROUND($P$4,3)=0,0,$P$4-G774-G776)","v":0},null,{"$f":"IF(ROUND(G777,3)=0,0,G777-(SUM(I774+I776)))","v":0},null,{"$f":"IF(ROUND(I777,3)=0,0,I777-K776-K774)","v":0},null,{"$f":"IF(ROUND(K777,3)=0,0,K777-(SUM(M776+M774)))","v":0},null,{"$f":"IF(ROUND(M777,3)=0,0,M777-(SUM(O776+O774)))","v":0},null,{"$f":"IF(ROUND(O777,3)=0,0,O777-(SUM(Q776+Q774)))","v":0},null,{"$f":"IF(ROUND(Q777,3)=0,0,Q777-(SUM(S776+S774)))","v":0},null,{"$f":"IF(ROUND(S777,3)=0,0,S777-(SUM(U776+U774)))","v":0},null,{"$f":"IF(ROUND(U777,3)=0,0,U777-(SUM(W776+W774)))","v":0},null,{"$f":"IF($W$62<0.1,\"\",AY759)","v":""}]
[{"$f":"Labels!$B$138","v":"Paiement des heures"},{"$f":"Labels!$B$142","v":"de l'année en cours"},null,null,null,null,{"$f":"IF($AJ$22=0,0,$AJ$22)","v":0},null,{"$f":"IF($AK$22=0,0,$AK$22)","v":0},null,{"$f":"IF($AL$22=0,0,$AL$22)","v":0},null,{"$f":"IF($AM$22=0,0,$AM$22)","v":0},null,{"$f":"IF($AN$22=0,0,$AN$22)","v":0},null,{"$f":"IF($AO$22=0,0,$AO$22)","v":0},null,{"$f":"IF($AP$22=0,0,$AP$22)","v":0},null,{"$f":"IF($AQ$22=0,0,$AQ$22)","v":0},null,{"$f":"IF($AR$22=0,0,$AR$22)","v":0},null,{"$f":"IF($AS$22=0,0,$AS$22)","v":0},null,{"$f":"IF($AT$22=0,0,$AT$22)","v":0},null,{"$f":"IF($AU$22=0,0,$AU$22)","v":0},null,{"$f":"IF($AV$22=0,0,$AV$22)","v":0}]
[{"$f":"Labels!$B$143","v":"Heures manquantes"},{"$f":"Labels!$B$144","v":"de l'année en cours (contrôle)"},null,null,null,{"$f":"Labels!$B$145","v":"hm"},{"$f":"IF($AJ$14=0,0,$AJ$14)","v":0},null,{"$f":"IF($AK$14=0,0,$AK$14)","v":0},null,{"$f":"IF($AL$14=0,0,$AL$14)","v":0},null,{"$f":"IF($AM$14=0,0,$AM$14)","v":0},null,{"$f":"IF($AN$14=0,0,$AN$14)","v":0},null,{"$f":"IF($AO$14=0,0,$AO$14)","v":0},null,{"$f":"IF($AP$14=0,0,$AP$14)","v":0},null,{"$f":"IF($AQ$14=0,0,$AQ$14)","v":0},null,{"$f":"IF($AR$14=0,0,$AR$14)","v":0},null,{"$f":"IF($AS$14=0,0,$AS$14)","v":0},null,{"$f":"IF($AT$14=0,0,$AT$14)","v":0},null,{"$f":"IF($AU$14=0,0,$AU$14)","v":0},null,{"$f":"IF($AV$14=0,0,$AV$14)","v":0}]
[{"$f":"Labels!$B$146","v":"Total (majorations inclus)"},{"$f":"Labels!$B$147","v":"heures productives et inproductives"},null,null,null,null,{"$f":"IF($AG$35=0,0,$AG$35)","v":0},null,{"$f":"IF($AG$100=0,0,$AG$100)","v":0},null,{"$f":"IF($AG$165=0,0,$AG$165)","v":0},null,{"$f":"IF($AG$230=0,0,$AG$230)","v":0},null,{"$f":"IF($AG$295=0,0,$AG$295)","v":0},null,{"$f":"IF($AG$360=0,0,$AG$360)","v":0},null,{"$f":"IF($AG$425=0,0,$AG$425)","v":0},null,{"$f":"IF($AG$490=0,0,$AG$490)","v":0},null,{"$f":"IF($AG$555=0,0,$AG$555)","v":0},null,{"$f":"IF($AG$620=0,0,$AG$620)","v":0},null,{"$f":"IF($AG$685=0,0,$AG$685)","v":0},null,{"$f":"IF($AG$750=0,0,$AG$750)","v":0},null,{"$f":"SUM($G$65:$AD$65)","v":0}]
[{"$f":"Labels!$B$148","v":"Comparaison des heures"},{"$f":"Labels!$B$149","v":"aux heures théorique CCT (heures \nmanquantes de l'année passée incl.)"},null,null,null,null,{"$f":"IF($AG$37=0,0,$AG$37)-$AE$34+$P$5","v":-176},null,{"$f":"IF($AG$102=0,0,$AG$102)-$AE$99","v":-160},null,{"$f":"IF($AG$167=0,0,$AG$167)-$AE$164","v":-184},null,{"$f":"IF($AG$232=0,0,$AG$232)-$AE$229","v":-160},null,{"$f":"IF($AG$297=0,0,$AG$297)-$AE$294","v":-184},null,{"$f":"IF($AG$362=0,0,$AG$362)-$AE$359","v":-176},null,{"$f":"IF($AG$427=0,0,$AG$427)-$AE$424","v":-168},null,{"$f":"IF($AG$492=0,0,$AG$492)-$AE$489","v":-184},null,{"$f":"IF($AG$557=0,0,$AG$557)-$AE$554","v":-168},null,{"$f":"IF($AG$622=0,0,$AG$622)-$AE$619","v":-176},null,{"$f":"IF($AG$687=0,0,$AG$687)-$AE$684","v":-176},null,{"$f":"IF($AG$752=0,0,$AG$752)-$AE$749","v":-168},null,{"$f":"SUM($G$66:$AD$66)","v":-2080}]
[null,{"$f":"Labels!$B$151","v":"aux heures théorique (cumulées)"},null,null,null,null,{"$f":"IF(G755=0,0,$G$66)","v":-176},null,{"$f":"IF(I755=0,0,SUM($G$66:$J$66))","v":-336},null,{"$f":"IF(K755=0,0,SUM($G$66:$L$66))","v":-520},null,{"$f":"IF(M755=0,0,SUM($G$66:$N$66))","v":-680},null,{"$f":"IF(O755=0,0,SUM($G$66:$P$66))","v":-864},null,{"$f":"IF(Q755=0,0,SUM($G$66:$R$66))","v":-1040},null,{"$f":"IF(S755=0,0,SUM($G$66:$T$66))","v":-1208},null,{"$f":"IF(U755=0,0,SUM($G$66:$V$66))","v":-1392},null,{"$f":"IF(W755=0,0,SUM($G$66:$X$66))","v":-1560},null,{"$f":"IF(Y755=0,0,SUM($G$66:$Z$66))","v":-1736},null,{"$f":"IF(AA755=0,0,SUM($G$66:$AB$66))","v":-1912},null,{"$f":"IF(AC755=0,0,SUM($G$66:$AD$66))","v":-2080}]
[{"$f":"Labels!$B$153","v":"Vacances (contrôle)"},{"$f":"Labels!$B$154","v":"Vacances année passée"},null,null,null,null,{"$f":"IF($AA$4=0,0,$AA$4)","v":0},null,{"$f":"Labels!$B$155","v":"Vacances selon \nart 12.1 CCT"},null,null,null,{"$f":"IF($AA$5=0,0,$AA$5)","v":0},null,{"$f":"Labels!$B$156","v":"Total des vacances"},null,null,null,{"$f":"SUM(G783+M783)","v":0},null,{"$f":"Labels!$B$157","v":"Vacances prises"},null,null,null,{"$f":"IF($AV$4=0,0,$AV$4)","v":0},null,{"$f":"Labels!$B$158","v":"Vacances restantes"},null,null,null,{"$f":"IF(S783=0,0,S783-Y783)","v":0}]
[]
[]
[]
[]
[]
[]
[]
[]
[]
[]
[]
[]
[]
[]
[]
[]
[]
[]
[]
[]
[]
[]
[]
[null,null,null,null,null,null,null,null,null,null,null,null,null,null,null,null,null,null,null,null,null,null,null,null,null,null,null,null,null,null,null,null,null,null,null,"Legende Absenztypen (DE)"]
[]
[null,null,null,null,null,null,null,null,null,null,null,null,null,null,null,null,null,null,null,null,null,null,null,null,null,null,null,null,null,null,null,null,null,null,null,"f","Ferien Art. 12.1. GAV"]
[null,null,null,null,null,null,null,null,null,null,null,null,null,null,null,null,null,null,null,null,null,null,null,null,null,null,null,null,null,null,null,null,null,null,null,"kv","Kompensation Vorjahressaldo für Abrechnung in der Zusammenfassung"]
[null,null,null,null,null,null,null,null,null,null,null,null,null,null,null,null,null,null,null,null,null,null,null,null,null,null,null,null,null,null,null,null,null,null,null,"kj","Kompensation laufendes Jahr siehe  Zusammenfassung"]
[null,null,null,null,null,null,null,null,null,null,null,null,null,null,null,null,null,null,null,null,null,null,null,null,null,null,null,null,null,null,null,null,null,null,null,"a","Absenzen, Kurzabsenzen\nArt. 11 GAV"]
[null,null,null,null,null,null,null,null,null,null,null,null,null,null,null,null,null,null,null,null,null,null,null,null,null,null,null,null,null,null,null,null,null,null,null,"k","Krankheit Art. 13 GAV"]
[null,null,null,null,null,null,null,null,null,null,null,null,null,null,null,null,null,null,null,null,null,null,null,null,null,null,null,null,null,null,null,null,null,null,null,"u","Unfall Art. 14 GAV"]
[null,null,null,null,null,null,null,null,null,null,null,null,null,null,null,null,null,null,null,null,null,null,null,null,null,null,null,null,null,null,null,null,null,null,null,"s","Schwanger-/Mutterschaft\nArt. 15 GAV"]
[null,null,null,null,null,null,null,null,null,null,null,null,null,null,null,null,null,null,null,null,null,null,null,null,null,null,null,null,null,null,null,null,null,null,null,"m","Militär, Zivilschutz\nArt. 16 GAV"]
[null,null,null,null,null,null,null,null,null,null,null,null,null,null,null,null,null,null,null,null,null,null,null,null,null,null,null,null,null,null,null,null,null,null,null,"bs","Berufsschule"]
["Testbereich Absenzen",null,null,null,null,null,null,null,null,null,null,null,null,null,null,null,null,null,null,null,null,null,null,null,null,null,null,null,null,null,null,null,null,null,null,"ku","Kurse"]
[null,{"$f":"B845","v":0},{"$f":"C845","v":0},null,null,null,null,null,null,null,null,null,null,null,null,null,null,null,null,null,null,null,null,null,null,null,null,null,null,null,null,null,null,null,null,"ka","Kurzabeit, Schlechtwetterausfälle"]
[null,{"$f":"IF(B845<>0,IF(MAX(B832:B844)<B845,\"div\",INDEX($AH$832:$AH$844,MATCH(MAX(B832:B844),B832:B844,0))),\"\")","v":""},{"$f":"IF(C845<>0,IF(MAX(C832:C844)<C845,\"div\",INDEX($AH$832:$AH$844,MATCH(MAX(C832:C844),C832:C844,0))),\"\")","v":""}]
[null,null,null,null,null,null,null,null,null,null,null,null,null,null,null,null,null,null,null,null,null,null,null,null,null,null,null,null,null,null,null,null,null,null,null,"fe","Fehlstunden zur Information ohne Berechnung in der Zusammenfassung"]
["Code für Max-Wert",{"$f":"INDEX($AH$832:$AH$844,MATCH(MAX(B832:B844),B832:B844,0))","v":{"$error":"#N/A"}},null,null,"Jahressaldo",null,null,{"$f":"D5","v":-2080}]
[]
[{"$f":"A9","v":"janvier"},{"$f":"Labels!B32","v":"Solde mois + / -"},null,null,null,{"$f":"F9","v":-176},null,null,null,null,null,null,null,null,null,null,null,null,null,null,null,null,null,null,null,null,null,{"$f":"Labels!B38","v":"Absences"},null,null,{"$f":"Labels!B77","v":"Jan"},null,{"$f":"COUNT(B827:AF827)&\" \"&Labels!$B$63","v":"22 Jours"}]
[{"$f":"Labels!B35","v":"Jour"},{"$f":"B10","v":"2023-01-01"},{"$f":"B825+1","v":"2023-01-02"},"2023-01-03","2023-01-04","2023-01-05","2023-01-06","2023-01-07","2023-01-08","2023-01-09","2023-01-10","2023-01-11","2023-01-12","2023-01-13","2023-01-14","2023-01-15","2023-01-16","2023-01-17","2023-01-18","2023-01-19","2023-01-20","2023-01-21","2023-01-22","2023-01-23","2023-01-24","2023-01-25","2023-01-26","2023-01-27","2023-01-28","2023-01-29","2023-01-30","2023-01-31"]
[{"$f":"Labels!B36","v":"semaine civile"},{"$f":"IF(B825=\"\",\"\",TRUNC((B825-DATE(YEAR(B825+3-MOD(B825-2,7)),1,MOD(B825-2,7)-9))/7))","v":52},{"$f":"IF(C825=\"\",\"\",TRUNC((C825-DATE(YEAR(C825+3-MOD(C825-2,7)),1,MOD(C825-2,7)-9))/7))","v":1},1,1,1,1,1,1,2,2,2,2,2,2,2,3,3,3,3,3,3,3,4,4,4,4,4,4,4,5,5,{"$f":"SUM(B827:AF827)","v":176}]
[{"$f":"Labels!B37","v":"Théorique sel. CCT"},{"$f":"B12","v":""},{"$f":"C12","v":8},8,8,8,8,"","",8,8,8,8,8,"","",8,8,8,8,8,"","",8,8,8,8,8,"","",8,8]
[{"$f":"Labels!B165","v":"Heures productives"},{"$f":"SUM(B15:B17)","v":0},0,0,0,0,0,0,0,0,0,0,0,0,0,0,0,0,0,0,0,0,0,0,0,0,0,0,0,0,0,0,{"$f":"SUM(B828:AF828)","v":0},"Produktivstunden"]
["Tag ausschliessen (mit x markieren)",null,null,null,null,null,null,null,null,null,null,null,null,null,null,null,null,null,null,null,null,null,null,null,null,null,null,null,null,null,null,null,{"$f":"COUNTA(B829:AF829)","v":0},"ausschliessen"]
["Karenztage (mit x markieren)",null,null,null,null,null,null,null,null,null,null,null,null,null,null,null,null,null,null,null,null,null,null,null,null,null,null,null,null,null,null,null,{"$f":"COUNTA(B830:AF830)","v":0},"Karenztage"]
[{"$f":"Labels!B166","v":"Jours fériés [jf]"},{"$f":"B18","v":""},"","","","","","","","","","","","","","","","","","","","","","","","","","","","","","",{"$f":"COUNTIF(B831:AF831,\"ft\")","v":0},{"$f":"Labels!B118","v":"jf"}]
[{"$f":"Labels!B167","v":"Vacances [va]"},null,null,null,null,null,null,null,null,null,null,null,null,null,null,null,null,null,null,null,null,null,null,null,null,null,null,null,null,null,null,null,{"$f":"SUM(B832:AF832)","v":0},{"$f":"Labels!B115","v":"va"}]
[{"$f":"Labels!B168","v":"Compensation (année passée) [cp]"},null,null,null,null,null,null,null,null,null,null,null,null,null,null,null,null,null,null,null,null,null,null,null,null,null,null,null,null,null,null,null,0,{"$f":"Labels!B135","v":"cp"}]
[{"$f":"Labels!B169","v":"Compensation (année courant) [cc]"},null,null,null,null,null,null,null,null,null,null,null,null,null,null,null,null,null,null,null,null,null,null,null,null,null,null,null,null,null,null,null,0,{"$f":"Labels!B137","v":"cc"}]
[{"$f":"Labels!B170","v":"Absences [ab]"},null,null,null,null,null,null,null,null,null,null,null,null,null,null,null,null,null,null,null,null,null,null,null,null,null,null,null,null,null,null,null,0,{"$f":"Labels!B113","v":"ab"}]
[{"$f":"Labels!B171","v":"Maladie [ma]"},null,null,null,null,null,null,null,null,null,null,null,null,null,null,null,null,null,null,null,null,null,null,null,null,null,null,null,null,null,null,null,0,{"$f":"Labels!B120","v":"ma"}]
[{"$f":"Labels!B172","v":"Accident [ac]"},null,null,null,null,null,null,null,null,null,null,null,null,null,null,null,null,null,null,null,null,null,null,null,null,null,null,null,null,null,null,null,0,{"$f":"Labels!B122","v":"ac"}]
[{"$f":"Labels!B173","v":"Grossesse/Maternité [gm]"},null,null,null,null,null,null,null,null,null,null,null,null,null,null,null,null,null,null,null,null,null,null,null,null,null,null,null,null,null,null,null,0,{"$f":"Labels!B124","v":"gm"}]
[{"$f":"Labels!B174","v":"Militaire/Promotion/Protection civile [mi]"},null,null,null,null,null,null,null,null,null,null,null,null,null,null,null,null,null,null,null,null,null,null,null,null,null,null,null,null,null,null,null,0,{"$f":"Labels!B126","v":"mi"}]
[{"$f":"Labels!B175","v":"Ecole professionelle [ep]"},null,null,null,null,null,null,null,null,null,null,null,null,null,null,null,null,null,null,null,null,null,null,null,null,null,null,null,null,null,null,null,0,{"$f":"Labels!B130","v":"ep"}]
[{"$f":"Labels!B176","v":"Cours [co]"},null,null,null,null,null,null,null,null,null,null,null,null,null,null,null,null,null,null,null,null,null,null,null,null,null,null,null,null,null,null,null,0,{"$f":"Labels!B132","v":"co"}]
[{"$f":"Labels!B177","v":"Chômage partiel et intempéries [ch]"},null,null,null,null,null,null,null,null,null,null,null,null,null,null,null,null,null,null,null,null,null,null,null,null,null,null,null,null,null,null,null,0,{"$f":"Labels!B128","v":"ch"}]
[{"$f":"Labels!B179","v":"Vacances non payées [vn]"},null,null,null,null,null,null,null,null,null,null,null,null,null,null,null,null,null,null,null,null,null,null,null,null,null,null,null,null,null,null,null,0,{"$f":"Labels!B180","v":"vn"}]
[{"$f":"Labels!B178","v":"Heures manquantes [hm]"},null,null,null,null,null,null,null,null,null,null,null,null,null,null,null,null,null,null,null,null,null,null,null,null,null,null,null,null,null,null,null,0,{"$f":"Labels!B145","v":"hm"}]
[{"$f":"Labels!B102","v":"Total"},{"$f":"SUM(B832:B844)-IF(B830=\"x\",B836,0)","v":0},{"$f":"SUM(C832:C844)-IF(C830=\"x\",C836,0)","v":0},{"$f":"SUM(D832:D844)-IF(D830=\"x\",D836,0)","v":0},0,0,0,0,0,0,0,0,0,0,0,0,0,0,0,0,0,0,0,0,0,0,0,0,0,0,0,0,null,"Total"]
[]
[]
[]
[{"$f":"A74","v":"février"},{"$f":"$B$824","v":"Solde mois + / -"},null,null,null,{"$f":"F74","v":-160},null,null,null,null,null,null,null,null,null,null,null,null,null,null,null,null,null,null,null,null,null,{"$f":"$AB$824","v":"Absences"},null,null,{"$f":"Labels!B78","v":"Fév"},null,{"$f":"COUNT(B852:AF852)&\" \"&Labels!$B$63","v":"20 Jours"}]
[{"$f":"$A$825","v":"Jour"},{"$f":"B75","v":"2023-02-01"},{"$f":"B850+1","v":"2023-02-02"},"2023-02-03","2023-02-04","2023-02-05","2023-02-06","2023-02-07","2023-02-08","2023-02-09","2023-02-10","2023-02-11","2023-02-12","2023-02-13","2023-02-14","2023-02-15","2023-02-16","2023-02-17","2023-02-18","2023-02-19","2023-02-20","2023-02-21","2023-02-22","2023-02-23","2023-02-24","2023-02-25","2023-02-26","2023-02-27","2023-02-28",{"$f":"IF(istSchaltjahr,AC850+1,\"\")","v":""}]
[{"$f":"$A$826","v":"semaine civile"},{"$f":"IF(B850=\"\",\"\",TRUNC((B850-DATE(YEAR(B850+3-MOD(B850-2,7)),1,MOD(B850-2,7)-9))/7))","v":5},{"$f":"IF(C850=\"\",\"\",TRUNC((C850-DATE(YEAR(C850+3-MOD(C850-2,7)),1,MOD(C850-2,7)-9))/7))","v":5},5,5,5,6,6,6,6,6,6,6,7,7,7,7,7,7,7,8,8,8,8,8,8,8,9,9,"",null,null,{"$f":"IF($AD$850=\"\",SUM(A852:AC852),SUM(B852:AF852))","v":160}]
[{"$f":"$A$827","v":"Théorique sel. CCT"},{"$f":"B77","v":8},8,8,"","",8,8,8,8,8,"","",8,8,8,8,8,"","",8,8,8,8,8,"","",8,8,""]
[{"$f":"$A$828","v":"Heures productives"},{"$f":"SUM(B80:B82)","v":0},0,0,0,0,0,0,0,0,0,0,0,0,0,0,0,0,0,0,0,0,0,0,0,0,0,0,0,{"$f":"IF(AD850=\"\",\"\",SUM(AD80:AD82))","v":""},null,null,{"$f":"IF($AD$850=\"\",SUM(B853:AC853),SUM(B853:AD853))","v":0},"Produktivstunden"]
["Tag ausschliessen (mit x markieren)",null,null,null,null,null,null,null,null,null,null,null,null,null,null,null,null,null,null,null,null,null,null,null,null,null,null,null,null,null,null,null,{"$f":"IF($AD$850=\"\",COUNTA(B854:AC854),COUNTA(B854:AD854))","v":0},"ausschliessen"]
["Karenztage (mit x markieren)",null,null,null,null,null,null,null,null,null,null,null,null,null,null,null,null,null,null,null,null,null,null,null,null,null,null,null,null,null,null,null,{"$f":"IF($AD$850=\"\",COUNTA(B855:AC855),COUNTA(B855:AD855))","v":0},"Karenztage"]
[{"$f":"$A$831","v":"Jours fériés [jf]"},{"$f":"B83","v":""},"","","","","","","","","","","","","","","","","","","","","","","","","","","",{"$f":"IF(AD850=\"\",\"\",AD83)","v":""},null,null,{"$f":"IF($AD$850=\"\",COUNTIF(B856:AC856,\"ft\"),COUNTIF(B856:AD856,\"ft\"))","v":0},{"$f":"$AH$831","v":"jf"}]
[{"$f":"$A$832","v":"Vacances [va]"},null,null,null,null,null,null,null,null,null,null,null,null,null,null,null,null,null,null,null,null,null,null,null,null,null,null,null,null,null,null,null,{"$f":"IF($AD$850=\"\",SUM(B857:AC857),SUM(B857:AD857))","v":0},{"$f":"$AH$832","v":"va"}]
[{"$f":"$A$833","v":"Compensation (année passée) [cp]"},null,null,null,null,null,null,null,null,null,null,null,null,null,null,null,null,null,null,null,null,null,null,null,null,null,null,null,null,null,null,null,0,{"$f":"$AH$833","v":"cp"}]
[{"$f":"$A$834","v":"Compensation (année courant) [cc]"},null,null,null,null,null,null,null,null,null,null,null,null,null,null,null,null,null,null,null,null,null,null,null,null,null,null,null,null,null,null,null,0,{"$f":"$AH$834","v":"cc"}]
[{"$f":"$A$835","v":"Absences [ab]"},null,null,null,null,null,null,null,null,null,null,null,null,null,null,null,null,null,null,null,null,null,null,null,null,null,null,null,null,null,null,null,0,{"$f":"$AH$835","v":"ab"}]
[{"$f":"$A$836","v":"Maladie [ma]"},null,null,null,null,null,null,null,null,null,null,null,null,null,null,null,null,null,null,null,null,null,null,null,null,null,null,null,null,null,null,null,0,{"$f":"$AH$836","v":"ma"}]
[{"$f":"$A$837","v":"Accident [ac]"},null,null,null,null,null,null,null,null,null,null,null,null,null,null,null,null,null,null,null,null,null,null,null,null,null,null,null,null,null,null,null,0,{"$f":"$AH$837","v":"ac"}]
[{"$f":"$A$838","v":"Grossesse/Maternité [gm]"},null,null,null,null,null,null,null,null,null,null,null,null,null,null,null,null,null,null,null,null,null,null,null,null,null,null,null,null,null,null,null,0,{"$f":"$AH$838","v":"gm"}]
[{"$f":"$A$839","v":"Militaire/Promotion/Protection civile [mi]"},null,null,null,null,null,null,null,null,null,null,null,null,null,null,null,null,null,null,null,null,null,null,null,null,null,null,null,null,null,null,null,0,{"$f":"$AH$839","v":"mi"}]
[{"$f":"$A$840","v":"Ecole professionelle [ep]"},null,null,null,null,null,null,null,null,null,null,null,null,null,null,null,null,null,null,null,null,null,null,null,null,null,null,null,null,null,null,null,0,{"$f":"$AH$840","v":"ep"}]
[{"$f":"$A$841","v":"Cours [co]"},null,null,null,null,null,null,null,null,null,null,null,null,null,null,null,null,null,null,null,null,null,null,null,null,null,null,null,null,null,null,null,0,{"$f":"$AH$841","v":"co"}]
[{"$f":"$A$842","v":"Chômage partiel et intempéries [ch]"},null,null,null,null,null,null,null,null,null,null,null,null,null,null,null,null,null,null,null,null,null,null,null,null,null,null,null,null,null,null,null,0,{"$f":"$AH$842","v":"ch"}]
[{"$f":"$A$843","v":"Vacances non payées [vn]"},null,null,null,null,null,null,null,null,null,null,null,null,null,null,null,null,null,null,null,null,null,null,null,null,null,null,null,null,null,null,null,0,{"$f":"$AH$843","v":"vn"}]
[{"$f":"$A$844","v":"Heures manquantes [hm]"},null,null,null,null,null,null,null,null,null,null,null,null,null,null,null,null,null,null,null,null,null,null,null,null,null,null,null,null,null,null,null,0,{"$f":"$AH$844","v":"hm"}]
[{"$f":"$A$845","v":"Total"},{"$f":"SUM(B857:B869)-IF(B855=\"x\",B861,0)","v":0},{"$f":"SUM(C857:C869)-IF(C855=\"x\",C861,0)","v":0},0,0,0,0,0,0,0,0,0,0,0,0,0,0,0,0,0,0,0,0,0,0,0,0,0,0,{"$f":"IF(AD850=\"\",\"\",SUM(AD857:AD869)-IF(AD855=\"x\",AD861,0))","v":""},null,null,null,"Total"]
[]
[]
[]
[{"$f":"A139","v":"mars"},{"$f":"$B$824","v":"Solde mois + / -"},null,null,null,{"$f":"F139","v":-184},null,null,null,null,null,null,null,null,null,null,null,null,null,null,null,null,null,null,null,null,null,{"$f":"$AB$824","v":"Absences"},null,null,{"$f":"Labels!B79","v":"Mar"},null,{"$f":"COUNT(B877:AF877)&\" \"&Labels!$B$63","v":"23 Jours"}]
[{"$f":"$A$825","v":"Jour"},{"$f":"B140","v":"2023-03-01"},{"$f":"B875+1","v":"2023-03-02"},"2023-03-03","2023-03-04","2023-03-05","2023-03-06","2023-03-07","2023-03-08","2023-03-09","2023-03-10","2023-03-11","2023-03-12","2023-03-13","2023-03-14","2023-03-15","2023-03-16","2023-03-17","2023-03-18","2023-03-19","2023-03-20","2023-03-21","2023-03-22","2023-03-23","2023-03-24","2023-03-25","2023-03-26","2023-03-27","2023-03-28","2023-03-29","2023-03-30","2023-03-31"]
[{"$f":"$A$826","v":"semaine civile"},{"$f":"IF(B875=\"\",\"\",TRUNC((B875-DATE(YEAR(B875+3-MOD(B875-2,7)),1,MOD(B875-2,7)-9))/7))","v":9},{"$f":"IF(C875=\"\",\"\",TRUNC((C875-DATE(YEAR(C875+3-MOD(C875-2,7)),1,MOD(C875-2,7)-9))/7))","v":9},9,9,9,10,10,10,10,10,10,10,11,11,11,11,11,11,11,12,12,12,12,12,12,12,13,13,13,13,13,{"$f":"SUM(B877:AF877)","v":184}]
[{"$f":"$A$827","v":"Théorique sel. CCT"},{"$f":"B142","v":8},8,8,"","",8,8,8,8,8,"","",8,8,8,8,8,"","",8,8,8,8,8,"","",8,8,8,8,8]
[{"$f":"$A$828","v":"Heures productives"},{"$f":"SUM(B145:B147)","v":0},0,0,0,0,0,0,0,0,0,0,0,0,0,0,0,0,0,0,0,0,0,0,0,0,0,0,0,0,0,0,{"$f":"SUM(B878:AF878)","v":0},"Produktivstunden"]
["Tag ausschliessen (mit x markieren)",null,null,null,null,null,null,null,null,null,null,null,null,null,null,null,null,null,null,null,null,null,null,null,null,null,null,null,null,null,null,null,{"$f":"COUNTA(B879:AF879)","v":0},"ausschliessen"]
["Karenztage (mit x markieren)",null,null,null,null,null,null,null,null,null,null,null,null,null,null,null,null,null,null,null,null,null,null,null,null,null,null,null,null,null,null,null,{"$f":"COUNTA(B880:AF880)","v":0},"Karenztage"]
[{"$f":"$A$831","v":"Jours fériés [jf]"},{"$f":"B148","v":""},"","","","","","","","","","","","","","","","","","","","","","","","","","","","","","",{"$f":"COUNTIF(B881:AF881,\"ft\")","v":0},{"$f":"$AH$831","v":"jf"}]
[{"$f":"$A$832","v":"Vacances [va]"},null,null,null,null,null,null,null,null,null,null,null,null,null,null,null,null,null,null,null,null,null,null,null,null,null,null,null,null,null,null,null,{"$f":"SUM(B882:AF882)","v":0},{"$f":"$AH$832","v":"va"}]
[{"$f":"$A$833","v":"Compensation (année passée) [cp]"},null,null,null,null,null,null,null,null,null,null,null,null,null,null,null,null,null,null,null,null,null,null,null,null,null,null,null,null,null,null,null,0,{"$f":"$AH$833","v":"cp"}]
[{"$f":"$A$834","v":"Compensation (année courant) [cc]"},null,null,null,null,null,null,null,null,null,null,null,null,null,null,null,null,null,null,null,null,null,null,null,null,null,null,null,null,null,null,null,0,{"$f":"$AH$834","v":"cc"}]
[{"$f":"$A$835","v":"Absences [ab]"},null,null,null,null,null,null,null,null,null,null,null,null,null,null,null,null,null,null,null,null,null,null,null,null,null,null,null,null,null,null,null,0,{"$f":"$AH$835","v":"ab"}]
[{"$f":"$A$836","v":"Maladie [ma]"},null,null,null,null,null,null,null,null,null,null,null,null,null,null,null,null,null,null,null,null,null,null,null,null,null,null,null,null,null,null,null,0,{"$f":"$AH$836","v":"ma"}]
[{"$f":"$A$837","v":"Accident [ac]"},null,null,null,null,null,null,null,null,null,null,null,null,null,null,null,null,null,null,null,null,null,null,null,null,null,null,null,null,null,null,null,0,{"$f":"$AH$837","v":"ac"}]
[{"$f":"$A$838","v":"Grossesse/Maternité [gm]"},null,null,null,null,null,null,null,null,null,null,null,null,null,null,null,null,null,null,null,null,null,null,null,null,null,null,null,null,null,null,null,0,{"$f":"$AH$838","v":"gm"}]
[{"$f":"$A$839","v":"Militaire/Promotion/Protection civile [mi]"},null,null,null,null,null,null,null,null,null,null,null,null,null,null,null,null,null,null,null,null,null,null,null,null,null,null,null,null,null,null,null,0,{"$f":"$AH$839","v":"mi"}]
[{"$f":"$A$840","v":"Ecole professionelle [ep]"},null,null,null,null,null,null,null,null,null,null,null,null,null,null,null,null,null,null,null,null,null,null,null,null,null,null,null,null,null,null,null,0,{"$f":"$AH$840","v":"ep"}]
[{"$f":"$A$841","v":"Cours [co]"},null,null,null,null,null,null,null,null,null,null,null,null,null,null,null,null,null,null,null,null,null,null,null,null,null,null,null,null,null,null,null,0,{"$f":"$AH$841","v":"co"}]
[{"$f":"$A$842","v":"Chômage partiel et intempéries [ch]"},null,null,null,null,null,null,null,null,null,null,null,null,null,null,null,null,null,null,null,null,null,null,null,null,null,null,null,null,null,null,null,0,{"$f":"$AH$842","v":"ch"}]
[{"$f":"$A$843","v":"Vacances non payées [vn]"},null,null,null,null,null,null,null,null,null,null,null,null,null,null,null,null,null,null,null,null,null,null,null,null,null,null,null,null,null,null,null,0,{"$f":"$AH$843","v":"vn"}]
[{"$f":"$A$844","v":"Heures manquantes [hm]"},null,null,null,null,null,null,null,null,null,null,null,null,null,null,null,null,null,null,null,null,null,null,null,null,null,null,null,null,null,null,null,0,{"$f":"$AH$844","v":"hm"}]
[{"$f":"$A$845","v":"Total"},{"$f":"SUM(B882:B894)-IF(B880=\"x\",B886,0)","v":0},{"$f":"SUM(C882:C894)-IF(C880=\"x\",C886,0)","v":0},0,0,0,0,0,0,0,0,0,0,0,0,0,0,0,0,0,0,0,0,0,0,0,0,0,0,0,0,0,null,"Total"]
[]
[]
[]
[{"$f":"A204","v":"avril"},{"$f":"$B$824","v":"Solde mois + / -"},null,null,null,{"$f":"F204","v":160},null,null,null,null,null,null,null,null,null,null,null,null,null,null,null,null,null,null,null,null,null,{"$f":"$AB$824","v":"Absences"},null,null,{"$f":"Labels!B80","v":"Avr"},null,{"$f":"COUNT(B902:AF902)&\" \"&Labels!$B$63","v":"20 Jours"}]
[{"$f":"$A$825","v":"Jour"},{"$f":"B205","v":"2023-04-01"},{"$f":"B900+1","v":"2023-04-02"},"2023-04-03","2023-04-04","2023-04-05","2023-04-06","2023-04-07","2023-04-08","2023-04-09","2023-04-10","2023-04-11","2023-04-12","2023-04-13","2023-04-14","2023-04-15","2023-04-16","2023-04-17","2023-04-18","2023-04-19","2023-04-20","2023-04-21","2023-04-22","2023-04-23","2023-04-24","2023-04-25","2023-04-26","2023-04-27","2023-04-28","2023-04-29","2023-04-30"]
[{"$f":"$A$826","v":"semaine civile"},{"$f":"IF(B900=\"\",\"\",TRUNC((B900-DATE(YEAR(B900+3-MOD(B900-2,7)),1,MOD(B900-2,7)-9))/7))","v":13},{"$f":"IF(C900=\"\",\"\",TRUNC((C900-DATE(YEAR(C900+3-MOD(C900-2,7)),1,MOD(C900-2,7)-9))/7))","v":13},14,14,14,14,14,14,14,15,15,15,15,15,15,15,16,16,16,16,16,16,16,17,17,17,17,17,17,17,null,{"$f":"SUM(B902:AF902)","v":160}]
[{"$f":"$A$827","v":"Théorique sel. CCT"},{"$f":"B207","v":""},"",8,8,8,8,8,"","",8,8,8,8,8,"","",8,8,8,8,8,"","",8,8,8,8,8,"",""]
[{"$f":"$A$828","v":"Heures productives"},{"$f":"SUM(B210:B212)","v":0},0,0,0,0,0,0,0,0,0,0,0,0,0,0,0,0,0,0,0,0,0,0,0,0,0,0,0,0,0,null,{"$f":"SUM(B903:AF903)","v":0},"Produktivstunden"]
["Tag ausschliessen (mit x markieren)",null,null,null,null,null,null,null,null,null,null,null,null,null,null,null,null,null,null,null,null,null,null,null,null,null,null,null,null,null,null,null,{"$f":"COUNTA(B904:AF904)","v":0},"ausschliessen"]
["Karenztage (mit x markieren)",null,null,null,null,null,null,null,null,null,null,null,null,null,null,null,null,null,null,null,null,null,null,null,null,null,null,null,null,null,null,null,{"$f":"COUNTA(B905:AF905)","v":0},"Karenztage"]
[{"$f":"$A$831","v":"Jours fériés [jf]"},{"$f":"B213","v":""},"","","","","","","","","","","","","","","","","","","","","","","","","","","","","",null,{"$f":"COUNTIF(B906:AF906,\"ft\")","v":0},{"$f":"$AH$831","v":"jf"}]
[{"$f":"$A$832","v":"Vacances [va]"},null,null,null,null,null,null,null,null,null,null,null,null,null,null,null,null,null,null,null,null,null,null,null,null,null,null,null,null,null,null,null,{"$f":"SUM(B907:AF907)","v":0},{"$f":"$AH$832","v":"va"}]
[{"$f":"$A$833","v":"Compensation (année passée) [cp]"},null,null,null,null,null,null,null,null,null,null,null,null,null,null,null,null,null,null,null,null,null,null,null,null,null,null,null,null,null,null,null,0,{"$f":"$AH$833","v":"cp"}]
[{"$f":"$A$834","v":"Compensation (année courant) [cc]"},null,null,null,null,null,null,null,null,null,null,null,null,null,null,null,null,null,null,null,null,null,null,null,null,null,null,null,null,null,null,null,0,{"$f":"$AH$834","v":"cc"}]
[{"$f":"$A$835","v":"Absences [ab]"},null,null,null,null,null,null,null,null,null,null,null,null,null,null,null,null,null,null,null,null,null,null,null,null,null,null,null,null,null,null,null,0,{"$f":"$AH$835","v":"ab"}]
[{"$f":"$A$836","v":"Maladie [ma]"},null,null,null,null,null,null,null,null,null,null,null,null,null,null,null,null,null,null,null,null,null,null,null,null,null,null,null,null,null,null,null,0,{"$f":"$AH$836","v":"ma"}]
[{"$f":"$A$837","v":"Accident [ac]"},null,null,null,null,null,null,null,null,null,null,null,null,null,null,null,null,null,null,null,null,null,null,null,null,null,null,null,null,null,null,null,0,{"$f":"$AH$837","v":"ac"}]
[{"$f":"$A$838","v":"Grossesse/Maternité [gm]"},null,null,null,null,null,null,null,null,null,null,null,null,null,null,null,null,null,null,null,null,null,null,null,null,null,null,null,null,null,null,null,0,{"$f":"$AH$838","v":"gm"}]
[{"$f":"$A$839","v":"Militaire/Promotion/Protection civile [mi]"},null,null,null,null,null,null,null,null,null,null,null,null,null,null,null,null,null,null,null,null,null,null,null,null,null,null,null,null,null,null,null,0,{"$f":"$AH$839","v":"mi"}]
[{"$f":"$A$840","v":"Ecole professionelle [ep]"},null,null,null,null,null,null,null,null,null,null,null,null,null,null,null,null,null,null,null,null,null,null,null,null,null,null,null,null,null,null,null,0,{"$f":"$AH$840","v":"ep"}]
[{"$f":"$A$841","v":"Cours [co]"},null,null,null,null,null,null,null,null,null,null,null,null,null,null,null,null,null,null,null,null,null,null,null,null,null,null,null,null,null,null,null,0,{"$f":"$AH$841","v":"co"}]
[{"$f":"$A$842","v":"Chômage partiel et intempéries [ch]"},null,null,null,null,null,null,null,null,null,null,null,null,null,null,null,null,null,null,null,null,null,null,null,null,null,null,null,null,null,null,null,0,{"$f":"$AH$842","v":"ch"}]
[{"$f":"$A$843","v":"Vacances non payées [vn]"},null,null,null,null,null,null,null,null,null,null,null,null,null,null,null,null,null,null,null,null,null,null,null,null,null,null,null,null,null,null,null,0,{"$f":"$AH$843","v":"vn"}]
[{"$f":"$A$844","v":"Heures manquantes [hm]"},null,null,null,null,null,null,null,null,null,null,null,null,null,null,null,null,null,null,null,null,null,null,null,null,null,null,null,null,null,null,null,0,{"$f":"$AH$844","v":"hm"}]
[{"$f":"$A$845","v":"Total"},{"$f":"SUM(B907:B919)-IF(B905=\"x\",B911,0)","v":0},{"$f":"SUM(C907:C919)-IF(C905=\"x\",C911,0)","v":0},{"$f":"SUM(D907:D919)-IF(D905=\"x\",D911,0)","v":0},{"$f":"SUM(E907:E919)-IF(E905=\"x\",E911,0)","v":0},0,0,0,0,0,0,0,0,0,0,0,0,0,0,0,0,0,0,0,0,0,0,0,0,0,0,null,null,"Total"]
[]
[]
[]
[{"$f":"A269","v":"mai"},{"$f":"$B$824","v":"Solde mois + / -"},null,null,null,{"$f":"F269","v":184},null,null,null,null,null,null,null,null,null,null,null,null,null,null,null,null,null,null,null,null,null,{"$f":"$AB$824","v":"Absences"},null,null,{"$f":"Labels!B81","v":"Mai"},null,{"$f":"COUNT(B927:AF927)&\" \"&Labels!$B$63","v":"23 Jours"}]
[{"$f":"$A$825","v":"Jour"},{"$f":"B270","v":"2023-05-01"},{"$f":"B925+1","v":"2023-05-02"},"2023-05-03","2023-05-04","2023-05-05","2023-05-06","2023-05-07","2023-05-08","2023-05-09","2023-05-10","2023-05-11","2023-05-12","2023-05-13","2023-05-14","2023-05-15","2023-05-16","2023-05-17","2023-05-18","2023-05-19","2023-05-20","2023-05-21","2023-05-22","2023-05-23","2023-05-24","2023-05-25","2023-05-26","2023-05-27","2023-05-28","2023-05-29","2023-05-30","2023-05-31"]
[{"$f":"$A$826","v":"semaine civile"},{"$f":"IF(B925=\"\",\"\",TRUNC((B925-DATE(YEAR(B925+3-MOD(B925-2,7)),1,MOD(B925-2,7)-9))/7))","v":18},{"$f":"IF(C925=\"\",\"\",TRUNC((C925-DATE(YEAR(C925+3-MOD(C925-2,7)),1,MOD(C925-2,7)-9))/7))","v":18},18,18,18,18,18,19,19,19,19,19,19,19,20,20,20,20,20,20,20,21,21,21,21,21,21,21,22,22,22,{"$f":"SUM(B927:AF927)","v":184}]
[{"$f":"$A$827","v":"Théorique sel. CCT"},{"$f":"B272","v":8},8,8,8,8,"","",8,8,8,8,8,"","",8,8,8,8,8,"","",8,8,8,8,8,"","",8,8,8]
[{"$f":"$A$828","v":"Heures productives"},{"$f":"SUM(B275:B277)","v":0},0,0,0,0,0,0,0,0,0,0,0,0,0,0,0,0,0,0,0,0,0,0,0,0,0,0,0,0,0,0,{"$f":"SUM(B928:AF928)","v":0},"Produktivstunden"]
["Tag ausschliessen (mit x markieren)",null,null,null,null,null,null,null,null,null,null,null,null,null,null,null,null,null,null,null,null,null,null,null,null,null,null,null,null,null,null,null,{"$f":"COUNTA(B929:AF929)","v":0},"ausschliessen"]
["Karenztage (mit x markieren)",null,null,null,null,null,null,null,null,null,null,null,null,null,null,null,null,null,null,null,null,null,null,null,null,null,null,null,null,null,null,null,{"$f":"COUNTA(B930:AF930)","v":0},"Karenztage"]
[{"$f":"$A$831","v":"Jours fériés [jf]"},{"$f":"B278","v":""},"","","","","","","","","","","","","","","","","","","","","","","","","","","","","","",{"$f":"COUNTIF(B931:AF931,\"ft\")","v":0},{"$f":"$AH$831","v":"jf"}]
[{"$f":"$A$832","v":"Vacances [va]"},null,null,null,null,null,null,null,null,null,null,null,null,null,null,null,null,null,null,null,null,null,null,null,null,null,null,null,null,null,null,null,{"$f":"SUM(B932:AF932)","v":0},{"$f":"$AH$832","v":"va"}]
[{"$f":"$A$833","v":"Compensation (année passée) [cp]"},null,null,null,null,null,null,null,null,null,null,null,null,null,null,null,null,null,null,null,null,null,null,null,null,null,null,null,null,null,null,null,0,{"$f":"$AH$833","v":"cp"}]
[{"$f":"$A$834","v":"Compensation (année courant) [cc]"},null,null,null,null,null,null,null,null,null,null,null,null,null,null,null,null,null,null,null,null,null,null,null,null,null,null,null,null,null,null,null,0,{"$f":"$AH$834","v":"cc"}]
[{"$f":"$A$835","v":"Absences [ab]"},null,null,null,null,null,null,null,null,null,null,null,null,null,null,null,null,null,null,null,null,null,null,null,null,null,null,null,null,null,null,null,0,{"$f":"$AH$835","v":"ab"}]
[{"$f":"$A$836","v":"Maladie [ma]"},null,null,null,null,null,null,null,null,null,null,null,null,null,null,null,null,null,null,null,null,null,null,null,null,null,null,null,null,null,null,null,0,{"$f":"$AH$836","v":"ma"}]
[{"$f":"$A$837","v":"Accident [ac]"},null,null,null,null,null,null,null,null,null,null,null,null,null,null,null,null,null,null,null,null,null,null,null,null,null,null,null,null,null,null,null,0,{"$f":"$AH$837","v":"ac"}]
[{"$f":"$A$838","v":"Grossesse/Maternité [gm]"},null,null,null,null,null,null,null,null,null,null,null,null,null,null,null,null,null,null,null,null,null,null,null,null,null,null,null,null,null,null,null,0,{"$f":"$AH$838","v":"gm"}]
[{"$f":"$A$839","v":"Militaire/Promotion/Protection civile [mi]"},null,null,null,null,null,null,null,null,null,null,null,null,null,null,null,null,null,null,null,null,null,null,null,null,null,null,null,null,null,null,null,0,{"$f":"$AH$839","v":"mi"}]
[{"$f":"$A$840","v":"Ecole professionelle [ep]"},null,null,null,null,null,null,null,null,null,null,null,null,null,null,null,null,null,null,null,null,null,null,null,null,null,null,null,null,null,null,null,0,{"$f":"$AH$840","v":"ep"}]
[{"$f":"$A$841","v":"Cours [co]"},null,null,null,null,null,null,null,null,null,null,null,null,null,null,null,null,null,null,null,null,null,null,null,null,null,null,null,null,null,null,null,0,{"$f":"$AH$841","v":"co"}]
[{"$f":"$A$842","v":"Chômage partiel et intempéries [ch]"},null,null,null,null,null,null,null,null,null,null,null,null,null,null,null,null,null,null,null,null,null,null,null,null,null,null,null,null,null,null,null,0,{"$f":"$AH$842","v":"ch"}]
[{"$f":"$A$843","v":"Vacances non payées [vn]"},null,null,null,null,null,null,null,null,null,null,null,null,null,null,null,null,null,null,null,null,null,null,null,null,null,null,null,null,null,null,null,0,{"$f":"$AH$843","v":"vn"}]
[{"$f":"$A$844","v":"Heures manquantes [hm]"},null,null,null,null,null,null,null,null,null,null,null,null,null,null,null,null,null,null,null,null,null,null,null,null,null,null,null,null,null,null,null,0,{"$f":"$AH$844","v":"hm"}]
[{"$f":"$A$845","v":"Total"},{"$f":"SUM(B932:B944)-IF(B930=\"x\",B936,0)","v":0},{"$f":"SUM(C932:C944)-IF(C930=\"x\",C936,0)","v":0},{"$f":"SUM(D932:D944)-IF(D930=\"x\",D936,0)","v":0},{"$f":"SUM(E932:E944)-IF(E930=\"x\",E936,0)","v":0},0,0,0,0,0,0,0,0,0,0,0,0,0,0,0,0,0,0,0,0,0,0,0,0,0,0,0,null,"Total"]
[]
[]
[]
[{"$f":"A334","v":"juin"},{"$f":"$B$824","v":"Solde mois + / -"},null,null,null,{"$f":"F334","v":176},null,null,null,null,null,null,null,null,null,null,null,null,null,null,null,null,null,null,null,null,null,{"$f":"$AB$824","v":"Absences"},null,null,{"$f":"Labels!B82","v":"Jun"},null,{"$f":"COUNT(B952:AF952)&\" \"&Labels!$B$63","v":"22 Jours"}]
[{"$f":"$A$825","v":"Jour"},{"$f":"B335","v":"2023-06-01"},{"$f":"B950+1","v":"2023-06-02"},"2023-06-03","2023-06-04","2023-06-05","2023-06-06","2023-06-07","2023-06-08","2023-06-09","2023-06-10","2023-06-11","2023-06-12","2023-06-13","2023-06-14","2023-06-15","2023-06-16","2023-06-17","2023-06-18","2023-06-19","2023-06-20","2023-06-21","2023-06-22","2023-06-23","2023-06-24","2023-06-25","2023-06-26","2023-06-27","2023-06-28","2023-06-29","2023-06-30"]
[{"$f":"$A$826","v":"semaine civile"},{"$f":"IF(B950=\"\",\"\",TRUNC((B950-DATE(YEAR(B950+3-MOD(B950-2,7)),1,MOD(B950-2,7)-9))/7))","v":22},{"$f":"IF(C950=\"\",\"\",TRUNC((C950-DATE(YEAR(C950+3-MOD(C950-2,7)),1,MOD(C950-2,7)-9))/7))","v":22},22,22,23,23,23,23,23,23,23,24,24,24,24,24,24,24,25,25,25,25,25,25,25,26,26,26,26,26,null,{"$f":"SUM(B952:AF952)","v":176}]
[{"$f":"$A$827","v":"Théorique sel. CCT"},{"$f":"B337","v":8},8,"","",8,8,8,8,8,"","",8,8,8,8,8,"","",8,8,8,8,8,"","",8,8,8,8,8]
[{"$f":"$A$828","v":"Heures productives"},{"$f":"SUM(B340:B342)","v":0},0,0,0,0,0,0,0,0,0,0,0,0,0,0,0,0,0,0,0,0,0,0,0,0,0,0,0,0,0,null,{"$f":"SUM(B953:AF953)","v":0},"Produktivstunden"]
["Tag ausschliessen (mit x markieren)",null,null,null,null,null,null,null,null,null,null,null,null,null,null,null,null,null,null,null,null,null,null,null,null,null,null,null,null,null,null,null,{"$f":"COUNTA(B954:AF954)","v":0},"ausschliessen"]
["Karenztage (mit x markieren)",null,null,null,null,null,null,null,null,null,null,null,null,null,null,null,null,null,null,null,null,null,null,null,null,null,null,null,null,null,null,null,{"$f":"COUNTA(B955:AF955)","v":0}]
[{"$f":"$A$831","v":"Jours fériés [jf]"},{"$f":"B343","v":""},"","","","","","","","","","","","","","","","","","","","","","","","","","","","","",null,{"$f":"COUNTIF(B956:AF956,\"ft\")","v":0},{"$f":"$AH$831","v":"jf"}]
[{"$f":"$A$832","v":"Vacances [va]"},null,null,null,null,null,null,null,null,null,null,null,null,null,null,null,null,null,null,null,null,null,null,null,null,null,null,null,null,null,null,null,{"$f":"SUM(B957:AF957)","v":0},{"$f":"$AH$832","v":"va"}]
[{"$f":"$A$833","v":"Compensation (année passée) [cp]"},null,null,null,null,null,null,null,null,null,null,null,null,null,null,null,null,null,null,null,null,null,null,null,null,null,null,null,null,null,null,null,0,{"$f":"$AH$833","v":"cp"}]
[{"$f":"$A$834","v":"Compensation (année courant) [cc]"},null,null,null,null,null,null,null,null,null,null,null,null,null,null,null,null,null,null,null,null,null,null,null,null,null,null,null,null,null,null,null,0,{"$f":"$AH$834","v":"cc"}]
[{"$f":"$A$835","v":"Absences [ab]"},null,null,null,null,null,null,null,null,null,null,null,null,null,null,null,null,null,null,null,null,null,null,null,null,null,null,null,null,null,null,null,0,{"$f":"$AH$835","v":"ab"}]
[{"$f":"$A$836","v":"Maladie [ma]"},null,null,null,null,null,null,null,null,null,null,null,null,null,null,null,null,null,null,null,null,null,null,null,null,null,null,null,null,null,null,null,0,{"$f":"$AH$836","v":"ma"}]
[{"$f":"$A$837","v":"Accident [ac]"},null,null,null,null,null,null,null,null,null,null,null,null,null,null,null,null,null,null,null,null,null,null,null,null,null,null,null,null,null,null,null,0,{"$f":"$AH$837","v":"ac"}]
[{"$f":"$A$838","v":"Grossesse/Maternité [gm]"},null,null,null,null,null,null,null,null,null,null,null,null,null,null,null,null,null,null,null,null,null,null,null,null,null,null,null,null,null,null,null,0,{"$f":"$AH$838","v":"gm"}]
[{"$f":"$A$839","v":"Militaire/Promotion/Protection civile [mi]"},null,null,null,null,null,null,null,null,null,null,null,null,null,null,null,null,null,null,null,null,null,null,null,null,null,null,null,null,null,null,null,0,{"$f":"$AH$839","v":"mi"}]
[{"$f":"$A$840","v":"Ecole professionelle [ep]"},null,null,null,null,null,null,null,null,null,null,null,null,null,null,null,null,null,null,null,null,null,null,null,null,null,null,null,null,null,null,null,0,{"$f":"$AH$840","v":"ep"}]
[{"$f":"$A$841","v":"Cours [co]"},null,null,null,null,null,null,null,null,null,null,null,null,null,null,null,null,null,null,null,null,null,null,null,null,null,null,null,null,null,null,null,0,{"$f":"$AH$841","v":"co"}]
[{"$f":"$A$842","v":"Chômage partiel et intempéries [ch]"},null,null,null,null,null,null,null,null,null,null,null,null,null,null,null,null,null,null,null,null,null,null,null,null,null,null,null,null,null,null,null,0,{"$f":"$AH$842","v":"ch"}]
[{"$f":"$A$843","v":"Vacances non payées [vn]"},null,null,null,null,null,null,null,null,null,null,null,null,null,null,null,null,null,null,null,null,null,null,null,null,null,null,null,null,null,null,null,0,{"$f":"$AH$843","v":"vn"}]
[{"$f":"$A$844","v":"Heures manquantes [hm]"},null,null,null,null,null,null,null,null,null,null,null,null,null,null,null,null,null,null,null,null,null,null,null,null,null,null,null,null,null,null,null,0,{"$f":"$AH$844","v":"hm"}]
[{"$f":"$A$845","v":"Total"},{"$f":"SUM(B957:B969)-IF(B955=\"x\",B961,0)","v":0},{"$f":"SUM(C957:C969)-IF(C955=\"x\",C961,0)","v":0},{"$f":"SUM(D957:D969)-IF(D955=\"x\",D961,0)","v":0},{"$f":"SUM(E957:E969)-IF(E955=\"x\",E961,0)","v":0},0,0,0,0,0,0,0,0,0,0,0,0,0,0,0,0,0,0,0,0,0,0,0,0,0,0,null,null,"Total"]
[]
[]
[]
[{"$f":"A399","v":"juillet"},{"$f":"$B$824","v":"Solde mois + / -"},null,null,null,{"$f":"F399","v":168},null,null,null,null,null,null,null,null,null,null,null,null,null,null,null,null,null,null,null,null,null,{"$f":"$AB$824","v":"Absences"},null,null,{"$f":"Labels!B83","v":"Jul"},null,{"$f":"COUNT(B977:AF977)&\" \"&Labels!$B$63","v":"21 Jours"}]
[{"$f":"$A$825","v":"Jour"},{"$f":"B400","v":"2023-07-01"},{"$f":"B975+1","v":"2023-07-02"},"2023-07-03","2023-07-04","2023-07-05","2023-07-06","2023-07-07","2023-07-08","2023-07-09","2023-07-10","2023-07-11","2023-07-12","2023-07-13","2023-07-14","2023-07-15","2023-07-16","2023-07-17","2023-07-18","2023-07-19","2023-07-20","2023-07-21","2023-07-22","2023-07-23","2023-07-24","2023-07-25","2023-07-26","2023-07-27","2023-07-28","2023-07-29","2023-07-30","2023-07-31"]
[{"$f":"$A$826","v":"semaine civile"},{"$f":"IF(B975=\"\",\"\",TRUNC((B975-DATE(YEAR(B975+3-MOD(B975-2,7)),1,MOD(B975-2,7)-9))/7))","v":26},{"$f":"IF(C975=\"\",\"\",TRUNC((C975-DATE(YEAR(C975+3-MOD(C975-2,7)),1,MOD(C975-2,7)-9))/7))","v":26},27,27,27,27,27,27,27,28,28,28,28,28,28,28,29,29,29,29,29,29,29,30,30,30,30,30,30,30,31,{"$f":"SUM(B977:AF977)","v":168}]
[{"$f":"$A$827","v":"Théorique sel. CCT"},{"$f":"B402","v":""},"",8,8,8,8,8,"","",8,8,8,8,8,"","",8,8,8,8,8,"","",8,8,8,8,8,"","",8]
[{"$f":"$A$828","v":"Heures productives"},{"$f":"SUM(B405:B407)","v":0},0,0,0,0,0,0,0,0,0,0,0,0,0,0,0,0,0,0,0,0,0,0,0,0,0,0,0,0,0,0,{"$f":"SUM(B978:AF978)","v":0},"Produktivstunden"]
["Tag ausschliessen (mit x markieren)",null,null,null,null,null,null,null,null,null,null,null,null,null,null,null,null,null,null,null,null,null,null,null,null,null,null,null,null,null,null,null,{"$f":"COUNTA(B979:AF979)","v":0},"ausschliessen"]
["Karenztage (mit x markieren)",null,null,null,null,null,null,null,null,null,null,null,null,null,null,null,null,null,null,null,null,null,null,null,null,null,null,null,null,null,null,null,{"$f":"COUNTA(B980:AF980)","v":0},"Karenztage"]
[{"$f":"$A$831","v":"Jours fériés [jf]"},{"$f":"B408","v":""},"","","","","","","","","","","","","","","","","","","","","","","","","","","","","","",{"$f":"COUNTIF(B981:AF981,\"ft\")","v":0},{"$f":"$AH$831","v":"jf"}]
[{"$f":"$A$832","v":"Vacances [va]"},null,null,null,null,null,null,null,null,null,null,null,null,null,null,null,null,null,null,null,null,null,null,null,null,null,null,null,null,null,null,null,{"$f":"SUM(B982:AF982)","v":0},{"$f":"$AH$832","v":"va"}]
[{"$f":"$A$833","v":"Compensation (année passée) [cp]"},null,null,null,null,null,null,null,null,null,null,null,null,null,null,null,null,null,null,null,null,null,null,null,null,null,null,null,null,null,null,null,0,{"$f":"$AH$833","v":"cp"}]
[{"$f":"$A$834","v":"Compensation (année courant) [cc]"},null,null,null,null,null,null,null,null,null,null,null,null,null,null,null,null,null,null,null,null,null,null,null,null,null,null,null,null,null,null,null,0,{"$f":"$AH$834","v":"cc"}]
[{"$f":"$A$835","v":"Absences [ab]"},null,null,null,null,null,null,null,null,null,null,null,null,null,null,null,null,null,null,null,null,null,null,null,null,null,null,null,null,null,null,null,0,{"$f":"$AH$835","v":"ab"}]
[{"$f":"$A$836","v":"Maladie [ma]"},null,null,null,null,null,null,null,null,null,null,null,null,null,null,null,null,null,null,null,null,null,null,null,null,null,null,null,null,null,null,null,0,{"$f":"$AH$836","v":"ma"}]
[{"$f":"$A$837","v":"Accident [ac]"},null,null,null,null,null,null,null,null,null,null,null,null,null,null,null,null,null,null,null,null,null,null,null,null,null,null,null,null,null,null,null,0,{"$f":"$AH$837","v":"ac"}]
[{"$f":"$A$838","v":"Grossesse/Maternité [gm]"},null,null,null,null,null,null,null,null,null,null,null,null,null,null,null,null,null,null,null,null,null,null,null,null,null,null,null,null,null,null,null,0,{"$f":"$AH$838","v":"gm"}]
[{"$f":"$A$839","v":"Militaire/Promotion/Protection civile [mi]"},null,null,null,null,null,null,null,null,null,null,null,null,null,null,null,null,null,null,null,null,null,null,null,null,null,null,null,null,null,null,null,0,{"$f":"$AH$839","v":"mi"}]
[{"$f":"$A$840","v":"Ecole professionelle [ep]"},null,null,null,null,null,null,null,null,null,null,null,null,null,null,null,null,null,null,null,null,null,null,null,null,null,null,null,null,null,null,null,0,{"$f":"$AH$840","v":"ep"}]
[{"$f":"$A$841","v":"Cours [co]"},null,null,null,null,null,null,null,null,null,null,null,null,null,null,null,null,null,null,null,null,null,null,null,null,null,null,null,null,null,null,null,0,{"$f":"$AH$841","v":"co"}]
[{"$f":"$A$842","v":"Chômage partiel et intempéries [ch]"},null,null,null,null,null,null,null,null,null,null,null,null,null,null,null,null,null,null,null,null,null,null,null,null,null,null,null,null,null,null,null,0,{"$f":"$AH$842","v":"ch"}]
[{"$f":"$A$843","v":"Vacances non payées [vn]"},null,null,null,null,null,null,null,null,null,null,null,null,null,null,null,null,null,null,null,null,null,null,null,null,null,null,null,null,null,null,null,0,{"$f":"$AH$843","v":"vn"}]
[{"$f":"$A$844","v":"Heures manquantes [hm]"},null,null,null,null,null,null,null,null,null,null,null,null,null,null,null,null,null,null,null,null,null,null,null,null,null,null,null,null,null,null,null,0,{"$f":"$AH$844","v":"hm"}]
[{"$f":"$A$845","v":"Total"},{"$f":"SUM(B982:B994)-IF(B980=\"x\",B986,0)","v":0},{"$f":"SUM(C982:C994)-IF(C980=\"x\",C986,0)","v":0},{"$f":"SUM(D982:D994)-IF(D980=\"x\",D986,0)","v":0},{"$f":"SUM(E982:E994)-IF(E980=\"x\",E986,0)","v":0},0,0,0,0,0,0,0,0,0,0,0,0,0,0,0,0,0,0,0,0,0,0,0,0,0,0,0,null,"Total"]
[]
[]
[]
[{"$f":"A464","v":"août"},{"$f":"$B$824","v":"Solde mois + / -"},null,null,null,{"$f":"F464","v":184},null,null,null,null,null,null,null,null,null,null,null,null,null,null,null,null,null,null,null,null,null,{"$f":"$AB$824","v":"Absences"},null,null,{"$f":"Labels!B84","v":"Aoû"},null,{"$f":"COUNT(B1002:AF1002)&\" \"&Labels!$B$63","v":"23 Jours"}]
[{"$f":"$A$825","v":"Jour"},{"$f":"B465","v":"2023-08-01"},{"$f":"B1000+1","v":"2023-08-02"},"2023-08-03","2023-08-04","2023-08-05","2023-08-06","2023-08-07","2023-08-08","2023-08-09","2023-08-10","2023-08-11","2023-08-12","2023-08-13","2023-08-14","2023-08-15","2023-08-16","2023-08-17","2023-08-18","2023-08-19","2023-08-20","2023-08-21","2023-08-22","2023-08-23","2023-08-24","2023-08-25","2023-08-26","2023-08-27","2023-08-28","2023-08-29","2023-08-30","2023-08-31"]
[{"$f":"$A$826","v":"semaine civile"},{"$f":"IF(B1000=\"\",\"\",TRUNC((B1000-DATE(YEAR(B1000+3-MOD(B1000-2,7)),1,MOD(B1000-2,7)-9))/7))","v":31},{"$f":"IF(C1000=\"\",\"\",TRUNC((C1000-DATE(YEAR(C1000+3-MOD(C1000-2,7)),1,MOD(C1000-2,7)-9))/7))","v":31},31,31,31,31,32,32,32,32,32,32,32,33,33,33,33,33,33,33,34,34,34,34,34,34,34,35,35,35,35,{"$f":"SUM(B1002:AF1002)","v":184}]
[{"$f":"$A$827","v":"Théorique sel. CCT"},{"$f":"B467","v":8},8,8,8,"","",8,8,8,8,8,"","",8,8,8,8,8,"","",8,8,8,8,8,"","",8,8,8,8]
[{"$f":"$A$828","v":"Heures productives"},{"$f":"SUM(B470:B472)","v":0},0,0,0,0,0,0,0,0,0,0,0,0,0,0,0,0,0,0,0,0,0,0,0,0,0,0,0,0,0,0,{"$f":"SUM(B1003:AF1003)","v":0},"Produktivstunden"]
["Tag ausschliessen (mit x markieren)",null,null,null,null,null,null,null,null,null,null,null,null,null,null,null,null,null,null,null,null,null,null,null,null,null,null,null,null,null,null,null,{"$f":"COUNTA(B1004:AF1004)","v":0},"ausschliessen"]
["Karenztage (mit x markieren)",null,null,null,null,null,null,null,null,null,null,null,null,null,null,null,null,null,null,null,null,null,null,null,null,null,null,null,null,null,null,null,{"$f":"COUNTA(B1005:AF1005)","v":0},"Karenztage"]
[{"$f":"$A$831","v":"Jours fériés [jf]"},{"$f":"B473","v":""},"","","","","","","","","","","","","","","","","","","","","","","","","","","","","","",{"$f":"COUNTIF(B1006:AF1006,\"ft\")","v":0},{"$f":"$AH$831","v":"jf"}]
[{"$f":"$A$832","v":"Vacances [va]"},null,null,null,null,null,null,null,null,null,null,null,null,null,null,null,null,null,null,null,null,null,null,null,null,null,null,null,null,null,null,null,{"$f":"SUM(B1007:AF1007)","v":0},{"$f":"$AH$832","v":"va"}]
[{"$f":"$A$833","v":"Compensation (année passée) [cp]"},null,null,null,null,null,null,null,null,null,null,null,null,null,null,null,null,null,null,null,null,null,null,null,null,null,null,null,null,null,null,null,0,{"$f":"$AH$833","v":"cp"}]
[{"$f":"$A$834","v":"Compensation (année courant) [cc]"},null,null,null,null,null,null,null,null,null,null,null,null,null,null,null,null,null,null,null,null,null,null,null,null,null,null,null,null,null,null,null,0,{"$f":"$AH$834","v":"cc"}]
[{"$f":"$A$835","v":"Absences [ab]"},null,null,null,null,null,null,null,null,null,null,null,null,null,null,null,null,null,null,null,null,null,null,null,null,null,null,null,null,null,null,null,0,{"$f":"$AH$835","v":"ab"}]
[{"$f":"$A$836","v":"Maladie [ma]"},null,null,null,null,null,null,null,null,null,null,null,null,null,null,null,null,null,null,null,null,null,null,null,null,null,null,null,null,null,null,null,0,{"$f":"$AH$836","v":"ma"}]
[{"$f":"$A$837","v":"Accident [ac]"},null,null,null,null,null,null,null,null,null,null,null,null,null,null,null,null,null,null,null,null,null,null,null,null,null,null,null,null,null,null,null,0,{"$f":"$AH$837","v":"ac"}]
[{"$f":"$A$838","v":"Grossesse/Maternité [gm]"},null,null,null,null,null,null,null,null,null,null,null,null,null,null,null,null,null,null,null,null,null,null,null,null,null,null,null,null,null,null,null,0,{"$f":"$AH$838","v":"gm"}]
[{"$f":"$A$839","v":"Militaire/Promotion/Protection civile [mi]"},null,null,null,null,null,null,null,null,null,null,null,null,null,null,null,null,null,null,null,null,null,null,null,null,null,null,null,null,null,null,null,0,{"$f":"$AH$839","v":"mi"}]
[{"$f":"$A$840","v":"Ecole professionelle [ep]"},null,null,null,null,null,null,null,null,null,null,null,null,null,null,null,null,null,null,null,null,null,null,null,null,null,null,null,null,null,null,null,0,{"$f":"$AH$840","v":"ep"}]
[{"$f":"$A$841","v":"Cours [co]"},null,null,null,null,null,null,null,null,null,null,null,null,null,null,null,null,null,null,null,null,null,null,null,null,null,null,null,null,null,null,null,0,{"$f":"$AH$841","v":"co"}]
[{"$f":"$A$842","v":"Chômage partiel et intempéries [ch]"},null,null,null,null,null,null,null,null,null,null,null,null,null,null,null,null,null,null,null,null,null,null,null,null,null,null,null,null,null,null,null,0,{"$f":"$AH$842","v":"ch"}]
[{"$f":"$A$843","v":"Vacances non payées [vn]"},null,null,null,null,null,null,null,null,null,null,null,null,null,null,null,null,null,null,null,null,null,null,null,null,null,null,null,null,null,null,null,0,{"$f":"$AH$843","v":"vn"}]
[{"$f":"$A$844","v":"Heures manquantes [hm]"},null,null,null,null,null,null,null,null,null,null,null,null,null,null,null,null,null,null,null,null,null,null,null,null,null,null,null,null,null,null,null,0,{"$f":"$AH$844","v":"hm"}]
[{"$f":"$A$845","v":"Total"},{"$f":"SUM(B1007:B1019)-IF(B1005=\"x\",B1011,0)","v":0},{"$f":"SUM(C1007:C1019)-IF(C1005=\"x\",C1011,0)","v":0},{"$f":"SUM(D1007:D1019)-IF(D1005=\"x\",D1011,0)","v":0},{"$f":"SUM(E1007:E1019)-IF(E1005=\"x\",E1011,0)","v":0},0,0,0,0,0,0,0,0,0,0,0,0,0,0,0,0,0,0,0,0,0,0,0,0,0,0,0,null,"Total"]
[]
[]
[]
[{"$f":"A529","v":"septembre"},{"$f":"$B$824","v":"Solde mois + / -"},null,null,null,{"$f":"F529","v":168},null,null,null,null,null,null,null,null,null,null,null,null,null,null,null,null,null,null,null,null,null,{"$f":"$AB$824","v":"Absences"},null,null,{"$f":"Labels!B85","v":"Sep"},null,{"$f":"COUNT(B1027:AF1027)&\" \"&Labels!$B$63","v":"21 Jours"}]
[{"$f":"$A$825","v":"Jour"},{"$f":"B530","v":"2023-09-01"},{"$f":"B1025+1","v":"2023-09-02"},"2023-09-03","2023-09-04","2023-09-05","2023-09-06","2023-09-07","2023-09-08","2023-09-09","2023-09-10","2023-09-11","2023-09-12","2023-09-13","2023-09-14","2023-09-15","2023-09-16","2023-09-17","2023-09-18","2023-09-19","2023-09-20","2023-09-21","2023-09-22","2023-09-23","2023-09-24","2023-09-25","2023-09-26","2023-09-27","2023-09-28","2023-09-29","2023-09-30"]
[{"$f":"$A$826","v":"semaine civile"},{"$f":"IF(B1025=\"\",\"\",TRUNC((B1025-DATE(YEAR(B1025+3-MOD(B1025-2,7)),1,MOD(B1025-2,7)-9))/7))","v":35},{"$f":"IF(C1025=\"\",\"\",TRUNC((C1025-DATE(YEAR(C1025+3-MOD(C1025-2,7)),1,MOD(C1025-2,7)-9))/7))","v":35},35,36,36,36,36,36,36,36,37,37,37,37,37,37,37,38,38,38,38,38,38,38,39,39,39,39,39,39,null,{"$f":"SUM(B1027:AF1027)","v":168}]
[{"$f":"$A$827","v":"Théorique sel. CCT"},{"$f":"B532","v":8},"","",8,8,8,8,8,"","",8,8,8,8,8,"","",8,8,8,8,8,"","",8,8,8,8,8,""]
[{"$f":"$A$828","v":"Heures productives"},{"$f":"SUM(B535:B537)","v":0},0,0,0,0,0,0,0,0,0,0,0,0,0,0,0,0,0,0,0,0,0,0,0,0,0,0,0,0,0,null,{"$f":"SUM(B1028:AF1028)","v":0},"Produktivstunden"]
["Tag ausschliessen (mit x markieren)",null,null,null,null,null,null,null,null,null,null,null,null,null,null,null,null,null,null,null,null,null,null,null,null,null,null,null,null,null,null,null,{"$f":"COUNTA(B1029:AF1029)","v":0},"ausschliessen"]
["Karenztage (mit x markieren)",null,null,null,null,null,null,null,null,null,null,null,null,null,null,null,null,null,null,null,null,null,null,null,null,null,null,null,null,null,null,null,{"$f":"COUNTA(B1030:AF1030)","v":0},"Karenztage"]
[{"$f":"$A$831","v":"Jours fériés [jf]"},{"$f":"B538","v":""},"","","","","","","","","","","","","","","","","","","","","","","","","","","","","",null,{"$f":"COUNTIF(B1031:AF1031,\"ft\")","v":0},{"$f":"$AH$831","v":"jf"}]
[{"$f":"$A$832","v":"Vacances [va]"},null,null,null,null,null,null,null,null,null,null,null,null,null,null,null,null,null,null,null,null,null,null,null,null,null,null,null,null,null,null,null,{"$f":"SUM(B1032:AF1032)","v":0},{"$f":"$AH$832","v":"va"}]
[{"$f":"$A$833","v":"Compensation (année passée) [cp]"},null,null,null,null,null,null,null,null,null,null,null,null,null,null,null,null,null,null,null,null,null,null,null,null,null,null,null,null,null,null,null,0,{"$f":"$AH$833","v":"cp"}]
[{"$f":"$A$834","v":"Compensation (année courant) [cc]"},null,null,null,null,null,null,null,null,null,null,null,null,null,null,null,null,null,null,null,null,null,null,null,null,null,null,null,null,null,null,null,0,{"$f":"$AH$834","v":"cc"}]
[{"$f":"$A$835","v":"Absences [ab]"},null,null,null,null,null,null,null,null,null,null,null,null,null,null,null,null,null,null,null,null,null,null,null,null,null,null,null,null,null,null,null,0,{"$f":"$AH$835","v":"ab"}]
[{"$f":"$A$836","v":"Maladie [ma]"},null,null,null,null,null,null,null,null,null,null,null,null,null,null,null,null,null,null,null,null,null,null,null,null,null,null,null,null,null,null,null,0,{"$f":"$AH$836","v":"ma"}]
[{"$f":"$A$837","v":"Accident [ac]"},null,null,null,null,null,null,null,null,null,null,null,null,null,null,null,null,null,null,null,null,null,null,null,null,null,null,null,null,null,null,null,0,{"$f":"$AH$837","v":"ac"}]
[{"$f":"$A$838","v":"Grossesse/Maternité [gm]"},null,null,null,null,null,null,null,null,null,null,null,null,null,null,null,null,null,null,null,null,null,null,null,null,null,null,null,null,null,null,null,0,{"$f":"$AH$838","v":"gm"}]
[{"$f":"$A$839","v":"Militaire/Promotion/Protection civile [mi]"},null,null,null,null,null,null,null,null,null,null,null,null,null,null,null,null,null,null,null,null,null,null,null,null,null,null,null,null,null,null,null,0,{"$f":"$AH$839","v":"mi"}]
[{"$f":"$A$840","v":"Ecole professionelle [ep]"},null,null,null,null,null,null,null,null,null,null,null,null,null,null,null,null,null,null,null,null,null,null,null,null,null,null,null,null,null,null,null,0,{"$f":"$AH$840","v":"ep"}]
[{"$f":"$A$841","v":"Cours [co]"},null,null,null,null,null,null,null,null,null,null,null,null,null,null,null,null,null,null,null,null,null,null,null,null,null,null,null,null,null,null,null,0,{"$f":"$AH$841","v":"co"}]
[{"$f":"$A$842","v":"Chômage partiel et intempéries [ch]"},null,null,null,null,null,null,null,null,null,null,null,null,null,null,null,null,null,null,null,null,null,null,null,null,null,null,null,null,null,null,null,0,{"$f":"$AH$842","v":"ch"}]
[{"$f":"$A$843","v":"Vacances non payées [vn]"},null,null,null,null,null,null,null,null,null,null,null,null,null,null,null,null,null,null,null,null,null,null,null,null,null,null,null,null,null,null,null,0,{"$f":"$AH$843","v":"vn"}]
[{"$f":"$A$844","v":"Heures manquantes [hm]"},null,null,null,null,null,null,null,null,null,null,null,null,null,null,null,null,null,null,null,null,null,null,null,null,null,null,null,null,null,null,null,0,{"$f":"$AH$844","v":"hm"}]
[{"$f":"$A$845","v":"Total"},{"$f":"SUM(B1032:B1044)-IF(B1030=\"x\",B1036,0)","v":0},{"$f":"SUM(C1032:C1044)-IF(C1030=\"x\",C1036,0)","v":0},{"$f":"SUM(D1032:D1044)-IF(D1030=\"x\",D1036,0)","v":0},{"$f":"SUM(E1032:E1044)-IF(E1030=\"x\",E1036,0)","v":0},0,0,0,0,0,0,0,0,0,0,0,0,0,0,0,0,0,0,0,0,0,0,0,0,0,0,null,null,"Total"]
[]
[]
[]
[{"$f":"A594","v":"octobre"},{"$f":"$B$824","v":"Solde mois + / -"},null,null,null,{"$f":"F594","v":176},null,null,null,null,null,null,null,null,null,null,null,null,null,null,null,null,null,null,null,null,null,{"$f":"$AB$824","v":"Absences"},null,null,{"$f":"Labels!B86","v":"Oct"},null,{"$f":"COUNT(B1052:AF1052)&\" \"&Labels!$B$63","v":"22 Jours"}]
[{"$f":"$A$825","v":"Jour"},{"$f":"B595","v":"2023-10-01"},{"$f":"B1050+1","v":"2023-10-02"},"2023-10-03","2023-10-04","2023-10-05","2023-10-06","2023-10-07","2023-10-08","2023-10-09","2023-10-10","2023-10-11","2023-10-12","2023-10-13","2023-10-14","2023-10-15","2023-10-16","2023-10-17","2023-10-18","2023-10-19","2023-10-20","2023-10-21","2023-10-22","2023-10-23","2023-10-24","2023-10-25","2023-10-26","2023-10-27","2023-10-28","2023-10-29","2023-10-30","2023-10-31"]
[{"$f":"$A$826","v":"semaine civile"},{"$f":"IF(B1050=\"\",\"\",TRUNC((B1050-DATE(YEAR(B1050+3-MOD(B1050-2,7)),1,MOD(B1050-2,7)-9))/7))","v":39},{"$f":"IF(C1050=\"\",\"\",TRUNC((C1050-DATE(YEAR(C1050+3-MOD(C1050-2,7)),1,MOD(C1050-2,7)-9))/7))","v":40},40,40,40,40,40,40,41,41,41,41,41,41,41,42,42,42,42,42,42,42,43,43,43,43,43,43,43,44,44,{"$f":"SUM(B1052:AF1052)","v":176}]
[{"$f":"$A$827","v":"Théorique sel. CCT"},{"$f":"B597","v":""},8,8,8,8,8,"","",8,8,8,8,8,"","",8,8,8,8,8,"","",8,8,8,8,8,"","",8,8]
[{"$f":"$A$828","v":"Heures productives"},{"$f":"SUM(B600:B602)","v":0},0,0,0,0,0,0,0,0,0,0,0,0,0,0,0,0,0,0,0,0,0,0,0,0,0,0,0,0,0,0,{"$f":"SUM(B1053:AF1053)","v":0},"Produktivstunden"]
["Tag ausschliessen (mit x markieren)",null,null,null,null,null,null,null,null,null,null,null,null,null,null,null,null,null,null,null,null,null,null,null,null,null,null,null,null,null,null,null,{"$f":"COUNTA(B1054:AF1054)","v":0},"ausschliessen"]
["Karenztage (mit x markieren)",null,null,null,null,null,null,null,null,null,null,null,null,null,null,null,null,null,null,null,null,null,null,null,null,null,null,null,null,null,null,null,{"$f":"COUNTA(B1055:AF1055)","v":0},"Karenztage"]
[{"$f":"$A$831","v":"Jours fériés [jf]"},{"$f":"B603","v":""},"","","","","","","","","","","","","","","","","","","","","","","","","","","","","","",{"$f":"COUNTIF(B1056:AF1056,\"ft\")","v":0},{"$f":"$AH$831","v":"jf"}]
[{"$f":"$A$832","v":"Vacances [va]"},null,null,null,null,null,null,null,null,null,null,null,null,null,null,null,null,null,null,null,null,null,null,null,null,null,null,null,null,null,null,null,{"$f":"SUM(B1057:AF1057)","v":0},{"$f":"$AH$832","v":"va"}]
[{"$f":"$A$833","v":"Compensation (année passée) [cp]"},null,null,null,null,null,null,null,null,null,null,null,null,null,null,null,null,null,null,null,null,null,null,null,null,null,null,null,null,null,null,null,0,{"$f":"$AH$833","v":"cp"}]
[{"$f":"$A$834","v":"Compensation (année courant) [cc]"},null,null,null,null,null,null,null,null,null,null,null,null,null,null,null,null,null,null,null,null,null,null,null,null,null,null,null,null,null,null,null,0,{"$f":"$AH$834","v":"cc"}]
[{"$f":"$A$835","v":"Absences [ab]"},null,null,null,null,null,null,null,null,null,null,null,null,null,null,null,null,null,null,null,null,null,null,null,null,null,null,null,null,null,null,null,0,{"$f":"$AH$835","v":"ab"}]
[{"$f":"$A$836","v":"Maladie [ma]"},null,null,null,null,null,null,null,null,null,null,null,null,null,null,null,null,null,null,null,null,null,null,null,null,null,null,null,null,null,null,null,0,{"$f":"$AH$836","v":"ma"}]
[{"$f":"$A$837","v":"Accident [ac]"},null,null,null,null,null,null,null,null,null,null,null,null,null,null,null,null,null,null,null,null,null,null,null,null,null,null,null,null,null,null,null,0,{"$f":"$AH$837","v":"ac"}]
[{"$f":"$A$838","v":"Grossesse/Maternité [gm]"},null,null,null,null,null,null,null,null,null,null,null,null,null,null,null,null,null,null,null,null,null,null,null,null,null,null,null,null,null,null,null,0,{"$f":"$AH$838","v":"gm"}]
[{"$f":"$A$839","v":"Militaire/Promotion/Protection civile [mi]"},null,null,null,null,null,null,null,null,null,null,null,null,null,null,null,null,null,null,null,null,null,null,null,null,null,null,null,null,null,null,null,0,{"$f":"$AH$839","v":"mi"}]
[{"$f":"$A$840","v":"Ecole professionelle [ep]"},null,null,null,null,null,null,null,null,null,null,null,null,null,null,null,null,null,null,null,null,null,null,null,null,null,null,null,null,null,null,null,0,{"$f":"$AH$840","v":"ep"}]
[{"$f":"$A$841","v":"Cours [co]"},null,null,null,null,null,null,null,null,null,null,null,null,null,null,null,null,null,null,null,null,null,null,null,null,null,null,null,null,null,null,null,0,{"$f":"$AH$841","v":"co"}]
[{"$f":"$A$842","v":"Chômage partiel et intempéries [ch]"},null,null,null,null,null,null,null,null,null,null,null,null,null,null,null,null,null,null,null,null,null,null,null,null,null,null,null,null,null,null,null,0,{"$f":"$AH$842","v":"ch"}]
[{"$f":"$A$843","v":"Vacances non payées [vn]"},null,null,null,null,null,null,null,null,null,null,null,null,null,null,null,null,null,null,null,null,null,null,null,null,null,null,null,null,null,null,null,0,{"$f":"$AH$843","v":"vn"}]
[{"$f":"$A$844","v":"Heures manquantes [hm]"},null,null,null,null,null,null,null,null,null,null,null,null,null,null,null,null,null,null,null,null,null,null,null,null,null,null,null,null,null,null,null,0,{"$f":"$AH$844","v":"hm"}]
[{"$f":"$A$845","v":"Total"},{"$f":"SUM(B1057:B1069)-IF(B1055=\"x\",B1061,0)","v":0},{"$f":"SUM(C1057:C1069)-IF(C1055=\"x\",C1061,0)","v":0},{"$f":"SUM(D1057:D1069)-IF(D1055=\"x\",D1061,0)","v":0},{"$f":"SUM(E1057:E1069)-IF(E1055=\"x\",E1061,0)","v":0},0,0,0,0,0,0,0,0,0,0,0,0,0,0,0,0,0,0,0,0,0,0,0,0,0,0,0,null,"Total"]
[]
[]
[]
[{"$f":"A659","v":"novembre"},{"$f":"$B$824","v":"Solde mois + / -"},null,null,null,{"$f":"F659","v":176},null,null,null,null,null,null,null,null,null,null,null,null,null,null,null,null,null,null,null,null,null,{"$f":"$AB$824","v":"Absences"},null,null,{"$f":"Labels!B87","v":"Nov"},null,{"$f":"COUNT(B1077:AF1077)&\" \"&Labels!$B$63","v":"22 Jours"}]
[{"$f":"$A$825","v":"Jour"},{"$f":"B660","v":"2023-11-01"},{"$f":"B1075+1","v":"2023-11-02"},"2023-11-03","2023-11-04","2023-11-05","2023-11-06","2023-11-07","2023-11-08","2023-11-09","2023-11-10","2023-11-11","2023-11-12","2023-11-13","2023-11-14","2023-11-15","2023-11-16","2023-11-17","2023-11-18","2023-11-19","2023-11-20","2023-11-21","2023-11-22","2023-11-23","2023-11-24","2023-11-25","2023-11-26","2023-11-27","2023-11-28","2023-11-29","2023-11-30"]
[{"$f":"$A$826","v":"semaine civile"},{"$f":"IF(B1075=\"\",\"\",TRUNC((B1075-DATE(YEAR(B1075+3-MOD(B1075-2,7)),1,MOD(B1075-2,7)-9))/7))","v":44},{"$f":"IF(C1075=\"\",\"\",TRUNC((C1075-DATE(YEAR(C1075+3-MOD(C1075-2,7)),1,MOD(C1075-2,7)-9))/7))","v":44},44,44,44,45,45,45,45,45,45,45,46,46,46,46,46,46,46,47,47,47,47,47,47,47,48,48,48,48,null,{"$f":"SUM(B1077:AF1077)","v":176}]
[{"$f":"$A$827","v":"Théorique sel. CCT"},{"$f":"B662","v":8},8,8,"","",8,8,8,8,8,"","",8,8,8,8,8,"","",8,8,8,8,8,"","",8,8,8,8]
[{"$f":"$A$828","v":"Heures productives"},{"$f":"SUM(B665:B667)","v":0},0,0,0,0,0,0,0,0,0,0,0,0,0,0,0,0,0,0,0,0,0,0,0,0,0,0,0,0,0,null,{"$f":"SUM(B1078:AF1078)","v":0},"Produktivstunden"]
["Tag ausschliessen (mit x markieren)",null,null,null,null,null,null,null,null,null,null,null,null,null,null,null,null,null,null,null,null,null,null,null,null,null,null,null,null,null,null,null,{"$f":"COUNTA(B1079:AF1079)","v":0},"ausschliessen"]
["Karenztage (mit x markieren)",null,null,null,null,null,null,null,null,null,null,null,null,null,null,null,null,null,null,null,null,null,null,null,null,null,null,null,null,null,null,null,{"$f":"COUNTA(B1080:AF1080)","v":0},"Karenztage"]
[{"$f":"$A$831","v":"Jours fériés [jf]"},{"$f":"B668","v":""},"","","","","","","","","","","","","","","","","","","","","","","","","","","","","",null,{"$f":"COUNTIF(B1081:AF1081,\"ft\")","v":0},{"$f":"$AH$831","v":"jf"}]
[{"$f":"$A$832","v":"Vacances [va]"},null,null,null,null,null,null,null,null,null,null,null,null,null,null,null,null,null,null,null,null,null,null,null,null,null,null,null,null,null,null,null,{"$f":"SUM(B1082:AF1082)","v":0},{"$f":"$AH$832","v":"va"}]
[{"$f":"$A$833","v":"Compensation (année passée) [cp]"},null,null,null,null,null,null,null,null,null,null,null,null,null,null,null,null,null,null,null,null,null,null,null,null,null,null,null,null,null,null,null,0,{"$f":"$AH$833","v":"cp"}]
[{"$f":"$A$834","v":"Compensation (année courant) [cc]"},null,null,null,null,null,null,null,null,null,null,null,null,null,null,null,null,null,null,null,null,null,null,null,null,null,null,null,null,null,null,null,0,{"$f":"$AH$834","v":"cc"}]
[{"$f":"$A$835","v":"Absences [ab]"},null,null,null,null,null,null,null,null,null,null,null,null,null,null,null,null,null,null,null,null,null,null,null,null,null,null,null,null,null,null,null,0,{"$f":"$AH$835","v":"ab"}]
[{"$f":"$A$836","v":"Maladie [ma]"},null,null,null,null,null,null,null,null,null,null,null,null,null,null,null,null,null,null,null,null,null,null,null,null,null,null,null,null,null,null,null,0,{"$f":"$AH$836","v":"ma"}]
[{"$f":"$A$837","v":"Accident [ac]"},null,null,null,null,null,null,null,null,null,null,null,null,null,null,null,null,null,null,null,null,null,null,null,null,null,null,null,null,null,null,null,0,{"$f":"$AH$837","v":"ac"}]
[{"$f":"$A$838","v":"Grossesse/Maternité [gm]"},null,null,null,null,null,null,null,null,null,null,null,null,null,null,null,null,null,null,null,null,null,null,null,null,null,null,null,null,null,null,null,0,{"$f":"$AH$838","v":"gm"}]
[{"$f":"$A$839","v":"Militaire/Promotion/Protection civile [mi]"},null,null,null,null,null,null,null,null,null,null,null,null,null,null,null,null,null,null,null,null,null,null,null,null,null,null,null,null,null,null,null,0,{"$f":"$AH$839","v":"mi"}]
[{"$f":"$A$840","v":"Ecole professionelle [ep]"},null,null,null,null,null,null,null,null,null,null,null,null,null,null,null,null,null,null,null,null,null,null,null,null,null,null,null,null,null,null,null,0,{"$f":"$AH$840","v":"ep"}]
[{"$f":"$A$841","v":"Cours [co]"},null,null,null,null,null,null,null,null,null,null,null,null,null,null,null,null,null,null,null,null,null,null,null,null,null,null,null,null,null,null,null,0,{"$f":"$AH$841","v":"co"}]
[{"$f":"$A$842","v":"Chômage partiel et intempéries [ch]"},null,null,null,null,null,null,null,null,null,null,null,null,null,null,null,null,null,null,null,null,null,null,null,null,null,null,null,null,null,null,null,0,{"$f":"$AH$842","v":"ch"}]
[{"$f":"$A$843","v":"Vacances non payées [vn]"},null,null,null,null,null,null,null,null,null,null,null,null,null,null,null,null,null,null,null,null,null,null,null,null,null,null,null,null,null,null,null,0,{"$f":"$AH$843","v":"vn"}]
[{"$f":"$A$844","v":"Heures manquantes [hm]"},null,null,null,null,null,null,null,null,null,null,null,null,null,null,null,null,null,null,null,null,null,null,null,null,null,null,null,null,null,null,null,0,{"$f":"$AH$844","v":"hm"}]
[{"$f":"$A$845","v":"Total"},{"$f":"SUM(B1082:B1094)-IF(B1080=\"x\",B1086,0)","v":0},{"$f":"SUM(C1082:C1094)-IF(C1080=\"x\",C1086,0)","v":0},{"$f":"SUM(D1082:D1094)-IF(D1080=\"x\",D1086,0)","v":0},{"$f":"SUM(E1082:E1094)-IF(E1080=\"x\",E1086,0)","v":0},0,0,0,0,0,0,0,0,0,0,0,0,0,0,0,0,0,0,0,0,0,0,0,0,0,0,null,null,"Total"]
[]
[]
[]
[{"$f":"A724","v":"décembre"},{"$f":"$B$824","v":"Solde mois + / -"},null,null,null,{"$f":"F724","v":168},null,null,null,null,null,null,null,null,null,null,null,null,null,null,null,null,null,null,null,null,null,{"$f":"$AB$824","v":"Absences"},null,null,{"$f":"Labels!B88","v":"Déc"},null,{"$f":"COUNT(B1102:AF1102)&\" \"&Labels!$B$63","v":"21 Jours"}]
[{"$f":"$A$825","v":"Jour"},{"$f":"B725","v":"2023-12-01"},{"$f":"B1100+1","v":"2023-12-02"},"2023-12-03","2023-12-04","2023-12-05","2023-12-06","2023-12-07","2023-12-08","2023-12-09","2023-12-10","2023-12-11","2023-12-12","2023-12-13","2023-12-14","2023-12-15","2023-12-16","2023-12-17","2023-12-18","2023-12-19","2023-12-20","2023-12-21","2023-12-22","2023-12-23","2023-12-24","2023-12-25","2023-12-26","2023-12-27","2023-12-28","2023-12-29","2023-12-30","2023-12-31"]
[{"$f":"$A$826","v":"semaine civile"},{"$f":"IF(B1100=\"\",\"\",TRUNC((B1100-DATE(YEAR(B1100+3-MOD(B1100-2,7)),1,MOD(B1100-2,7)-9))/7))","v":48},{"$f":"IF(C1100=\"\",\"\",TRUNC((C1100-DATE(YEAR(C1100+3-MOD(C1100-2,7)),1,MOD(C1100-2,7)-9))/7))","v":48},48,49,49,49,49,49,49,49,50,50,50,50,50,50,50,51,51,51,51,51,51,51,52,52,52,52,52,52,52,{"$f":"SUM(B1102:AF1102)","v":168}]
[{"$f":"$A$827","v":"Théorique sel. CCT"},{"$f":"B727","v":8},"","",8,8,8,8,8,"","",8,8,8,8,8,"","",8,8,8,8,8,"","",8,8,8,8,8,"",""]
[{"$f":"$A$828","v":"Heures productives"},{"$f":"SUM(B730:B732)","v":0},0,0,0,0,0,0,0,0,0,0,0,0,0,0,0,0,0,0,0,0,0,0,0,0,0,0,0,0,0,0,{"$f":"SUM(B1103:AF1103)","v":0},"Produktivstunden"]
["Tag ausschliessen (mit x markieren)",null,null,null,null,null,null,null,null,null,null,null,null,null,null,null,null,null,null,null,null,null,null,null,null,null,null,null,null,null,null,null,{"$f":"COUNTA(B1104:AF1104)","v":0},"ausschliessen"]
["Karenztage (mit x markieren)",null,null,null,null,null,null,null,null,null,null,null,null,null,null,null,null,null,null,null,null,null,null,null,null,null,null,null,null,null,null,null,{"$f":"COUNTA(B1105:AF1105)","v":0},"Karenztage"]
[{"$f":"$A$831","v":"Jours fériés [jf]"},{"$f":"B733","v":""},"","","","","","","","","","","","","","","","","","","","","","","","","","","","","","",{"$f":"COUNTIF(B1106:AF1106,\"ft\")","v":0},{"$f":"$AH$831","v":"jf"}]
[{"$f":"$A$832","v":"Vacances [va]"},null,null,null,null,null,null,null,null,null,null,null,null,null,null,null,null,null,null,null,null,null,null,null,null,null,null,null,null,null,null,null,{"$f":"SUM(B1107:AF1107)","v":0},{"$f":"$AH$832","v":"va"}]
[{"$f":"$A$833","v":"Compensation (année passée) [cp]"},null,null,null,null,null,null,null,null,null,null,null,null,null,null,null,null,null,null,null,null,null,null,null,null,null,null,null,null,null,null,null,0,{"$f":"$AH$833","v":"cp"}]
[{"$f":"$A$834","v":"Compensation (année courant) [cc]"},null,null,null,null,null,null,null,null,null,null,null,null,null,null,null,null,null,null,null,null,null,null,null,null,null,null,null,null,null,null,null,0,{"$f":"$AH$834","v":"cc"}]
[{"$f":"$A$835","v":"Absences [ab]"},null,null,null,null,null,null,null,null,null,null,null,null,null,null,null,null,null,null,null,null,null,null,null,null,null,null,null,null,null,null,null,0,{"$f":"$AH$835","v":"ab"}]
[{"$f":"$A$836","v":"Maladie [ma]"},null,null,null,null,null,null,null,null,null,null,null,null,null,null,null,null,null,null,null,null,null,null,null,null,null,null,null,null,null,null,null,0,{"$f":"$AH$836","v":"ma"}]
[{"$f":"$A$837","v":"Accident [ac]"},null,null,null,null,null,null,null,null,null,null,null,null,null,null,null,null,null,null,null,null,null,null,null,null,null,null,null,null,null,null,null,0,{"$f":"$AH$837","v":"ac"}]
[{"$f":"$A$838","v":"Grossesse/Maternité [gm]"},null,null,null,null,null,null,null,null,null,null,null,null,null,null,null,null,null,null,null,null,null,null,null,null,null,null,null,null,null,null,null,0,{"$f":"$AH$838","v":"gm"}]
[{"$f":"$A$839","v":"Militaire/Promotion/Protection civile [mi]"},null,null,null,null,null,null,null,null,null,null,null,null,null,null,null,null,null,null,null,null,null,null,null,null,null,null,null,null,null,null,null,0,{"$f":"$AH$839","v":"mi"}]
[{"$f":"$A$840","v":"Ecole professionelle [ep]"},null,null,null,null,null,null,null,null,null,null,null,null,null,null,null,null,null,null,null,null,null,null,null,null,null,null,null,null,null,null,null,0,{"$f":"$AH$840","v":"ep"}]
[{"$f":"$A$841","v":"Cours [co]"},null,null,null,null,null,null,null,null,null,null,null,null,null,null,null,null,null,null,null,null,null,null,null,null,null,null,null,null,null,null,null,0,{"$f":"$AH$841","v":"co"}]
[{"$f":"$A$842","v":"Chômage partiel et intempéries [ch]"},null,null,null,null,null,null,null,null,null,null,null,null,null,null,null,null,null,null,null,null,null,null,null,null,null,null,null,null,null,null,null,0,{"$f":"$AH$842","v":"ch"}]
[{"$f":"$A$843","v":"Vacances non payées [vn]"},null,null,null,null,null,null,null,null,null,null,null,null,null,null,null,null,null,null,null,null,null,null,null,null,null,null,null,null,null,null,null,0,{"$f":"$AH$843","v":"vn"}]
[{"$f":"$A$844","v":"Heures manquantes [hm]"},null,null,null,null,null,null,null,null,null,null,null,null,null,null,null,null,null,null,null,null,null,null,null,null,null,null,null,null,null,null,null,0,{"$f":"$AH$844","v":"hm"}]
[{"$f":"$A$845","v":"Total"},{"$f":"SUM(B1107:B1119)-IF(B1105=\"x\",B1111,0)","v":0},{"$f":"SUM(C1107:C1119)-IF(C1105=\"x\",C1111,0)","v":0},{"$f":"SUM(D1107:D1119)-IF(D1105=\"x\",D1111,0)","v":0},{"$f":"SUM(E1107:E1119)-IF(E1105=\"x\",E1111,0)","v":0},0,0,0,0,0,0,0,0,0,0,0,0,0,0,0,0,0,0,0,0,0,0,0,0,0,0,0,null,"Total"]

{"sheet":"CONTRÔLE","index":6,"n_rows":1120,"n_cols":51,"rows_kept":1120,"cut":false,"hidden":false,"merged":[[51,6,51,7],[51,8,51,9],[51,10,51,11],[51,12,51,13],[51,14,51,15],[51,16,51,17],[51,18,51,19],[51,20,51,21],[51,22,51,23],[51,24,51,25],[51,26,51,27],[51,28,51,29],[51,30,51,31],[26,34,26,37],[28,41,28,42],[32,30,32,31],[33,30,33,31],[34,1,34,31],[35,1,35,31],[38,22,38,23],[38,24,38,25],[38,26,38,27],[38,28,38,29],[38,30,38,31],[39,0,39,5],[39,6,39,7],[39,8,39,9],[39,10,39,11],[39,12,39,13],[36,1,36,31],[38,0,38,5],[38,6,38,7],[4,1,4,2],[4,3,4,6],[4,15,4,16],[4,26,4,27],[8,1,8,4],[8,5,8,6],[8,27,8,31],[0,25,0,26],[1,0,1,31],[2,1,2,6],[3,1,3,2],[3,3,3,6],[3,15,3,16],[3,26,3,27],[0,13,0,14],[0,15,0,16],[0,17,0,18],[0,19,0,20],[0,21,0,22],[0,23,0,24],[0,0,0,2],[0,3,0,4],[0,5,0,6],[0,7,0,8],[0,9,0,10],[0,11,0,12],[38,8,38,9],[38,10,38,11],[38,12,38,13],[38,14,38,15],[38,16,38,17],[38,18,38,19],[38,20,38,21],[40,30,40,31],[41,1,41,5],[41,6,41,7],[41,8,41,9],[41,10,41,11],[41,12,41,13],[41,14,41,15],[41,16,41,17],[41,18,41,19],[41,20,41,21],[40,18,40,19],[40,20,40,21],[40,22,40,23],[40,24,40,25],[40,26,40,27],[40,28,40,29],[39,26,39,27],[39,28,39,29],[39,30,39,31],[40,0,40,5],[40,6,40,7],[40,8,40,9],[40,10,40,11],[40,12,40,13],[40,14,40,15],[40,16,40,17],[39,14,39,15],[39,16,39,17],[39,18,39,19],[39,20,39,21],[39,22,39,23],[39,24,39,25],[42,26,42,27],[42,28,42,29],[42,30,42,31],[43,1,43,5],[43,6,43,7],[43,8,43,9],[43,10,43,11],[43,12,43,13],[43,14,43,15],[43,16,43,17],[42,14,42,15],[42,16,42,17],[42,18,42,19],[42,20,42,21],[42,22,42,23],[42,24,42,25],[41,22,41,23],[41,24,41,25],[41,26,41,27],[41,28,41,29],[41,30,41,31],[42,1,42,5],[42,6,42,7],[42,8,42,9],[42,10,42,11],[42,12,42,13],[44,22,44,23],[44,24,44,25],[44,26,44,27],[44,28,44,29],[44,30,44,31],[45,0,45,5],[45,6,45,7],[45,8,45,9],[45,10,45,11],[45,12,45,13],[43,30,43,31],[44,1,44,5],[44,6,44,7],[44,8,44,9],[44,10,44,11],[44,12,44,13],[44,14,44,15],[44,16,44,17],[44,18,44,19],[44,20,44,21],[43,18,43,19],[43,20,43,21],[43,22,43,23],[43,24,43,25],[43,26,43,27],[43,28,43,29],[46,30,46,31],[47,0,47,4],[47,6,47,7],[47,8,47,9],[47,10,47,11],[47,12,47,13],[47,14,47,15],[47,16,47,17],[47,18,47,19],[47,20,47,21],[46,18,46,19],[46,20,46,21],[46,22,46,23],[46,24,46,25],[46,26,46,27],[46,28,46,29],[45,26,45,27],[45,28,45,29],[45,30,45,31],[46,0,46,4],[46,6,46,7],[46,8,46,9],[46,10,46,11],[46,12,46,13],[46,14,46,15],[46,16,46,17],[45,14,45,15],[45,16,45,17],[45,18,45,19],[45,20,45,21],[45,22,45,23],[45,24,45,25],[48,26,48,27],[48,28,48,29],[48,30,48,31],[49,0,49,1],[49,2,49,4],[49,6,49,7],[49,8,49,9],[49,10,49,11],[49,12,49,13],[49,14,49,15],[48,14,48,15],[48,16,48,17],[48,18,48,19],[48,20,48,21],[48,22,48,23],[48,24,48,25],[47,22,47,23],[47,24,47,25],[47,26,47,27],[47,28,47,29],[47,30,47,31],[48,0,48,4],[48,6,48,7],[48,8,48,9],[48,10,48,11],[48,12,48,13],[50,20,50,21],[50,22,50,23],[50,24,50,25],[50,26,50,27],[50,28,50,29],[50,30,50,31],[49,28,49,29],[49,30,49,31],[50,0,50,4],[50,6,50,7],[50,8,50,9],[50,10,50,11],[50,12,50,13],[50,14,50,15],[50,16,50,17],[50,18,50,19],[49,16,49,17],[49,18,49,19],[49,20,49,21],[49,22,49,23],[49,24,49,25],[49,26,49,27],[53,20,53,21],[53,22,53,23],[53,24,53,25],[53,26,53,27],[53,28,53,29],[53,30,53,31],[52,28,52,29],[52,30,52,31],[53,0,53,4],[53,6,53,7],[53,8,53,9],[53,10,53,11],[53,12,53,13],[53,14,53,15],[53,16,53,17],[53,18,53,19],[52,16,52,17],[52,18,52,19],[52,20,52,21],[52,22,52,23],[52,24,52,25],[52,26,52,27],[52,0,52,4],[52,6,52,7],[52,8,52,9],[52,10,52,11],[52,12,52,13],[52,14,52,15],[55,20,55,21],[55,22,55,23],[55,24,55,25],[55,26,55,27],[55,28,55,29],[55,30,55,31],[54,28,54,29],[54,30,54,31],[55,0,55,4],[55,6,55,7],[55,8,55,9],[55,10,55,11],[55,12,55,13],[55,14,55,15],[55,16,55,17],[55,18,55,19],[54,16,54,17],[54,18,54,19],[54,20,54,21],[54,22,54,23],[54,24,54,25],[54,26,54,27],[54,0,54,4],[54,6,54,7],[54,8,54,9],[54,10,54,11],[54,12,54,13],[54,14,54,15],[57,20,57,21],[57,22,57,23],[57,24,57,25],[57,26,57,27],[57,28,57,29],[57,30,57,31],[56,28,56,29],[56,30,56,31],[57,0,57,4],[57,6,57,7],[57,8,57,9],[57,10,57,11],[57,12,57,13],[57,14,57,15],[57,16,57,17],[57,18,57,19],[56,16,56,17],[56,18,56,19],[56,20,56,21],[56,22,56,23],[56,24,56,25],[56,26,56,27],[56,0,56,4],[56,6,56,7],[56,8,56,9],[56,10,56,11],[56,12,56,13],[56,14,56,15],[58,28,58,29],[58,30,58,31],[59,1,59,4],[59,6,59,7],[59,8,59,9],[59,10,59,11],[59,12,59,13],[59,14,59,15],[59,16,59,17],[59,18,59,19],[58,16,58,17],[58,18,58,19],[58,20,58,21],[58,22,58,23],[58,24,58,25],[58,26,58,27],[58,1,58,4],[58,6,58,7],[58,8,58,9],[58,10,58,11],[58,12,58,13],[58,14,58,15],[60,16,60,17],[60,18,60,19],[60,20,60,21],[60,22,60,23],[60,24,60,29],[60,30,60,31],[60,1,60,5],[60,6,60,7],[60,8,60,9],[60,10,60,11],[60,12,60,13],[60,14,60,15],[59,20,59,21],[59,22,59,23],[59,24,59,25],[59,26,59,27],[59,28,59,29],[59,30,59,31],[62,26,62,27],[62,28,62,29],[62,30,62,31],[63,1,63,4],[63,6,63,7],[63,8,63,9],[63,10,63,11],[63,12,63,13],[63,14,63,15],[63,16,63,17],[62,14,62,15],[62,16,62,17],[62,18,62,19],[62,20,62,21],[62,22,62,23],[62,24,62,25],[61,16,61,17],[61,18,61,19],[61,20,61,21],[61,22,61,23],[61,24,61,31],[62,1,62,5],[62,6,62,7],[62,8,62,9],[62,10,62,11],[62,12,62,13],[61,1,61,5],[61,6,61,7],[61,8,61,9],[61,10,61,11],[61,12,61,13],[61,14,61,15],[64,22,64,23],[64,24,64,25],[64,26,64,27],[64,28,64,29],[64,30,64,31],[65,1,65,5],[65,6,65,7],[65,8,65,9],[65,10,65,11],[65,12,65,13],[63,30,63,31],[64,1,64,5],[64,6,64,7],[64,8,64,9],[64,10,64,11],[64,12,64,13],[64,14,64,15],[64,16,64,17],[64,18,64,19],[64,20,64,21],[63,18,63,19],[63,20,63,21],[63,22,63,23],[63,24,63,25],[63,26,63,27],[63,28,63,29],[66,30,66,31],[67,0,68,0],[67,1,68,5],[67,6,68,7],[67,8,68,11],[67,12,68,13],[67,14,68,17],[67,18,68,19],[67,20,68,23],[67,24,68,25],[66,18,66,19],[66,20,66,21],[66,22,66,23],[66,24,66,25],[66,26,66,27],[66,28,66,29],[65,26,65,27],[65,28,65,29],[65,30,65,31],[66,1,66,5],[66,6,66,7],[66,8,66,9],[66,10,66,11],[66,12,66,13],[66,14,66,15],[66,16,66,17],[65,14,65,15],[65,16,65,17],[65,18,65,19],[65,20,65,21],[65,22,65,23],[65,24,65,25],[98,30,98,31],[99,1,99,31],[100,1,100,31],[101,1,101,31],[103,0,103,5],[103,6,103,7],[103,8,103,9],[103,10,103,11],[103,12,103,13],[103,14,103,15],[72,3,72,6],[73,1,73,4],[73,5,73,6],[73,27,73,31],[97,30,97,31],[67,26,68,29],[67,30,68,31],[69,7,69,31],[70,1,70,6],[71,1,71,2],[71,3,71,6],[104,20,104,21],[104,22,104,23],[104,24,104,25],[104,26,104,27],[104,28,104,29],[104,30,104,31],[103,28,103,29],[103,30,103,31],[104,0,104,5],[104,6,104,7],[104,8,104,9],[104,10,104,11],[104,12,104,13],[104,14,104,15],[104,16,104,17],[104,18,104,19],[103,16,103,17],[103,18,103,19],[103,20,103,21],[103,22,103,23],[103,24,103,25],[103,26,103,27],[106,20,106,21],[106,22,106,23],[106,24,106,25],[106,26,106,27],[106,28,106,29],[106,30,106,31],[105,28,105,29],[105,30,105,31],[106,1,106,5],[106,6,106,7],[106,8,106,9],[106,10,106,11],[106,12,106,13],[106,14,106,15],[106,16,106,17],[106,18,106,19],[105,16,105,17],[105,18,105,19],[105,20,105,21],[105,22,105,23],[105,24,105,25],[105,26,105,27],[105,0,105,5],[105,6,105,7],[105,8,105,9],[105,10,105,11],[105,12,105,13],[105,14,105,15],[108,20,108,21],[108,22,108,23],[108,24,108,25],[108,26,108,27],[108,28,108,29],[108,30,108,31],[107,28,107,29],[107,30,107,31],[108,1,108,5],[108,6,108,7],[108,8,108,9],[108,10,108,11],[108,12,108,13],[108,14,108,15],[108,16,108,17],[108,18,108,19],[107,16,107,17],[107,18,107,19],[107,20,107,21],[107,22,107,23],[107,24,107,25],[107,26,107,27],[107,1,107,5],[107,6,107,7],[107,8,107,9],[107,10,107,11],[107,12,107,13],[107,14,107,15],[110,20,110,21],[110,22,110,23],[110,24,110,25],[110,26,110,27],[110,28,110,29],[110,30,110,31],[109,28,109,29],[109,30,109,31],[110,0,110,5],[110,6,110,7],[110,8,110,9],[110,10,110,11],[110,12,110,13],[110,14,110,15],[110,16,110,17],[110,18,110,19],[109,16,109,17],[109,18,109,19],[109,20,109,21],[109,22,109,23],[109,24,109,25],[109,26,109,27],[109,1,109,5],[109,6,109,7],[109,8,109,9],[109,10,109,11],[109,12,109,13],[109,14,109,15],[112,20,112,21],[112,22,112,23],[112,24,112,25],[112,26,112,27],[112,28,112,29],[112,30,112,31],[111,28,111,29],[111,30,111,31],[112,0,112,4],[112,6,112,7],[112,8,112,9],[112,10,112,11],[112,12,112,13],[112,14,112,15],[112,16,112,17],[112,18,112,19],[111,16,111,17],[111,18,111,19],[111,20,111,21],[111,22,111,23],[111,24,111,25],[111,26,111,27],[111,0,111,4],[111,6,111,7],[111,8,111,9],[111,10,111,11],[111,12,111,13],[111,14,111,15],[113,28,113,29],[113,30,113,31],[114,0,114,1],[114,2,114,4],[114,6,114,7],[114,8,114,9],[114,10,114,11],[114,12,114,13],[114,14,114,15],[114,16,114,17],[113,16,113,17],[113,18,113,19],[113,20,113,21],[113,22,113,23],[113,24,113,25],[113,26,113,27],[113,0,113,4],[113,6,113,7],[113,8,113,9],[113,10,113,11],[113,12,113,13],[113,14,113,15],[115,22,115,23],[115,24,115,25],[115,26,115,27],[115,28,115,29],[115,30,115,31],[117,0,117,4],[117,6,117,7],[117,8,117,9],[117,10,117,11],[117,12,117,13],[114,30,114,31],[115,0,115,4],[115,6,115,7],[115,8,115,9],[115,10,115,11],[115,12,115,13],[115,14,115,15],[115,16,115,17],[115,18,115,19],[115,20,115,21],[114,18,114,19],[114,20,114,21],[114,22,114,23],[114,24,114,25],[114,26,114,27],[114,28,114,29],[116,6,116,7],[116,8,116,9],[116,10,116,11],[116,12,116,13],[116,14,116,15],[116,16,116,17],[118,30,118,31],[119,0,119,4],[119,6,119,7],[119,8,119,9],[119,10,119,11],[119,12,119,13],[119,14,119,15],[119,16,119,17],[119,18,119,19],[119,20,119,21],[118,18,118,19],[118,20,118,21],[118,22,118,23],[118,24,118,25],[118,26,118,27],[118,28,118,29],[117,26,117,27],[117,28,117,29],[117,30,117,31],[118,0,118,4],[118,6,118,7],[118,8,118,9],[118,10,118,11],[118,12,118,13],[118,14,118,15],[118,16,118,17],[117,14,117,15],[117,16,117,17],[117,18,117,19],[117,20,117,21],[117,22,117,23],[117,24,117,25],[120,26,120,27],[120,28,120,29],[120,30,120,31],[121,0,121,4],[121,6,121,7],[121,8,121,9],[121,10,121,11],[121,12,121,13],[121,14,121,15],[121,16,121,17],[120,14,120,15],[120,16,120,17],[120,18,120,19],[120,20,120,21],[120,22,120,23],[120,24,120,25],[119,22,119,23],[119,24,119,25],[119,26,119,27],[119,28,119,29],[119,30,119,31],[120,0,120,4],[120,6,120,7],[120,8,120,9],[120,10,120,11],[120,12,120,13],[122,22,122,23],[122,24,122,25],[122,26,122,27],[122,28,122,29],[122,30,122,31],[123,1,123,4],[123,6,123,7],[123,8,123,9],[123,10,123,11],[123,12,123,13],[121,30,121,31],[122,0,122,4],[122,6,122,7],[122,8,122,9],[122,10,122,11],[122,12,122,13],[122,14,122,15],[122,16,122,17],[122,18,122,19],[122,20,122,21],[121,18,121,19],[121,20,121,21],[121,22,121,23],[121,24,121,25],[121,26,121,27],[121,28,121,29],[124,30,124,31],[125,1,125,5],[125,6,125,7],[125,8,125,9],[125,10,125,11],[125,12,125,13],[125,14,125,15],[125,16,125,17],[125,18,125,19],[125,20,125,21],[124,18,124,19],[124,20,124,21],[124,22,124,23],[124,24,124,25],[124,26,124,27],[124,28,124,29],[123,26,123,27],[123,28,123,29],[123,30,123,31],[124,1,124,4],[124,6,124,7],[124,8,124,9],[124,10,124,11],[124,12,124,13],[124,14,124,15],[124,16,124,17],[123,14,123,15],[123,16,123,17],[123,18,123,19],[123,20,123,21],[123,22,123,23],[123,24,123,25],[126,18,126,19],[126,20,126,21],[126,22,126,23],[126,24,126,31],[127,1,127,5],[127,6,127,7],[127,8,127,9],[127,10,127,11],[127,12,127,13],[127,14,127,15],[125,22,125,23],[125,24,125,29],[125,30,125,31],[126,1,126,5],[126,6,126,7],[126,8,126,9],[126,10,126,11],[126,12,126,13],[126,14,126,15],[126,16,126,17],[128,20,128,21],[128,22,128,23],[128,24,128,25],[128,26,128,27],[128,28,128,29],[128,30,128,31],[127,28,127,29],[127,30,127,31],[128,1,128,4],[128,6,128,7],[128,8,128,9],[128,10,128,11],[128,12,128,13],[128,14,128,15],[128,16,128,17],[128,18,128,19],[127,16,127,17],[127,18,127,19],[127,20,127,21],[127,22,127,23],[127,24,127,25],[127,26,127,27],[130,20,130,21],[130,22,130,23],[130,24,130,25],[130,26,130,27],[130,28,130,29],[130,30,130,31],[129,28,129,29],[129,30,129,31],[130,1,130,5],[130,6,130,7],[130,8,130,9],[130,10,130,11],[130,12,130,13],[130,14,130,15],[130,16,130,17],[130,18,130,19],[129,16,129,17],[129,18,129,19],[129,20,129,21],[129,22,129,23],[129,24,129,25],[129,26,129,27],[129,1,129,5],[129,6,129,7],[129,8,129,9],[129,10,129,11],[129,12,129,13],[129,14,129,15],[131,28,131,29],[131,30,131,31],[132,0,133,0],[132,1,133,5],[132,6,133,7],[132,8,133,11],[132,12,133,13],[132,14,133,17],[132,18,133,19],[132,20,133,23],[131,16,131,17],[131,18,131,19],[131,20,131,21],[131,22,131,23],[131,24,131,25],[131,26,131,27],[131,1,131,5],[131,6,131,7],[131,8,131,9],[131,10,131,11],[131,12,131,13],[131,14,131,15],[136,9,136,12],[136,14,136,17],[136,19,136,22],[136,24,136,31],[137,3,137,6],[137,9,137,12],[137,14,137,17],[137,19,137,22],[137,24,137,31],[132,24,133,25],[132,26,133,29],[132,30,133,31],[134,7,134,31],[135,1,135,6],[135,7,137,7],[135,9,135,12],[135,14,135,17],[136,1,136,2],[136,3,136,6],[168,20,168,21],[168,22,168,23],[168,24,168,25],[168,26,168,27],[168,28,168,29],[168,30,168,31],[165,1,165,31],[166,1,166,31],[168,0,168,5],[168,6,168,7],[168,8,168,9],[168,10,168,11],[168,12,168,13],[168,14,168,15],[168,16,168,17],[168,18,168,19],[138,1,138,4],[138,5,138,6],[138,27,138,31],[162,30,162,31],[163,30,163,31],[164,1,164,31],[170,20,170,21],[170,22,170,23],[170,24,170,25],[170,26,170,27],[170,28,170,29],[170,30,170,31],[169,28,169,29],[169,30,169,31],[170,0,170,5],[170,6,170,7],[170,8,170,9],[170,10,170,11],[170,12,170,13],[170,14,170,15],[170,16,170,17],[170,18,170,19],[169,16,169,17],[169,18,169,19],[169,20,169,21],[169,22,169,23],[169,24,169,25],[169,26,169,27],[169,0,169,5],[169,6,169,7],[169,8,169,9],[169,10,169,11],[169,12,169,13],[169,14,169,15],[172,20,172,21],[172,22,172,23],[172,24,172,25],[172,26,172,27],[172,28,172,29],[172,30,172,31],[171,28,171,29],[171,30,171,31],[172,1,172,5],[172,6,172,7],[172,8,172,9],[172,10,172,11],[172,12,172,13],[172,14,172,15],[172,16,172,17],[172,18,172,19],[171,16,171,17],[171,18,171,19],[171,20,171,21],[171,22,171,23],[171,24,171,25],[171,26,171,27],[171,1,171,5],[171,6,171,7],[171,8,171,9],[171,10,171,11],[171,12,171,13],[171,14,171,15],[174,20,174,21],[174,22,174,23],[174,24,174,25],[174,26,174,27],[174,28,174,29],[174,30,174,31],[173,28,173,29],[173,30,173,31],[174,1,174,5],[174,6,174,7],[174,8,174,9],[174,10,174,11],[174,12,174,13],[174,14,174,15],[174,16,174,17],[174,18,174,19],[173,16,173,17],[173,18,173,19],[173,20,173,21],[173,22,173,23],[173,24,173,25],[173,26,173,27],[173,1,173,5],[173,6,173,7],[173,8,173,9],[173,10,173,11],[173,12,173,13],[173,14,173,15],[176,20,176,21],[176,22,176,23],[176,24,176,25],[176,26,176,27],[176,28,176,29],[176,30,176,31],[175,28,175,29],[175,30,175,31],[176,0,176,4],[176,6,176,7],[176,8,176,9],[176,10,176,11],[176,12,176,13],[176,14,176,15],[176,16,176,17]],"merged_total":5220,"flags":["merged_cut"]}
[{"$f":"Labels!B164","v":"\nSélectionnez le mois désiré en un clic\n\n\n\n\nSélectionnez le mois à imprimer en un clic"}]
[{"$f":"Labels!B17 &B5","v":"Contrôle des heures de travail 2023"},null,null,null,null,null,null,null,null,null,null,null,null,null,null,null,null,null,null,null,null,null,null,null,null,null,null,null,null,null,null,null,2023,null,"Hilfstabelle",{"$f":"Labels!B77","v":"Jan"},{"$f":"Labels!B78","v":"Fév"},{"$f":"Labels!B79","v":"Mar"},{"$f":"Labels!B80","v":"Avr"},{"$f":"Labels!B81","v":"Mai"},{"$f":"Labels!B82","v":"Jun"},{"$f":"Labels!B83","v":"Jul"},{"$f":"Labels!B84","v":"Aoû"},{"$f":"Labels!B85","v":"Sep"},{"$f":"Labels!B86","v":"Oct"},{"$f":"Labels!B87","v":"Nov"},{"$f":"Labels!B88","v":"Déc"},{"$f":"Labels!B102","v":"Total"},null,"Legenden, Erklärungen & Meldungen"]
[{"$f":"Labels!B18","v":"Nom/Prénom"},{"$f":"Labels!B19","v":"Modèle Pierre"},null,null,null,null,null,null,null,null,null,null,null,null,null,null,null,null,null,null,null,null,null,null,null,null,null,null,null,null,null,null,null,null,{"$f":"Labels!B113","v":"ab"},{"$f":"AG835","v":0},{"$f":"AG860","v":0},{"$f":"AG885","v":0},{"$f":"AG910","v":0},{"$f":"AG935","v":0},{"$f":"AG960","v":0},{"$f":"AG985","v":0},{"$f":"AG1010","v":0},{"$f":"AG1035","v":0},{"$f":"AG1060","v":0},{"$f":"AG1085","v":0},{"$f":"AG1110","v":0},{"$f":"SUM(AJ3:AU3)","v":0}]
[{"$f":"Labels!B20","v":"Emploi %"},{"$f":"$AL$48","v":100},null,{"$f":"Labels!B89","v":"en janvier"},null,null,null,null,null,null,{"$f":"Labels!B22","v":"Solde année passée (+)"},null,null,null,null,null,null,null,null,null,{"$f":"Labels!B24","v":"Solde vacances année passée"},null,null,null,null,null,null,null,{"$f":"Labels!B26","v":"Heures"},null,null,null,null,null,{"$f":"Labels!B115","v":"va"},{"$f":"AG832","v":0},{"$f":"AG857","v":0},{"$f":"AG882","v":0},{"$f":"AG907","v":0},{"$f":"AG932","v":0},{"$f":"AG957","v":0},{"$f":"AG982","v":0},{"$f":"AG1007","v":0},{"$f":"AG1032","v":0},{"$f":"AG1057","v":0},{"$f":"AG1082","v":0},{"$f":"AG1107","v":0},0,null,"Legende Stunden zu Zuschläge (DE)"]
[{"$f":"Labels!B21","v":"Solde année en cours"},{"$f":"AG2","v":2023},null,{"$f":"IF($AE$66=0,0,$AE$66)","v":-2080},null,null,null,null,null,null,{"$f":"Labels!B23","v":"Solde année passée (-)"},null,null,null,null,null,null,null,null,null,{"$f":"Labels!B25","v":"Vacances selon art. 12.1. CCT"},null,null,null,null,null,0,null,{"$f":"Labels!B26","v":"Heures"},null,null,null,null,null,{"$f":"Labels!B120","v":"ma"},{"$f":"AG836","v":0},{"$f":"AG861","v":0},{"$f":"AG886","v":0},{"$f":"AG911","v":0},{"$f":"AG936","v":0},{"$f":"AG961","v":0},{"$f":"AG986","v":0},{"$f":"AG1011","v":0},{"$f":"AG1036","v":0},{"$f":"AG1061","v":0},{"$f":"AG1086","v":0},{"$f":"AG1111","v":0},0]
[null,null,null,null,null,null,null,null,null,null,null,null,null,null,null,null,null,null,null,null,null,null,null,null,null,null,null,null,null,null,null,null,null,null,{"$f":"Labels!B122","v":"ac"},0,0,0,0,0,0,0,0,0,0,0,0,0,null,"[00]","Sollstunden (Wochentage MO-FR)"]
[{"$f":"IF(ISERROR(DATEVALUE(TEXT(\"01.01.\"&B5,\"TT.MM.JJ\"))),\"01/01/\"&B5,\"01.01.\"&B5)","v":"01.01.2023"},48,{"$f":"Labels!B27","v":"max heures / semain  CCT"},null,null,null,null,null,null,8,{"$f":"Labels!B28","v":"heures/jour  CCT"},null,null,null,null,{"$f":"IF(MOD(YEAR($A$7),400)=0,\"n\",IF(MOD(YEAR($A$7),100)=0,\"n\",IF(MOD(YEAR($A$7),4)=0,\"j\",\"n\")))","v":"n"},{"$f":"Labels!B29","v":"Année bissextile (j/n)"},null,null,null,{"$f":"NETWORKDAYS(DATE(B5,1,1),DATE(B5,12,31))","v":260},{"$f":"Labels!B30","v":"jours ouvrables (année)"},null,null,null,{"$f":"J7*U7","v":2080},{"$f":"Labels!B31","v":"brut annuel d'heures"},null,null,null,null,null,null,null,{"$f":"Labels!B124","v":"gm"},0,0,0,0,0,0,0,0,0,0,0,0,0,null,"[01]","Unproduktive Stunden (Feiertag, Absenzen)"]
[null,null,null,null,null,null,null,null,null,null,null,null,null,null,null,null,null,null,null,null,null,null,null,null,null,null,null,null,null,null,null,null,null,null,{"$f":"Labels!B126","v":"mi"},0,0,0,0,0,0,0,0,0,0,0,0,0,null,"[02]","Karenztage (in Minusstunden)"]
[{"$f":"TEXT(AP29,\"MMMM\"&Labels!B13)","v":"janvier"},{"$f":"Labels!B32","v":"Solde mois + / -"},null,null,null,{"$f":"(AG12-(SUM(AG13:AG27)-AE34))*-1","v":-176},null,null,null,null,{"$f":"Labels!B33","v":" = "},{"$f":"Labels!B34","v":"Les cases marquées en jaune doivent être remplies (les autres seront calculées automatiquement)"},null,null,null,null,null,null,null,null,null,null,null,null,null,null,null,null,null,null,null,null,null,null,{"$f":"Labels!B130","v":"ep"},0,0,0,0,0,0,0,0,0,0,0,0,0,null,"[03]","Produktive Stunden Tag (Arbeitstage) 06.00-20.00 Uhr"]
[{"$f":"Labels!B35","v":"Jour"},{"$f":"AP29","v":"2023-01-01"},{"$f":"B10+1","v":"2023-01-02"},"2023-01-03","2023-01-04","2023-01-05","2023-01-06","2023-01-07","2023-01-08","2023-01-09","2023-01-10","2023-01-11","2023-01-12","2023-01-13","2023-01-14","2023-01-15","2023-01-16","2023-01-17","2023-01-18","2023-01-19","2023-01-20","2023-01-21","2023-01-22","2023-01-23","2023-01-24","2023-01-25","2023-01-26","2023-01-27","2023-01-28","2023-01-29","2023-01-30","2023-01-31",{"$f":"COUNT(B12:AF12)&\" \"&Labels!$B$63","v":"22 Jours"},null,{"$f":"Labels!B132","v":"co"},0,0,0,0,0,0,0,0,0,0,0,0,0,null,"[03b]","Produktive Std. 6-20 Uhr (kein Arbeitstag)"]
[{"$f":"Labels!B36","v":"semaine civile"},{"$f":"IF(B10=\"\",\"\",TRUNC((B10-DATE(YEAR(B10+3-MOD(B10-2,7)),1,MOD(B10-2,7)-9))/7))","v":52},{"$f":"IF(C10=\"\",\"\",TRUNC((C10-DATE(YEAR(C10+3-MOD(C10-2,7)),1,MOD(C10-2,7)-9))/7))","v":1},1,1,1,1,1,1,2,2,2,2,2,2,2,3,3,3,3,3,3,3,4,4,4,4,4,4,4,5,5,null,"Woche",{"$f":"Labels!B128","v":"ch"},0,0,0,0,0,0,0,0,0,0,0,0,0,null,"[04]","Produktive Stunden Nacht  00.00-06.00 Uhr"]
[{"$f":"Labels!B37","v":"Théorique sel. CCT"},{"$f":"IF(AND(MOD(B10,7)>=2,SUMPRODUCT(($AM$60:$AQ$60=MOD(B10,7))*$AM$48:$AQ$48),B829=\"\"),$J$7*SUMPRODUCT(($AM$77:$AQ$77=MOD(B10,7))*$AM$65:$AQ$65)%,\"\")","v":""},{"$f":"IF(AND(MOD(C10,7)>=2,SUMPRODUCT(($AM$60:$AQ$60=MOD(C10,7))*$AM$48:$AQ$48),C829=\"\"),$J$7*SUMPRODUCT(($AM$77:$AQ$77=MOD(C10,7))*$AM$65:$AQ$65)%,\"\")","v":8},{"$f":"IF(AND(MOD(D10,7)>=2,SUMPRODUCT(($AM$60:$AQ$60=MOD(D10,7))*$AM$48:$AQ$48),D829=\"\"),$J$7*SUMPRODUCT(($AM$77:$AQ$77=MOD(D10,7))*$AM$65:$AQ$65)%,\"\")","v":8},{"$f":"IF(AND(MOD(E10,7)>=2,SUMPRODUCT(($AM$60:$AQ$60=MOD(E10,7))*$AM$48:$AQ$48),E829=\"\"),$J$7*SUMPRODUCT(($AM$77:$AQ$77=MOD(E10,7))*$AM$65:$AQ$65)%,\"\")","v":8},{"$f":"IF(AND(MOD(F10,7)>=2,SUMPRODUCT(($AM$60:$AQ$60=MOD(F10,7))*$AM$48:$AQ$48),F829=\"\"),$J$7*SUMPRODUCT(($AM$77:$AQ$77=MOD(F10,7))*$AM$65:$AQ$65)%,\"\")","v":8},{"$f":"IF(AND(MOD(G10,7)>=2,SUMPRODUCT(($AM$60:$AQ$60=MOD(G10,7))*$AM$48:$AQ$48),G829=\"\"),$J$7*SUMPRODUCT(($AM$77:$AQ$77=MOD(G10,7))*$AM$65:$AQ$65)%,\"\")","v":8},{"$f":"IF(AND(MOD(H10,7)>=2,SUMPRODUCT(($AM$60:$AQ$60=MOD(H10,7))*$AM$48:$AQ$48),H829=\"\"),$J$7*SUMPRODUCT(($AM$77:$AQ$77=MOD(H10,7))*$AM$65:$AQ$65)%,\"\")","v":""},{"$f":"IF(AND(MOD(I10,7)>=2,SUMPRODUCT(($AM$60:$AQ$60=MOD(I10,7))*$AM$48:$AQ$48),I829=\"\"),$J$7*SUMPRODUCT(($AM$77:$AQ$77=MOD(I10,7))*$AM$65:$AQ$65)%,\"\")","v":""},{"$f":"IF(AND(MOD(J10,7)>=2,SUMPRODUCT(($AM$60:$AQ$60=MOD(J10,7))*$AM$48:$AQ$48),J829=\"\"),$J$7*SUMPRODUCT(($AM$77:$AQ$77=MOD(J10,7))*$AM$65:$AQ$65)%,\"\")","v":8},{"$f":"IF(AND(MOD(K10,7)>=2,SUMPRODUCT(($AM$60:$AQ$60=MOD(K10,7))*$AM$48:$AQ$48),K829=\"\"),$J$7*SUMPRODUCT(($AM$77:$AQ$77=MOD(K10,7))*$AM$65:$AQ$65)%,\"\")","v":8},{"$f":"IF(AND(MOD(L10,7)>=2,SUMPRODUCT(($AM$60:$AQ$60=MOD(L10,7))*$AM$48:$AQ$48),L829=\"\"),$J$7*SUMPRODUCT(($AM$77:$AQ$77=MOD(L10,7))*$AM$65:$AQ$65)%,\"\")","v":8},{"$f":"IF(AND(MOD(M10,7)>=2,SUMPRODUCT(($AM$60:$AQ$60=MOD(M10,7))*$AM$48:$AQ$48),M829=\"\"),$J$7*SUMPRODUCT(($AM$77:$AQ$77=MOD(M10,7))*$AM$65:$AQ$65)%,\"\")","v":8},{"$f":"IF(AND(MOD(N10,7)>=2,SUMPRODUCT(($AM$60:$AQ$60=MOD(N10,7))*$AM$48:$AQ$48),N829=\"\"),$J$7*SUMPRODUCT(($AM$77:$AQ$77=MOD(N10,7))*$AM$65:$AQ$65)%,\"\")","v":8},{"$f":"IF(AND(MOD(O10,7)>=2,SUMPRODUCT(($AM$60:$AQ$60=MOD(O10,7))*$AM$48:$AQ$48),O829=\"\"),$J$7*SUMPRODUCT(($AM$77:$AQ$77=MOD(O10,7))*$AM$65:$AQ$65)%,\"\")","v":""},{"$f":"IF(AND(MOD(P10,7)>=2,SUMPRODUCT(($AM$60:$AQ$60=MOD(P10,7))*$AM$48:$AQ$48),P829=\"\"),$J$7*SUMPRODUCT(($AM$77:$AQ$77=MOD(P10,7))*$AM$65:$AQ$65)%,\"\")","v":""},{"$f":"IF(AND(MOD(Q10,7)>=2,SUMPRODUCT(($AM$60:$AQ$60=MOD(Q10,7))*$AM$48:$AQ$48),Q829=\"\"),$J$7*SUMPRODUCT(($AM$77:$AQ$77=MOD(Q10,7))*$AM$65:$AQ$65)%,\"\")","v":8},{"$f":"IF(AND(MOD(R10,7)>=2,SUMPRODUCT(($AM$60:$AQ$60=MOD(R10,7))*$AM$48:$AQ$48),R829=\"\"),$J$7*SUMPRODUCT(($AM$77:$AQ$77=MOD(R10,7))*$AM$65:$AQ$65)%,\"\")","v":8},{"$f":"IF(AND(MOD(S10,7)>=2,SUMPRODUCT(($AM$60:$AQ$60=MOD(S10,7))*$AM$48:$AQ$48),S829=\"\"),$J$7*SUMPRODUCT(($AM$77:$AQ$77=MOD(S10,7))*$AM$65:$AQ$65)%,\"\")","v":8},{"$f":"IF(AND(MOD(T10,7)>=2,SUMPRODUCT(($AM$60:$AQ$60=MOD(T10,7))*$AM$48:$AQ$48),T829=\"\"),$J$7*SUMPRODUCT(($AM$77:$AQ$77=MOD(T10,7))*$AM$65:$AQ$65)%,\"\")","v":8},{"$f":"IF(AND(MOD(U10,7)>=2,SUMPRODUCT(($AM$60:$AQ$60=MOD(U10,7))*$AM$48:$AQ$48),U829=\"\"),$J$7*SUMPRODUCT(($AM$77:$AQ$77=MOD(U10,7))*$AM$65:$AQ$65)%,\"\")","v":8},{"$f":"IF(AND(MOD(V10,7)>=2,SUMPRODUCT(($AM$60:$AQ$60=MOD(V10,7))*$AM$48:$AQ$48),V829=\"\"),$J$7*SUMPRODUCT(($AM$77:$AQ$77=MOD(V10,7))*$AM$65:$AQ$65)%,\"\")","v":""},{"$f":"IF(AND(MOD(W10,7)>=2,SUMPRODUCT(($AM$60:$AQ$60=MOD(W10,7))*$AM$48:$AQ$48),W829=\"\"),$J$7*SUMPRODUCT(($AM$77:$AQ$77=MOD(W10,7))*$AM$65:$AQ$65)%,\"\")","v":""},{"$f":"IF(AND(MOD(X10,7)>=2,SUMPRODUCT(($AM$60:$AQ$60=MOD(X10,7))*$AM$48:$AQ$48),X829=\"\"),$J$7*SUMPRODUCT(($AM$77:$AQ$77=MOD(X10,7))*$AM$65:$AQ$65)%,\"\")","v":8},{"$f":"IF(AND(MOD(Y10,7)>=2,SUMPRODUCT(($AM$60:$AQ$60=MOD(Y10,7))*$AM$48:$AQ$48),Y829=\"\"),$J$7*SUMPRODUCT(($AM$77:$AQ$77=MOD(Y10,7))*$AM$65:$AQ$65)%,\"\")","v":8},{"$f":"IF(AND(MOD(Z10,7)>=2,SUMPRODUCT(($AM$60:$AQ$60=MOD(Z10,7))*$AM$48:$AQ$48),Z829=\"\"),$J$7*SUMPRODUCT(($AM$77:$AQ$77=MOD(Z10,7))*$AM$65:$AQ$65)%,\"\")","v":8},{"$f":"IF(AND(MOD(AA10,7)>=2,SUMPRODUCT(($AM$60:$AQ$60=MOD(AA10,7))*$AM$48:$AQ$48),AA829=\"\"),$J$7*SUMPRODUCT(($AM$77:$AQ$77=MOD(AA10,7))*$AM$65:$AQ$65)%,\"\")","v":8},{"$f":"IF(AND(MOD(AB10,7)>=2,SUMPRODUCT(($AM$60:$AQ$60=MOD(AB10,7))*$AM$48:$AQ$48),AB829=\"\"),$J$7*SUMPRODUCT(($AM$77:$AQ$77=MOD(AB10,7))*$AM$65:$AQ$65)%,\"\")","v":8},{"$f":"IF(AND(MOD(AC10,7)>=2,SUMPRODUCT(($AM$60:$AQ$60=MOD(AC10,7))*$AM$48:$AQ$48),AC829=\"\"),$J$7*SUMPRODUCT(($AM$77:$AQ$77=MOD(AC10,7))*$AM$65:$AQ$65)%,\"\")","v":""},{"$f":"IF(AND(MOD(AD10,7)>=2,SUMPRODUCT(($AM$60:$AQ$60=MOD(AD10,7))*$AM$48:$AQ$48),AD829=\"\"),$J$7*SUMPRODUCT(($AM$77:$AQ$77=MOD(AD10,7))*$AM$65:$AQ$65)%,\"\")","v":""},{"$f":"IF(AND(MOD(AE10,7)>=2,SUMPRODUCT(($AM$60:$AQ$60=MOD(AE10,7))*$AM$48:$AQ$48),AE829=\"\"),$J$7*SUMPRODUCT(($AM$77:$AQ$77=MOD(AE10,7))*$AM$65:$AQ$65)%,\"\")","v":8},{"$f":"IF(AND(MOD(AF10,7)>=2,SUMPRODUCT(($AM$60:$AQ$60=MOD(AF10,7))*$AM$48:$AQ$48),AF829=\"\"),$J$7*SUMPRODUCT(($AM$77:$AQ$77=MOD(AF10,7))*$AM$65:$AQ$65)%,\"\")","v":8},{"$f":"SUM(B12:AF12)","v":176},"[00]",{"$f":"Labels!B135","v":"cp"},{"$f":"AG833","v":0},{"$f":"AG858","v":0},{"$f":"AG883","v":0},{"$f":"AG908","v":0},{"$f":"AG933","v":0},{"$f":"AG958","v":0},{"$f":"AG983","v":0},{"$f":"AG1008","v":0},{"$f":"AG1033","v":0},{"$f":"AG1058","v":0},{"$f":"AG1083","v":0},{"$f":"AG1108","v":0},{"$f":"SUM(AJ12:AU12)","v":0},null,"[05]","Produktive Stunden Nacht  20.00-00.00 Uhr"]
[{"$f":"Labels!B38","v":"Absences"},{"$f":"B845","v":0},0,0,0,0,0,0,0,0,0,0,0,0,0,0,0,0,0,0,0,0,0,0,0,0,0,0,0,0,0,0,{"$f":"SUM($AJ$3:$AJ$13)","v":0},"[01]",{"$f":"Labels!B180","v":"vn"},{"$f":"AG843","v":0},{"$f":"AG868","v":0},{"$f":"AG893","v":0},{"$f":"AG918","v":0},{"$f":"AG943","v":0},{"$f":"AG968","v":0},{"$f":"AG993","v":0},{"$f":"AG1018","v":0},{"$f":"AG1043","v":0},{"$f":"AG1068","v":0},{"$f":"AG1093","v":0},{"$f":"AG1118","v":0},0,null,"[06]","Feiertagsgutschrift gemäss Anstellungsprozent"]
[{"$f":"Labels!B39","v":"Code"},{"$f":"IF(SUM(B832:B844)<>0,IF(MAX(B832:B844)<B845,Labels!$B$163,INDEX($AH$832:$AH$844,MATCH(MAX(B832:B844),B832:B844,0))),\"\")","v":""},{"$f":"IF(SUM(C832:C844)<>0,IF(MAX(C832:C844)<C845,Labels!$B$163,INDEX($AH$832:$AH$844,MATCH(MAX(C832:C844),C832:C844,0))),\"\")","v":""},{"$f":"IF(SUM(D832:D844)<>0,IF(MAX(D832:D844)<D845,Labels!$B$163,INDEX($AH$832:$AH$844,MATCH(MAX(D832:D844),D832:D844,0))),\"\")","v":""},{"$f":"IF(SUM(E832:E844)<>0,IF(MAX(E832:E844)<E845,Labels!$B$163,INDEX($AH$832:$AH$844,MATCH(MAX(E832:E844),E832:E844,0))),\"\")","v":""},{"$f":"IF(SUM(F832:F844)<>0,IF(MAX(F832:F844)<F845,Labels!$B$163,INDEX($AH$832:$AH$844,MATCH(MAX(F832:F844),F832:F844,0))),\"\")","v":""},{"$f":"IF(SUM(G832:G844)<>0,IF(MAX(G832:G844)<G845,Labels!$B$163,INDEX($AH$832:$AH$844,MATCH(MAX(G832:G844),G832:G844,0))),\"\")","v":""},{"$f":"IF(SUM(H832:H844)<>0,IF(MAX(H832:H844)<H845,Labels!$B$163,INDEX($AH$832:$AH$844,MATCH(MAX(H832:H844),H832:H844,0))),\"\")","v":""},{"$f":"IF(SUM(I832:I844)<>0,IF(MAX(I832:I844)<I845,Labels!$B$163,INDEX($AH$832:$AH$844,MATCH(MAX(I832:I844),I832:I844,0))),\"\")","v":""},{"$f":"IF(SUM(J832:J844)<>0,IF(MAX(J832:J844)<J845,Labels!$B$163,INDEX($AH$832:$AH$844,MATCH(MAX(J832:J844),J832:J844,0))),\"\")","v":""},{"$f":"IF(SUM(K832:K844)<>0,IF(MAX(K832:K844)<K845,Labels!$B$163,INDEX($AH$832:$AH$844,MATCH(MAX(K832:K844),K832:K844,0))),\"\")","v":""},{"$f":"IF(SUM(L832:L844)<>0,IF(MAX(L832:L844)<L845,Labels!$B$163,INDEX($AH$832:$AH$844,MATCH(MAX(L832:L844),L832:L844,0))),\"\")","v":""},{"$f":"IF(SUM(M832:M844)<>0,IF(MAX(M832:M844)<M845,Labels!$B$163,INDEX($AH$832:$AH$844,MATCH(MAX(M832:M844),M832:M844,0))),\"\")","v":""},{"$f":"IF(SUM(N832:N844)<>0,IF(MAX(N832:N844)<N845,Labels!$B$163,INDEX($AH$832:$AH$844,MATCH(MAX(N832:N844),N832:N844,0))),\"\")","v":""},{"$f":"IF(SUM(O832:O844)<>0,IF(MAX(O832:O844)<O845,Labels!$B$163,INDEX($AH$832:$AH$844,MATCH(MAX(O832:O844),O832:O844,0))),\"\")","v":""},{"$f":"IF(SUM(P832:P844)<>0,IF(MAX(P832:P844)<P845,Labels!$B$163,INDEX($AH$832:$AH$844,MATCH(MAX(P832:P844),P832:P844,0))),\"\")","v":""},{"$f":"IF(SUM(Q832:Q844)<>0,IF(MAX(Q832:Q844)<Q845,Labels!$B$163,INDEX($AH$832:$AH$844,MATCH(MAX(Q832:Q844),Q832:Q844,0))),\"\")","v":""},{"$f":"IF(SUM(R832:R844)<>0,IF(MAX(R832:R844)<R845,Labels!$B$163,INDEX($AH$832:$AH$844,MATCH(MAX(R832:R844),R832:R844,0))),\"\")","v":""},{"$f":"IF(SUM(S832:S844)<>0,IF(MAX(S832:S844)<S845,Labels!$B$163,INDEX($AH$832:$AH$844,MATCH(MAX(S832:S844),S832:S844,0))),\"\")","v":""},{"$f":"IF(SUM(T832:T844)<>0,IF(MAX(T832:T844)<T845,Labels!$B$163,INDEX($AH$832:$AH$844,MATCH(MAX(T832:T844),T832:T844,0))),\"\")","v":""},{"$f":"IF(SUM(U832:U844)<>0,IF(MAX(U832:U844)<U845,Labels!$B$163,INDEX($AH$832:$AH$844,MATCH(MAX(U832:U844),U832:U844,0))),\"\")","v":""},{"$f":"IF(SUM(V832:V844)<>0,IF(MAX(V832:V844)<V845,Labels!$B$163,INDEX($AH$832:$AH$844,MATCH(MAX(V832:V844),V832:V844,0))),\"\")","v":""},{"$f":"IF(SUM(W832:W844)<>0,IF(MAX(W832:W844)<W845,Labels!$B$163,INDEX($AH$832:$AH$844,MATCH(MAX(W832:W844),W832:W844,0))),\"\")","v":""},{"$f":"IF(SUM(X832:X844)<>0,IF(MAX(X832:X844)<X845,Labels!$B$163,INDEX($AH$832:$AH$844,MATCH(MAX(X832:X844),X832:X844,0))),\"\")","v":""},{"$f":"IF(SUM(Y832:Y844)<>0,IF(MAX(Y832:Y844)<Y845,Labels!$B$163,INDEX($AH$832:$AH$844,MATCH(MAX(Y832:Y844),Y832:Y844,0))),\"\")","v":""},{"$f":"IF(SUM(Z832:Z844)<>0,IF(MAX(Z832:Z844)<Z845,Labels!$B$163,INDEX($AH$832:$AH$844,MATCH(MAX(Z832:Z844),Z832:Z844,0))),\"\")","v":""},{"$f":"IF(SUM(AA832:AA844)<>0,IF(MAX(AA832:AA844)<AA845,Labels!$B$163,INDEX($AH$832:$AH$844,MATCH(MAX(AA832:AA844),AA832:AA844,0))),\"\")","v":""},{"$f":"IF(SUM(AB832:AB844)<>0,IF(MAX(AB832:AB844)<AB845,Labels!$B$163,INDEX($AH$832:$AH$844,MATCH(MAX(AB832:AB844),AB832:AB844,0))),\"\")","v":""},{"$f":"IF(SUM(AC832:AC844)<>0,IF(MAX(AC832:AC844)<AC845,Labels!$B$163,INDEX($AH$832:$AH$844,MATCH(MAX(AC832:AC844),AC832:AC844,0))),\"\")","v":""},{"$f":"IF(SUM(AD832:AD844)<>0,IF(MAX(AD832:AD844)<AD845,Labels!$B$163,INDEX($AH$832:$AH$844,MATCH(MAX(AD832:AD844),AD832:AD844,0))),\"\")","v":""},{"$f":"IF(SUM(AE832:AE844)<>0,IF(MAX(AE832:AE844)<AE845,Labels!$B$163,INDEX($AH$832:$AH$844,MATCH(MAX(AE832:AE844),AE832:AE844,0))),\"\")","v":""},{"$f":"IF(SUM(AF832:AF844)<>0,IF(MAX(AF832:AF844)<AF845,Labels!$B$163,INDEX($AH$832:$AH$844,MATCH(MAX(AF832:AF844),AF832:AF844,0))),\"\")","v":""},{"$f":"$AJ$16*-1","v":0},"[02]",{"$f":"Labels!B145","v":"hm"},{"$f":"AG844","v":0},{"$f":"AG869","v":0},{"$f":"AG894","v":0},{"$f":"AG919","v":0},{"$f":"AG944","v":0},{"$f":"AG969","v":0},{"$f":"AG994","v":0},{"$f":"AG1019","v":0},{"$f":"AG1044","v":0},{"$f":"AG1069","v":0},{"$f":"AG1094","v":0},{"$f":"AG1119","v":0},0,null,"[07]","Zeitzuschlag 1 - Überschreitung Höchstarbeitszeit"]
[{"$f":"Labels!B40","v":"00h00-06h00 1)"},null,null,null,null,null,null,null,null,null,null,null,null,null,null,null,null,null,null,null,null,null,null,null,null,null,null,null,null,null,null,null,{"$f":"SUM(B15:AF15)","v":0},"[04]",{"$f":"Labels!B137","v":"cc"},{"$f":"AG834","v":0},{"$f":"AG859","v":0},{"$f":"AG884","v":0},{"$f":"AG909","v":0},{"$f":"AG934","v":0},{"$f":"AG959","v":0},{"$f":"AG984","v":0},{"$f":"AG1009","v":0},{"$f":"AG1034","v":0},{"$f":"AG1059","v":0},{"$f":"AG1084","v":0},{"$f":"AG1109","v":0},0,null,"[08]","Zeitzuschlag 2 - Nachtarbeit"]
[{"$f":"Labels!B41","v":"06h00-20h00 2)"},null,null,null,null,null,null,null,null,null,null,null,null,null,null,null,null,null,null,null,null,null,null,null,null,null,null,null,null,null,null,null,{"$f":"SUMPRODUCT(B16:AF16*(B12:AF12<>\"\"))-SUMPRODUCT(B16:AF16*(B18:AF18=\"ft\"))","v":0},"[03]","Karenztage",{"$f":"SUMPRODUCT((B830:AF830=\"x\")*B836:AF836)","v":0},{"$f":"SUMPRODUCT((B855:AF855=\"x\")*B861:AF861)","v":0},{"$f":"SUMPRODUCT((B880:AF880=\"x\")*B886:AF886)","v":0},{"$f":"SUMPRODUCT((B905:AF905=\"x\")*B911:AF911)","v":0},{"$f":"SUMPRODUCT((B930:AF930=\"x\")*B936:AF936)","v":0},{"$f":"SUMPRODUCT((B955:AF955=\"x\")*B961:AF961)","v":0},{"$f":"SUMPRODUCT((B980:AF980=\"x\")*B986:AF986)","v":0},{"$f":"SUMPRODUCT((B1005:AF1005=\"x\")*B1011:AF1011)","v":0},{"$f":"SUMPRODUCT((B1030:AF1030=\"x\")*B1036:AF1036)","v":0},{"$f":"SUMPRODUCT((B1055:AF1055=\"x\")*B1061:AF1061)","v":0},{"$f":"SUMPRODUCT((B1080:AF1080=\"x\")*B1086:AF1086)","v":0},{"$f":"SUMPRODUCT((B1105:AF1105=\"x\")*B1111:AF1111)","v":0},0,null,"[09]","Zeitzuschlag 3 - Sonn- und Feiertagsarbeit (Tag und Nacht)"]
[{"$f":"Labels!B42","v":"20h00-24h00 3)"},null,null,null,null,null,null,null,null,null,null,null,null,null,null,null,null,null,null,null,null,null,null,null,null,null,null,null,null,null,null,null,{"$f":"SUM(B17:AF17)","v":0},"[05]","Anz Karenztage",{"$f":"AG830","v":0},{"$f":"AG855","v":0},{"$f":"AG880","v":0},{"$f":"AG905","v":0},{"$f":"AG930","v":0},{"$f":"AG955","v":0},{"$f":"AG980","v":0},{"$f":"AG1005","v":0},{"$f":"AG1030","v":0},{"$f":"AG1055","v":0},{"$f":"AG1080","v":0},{"$f":"AG1105","v":0},0,null,"[10]","Total  gearbeitete Std. im Monat mit Zeitzuschlägen und Absenzen (ohne Berücks. ausbez. Std)"]
[{"$f":"Labels!B43","v":"Jours fériés \"jf\""},{"$f":"IF(WEEKDAY(B10,2)<=6,IF(CALENDRIER!E3=\"x\",Labels!$B$118,\"\"),\"\")","v":""},{"$f":"IF(WEEKDAY(C10,2)<=6,IF(CALENDRIER!F3=\"x\",Labels!$B$118,\"\"),\"\")","v":""},{"$f":"IF(WEEKDAY(D10,2)<=6,IF(CALENDRIER!G3=\"x\",Labels!$B$118,\"\"),\"\")","v":""},{"$f":"IF(WEEKDAY(E10,2)<=6,IF(CALENDRIER!H3=\"x\",Labels!$B$118,\"\"),\"\")","v":""},{"$f":"IF(WEEKDAY(F10,2)<=6,IF(CALENDRIER!I3=\"x\",Labels!$B$118,\"\"),\"\")","v":""},{"$f":"IF(WEEKDAY(G10,2)<=6,IF(CALENDRIER!J3=\"x\",Labels!$B$118,\"\"),\"\")","v":""},{"$f":"IF(WEEKDAY(H10,2)<=6,IF(CALENDRIER!K3=\"x\",Labels!$B$118,\"\"),\"\")","v":""},{"$f":"IF(WEEKDAY(I10,2)<=6,IF(CALENDRIER!L3=\"x\",Labels!$B$118,\"\"),\"\")","v":""},{"$f":"IF(WEEKDAY(J10,2)<=6,IF(CALENDRIER!M3=\"x\",Labels!$B$118,\"\"),\"\")","v":""},{"$f":"IF(WEEKDAY(K10,2)<=6,IF(CALENDRIER!N3=\"x\",Labels!$B$118,\"\"),\"\")","v":""},{"$f":"IF(WEEKDAY(L10,2)<=6,IF(CALENDRIER!O3=\"x\",Labels!$B$118,\"\"),\"\")","v":""},{"$f":"IF(WEEKDAY(M10,2)<=6,IF(CALENDRIER!P3=\"x\",Labels!$B$118,\"\"),\"\")","v":""},{"$f":"IF(WEEKDAY(N10,2)<=6,IF(CALENDRIER!Q3=\"x\",Labels!$B$118,\"\"),\"\")","v":""},{"$f":"IF(WEEKDAY(O10,2)<=6,IF(CALENDRIER!R3=\"x\",Labels!$B$118,\"\"),\"\")","v":""},{"$f":"IF(WEEKDAY(P10,2)<=6,IF(CALENDRIER!S3=\"x\",Labels!$B$118,\"\"),\"\")","v":""},{"$f":"IF(WEEKDAY(Q10,2)<=6,IF(CALENDRIER!T3=\"x\",Labels!$B$118,\"\"),\"\")","v":""},{"$f":"IF(WEEKDAY(R10,2)<=6,IF(CALENDRIER!U3=\"x\",Labels!$B$118,\"\"),\"\")","v":""},{"$f":"IF(WEEKDAY(S10,2)<=6,IF(CALENDRIER!V3=\"x\",Labels!$B$118,\"\"),\"\")","v":""},{"$f":"IF(WEEKDAY(T10,2)<=6,IF(CALENDRIER!W3=\"x\",Labels!$B$118,\"\"),\"\")","v":""},{"$f":"IF(WEEKDAY(U10,2)<=6,IF(CALENDRIER!X3=\"x\",Labels!$B$118,\"\"),\"\")","v":""},{"$f":"IF(WEEKDAY(V10,2)<=6,IF(CALENDRIER!Y3=\"x\",Labels!$B$118,\"\"),\"\")","v":""},{"$f":"IF(WEEKDAY(W10,2)<=6,IF(CALENDRIER!Z3=\"x\",Labels!$B$118,\"\"),\"\")","v":""},{"$f":"IF(WEEKDAY(X10,2)<=6,IF(CALENDRIER!AA3=\"x\",Labels!$B$118,\"\"),\"\")","v":""},{"$f":"IF(WEEKDAY(Y10,2)<=6,IF(CALENDRIER!AB3=\"x\",Labels!$B$118,\"\"),\"\")","v":""},{"$f":"IF(WEEKDAY(Z10,2)<=6,IF(CALENDRIER!AC3=\"x\",Labels!$B$118,\"\"),\"\")","v":""},{"$f":"IF(WEEKDAY(AA10,2)<=6,IF(CALENDRIER!AD3=\"x\",Labels!$B$118,\"\"),\"\")","v":""},{"$f":"IF(WEEKDAY(AB10,2)<=6,IF(CALENDRIER!AE3=\"x\",Labels!$B$118,\"\"),\"\")","v":""},{"$f":"IF(WEEKDAY(AC10,2)<=6,IF(CALENDRIER!AF3=\"x\",Labels!$B$118,\"\"),\"\")","v":""},{"$f":"IF(WEEKDAY(AD10,2)<=6,IF(CALENDRIER!AG3=\"x\",Labels!$B$118,\"\"),\"\")","v":""},{"$f":"IF(WEEKDAY(AE10,2)<=6,IF(CALENDRIER!AH3=\"x\",Labels!$B$118,\"\"),\"\")","v":""},{"$f":"IF(WEEKDAY(AF10,2)<=6,IF(CALENDRIER!AI3=\"x\",Labels!$B$118,\"\"),\"\")","v":""},{"$f":"SUM(B16:AF16)-AG16","v":0},"[03b]",{"$f":"Labels!B118","v":"jf"},{"$f":"SUMIF($B$18:$AF$18,$AI$18,$B$19:$AF$19)","v":0},{"$f":"SUMIF($B$83:$AD$83,$AI$18,$B$84:$AD$84)","v":0},{"$f":"SUMIF($B$148:$AF$148,$AI$18,$B$149:$AF$149)","v":0},{"$f":"SUMIF($B$213:$AE$213,$AI$18,$B$214:$AE$214)","v":0},{"$f":"SUMIF($B$278:$AF$278,$AI$18,$B$279:$AF$279)","v":0},{"$f":"SUMIF($B$343:$AE$343,$AI$18,$B$344:$AE$344)","v":0},{"$f":"SUMIF($B$408:$AF$408,$AI$18,$B$409:$AF$409)","v":0},{"$f":"SUMIF($B$473:$AF$473,$AI$18,$B$474:$AF$474)","v":0},{"$f":"SUMIF($B$538:$AE$538,$AI$18,$B$539:$AE$539)","v":0},{"$f":"SUMIF($B$603:$AF$603,$AI$18,$B$604:$AF$604)","v":0},{"$f":"SUMIF($B$668:$AE$668,$AI$18,$B$669:$AE$669)","v":0},{"$f":"SUMIF($B$733:$AF$733,$AI$18,$B$734:$AF$734)","v":0},{"$f":"SUM(AJ18:AU18)","v":0},null,"[11]","Saldo (ohne ausbez. Std.)"]
[{"$f":"Labels!B44","v":"Majoration  \"jf\""},{"$f":"IF(AND(B18=Labels!$B$118,WEEKDAY(B10,2)<6,B$12<>\"\"),$J$7*SUMPRODUCT(($AM$77:$AQ$77=MOD(B10,7))*$AM$65:$AQ$65)%,\"\")","v":""},{"$f":"IF(AND(C18=Labels!$B$118,WEEKDAY(C10,2)<6,C$12<>\"\"),$J$7*SUMPRODUCT(($AM$77:$AQ$77=MOD(C10,7))*$AM$65:$AQ$65)%,\"\")","v":""},{"$f":"IF(AND(D18=Labels!$B$118,WEEKDAY(D10,2)<6,D$12<>\"\"),$J$7*SUMPRODUCT(($AM$77:$AQ$77=MOD(D10,7))*$AM$65:$AQ$65)%,\"\")","v":""},{"$f":"IF(AND(E18=Labels!$B$118,WEEKDAY(E10,2)<6,E$12<>\"\"),$J$7*SUMPRODUCT(($AM$77:$AQ$77=MOD(E10,7))*$AM$65:$AQ$65)%,\"\")","v":""},{"$f":"IF(AND(F18=Labels!$B$118,WEEKDAY(F10,2)<6,F$12<>\"\"),$J$7*SUMPRODUCT(($AM$77:$AQ$77=MOD(F10,7))*$AM$65:$AQ$65)%,\"\")","v":""},{"$f":"IF(AND(G18=Labels!$B$118,WEEKDAY(G10,2)<6,G$12<>\"\"),$J$7*SUMPRODUCT(($AM$77:$AQ$77=MOD(G10,7))*$AM$65:$AQ$65)%,\"\")","v":""},{"$f":"IF(AND(H18=Labels!$B$118,WEEKDAY(H10,2)<6,H$12<>\"\"),$J$7*SUMPRODUCT(($AM$77:$AQ$77=MOD(H10,7))*$AM$65:$AQ$65)%,\"\")","v":""},{"$f":"IF(AND(I18=Labels!$B$118,WEEKDAY(I10,2)<6,I$12<>\"\"),$J$7*SUMPRODUCT(($AM$77:$AQ$77=MOD(I10,7))*$AM$65:$AQ$65)%,\"\")","v":""},{"$f":"IF(AND(J18=Labels!$B$118,WEEKDAY(J10,2)<6,J$12<>\"\"),$J$7*SUMPRODUCT(($AM$77:$AQ$77=MOD(J10,7))*$AM$65:$AQ$65)%,\"\")","v":""},{"$f":"IF(AND(K18=Labels!$B$118,WEEKDAY(K10,2)<6,K$12<>\"\"),$J$7*SUMPRODUCT(($AM$77:$AQ$77=MOD(K10,7))*$AM$65:$AQ$65)%,\"\")","v":""},{"$f":"IF(AND(L18=Labels!$B$118,WEEKDAY(L10,2)<6,L$12<>\"\"),$J$7*SUMPRODUCT(($AM$77:$AQ$77=MOD(L10,7))*$AM$65:$AQ$65)%,\"\")","v":""},{"$f":"IF(AND(M18=Labels!$B$118,WEEKDAY(M10,2)<6,M$12<>\"\"),$J$7*SUMPRODUCT(($AM$77:$AQ$77=MOD(M10,7))*$AM$65:$AQ$65)%,\"\")","v":""},{"$f":"IF(AND(N18=Labels!$B$118,WEEKDAY(N10,2)<6,N$12<>\"\"),$J$7*SUMPRODUCT(($AM$77:$AQ$77=MOD(N10,7))*$AM$65:$AQ$65)%,\"\")","v":""},{"$f":"IF(AND(O18=Labels!$B$118,WEEKDAY(O10,2)<6,O$12<>\"\"),$J$7*SUMPRODUCT(($AM$77:$AQ$77=MOD(O10,7))*$AM$65:$AQ$65)%,\"\")","v":""},{"$f":"IF(AND(P18=Labels!$B$118,WEEKDAY(P10,2)<6,P$12<>\"\"),$J$7*SUMPRODUCT(($AM$77:$AQ$77=MOD(P10,7))*$AM$65:$AQ$65)%,\"\")","v":""},{"$f":"IF(AND(Q18=Labels!$B$118,WEEKDAY(Q10,2)<6,Q$12<>\"\"),$J$7*SUMPRODUCT(($AM$77:$AQ$77=MOD(Q10,7))*$AM$65:$AQ$65)%,\"\")","v":""},{"$f":"IF(AND(R18=Labels!$B$118,WEEKDAY(R10,2)<6,R$12<>\"\"),$J$7*SUMPRODUCT(($AM$77:$AQ$77=MOD(R10,7))*$AM$65:$AQ$65)%,\"\")","v":""},{"$f":"IF(AND(S18=Labels!$B$118,WEEKDAY(S10,2)<6,S$12<>\"\"),$J$7*SUMPRODUCT(($AM$77:$AQ$77=MOD(S10,7))*$AM$65:$AQ$65)%,\"\")","v":""},{"$f":"IF(AND(T18=Labels!$B$118,WEEKDAY(T10,2)<6,T$12<>\"\"),$J$7*SUMPRODUCT(($AM$77:$AQ$77=MOD(T10,7))*$AM$65:$AQ$65)%,\"\")","v":""},{"$f":"IF(AND(U18=Labels!$B$118,WEEKDAY(U10,2)<6,U$12<>\"\"),$J$7*SUMPRODUCT(($AM$77:$AQ$77=MOD(U10,7))*$AM$65:$AQ$65)%,\"\")","v":""},{"$f":"IF(AND(V18=Labels!$B$118,WEEKDAY(V10,2)<6,V$12<>\"\"),$J$7*SUMPRODUCT(($AM$77:$AQ$77=MOD(V10,7))*$AM$65:$AQ$65)%,\"\")","v":""},{"$f":"IF(AND(W18=Labels!$B$118,WEEKDAY(W10,2)<6,W$12<>\"\"),$J$7*SUMPRODUCT(($AM$77:$AQ$77=MOD(W10,7))*$AM$65:$AQ$65)%,\"\")","v":""},{"$f":"IF(AND(X18=Labels!$B$118,WEEKDAY(X10,2)<6,X$12<>\"\"),$J$7*SUMPRODUCT(($AM$77:$AQ$77=MOD(X10,7))*$AM$65:$AQ$65)%,\"\")","v":""},{"$f":"IF(AND(Y18=Labels!$B$118,WEEKDAY(Y10,2)<6,Y$12<>\"\"),$J$7*SUMPRODUCT(($AM$77:$AQ$77=MOD(Y10,7))*$AM$65:$AQ$65)%,\"\")","v":""},{"$f":"IF(AND(Z18=Labels!$B$118,WEEKDAY(Z10,2)<6,Z$12<>\"\"),$J$7*SUMPRODUCT(($AM$77:$AQ$77=MOD(Z10,7))*$AM$65:$AQ$65)%,\"\")","v":""},{"$f":"IF(AND(AA18=Labels!$B$118,WEEKDAY(AA10,2)<6,AA$12<>\"\"),$J$7*SUMPRODUCT(($AM$77:$AQ$77=MOD(AA10,7))*$AM$65:$AQ$65)%,\"\")","v":""},{"$f":"IF(AND(AB18=Labels!$B$118,WEEKDAY(AB10,2)<6,AB$12<>\"\"),$J$7*SUMPRODUCT(($AM$77:$AQ$77=MOD(AB10,7))*$AM$65:$AQ$65)%,\"\")","v":""},{"$f":"IF(AND(AC18=Labels!$B$118,WEEKDAY(AC10,2)<6,AC$12<>\"\"),$J$7*SUMPRODUCT(($AM$77:$AQ$77=MOD(AC10,7))*$AM$65:$AQ$65)%,\"\")","v":""},{"$f":"IF(AND(AD18=Labels!$B$118,WEEKDAY(AD10,2)<6,AD$12<>\"\"),$J$7*SUMPRODUCT(($AM$77:$AQ$77=MOD(AD10,7))*$AM$65:$AQ$65)%,\"\")","v":""},{"$f":"IF(AND(AE18=Labels!$B$118,WEEKDAY(AE10,2)<6,AE$12<>\"\"),$J$7*SUMPRODUCT(($AM$77:$AQ$77=MOD(AE10,7))*$AM$65:$AQ$65)%,\"\")","v":""},{"$f":"IF(AND(AF18=Labels!$B$118,WEEKDAY(AF10,2)<6,AF$12<>\"\"),$J$7*SUMPRODUCT(($AM$77:$AQ$77=MOD(AF10,7))*$AM$65:$AQ$65)%,\"\")","v":""},{"$f":"SUM(B19:AF19)","v":0},"[06]",{"$f":"Labels!B160","v":"Nombre jf"},{"$f":"COUNTIF($B$18:$AF$18,$AI$18)","v":0},{"$f":"COUNTIF($B$83:$AD$83,$AI$18)","v":0},{"$f":"COUNTIF($B$148:$AF$148,$AI$18)","v":0},{"$f":"COUNTIF($B$213:$AE$213,$AI$18)","v":0},{"$f":"COUNTIF($B$278:$AF$278,$AI$18)","v":0},{"$f":"COUNTIF($B$343:$AE$343,$AI$18)","v":0},{"$f":"COUNTIF($B$408:$AF$408,$AI$18)","v":0},{"$f":"COUNTIF($B$473:$AF$473,$AI$18)","v":0},{"$f":"COUNTIF($B$538:$AE$538,$AI$18)","v":0},{"$f":"COUNTIF($B$603:$AF$603,$AI$18)","v":0},{"$f":"COUNTIF($B$668:$AE$668,$AI$18)","v":0},{"$f":"COUNTIF($B$733:$AF$733,$AI$18)","v":0},0]
[{"$f":"Labels!B45","v":"total quotidien"},{"$f":"SUM(B15:B17)","v":0},{"$f":"SUM(C15:C17)","v":0},0,0,0,0,0,0,0,0,0,0,0,0,0,0,0,0,0,0,0,0,0,0,0,0,0,0,0,0,0,null,"TT",{"$f":"Labels!B161","v":"Message"},{"$f":"IF($AV$19>9,\"(\" & $AV$19 & \" = \" & Labels!B117,\"\")","v":""}]
[{"$f":"Labels!B46","v":"."},null,null,null,null,null,null,null,null,null,null,null,null,null,null,null,null,null,null,null,null,null,null,null,null,null,null,null,null,null,null,null,null,"R","Bez VoJa",{"$f":"$AE$33","v":0},{"$f":"$AE$98","v":0},{"$f":"$AE$163","v":0},{"$f":"$AE$228","v":0},{"$f":"$AE$293","v":0},{"$f":"$AE$358","v":0},{"$f":"$AE$423","v":0},{"$f":"$AE$488","v":0},{"$f":"$AE$553","v":0},null,null,null,{"$f":"SUM(AJ21:AU21)","v":0}]
[{"$f":"Labels!B47","v":"."},null,null,null,null,null,null,null,null,null,null,null,null,null,null,null,null,null,null,null,null,null,null,null,null,null,null,null,null,null,null,null,null,"R","Bez LaJa",{"$f":"$AE$34","v":0},{"$f":"$AE$99","v":0},{"$f":"$AE$164","v":0},{"$f":"$AE$229","v":0},{"$f":"$AE$294","v":0},{"$f":"$AE$359","v":0},{"$f":"$AE$424","v":0},{"$f":"$AE$489","v":0},{"$f":"$AE$554","v":0},{"$f":"$AE$619","v":0},{"$f":"$AE$684","v":0},{"$f":"$AE$749","v":0},{"$f":"SUM(AJ22:AU22)","v":0}]
[{"$f":"Labels!B48","v":"transition mois"},{"$f":"IF(WEEKDAY(B10)=1,TEXT(B10-1,\"MMM\"&Labels!B13),\"\")","v":"déc."},null,null,null,null,null,null,null,null,null,null,null,null,null,null,null,null,null,null,null,null,null,null,null,null,null,null,null,null,null,{"$f":"IF(AND(WEEKDAY(AF10)>1,WEEKDAY(AF10)<7),TEXT(DATE($B$5,MONTH(AF10)+1,1),\"MMM\"&Labels!B13),\"\")","v":"févr."},null,"MNT","Zuschläge Nacht/Sonn-/Feiertag",{"$f":"SUM(AG26+AG27)","v":0},{"$f":"SUM(AG91+AG92)","v":0},{"$f":"SUM(AG156+AG157)","v":0},{"$f":"SUM(AG221+AG222)","v":0},{"$f":"SUM(AG286+AG287)","v":0},{"$f":"SUM(AG351+AG352)","v":0},{"$f":"SUM(AG416+AG417)","v":0},{"$f":"SUM(AG481+AG482)","v":0},{"$f":"SUM(AG546+AG547)","v":0},{"$f":"SUM(AG611+AG612)","v":0},{"$f":"SUM(AG676+AG677)","v":0},{"$f":"SUM(AG741+AG742)","v":0},{"$f":"SUM(AJ23:AU23)","v":0}]
[{"$f":"Labels!B49","v":"Total hebdomadaire"},{"$f":"IF(WEEKDAY(B10)=7,SUMIF($B11:$AF11,B11,$B20:$AF20)+SUMIF($B76:$AD76,B11,$B85:$AD85),IF(WEEKDAY(B10)=1,SUMIF($B11:$AF11,B11,$B20:$AF20)+SUMIF($B76:$AD76,B11,$B85:$AD85),\"\"))","v":0},{"$f":"IF(WEEKDAY(C10)=7,SUMIF($B11:$AF11,C11,$B20:$AF20)+SUMIF($B76:$AD76,C11,$B85:$AD85),\"\")","v":""},"","","","",0,"","","","","","",0,"","","","","","",0,"","","","","","",0,"","",{"$f":"IF(WEEKDAY(AF10)=7,SUMIF($B11:$AF11,AF11,$B20:$AF20)+SUMIF($B76:$AD76,AF11,$B85:$AD85),AF23)","v":"févr."},null,"WT",null,null,null,null,null,null,null,null,null,null,null,null,null,null,null,"Legende Absenztypen (DE)"]
[{"$f":"Labels!B50","v":"Majorations temp. 1)"},{"$f":"IF(B32=\"FALSCH\",\"\",B32)","v":""},{"$f":"IF(C32=\"FALSCH\",\"\",C32)","v":""},"","","","","","","","","","","","","","","","","","","","","","","","","","","","","",{"$f":"SUM(B25:AF25)","v":0},"[07]"]
[{"$f":"Labels!B51","v":"Majorations temp. 2)"},{"$f":"IF((B15+B17)=0,\"\",SUM(B15,B17))","v":""},{"$f":"IF((C15+C17)=0,\"\",SUM(C15,C17))","v":""},{"$f":"IF((D15+D17)=0,\"\",SUM(D15,D17))","v":""},{"$f":"IF((E15+E17)=0,\"\",SUM(E15,E17))","v":""},"","","","","","","","","","","","","","","","","","","","","","","","","","","",0,"[08]",null,null,null,null,null,null,null,null,null,null,null,null,null,null,null,"a","Absenzen, Kurzabsenzen\nArt. 11 GAV"]
[{"$f":"Labels!B52","v":"Majorations temp. 3)"},{"$f":"SUM(B28:B31)","v":0},0,0,0,0,0,0,0,0,0,0,0,0,0,0,0,0,0,0,0,0,0,0,0,0,0,0,0,0,0,0,0,"[09]","Konfiguration (lokal)",null,null,null,null,null,null,null,null,null,null,null,null,null,null,"f","Ferien Art. 12.1. GAV"]
[{"$f":"Labels!B53","v":"Dimanche journée"},{"$f":"IF(WEEKDAY(B10)=1,B16,\"\")","v":0},{"$f":"IF(WEEKDAY(C10)=1,C16,\"\")","v":""},"","","","","",0,"","","","","","",0,"","","","","","",0,"","","","","","",0,"","",0,"[09-ST]",null,null,null,null,null,null,null,null,null,null,null,null,null,null,null,"k","Krankheit Art. 13 GAV"]
[{"$f":"Labels!B54","v":"Dimanche nuit"},{"$f":"IF(WEEKDAY(B10)=1,SUM(B15+B17),\"\")","v":0},{"$f":"IF(WEEKDAY(C10)=1,SUM(C15+C17),\"\")","v":""},"","","","","",0,"","","","","","",0,"","","","","","",0,"","","","","","",0,"","",0,"[09-SN]","Erster Januar aktuelles Jahr",null,null,null,null,null,null,{"$f":"DATE(YEAR($A$7),MONTH($A$7),DAY($A$7))","v":"2023-01-01"},null,null,null,null,null,null,null,"m","Militär, Zivilschutz\nArt. 16 GAV"]
[{"$f":"Labels!B55","v":"jf-jomajoration"},{"$f":"IF(B18=Labels!$B$118,B16,\"\")","v":""},{"$f":"IF(C18=Labels!$B$118,C16,\"\")","v":""},{"$f":"IF(D18=Labels!$B$118,D16,\"\")","v":""},{"$f":"IF(E18=Labels!$B$118,E16,\"\")","v":""},{"$f":"IF(F18=Labels!$B$118,F16,\"\")","v":""},{"$f":"IF(G18=Labels!$B$118,G16,\"\")","v":""},{"$f":"IF(H18=Labels!$B$118,H16,\"\")","v":""},{"$f":"IF(I18=Labels!$B$118,I16,\"\")","v":""},{"$f":"IF(J18=Labels!$B$118,J16,\"\")","v":""},{"$f":"IF(K18=Labels!$B$118,K16,\"\")","v":""},{"$f":"IF(L18=Labels!$B$118,L16,\"\")","v":""},{"$f":"IF(M18=Labels!$B$118,M16,\"\")","v":""},{"$f":"IF(N18=Labels!$B$118,N16,\"\")","v":""},{"$f":"IF(O18=Labels!$B$118,O16,\"\")","v":""},{"$f":"IF(P18=Labels!$B$118,P16,\"\")","v":""},{"$f":"IF(Q18=Labels!$B$118,Q16,\"\")","v":""},{"$f":"IF(R18=Labels!$B$118,R16,\"\")","v":""},{"$f":"IF(S18=Labels!$B$118,S16,\"\")","v":""},{"$f":"IF(T18=Labels!$B$118,T16,\"\")","v":""},{"$f":"IF(U18=Labels!$B$118,U16,\"\")","v":""},{"$f":"IF(V18=Labels!$B$118,V16,\"\")","v":""},{"$f":"IF(W18=Labels!$B$118,W16,\"\")","v":""},{"$f":"IF(X18=Labels!$B$118,X16,\"\")","v":""},{"$f":"IF(Y18=Labels!$B$118,Y16,\"\")","v":""},{"$f":"IF(Z18=Labels!$B$118,Z16,\"\")","v":""},{"$f":"IF(AA18=Labels!$B$118,AA16,\"\")","v":""},{"$f":"IF(AB18=Labels!$B$118,AB16,\"\")","v":""},{"$f":"IF(AC18=Labels!$B$118,AC16,\"\")","v":""},{"$f":"IF(AD18=Labels!$B$118,AD16,\"\")","v":""},{"$f":"IF(AE18=Labels!$B$118,AE16,\"\")","v":""},{"$f":"IF(AF18=Labels!$B$118,AF16,\"\")","v":""},0,"[09-FT]","(Berechnungsgrundlage Kalender)",null,null,null,null,null,null,null,null,null,null,null,null,null,null,"s","Schwanger-/Mutterschaft\nArt. 15 GAV"]
[{"$f":"Labels!B56","v":"jf-numajoration"},{"$f":"IF(B18=Labels!$B$118,SUM(B15,B17),\"\")","v":""},{"$f":"IF(C18=Labels!$B$118,SUM(C15,C17),\"\")","v":""},{"$f":"IF(D18=Labels!$B$118,SUM(D15,D17),\"\")","v":""},{"$f":"IF(E18=Labels!$B$118,SUM(E15,E17),\"\")","v":""},{"$f":"IF(F18=Labels!$B$118,SUM(F15,F17),\"\")","v":""},{"$f":"IF(G18=Labels!$B$118,SUM(G15,G17),\"\")","v":""},{"$f":"IF(H18=Labels!$B$118,SUM(H15,H17),\"\")","v":""},{"$f":"IF(I18=Labels!$B$118,SUM(I15,I17),\"\")","v":""},{"$f":"IF(J18=Labels!$B$118,SUM(J15,J17),\"\")","v":""},{"$f":"IF(K18=Labels!$B$118,SUM(K15,K17),\"\")","v":""},{"$f":"IF(L18=Labels!$B$118,SUM(L15,L17),\"\")","v":""},{"$f":"IF(M18=Labels!$B$118,SUM(M15,M17),\"\")","v":""},{"$f":"IF(N18=Labels!$B$118,SUM(N15,N17),\"\")","v":""},{"$f":"IF(O18=Labels!$B$118,SUM(O15,O17),\"\")","v":""},{"$f":"IF(P18=Labels!$B$118,SUM(P15,P17),\"\")","v":""},{"$f":"IF(Q18=Labels!$B$118,SUM(Q15,Q17),\"\")","v":""},{"$f":"IF(R18=Labels!$B$118,SUM(R15,R17),\"\")","v":""},{"$f":"IF(S18=Labels!$B$118,SUM(S15,S17),\"\")","v":""},{"$f":"IF(T18=Labels!$B$118,SUM(T15,T17),\"\")","v":""},{"$f":"IF(U18=Labels!$B$118,SUM(U15,U17),\"\")","v":""},{"$f":"IF(V18=Labels!$B$118,SUM(V15,V17),\"\")","v":""},{"$f":"IF(W18=Labels!$B$118,SUM(W15,W17),\"\")","v":""},{"$f":"IF(X18=Labels!$B$118,SUM(X15,X17),\"\")","v":""},{"$f":"IF(Y18=Labels!$B$118,SUM(Y15,Y17),\"\")","v":""},{"$f":"IF(Z18=Labels!$B$118,SUM(Z15,Z17),\"\")","v":""},{"$f":"IF(AA18=Labels!$B$118,SUM(AA15,AA17),\"\")","v":""},{"$f":"IF(AB18=Labels!$B$118,SUM(AB15,AB17),\"\")","v":""},{"$f":"IF(AC18=Labels!$B$118,SUM(AC15,AC17),\"\")","v":""},{"$f":"IF(AD18=Labels!$B$118,SUM(AD15,AD17),\"\")","v":""},{"$f":"IF(AE18=Labels!$B$118,SUM(AE15,AE17),\"\")","v":""},{"$f":"IF(AF18=Labels!$B$118,SUM(AF15,AF17),\"\")","v":""},0,"[09-FN]",null,null,null,null,null,null,null,null,null,null,null,null,null,null,null,"u","Unfall Art. 14 GAV"]
[{"$f":"Labels!B57","v":"majoration caché (total hebd.)"},{"$f":"IF($B4>=80,IF(OR(ISTEXT(B24),B24=\"\",B24<$B$7),\"\",ROUND(((B24-$B$7)*25%)/25,4)*25),IF(B20>($B$7/5),ROUND(((B20-($B$7/5))*25%)/25,4)*25,\"\"))","v":""},{"$f":"IF($B4>=80,IF(OR(ISTEXT(C24),C24=\"\",C24<$B$7),\"\",ROUND(((C24-$B$7)*25%)/25,4)*25),IF(C20>($B$7/5),ROUND(((C20-($B$7/5))*25%)/25,4)*25,\"\"))","v":""},"","","","","","","","","","","","","","","","","","","","","","","","","","","","","",{"$f":"AG16","v":0},"[03]","Schaltjahr",null,null,null,null,null,null,{"$f":"IF(ISERROR((\"29.02.\"&timesheetYear)*1),FALSE,TRUE)","v":false},null,null,null,null,null,null,null,"bs","Berufsschule"]
[null,{"$f":"Labels!B58","v":"1)  25% majoration temporelle pour depassement les heures maximales"},null,null,null,null,null,null,null,null,null,{"$f":"Labels!B59","v":"2) 100% majoration temporelle pour travail de nuit"},null,null,null,null,null,null,null,{"$f":"Labels!B61","v":"Saisie des heures payées l'année passée"},null,null,null,null,null,null,null,null,null,null,null,null,{"$f":"SUM(AG15+AG17)","v":0},"[4-5]",null,null,null,null,null,null,null,null,null,null,null,null,null,null,null,"fe","Fehlstunden zur Information ohne Berechnung in der Zusammenfassung"]
[null,{"$f":"Labels!B60","v":"3) 100% majoration temporelle pour travail du dimanche et jour férié"},null,null,null,null,null,null,null,null,null,null,null,null,null,null,null,null,null,{"$f":"Labels!B62","v":"Saisie des heures payées exercice en cours (heures supplémentaires)"},null,null,null,null,null,null,null,null,null,null,null,null,{"$f":"SUM(AG15:AG17)","v":0},"[3-5]","Hilfszelle Feiertage",null,null,null,null,null,null,null,{"$f":"Labels!$B$118","v":"jf"},null,null,null,null,null,null,"ka","Kurzabeit, Schlechtwetterausfälle"]
[{"$f":"Labels!B159","v":"Notes"},null,null,null,null,null,null,null,null,null,null,null,null,null,null,null,null,null,null,null,null,null,null,null,null,null,null,null,null,null,null,null,{"$f":"SUM(AG13:AG27)","v":0},"[10]",null,null,null,null,null,null,null,null,null,null,null,null,null,null,null,"kj","Kompensation laufendes Jahr siehe  Zusammenfassung"]
[null,null,null,null,null,null,null,null,null,null,null,null,null,null,null,null,null,null,null,null,null,null,null,null,null,null,null,null,null,null,null,null,{"$f":"AG12","v":176},"[00]","aktueller Kalender",null,"calendar",null,null,null,null,null,"CALENDRIER",null,null,null,null,null,null,"ku","Kurse"]
[{"$f":"IF(AG829=0,\"\",\"effektives Pensum:  \"&ROUND(COUNT(B12:AF12)/(AG829+COUNT(B12:AF12))%*B4%*20,0)/20&\" %\")","v":""},null,null,null,null,null,null,null,null,null,null,null,null,null,null,null,null,null,null,null,null,null,null,null,null,null,null,null,null,null,null,null,{"$f":"SUM(AG35-AG36)","v":-176},"[11]",null,null,null,null,null,null,null,null,null,null,null,null,null,null,null,"kv","Kompensation Vorjahressaldo für Abrechnung in der Zusammenfassung"]
[null,null,null,null,null,null,null,null,null,null,null,null,null,null,null,null,null,null,null,null,null,null,null,null,null,null,null,null,null,null,null,null,null,null,null,null,null,null,null,null,null,null,null,null,null,null,null,null,null,"fu","Ferien unbezahlt"]
[{"$f":"Labels!$B$103","v":"Résumé"},null,null,null,null,null,{"$f":"Labels!$B$77","v":"Jan"},null,{"$f":"Labels!$B$78","v":"Fév"},null,{"$f":"Labels!$B$79","v":"Mar"},null,{"$f":"Labels!$B$80","v":"Avr"},null,{"$f":"Labels!$B$81","v":"Mai"},null,{"$f":"Labels!$B$82","v":"Jun"},null,{"$f":"Labels!$B$83","v":"Jul"},null,{"$f":"Labels!$B$84","v":"Aoû"},null,{"$f":"Labels!$B$85","v":"Sep"},null,{"$f":"Labels!$B$86","v":"Oct"},null,{"$f":"Labels!$B$87","v":"Nov"},null,{"$f":"Labels!$B$88","v":"Déc"},null,{"$f":"Labels!$B$101","v":"Année"},null,null,null,"alter Kalender",null,"calendar1",null,null,null,null,null,"Kalender Müller"]
[{"$f":"Labels!$B$20","v":"Emploi %"},null,null,null,null,null,{"$f":"IF($B$4=0,0,$B$4)","v":100},null,{"$f":"IF($B$72=0,0,$B$72)","v":100},null,{"$f":"IF($B$137=0,0,$B$137)","v":100},null,{"$f":"IF($B$202=0,0,$B$202)","v":100},null,{"$f":"IF($B$267=0,0,$B$267)","v":100},null,{"$f":"IF($B$332=0,0,$B$332)","v":100},null,{"$f":"IF($B$397=0,0,$B$397)","v":100},null,{"$f":"IF($B$462=0,0,$B$462)","v":100},null,{"$f":"IF($B$527=0,0,$B$527)","v":100},null,{"$f":"IF($B$592=0,0,$B$592)","v":100},null,{"$f":"IF($B$657=0,0,$B$657)","v":100},null,{"$f":"IF($B$722=0,0,$B$722)","v":100},null,null,null,null,null,"neuer Kalender",null,"calendar",null,null,null,null,null,"KALENDER"]
[{"$f":"Labels!$B$104","v":"Heures théoriques selon CCT"},null,null,null,null,null,{"$f":"IF($AG$36=0,0,$AG$36)","v":176},null,{"$f":"IF($AG$101=0,0,$AG$101)","v":160},null,{"$f":"IF($AG$142=0,0,$AG$142)","v":184},null,{"$f":"IF($AG$231=0,0,$AG$231)","v":160},null,{"$f":"IF($AG$296=0,0,$AG$296)","v":184},null,{"$f":"IF($AG$361=0,0,$AG$361)","v":176},null,{"$f":"IF($AG$426=0,0,$AG$426)","v":168},null,{"$f":"IF($AG$491=0,0,$AG$491)","v":184},null,{"$f":"IF($AG$556=0,0,$AG$556)","v":168},null,{"$f":"IF($AG$621=0,0,$AG$621)","v":176},null,{"$f":"IF($AG$686=0,0,$AG$686)","v":176},null,{"$f":"IF($AG$751=0,0,$AG$751)","v":168},null,{"$f":"SUM(G41:AD41)","v":2080}]
[{"$f":"Labels!$B$105","v":"Total heures productives"},{"$f":"Labels!$B$106","v":"06.00 - 20.00 h"},null,null,null,null,{"$f":"IF($AG$32=0,0,$AG$32)","v":0},null,{"$f":"IF($AG$97=0,0,$AG$97)","v":0},null,{"$f":"IF($AG$162=0,0,$AG$162)","v":0},null,{"$f":"IF($AG$227=0,0,$AG$227)","v":0},null,{"$f":"IF($AG$292=0,0,$AG$292)","v":0},null,{"$f":"IF($AG$357=0,0,$AG$357)","v":0},null,{"$f":"IF($AG$422=0,0,$AG$422)","v":0},null,{"$f":"IF($AG$487=0,0,$AG$487)","v":0},null,{"$f":"IF($AG$552=0,0,$AG$552)","v":0},null,{"$f":"IF($AG$617=0,0,$AG$617)","v":0},null,{"$f":"IF($AG$682=0,0,$AG$682)","v":0},null,{"$f":"IF($AG$747=0,0,$AG$747)","v":0},null,{"$f":"SUM(G42:AD42)","v":0},null,null,null,null,null,null,null,null,null,null,null,null,null,null,null,null,null,null,"Meldungen & Beschriftungen"]
[null,{"$f":"Labels!$B$107","v":"nuit, dimanche et jour férié"},null,null,null,null,{"$f":"IF(AND($AG$33=0,$AG$18=0),0,$AG$33+$AG$18)","v":0},null,{"$f":"IF(AND($AG$98=0,$AG$83=0),0,$AG$98+$AG$83)","v":0},null,{"$f":"IF(AND($AG$163=0,$AG$148=0),0,$AG$163+$AG$148)","v":0},null,{"$f":"IF(AND($AG$228=0,$AG$213=0),0,$AG$228+$AG$213)","v":0},null,{"$f":"IF(AND($AG$293=0,$AG$278=0),0,$AG$293+$AG$278)","v":0},null,{"$f":"IF(AND($AG$358=0,$AG$343=0),0,$AG$358+$AG$343)","v":0},null,{"$f":"IF(AND($AG$423=0,$AG$408=0),0,$AG$423+$AG$408)","v":0},null,{"$f":"IF(AND($AG$488=0,$AG$473=0),0,$AG$488+$AG$473)","v":0},null,{"$f":"IF(AND($AG$553=0,$AG$538=0),0,$AG$553+$AG$538)","v":0},null,{"$f":"IF(AND($AG$618=0,$AG$603=0),0,$AG$618+$AG$603)","v":0},null,{"$f":"IF(AND($AG$683=0,$AG$668=0),0,$AG$683+$AG$668)","v":0},null,{"$f":"IF(AND($AG$748=0,$AG$733=0),0,$AG$748+$AG$733)","v":0},null,{"$f":"SUM(G43:AD43)","v":0}]
[{"$f":"Labels!$B$108","v":"Majorations temporelles"},{"$f":"Labels!$B$109","v":"depassement des heures maximales"},null,null,null,null,{"$f":"IF($AG$25=0,0,$AG$25)","v":0},null,{"$f":"IF($AG$90=0,0,$AG$90)","v":0},null,{"$f":"IF($AG$155=0,0,$AG$155)","v":0},null,{"$f":"IF($AG$220=0,0,$AG$220)","v":0},null,{"$f":"IF($AG$285=0,0,$AG$285)","v":0},null,{"$f":"IF($AG$350=0,0,$AG$350)","v":0},null,{"$f":"IF($AG$415=0,0,$AG$415)","v":0},null,{"$f":"IF($AG$480=0,0,$AG$480)","v":0},null,{"$f":"IF($AG$545=0,0,$AG$545)","v":0},null,{"$f":"IF($AG$610=0,0,$AG$610)","v":0},null,{"$f":"IF($AG$675=0,0,$AG$675)","v":0},null,{"$f":"IF($AG$740=0,0,$AG$740)","v":0},null,{"$f":"SUM(G44:AD44)","v":0},null,null,null,null,null,null,null,null,null,null,null,null,null,null,null,null,null,null,null,{"$f":"\"Das Vorjahresguthaben beträgt noch \"&TEXT(W62,\"0.0000\")&\" Std.\"","v":"Das Vorjahresguthaben beträgt noch 0.0000 Std."}]
[null,{"$f":"Labels!$B$110","v":"nuit, dimanche et jour férié"},null,null,null,null,{"$f":"IF($AJ$23=0,0,$AJ$23)","v":0},null,{"$f":"IF($AK$23=0,0,$AK$23)","v":0},null,{"$f":"IF($AL$23=0,0,$AL$23)","v":0},null,{"$f":"IF($AM$23=0,0,$AM$23)","v":0},null,{"$f":"IF($AN$23=0,0,$AN$23)","v":0},null,{"$f":"IF($AO$23=0,0,$AO$23)","v":0},null,{"$f":"IF($AP$23=0,0,$AP$23)","v":0},null,{"$f":"IF($AQ$23=0,0,$AQ$23)","v":0},null,{"$f":"IF($AR$23=0,0,$AR$23)","v":0},null,{"$f":"IF($AS$23=0,0,$AS$23)","v":0},null,{"$f":"IF($AT$23=0,0,$AT$23)","v":0},null,{"$f":"IF($AU$23=0,0,$AU$23)","v":0},null,{"$f":"SUM(G45:AD45)","v":0},null,null,null,"Anstellungsdetails",null,"Name:","Muster Peter",null,null,"Default-%",null,100,null,null,null,null,null,null,null,"Total"]
[{"$f":"Labels!$B$111","v":"Heures inproductives"}]
[{"$f":"Labels!$B$112","v":"   Absences art. 11 CCT"},null,null,null,null,{"$f":"Labels!$B$113","v":"ab"},{"$f":"IF($AJ$3=0,0,$AJ$3)","v":0},null,{"$f":"IF($AK$3=0,0,$AK$3)","v":0},null,{"$f":"IF($AL$3=0,0,$AL$3)","v":0},null,{"$f":"IF($AM$3=0,0,$AM$3)","v":0},null,{"$f":"IF($AN$3=0,0,$AN$3)","v":0},null,{"$f":"IF($AO$3=0,0,$AO$3)","v":0},null,{"$f":"IF($AP$3=0,0,$AP$3)","v":0},null,{"$f":"IF($AQ$3=0,0,$AQ$3)","v":0},null,{"$f":"IF($AR$3=0,0,$AR$3)","v":0},null,{"$f":"IF($AS$3=0,0,$AS$3)","v":0},null,{"$f":"IF(AT$3=0,0,$AT$3)","v":0},null,{"$f":"IF($AU$3=0,0,$AU$3)","v":0},null,{"$f":"IF($AV$3=0,0,$AV$3)","v":0},null,null,null,"Ganzes Jahr gleich?",true,null,"%","MO","DI","MI","DO","FR","Arbeitst."]
[{"$f":"Labels!$B$114","v":"   Vacances art. 12.1 CCT"},null,null,null,null,{"$f":"Labels!$B$115","v":"va"},{"$f":"IF($AJ$4=0,0,$AJ$4)","v":0},null,{"$f":"IF($AK$4=0,0,$AK$4)","v":0},null,{"$f":"IF($AL$4=0,0,$AL$4)","v":0},null,{"$f":"IF($AM$4=0,0,$AM$4)","v":0},null,{"$f":"IF($AN$4=0,0,$AN$4)","v":0},null,{"$f":"IF($AO$4=0,0,$AO$4)","v":0},null,{"$f":"IF($AP$4=0,0,$AP$4)","v":0},null,{"$f":"IF($AQ$4=0,0,$AQ$4)","v":0},null,{"$f":"IF($AR$4=0,0,$AR$4)","v":0},null,{"$f":"IF($AS$4=0,0,$AS$4)","v":0},null,{"$f":"IF($AT$4=0,0,$AT$4)","v":0},null,{"$f":"IF($AU$4=0,0,$AU$4)","v":0},null,{"$f":"IF($AV$4=0,0,$AV$4)","v":0},null,null,null,"Expertenmodus",false,"Jan",{"$f":"AL65","v":100},{"$f":"IF(AM65>0,TRUE,FALSE)","v":true},{"$f":"IF(AN65>0,TRUE,FALSE)","v":true},true,true,true,{"$f":"COUNTIF(AM48:AQ48,TRUE)","v":5}]
[{"$f":"Labels!$B$181","v":"   vacances non payées"},null,null,null,null,{"$f":"Labels!$B$182","v":"vn"},{"$f":"IF($AJ$13=0,0,$AJ$13)","v":0},null,{"$f":"IF($AK$13=0,0,$AK$13)","v":0},null,{"$f":"IF($AL$13=0,0,$AL$13)","v":0},null,{"$f":"IF($AM$13=0,0,$AM$13)","v":0},null,{"$f":"IF($AN$13=0,0,$AN$13)","v":0},null,{"$f":"IF($AO$13=0,0,$AO$13)","v":0},null,{"$f":"IF($AP$13=0,0,$AP$13)","v":0},null,{"$f":"IF($AQ$13=0,0,$AQ$13)","v":0},null,{"$f":"IF($AR$13=0,0,$AR$13)","v":0},null,{"$f":"IF($AS$13=0,0,$AS$13)","v":0},null,{"$f":"IF($AT$13=0,0,$AT$13)","v":0},null,{"$f":"IF($AU$13=0,0,$AU$13)","v":0},null,{"$f":"IF($AV$13=0,0,$AV$13)","v":0},null,null,null,null,null,"Feb",{"$f":"AL66","v":100},{"$f":"IF(AM66>0,TRUE,FALSE)","v":true},true,true,true,true,{"$f":"COUNTIF(AM49:AQ49,TRUE)","v":5}]
[{"$f":"Labels!$B$116","v":"   Jours fériés art. 12.2 CCT"},null,{"$f":"IF($AJ$20=\"\",\"\",$AJ$20)","v":""},null,null,{"$f":"Labels!$B$118","v":"jf"},{"$f":"IF($AJ$18=0,0,$AJ$18)","v":0},null,{"$f":"IF($AK$18=0,0,$AK$18)","v":0},null,{"$f":"IF($AL$18=0,0,$AL$18)","v":0},null,{"$f":"IF($AM$18=0,0,$AM$18)","v":0},null,{"$f":"IF($AN$18=0,0,$AN$18)","v":0},null,{"$f":"IF($AO$18=0,0,$AO$18)","v":0},null,{"$f":"IF($AP$18=0,0,$AP$18)","v":0},null,{"$f":"IF($AQ$18=0,0,$AQ$18)","v":0},null,{"$f":"IF($AR$18=0,0,$AR$18)","v":0},null,{"$f":"IF($AS$18=0,0,$AS$18)","v":0},null,{"$f":"IF($AT$18=0,0,$AT$18)","v":0},null,{"$f":"IF($AU$18=0,0,$AU$18)","v":0},null,{"$f":"IF($AV$18=0,0,$AV$18)","v":0},null,null,null,null,null,"Mrz",100,{"$f":"IF(AM67>0,TRUE,FALSE)","v":true},true,true,true,true,5]
[{"$f":"Labels!$B$119","v":"   Maladie art. 13 CCT"},null,null,null,null,{"$f":"Labels!$B$120","v":"ma"},{"$f":"IF($AJ$5=0,0,$AJ$5)","v":0},null,{"$f":"IF($AK$5=0,0,$AK$5)","v":0},null,{"$f":"IF($AL$5=0,0,$AL$5)","v":0},null,{"$f":"IF($AM$5=0,0,$AM$5)","v":0},null,{"$f":"IF($AN$5=0,0,$AN$5)","v":0},null,{"$f":"IF($AO$5=0,0,$AO$5)","v":0},null,{"$f":"IF($AP$5=0,0,$AP$5)","v":0},null,{"$f":"IF($AQ$5=0,0,$AQ$5)","v":0},null,{"$f":"IF($AR$5=0,0,$AR$5)","v":0},null,{"$f":"IF($AS$5=0,0,$AS$5)","v":0},null,{"$f":"IF($AT$5=0,0,$AT$5)","v":0},null,{"$f":"IF($AU$5=0,0,$AU$5)","v":0},null,{"$f":"IF($AV$5=0,0,$AV$5)","v":0},null,null,null,null,null,"Apr",100,{"$f":"IF(AM68>0,TRUE,FALSE)","v":true},true,true,true,true,5]
[{"$f":"Labels!$B$184","v":"non payeé"},null,null,null,null,null,{"$f":"IF(AJ$16=0,0,AJ$16)","v":0},null,{"$f":"IF($AK$16=0,0,$AK$16)","v":0},null,{"$f":"IF($AL$16=0,0,$AL$16)","v":0},null,{"$f":"IF($AM$16=0,0,$AM$16)","v":0},null,{"$f":"IF($AN$16=0,0,$AN$16)","v":0},null,{"$f":"IF($AO$16=0,0,$AO$16)","v":0},null,{"$f":"IF($AP$16=0,0,$AP$16)","v":0},null,{"$f":"IF($AQ$16=0,0,$AQ$16)","v":0},null,{"$f":"IF($AR$16=0,0,$AR$16)","v":0},null,{"$f":"IF($AS$16=0,0,$AS$16)","v":0},null,{"$f":"IF($AT$16=0,0,$AT$16)","v":0},null,{"$f":"IF($AU$16=0,0,$AU$16)","v":0},null,{"$f":"IF($AV$16=0,0,$AV$16)","v":0},null,null,null,null,null,"Mai",100,{"$f":"IF(AM69>0,TRUE,FALSE)","v":true},true,true,true,true,5]
[{"$f":"Labels!$B$121","v":"   Accident art. 14 CCT"},null,null,null,null,{"$f":"Labels!$B$122","v":"ac"},{"$f":"IF($AJ$6=0,0,$AJ$6)","v":0},null,{"$f":"IF($AK$6=0,0,$AK$6)","v":0},null,{"$f":"IF($AL$6=0,0,$AL$6)","v":0},null,{"$f":"IF($AM$6=0,0,$AM$6)","v":0},null,{"$f":"IF($AN$6=0,0,$AN$6)","v":0},null,{"$f":"IF($AO$6=0,0,$AO$6)","v":0},null,{"$f":"IF($AP$6=0,0,$AP$6)","v":0},null,{"$f":"IF($AQ$6=0,0,$AQ$6)","v":0},null,{"$f":"IF($AR$6=0,0,$AR$6)","v":0},null,{"$f":"IF($AS$6=0,0,$AS$6)","v":0},null,{"$f":"IF($AT$6=0,0,$AT$6)","v":0},null,{"$f":"IF($AU$6=0,0,$AU$6)","v":0},null,{"$f":"IF($AV$6=0,0,$AV$6)","v":0},null,null,null,null,null,"Jun",100,{"$f":"IF(AM70>0,TRUE,FALSE)","v":true},true,true,true,true,5]
[{"$f":"Labels!$B$123","v":"   Grossesse/Maternité art. 15 CCT"},null,null,null,null,{"$f":"Labels!$B$124","v":"gm"},{"$f":"IF($AJ$7=0,0,$AJ$7)","v":0},null,{"$f":"IF($AK$7=0,0,$AK$7)","v":0},null,{"$f":"IF($AL$7=0,0,$AL$7)","v":0},null,{"$f":"IF($AM$7=0,0,$AM$7)","v":0},null,{"$f":"IF($AN$7=0,0,$AN$7)","v":0},null,{"$f":"IF($AO$7=0,0,$AO$7)","v":0},null,{"$f":"IF($AP$7=0,0,$AP$7)","v":0},null,{"$f":"IF($AQ$7=0,0,$AQ$7)","v":0},null,{"$f":"IF($AR$7=0,0,$AR$7)","v":0},null,{"$f":"IF($AS$7=0,0,$AS$7)","v":0},null,{"$f":"IF($AT$7=0,0,$AT$7)","v":0},null,{"$f":"IF($AU$7=0,0,$AU$7)","v":0},null,{"$f":"IF($AV$7=0,0,$AV$7)","v":0},null,null,null,null,null,"Jul",100,{"$f":"IF(AM71>0,TRUE,FALSE)","v":true},true,true,true,true,5]
[{"$f":"Labels!$B$125","v":"   Militaire/Promotion/Protection civile art. 16 CCT"},null,null,null,null,{"$f":"Labels!$B$126","v":"mi"},{"$f":"IF($AJ$8=0,0,$AJ$8)","v":0},null,{"$f":"IF($AK$8=0,0,$AK$8)","v":0},null,{"$f":"IF($AL$8=0,0,$AL$8)","v":0},null,{"$f":"IF($AM$8=0,0,$AM$8)","v":0},null,{"$f":"IF($AN$8=0,0,$AN$8)","v":0},null,{"$f":"IF($AO$8=0,0,$AO$8)","v":0},null,{"$f":"IF($AP$8=0,0,$AP$8)","v":0},null,{"$f":"IF($AQ$8=0,0,$AQ$8)","v":0},null,{"$f":"IF($AR$8=0,0,$AR$8)","v":0},null,{"$f":"IF($AS$8=0,0,$AS$8)","v":0},null,{"$f":"IF($AT$8=0,0,$AT$8)","v":0},null,{"$f":"IF($AU$8=0,0,$AU$8)","v":0},null,{"$f":"IF($AV$8=0,0,$AV$8)","v":0},null,null,null,null,null,"Aug",100,{"$f":"IF(AM72>0,TRUE,FALSE)","v":true},true,true,true,true,5]
[{"$f":"Labels!$B$127","v":"   Chômage partiel et perte de travail cause d'intempéries"},null,null,null,null,{"$f":"Labels!$B$128","v":"ch"},{"$f":"IF($AJ$11=0,0,$AJ$11)","v":0},null,{"$f":"IF($AK$11=0,0,$AK$11)","v":0},null,{"$f":"IF($AL$11=0,0,$AL$11)","v":0},null,{"$f":"IF($AM$11=0,0,$AM$11)","v":0},null,{"$f":"IF($AN$11=0,0,$AN$11)","v":0},null,{"$f":"IF($AO$11=0,0,$AO$11)","v":0},null,{"$f":"IF($AP$11=0,0,$AP$11)","v":0},null,{"$f":"IF($AQ$11=0,0,$AQ$11)","v":0},null,{"$f":"IF($AR$11=0,0,$AR$11)","v":0},null,{"$f":"IF($AS$11=0,0,$AS$11)","v":0},null,{"$f":"IF($AT$11=0,0,$AT$11)","v":0},null,{"$f":"IF($AU$11=0,0,$AU$11)","v":0},null,{"$f":"IF($AV$11=0,0,$AV$11)","v":0},null,null,null,null,null,"Sep",100,{"$f":"IF(AM73>0,TRUE,FALSE)","v":true},true,true,true,true,5]
[{"$f":"Labels!$B$129","v":"   Ecole professionnelle"},null,null,null,null,{"$f":"Labels!$B$130","v":"ep"},{"$f":"IF($AJ$9=0,0,$AJ$9)","v":0},null,{"$f":"IF($AK$9=0,0,$AK$9)","v":0},null,{"$f":"IF($AL$9=0,0,$AL$9)","v":0},null,{"$f":"IF($AM$9=0,0,$AM$9)","v":0},null,{"$f":"IF($AN$9=0,0,$AN$9)","v":0},null,{"$f":"IF($AO$9=0,0,$AO$9)","v":0},null,{"$f":"IF($AP$9=0,0,$AP$9)","v":0},null,{"$f":"IF($AQ$9=0,0,$AQ$9)","v":0},null,{"$f":"IF($AR$9=0,0,$AR$9)","v":0},null,{"$f":"IF($AS$9=0,0,$AS$9)","v":0},null,{"$f":"IF($AT$9=0,0,$AT$9)","v":0},null,{"$f":"IF($AU$9=0,0,$AU$9)","v":0},null,{"$f":"IF($AV$9=0,0,$AV$9)","v":0},null,null,null,null,null,"Okt",100,{"$f":"IF(AM74>0,TRUE,FALSE)","v":true},true,true,true,true,5]
[{"$f":"Labels!$B$131","v":"   Cours"},null,null,null,null,{"$f":"Labels!$B$132","v":"co"},{"$f":"IF($AJ$10=0,0,$AJ$10)","v":0},null,{"$f":"IF($AK$10=0,0,$AK$10)","v":0},null,{"$f":"IF($AL$10=0,0,$AL$10)","v":0},null,{"$f":"IF($AM$10=0,0,$AM$10)","v":0},null,{"$f":"IF($AN$10=0,0,$AN$10)","v":0},null,{"$f":"IF($AO$10=0,0,$AO$10)","v":0},null,{"$f":"IF($AP$10=0,0,$AP$10)","v":0},null,{"$f":"IF($AQ$10=0,0,$AQ$10)","v":0},null,{"$f":"IF($AR$10=0,0,$AR$10)","v":0},null,{"$f":"IF($AS$10=0,0,$AS$10)","v":0},null,{"$f":"IF($AT$10=0,0,$AT$10)","v":0},null,{"$f":"IF($AU$10=0,0,$AU$10)","v":0},null,{"$f":"IF($AV$10=0,0,$AV$10)","v":0},null,null,null,null,null,"Nov",100,{"$f":"IF(AM75>0,TRUE,FALSE)","v":true},true,true,true,true,5]
[{"$f":"Labels!$B$133","v":"Heures de compensation"},{"$f":"Labels!$B$134","v":"de l'année passée"},null,null,null,{"$f":"Labels!$B$135","v":"cp"},{"$f":"IF($AJ$12=0,0,$AJ$12)","v":0},null,{"$f":"IF($AK$12=0,0,$AK$12)","v":0},null,{"$f":"IF($AL$12=0,0,$AL$12)","v":0},null,{"$f":"IF($AM$12=0,0,$AM$12)","v":0},null,{"$f":"IF($AN$12=0,0,$AN$12)","v":0},null,{"$f":"IF($AO$12=0,0,$AO$12)","v":0},null,{"$f":"IF($AP$12=0,0,$AP$12)","v":0},null,{"$f":"IF($AQ$12=0,0,$AQ$12)","v":0},null,{"$f":"IF($AR$12=0,0,$AR$12)","v":0},null,null,null,null,null,null,null,{"$f":"IF($AV$12=0,0,$AV$12)","v":0},null,null,null,null,null,"Dez",100,{"$f":"IF(AM76>0,TRUE,FALSE)","v":true},true,true,true,true,5]
[null,{"$f":"Labels!$B$136","v":"de l'année en cours (contrôle)"},null,null,null,{"$f":"Labels!$B$137","v":"cc"},{"$f":"IF($AJ$15=0,0,$AJ$15)","v":0},null,{"$f":"IF($AK$15=0,0,$AK$15)","v":0},null,{"$f":"IF($AL$15=0,0,$AL$15)","v":0},null,{"$f":"IF($AM$15=0,0,$AM$15)","v":0},null,{"$f":"IF($AN$15=0,0,$AN$15)","v":0},null,{"$f":"IF($AO$15=0,0,$AO$15)","v":0},null,{"$f":"IF($AP$15=0,0,$AP$15)","v":0},null,{"$f":"IF($AQ$15=0,0,$AQ$15)","v":0},null,{"$f":"IF($AR$15=0,0,$AR$15)","v":0},null,{"$f":"IF($AS$15=0,0,$AS$15)","v":0},null,{"$f":"IF($AT$15=0,0,$AT$15)","v":0},null,{"$f":"IF($AU$15=0,0,$AU$15)","v":0},null,{"$f":"IF($AV$15=0,0,$AV$15)","v":0},null,null,null,"Abbildung Wochentage für Formel =>",null,"Avg",{"$f":"SUM(AL48:AL59)/12","v":100},2,3,4,5,6]
[{"$f":"Labels!$B$138","v":"Paiement des heures"},{"$f":"Labels!$B$139","v":"de l'année passée"},null,null,null,null,{"$f":"IF($AJ$21=0,0,$AJ$21)","v":0},null,{"$f":"IF($AK$21=0,0,$AK$21)","v":0},null,{"$f":"IF($AL$21=0,0,$AL$21)","v":0},null,{"$f":"IF($AM$21=0,0,$AM$21)","v":0},null,{"$f":"IF($AN$21=0,0,$AN$21)","v":0},null,{"$f":"IF($AO$21=0,0,$AO$21)","v":0},null,{"$f":"IF($AP$21=0,0,$AP$21)","v":0},null,{"$f":"IF($AQ$21=0,0,$AQ$21)","v":0},null,{"$f":"IF($AR$21=0,0,$AR$21)","v":0},null,null,null,null,null,null,null,{"$f":"IF($AV$21=0,0,$AV$21)","v":0}]
[{"$f":"Labels!$B$140","v":"Différence en heures"},{"$f":"Labels!$B$141","v":"après compensation et paiement"},null,null,null,null,{"$f":"IF(ROUND($P$4,3)=0,0,$P$4-G59-G61)","v":0},null,{"$f":"IF(ROUND(G62,3)=0,0,G62-(SUM(I59+I61)))","v":0},null,{"$f":"IF(ROUND(I62,3)=0,0,I62-K61-K59)","v":0},null,{"$f":"IF(ROUND(K62,3)=0,0,K62-(SUM(M61+M59)))","v":0},null,{"$f":"IF(ROUND(M62,3)=0,0,M62-(SUM(O61+O59)))","v":0},null,{"$f":"IF(ROUND(O62,3)=0,0,O62-(SUM(Q61+Q59)))","v":0},null,{"$f":"IF(ROUND(Q62,3)=0,0,Q62-(SUM(S61+S59)))","v":0},null,{"$f":"IF(ROUND(S62,3)=0,0,S62-(SUM(U61+U59)))","v":0},null,{"$f":"IF(ROUND(U62,3)=0,0,U62-(SUM(W61+W59)))","v":0},null,{"$f":"IF($W$62<0.1,\"\",AY44)","v":""},null,null,null,null,null,null,null,null,null,"Anstellungsdetails Expertenmodus",null,"Name:","Muster Peter",null,null,"Default-%",null,100]
[{"$f":"Labels!$B$138","v":"Paiement des heures"},{"$f":"Labels!$B$142","v":"de l'année en cours"},null,null,null,null,{"$f":"IF($AJ$22=0,0,$AJ$22)","v":0},null,{"$f":"IF($AK$22=0,0,$AK$22)","v":0},null,{"$f":"IF($AL$22=0,0,$AL$22)","v":0},null,{"$f":"IF($AM$22=0,0,$AM$22)","v":0},null,{"$f":"IF($AN$22=0,0,$AN$22)","v":0},null,{"$f":"IF($AO$22=0,0,$AO$22)","v":0},null,{"$f":"IF($AP$22=0,0,$AP$22)","v":0},null,{"$f":"IF($AQ$22=0,0,$AQ$22)","v":0},null,{"$f":"IF($AR$22=0,0,$AR$22)","v":0},null,{"$f":"IF($AS$22=0,0,$AS$22)","v":0},null,{"$f":"IF($AT$22=0,0,$AT$22)","v":0},null,{"$f":"IF($AU$22=0,0,$AU$22)","v":0},null,{"$f":"IF($AV$22=0,0,$AV$22)","v":0}]
[{"$f":"Labels!$B$143","v":"Heures manquantes"},{"$f":"Labels!$B$144","v":"de l'année en cours (contrôle)"},null,null,null,{"$f":"Labels!$B$145","v":"hm"},{"$f":"IF($AJ$14=0,0,$AJ$14)","v":0},null,{"$f":"IF($AK$14=0,0,$AK$14)","v":0},null,{"$f":"IF($AL$14=0,0,$AL$14)","v":0},null,{"$f":"IF($AM$14=0,0,$AM$14)","v":0},null,{"$f":"IF($AN$14=0,0,$AN$14)","v":0},null,{"$f":"IF($AO$14=0,0,$AO$14)","v":0},null,{"$f":"IF($AP$14=0,0,$AP$14)","v":0},null,{"$f":"IF($AQ$14=0,0,$AQ$14)","v":0},null,{"$f":"IF($AR$14=0,0,$AR$14)","v":0},null,{"$f":"IF($AS$14=0,0,$AS$14)","v":0},null,{"$f":"IF($AT$14=0,0,$AT$14)","v":0},null,{"$f":"IF($AU$14=0,0,$AU$14)","v":0},null,{"$f":"IF($AV$14=0,0,$AV$14)","v":0},null,null,null,null,null,null,"%","MO","DI","MI","DO","FR","P-AT"]
[{"$f":"Labels!$B$146","v":"Total (majorations inclus)"},{"$f":"Labels!$B$147","v":"heures productives et inproductives"},null,null,null,null,{"$f":"IF($AG$35=0,0,$AG$35)","v":0},null,{"$f":"IF($AG$100=0,0,$AG$100)","v":0},null,{"$f":"IF($AG$165=0,0,$AG$165)","v":0},null,{"$f":"IF($AG$230=0,0,$AG$230)","v":0},null,{"$f":"IF($AG$295=0,0,$AG$295)","v":0},null,{"$f":"IF($AG$360=0,0,$AG$360)","v":0},null,{"$f":"IF($AG$425=0,0,$AG$425)","v":0},null,{"$f":"IF($AG$490=0,0,$AG$490)","v":0},null,{"$f":"IF($AG$555=0,0,$AG$555)","v":0},null,{"$f":"IF($AG$620=0,0,$AG$620)","v":0},null,{"$f":"IF($AG$685=0,0,$AG$685)","v":0},null,{"$f":"IF($AG$750=0,0,$AG$750)","v":0},null,{"$f":"SUM($G$65:$AD$65)","v":0},null,null,null,null,null,"Jan",{"$f":"SUM(AM65:AQ65)/5","v":100},100,100,100,100,100,{"$f":"SUM(AM65:AQ65)/100","v":5}]
[{"$f":"Labels!$B$148","v":"Comparaison des heures"},{"$f":"Labels!$B$149","v":"aux heures théorique CCT (heures \nmanquantes de l'année passée incl.)"},null,null,null,null,{"$f":"IF($AG$37=0,0,$AG$37)-$AE$34+$P$5","v":-176},null,{"$f":"IF($AG$102=0,0,$AG$102)-$AE$99","v":-160},null,{"$f":"IF($AG$167=0,0,$AG$167)-$AE$164","v":-184},null,{"$f":"IF($AG$232=0,0,$AG$232)-$AE$229","v":-160},null,{"$f":"IF($AG$297=0,0,$AG$297)-$AE$294","v":-184},null,{"$f":"IF($AG$362=0,0,$AG$362)-$AE$359","v":-176},null,{"$f":"IF($AG$427=0,0,$AG$427)-$AE$424","v":-168},null,{"$f":"IF($AG$492=0,0,$AG$492)-$AE$489","v":-184},null,{"$f":"IF($AG$557=0,0,$AG$557)-$AE$554","v":-168},null,{"$f":"IF($AG$622=0,0,$AG$622)-$AE$619","v":-176},null,{"$f":"IF($AG$687=0,0,$AG$687)-$AE$684","v":-176},null,{"$f":"IF($AG$752=0,0,$AG$752)-$AE$749","v":-168},null,{"$f":"SUM($G$66:$AD$66)","v":-2080},null,null,null,null,null,"Feb",{"$f":"SUM(AM66:AQ66)/5","v":100},100,100,100,100,100,{"$f":"SUM(AM66:AQ66)/100","v":5}]
[null,{"$f":"Labels!$B$151","v":"aux heures théorique (cumulées)"},null,null,null,null,{"$f":"IF(G40=0,0,$G$66)","v":-176},null,{"$f":"IF(I40=0,0,SUM($G$66:$J$66))","v":-336},null,{"$f":"IF(K40=0,0,SUM($G$66:$L$66))","v":-520},null,{"$f":"IF(M40=0,0,SUM($G$66:$N$66))","v":-680},null,{"$f":"IF(O40=0,0,SUM($G$66:$P$66))","v":-864},null,{"$f":"IF(Q40=0,0,SUM($G$66:$R$66))","v":-1040},null,{"$f":"IF(S40=0,0,SUM($G$66:$T$66))","v":-1208},null,{"$f":"IF(U40=0,0,SUM($G$66:$V$66))","v":-1392},null,{"$f":"IF(W40=0,0,SUM($G$66:$X$66))","v":-1560},null,{"$f":"IF(Y40=0,0,SUM($G$66:$Z$66))","v":-1736},null,{"$f":"IF(AA40=0,0,SUM($G$66:$AB$66))","v":-1912},null,{"$f":"IF(AC40=0,0,SUM($G$66:$AD$66))","v":-2080},null,null,null,null,null,null,null,"Mrz",100,100,100,100,100,100,5]
[{"$f":"Labels!$B$153","v":"Vacances (contrôle)"},{"$f":"Labels!$B$154","v":"Vacances année passée"},null,null,null,null,{"$f":"IF($AA$4=0,0,$AA$4)","v":0},null,{"$f":"Labels!$B$155","v":"Vacances selon \nart 12.1 CCT"},null,null,null,{"$f":"IF($AA$5=0,0,$AA$5)","v":0},null,{"$f":"Labels!$B$156","v":"Total des vacances"},null,null,null,{"$f":"SUM(G68+M68)","v":0},null,{"$f":"Labels!$B$157","v":"Vacances prises"},null,null,null,{"$f":"IF($AV$4=0,0,$AV$4)","v":0},null,{"$f":"Labels!$B$158","v":"Vacances restantes"},null,null,null,{"$f":"IF(S68=0,0,S68-Y68)","v":0},null,null,null,null,null,"Apr",100,100,100,100,100,100,5]
[null,null,null,null,null,null,null,null,null,null,null,null,null,null,null,null,null,null,null,null,null,null,null,null,null,null,null,null,null,null,null,null,null,null,null,null,"Mai",100,100,100,100,100,100,5]
[null,null,null,null,null,null,null,null,null,null,null,null,null,null,null,null,null,null,null,null,null,null,null,null,null,null,null,null,null,null,null,null,null,null,null,null,"Jun",100,100,100,100,100,100,5]
[{"$f":"$A$3","v":"Nom/Prénom"},{"$f":"IF($B$3=\"\",\"\",$B$3)","v":"Modèle Pierre"},null,null,null,null,null,null,null,null,null,null,null,null,null,null,null,null,null,null,null,null,null,null,null,null,null,null,null,null,null,{"$f":"AF3","v":0},null,null,null,null,"Jul",100,100,100,100,100,100,5]
[{"$f":"$A$4","v":"Emploi %"},{"$f":"$AL$49","v":100},null,{"$f":"Labels!B90","v":"en février"},null,null,null,null,null,null,null,null,null,null,null,null,null,null,null,null,null,null,null,null,null,null,null,null,null,null,null,null,null,null,null,null,"Aug",100,100,100,100,100,100,5]
[{"$f":"$A$5","v":"Solde année en cours"},null,null,{"$f":"IF($AE$66=0,0,$AE$66)","v":-2080},null,null,null,null,null,null,null,null,null,null,null,null,null,null,null,null,null,null,null,null,null,null,null,null,null,null,null,null,null,null,null,null,"Sep",100,100,100,100,100,100,5]
[{"$f":"TEXT(DATE(YEAR(AP29),MONTH(AP29)+1,1),\"MMMM\"&Labels!B13)","v":"février"},{"$f":"$B$9","v":"Solde mois + / -"},null,null,null,{"$f":"(AG77-(SUM(AG78:AG92)-AE99))*-1","v":-160},null,null,null,null,{"$f":"$K$9","v":" = "},{"$f":"$L$9","v":"Les cases marquées en jaune doivent être remplies (les autres seront calculées automatiquement)"},null,null,null,null,null,null,null,null,null,null,null,null,null,null,null,null,null,null,null,null,{"$f":"COUNT(B77:AF77)&\" \"&Labels!$B$63","v":"20 Jours"},null,null,null,"Okt",100,100,100,100,100,100,5]
[{"$f":"$A$10","v":"Jour"},{"$f":"AF10+1","v":"2023-02-01"},{"$f":"B75+1","v":"2023-02-02"},"2023-02-03","2023-02-04","2023-02-05","2023-02-06","2023-02-07","2023-02-08","2023-02-09","2023-02-10","2023-02-11","2023-02-12","2023-02-13","2023-02-14","2023-02-15","2023-02-16","2023-02-17","2023-02-18","2023-02-19","2023-02-20","2023-02-21","2023-02-22","2023-02-23","2023-02-24","2023-02-25","2023-02-26","2023-02-27","2023-02-28",{"$f":"IF(istSchaltjahr,$AC$75+1,\"\")","v":""},null,null,null,null,null,null,"Nov",100,100,100,100,100,100,5]
[{"$f":"$A$11","v":"semaine civile"},{"$f":"IF(B75=\"\",\"\",TRUNC((B75-DATE(YEAR(B75+3-MOD(B75-2,7)),1,MOD(B75-2,7)-9))/7))","v":5},5,5,5,5,6,6,6,6,6,6,6,7,7,7,7,7,7,7,8,8,8,8,8,8,8,9,9,{"$f":"IF(istSchaltjahr,TRUNC((AD75-DATE(YEAR(AD75+3-MOD(AD75-2,7)),1,MOD(AD75-2,7)-9))/7),\"\")","v":""},"",null,null,"Woche",null,null,"Dez",100,100,100,100,100,100,5]
[{"$f":"$A$12","v":"Théorique sel. CCT"},{"$f":"IF(AND(MOD(B75,7)>=2,SUMPRODUCT(($AM$60:$AQ$60=MOD(B75,7))*$AM$49:$AQ$49),B854=\"\"),$J$7*SUMPRODUCT(($AM$77:$AQ$77=MOD(B75,7))*$AM$66:$AQ$66)%,\"\")","v":8},{"$f":"IF(AND(MOD(C75,7)>=2,SUMPRODUCT(($AM$60:$AQ$60=MOD(C75,7))*$AM$49:$AQ$49),C854=\"\"),$J$7*SUMPRODUCT(($AM$77:$AQ$77=MOD(C75,7))*$AM$66:$AQ$66)%,\"\")","v":8},{"$f":"IF(AND(MOD(D75,7)>=2,SUMPRODUCT(($AM$60:$AQ$60=MOD(D75,7))*$AM$49:$AQ$49),D854=\"\"),$J$7*SUMPRODUCT(($AM$77:$AQ$77=MOD(D75,7))*$AM$66:$AQ$66)%,\"\")","v":8},{"$f":"IF(AND(MOD(E75,7)>=2,SUMPRODUCT(($AM$60:$AQ$60=MOD(E75,7))*$AM$49:$AQ$49),E854=\"\"),$J$7*SUMPRODUCT(($AM$77:$AQ$77=MOD(E75,7))*$AM$66:$AQ$66)%,\"\")","v":""},{"$f":"IF(AND(MOD(F75,7)>=2,SUMPRODUCT(($AM$60:$AQ$60=MOD(F75,7))*$AM$49:$AQ$49),F854=\"\"),$J$7*SUMPRODUCT(($AM$77:$AQ$77=MOD(F75,7))*$AM$66:$AQ$66)%,\"\")","v":""},{"$f":"IF(AND(MOD(G75,7)>=2,SUMPRODUCT(($AM$60:$AQ$60=MOD(G75,7))*$AM$49:$AQ$49),G854=\"\"),$J$7*SUMPRODUCT(($AM$77:$AQ$77=MOD(G75,7))*$AM$66:$AQ$66)%,\"\")","v":8},{"$f":"IF(AND(MOD(H75,7)>=2,SUMPRODUCT(($AM$60:$AQ$60=MOD(H75,7))*$AM$49:$AQ$49),H854=\"\"),$J$7*SUMPRODUCT(($AM$77:$AQ$77=MOD(H75,7))*$AM$66:$AQ$66)%,\"\")","v":8},{"$f":"IF(AND(MOD(I75,7)>=2,SUMPRODUCT(($AM$60:$AQ$60=MOD(I75,7))*$AM$49:$AQ$49),I854=\"\"),$J$7*SUMPRODUCT(($AM$77:$AQ$77=MOD(I75,7))*$AM$66:$AQ$66)%,\"\")","v":8},{"$f":"IF(AND(MOD(J75,7)>=2,SUMPRODUCT(($AM$60:$AQ$60=MOD(J75,7))*$AM$49:$AQ$49),J854=\"\"),$J$7*SUMPRODUCT(($AM$77:$AQ$77=MOD(J75,7))*$AM$66:$AQ$66)%,\"\")","v":8},{"$f":"IF(AND(MOD(K75,7)>=2,SUMPRODUCT(($AM$60:$AQ$60=MOD(K75,7))*$AM$49:$AQ$49),K854=\"\"),$J$7*SUMPRODUCT(($AM$77:$AQ$77=MOD(K75,7))*$AM$66:$AQ$66)%,\"\")","v":8},{"$f":"IF(AND(MOD(L75,7)>=2,SUMPRODUCT(($AM$60:$AQ$60=MOD(L75,7))*$AM$49:$AQ$49),L854=\"\"),$J$7*SUMPRODUCT(($AM$77:$AQ$77=MOD(L75,7))*$AM$66:$AQ$66)%,\"\")","v":""},{"$f":"IF(AND(MOD(M75,7)>=2,SUMPRODUCT(($AM$60:$AQ$60=MOD(M75,7))*$AM$49:$AQ$49),M854=\"\"),$J$7*SUMPRODUCT(($AM$77:$AQ$77=MOD(M75,7))*$AM$66:$AQ$66)%,\"\")","v":""},{"$f":"IF(AND(MOD(N75,7)>=2,SUMPRODUCT(($AM$60:$AQ$60=MOD(N75,7))*$AM$49:$AQ$49),N854=\"\"),$J$7*SUMPRODUCT(($AM$77:$AQ$77=MOD(N75,7))*$AM$66:$AQ$66)%,\"\")","v":8},{"$f":"IF(AND(MOD(O75,7)>=2,SUMPRODUCT(($AM$60:$AQ$60=MOD(O75,7))*$AM$49:$AQ$49),O854=\"\"),$J$7*SUMPRODUCT(($AM$77:$AQ$77=MOD(O75,7))*$AM$66:$AQ$66)%,\"\")","v":8},{"$f":"IF(AND(MOD(P75,7)>=2,SUMPRODUCT(($AM$60:$AQ$60=MOD(P75,7))*$AM$49:$AQ$49),P854=\"\"),$J$7*SUMPRODUCT(($AM$77:$AQ$77=MOD(P75,7))*$AM$66:$AQ$66)%,\"\")","v":8},{"$f":"IF(AND(MOD(Q75,7)>=2,SUMPRODUCT(($AM$60:$AQ$60=MOD(Q75,7))*$AM$49:$AQ$49),Q854=\"\"),$J$7*SUMPRODUCT(($AM$77:$AQ$77=MOD(Q75,7))*$AM$66:$AQ$66)%,\"\")","v":8},{"$f":"IF(AND(MOD(R75,7)>=2,SUMPRODUCT(($AM$60:$AQ$60=MOD(R75,7))*$AM$49:$AQ$49),R854=\"\"),$J$7*SUMPRODUCT(($AM$77:$AQ$77=MOD(R75,7))*$AM$66:$AQ$66)%,\"\")","v":8},{"$f":"IF(AND(MOD(S75,7)>=2,SUMPRODUCT(($AM$60:$AQ$60=MOD(S75,7))*$AM$49:$AQ$49),S854=\"\"),$J$7*SUMPRODUCT(($AM$77:$AQ$77=MOD(S75,7))*$AM$66:$AQ$66)%,\"\")","v":""},{"$f":"IF(AND(MOD(T75,7)>=2,SUMPRODUCT(($AM$60:$AQ$60=MOD(T75,7))*$AM$49:$AQ$49),T854=\"\"),$J$7*SUMPRODUCT(($AM$77:$AQ$77=MOD(T75,7))*$AM$66:$AQ$66)%,\"\")","v":""},{"$f":"IF(AND(MOD(U75,7)>=2,SUMPRODUCT(($AM$60:$AQ$60=MOD(U75,7))*$AM$49:$AQ$49),U854=\"\"),$J$7*SUMPRODUCT(($AM$77:$AQ$77=MOD(U75,7))*$AM$66:$AQ$66)%,\"\")","v":8},{"$f":"IF(AND(MOD(V75,7)>=2,SUMPRODUCT(($AM$60:$AQ$60=MOD(V75,7))*$AM$49:$AQ$49),V854=\"\"),$J$7*SUMPRODUCT(($AM$77:$AQ$77=MOD(V75,7))*$AM$66:$AQ$66)%,\"\")","v":8},{"$f":"IF(AND(MOD(W75,7)>=2,SUMPRODUCT(($AM$60:$AQ$60=MOD(W75,7))*$AM$49:$AQ$49),W854=\"\"),$J$7*SUMPRODUCT(($AM$77:$AQ$77=MOD(W75,7))*$AM$66:$AQ$66)%,\"\")","v":8},{"$f":"IF(AND(MOD(X75,7)>=2,SUMPRODUCT(($AM$60:$AQ$60=MOD(X75,7))*$AM$49:$AQ$49),X854=\"\"),$J$7*SUMPRODUCT(($AM$77:$AQ$77=MOD(X75,7))*$AM$66:$AQ$66)%,\"\")","v":8},{"$f":"IF(AND(MOD(Y75,7)>=2,SUMPRODUCT(($AM$60:$AQ$60=MOD(Y75,7))*$AM$49:$AQ$49),Y854=\"\"),$J$7*SUMPRODUCT(($AM$77:$AQ$77=MOD(Y75,7))*$AM$66:$AQ$66)%,\"\")","v":8},{"$f":"IF(AND(MOD(Z75,7)>=2,SUMPRODUCT(($AM$60:$AQ$60=MOD(Z75,7))*$AM$49:$AQ$49),Z854=\"\"),$J$7*SUMPRODUCT(($AM$77:$AQ$77=MOD(Z75,7))*$AM$66:$AQ$66)%,\"\")","v":""},{"$f":"IF(AND(MOD(AA75,7)>=2,SUMPRODUCT(($AM$60:$AQ$60=MOD(AA75,7))*$AM$49:$AQ$49),AA854=\"\"),$J$7*SUMPRODUCT(($AM$77:$AQ$77=MOD(AA75,7))*$AM$66:$AQ$66)%,\"\")","v":""},{"$f":"IF(AND(MOD(AB75,7)>=2,SUMPRODUCT(($AM$60:$AQ$60=MOD(AB75,7))*$AM$49:$AQ$49),AB854=\"\"),$J$7*SUMPRODUCT(($AM$77:$AQ$77=MOD(AB75,7))*$AM$66:$AQ$66)%,\"\")","v":8},{"$f":"IF(AND(MOD(AC75,7)>=2,SUMPRODUCT(($AM$60:$AQ$60=MOD(AC75,7))*$AM$49:$AQ$49),AC854=\"\"),$J$7*SUMPRODUCT(($AM$77:$AQ$77=MOD(AC75,7))*$AM$66:$AQ$66)%,\"\")","v":8},{"$f":"IF(istSchaltjahr,IF(AND(MOD(AD75,7)>=2,SUMPRODUCT(($AM$60:$AQ$60=MOD(AD75,7))*$AM$49:$AQ$49),AD854=\"\"),$J$7*SUMPRODUCT(($AM$77:$AQ$77=MOD(AD75,7))*$AM$66:$AQ$66)%,\"\"),\"\")","v":""},null,null,{"$f":"IF($AD$75=\"\",SUM(B77:AC77),SUM(B77:AF77))","v":160},"[00]","Abbildung Wochentage für Formel =>",null,"Avg",{"$f":"SUM(AL65:AL76)/12","v":100},2,3,4,5,6]
[{"$f":"$A$13","v":"Absences"},{"$f":"B870","v":0},{"$f":"C870","v":0},0,0,0,0,0,0,0,0,0,0,0,0,0,0,0,0,0,0,0,0,0,0,0,0,0,0,{"$f":"IF(istSchaltjahr,AD870,\"\")","v":""},null,null,{"$f":"SUM($AK$3:$AK$13)","v":0},"[01]"]
[{"$f":"$A$14","v":"Code"},{"$f":"IF(SUM(B857:B869)<>0,IF(MAX(B857:B869)<B870,Labels!$B$163,INDEX($AH$857:$AH$869,MATCH(MAX(B857:B869),B857:B869,0))),\"\")","v":""},{"$f":"IF(SUM(C857:C869)<>0,IF(MAX(C857:C869)<C870,Labels!$B$163,INDEX($AH$857:$AH$869,MATCH(MAX(C857:C869),C857:C869,0))),\"\")","v":""},{"$f":"IF(SUM(D857:D869)<>0,IF(MAX(D857:D869)<D870,Labels!$B$163,INDEX($AH$857:$AH$869,MATCH(MAX(D857:D869),D857:D869,0))),\"\")","v":""},{"$f":"IF(SUM(E857:E869)<>0,IF(MAX(E857:E869)<E870,Labels!$B$163,INDEX($AH$857:$AH$869,MATCH(MAX(E857:E869),E857:E869,0))),\"\")","v":""},{"$f":"IF(SUM(F857:F869)<>0,IF(MAX(F857:F869)<F870,Labels!$B$163,INDEX($AH$857:$AH$869,MATCH(MAX(F857:F869),F857:F869,0))),\"\")","v":""},{"$f":"IF(SUM(G857:G869)<>0,IF(MAX(G857:G869)<G870,Labels!$B$163,INDEX($AH$857:$AH$869,MATCH(MAX(G857:G869),G857:G869,0))),\"\")","v":""},{"$f":"IF(SUM(H857:H869)<>0,IF(MAX(H857:H869)<H870,Labels!$B$163,INDEX($AH$857:$AH$869,MATCH(MAX(H857:H869),H857:H869,0))),\"\")","v":""},{"$f":"IF(SUM(I857:I869)<>0,IF(MAX(I857:I869)<I870,Labels!$B$163,INDEX($AH$857:$AH$869,MATCH(MAX(I857:I869),I857:I869,0))),\"\")","v":""},{"$f":"IF(SUM(J857:J869)<>0,IF(MAX(J857:J869)<J870,Labels!$B$163,INDEX($AH$857:$AH$869,MATCH(MAX(J857:J869),J857:J869,0))),\"\")","v":""},{"$f":"IF(SUM(K857:K869)<>0,IF(MAX(K857:K869)<K870,Labels!$B$163,INDEX($AH$857:$AH$869,MATCH(MAX(K857:K869),K857:K869,0))),\"\")","v":""},{"$f":"IF(SUM(L857:L869)<>0,IF(MAX(L857:L869)<L870,Labels!$B$163,INDEX($AH$857:$AH$869,MATCH(MAX(L857:L869),L857:L869,0))),\"\")","v":""},{"$f":"IF(SUM(M857:M869)<>0,IF(MAX(M857:M869)<M870,Labels!$B$163,INDEX($AH$857:$AH$869,MATCH(MAX(M857:M869),M857:M869,0))),\"\")","v":""},{"$f":"IF(SUM(N857:N869)<>0,IF(MAX(N857:N869)<N870,Labels!$B$163,INDEX($AH$857:$AH$869,MATCH(MAX(N857:N869),N857:N869,0))),\"\")","v":""},{"$f":"IF(SUM(O857:O869)<>0,IF(MAX(O857:O869)<O870,Labels!$B$163,INDEX($AH$857:$AH$869,MATCH(MAX(O857:O869),O857:O869,0))),\"\")","v":""},{"$f":"IF(SUM(P857:P869)<>0,IF(MAX(P857:P869)<P870,Labels!$B$163,INDEX($AH$857:$AH$869,MATCH(MAX(P857:P869),P857:P869,0))),\"\")","v":""},{"$f":"IF(SUM(Q857:Q869)<>0,IF(MAX(Q857:Q869)<Q870,Labels!$B$163,INDEX($AH$857:$AH$869,MATCH(MAX(Q857:Q869),Q857:Q869,0))),\"\")","v":""},{"$f":"IF(SUM(R857:R869)<>0,IF(MAX(R857:R869)<R870,Labels!$B$163,INDEX($AH$857:$AH$869,MATCH(MAX(R857:R869),R857:R869,0))),\"\")","v":""},{"$f":"IF(SUM(S857:S869)<>0,IF(MAX(S857:S869)<S870,Labels!$B$163,INDEX($AH$857:$AH$869,MATCH(MAX(S857:S869),S857:S869,0))),\"\")","v":""},{"$f":"IF(SUM(T857:T869)<>0,IF(MAX(T857:T869)<T870,Labels!$B$163,INDEX($AH$857:$AH$869,MATCH(MAX(T857:T869),T857:T869,0))),\"\")","v":""},{"$f":"IF(SUM(U857:U869)<>0,IF(MAX(U857:U869)<U870,Labels!$B$163,INDEX($AH$857:$AH$869,MATCH(MAX(U857:U869),U857:U869,0))),\"\")","v":""},{"$f":"IF(SUM(V857:V869)<>0,IF(MAX(V857:V869)<V870,Labels!$B$163,INDEX($AH$857:$AH$869,MATCH(MAX(V857:V869),V857:V869,0))),\"\")","v":""},{"$f":"IF(SUM(W857:W869)<>0,IF(MAX(W857:W869)<W870,Labels!$B$163,INDEX($AH$857:$AH$869,MATCH(MAX(W857:W869),W857:W869,0))),\"\")","v":""},{"$f":"IF(SUM(X857:X869)<>0,IF(MAX(X857:X869)<X870,Labels!$B$163,INDEX($AH$857:$AH$869,MATCH(MAX(X857:X869),X857:X869,0))),\"\")","v":""},{"$f":"IF(SUM(Y857:Y869)<>0,IF(MAX(Y857:Y869)<Y870,Labels!$B$163,INDEX($AH$857:$AH$869,MATCH(MAX(Y857:Y869),Y857:Y869,0))),\"\")","v":""},{"$f":"IF(SUM(Z857:Z869)<>0,IF(MAX(Z857:Z869)<Z870,Labels!$B$163,INDEX($AH$857:$AH$869,MATCH(MAX(Z857:Z869),Z857:Z869,0))),\"\")","v":""},{"$f":"IF(SUM(AA857:AA869)<>0,IF(MAX(AA857:AA869)<AA870,Labels!$B$163,INDEX($AH$857:$AH$869,MATCH(MAX(AA857:AA869),AA857:AA869,0))),\"\")","v":""},{"$f":"IF(SUM(AB857:AB869)<>0,IF(MAX(AB857:AB869)<AB870,Labels!$B$163,INDEX($AH$857:$AH$869,MATCH(MAX(AB857:AB869),AB857:AB869,0))),\"\")","v":""},{"$f":"IF(SUM(AC857:AC869)<>0,IF(MAX(AC857:AC869)<AC870,Labels!$B$163,INDEX($AH$857:$AH$869,MATCH(MAX(AC857:AC869),AC857:AC869,0))),\"\")","v":""},{"$f":"IF(istSchaltjahr,IF(SUM(AD857:AD869)<>0,IF(MAX(AD857:AD869)<AD870,Labels!$B$163,INDEX($AH$857:$AH$869,MATCH(MAX(AD857:AD869),AD857:AD869,0))),\"\"),\"\")","v":""},null,null,{"$f":"$AK$16*-1","v":0},"[02]"]
[{"$f":"$A$15","v":"00h00-06h00 1)"},null,null,null,null,null,null,null,null,null,null,null,null,null,null,null,null,null,null,null,null,null,null,null,null,null,null,null,null,null,null,null,{"$f":"SUM(B80:AF80)","v":0},"[04]"]
[{"$f":"$A$16","v":"06h00-20h00 2)"},null,null,null,null,null,null,null,null,null,null,null,null,null,null,null,null,null,null,null,null,null,null,null,null,null,null,null,null,null,null,null,{"$f":"SUMPRODUCT(B81:AF81*(B77:AF77<>\"\"))-SUMPRODUCT(B81:AF81*(B83:AF83=\"ft\"))","v":0},"[03]"]
[{"$f":"$A$17","v":"20h00-24h00 3)"},null,null,null,null,null,null,null,null,null,null,null,null,null,null,null,null,null,null,null,null,null,null,null,null,null,null,null,null,null,null,null,{"$f":"SUM(B82:AF82)","v":0},"[05]"]
[{"$f":"$A$18","v":"Jours fériés \"jf\""},{"$f":"IF(WEEKDAY(B75,2)<=6,IF(CALENDRIER!E5=\"x\",Labels!$B$118,\"\"),\"\")","v":""},{"$f":"IF(WEEKDAY(C75,2)<=6,IF(CALENDRIER!F5=\"x\",Labels!$B$118,\"\"),\"\")","v":""},{"$f":"IF(WEEKDAY(D75,2)<=6,IF(CALENDRIER!G5=\"x\",Labels!$B$118,\"\"),\"\")","v":""},{"$f":"IF(WEEKDAY(E75,2)<=6,IF(CALENDRIER!H5=\"x\",Labels!$B$118,\"\"),\"\")","v":""},{"$f":"IF(WEEKDAY(F75,2)<=6,IF(CALENDRIER!I5=\"x\",Labels!$B$118,\"\"),\"\")","v":""},{"$f":"IF(WEEKDAY(G75,2)<=6,IF(CALENDRIER!J5=\"x\",Labels!$B$118,\"\"),\"\")","v":""},{"$f":"IF(WEEKDAY(H75,2)<=6,IF(CALENDRIER!K5=\"x\",Labels!$B$118,\"\"),\"\")","v":""},{"$f":"IF(WEEKDAY(I75,2)<=6,IF(CALENDRIER!L5=\"x\",Labels!$B$118,\"\"),\"\")","v":""},{"$f":"IF(WEEKDAY(J75,2)<=6,IF(CALENDRIER!M5=\"x\",Labels!$B$118,\"\"),\"\")","v":""},{"$f":"IF(WEEKDAY(K75,2)<=6,IF(CALENDRIER!N5=\"x\",Labels!$B$118,\"\"),\"\")","v":""},{"$f":"IF(WEEKDAY(L75,2)<=6,IF(CALENDRIER!O5=\"x\",Labels!$B$118,\"\"),\"\")","v":""},{"$f":"IF(WEEKDAY(M75,2)<=6,IF(CALENDRIER!P5=\"x\",Labels!$B$118,\"\"),\"\")","v":""},{"$f":"IF(WEEKDAY(N75,2)<=6,IF(CALENDRIER!Q5=\"x\",Labels!$B$118,\"\"),\"\")","v":""},{"$f":"IF(WEEKDAY(O75,2)<=6,IF(CALENDRIER!R5=\"x\",Labels!$B$118,\"\"),\"\")","v":""},{"$f":"IF(WEEKDAY(P75,2)<=6,IF(CALENDRIER!S5=\"x\",Labels!$B$118,\"\"),\"\")","v":""},{"$f":"IF(WEEKDAY(Q75,2)<=6,IF(CALENDRIER!T5=\"x\",Labels!$B$118,\"\"),\"\")","v":""},{"$f":"IF(WEEKDAY(R75,2)<=6,IF(CALENDRIER!U5=\"x\",Labels!$B$118,\"\"),\"\")","v":""},{"$f":"IF(WEEKDAY(S75,2)<=6,IF(CALENDRIER!V5=\"x\",Labels!$B$118,\"\"),\"\")","v":""},{"$f":"IF(WEEKDAY(T75,2)<=6,IF(CALENDRIER!W5=\"x\",Labels!$B$118,\"\"),\"\")","v":""},{"$f":"IF(WEEKDAY(U75,2)<=6,IF(CALENDRIER!X5=\"x\",Labels!$B$118,\"\"),\"\")","v":""},{"$f":"IF(WEEKDAY(V75,2)<=6,IF(CALENDRIER!Y5=\"x\",Labels!$B$118,\"\"),\"\")","v":""},{"$f":"IF(WEEKDAY(W75,2)<=6,IF(CALENDRIER!Z5=\"x\",Labels!$B$118,\"\"),\"\")","v":""},{"$f":"IF(WEEKDAY(X75,2)<=6,IF(CALENDRIER!AA5=\"x\",Labels!$B$118,\"\"),\"\")","v":""},{"$f":"IF(WEEKDAY(Y75,2)<=6,IF(CALENDRIER!AB5=\"x\",Labels!$B$118,\"\"),\"\")","v":""},{"$f":"IF(WEEKDAY(Z75,2)<=6,IF(CALENDRIER!AC5=\"x\",Labels!$B$118,\"\"),\"\")","v":""},{"$f":"IF(WEEKDAY(AA75,2)<=6,IF(CALENDRIER!AD5=\"x\",Labels!$B$118,\"\"),\"\")","v":""},{"$f":"IF(WEEKDAY(AB75,2)<=6,IF(CALENDRIER!AE5=\"x\",Labels!$B$118,\"\"),\"\")","v":""},{"$f":"IF(WEEKDAY(AC75,2)<=6,IF(CALENDRIER!AF5=\"x\",Labels!$B$118,\"\"),\"\")","v":""},{"$f":"IF(istSchaltjahr,IF(WEEKDAY(AD75,2)<=6,IF(CALENDRIER!AG5=\"x\",Labels!$B$118,\"\"),\"\"),\"\")","v":""},{"$f":"IF(WEEKDAY(AE75,2)<=6,IF(CALENDRIER!AH5=\"x\",Labels!$B$118,\"\"),\"\")","v":""},{"$f":"IF(WEEKDAY(AF75,2)<=6,IF(CALENDRIER!AI5=\"x\",Labels!$B$118,\"\"),\"\")","v":""},{"$f":"SUM(B81:AF81)-AG81","v":0},"[03b]"]
[{"$f":"$A$19","v":"Majoration  \"jf\""},{"$f":"IF(AND(B83=Labels!$B$118,WEEKDAY(B75,2)<6,B$77<>\"\"),$J$7*SUMPRODUCT(($AM$77:$AQ$77=MOD(B75,7))*$AM$66:$AQ$66)%,\"\")","v":""},{"$f":"IF(AND(C83=Labels!$B$118,WEEKDAY(C75,2)<6,C$77<>\"\"),$J$7*SUMPRODUCT(($AM$77:$AQ$77=MOD(C75,7))*$AM$66:$AQ$66)%,\"\")","v":""},{"$f":"IF(AND(D83=Labels!$B$118,WEEKDAY(D75,2)<6,D$77<>\"\"),$J$7*SUMPRODUCT(($AM$77:$AQ$77=MOD(D75,7))*$AM$66:$AQ$66)%,\"\")","v":""},{"$f":"IF(AND(E83=Labels!$B$118,WEEKDAY(E75,2)<6,E$77<>\"\"),$J$7*SUMPRODUCT(($AM$77:$AQ$77=MOD(E75,7))*$AM$66:$AQ$66)%,\"\")","v":""},{"$f":"IF(AND(F83=Labels!$B$118,WEEKDAY(F75,2)<6,F$77<>\"\"),$J$7*SUMPRODUCT(($AM$77:$AQ$77=MOD(F75,7))*$AM$66:$AQ$66)%,\"\")","v":""},{"$f":"IF(AND(G83=Labels!$B$118,WEEKDAY(G75,2)<6,G$77<>\"\"),$J$7*SUMPRODUCT(($AM$77:$AQ$77=MOD(G75,7))*$AM$66:$AQ$66)%,\"\")","v":""},{"$f":"IF(AND(H83=Labels!$B$118,WEEKDAY(H75,2)<6,H$77<>\"\"),$J$7*SUMPRODUCT(($AM$77:$AQ$77=MOD(H75,7))*$AM$66:$AQ$66)%,\"\")","v":""},{"$f":"IF(AND(I83=Labels!$B$118,WEEKDAY(I75,2)<6,I$77<>\"\"),$J$7*SUMPRODUCT(($AM$77:$AQ$77=MOD(I75,7))*$AM$66:$AQ$66)%,\"\")","v":""},{"$f":"IF(AND(J83=Labels!$B$118,WEEKDAY(J75,2)<6,J$77<>\"\"),$J$7*SUMPRODUCT(($AM$77:$AQ$77=MOD(J75,7))*$AM$66:$AQ$66)%,\"\")","v":""},{"$f":"IF(AND(K83=Labels!$B$118,WEEKDAY(K75,2)<6,K$77<>\"\"),$J$7*SUMPRODUCT(($AM$77:$AQ$77=MOD(K75,7))*$AM$66:$AQ$66)%,\"\")","v":""},{"$f":"IF(AND(L83=Labels!$B$118,WEEKDAY(L75,2)<6,L$77<>\"\"),$J$7*SUMPRODUCT(($AM$77:$AQ$77=MOD(L75,7))*$AM$66:$AQ$66)%,\"\")","v":""},{"$f":"IF(AND(M83=Labels!$B$118,WEEKDAY(M75,2)<6,M$77<>\"\"),$J$7*SUMPRODUCT(($AM$77:$AQ$77=MOD(M75,7))*$AM$66:$AQ$66)%,\"\")","v":""},{"$f":"IF(AND(N83=Labels!$B$118,WEEKDAY(N75,2)<6,N$77<>\"\"),$J$7*SUMPRODUCT(($AM$77:$AQ$77=MOD(N75,7))*$AM$66:$AQ$66)%,\"\")","v":""},{"$f":"IF(AND(O83=Labels!$B$118,WEEKDAY(O75,2)<6,O$77<>\"\"),$J$7*SUMPRODUCT(($AM$77:$AQ$77=MOD(O75,7))*$AM$66:$AQ$66)%,\"\")","v":""},{"$f":"IF(AND(P83=Labels!$B$118,WEEKDAY(P75,2)<6,P$77<>\"\"),$J$7*SUMPRODUCT(($AM$77:$AQ$77=MOD(P75,7))*$AM$66:$AQ$66)%,\"\")","v":""},{"$f":"IF(AND(Q83=Labels!$B$118,WEEKDAY(Q75,2)<6,Q$77<>\"\"),$J$7*SUMPRODUCT(($AM$77:$AQ$77=MOD(Q75,7))*$AM$66:$AQ$66)%,\"\")","v":""},{"$f":"IF(AND(R83=Labels!$B$118,WEEKDAY(R75,2)<6,R$77<>\"\"),$J$7*SUMPRODUCT(($AM$77:$AQ$77=MOD(R75,7))*$AM$66:$AQ$66)%,\"\")","v":""},{"$f":"IF(AND(S83=Labels!$B$118,WEEKDAY(S75,2)<6,S$77<>\"\"),$J$7*SUMPRODUCT(($AM$77:$AQ$77=MOD(S75,7))*$AM$66:$AQ$66)%,\"\")","v":""},{"$f":"IF(AND(T83=Labels!$B$118,WEEKDAY(T75,2)<6,T$77<>\"\"),$J$7*SUMPRODUCT(($AM$77:$AQ$77=MOD(T75,7))*$AM$66:$AQ$66)%,\"\")","v":""},{"$f":"IF(AND(U83=Labels!$B$118,WEEKDAY(U75,2)<6,U$77<>\"\"),$J$7*SUMPRODUCT(($AM$77:$AQ$77=MOD(U75,7))*$AM$66:$AQ$66)%,\"\")","v":""},{"$f":"IF(AND(V83=Labels!$B$118,WEEKDAY(V75,2)<6,V$77<>\"\"),$J$7*SUMPRODUCT(($AM$77:$AQ$77=MOD(V75,7))*$AM$66:$AQ$66)%,\"\")","v":""},{"$f":"IF(AND(W83=Labels!$B$118,WEEKDAY(W75,2)<6,W$77<>\"\"),$J$7*SUMPRODUCT(($AM$77:$AQ$77=MOD(W75,7))*$AM$66:$AQ$66)%,\"\")","v":""},{"$f":"IF(AND(X83=Labels!$B$118,WEEKDAY(X75,2)<6,X$77<>\"\"),$J$7*SUMPRODUCT(($AM$77:$AQ$77=MOD(X75,7))*$AM$66:$AQ$66)%,\"\")","v":""},{"$f":"IF(AND(Y83=Labels!$B$118,WEEKDAY(Y75,2)<6,Y$77<>\"\"),$J$7*SUMPRODUCT(($AM$77:$AQ$77=MOD(Y75,7))*$AM$66:$AQ$66)%,\"\")","v":""},{"$f":"IF(AND(Z83=Labels!$B$118,WEEKDAY(Z75,2)<6,Z$77<>\"\"),$J$7*SUMPRODUCT(($AM$77:$AQ$77=MOD(Z75,7))*$AM$66:$AQ$66)%,\"\")","v":""},{"$f":"IF(AND(AA83=Labels!$B$118,WEEKDAY(AA75,2)<6,AA$77<>\"\"),$J$7*SUMPRODUCT(($AM$77:$AQ$77=MOD(AA75,7))*$AM$66:$AQ$66)%,\"\")","v":""},{"$f":"IF(AND(AB83=Labels!$B$118,WEEKDAY(AB75,2)<6,AB$77<>\"\"),$J$7*SUMPRODUCT(($AM$77:$AQ$77=MOD(AB75,7))*$AM$66:$AQ$66)%,\"\")","v":""},{"$f":"IF(AND(AC83=Labels!$B$118,WEEKDAY(AC75,2)<6,AC$77<>\"\"),$J$7*SUMPRODUCT(($AM$77:$AQ$77=MOD(AC75,7))*$AM$66:$AQ$66)%,\"\")","v":""},{"$f":"IF(istSchaltjahr,IF(AND(AD83=Labels!$B$118,WEEKDAY(AD75,2)<6,AD$77<>\"\"),$J$7*SUMPRODUCT(($AM$77:$AQ$77=MOD(AD75,7))*$AM$66:$AQ$66)%,\"\"),\"\")","v":""},{"$f":"IF(AND(AE83=Labels!$B$118,WEEKDAY(AE75,2)<6),$J$7*$B$72%,\"\")","v":""},{"$f":"IF(AND(AF83=Labels!$B$118,WEEKDAY(AF75,2)<6),$J$7*$B$72%,\"\")","v":""},{"$f":"IF($AD$75=\"\",SUM(B84:AC84),SUM(B84:AF84))","v":0},"[06]"]
[{"$f":"$A$20","v":"total quotidien"},{"$f":"SUM(B80:B82)","v":0},{"$f":"SUM(C80:C82)","v":0},0,0,0,0,0,0,0,0,0,0,0,0,0,0,0,0,0,0,0,0,0,0,0,0,0,0,{"$f":"IF(istSchaltjahr,SUM(AD80:AD82),\"\")","v":""},null,null,null,"TT"]
[{"$f":"$A$21","v":"."},null,null,null,null,null,null,null,null,null,null,null,null,null,null,null,null,null,null,null,null,null,null,null,null,null,null,null,null,null,null,null,null,"R"]
[{"$f":"$A$22","v":"."},null,null,null,null,null,null,null,null,null,null,null,null,null,null,null,null,null,null,null,null,null,null,null,null,null,null,null,null,null,null,null,null,"R"]
[{"$f":"$A$23","v":"transition mois"},{"$f":"IF(WEEKDAY(B75)=1,TEXT(B75-1,\"MMM\"&Labels!B13),\"\")","v":""},null,null,null,null,null,null,null,null,null,null,null,null,null,null,null,null,null,null,null,null,null,null,null,null,null,null,{"$f":"IF(AND(WEEKDAY(AC75)>1,WEEKDAY(AC75)<7,AD75=\"\"),TEXT(DATE($B$5,MONTH(AC75)+1,1),\"MMM\"&Labels!B13),\"\")","v":"mars"},{"$f":"IF(ISERROR(WEEKDAY(AD75)),\"\",IF(AND(WEEKDAY(AD75)>1,WEEKDAY(AD75)<7),TEXT(DATE($B$5,MONTH(AD75)+1,1),\"MMM\"&Labels!B13),\"\"))","v":""},null,null,null,"MNT"]
[{"$f":"$A$24","v":"Total hebdomadaire"},{"$f":"IF(WEEKDAY(B75)=7,SUMIF($B11:$AF11,B76,$B20:$AF20)+SUMIF($B76:$AF76,B76,$B85:$AF85)+SUMIF($B141:$AF141,B76,$B150:$AF150),B88)","v":""},{"$f":"IF(WEEKDAY(C75)=7,SUMIF($B11:$AF11,C76,$B20:$AF20)+SUMIF($B76:$AF76,C76,$B85:$AF85)+SUMIF($B141:$AF141,C76,$B150:$AF150),\"\")","v":""},"",0,"","","","","","",0,"","","","","","",0,"","","","","","",0,"","",{"$f":"IF(WEEKDAY(AC75)=7,SUMIF($B11:$AF11,AC76,$B20:$AF20)+SUMIF($B76:$AF76,AC76,$B85:$AF85)+SUMIF($B141:$AF141,AC76,$B150:$AF150),AC88)","v":"mars"},{"$f":"IF(ISERROR(WEEKDAY(AD75)=7),\"\",IF(WEEKDAY(AD75)=7,SUMIF($B11:$AF11,AD76,$B20:$AF20)+SUMIF($B76:$AF76,AD76,$B85:$AF85)+SUMIF($B141:$AF141,AD76,$B150:$AF150),AD88))","v":""},null,null,null,"WT"]
[{"$f":"$A$25","v":"Majorations temp. 1)"},{"$f":"IF(B97=\"FALSCH\",\"\",B97)","v":""},{"$f":"IF(C97=\"FALSCH\",\"\",C97)","v":""},"","","","","","","","","","","","","","","","","","","","","","","","","","","",null,null,{"$f":"IF($AD$75=\"\",SUM(B90:AC90),SUM(B90:AF90))","v":0},"[07]"]
[{"$f":"$A$26","v":"Majorations temp. 2)"},{"$f":"IF((B80+B82)=0,\"\",SUM(B80,B82))","v":""},{"$f":"IF((C80+C82)=0,\"\",SUM(C80,C82))","v":""},"","","","","","","","","","","","","","","","","","","","","","","","","","","",null,null,0,"[08]"]
[{"$f":"$A$27","v":"Majorations temp. 3)"},{"$f":"SUM(B93:B96)","v":0},{"$f":"SUM(C93:C96)","v":0},0,0,0,0,0,0,0,0,0,0,0,0,0,0,0,0,0,0,0,0,0,0,0,0,0,0,{"$f":"IF(ISERROR(WEEKDAY(AD75)=1),\"\",SUM(AD93:AD96))","v":""},null,null,0,"[09]"]
[{"$f":"$A$28","v":"Dimanche journée"},{"$f":"IF(WEEKDAY(B75)=1,B81,\"\")","v":""},{"$f":"IF(WEEKDAY(C75)=1,C81,\"\")","v":""},"","",0,"","","","","","",0,"","","","","","",0,"","","","","","",0,"","",{"$f":"IF(ISERROR(WEEKDAY(AD75)=1),\"\",IF(WEEKDAY(AD75)=1,AD81,\"\"))","v":""},null,null,0,"[09-ST]"]
[{"$f":"$A$29","v":"Dimanche nuit"},{"$f":"IF(WEEKDAY(B75)=1,SUM(B80+B82),\"\")","v":""},{"$f":"IF(WEEKDAY(C75)=1,SUM(C80+C82),\"\")","v":""},"","",0,"","","","","","",0,"","","","","","",0,"","","","","","",0,"","",{"$f":"IF(ISERROR(WEEKDAY(AD75)=1),\"\",IF(WEEKDAY(AD75)=1,SUM(AD80+AD82),\"\"))","v":""},null,null,0,"[09-SN]"]
[{"$f":"$A$30","v":"jf-jomajoration"},{"$f":"IF(B83=Labels!$B$118,B81,\"\")","v":""},{"$f":"IF(C83=Labels!$B$118,C81,\"\")","v":""},{"$f":"IF(D83=Labels!$B$118,D81,\"\")","v":""},{"$f":"IF(E83=Labels!$B$118,E81,\"\")","v":""},{"$f":"IF(F83=Labels!$B$118,F81,\"\")","v":""},{"$f":"IF(G83=Labels!$B$118,G81,\"\")","v":""},{"$f":"IF(H83=Labels!$B$118,H81,\"\")","v":""},{"$f":"IF(I83=Labels!$B$118,I81,\"\")","v":""},{"$f":"IF(J83=Labels!$B$118,J81,\"\")","v":""},{"$f":"IF(K83=Labels!$B$118,K81,\"\")","v":""},{"$f":"IF(L83=Labels!$B$118,L81,\"\")","v":""},{"$f":"IF(M83=Labels!$B$118,M81,\"\")","v":""},{"$f":"IF(N83=Labels!$B$118,N81,\"\")","v":""},{"$f":"IF(O83=Labels!$B$118,O81,\"\")","v":""},{"$f":"IF(P83=Labels!$B$118,P81,\"\")","v":""},{"$f":"IF(Q83=Labels!$B$118,Q81,\"\")","v":""},{"$f":"IF(R83=Labels!$B$118,R81,\"\")","v":""},{"$f":"IF(S83=Labels!$B$118,S81,\"\")","v":""},{"$f":"IF(T83=Labels!$B$118,T81,\"\")","v":""},{"$f":"IF(U83=Labels!$B$118,U81,\"\")","v":""},{"$f":"IF(V83=Labels!$B$118,V81,\"\")","v":""},{"$f":"IF(W83=Labels!$B$118,W81,\"\")","v":""},{"$f":"IF(X83=Labels!$B$118,X81,\"\")","v":""},{"$f":"IF(Y83=Labels!$B$118,Y81,\"\")","v":""},{"$f":"IF(Z83=Labels!$B$118,Z81,\"\")","v":""},{"$f":"IF(AA83=Labels!$B$118,AA81,\"\")","v":""},{"$f":"IF(AB83=Labels!$B$118,AB81,\"\")","v":""},{"$f":"IF(AC83=Labels!$B$118,AC81,\"\")","v":""},{"$f":"IF(AD83=Labels!$B$118,AD81,\"\")","v":""},null,null,0,"[09-FT]"]
[{"$f":"$A$31","v":"jf-numajoration"},{"$f":"IF(B83=Labels!$B$118,SUM(B80,B82),\"\")","v":""},{"$f":"IF(C83=Labels!$B$118,SUM(C80,C82),\"\")","v":""},{"$f":"IF(D83=Labels!$B$118,SUM(D80,D82),\"\")","v":""},{"$f":"IF(E83=Labels!$B$118,SUM(E80,E82),\"\")","v":""},{"$f":"IF(F83=Labels!$B$118,SUM(F80,F82),\"\")","v":""},{"$f":"IF(G83=Labels!$B$118,SUM(G80,G82),\"\")","v":""},{"$f":"IF(H83=Labels!$B$118,SUM(H80,H82),\"\")","v":""},{"$f":"IF(I83=Labels!$B$118,SUM(I80,I82),\"\")","v":""},{"$f":"IF(J83=Labels!$B$118,SUM(J80,J82),\"\")","v":""},{"$f":"IF(K83=Labels!$B$118,SUM(K80,K82),\"\")","v":""},{"$f":"IF(L83=Labels!$B$118,SUM(L80,L82),\"\")","v":""},{"$f":"IF(M83=Labels!$B$118,SUM(M80,M82),\"\")","v":""},{"$f":"IF(N83=Labels!$B$118,SUM(N80,N82),\"\")","v":""},{"$f":"IF(O83=Labels!$B$118,SUM(O80,O82),\"\")","v":""},{"$f":"IF(P83=Labels!$B$118,SUM(P80,P82),\"\")","v":""},{"$f":"IF(Q83=Labels!$B$118,SUM(Q80,Q82),\"\")","v":""},{"$f":"IF(R83=Labels!$B$118,SUM(R80,R82),\"\")","v":""},{"$f":"IF(S83=Labels!$B$118,SUM(S80,S82),\"\")","v":""},{"$f":"IF(T83=Labels!$B$118,SUM(T80,T82),\"\")","v":""},{"$f":"IF(U83=Labels!$B$118,SUM(U80,U82),\"\")","v":""},{"$f":"IF(V83=Labels!$B$118,SUM(V80,V82),\"\")","v":""},{"$f":"IF(W83=Labels!$B$118,SUM(W80,W82),\"\")","v":""},{"$f":"IF(X83=Labels!$B$118,SUM(X80,X82),\"\")","v":""},{"$f":"IF(Y83=Labels!$B$118,SUM(Y80,Y82),\"\")","v":""},{"$f":"IF(Z83=Labels!$B$118,SUM(Z80,Z82),\"\")","v":""},{"$f":"IF(AA83=Labels!$B$118,SUM(AA80,AA82),\"\")","v":""},{"$f":"IF(AB83=Labels!$B$118,SUM(AB80,AB82),\"\")","v":""},{"$f":"IF(AC83=Labels!$B$118,SUM(AC80,AC82),\"\")","v":""},{"$f":"IF(AD83=Labels!$B$118,SUM(AD80,AD82),\"\")","v":""},null,null,0,"[09-FN]"]
[{"$f":"$A$32","v":"majoration caché (total hebd.)"},{"$f":"IF($B72>=80,IF(OR(ISTEXT(B89),B89=\"\",B89<$B$7),\"\",ROUND(((B89-$B$7)*25%)/25,4)*25),IF(B85>($B$7/5),ROUND(((B85-($B$7/5))*25%)/25,4)*25,\"\"))","v":""},{"$f":"IF($B72>=80,IF(OR(ISTEXT(C89),C89=\"\",C89<$B$7),\"\",ROUND(((C89-$B$7)*25%)/25,4)*25),IF(C85>($B$7/5),ROUND(((C85-($B$7/5))*25%)/25,4)*25,\"\"))","v":""},"","","","","","","","","","","","","","","","","","","","","","","","","","",{"$f":"IF(istSchaltjahr,IF($B72>=80,IF(OR(ISTEXT(AD89),AD89=\"\",AD89<$B$7),\"\",ROUND(((AD89-$B$7)*25%)/25,4)*25),IF(AD85>($B$7/5),ROUND(((AD85-($B$7/5))*25%)/25,4)*25,\"\")),\"\")","v":""},{"$f":"YEAR(AC75)","v":2023},null,{"$f":"AG81","v":0},"[03]"]
[null,{"$f":"$B$33","v":"1)  25% majoration temporelle pour depassement les heures maximales"},null,null,null,null,null,null,null,null,null,{"$f":"$L$33","v":"2) 100% majoration temporelle pour travail de nuit"},null,null,null,null,null,null,null,{"$f":"$T$33","v":"Saisie des heures payées l'année passée"},null,null,null,null,null,null,null,null,null,null,null,null,{"$f":"SUM(AG80,AG82)","v":0},"[4-5]"]
[null,{"$f":"$B$34","v":"3) 100% majoration temporelle pour travail du dimanche et jour férié"},null,null,null,null,null,null,null,null,null,null,null,null,null,null,null,null,null,{"$f":"$T$34","v":"Saisie des heures payées exercice en cours (heures supplémentaires)"},null,null,null,null,null,null,null,null,null,null,null,null,{"$f":"SUM(AG80:AG82)","v":0},"[3-5]"]
[{"$f":"$A$35","v":"Notes"},null,null,null,null,null,null,null,null,null,null,null,null,null,null,null,null,null,null,null,null,null,null,null,null,null,null,null,null,null,null,null,{"$f":"SUM(AG78:AG92)","v":0},"[10]"]
[null,null,null,null,null,null,null,null,null,null,null,null,null,null,null,null,null,null,null,null,null,null,null,null,null,null,null,null,null,null,null,null,{"$f":"AG77","v":160},"[00]"]
[{"$f":"IF(AG854=0,\"\",\"effektives Pensum:  \"&ROUND(COUNT(B77:AF77)/(AG854+COUNT(B77:AF77))%*B72%*20,0)/20&\" %\")","v":""},null,null,null,null,null,null,null,null,null,null,null,null,null,null,null,null,null,null,null,null,null,null,null,null,null,null,null,null,null,null,null,{"$f":"SUM(AG100-AG101)","v":-160},"[11]"]
[]
[{"$f":"Labels!$B$103","v":"Résumé"},null,null,null,null,null,{"$f":"Labels!$B$77","v":"Jan"},null,{"$f":"Labels!$B$78","v":"Fév"},null,{"$f":"Labels!$B$79","v":"Mar"},null,{"$f":"Labels!$B$80","v":"Avr"},null,{"$f":"Labels!$B$81","v":"Mai"},null,{"$f":"Labels!$B$82","v":"Jun"},null,{"$f":"Labels!$B$83","v":"Jul"},null,{"$f":"Labels!$B$84","v":"Aoû"},null,{"$f":"Labels!$B$85","v":"Sep"},null,{"$f":"Labels!$B$86","v":"Oct"},null,{"$f":"Labels!$B$87","v":"Nov"},null,{"$f":"Labels!$B$88","v":"Déc"},null,{"$f":"Labels!$B$101","v":"Année"}]
[{"$f":"Labels!$B$20","v":"Emploi %"},null,null,null,null,null,{"$f":"IF($B$4=0,0,$B$4)","v":100},null,{"$f":"IF($B$72=0,0,$B$72)","v":100},null,{"$f":"IF($B$137=0,0,$B$137)","v":100},null,{"$f":"IF($B$202=0,0,$B$202)","v":100},null,{"$f":"IF($B$267=0,0,$B$267)","v":100},null,{"$f":"IF($B$332=0,0,$B$332)","v":100},null,{"$f":"IF($B$397=0,0,$B$397)","v":100},null,{"$f":"IF($B$462=0,0,$B$462)","v":100},null,{"$f":"IF($B$527=0,0,$B$527)","v":100},null,{"$f":"IF($B$592=0,0,$B$592)","v":100},null,{"$f":"IF($B$657=0,0,$B$657)","v":100},null,{"$f":"IF($B$722=0,0,$B$722)","v":100}]
[{"$f":"Labels!$B$104","v":"Heures théoriques selon CCT"},null,null,null,null,null,{"$f":"IF($AG$36=0,0,$AG$36)","v":176},null,{"$f":"IF($AG$101=0,0,$AG$101)","v":160},null,{"$f":"IF($AG$142=0,0,$AG$142)","v":184},null,{"$f":"IF($AG$231=0,0,$AG$231)","v":160},null,{"$f":"IF($AG$296=0,0,$AG$296)","v":184},null,{"$f":"IF($AG$361=0,0,$AG$361)","v":176},null,{"$f":"IF($AG$426=0,0,$AG$426)","v":168},null,{"$f":"IF($AG$491=0,0,$AG$491)","v":184},null,{"$f":"IF($AG$556=0,0,$AG$556)","v":168},null,{"$f":"IF($AG$621=0,0,$AG$621)","v":176},null,{"$f":"IF($AG$686=0,0,$AG$686)","v":176},null,{"$f":"IF($AG$751=0,0,$AG$751)","v":168},null,{"$f":"SUM(G106:AD106)","v":2080}]
[{"$f":"Labels!$B$105","v":"Total heures productives"},{"$f":"Labels!$B$106","v":"06.00 - 20.00 h"},null,null,null,null,{"$f":"IF($AG$32=0,0,$AG$32)","v":0},null,{"$f":"IF($AG$97=0,0,$AG$97)","v":0},null,{"$f":"IF($AG$162=0,0,$AG$162)","v":0},null,{"$f":"IF($AG$227=0,0,$AG$227)","v":0},null,{"$f":"IF($AG$292=0,0,$AG$292)","v":0},null,{"$f":"IF($AG$357=0,0,$AG$357)","v":0},null,{"$f":"IF($AG$422=0,0,$AG$422)","v":0},null,{"$f":"IF($AG$487=0,0,$AG$487)","v":0},null,{"$f":"IF($AG$552=0,0,$AG$552)","v":0},null,{"$f":"IF($AG$617=0,0,$AG$617)","v":0},null,{"$f":"IF($AG$682=0,0,$AG$682)","v":0},null,{"$f":"IF($AG$747=0,0,$AG$747)","v":0},null,{"$f":"SUM(G107:AD107)","v":0}]
[null,{"$f":"Labels!$B$107","v":"nuit, dimanche et jour férié"},null,null,null,null,{"$f":"IF(AND($AG$33=0,$AG$18=0),0,$AG$33+$AG$18)","v":0},null,{"$f":"IF(AND($AG$98=0,$AG$83=0),0,$AG$98+$AG$83)","v":0},null,{"$f":"IF(AND($AG$163=0,$AG$148=0),0,$AG$163+$AG$148)","v":0},null,{"$f":"IF(AND($AG$228=0,$AG$213=0),0,$AG$228+$AG$213)","v":0},null,{"$f":"IF(AND($AG$293=0,$AG$278=0),0,$AG$293+$AG$278)","v":0},null,{"$f":"IF(AND($AG$358=0,$AG$343=0),0,$AG$358+$AG$343)","v":0},null,{"$f":"IF(AND($AG$423=0,$AG$408=0),0,$AG$423+$AG$408)","v":0},null,{"$f":"IF(AND($AG$488=0,$AG$473=0),0,$AG$488+$AG$473)","v":0},null,{"$f":"IF(AND($AG$553=0,$AG$538=0),0,$AG$553+$AG$538)","v":0},null,{"$f":"IF(AND($AG$618=0,$AG$603=0),0,$AG$618+$AG$603)","v":0},null,{"$f":"IF(AND($AG$683=0,$AG$668=0),0,$AG$683+$AG$668)","v":0},null,{"$f":"IF(AND($AG$748=0,$AG$733=0),0,$AG$748+$AG$733)","v":0},null,{"$f":"SUM(G108:AD108)","v":0}]
[{"$f":"Labels!$B$108","v":"Majorations temporelles"},{"$f":"Labels!$B$109","v":"depassement des heures maximales"},null,null,null,null,{"$f":"IF($AG$25=0,0,$AG$25)","v":0},null,{"$f":"IF($AG$90=0,0,$AG$90)","v":0},null,{"$f":"IF($AG$155=0,0,$AG$155)","v":0},null,{"$f":"IF($AG$220=0,0,$AG$220)","v":0},null,{"$f":"IF($AG$285=0,0,$AG$285)","v":0},null,{"$f":"IF($AG$350=0,0,$AG$350)","v":0},null,{"$f":"IF($AG$415=0,0,$AG$415)","v":0},null,{"$f":"IF($AG$480=0,0,$AG$480)","v":0},null,{"$f":"IF($AG$545=0,0,$AG$545)","v":0},null,{"$f":"IF($AG$610=0,0,$AG$610)","v":0},null,{"$f":"IF($AG$675=0,0,$AG$675)","v":0},null,{"$f":"IF($AG$740=0,0,$AG$740)","v":0},null,{"$f":"SUM(G109:AD109)","v":0}]
[null,{"$f":"Labels!$B$110","v":"nuit, dimanche et jour férié"},null,null,null,null,{"$f":"IF($AJ$23=0,0,$AJ$23)","v":0},null,{"$f":"IF($AK$23=0,0,$AK$23)","v":0},null,{"$f":"IF($AL$23=0,0,$AL$23)","v":0},null,{"$f":"IF($AM$23=0,0,$AM$23)","v":0},null,{"$f":"IF($AN$23=0,0,$AN$23)","v":0},null,{"$f":"IF($AO$23=0,0,$AO$23)","v":0},null,{"$f":"IF($AP$23=0,0,$AP$23)","v":0},null,{"$f":"IF($AQ$23=0,0,$AQ$23)","v":0},null,{"$f":"IF($AR$23=0,0,$AR$23)","v":0},null,{"$f":"IF($AS$23=0,0,$AS$23)","v":0},null,{"$f":"IF($AT$23=0,0,$AT$23)","v":0},null,{"$f":"IF($AU$23=0,0,$AU$23)","v":0},null,{"$f":"SUM(G110:AD110)","v":0}]
[{"$f":"Labels!$B$111","v":"Heures inproductives"}]
[{"$f":"Labels!$B$112","v":"   Absences art. 11 CCT"},null,null,null,null,{"$f":"Labels!$B$113","v":"ab"},{"$f":"IF($AJ$3=0,0,$AJ$3)","v":0},null,{"$f":"IF($AK$3=0,0,$AK$3)","v":0},null,{"$f":"IF($AL$3=0,0,$AL$3)","v":0},null,{"$f":"IF($AM$3=0,0,$AM$3)","v":0},null,{"$f":"IF($AN$3=0,0,$AN$3)","v":0},null,{"$f":"IF($AO$3=0,0,$AO$3)","v":0},null,{"$f":"IF($AP$3=0,0,$AP$3)","v":0},null,{"$f":"IF($AQ$3=0,0,$AQ$3)","v":0},null,{"$f":"IF($AR$3=0,0,$AR$3)","v":0},null,{"$f":"IF($AS$3=0,0,$AS$3)","v":0},null,{"$f":"IF(AT$3=0,0,$AT$3)","v":0},null,{"$f":"IF($AU$3=0,0,$AU$3)","v":0},null,{"$f":"IF($AV$3=0,0,$AV$3)","v":0}]
[{"$f":"Labels!$B$114","v":"   Vacances art. 12.1 CCT"},null,null,null,null,{"$f":"Labels!$B$115","v":"va"},{"$f":"IF($AJ$4=0,0,$AJ$4)","v":0},null,{"$f":"IF($AK$4=0,0,$AK$4)","v":0},null,{"$f":"IF($AL$4=0,0,$AL$4)","v":0},null,{"$f":"IF($AM$4=0,0,$AM$4)","v":0},null,{"$f":"IF($AN$4=0,0,$AN$4)","v":0},null,{"$f":"IF($AO$4=0,0,$AO$4)","v":0},null,{"$f":"IF($AP$4=0,0,$AP$4)","v":0},null,{"$f":"IF($AQ$4=0,0,$AQ$4)","v":0},null,{"$f":"IF($AR$4=0,0,$AR$4)","v":0},null,{"$f":"IF($AS$4=0,0,$AS$4)","v":0},null,{"$f":"IF($AT$4=0,0,$AT$4)","v":0},null,{"$f":"IF($AU$4=0,0,$AU$4)","v":0},null,{"$f":"IF($AV$4=0,0,$AV$4)","v":0}]
[{"$f":"Labels!$B$181","v":"   vacances non payées"},null,null,null,null,{"$f":"Labels!$B$182","v":"vn"},{"$f":"IF($AJ$13=0,0,$AJ$13)","v":0},null,{"$f":"IF($AK$13=0,0,$AK$13)","v":0},null,{"$f":"IF($AL$13=0,0,$AL$13)","v":0},null,{"$f":"IF($AM$13=0,0,$AM$13)","v":0},null,{"$f":"IF($AN$13=0,0,$AN$13)","v":0},null,{"$f":"IF($AO$13=0,0,$AO$13)","v":0},null,{"$f":"IF($AP$13=0,0,$AP$13)","v":0},null,{"$f":"IF($AQ$13=0,0,$AQ$13)","v":0},null,{"$f":"IF($AR$13=0,0,$AR$13)","v":0},null,{"$f":"IF($AS$13=0,0,$AS$13)","v":0},null,{"$f":"IF($AT$13=0,0,$AT$13)","v":0},null,{"$f":"IF($AU$13=0,0,$AU$13)","v":0},null,{"$f":"IF($AV$13=0,0,$AV$13)","v":0}]
[{"$f":"Labels!$B$116","v":"   Jours fériés art. 12.2 CCT"},null,{"$f":"IF($AJ$20=\"\",\"\",$AJ$20)","v":""},null,null,{"$f":"Labels!$B$118","v":"jf"},{"$f":"IF($AJ$18=0,0,$AJ$18)","v":0},null,{"$f":"IF($AK$18=0,0,$AK$18)","v":0},null,{"$f":"IF($AL$18=0,0,$AL$18)","v":0},null,{"$f":"IF($AM$18=0,0,$AM$18)","v":0},null,{"$f":"IF($AN$18=0,0,$AN$18)","v":0},null,{"$f":"IF($AO$18=0,0,$AO$18)","v":0},null,{"$f":"IF($AP$18=0,0,$AP$18)","v":0},null,{"$f":"IF($AQ$18=0,0,$AQ$18)","v":0},null,{"$f":"IF($AR$18=0,0,$AR$18)","v":0},null,{"$f":"IF($AS$18=0,0,$AS$18)","v":0},null,{"$f":"IF($AT$18=0,0,$AT$18)","v":0},null,{"$f":"IF($AU$18=0,0,$AU$18)","v":0},null,{"$f":"IF($AV$18=0,0,$AV$18)","v":0}]
[{"$f":"Labels!$B$119","v":"   Maladie art. 13 CCT"},null,null,null,null,{"$f":"Labels!$B$120","v":"ma"},{"$f":"IF($AJ$5=0,0,$AJ$5)","v":0},null,{"$f":"IF($AK$5=0,0,$AK$5)","v":0},null,{"$f":"IF($AL$5=0,0,$AL$5)","v":0},null,{"$f":"IF($AM$5=0,0,$AM$5)","v":0},null,{"$f":"IF($AN$5=0,0,$AN$5)","v":0},null,{"$f":"IF($AO$5=0,0,$AO$5)","v":0},null,{"$f":"IF($AP$5=0,0,$AP$5)","v":0},null,{"$f":"IF($AQ$5=0,0,$AQ$5)","v":0},null,{"$f":"IF($AR$5=0,0,$AR$5)","v":0},null,{"$f":"IF($AS$5=0,0,$AS$5)","v":0},null,{"$f":"IF($AT$5=0,0,$AT$5)","v":0},null,{"$f":"IF($AU$5=0,0,$AU$5)","v":0},null,{"$f":"IF($AV$5=0,0,$AV$5)","v":0}]
[{"$f":"Labels!$B$184","v":"non payeé"},null,null,null,null,null,{"$f":"IF(AJ$16=0,0,AJ$16)","v":0},null,{"$f":"IF($AK$16=0,0,$AK$16)","v":0},null,{"$f":"IF($AL$16=0,0,$AL$16)","v":0},null,{"$f":"IF($AM$16=0,0,$AM$16)","v":0},null,{"$f":"IF($AN$16=0,0,$AN$16)","v":0},null,{"$f":"IF($AO$16=0,0,$AO$16)","v":0},null,{"$f":"IF($AP$16=0,0,$AP$16)","v":0},null,{"$f":"IF($AQ$16=0,0,$AQ$16)","v":0},null,{"$f":"IF($AR$16=0,0,$AR$16)","v":0},null,{"$f":"IF($AS$16=0,0,$AS$16)","v":0},null,{"$f":"IF($AT$16=0,0,$AT$16)","v":0},null,{"$f":"IF($AU$16=0,0,$AU$16)","v":0},null,{"$f":"IF($AV$16=0,0,$AV$16)","v":0}]
[{"$f":"Labels!$B$121","v":"   Accident art. 14 CCT"},null,null,null,null,{"$f":"Labels!$B$122","v":"ac"},{"$f":"IF($AJ$6=0,0,$AJ$6)","v":0},null,{"$f":"IF($AK$6=0,0,$AK$6)","v":0},null,{"$f":"IF($AL$6=0,0,$AL$6)","v":0},null,{"$f":"IF($AM$6=0,0,$AM$6)","v":0},null,{"$f":"IF($AN$6=0,0,$AN$6)","v":0},null,{"$f":"IF($AO$6=0,0,$AO$6)","v":0},null,{"$f":"IF($AP$6=0,0,$AP$6)","v":0},null,{"$f":"IF($AQ$6=0,0,$AQ$6)","v":0},null,{"$f":"IF($AR$6=0,0,$AR$6)","v":0},null,{"$f":"IF($AS$6=0,0,$AS$6)","v":0},null,{"$f":"IF($AT$6=0,0,$AT$6)","v":0},null,{"$f":"IF($AU$6=0,0,$AU$6)","v":0},null,{"$f":"IF($AV$6=0,0,$AV$6)","v":0}]
[{"$f":"Labels!$B$123","v":"   Grossesse/Maternité art. 15 CCT"},null,null,null,null,{"$f":"Labels!$B$124","v":"gm"},{"$f":"IF($AJ$7=0,0,$AJ$7)","v":0},null,{"$f":"IF($AK$7=0,0,$AK$7)","v":0},null,{"$f":"IF($AL$7=0,0,$AL$7)","v":0},null,{"$f":"IF($AM$7=0,0,$AM$7)","v":0},null,{"$f":"IF($AN$7=0,0,$AN$7)","v":0},null,{"$f":"IF($AO$7=0,0,$AO$7)","v":0},null,{"$f":"IF($AP$7=0,0,$AP$7)","v":0},null,{"$f":"IF($AQ$7=0,0,$AQ$7)","v":0},null,{"$f":"IF($AR$7=0,0,$AR$7)","v":0},null,{"$f":"IF($AS$7=0,0,$AS$7)","v":0},null,{"$f":"IF($AT$7=0,0,$AT$7)","v":0},null,{"$f":"IF($AU$7=0,0,$AU$7)","v":0},null,{"$f":"IF($AV$7=0,0,$AV$7)","v":0}]
[{"$f":"Labels!$B$125","v":"   Militaire/Promotion/Protection civile art. 16 CCT"},null,null,null,null,{"$f":"Labels!$B$126","v":"mi"},{"$f":"IF($AJ$8=0,0,$AJ$8)","v":0},null,{"$f":"IF($AK$8=0,0,$AK$8)","v":0},null,{"$f":"IF($AL$8=0,0,$AL$8)","v":0},null,{"$f":"IF($AM$8=0,0,$AM$8)","v":0},null,{"$f":"IF($AN$8=0,0,$AN$8)","v":0},null,{"$f":"IF($AO$8=0,0,$AO$8)","v":0},null,{"$f":"IF($AP$8=0,0,$AP$8)","v":0},null,{"$f":"IF($AQ$8=0,0,$AQ$8)","v":0},null,{"$f":"IF($AR$8=0,0,$AR$8)","v":0},null,{"$f":"IF($AS$8=0,0,$AS$8)","v":0},null,{"$f":"IF($AT$8=0,0,$AT$8)","v":0},null,{"$f":"IF($AU$8=0,0,$AU$8)","v":0},null,{"$f":"IF($AV$8=0,0,$AV$8)","v":0}]
[{"$f":"Labels!$B$127","v":"   Chômage partiel et perte de travail cause d'intempéries"},null,null,null,null,{"$f":"Labels!$B$128","v":"ch"},{"$f":"IF($AJ$11=0,0,$AJ$11)","v":0},null,{"$f":"IF($AK$11=0,0,$AK$11)","v":0},null,{"$f":"IF($AL$11=0,0,$AL$11)","v":0},null,{"$f":"IF($AM$11=0,0,$AM$11)","v":0},null,{"$f":"IF($AN$11=0,0,$AN$11)","v":0},null,{"$f":"IF($AO$11=0,0,$AO$11)","v":0},null,{"$f":"IF($AP$11=0,0,$AP$11)","v":0},null,{"$f":"IF($AQ$11=0,0,$AQ$11)","v":0},null,{"$f":"IF($AR$11=0,0,$AR$11)","v":0},null,{"$f":"IF($AS$11=0,0,$AS$11)","v":0},null,{"$f":"IF($AT$11=0,0,$AT$11)","v":0},null,{"$f":"IF($AU$11=0,0,$AU$11)","v":0},null,{"$f":"IF($AV$11=0,0,$AV$11)","v":0}]
[{"$f":"Labels!$B$129","v":"   Ecole professionnelle"},null,null,null,null,{"$f":"Labels!$B$130","v":"ep"},{"$f":"IF($AJ$9=0,0,$AJ$9)","v":0},null,{"$f":"IF($AK$9=0,0,$AK$9)","v":0},null,{"$f":"IF($AL$9=0,0,$AL$9)","v":0},null,{"$f":"IF($AM$9=0,0,$AM$9)","v":0},null,{"$f":"IF($AN$9=0,0,$AN$9)","v":0},null,{"$f":"IF($AO$9=0,0,$AO$9)","v":0},null,{"$f":"IF($AP$9=0,0,$AP$9)","v":0},null,{"$f":"IF($AQ$9=0,0,$AQ$9)","v":0},null,{"$f":"IF($AR$9=0,0,$AR$9)","v":0},null,{"$f":"IF($AS$9=0,0,$AS$9)","v":0},null,{"$f":"IF($AT$9=0,0,$AT$9)","v":0},null,{"$f":"IF($AU$9=0,0,$AU$9)","v":0},null,{"$f":"IF($AV$9=0,0,$AV$9)","v":0}]
[{"$f":"Labels!$B$131","v":"   Cours"},null,null,null,null,{"$f":"Labels!$B$132","v":"co"},{"$f":"IF($AJ$10=0,0,$AJ$10)","v":0},null,{"$f":"IF($AK$10=0,0,$AK$10)","v":0},null,{"$f":"IF($AL$10=0,0,$AL$10)","v":0},null,{"$f":"IF($AM$10=0,0,$AM$10)","v":0},null,{"$f":"IF($AN$10=0,0,$AN$10)","v":0},null,{"$f":"IF($AO$10=0,0,$AO$10)","v":0},null,{"$f":"IF($AP$10=0,0,$AP$10)","v":0},null,{"$f":"IF($AQ$10=0,0,$AQ$10)","v":0},null,{"$f":"IF($AR$10=0,0,$AR$10)","v":0},null,{"$f":"IF($AS$10=0,0,$AS$10)","v":0},null,{"$f":"IF($AT$10=0,0,$AT$10)","v":0},null,{"$f":"IF($AU$10=0,0,$AU$10)","v":0},null,{"$f":"IF($AV$10=0,0,$AV$10)","v":0}]
[{"$f":"Labels!$B$133","v":"Heures de compensation"},{"$f":"Labels!$B$134","v":"de l'année passée"},null,null,null,{"$f":"Labels!$B$135","v":"cp"},{"$f":"IF($AJ$12=0,0,$AJ$12)","v":0},null,{"$f":"IF($AK$12=0,0,$AK$12)","v":0},null,{"$f":"IF($AL$12=0,0,$AL$12)","v":0},null,{"$f":"IF($AM$12=0,0,$AM$12)","v":0},null,{"$f":"IF($AN$12=0,0,$AN$12)","v":0},null,{"$f":"IF($AO$12=0,0,$AO$12)","v":0},null,{"$f":"IF($AP$12=0,0,$AP$12)","v":0},null,{"$f":"IF($AQ$12=0,0,$AQ$12)","v":0},null,{"$f":"IF($AR$12=0,0,$AR$12)","v":0},null,null,null,null,null,null,null,{"$f":"IF($AV$12=0,0,$AV$12)","v":0}]
[null,{"$f":"Labels!$B$136","v":"de l'année en cours (contrôle)"},null,null,null,{"$f":"Labels!$B$137","v":"cc"},{"$f":"IF($AJ$15=0,0,$AJ$15)","v":0},null,{"$f":"IF($AK$15=0,0,$AK$15)","v":0},null,{"$f":"IF($AL$15=0,0,$AL$15)","v":0},null,{"$f":"IF($AM$15=0,0,$AM$15)","v":0},null,{"$f":"IF($AN$15=0,0,$AN$15)","v":0},null,{"$f":"IF($AO$15=0,0,$AO$15)","v":0},null,{"$f":"IF($AP$15=0,0,$AP$15)","v":0},null,{"$f":"IF($AQ$15=0,0,$AQ$15)","v":0},null,{"$f":"IF($AR$15=0,0,$AR$15)","v":0},null,{"$f":"IF($AS$15=0,0,$AS$15)","v":0},null,{"$f":"IF($AT$15=0,0,$AT$15)","v":0},null,{"$f":"IF($AU$15=0,0,$AU$15)","v":0},null,{"$f":"IF($AV$15=0,0,$AV$15)","v":0}]
[{"$f":"Labels!$B$138","v":"Paiement des heures"},{"$f":"Labels!$B$139","v":"de l'année passée"},null,null,null,null,{"$f":"IF($AJ$21=0,0,$AJ$21)","v":0},null,{"$f":"IF($AK$21=0,0,$AK$21)","v":0},null,{"$f":"IF($AL$21=0,0,$AL$21)","v":0},null,{"$f":"IF($AM$21=0,0,$AM$21)","v":0},null,{"$f":"IF($AN$21=0,0,$AN$21)","v":0},null,{"$f":"IF($AO$21=0,0,$AO$21)","v":0},null,{"$f":"IF($AP$21=0,0,$AP$21)","v":0},null,{"$f":"IF($AQ$21=0,0,$AQ$21)","v":0},null,{"$f":"IF($AR$21=0,0,$AR$21)","v":0},null,null,null,null,null,null,null,{"$f":"IF($AV$21=0,0,$AV$21)","v":0}]
[{"$f":"Labels!$B$140","v":"Différence en heures"},{"$f":"Labels!$B$141","v":"après compensation et paiement"},null,null,null,null,{"$f":"IF(ROUND($P$4,3)=0,0,$P$4-G124-G126)","v":0},null,{"$f":"IF(ROUND(G127,3)=0,0,G127-(SUM(I124+I126)))","v":0},null,{"$f":"IF(ROUND(I127,3)=0,0,I127-K126-K124)","v":0},null,{"$f":"IF(ROUND(K127,3)=0,0,K127-(SUM(M126+M124)))","v":0},null,{"$f":"IF(ROUND(M127,3)=0,0,M127-(SUM(O126+O124)))","v":0},null,{"$f":"IF(ROUND(O127,3)=0,0,O127-(SUM(Q126+Q124)))","v":0},null,{"$f":"IF(ROUND(Q127,3)=0,0,Q127-(SUM(S126+S124)))","v":0},null,{"$f":"IF(ROUND(S127,3)=0,0,S127-(SUM(U126+U124)))","v":0},null,{"$f":"IF(ROUND(U127,3)=0,0,U127-(SUM(W126+W124)))","v":0},null,{"$f":"IF($W$62<0.1,\"\",AY109)","v":""}]
[{"$f":"Labels!$B$138","v":"Paiement des heures"},{"$f":"Labels!$B$142","v":"de l'année en cours"},null,null,null,null,{"$f":"IF($AJ$22=0,0,$AJ$22)","v":0},null,{"$f":"IF($AK$22=0,0,$AK$22)","v":0},null,{"$f":"IF($AL$22=0,0,$AL$22)","v":0},null,{"$f":"IF($AM$22=0,0,$AM$22)","v":0},null,{"$f":"IF($AN$22=0,0,$AN$22)","v":0},null,{"$f":"IF($AO$22=0,0,$AO$22)","v":0},null,{"$f":"IF($AP$22=0,0,$AP$22)","v":0},null,{"$f":"IF($AQ$22=0,0,$AQ$22)","v":0},null,{"$f":"IF($AR$22=0,0,$AR$22)","v":0},null,{"$f":"IF($AS$22=0,0,$AS$22)","v":0},null,{"$f":"IF($AT$22=0,0,$AT$22)","v":0},null,{"$f":"IF($AU$22=0,0,$AU$22)","v":0},null,{"$f":"IF($AV$22=0,0,$AV$22)","v":0}]
[{"$f":"Labels!$B$143","v":"Heures manquantes"},{"$f":"Labels!$B$144","v":"de l'année en cours (contrôle)"},null,null,null,{"$f":"Labels!$B$145","v":"hm"},{"$f":"IF($AJ$14=0,0,$AJ$14)","v":0},null,{"$f":"IF($AK$14=0,0,$AK$14)","v":0},null,{"$f":"IF($AL$14=0,0,$AL$14)","v":0},null,{"$f":"IF($AM$14=0,0,$AM$14)","v":0},null,{"$f":"IF($AN$14=0,0,$AN$14)","v":0},null,{"$f":"IF($AO$14=0,0,$AO$14)","v":0},null,{"$f":"IF($AP$14=0,0,$AP$14)","v":0},null,{"$f":"IF($AQ$14=0,0,$AQ$14)","v":0},null,{"$f":"IF($AR$14=0,0,$AR$14)","v":0},null,{"$f":"IF($AS$14=0,0,$AS$14)","v":0},null,{"$f":"IF($AT$14=0,0,$AT$14)","v":0},null,{"$f":"IF($AU$14=0,0,$AU$14)","v":0},null,{"$f":"IF($AV$14=0,0,$AV$14)","v":0}]
[{"$f":"Labels!$B$146","v":"Total (majorations inclus)"},{"$f":"Labels!$B$147","v":"heures productives et inproductives"},null,null,null,null,{"$f":"IF($AG$35=0,0,$AG$35)","v":0},null,{"$f":"IF($AG$100=0,0,$AG$100)","v":0},null,{"$f":"IF($AG$165=0,0,$AG$165)","v":0},null,{"$f":"IF($AG$230=0,0,$AG$230)","v":0},null,{"$f":"IF($AG$295=0,0,$AG$295)","v":0},null,{"$f":"IF($AG$360=0,0,$AG$360)","v":0},null,{"$f":"IF($AG$425=0,0,$AG$425)","v":0},null,{"$f":"IF($AG$490=0,0,$AG$490)","v":0},null,{"$f":"IF($AG$555=0,0,$AG$555)","v":0},null,{"$f":"IF($AG$620=0,0,$AG$620)","v":0},null,{"$f":"IF($AG$685=0,0,$AG$685)","v":0},null,{"$f":"IF($AG$750=0,0,$AG$750)","v":0},null,{"$f":"SUM($G$65:$AD$65)","v":0}]
[{"$f":"Labels!$B$148","v":"Comparaison des heures"},{"$f":"Labels!$B$149","v":"aux heures théorique CCT (heures \nmanquantes de l'année passée incl.)"},null,null,null,null,{"$f":"IF($AG$37=0,0,$AG$37)-$AE$34+$P$5","v":-176},null,{"$f":"IF($AG$102=0,0,$AG$102)-$AE$99","v":-160},null,{"$f":"IF($AG$167=0,0,$AG$167)-$AE$164","v":-184},null,{"$f":"IF($AG$232=0,0,$AG$232)-$AE$229","v":-160},null,{"$f":"IF($AG$297=0,0,$AG$297)-$AE$294","v":-184},null,{"$f":"IF($AG$362=0,0,$AG$362)-$AE$359","v":-176},null,{"$f":"IF($AG$427=0,0,$AG$427)-$AE$424","v":-168},null,{"$f":"IF($AG$492=0,0,$AG$492)-$AE$489","v":-184},null,{"$f":"IF($AG$557=0,0,$AG$557)-$AE$554","v":-168},null,{"$f":"IF($AG$622=0,0,$AG$622)-$AE$619","v":-176},null,{"$f":"IF($AG$687=0,0,$AG$687)-$AE$684","v":-176},null,{"$f":"IF($AG$752=0,0,$AG$752)-$AE$749","v":-168},null,{"$f":"SUM($G$66:$AD$66)","v":-2080}]
[null,{"$f":"Labels!$B$151","v":"aux heures théorique (cumulées)"},null,null,null,null,{"$f":"IF(G105=0,0,$G$66)","v":-176},null,{"$f":"IF(I105=0,0,SUM($G$66:$J$66))","v":-336},null,{"$f":"IF(K105=0,0,SUM($G$66:$L$66))","v":-520},null,{"$f":"IF(M105=0,0,SUM($G$66:$N$66))","v":-680},null,{"$f":"IF(O105=0,0,SUM($G$66:$P$66))","v":-864},null,{"$f":"IF(Q105=0,0,SUM($G$66:$R$66))","v":-1040},null,{"$f":"IF(S105=0,0,SUM($G$66:$T$66))","v":-1208},null,{"$f":"IF(U105=0,0,SUM($G$66:$V$66))","v":-1392},null,{"$f":"IF(W105=0,0,SUM($G$66:$X$66))","v":-1560},null,{"$f":"IF(Y105=0,0,SUM($G$66:$Z$66))","v":-1736},null,{"$f":"IF(AA105=0,0,SUM($G$66:$AB$66))","v":-1912},null,{"$f":"IF(AC105=0,0,SUM($G$66:$AD$66))","v":-2080}]
[{"$f":"Labels!$B$153","v":"Vacances (contrôle)"},{"$f":"Labels!$B$154","v":"Vacances année passée"},null,null,null,null,{"$f":"IF($AA$4=0,0,$AA$4)","v":0},null,{"$f":"Labels!$B$155","v":"Vacances selon \nart 12.1 CCT"},null,null,null,{"$f":"IF($AA$5=0,0,$AA$5)","v":0},null,{"$f":"Labels!$B$156","v":"Total des vacances"},null,null,null,{"$f":"SUM(G133+M133)","v":0},null,{"$f":"Labels!$B$157","v":"Vacances prises"},null,null,null,{"$f":"IF($AV$4=0,0,$AV$4)","v":0},null,{"$f":"Labels!$B$158","v":"Vacances restantes"},null,null,null,{"$f":"IF(S133=0,0,S133-Y133)","v":0}]
[]
[]
[{"$f":"$A$3","v":"Nom/Prénom"},{"$f":"IF($B$3=\"\",\"\",$B$3)","v":"Modèle Pierre"},null,null,null,null,null,null,null,null,null,null,null,null,null,null,null,null,null,null,null,null,null,null,null,null,null,null,null,null,null,{"$f":"AF3","v":0}]
[{"$f":"$A$4","v":"Emploi %"},{"$f":"$AL$50","v":100},null,{"$f":"Labels!B91","v":"en mars"}]
[{"$f":"$A$5","v":"Solde année en cours"},null,null,{"$f":"IF($AE$66=0,0,$AE$66)","v":-2080}]
[{"$f":"TEXT(DATE(YEAR(AP29),MONTH(AP29)+2,1),\"MMMM\"&Labels!B13)","v":"mars"},{"$f":"$B$9","v":"Solde mois + / -"},null,null,null,{"$f":"(AG142-(SUM(AG143:AG157)-AE164))*-1","v":-184},null,null,null,null,{"$f":"$K$9","v":" = "},{"$f":"$L$9","v":"Les cases marquées en jaune doivent être remplies (les autres seront calculées automatiquement)"},null,null,null,null,null,null,null,null,null,null,null,null,null,null,null,null,null,null,null,null,{"$f":"COUNT(B142:AF142)&\" \"&Labels!$B$63","v":"23 Jours"}]
[{"$f":"$A$10","v":"Jour"},{"$f":"IF(MOD($AE$97,4)>=1,$AC$75+1,$AC$75+2)","v":"2023-03-01"},{"$f":"B140+1","v":"2023-03-02"},"2023-03-03","2023-03-04","2023-03-05","2023-03-06","2023-03-07","2023-03-08","2023-03-09","2023-03-10","2023-03-11","2023-03-12","2023-03-13","2023-03-14","2023-03-15","2023-03-16","2023-03-17","2023-03-18","2023-03-19","2023-03-20","2023-03-21","2023-03-22","2023-03-23","2023-03-24","2023-03-25","2023-03-26","2023-03-27","2023-03-28","2023-03-29","2023-03-30","2023-03-31"]
[{"$f":"$A$11","v":"semaine civile"},{"$f":"IF(B140=\"\",\"\",TRUNC((B140-DATE(YEAR(B140+3-MOD(B140-2,7)),1,MOD(B140-2,7)-9))/7))","v":9},9,9,9,9,10,10,10,10,10,10,10,11,11,11,11,11,11,11,12,12,12,12,12,12,12,13,13,13,13,13,null,"Woche"]
[{"$f":"$A$12","v":"Théorique sel. CCT"},{"$f":"IF(AND(MOD(B140,7)>=2,SUMPRODUCT(($AM$60:$AQ$60=MOD(B140,7))*$AM$50:$AQ$50),B879=\"\"),$J$7*SUMPRODUCT(($AM$77:$AQ$77=MOD(B140,7))*$AM$67:$AQ$67)%,\"\")","v":8},{"$f":"IF(AND(MOD(C140,7)>=2,SUMPRODUCT(($AM$60:$AQ$60=MOD(C140,7))*$AM$50:$AQ$50),C879=\"\"),$J$7*SUMPRODUCT(($AM$77:$AQ$77=MOD(C140,7))*$AM$67:$AQ$67)%,\"\")","v":8},{"$f":"IF(AND(MOD(D140,7)>=2,SUMPRODUCT(($AM$60:$AQ$60=MOD(D140,7))*$AM$50:$AQ$50),D879=\"\"),$J$7*SUMPRODUCT(($AM$77:$AQ$77=MOD(D140,7))*$AM$67:$AQ$67)%,\"\")","v":8},{"$f":"IF(AND(MOD(E140,7)>=2,SUMPRODUCT(($AM$60:$AQ$60=MOD(E140,7))*$AM$50:$AQ$50),E879=\"\"),$J$7*SUMPRODUCT(($AM$77:$AQ$77=MOD(E140,7))*$AM$67:$AQ$67)%,\"\")","v":""},{"$f":"IF(AND(MOD(F140,7)>=2,SUMPRODUCT(($AM$60:$AQ$60=MOD(F140,7))*$AM$50:$AQ$50),F879=\"\"),$J$7*SUMPRODUCT(($AM$77:$AQ$77=MOD(F140,7))*$AM$67:$AQ$67)%,\"\")","v":""},{"$f":"IF(AND(MOD(G140,7)>=2,SUMPRODUCT(($AM$60:$AQ$60=MOD(G140,7))*$AM$50:$AQ$50),G879=\"\"),$J$7*SUMPRODUCT(($AM$77:$AQ$77=MOD(G140,7))*$AM$67:$AQ$67)%,\"\")","v":8},{"$f":"IF(AND(MOD(H140,7)>=2,SUMPRODUCT(($AM$60:$AQ$60=MOD(H140,7))*$AM$50:$AQ$50),H879=\"\"),$J$7*SUMPRODUCT(($AM$77:$AQ$77=MOD(H140,7))*$AM$67:$AQ$67)%,\"\")","v":8},{"$f":"IF(AND(MOD(I140,7)>=2,SUMPRODUCT(($AM$60:$AQ$60=MOD(I140,7))*$AM$50:$AQ$50),I879=\"\"),$J$7*SUMPRODUCT(($AM$77:$AQ$77=MOD(I140,7))*$AM$67:$AQ$67)%,\"\")","v":8},{"$f":"IF(AND(MOD(J140,7)>=2,SUMPRODUCT(($AM$60:$AQ$60=MOD(J140,7))*$AM$50:$AQ$50),J879=\"\"),$J$7*SUMPRODUCT(($AM$77:$AQ$77=MOD(J140,7))*$AM$67:$AQ$67)%,\"\")","v":8},{"$f":"IF(AND(MOD(K140,7)>=2,SUMPRODUCT(($AM$60:$AQ$60=MOD(K140,7))*$AM$50:$AQ$50),K879=\"\"),$J$7*SUMPRODUCT(($AM$77:$AQ$77=MOD(K140,7))*$AM$67:$AQ$67)%,\"\")","v":8},{"$f":"IF(AND(MOD(L140,7)>=2,SUMPRODUCT(($AM$60:$AQ$60=MOD(L140,7))*$AM$50:$AQ$50),L879=\"\"),$J$7*SUMPRODUCT(($AM$77:$AQ$77=MOD(L140,7))*$AM$67:$AQ$67)%,\"\")","v":""},{"$f":"IF(AND(MOD(M140,7)>=2,SUMPRODUCT(($AM$60:$AQ$60=MOD(M140,7))*$AM$50:$AQ$50),M879=\"\"),$J$7*SUMPRODUCT(($AM$77:$AQ$77=MOD(M140,7))*$AM$67:$AQ$67)%,\"\")","v":""},{"$f":"IF(AND(MOD(N140,7)>=2,SUMPRODUCT(($AM$60:$AQ$60=MOD(N140,7))*$AM$50:$AQ$50),N879=\"\"),$J$7*SUMPRODUCT(($AM$77:$AQ$77=MOD(N140,7))*$AM$67:$AQ$67)%,\"\")","v":8},{"$f":"IF(AND(MOD(O140,7)>=2,SUMPRODUCT(($AM$60:$AQ$60=MOD(O140,7))*$AM$50:$AQ$50),O879=\"\"),$J$7*SUMPRODUCT(($AM$77:$AQ$77=MOD(O140,7))*$AM$67:$AQ$67)%,\"\")","v":8},{"$f":"IF(AND(MOD(P140,7)>=2,SUMPRODUCT(($AM$60:$AQ$60=MOD(P140,7))*$AM$50:$AQ$50),P879=\"\"),$J$7*SUMPRODUCT(($AM$77:$AQ$77=MOD(P140,7))*$AM$67:$AQ$67)%,\"\")","v":8},{"$f":"IF(AND(MOD(Q140,7)>=2,SUMPRODUCT(($AM$60:$AQ$60=MOD(Q140,7))*$AM$50:$AQ$50),Q879=\"\"),$J$7*SUMPRODUCT(($AM$77:$AQ$77=MOD(Q140,7))*$AM$67:$AQ$67)%,\"\")","v":8},{"$f":"IF(AND(MOD(R140,7)>=2,SUMPRODUCT(($AM$60:$AQ$60=MOD(R140,7))*$AM$50:$AQ$50),R879=\"\"),$J$7*SUMPRODUCT(($AM$77:$AQ$77=MOD(R140,7))*$AM$67:$AQ$67)%,\"\")","v":8},{"$f":"IF(AND(MOD(S140,7)>=2,SUMPRODUCT(($AM$60:$AQ$60=MOD(S140,7))*$AM$50:$AQ$50),S879=\"\"),$J$7*SUMPRODUCT(($AM$77:$AQ$77=MOD(S140,7))*$AM$67:$AQ$67)%,\"\")","v":""},{"$f":"IF(AND(MOD(T140,7)>=2,SUMPRODUCT(($AM$60:$AQ$60=MOD(T140,7))*$AM$50:$AQ$50),T879=\"\"),$J$7*SUMPRODUCT(($AM$77:$AQ$77=MOD(T140,7))*$AM$67:$AQ$67)%,\"\")","v":""},{"$f":"IF(AND(MOD(U140,7)>=2,SUMPRODUCT(($AM$60:$AQ$60=MOD(U140,7))*$AM$50:$AQ$50),U879=\"\"),$J$7*SUMPRODUCT(($AM$77:$AQ$77=MOD(U140,7))*$AM$67:$AQ$67)%,\"\")","v":8},{"$f":"IF(AND(MOD(V140,7)>=2,SUMPRODUCT(($AM$60:$AQ$60=MOD(V140,7))*$AM$50:$AQ$50),V879=\"\"),$J$7*SUMPRODUCT(($AM$77:$AQ$77=MOD(V140,7))*$AM$67:$AQ$67)%,\"\")","v":8},{"$f":"IF(AND(MOD(W140,7)>=2,SUMPRODUCT(($AM$60:$AQ$60=MOD(W140,7))*$AM$50:$AQ$50),W879=\"\"),$J$7*SUMPRODUCT(($AM$77:$AQ$77=MOD(W140,7))*$AM$67:$AQ$67)%,\"\")","v":8},{"$f":"IF(AND(MOD(X140,7)>=2,SUMPRODUCT(($AM$60:$AQ$60=MOD(X140,7))*$AM$50:$AQ$50),X879=\"\"),$J$7*SUMPRODUCT(($AM$77:$AQ$77=MOD(X140,7))*$AM$67:$AQ$67)%,\"\")","v":8},{"$f":"IF(AND(MOD(Y140,7)>=2,SUMPRODUCT(($AM$60:$AQ$60=MOD(Y140,7))*$AM$50:$AQ$50),Y879=\"\"),$J$7*SUMPRODUCT(($AM$77:$AQ$77=MOD(Y140,7))*$AM$67:$AQ$67)%,\"\")","v":8},{"$f":"IF(AND(MOD(Z140,7)>=2,SUMPRODUCT(($AM$60:$AQ$60=MOD(Z140,7))*$AM$50:$AQ$50),Z879=\"\"),$J$7*SUMPRODUCT(($AM$77:$AQ$77=MOD(Z140,7))*$AM$67:$AQ$67)%,\"\")","v":""},{"$f":"IF(AND(MOD(AA140,7)>=2,SUMPRODUCT(($AM$60:$AQ$60=MOD(AA140,7))*$AM$50:$AQ$50),AA879=\"\"),$J$7*SUMPRODUCT(($AM$77:$AQ$77=MOD(AA140,7))*$AM$67:$AQ$67)%,\"\")","v":""},{"$f":"IF(AND(MOD(AB140,7)>=2,SUMPRODUCT(($AM$60:$AQ$60=MOD(AB140,7))*$AM$50:$AQ$50),AB879=\"\"),$J$7*SUMPRODUCT(($AM$77:$AQ$77=MOD(AB140,7))*$AM$67:$AQ$67)%,\"\")","v":8},{"$f":"IF(AND(MOD(AC140,7)>=2,SUMPRODUCT(($AM$60:$AQ$60=MOD(AC140,7))*$AM$50:$AQ$50),AC879=\"\"),$J$7*SUMPRODUCT(($AM$77:$AQ$77=MOD(AC140,7))*$AM$67:$AQ$67)%,\"\")","v":8},{"$f":"IF(AND(MOD(AD140,7)>=2,SUMPRODUCT(($AM$60:$AQ$60=MOD(AD140,7))*$AM$50:$AQ$50),AD879=\"\"),$J$7*SUMPRODUCT(($AM$77:$AQ$77=MOD(AD140,7))*$AM$67:$AQ$67)%,\"\")","v":8},{"$f":"IF(AND(MOD(AE140,7)>=2,SUMPRODUCT(($AM$60:$AQ$60=MOD(AE140,7))*$AM$50:$AQ$50),AE879=\"\"),$J$7*SUMPRODUCT(($AM$77:$AQ$77=MOD(AE140,7))*$AM$67:$AQ$67)%,\"\")","v":8},{"$f":"IF(AND(MOD(AF140,7)>=2,SUMPRODUCT(($AM$60:$AQ$60=MOD(AF140,7))*$AM$50:$AQ$50),AF879=\"\"),$J$7*SUMPRODUCT(($AM$77:$AQ$77=MOD(AF140,7))*$AM$67:$AQ$67)%,\"\")","v":8},{"$f":"SUM(B142:AF142)","v":184},"[00]"]
[{"$f":"$A$13","v":"Absences"},{"$f":"B895","v":0},{"$f":"C895","v":0},0,0,0,0,0,0,0,0,0,0,0,0,0,0,0,0,0,0,0,0,0,0,0,0,0,0,0,0,0,{"$f":"SUM($AL$3:$AL$13)","v":0},"[01]"]
[{"$f":"$A$14","v":"Code"},{"$f":"IF(SUM(B882:B894)<>0,IF(MAX(B882:B894)<B895,Labels!$B$163,INDEX($AH$882:$AH$894,MATCH(MAX(B882:B894),B882:B894,0))),\"\")","v":""},{"$f":"IF(SUM(C882:C894)<>0,IF(MAX(C882:C894)<C895,Labels!$B$163,INDEX($AH$882:$AH$894,MATCH(MAX(C882:C894),C882:C894,0))),\"\")","v":""},{"$f":"IF(SUM(D882:D894)<>0,IF(MAX(D882:D894)<D895,Labels!$B$163,INDEX($AH$882:$AH$894,MATCH(MAX(D882:D894),D882:D894,0))),\"\")","v":""},{"$f":"IF(SUM(E882:E894)<>0,IF(MAX(E882:E894)<E895,Labels!$B$163,INDEX($AH$882:$AH$894,MATCH(MAX(E882:E894),E882:E894,0))),\"\")","v":""},{"$f":"IF(SUM(F882:F894)<>0,IF(MAX(F882:F894)<F895,Labels!$B$163,INDEX($AH$882:$AH$894,MATCH(MAX(F882:F894),F882:F894,0))),\"\")","v":""},{"$f":"IF(SUM(G882:G894)<>0,IF(MAX(G882:G894)<G895,Labels!$B$163,INDEX($AH$882:$AH$894,MATCH(MAX(G882:G894),G882:G894,0))),\"\")","v":""},{"$f":"IF(SUM(H882:H894)<>0,IF(MAX(H882:H894)<H895,Labels!$B$163,INDEX($AH$882:$AH$894,MATCH(MAX(H882:H894),H882:H894,0))),\"\")","v":""},{"$f":"IF(SUM(I882:I894)<>0,IF(MAX(I882:I894)<I895,Labels!$B$163,INDEX($AH$882:$AH$894,MATCH(MAX(I882:I894),I882:I894,0))),\"\")","v":""},{"$f":"IF(SUM(J882:J894)<>0,IF(MAX(J882:J894)<J895,Labels!$B$163,INDEX($AH$882:$AH$894,MATCH(MAX(J882:J894),J882:J894,0))),\"\")","v":""},{"$f":"IF(SUM(K882:K894)<>0,IF(MAX(K882:K894)<K895,Labels!$B$163,INDEX($AH$882:$AH$894,MATCH(MAX(K882:K894),K882:K894,0))),\"\")","v":""},{"$f":"IF(SUM(L882:L894)<>0,IF(MAX(L882:L894)<L895,Labels!$B$163,INDEX($AH$882:$AH$894,MATCH(MAX(L882:L894),L882:L894,0))),\"\")","v":""},{"$f":"IF(SUM(M882:M894)<>0,IF(MAX(M882:M894)<M895,Labels!$B$163,INDEX($AH$882:$AH$894,MATCH(MAX(M882:M894),M882:M894,0))),\"\")","v":""},{"$f":"IF(SUM(N882:N894)<>0,IF(MAX(N882:N894)<N895,Labels!$B$163,INDEX($AH$882:$AH$894,MATCH(MAX(N882:N894),N882:N894,0))),\"\")","v":""},{"$f":"IF(SUM(O882:O894)<>0,IF(MAX(O882:O894)<O895,Labels!$B$163,INDEX($AH$882:$AH$894,MATCH(MAX(O882:O894),O882:O894,0))),\"\")","v":""},{"$f":"IF(SUM(P882:P894)<>0,IF(MAX(P882:P894)<P895,Labels!$B$163,INDEX($AH$882:$AH$894,MATCH(MAX(P882:P894),P882:P894,0))),\"\")","v":""},{"$f":"IF(SUM(Q882:Q894)<>0,IF(MAX(Q882:Q894)<Q895,Labels!$B$163,INDEX($AH$882:$AH$894,MATCH(MAX(Q882:Q894),Q882:Q894,0))),\"\")","v":""},{"$f":"IF(SUM(R882:R894)<>0,IF(MAX(R882:R894)<R895,Labels!$B$163,INDEX($AH$882:$AH$894,MATCH(MAX(R882:R894),R882:R894,0))),\"\")","v":""},{"$f":"IF(SUM(S882:S894)<>0,IF(MAX(S882:S894)<S895,Labels!$B$163,INDEX($AH$882:$AH$894,MATCH(MAX(S882:S894),S882:S894,0))),\"\")","v":""},{"$f":"IF(SUM(T882:T894)<>0,IF(MAX(T882:T894)<T895,Labels!$B$163,INDEX($AH$882:$AH$894,MATCH(MAX(T882:T894),T882:T894,0))),\"\")","v":""},{"$f":"IF(SUM(U882:U894)<>0,IF(MAX(U882:U894)<U895,Labels!$B$163,INDEX($AH$882:$AH$894,MATCH(MAX(U882:U894),U882:U894,0))),\"\")","v":""},{"$f":"IF(SUM(V882:V894)<>0,IF(MAX(V882:V894)<V895,Labels!$B$163,INDEX($AH$882:$AH$894,MATCH(MAX(V882:V894),V882:V894,0))),\"\")","v":""},{"$f":"IF(SUM(W882:W894)<>0,IF(MAX(W882:W894)<W895,Labels!$B$163,INDEX($AH$882:$AH$894,MATCH(MAX(W882:W894),W882:W894,0))),\"\")","v":""},{"$f":"IF(SUM(X882:X894)<>0,IF(MAX(X882:X894)<X895,Labels!$B$163,INDEX($AH$882:$AH$894,MATCH(MAX(X882:X894),X882:X894,0))),\"\")","v":""},{"$f":"IF(SUM(Y882:Y894)<>0,IF(MAX(Y882:Y894)<Y895,Labels!$B$163,INDEX($AH$882:$AH$894,MATCH(MAX(Y882:Y894),Y882:Y894,0))),\"\")","v":""},{"$f":"IF(SUM(Z882:Z894)<>0,IF(MAX(Z882:Z894)<Z895,Labels!$B$163,INDEX($AH$882:$AH$894,MATCH(MAX(Z882:Z894),Z882:Z894,0))),\"\")","v":""},{"$f":"IF(SUM(AA882:AA894)<>0,IF(MAX(AA882:AA894)<AA895,Labels!$B$163,INDEX($AH$882:$AH$894,MATCH(MAX(AA882:AA894),AA882:AA894,0))),\"\")","v":""},{"$f":"IF(SUM(AB882:AB894)<>0,IF(MAX(AB882:AB894)<AB895,Labels!$B$163,INDEX($AH$882:$AH$894,MATCH(MAX(AB882:AB894),AB882:AB894,0))),\"\")","v":""},{"$f":"IF(SUM(AC882:AC894)<>0,IF(MAX(AC882:AC894)<AC895,Labels!$B$163,INDEX($AH$882:$AH$894,MATCH(MAX(AC882:AC894),AC882:AC894,0))),\"\")","v":""},{"$f":"IF(SUM(AD882:AD894)<>0,IF(MAX(AD882:AD894)<AD895,Labels!$B$163,INDEX($AH$882:$AH$894,MATCH(MAX(AD882:AD894),AD882:AD894,0))),\"\")","v":""},{"$f":"IF(SUM(AE882:AE894)<>0,IF(MAX(AE882:AE894)<AE895,Labels!$B$163,INDEX($AH$882:$AH$894,MATCH(MAX(AE882:AE894),AE882:AE894,0))),\"\")","v":""},{"$f":"IF(SUM(AF882:AF894)<>0,IF(MAX(AF882:AF894)<AF895,Labels!$B$163,INDEX($AH$882:$AH$894,MATCH(MAX(AF882:AF894),AF882:AF894,0))),\"\")","v":""},{"$f":"$AL$16*-1","v":0},"[02]"]
[{"$f":"$A$15","v":"00h00-06h00 1)"},null,null,null,null,null,null,null,null,null,null,null,null,null,null,null,null,null,null,null,null,null,null,null,null,null,null,null,null,null,null,null,{"$f":"SUM(B145:AF145)","v":0},"[04]"]
[{"$f":"$A$16","v":"06h00-20h00 2)"},null,null,null,null,null,null,null,null,null,null,null,null,null,null,null,null,null,null,null,null,null,null,null,null,null,null,null,null,null,null,null,{"$f":"SUMPRODUCT(B146:AF146*(B142:AF142<>\"\"))-SUMPRODUCT(B146:AF146*(B148:AF148=\"ft\"))","v":0},"[03]"]
[{"$f":"$A$17","v":"20h00-24h00 3)"},null,null,null,null,null,null,null,null,null,null,null,null,null,null,null,null,null,null,null,null,null,null,null,null,null,null,null,null,null,null,null,{"$f":"SUM(B147:AF147)","v":0},"[05]"]
[{"$f":"$A$18","v":"Jours fériés \"jf\""},{"$f":"IF(WEEKDAY(B140,2)<=6,IF(CALENDRIER!E7=\"x\",Labels!$B$118,\"\"),\"\")","v":""},{"$f":"IF(WEEKDAY(C140,2)<=6,IF(CALENDRIER!F7=\"x\",Labels!$B$118,\"\"),\"\")","v":""},{"$f":"IF(WEEKDAY(D140,2)<=6,IF(CALENDRIER!G7=\"x\",Labels!$B$118,\"\"),\"\")","v":""},{"$f":"IF(WEEKDAY(E140,2)<=6,IF(CALENDRIER!H7=\"x\",Labels!$B$118,\"\"),\"\")","v":""},{"$f":"IF(WEEKDAY(F140,2)<=6,IF(CALENDRIER!I7=\"x\",Labels!$B$118,\"\"),\"\")","v":""},{"$f":"IF(WEEKDAY(G140,2)<=6,IF(CALENDRIER!J7=\"x\",Labels!$B$118,\"\"),\"\")","v":""},{"$f":"IF(WEEKDAY(H140,2)<=6,IF(CALENDRIER!K7=\"x\",Labels!$B$118,\"\"),\"\")","v":""},{"$f":"IF(WEEKDAY(I140,2)<=6,IF(CALENDRIER!L7=\"x\",Labels!$B$118,\"\"),\"\")","v":""},{"$f":"IF(WEEKDAY(J140,2)<=6,IF(CALENDRIER!M7=\"x\",Labels!$B$118,\"\"),\"\")","v":""},{"$f":"IF(WEEKDAY(K140,2)<=6,IF(CALENDRIER!N7=\"x\",Labels!$B$118,\"\"),\"\")","v":""},{"$f":"IF(WEEKDAY(L140,2)<=6,IF(CALENDRIER!O7=\"x\",Labels!$B$118,\"\"),\"\")","v":""},{"$f":"IF(WEEKDAY(M140,2)<=6,IF(CALENDRIER!P7=\"x\",Labels!$B$118,\"\"),\"\")","v":""},{"$f":"IF(WEEKDAY(N140,2)<=6,IF(CALENDRIER!Q7=\"x\",Labels!$B$118,\"\"),\"\")","v":""},{"$f":"IF(WEEKDAY(O140,2)<=6,IF(CALENDRIER!R7=\"x\",Labels!$B$118,\"\"),\"\")","v":""},{"$f":"IF(WEEKDAY(P140,2)<=6,IF(CALENDRIER!S7=\"x\",Labels!$B$118,\"\"),\"\")","v":""},{"$f":"IF(WEEKDAY(Q140,2)<=6,IF(CALENDRIER!T7=\"x\",Labels!$B$118,\"\"),\"\")","v":""},{"$f":"IF(WEEKDAY(R140,2)<=6,IF(CALENDRIER!U7=\"x\",Labels!$B$118,\"\"),\"\")","v":""},{"$f":"IF(WEEKDAY(S140,2)<=6,IF(CALENDRIER!V7=\"x\",Labels!$B$118,\"\"),\"\")","v":""},{"$f":"IF(WEEKDAY(T140,2)<=6,IF(CALENDRIER!W7=\"x\",Labels!$B$118,\"\"),\"\")","v":""},{"$f":"IF(WEEKDAY(U140,2)<=6,IF(CALENDRIER!X7=\"x\",Labels!$B$118,\"\"),\"\")","v":""},{"$f":"IF(WEEKDAY(V140,2)<=6,IF(CALENDRIER!Y7=\"x\",Labels!$B$118,\"\"),\"\")","v":""},{"$f":"IF(WEEKDAY(W140,2)<=6,IF(CALENDRIER!Z7=\"x\",Labels!$B$118,\"\"),\"\")","v":""},{"$f":"IF(WEEKDAY(X140,2)<=6,IF(CALENDRIER!AA7=\"x\",Labels!$B$118,\"\"),\"\")","v":""},{"$f":"IF(WEEKDAY(Y140,2)<=6,IF(CALENDRIER!AB7=\"x\",Labels!$B$118,\"\"),\"\")","v":""},{"$f":"IF(WEEKDAY(Z140,2)<=6,IF(CALENDRIER!AC7=\"x\",Labels!$B$118,\"\"),\"\")","v":""},{"$f":"IF(WEEKDAY(AA140,2)<=6,IF(CALENDRIER!AD7=\"x\",Labels!$B$118,\"\"),\"\")","v":""},{"$f":"IF(WEEKDAY(AB140,2)<=6,IF(CALENDRIER!AE7=\"x\",Labels!$B$118,\"\"),\"\")","v":""},{"$f":"IF(WEEKDAY(AC140,2)<=6,IF(CALENDRIER!AF7=\"x\",Labels!$B$118,\"\"),\"\")","v":""},{"$f":"IF(WEEKDAY(AD140,2)<=6,IF(CALENDRIER!AG7=\"x\",Labels!$B$118,\"\"),\"\")","v":""},{"$f":"IF(WEEKDAY(AE140,2)<=6,IF(CALENDRIER!AH7=\"x\",Labels!$B$118,\"\"),\"\")","v":""},{"$f":"IF(WEEKDAY(AF140,2)<=6,IF(CALENDRIER!AI7=\"x\",Labels!$B$118,\"\"),\"\")","v":""},{"$f":"SUM(B146:AF146)-AG146","v":0},"[03b]"]
[{"$f":"$A$19","v":"Majoration  \"jf\""},{"$f":"IF(AND(B148=Labels!$B$118,WEEKDAY(B140,2)<6,B$142<>\"\"),$J$7*SUMPRODUCT(($AM$77:$AQ$77=MOD(B140,7))*$AM$67:$AQ$67)%,\"\")","v":""},{"$f":"IF(AND(C148=Labels!$B$118,WEEKDAY(C140,2)<6,C$142<>\"\"),$J$7*SUMPRODUCT(($AM$77:$AQ$77=MOD(C140,7))*$AM$67:$AQ$67)%,\"\")","v":""},{"$f":"IF(AND(D148=Labels!$B$118,WEEKDAY(D140,2)<6,D$142<>\"\"),$J$7*SUMPRODUCT(($AM$77:$AQ$77=MOD(D140,7))*$AM$67:$AQ$67)%,\"\")","v":""},{"$f":"IF(AND(E148=Labels!$B$118,WEEKDAY(E140,2)<6,E$142<>\"\"),$J$7*SUMPRODUCT(($AM$77:$AQ$77=MOD(E140,7))*$AM$67:$AQ$67)%,\"\")","v":""},{"$f":"IF(AND(F148=Labels!$B$118,WEEKDAY(F140,2)<6,F$142<>\"\"),$J$7*SUMPRODUCT(($AM$77:$AQ$77=MOD(F140,7))*$AM$67:$AQ$67)%,\"\")","v":""},{"$f":"IF(AND(G148=Labels!$B$118,WEEKDAY(G140,2)<6,G$142<>\"\"),$J$7*SUMPRODUCT(($AM$77:$AQ$77=MOD(G140,7))*$AM$67:$AQ$67)%,\"\")","v":""},{"$f":"IF(AND(H148=Labels!$B$118,WEEKDAY(H140,2)<6,H$142<>\"\"),$J$7*SUMPRODUCT(($AM$77:$AQ$77=MOD(H140,7))*$AM$67:$AQ$67)%,\"\")","v":""},{"$f":"IF(AND(I148=Labels!$B$118,WEEKDAY(I140,2)<6,I$142<>\"\"),$J$7*SUMPRODUCT(($AM$77:$AQ$77=MOD(I140,7))*$AM$67:$AQ$67)%,\"\")","v":""},{"$f":"IF(AND(J148=Labels!$B$118,WEEKDAY(J140,2)<6,J$142<>\"\"),$J$7*SUMPRODUCT(($AM$77:$AQ$77=MOD(J140,7))*$AM$67:$AQ$67)%,\"\")","v":""},{"$f":"IF(AND(K148=Labels!$B$118,WEEKDAY(K140,2)<6,K$142<>\"\"),$J$7*SUMPRODUCT(($AM$77:$AQ$77=MOD(K140,7))*$AM$67:$AQ$67)%,\"\")","v":""},{"$f":"IF(AND(L148=Labels!$B$118,WEEKDAY(L140,2)<6,L$142<>\"\"),$J$7*SUMPRODUCT(($AM$77:$AQ$77=MOD(L140,7))*$AM$67:$AQ$67)%,\"\")","v":""},{"$f":"IF(AND(M148=Labels!$B$118,WEEKDAY(M140,2)<6,M$142<>\"\"),$J$7*SUMPRODUCT(($AM$77:$AQ$77=MOD(M140,7))*$AM$67:$AQ$67)%,\"\")","v":""},{"$f":"IF(AND(N148=Labels!$B$118,WEEKDAY(N140,2)<6,N$142<>\"\"),$J$7*SUMPRODUCT(($AM$77:$AQ$77=MOD(N140,7))*$AM$67:$AQ$67)%,\"\")","v":""},{"$f":"IF(AND(O148=Labels!$B$118,WEEKDAY(O140,2)<6,O$142<>\"\"),$J$7*SUMPRODUCT(($AM$77:$AQ$77=MOD(O140,7))*$AM$67:$AQ$67)%,\"\")","v":""},{"$f":"IF(AND(P148=Labels!$B$118,WEEKDAY(P140,2)<6,P$142<>\"\"),$J$7*SUMPRODUCT(($AM$77:$AQ$77=MOD(P140,7))*$AM$67:$AQ$67)%,\"\")","v":""},{"$f":"IF(AND(Q148=Labels!$B$118,WEEKDAY(Q140,2)<6,Q$142<>\"\"),$J$7*SUMPRODUCT(($AM$77:$AQ$77=MOD(Q140,7))*$AM$67:$AQ$67)%,\"\")","v":""},{"$f":"IF(AND(R148=Labels!$B$118,WEEKDAY(R140,2)<6,R$142<>\"\"),$J$7*SUMPRODUCT(($AM$77:$AQ$77=MOD(R140,7))*$AM$67:$AQ$67)%,\"\")","v":""},{"$f":"IF(AND(S148=Labels!$B$118,WEEKDAY(S140,2)<6,S$142<>\"\"),$J$7*SUMPRODUCT(($AM$77:$AQ$77=MOD(S140,7))*$AM$67:$AQ$67)%,\"\")","v":""},{"$f":"IF(AND(T148=Labels!$B$118,WEEKDAY(T140,2)<6,T$142<>\"\"),$J$7*SUMPRODUCT(($AM$77:$AQ$77=MOD(T140,7))*$AM$67:$AQ$67)%,\"\")","v":""},{"$f":"IF(AND(U148=Labels!$B$118,WEEKDAY(U140,2)<6,U$142<>\"\"),$J$7*SUMPRODUCT(($AM$77:$AQ$77=MOD(U140,7))*$AM$67:$AQ$67)%,\"\")","v":""},{"$f":"IF(AND(V148=Labels!$B$118,WEEKDAY(V140,2)<6,V$142<>\"\"),$J$7*SUMPRODUCT(($AM$77:$AQ$77=MOD(V140,7))*$AM$67:$AQ$67)%,\"\")","v":""},{"$f":"IF(AND(W148=Labels!$B$118,WEEKDAY(W140,2)<6,W$142<>\"\"),$J$7*SUMPRODUCT(($AM$77:$AQ$77=MOD(W140,7))*$AM$67:$AQ$67)%,\"\")","v":""},{"$f":"IF(AND(X148=Labels!$B$118,WEEKDAY(X140,2)<6,X$142<>\"\"),$J$7*SUMPRODUCT(($AM$77:$AQ$77=MOD(X140,7))*$AM$67:$AQ$67)%,\"\")","v":""},{"$f":"IF(AND(Y148=Labels!$B$118,WEEKDAY(Y140,2)<6,Y$142<>\"\"),$J$7*SUMPRODUCT(($AM$77:$AQ$77=MOD(Y140,7))*$AM$67:$AQ$67)%,\"\")","v":""},{"$f":"IF(AND(Z148=Labels!$B$118,WEEKDAY(Z140,2)<6,Z$142<>\"\"),$J$7*SUMPRODUCT(($AM$77:$AQ$77=MOD(Z140,7))*$AM$67:$AQ$67)%,\"\")","v":""},{"$f":"IF(AND(AA148=Labels!$B$118,WEEKDAY(AA140,2)<6,AA$142<>\"\"),$J$7*SUMPRODUCT(($AM$77:$AQ$77=MOD(AA140,7))*$AM$67:$AQ$67)%,\"\")","v":""},{"$f":"IF(AND(AB148=Labels!$B$118,WEEKDAY(AB140,2)<6,AB$142<>\"\"),$J$7*SUMPRODUCT(($AM$77:$AQ$77=MOD(AB140,7))*$AM$67:$AQ$67)%,\"\")","v":""},{"$f":"IF(AND(AC148=Labels!$B$118,WEEKDAY(AC140,2)<6,AC$142<>\"\"),$J$7*SUMPRODUCT(($AM$77:$AQ$77=MOD(AC140,7))*$AM$67:$AQ$67)%,\"\")","v":""},{"$f":"IF(AND(AD148=Labels!$B$118,WEEKDAY(AD140,2)<6,AD$142<>\"\"),$J$7*SUMPRODUCT(($AM$77:$AQ$77=MOD(AD140,7))*$AM$67:$AQ$67)%,\"\")","v":""},{"$f":"IF(AND(AE148=Labels!$B$118,WEEKDAY(AE140,2)<6,AE$142<>\"\"),$J$7*SUMPRODUCT(($AM$77:$AQ$77=MOD(AE140,7))*$AM$67:$AQ$67)%,\"\")","v":""},{"$f":"IF(AND(AF148=Labels!$B$118,WEEKDAY(AF140,2)<6,AF$142<>\"\"),$J$7*SUMPRODUCT(($AM$77:$AQ$77=MOD(AF140,7))*$AM$67:$AQ$67)%,\"\")","v":""},{"$f":"SUM(B149:AF149)","v":0},"[06]"]
[{"$f":"$A$20","v":"total quotidien"},{"$f":"SUM(B145:B147)","v":0},{"$f":"SUM(C145:C147)","v":0},0,0,0,0,0,0,0,0,0,0,0,0,0,0,0,0,0,0,0,0,0,0,0,0,0,0,0,0,0,null,"TT"]
[{"$f":"$A$21","v":"."},null,null,null,null,null,null,null,null,null,null,null,null,null,null,null,null,null,null,null,null,null,null,null,null,null,null,null,null,null,null,null,null,"R"]
[{"$f":"$A$22","v":"."},null,null,null,null,null,null,null,null,null,null,null,null,null,null,null,null,null,null,null,null,null,null,null,null,null,null,null,null,null,null,null,null,"R"]
[{"$f":"$A$23","v":"transition mois"},{"$f":"IF(WEEKDAY(B140)=1,TEXT(B140-1,\"MMM\"&Labels!B13),\"\")","v":""},null,null,null,null,null,null,null,null,null,null,null,null,null,null,null,null,null,null,null,null,null,null,null,null,null,null,null,null,null,{"$f":"IF(AND(WEEKDAY(AF140)>1,WEEKDAY(AF140)<7),TEXT(DATE($B$5,MONTH(AF140)+1,1),\"MMM\"&Labels!B13),\"\")","v":"avr."},null,"MNT"]
[{"$f":"$A$24","v":"Total hebdomadaire"},{"$f":"IF(WEEKDAY(B140)=7,SUMIF($B76:$AF76,B141,$B85:$AF85)+SUMIF($B141:$AF141,B141,$B150:$AF150)+SUMIF($B206:$AF206,B141,$B215:$AF215),B153)","v":""},{"$f":"IF(WEEKDAY(C140)=7,SUMIF($B76:$AF76,C141,$B85:$AF85)+SUMIF($B141:$AF141,C141,$B150:$AF150)+SUMIF($B206:$AF206,C141,$B215:$AF215),\"\")","v":""},"",0,"","","","","","",0,"","","","","","",0,"","","","","","",0,"","","","","",{"$f":"IF(WEEKDAY(AF140)=7,SUMIF($B76:$AF76,AF141,$B85:$AF85)+SUMIF($B141:$AF141,AF141,$B150:$AF150)+SUMIF($B206:$AF206,AF141,$B215:$AF215),AF153)","v":"avr."},null,"WT"]
[{"$f":"$A$25","v":"Majorations temp. 1)"},{"$f":"IF(B162=\"FALSCH\",\"\",B162)","v":""},{"$f":"IF(C162=\"FALSCH\",\"\",C162)","v":""},"","","","","","","","","","","","","","","","","","","","","","","","","","","","","",{"$f":"SUM(B155:AF155)","v":0},"[07]"]
[{"$f":"$A$26","v":"Majorations temp. 2)"},{"$f":"IF((B145+B147)=0,\"\",SUM(B145,B147))","v":""},{"$f":"IF((C145+C147)=0,\"\",SUM(C145,C147))","v":""},"","","","","","","","","","","","","","","","","","","","","","","","","","","","","",0,"[08]"]
[{"$f":"$A$27","v":"Majorations temp. 3)"},{"$f":"SUM(B158:B161)","v":0},{"$f":"SUM(C158:C161)","v":0},0,0,0,0,0,0,0,0,0,0,0,0,0,0,0,0,0,0,0,0,0,0,0,0,0,0,0,0,0,0,"[09]"]
[{"$f":"$A$28","v":"Dimanche journée"},{"$f":"IF(WEEKDAY(B140)=1,B146,\"\")","v":""},{"$f":"IF(WEEKDAY(C140)=1,C146,\"\")","v":""},"","",0,"","","","","","",0,"","","","","","",0,"","","","","","",0,"","","","","",0,"[09-ST]"]
[{"$f":"$A$29","v":"Dimanche nuit"},{"$f":"IF(WEEKDAY(B140)=1,SUM(B145+B147),\"\")","v":""},{"$f":"IF(WEEKDAY(C140)=1,SUM(C145+C147),\"\")","v":""},"","",0,"","","","","","",0,"","","","","","",0,"","","","","","",0,"","","","","",0,"[09-SN]"]
[{"$f":"$A$30","v":"jf-jomajoration"},{"$f":"IF(B148=Labels!$B$118,B146,\"\")","v":""},{"$f":"IF(C148=Labels!$B$118,C146,\"\")","v":""},{"$f":"IF(D148=Labels!$B$118,D146,\"\")","v":""},{"$f":"IF(E148=Labels!$B$118,E146,\"\")","v":""},{"$f":"IF(F148=Labels!$B$118,F146,\"\")","v":""},{"$f":"IF(G148=Labels!$B$118,G146,\"\")","v":""},{"$f":"IF(H148=Labels!$B$118,H146,\"\")","v":""},{"$f":"IF(I148=Labels!$B$118,I146,\"\")","v":""},{"$f":"IF(J148=Labels!$B$118,J146,\"\")","v":""},{"$f":"IF(K148=Labels!$B$118,K146,\"\")","v":""},{"$f":"IF(L148=Labels!$B$118,L146,\"\")","v":""},{"$f":"IF(M148=Labels!$B$118,M146,\"\")","v":""},{"$f":"IF(N148=Labels!$B$118,N146,\"\")","v":""},{"$f":"IF(O148=Labels!$B$118,O146,\"\")","v":""},{"$f":"IF(P148=Labels!$B$118,P146,\"\")","v":""},{"$f":"IF(Q148=Labels!$B$118,Q146,\"\")","v":""},{"$f":"IF(R148=Labels!$B$118,R146,\"\")","v":""},{"$f":"IF(S148=Labels!$B$118,S146,\"\")","v":""},{"$f":"IF(T148=Labels!$B$118,T146,\"\")","v":""},{"$f":"IF(U148=Labels!$B$118,U146,\"\")","v":""},{"$f":"IF(V148=Labels!$B$118,V146,\"\")","v":""},{"$f":"IF(W148=Labels!$B$118,W146,\"\")","v":""},{"$f":"IF(X148=Labels!$B$118,X146,\"\")","v":""},{"$f":"IF(Y148=Labels!$B$118,Y146,\"\")","v":""},{"$f":"IF(Z148=Labels!$B$118,Z146,\"\")","v":""},{"$f":"IF(AA148=Labels!$B$118,AA146,\"\")","v":""},{"$f":"IF(AB148=Labels!$B$118,AB146,\"\")","v":""},{"$f":"IF(AC148=Labels!$B$118,AC146,\"\")","v":""},{"$f":"IF(AD148=Labels!$B$118,AD146,\"\")","v":""},{"$f":"IF(AE148=Labels!$B$118,AE146,\"\")","v":""},{"$f":"IF(AF148=Labels!$B$118,AF146,\"\")","v":""},0,"[09-FT]"]
[{"$f":"$A$31","v":"jf-numajoration"},{"$f":"IF(B148=Labels!$B$118,SUM(B145,B147),\"\")","v":""},{"$f":"IF(C148=Labels!$B$118,SUM(C145,C147),\"\")","v":""},{"$f":"IF(D148=Labels!$B$118,SUM(D145,D147),\"\")","v":""},{"$f":"IF(E148=Labels!$B$118,SUM(E145,E147),\"\")","v":""},{"$f":"IF(F148=Labels!$B$118,SUM(F145,F147),\"\")","v":""},{"$f":"IF(G148=Labels!$B$118,SUM(G145,G147),\"\")","v":""},{"$f":"IF(H148=Labels!$B$118,SUM(H145,H147),\"\")","v":""},{"$f":"IF(I148=Labels!$B$118,SUM(I145,I147),\"\")","v":""},{"$f":"IF(J148=Labels!$B$118,SUM(J145,J147),\"\")","v":""},{"$f":"IF(K148=Labels!$B$118,SUM(K145,K147),\"\")","v":""},{"$f":"IF(L148=Labels!$B$118,SUM(L145,L147),\"\")","v":""},{"$f":"IF(M148=Labels!$B$118,SUM(M145,M147),\"\")","v":""},{"$f":"IF(N148=Labels!$B$118,SUM(N145,N147),\"\")","v":""},{"$f":"IF(O148=Labels!$B$118,SUM(O145,O147),\"\")","v":""},{"$f":"IF(P148=Labels!$B$118,SUM(P145,P147),\"\")","v":""},{"$f":"IF(Q148=Labels!$B$118,SUM(Q145,Q147),\"\")","v":""},{"$f":"IF(R148=Labels!$B$118,SUM(R145,R147),\"\")","v":""},{"$f":"IF(S148=Labels!$B$118,SUM(S145,S147),\"\")","v":""},{"$f":"IF(T148=Labels!$B$118,SUM(T145,T147),\"\")","v":""},{"$f":"IF(U148=Labels!$B$118,SUM(U145,U147),\"\")","v":""},{"$f":"IF(V148=Labels!$B$118,SUM(V145,V147),\"\")","v":""},{"$f":"IF(W148=Labels!$B$118,SUM(W145,W147),\"\")","v":""},{"$f":"IF(X148=Labels!$B$118,SUM(X145,X147),\"\")","v":""},{"$f":"IF(Y148=Labels!$B$118,SUM(Y145,Y147),\"\")","v":""},{"$f":"IF(Z148=Labels!$B$118,SUM(Z145,Z147),\"\")","v":""},{"$f":"IF(AA148=Labels!$B$118,SUM(AA145,AA147),\"\")","v":""},{"$f":"IF(AB148=Labels!$B$118,SUM(AB145,AB147),\"\")","v":""},{"$f":"IF(AC148=Labels!$B$118,SUM(AC145,AC147),\"\")","v":""},{"$f":"IF(AD148=Labels!$B$118,SUM(AD145,AD147),\"\")","v":""},{"$f":"IF(AE148=Labels!$B$118,SUM(AE145,AE147),\"\")","v":""},{"$f":"IF(AF148=Labels!$B$118,SUM(AF145,AF147),\"\")","v":""},0,"[09-FN]"]
[{"$f":"$A$32","v":"majoration caché (total hebd.)"},{"$f":"IF($B137>=80,IF(OR(ISTEXT(B154),B154=\"\",B154<$B$7),\"\",ROUND(((B154-$B$7)*25%)/25,4)*25),IF(B150>($B$7/5),ROUND(((B150-($B$7/5))*25%)/25,4)*25,\"\"))","v":""},{"$f":"IF($B137>=80,IF(OR(ISTEXT(C154),C154=\"\",C154<$B$7),\"\",ROUND(((C154-$B$7)*25%)/25,4)*25),IF(C150>($B$7/5),ROUND(((C150-($B$7/5))*25%)/25,4)*25,\"\"))","v":""},"","","","","","","","","","","","","","","","","","","","","","","","","","","","","",{"$f":"AG146","v":0},"[03]"]
[null,{"$f":"$B$33","v":"1)  25% majoration temporelle pour depassement les heures maximales"},null,null,null,null,null,null,null,null,null,{"$f":"$L$33","v":"2) 100% majoration temporelle pour travail de nuit"},null,null,null,null,null,null,null,{"$f":"$T$33","v":"Saisie des heures payées l'année passée"},null,null,null,null,null,null,null,null,null,null,null,null,{"$f":"SUM(AG145+AG147)","v":0},"[4-5]"]
[null,{"$f":"$B$34","v":"3) 100% majoration temporelle pour travail du dimanche et jour férié"},null,null,null,null,null,null,null,null,null,null,null,null,null,null,null,null,null,{"$f":"$T$34","v":"Saisie des heures payées exercice en cours (heures supplémentaires)"},null,null,null,null,null,null,null,null,null,null,null,null,{"$f":"SUM(AG145:AG147)","v":0},"[3-5]"]
[{"$f":"$A$35","v":"Notes"},null,null,null,null,null,null,null,null,null,null,null,null,null,null,null,null,null,null,null,null,null,null,null,null,null,null,null,null,null,null,null,{"$f":"SUM(AG143:AG157)","v":0},"[10]"]
[null,null,null,null,null,null,null,null,null,null,null,null,null,null,null,null,null,null,null,null,null,null,null,null,null,null,null,null,null,null,null,null,{"$f":"AG142","v":184},"[00]"]
[{"$f":"IF(AG879=0,\"\",\"effektives Pensum:  \"&ROUND(COUNT(B142:AF142)/(AG879+COUNT(B142:AF142))%*B137%*20,0)/20&\" %\")","v":""},null,null,null,null,null,null,null,null,null,null,null,null,null,null,null,null,null,null,null,null,null,null,null,null,null,null,null,null,null,null,null,{"$f":"SUM(AG165-AG166)","v":-184},"[11]"]
[]
[{"$f":"Labels!$B$103","v":"Résumé"},null,null,null,null,null,{"$f":"Labels!$B$77","v":"Jan"},null,{"$f":"Labels!$B$78","v":"Fév"},null,{"$f":"Labels!$B$79","v":"Mar"},null,{"$f":"Labels!$B$80","v":"Avr"},null,{"$f":"Labels!$B$81","v":"Mai"},null,{"$f":"Labels!$B$82","v":"Jun"},null,{"$f":"Labels!$B$83","v":"Jul"},null,{"$f":"Labels!$B$84","v":"Aoû"},null,{"$f":"Labels!$B$85","v":"Sep"},null,{"$f":"Labels!$B$86","v":"Oct"},null,{"$f":"Labels!$B$87","v":"Nov"},null,{"$f":"Labels!$B$88","v":"Déc"},null,{"$f":"Labels!$B$101","v":"Année"}]
[{"$f":"Labels!$B$20","v":"Emploi %"},null,null,null,null,null,{"$f":"IF($B$4=0,0,$B$4)","v":100},null,{"$f":"IF($B$72=0,0,$B$72)","v":100},null,{"$f":"IF($B$137=0,0,$B$137)","v":100},null,{"$f":"IF($B$202=0,0,$B$202)","v":100},null,{"$f":"IF($B$267=0,0,$B$267)","v":100},null,{"$f":"IF($B$332=0,0,$B$332)","v":100},null,{"$f":"IF($B$397=0,0,$B$397)","v":100},null,{"$f":"IF($B$462=0,0,$B$462)","v":100},null,{"$f":"IF($B$527=0,0,$B$527)","v":100},null,{"$f":"IF($B$592=0,0,$B$592)","v":100},null,{"$f":"IF($B$657=0,0,$B$657)","v":100},null,{"$f":"IF($B$722=0,0,$B$722)","v":100}]
[{"$f":"Labels!$B$104","v":"Heures théoriques selon CCT"},null,null,null,null,null,{"$f":"IF($AG$36=0,0,$AG$36)","v":176},null,{"$f":"IF($AG$101=0,0,$AG$101)","v":160},null,{"$f":"IF($AG$142=0,0,$AG$142)","v":184},null,{"$f":"IF($AG$231=0,0,$AG$231)","v":160},null,{"$f":"IF($AG$296=0,0,$AG$296)","v":184},null,{"$f":"IF($AG$361=0,0,$AG$361)","v":176},null,{"$f":"IF($AG$426=0,0,$AG$426)","v":168},null,{"$f":"IF($AG$491=0,0,$AG$491)","v":184},null,{"$f":"IF($AG$556=0,0,$AG$556)","v":168},null,{"$f":"IF($AG$621=0,0,$AG$621)","v":176},null,{"$f":"IF($AG$686=0,0,$AG$686)","v":176},null,{"$f":"IF($AG$751=0,0,$AG$751)","v":168},null,{"$f":"SUM(G171:AD171)","v":2080}]
[{"$f":"Labels!$B$105","v":"Total heures productives"},{"$f":"Labels!$B$106","v":"06.00 - 20.00 h"},null,null,null,null,{"$f":"IF($AG$32=0,0,$AG$32)","v":0},null,{"$f":"IF($AG$97=0,0,$AG$97)","v":0},null,{"$f":"IF($AG$162=0,0,$AG$162)","v":0},null,{"$f":"IF($AG$227=0,0,$AG$227)","v":0},null,{"$f":"IF($AG$292=0,0,$AG$292)","v":0},null,{"$f":"IF($AG$357=0,0,$AG$357)","v":0},null,{"$f":"IF($AG$422=0,0,$AG$422)","v":0},null,{"$f":"IF($AG$487=0,0,$AG$487)","v":0},null,{"$f":"IF($AG$552=0,0,$AG$552)","v":0},null,{"$f":"IF($AG$617=0,0,$AG$617)","v":0},null,{"$f":"IF($AG$682=0,0,$AG$682)","v":0},null,{"$f":"IF($AG$747=0,0,$AG$747)","v":0},null,{"$f":"SUM(G172:AD172)","v":0}]
[null,{"$f":"Labels!$B$107","v":"nuit, dimanche et jour férié"},null,null,null,null,{"$f":"IF(AND($AG$33=0,$AG$18=0),0,$AG$33+$AG$18)","v":0},null,{"$f":"IF(AND($AG$98=0,$AG$83=0),0,$AG$98+$AG$83)","v":0},null,{"$f":"IF(AND($AG$163=0,$AG$148=0),0,$AG$163+$AG$148)","v":0},null,{"$f":"IF(AND($AG$228=0,$AG$213=0),0,$AG$228+$AG$213)","v":0},null,{"$f":"IF(AND($AG$293=0,$AG$278=0),0,$AG$293+$AG$278)","v":0},null,{"$f":"IF(AND($AG$358=0,$AG$343=0),0,$AG$358+$AG$343)","v":0},null,{"$f":"IF(AND($AG$423=0,$AG$408=0),0,$AG$423+$AG$408)","v":0},null,{"$f":"IF(AND($AG$488=0,$AG$473=0),0,$AG$488+$AG$473)","v":0},null,{"$f":"IF(AND($AG$553=0,$AG$538=0),0,$AG$553+$AG$538)","v":0},null,{"$f":"IF(AND($AG$618=0,$AG$603=0),0,$AG$618+$AG$603)","v":0},null,{"$f":"IF(AND($AG$683=0,$AG$668=0),0,$AG$683+$AG$668)","v":0},null,{"$f":"IF(AND($AG$748=0,$AG$733=0),0,$AG$748+$AG$733)","v":0},null,{"$f":"SUM(G173:AD173)","v":0}]
[{"$f":"Labels!$B$108","v":"Majorations temporelles"},{"$f":"Labels!$B$109","v":"depassement des heures maximales"},null,null,null,null,{"$f":"IF($AG$25=0,0,$AG$25)","v":0},null,{"$f":"IF($AG$90=0,0,$AG$90)","v":0},null,{"$f":"IF($AG$155=0,0,$AG$155)","v":0},null,{"$f":"IF($AG$220=0,0,$AG$220)","v":0},null,{"$f":"IF($AG$285=0,0,$AG$285)","v":0},null,{"$f":"IF($AG$350=0,0,$AG$350)","v":0},null,{"$f":"IF($AG$415=0,0,$AG$415)","v":0},null,{"$f":"IF($AG$480=0,0,$AG$480)","v":0},null,{"$f":"IF($AG$545=0,0,$AG$545)","v":0},null,{"$f":"IF($AG$610=0,0,$AG$610)","v":0},null,{"$f":"IF($AG$675=0,0,$AG$675)","v":0},null,{"$f":"IF($AG$740=0,0,$AG$740)","v":0},null,{"$f":"SUM(G174:AD174)","v":0}]
[null,{"$f":"Labels!$B$110","v":"nuit, dimanche et jour férié"},null,null,null,null,{"$f":"IF($AJ$23=0,0,$AJ$23)","v":0},null,{"$f":"IF($AK$23=0,0,$AK$23)","v":0},null,{"$f":"IF($AL$23=0,0,$AL$23)","v":0},null,{"$f":"IF($AM$23=0,0,$AM$23)","v":0},null,{"$f":"IF($AN$23=0,0,$AN$23)","v":0},null,{"$f":"IF($AO$23=0,0,$AO$23)","v":0},null,{"$f":"IF($AP$23=0,0,$AP$23)","v":0},null,{"$f":"IF($AQ$23=0,0,$AQ$23)","v":0},null,{"$f":"IF($AR$23=0,0,$AR$23)","v":0},null,{"$f":"IF($AS$23=0,0,$AS$23)","v":0},null,{"$f":"IF($AT$23=0,0,$AT$23)","v":0},null,{"$f":"IF($AU$23=0,0,$AU$23)","v":0},null,{"$f":"SUM(G175:AD175)","v":0}]
[{"$f":"Labels!$B$111","v":"Heures inproductives"}]
[{"$f":"Labels!$B$112","v":"   Absences art. 11 CCT"},null,null,null,null,{"$f":"Labels!$B$113","v":"ab"},{"$f":"IF($AJ$3=0,0,$AJ$3)","v":0},null,{"$f":"IF($AK$3=0,0,$AK$3)","v":0},null,{"$f":"IF($AL$3=0,0,$AL$3)","v":0},null,{"$f":"IF($AM$3=0,0,$AM$3)","v":0},null,{"$f":"IF($AN$3=0,0,$AN$3)","v":0},null,{"$f":"IF($AO$3=0,0,$AO$3)","v":0},null,{"$f":"IF($AP$3=0,0,$AP$3)","v":0},null,{"$f":"IF($AQ$3=0,0,$AQ$3)","v":0},null,{"$f":"IF($AR$3=0,0,$AR$3)","v":0},null,{"$f":"IF($AS$3=0,0,$AS$3)","v":0},null,{"$f":"IF(AT$3=0,0,$AT$3)","v":0},null,{"$f":"IF($AU$3=0,0,$AU$3)","v":0},null,{"$f":"IF($AV$3=0,0,$AV$3)","v":0}]
[{"$f":"Labels!$B$114","v":"   Vacances art. 12.1 CCT"},null,null,null,null,{"$f":"Labels!$B$115","v":"va"},{"$f":"IF($AJ$4=0,0,$AJ$4)","v":0},null,{"$f":"IF($AK$4=0,0,$AK$4)","v":0},null,{"$f":"IF($AL$4=0,0,$AL$4)","v":0},null,{"$f":"IF($AM$4=0,0,$AM$4)","v":0},null,{"$f":"IF($AN$4=0,0,$AN$4)","v":0},null,{"$f":"IF($AO$4=0,0,$AO$4)","v":0},null,{"$f":"IF($AP$4=0,0,$AP$4)","v":0},null,{"$f":"IF($AQ$4=0,0,$AQ$4)","v":0},null,{"$f":"IF($AR$4=0,0,$AR$4)","v":0},null,{"$f":"IF($AS$4=0,0,$AS$4)","v":0},null,{"$f":"IF($AT$4=0,0,$AT$4)","v":0},null,{"$f":"IF($AU$4=0,0,$AU$4)","v":0},null,{"$f":"IF($AV$4=0,0,$AV$4)","v":0}]
[{"$f":"Labels!$B$181","v":"   vacances non payées"},null,null,null,null,{"$f":"Labels!$B$182","v":"vn"},{"$f":"IF($AJ$13=0,0,$AJ$13)","v":0},null,{"$f":"IF($AK$13=0,0,$AK$13)","v":0},null,{"$f":"IF($AL$13=0,0,$AL$13)","v":0},null,{"$f":"IF($AM$13=0,0,$AM$13)","v":0},null,{"$f":"IF($AN$13=0,0,$AN$13)","v":0},null,{"$f":"IF($AO$13=0,0,$AO$13)","v":0},null,{"$f":"IF($AP$13=0,0,$AP$13)","v":0},null,{"$f":"IF($AQ$13=0,0,$AQ$13)","v":0},null,{"$f":"IF($AR$13=0,0,$AR$13)","v":0},null,{"$f":"IF($AS$13=0,0,$AS$13)","v":0},null,{"$f":"IF($AT$13=0,0,$AT$13)","v":0},null,{"$f":"IF($AU$13=0,0,$AU$13)","v":0},null,{"$f":"IF($AV$13=0,0,$AV$13)","v":0}]
[{"$f":"Labels!$B$116","v":"   Jours fériés art. 12.2 CCT"},null,{"$f":"IF($AJ$20=\"\",\"\",$AJ$20)","v":""},null,null,{"$f":"Labels!$B$118","v":"jf"},{"$f":"IF($AJ$18=0,0,$AJ$18)","v":0},null,{"$f":"IF($AK$18=0,0,$AK$18)","v":0},null,{"$f":"IF($AL$18=0,0,$AL$18)","v":0},null,{"$f":"IF($AM$18=0,0,$AM$18)","v":0},null,{"$f":"IF($AN$18=0,0,$AN$18)","v":0},null,{"$f":"IF($AO$18=0,0,$AO$18)","v":0},null,{"$f":"IF($AP$18=0,0,$AP$18)","v":0},null,{"$f":"IF($AQ$18=0,0,$AQ$18)","v":0},null,{"$f":"IF($AR$18=0,0,$AR$18)","v":0},null,{"$f":"IF($AS$18=0,0,$AS$18)","v":0},null,{"$f":"IF($AT$18=0,0,$AT$18)","v":0},null,{"$f":"IF($AU$18=0,0,$AU$18)","v":0},null,{"$f":"IF($AV$18=0,0,$AV$18)","v":0}]
[{"$f":"Labels!$B$119","v":"   Maladie art. 13 CCT"},null,null,null,null,{"$f":"Labels!$B$120","v":"ma"},{"$f":"IF($AJ$5=0,0,$AJ$5)","v":0},null,{"$f":"IF($AK$5=0,0,$AK$5)","v":0},null,{"$f":"IF($AL$5=0,0,$AL$5)","v":0},null,{"$f":"IF($AM$5=0,0,$AM$5)","v":0},null,{"$f":"IF($AN$5=0,0,$AN$5)","v":0},null,{"$f":"IF($AO$5=0,0,$AO$5)","v":0},null,{"$f":"IF($AP$5=0,0,$AP$5)","v":0},null,{"$f":"IF($AQ$5=0,0,$AQ$5)","v":0},null,{"$f":"IF($AR$5=0,0,$AR$5)","v":0},null,{"$f":"IF($AS$5=0,0,$AS$5)","v":0},null,{"$f":"IF($AT$5=0,0,$AT$5)","v":0},null,{"$f":"IF($AU$5=0,0,$AU$5)","v":0},null,{"$f":"IF($AV$5=0,0,$AV$5)","v":0}]
[{"$f":"Labels!$B$184","v":"non payeé"},null,null,null,null,null,{"$f":"IF(AJ$16=0,0,AJ$16)","v":0},null,{"$f":"IF($AK$16=0,0,$AK$16)","v":0},null,{"$f":"IF($AL$16=0,0,$AL$16)","v":0},null,{"$f":"IF($AM$16=0,0,$AM$16)","v":0},null,{"$f":"IF($AN$16=0,0,$AN$16)","v":0},null,{"$f":"IF($AO$16=0,0,$AO$16)","v":0},null,{"$f":"IF($AP$16=0,0,$AP$16)","v":0},null,{"$f":"IF($AQ$16=0,0,$AQ$16)","v":0},null,{"$f":"IF($AR$16=0,0,$AR$16)","v":0},null,{"$f":"IF($AS$16=0,0,$AS$16)","v":0},null,{"$f":"IF($AT$16=0,0,$AT$16)","v":0},null,{"$f":"IF($AU$16=0,0,$AU$16)","v":0},null,{"$f":"IF($AV$16=0,0,$AV$16)","v":0}]
[{"$f":"Labels!$B$121","v":"   Accident art. 14 CCT"},null,null,null,null,{"$f":"Labels!$B$122","v":"ac"},{"$f":"IF($AJ$6=0,0,$AJ$6)","v":0},null,{"$f":"IF($AK$6=0,0,$AK$6)","v":0},null,{"$f":"IF($AL$6=0,0,$AL$6)","v":0},null,{"$f":"IF($AM$6=0,0,$AM$6)","v":0},null,{"$f":"IF($AN$6=0,0,$AN$6)","v":0},null,{"$f":"IF($AO$6=0,0,$AO$6)","v":0},null,{"$f":"IF($AP$6=0,0,$AP$6)","v":0},null,{"$f":"IF($AQ$6=0,0,$AQ$6)","v":0},null,{"$f":"IF($AR$6=0,0,$AR$6)","v":0},null,{"$f":"IF($AS$6=0,0,$AS$6)","v":0},null,{"$f":"IF($AT$6=0,0,$AT$6)","v":0},null,{"$f":"IF($AU$6=0,0,$AU$6)","v":0},null,{"$f":"IF($AV$6=0,0,$AV$6)","v":0}]
[{"$f":"Labels!$B$123","v":"   Grossesse/Maternité art. 15 CCT"},null,null,null,null,{"$f":"Labels!$B$124","v":"gm"},{"$f":"IF($AJ$7=0,0,$AJ$7)","v":0},null,{"$f":"IF($AK$7=0,0,$AK$7)","v":0},null,{"$f":"IF($AL$7=0,0,$AL$7)","v":0},null,{"$f":"IF($AM$7=0,0,$AM$7)","v":0},null,{"$f":"IF($AN$7=0,0,$AN$7)","v":0},null,{"$f":"IF($AO$7=0,0,$AO$7)","v":0},null,{"$f":"IF($AP$7=0,0,$AP$7)","v":0},null,{"$f":"IF($AQ$7=0,0,$AQ$7)","v":0},null,{"$f":"IF($AR$7=0,0,$AR$7)","v":0},null,{"$f":"IF($AS$7=0,0,$AS$7)","v":0},null,{"$f":"IF($AT$7=0,0,$AT$7)","v":0},null,{"$f":"IF($AU$7=0,0,$AU$7)","v":0},null,{"$f":"IF($AV$7=0,0,$AV$7)","v":0}]
[{"$f":"Labels!$B$125","v":"   Militaire/Promotion/Protection civile art. 16 CCT"},null,null,null,null,{"$f":"Labels!$B$126","v":"mi"},{"$f":"IF($AJ$8=0,0,$AJ$8)","v":0},null,{"$f":"IF($AK$8=0,0,$AK$8)","v":0},null,{"$f":"IF($AL$8=0,0,$AL$8)","v":0},null,{"$f":"IF($AM$8=0,0,$AM$8)","v":0},null,{"$f":"IF($AN$8=0,0,$AN$8)","v":0},null,{"$f":"IF($AO$8=0,0,$AO$8)","v":0},null,{"$f":"IF($AP$8=0,0,$AP$8)","v":0},null,{"$f":"IF($AQ$8=0,0,$AQ$8)","v":0},null,{"$f":"IF($AR$8=0,0,$AR$8)","v":0},null,{"$f":"IF($AS$8=0,0,$AS$8)","v":0},null,{"$f":"IF($AT$8=0,0,$AT$8)","v":0},null,{"$f":"IF($AU$8=0,0,$AU$8)","v":0},null,{"$f":"IF($AV$8=0,0,$AV$8)","v":0}]
[{"$f":"Labels!$B$127","v":"   Chômage partiel et perte de travail cause d'intempéries"},null,null,null,null,{"$f":"Labels!$B$128","v":"ch"},{"$f":"IF($AJ$11=0,0,$AJ$11)","v":0},null,{"$f":"IF($AK$11=0,0,$AK$11)","v":0},null,{"$f":"IF($AL$11=0,0,$AL$11)","v":0},null,{"$f":"IF($AM$11=0,0,$AM$11)","v":0},null,{"$f":"IF($AN$11=0,0,$AN$11)","v":0},null,{"$f":"IF($AO$11=0,0,$AO$11)","v":0},null,{"$f":"IF($AP$11=0,0,$AP$11)","v":0},null,{"$f":"IF($AQ$11=0,0,$AQ$11)","v":0},null,{"$f":"IF($AR$11=0,0,$AR$11)","v":0},null,{"$f":"IF($AS$11=0,0,$AS$11)","v":0},null,{"$f":"IF($AT$11=0,0,$AT$11)","v":0},null,{"$f":"IF($AU$11=0,0,$AU$11)","v":0},null,{"$f":"IF($AV$11=0,0,$AV$11)","v":0}]
[{"$f":"Labels!$B$129","v":"   Ecole professionnelle"},null,null,null,null,{"$f":"Labels!$B$130","v":"ep"},{"$f":"IF($AJ$9=0,0,$AJ$9)","v":0},null,{"$f":"IF($AK$9=0,0,$AK$9)","v":0},null,{"$f":"IF($AL$9=0,0,$AL$9)","v":0},null,{"$f":"IF($AM$9=0,0,$AM$9)","v":0},null,{"$f":"IF($AN$9=0,0,$AN$9)","v":0},null,{"$f":"IF($AO$9=0,0,$AO$9)","v":0},null,{"$f":"IF($AP$9=0,0,$AP$9)","v":0},null,{"$f":"IF($AQ$9=0,0,$AQ$9)","v":0},null,{"$f":"IF($AR$9=0,0,$AR$9)","v":0},null,{"$f":"IF($AS$9=0,0,$AS$9)","v":0},null,{"$f":"IF($AT$9=0,0,$AT$9)","v":0},null,{"$f":"IF($AU$9=0,0,$AU$9)","v":0},null,{"$f":"IF($AV$9=0,0,$AV$9)","v":0}]
[{"$f":"Labels!$B$131","v":"   Cours"},null,null,null,null,{"$f":"Labels!$B$132","v":"co"},{"$f":"IF($AJ$10=0,0,$AJ$10)","v":0},null,{"$f":"IF($AK$10=0,0,$AK$10)","v":0},null,{"$f":"IF($AL$10=0,0,$AL$10)","v":0},null,{"$f":"IF($AM$10=0,0,$AM$10)","v":0},null,{"$f":"IF($AN$10=0,0,$AN$10)","v":0},null,{"$f":"IF($AO$10=0,0,$AO$10)","v":0},null,{"$f":"IF($AP$10=0,0,$AP$10)","v":0},null,{"$f":"IF($AQ$10=0,0,$AQ$10)","v":0},null,{"$f":"IF($AR$10=0,0,$AR$10)","v":0},null,{"$f":"IF($AS$10=0,0,$AS$10)","v":0},null,{"$f":"IF($AT$10=0,0,$AT$10)","v":0},null,{"$f":"IF($AU$10=0,0,$AU$10)","v":0},null,{"$f":"IF($AV$10=0,0,$AV$10)","v":0}]
[{"$f":"Labels!$B$133","v":"Heures de compensation"},{"$f":"Labels!$B$134","v":"de l'année passée"},null,null,null,{"$f":"Labels!$B$135","v":"cp"},{"$f":"IF($AJ$12=0,0,$AJ$12)","v":0},null,{"$f":"IF($AK$12=0,0,$AK$12)","v":0},null,{"$f":"IF($AL$12=0,0,$AL$12)","v":0},null,{"$f":"IF($AM$12=0,0,$AM$12)","v":0},null,{"$f":"IF($AN$12=0,0,$AN$12)","v":0},null,{"$f":"IF($AO$12=0,0,$AO$12)","v":0},null,{"$f":"IF($AP$12=0,0,$AP$12)","v":0},null,{"$f":"IF($AQ$12=0,0,$AQ$12)","v":0},null,{"$f":"IF($AR$12=0,0,$AR$12)","v":0},null,null,null,null,null,null,null,{"$f":"IF($AV$12=0,0,$AV$12)","v":0}]
[null,{"$f":"Labels!$B$136","v":"de l'année en cours (contrôle)"},null,null,null,{"$f":"Labels!$B$137","v":"cc"},{"$f":"IF($AJ$15=0,0,$AJ$15)","v":0},null,{"$f":"IF($AK$15=0,0,$AK$15)","v":0},null,{"$f":"IF($AL$15=0,0,$AL$15)","v":0},null,{"$f":"IF($AM$15=0,0,$AM$15)","v":0},null,{"$f":"IF($AN$15=0,0,$AN$15)","v":0},null,{"$f":"IF($AO$15=0,0,$AO$15)","v":0},null,{"$f":"IF($AP$15=0,0,$AP$15)","v":0},null,{"$f":"IF($AQ$15=0,0,$AQ$15)","v":0},null,{"$f":"IF($AR$15=0,0,$AR$15)","v":0},null,{"$f":"IF($AS$15=0,0,$AS$15)","v":0},null,{"$f":"IF($AT$15=0,0,$AT$15)","v":0},null,{"$f":"IF($AU$15=0,0,$AU$15)","v":0},null,{"$f":"IF($AV$15=0,0,$AV$15)","v":0}]
[{"$f":"Labels!$B$138","v":"Paiement des heures"},{"$f":"Labels!$B$139","v":"de l'année passée"},null,null,null,null,{"$f":"IF($AJ$21=0,0,$AJ$21)","v":0},null,{"$f":"IF($AK$21=0,0,$AK$21)","v":0},null,{"$f":"IF($AL$21=0,0,$AL$21)","v":0},null,{"$f":"IF($AM$21=0,0,$AM$21)","v":0},null,{"$f":"IF($AN$21=0,0,$AN$21)","v":0},null,{"$f":"IF($AO$21=0,0,$AO$21)","v":0},null,{"$f":"IF($AP$21=0,0,$AP$21)","v":0},null,{"$f":"IF($AQ$21=0,0,$AQ$21)","v":0},null,{"$f":"IF($AR$21=0,0,$AR$21)","v":0},null,null,null,null,null,null,null,{"$f":"IF($AV$21=0,0,$AV$21)","v":0}]
[{"$f":"Labels!$B$140","v":"Différence en heures"},{"$f":"Labels!$B$141","v":"après compensation et paiement"},null,null,null,null,{"$f":"IF(ROUND($P$4,3)=0,0,$P$4-G189-G191)","v":0},null,{"$f":"IF(ROUND(G192,3)=0,0,G192-(SUM(I189+I191)))","v":0},null,{"$f":"IF(ROUND(I192,3)=0,0,I192-K191-K189)","v":0},null,{"$f":"IF(ROUND(K192,3)=0,0,K192-(SUM(M191+M189)))","v":0},null,{"$f":"IF(ROUND(M192,3)=0,0,M192-(SUM(O191+O189)))","v":0},null,{"$f":"IF(ROUND(O192,3)=0,0,O192-(SUM(Q191+Q189)))","v":0},null,{"$f":"IF(ROUND(Q192,3)=0,0,Q192-(SUM(S191+S189)))","v":0},null,{"$f":"IF(ROUND(S192,3)=0,0,S192-(SUM(U191+U189)))","v":0},null,{"$f":"IF(ROUND(U192,3)=0,0,U192-(SUM(W191+W189)))","v":0},null,{"$f":"IF($W$62<0.1,\"\",AY174)","v":""}]
[{"$f":"Labels!$B$138","v":"Paiement des heures"},{"$f":"Labels!$B$142","v":"de l'année en cours"},null,null,null,null,{"$f":"IF($AJ$22=0,0,$AJ$22)","v":0},null,{"$f":"IF($AK$22=0,0,$AK$22)","v":0},null,{"$f":"IF($AL$22=0,0,$AL$22)","v":0},null,{"$f":"IF($AM$22=0,0,$AM$22)","v":0},null,{"$f":"IF($AN$22=0,0,$AN$22)","v":0},null,{"$f":"IF($AO$22=0,0,$AO$22)","v":0},null,{"$f":"IF($AP$22=0,0,$AP$22)","v":0},null,{"$f":"IF($AQ$22=0,0,$AQ$22)","v":0},null,{"$f":"IF($AR$22=0,0,$AR$22)","v":0},null,{"$f":"IF($AS$22=0,0,$AS$22)","v":0},null,{"$f":"IF($AT$22=0,0,$AT$22)","v":0},null,{"$f":"IF($AU$22=0,0,$AU$22)","v":0},null,{"$f":"IF($AV$22=0,0,$AV$22)","v":0}]
[{"$f":"Labels!$B$143","v":"Heures manquantes"},{"$f":"Labels!$B$144","v":"de l'année en cours (contrôle)"},null,null,null,{"$f":"Labels!$B$145","v":"hm"},{"$f":"IF($AJ$14=0,0,$AJ$14)","v":0},null,{"$f":"IF($AK$14=0,0,$AK$14)","v":0},null,{"$f":"IF($AL$14=0,0,$AL$14)","v":0},null,{"$f":"IF($AM$14=0,0,$AM$14)","v":0},null,{"$f":"IF($AN$14=0,0,$AN$14)","v":0},null,{"$f":"IF($AO$14=0,0,$AO$14)","v":0},null,{"$f":"IF($AP$14=0,0,$AP$14)","v":0},null,{"$f":"IF($AQ$14=0,0,$AQ$14)","v":0},null,{"$f":"IF($AR$14=0,0,$AR$14)","v":0},null,{"$f":"IF($AS$14=0,0,$AS$14)","v":0},null,{"$f":"IF($AT$14=0,0,$AT$14)","v":0},null,{"$f":"IF($AU$14=0,0,$AU$14)","v":0},null,{"$f":"IF($AV$14=0,0,$AV$14)","v":0}]
[{"$f":"Labels!$B$146","v":"Total (majorations inclus)"},{"$f":"Labels!$B$147","v":"heures productives et inproductives"},null,null,null,null,{"$f":"IF($AG$35=0,0,$AG$35)","v":0},null,{"$f":"IF($AG$100=0,0,$AG$100)","v":0},null,{"$f":"IF($AG$165=0,0,$AG$165)","v":0},null,{"$f":"IF($AG$230=0,0,$AG$230)","v":0},null,{"$f":"IF($AG$295=0,0,$AG$295)","v":0},null,{"$f":"IF($AG$360=0,0,$AG$360)","v":0},null,{"$f":"IF($AG$425=0,0,$AG$425)","v":0},null,{"$f":"IF($AG$490=0,0,$AG$490)","v":0},null,{"$f":"IF($AG$555=0,0,$AG$555)","v":0},null,{"$f":"IF($AG$620=0,0,$AG$620)","v":0},null,{"$f":"IF($AG$685=0,0,$AG$685)","v":0},null,{"$f":"IF($AG$750=0,0,$AG$750)","v":0},null,{"$f":"SUM($G$65:$AD$65)","v":0}]
[{"$f":"Labels!$B$148","v":"Comparaison des heures"},{"$f":"Labels!$B$149","v":"aux heures théorique CCT (heures \nmanquantes de l'année passée incl.)"},null,null,null,null,{"$f":"IF($AG$37=0,0,$AG$37)-$AE$34+$P$5","v":-176},null,{"$f":"IF($AG$102=0,0,$AG$102)-$AE$99","v":-160},null,{"$f":"IF($AG$167=0,0,$AG$167)-$AE$164","v":-184},null,{"$f":"IF($AG$232=0,0,$AG$232)-$AE$229","v":-160},null,{"$f":"IF($AG$297=0,0,$AG$297)-$AE$294","v":-184},null,{"$f":"IF($AG$362=0,0,$AG$362)-$AE$359","v":-176},null,{"$f":"IF($AG$427=0,0,$AG$427)-$AE$424","v":-168},null,{"$f":"IF($AG$492=0,0,$AG$492)-$AE$489","v":-184},null,{"$f":"IF($AG$557=0,0,$AG$557)-$AE$554","v":-168},null,{"$f":"IF($AG$622=0,0,$AG$622)-$AE$619","v":-176},null,{"$f":"IF($AG$687=0,0,$AG$687)-$AE$684","v":-176},null,{"$f":"IF($AG$752=0,0,$AG$752)-$AE$749","v":-168},null,{"$f":"SUM($G$66:$AD$66)","v":-2080}]
[null,{"$f":"Labels!$B$151","v":"aux heures théorique (cumulées)"},null,null,null,null,{"$f":"IF(G170=0,0,$G$66)","v":-176},null,{"$f":"IF(I170=0,0,SUM($G$66:$J$66))","v":-336},null,{"$f":"IF(K170=0,0,SUM($G$66:$L$66))","v":-520},null,{"$f":"IF(M170=0,0,SUM($G$66:$N$66))","v":-680},null,{"$f":"IF(O170=0,0,SUM($G$66:$P$66))","v":-864},null,{"$f":"IF(Q170=0,0,SUM($G$66:$R$66))","v":-1040},null,{"$f":"IF(S170=0,0,SUM($G$66:$T$66))","v":-1208},null,{"$f":"IF(U170=0,0,SUM($G$66:$V$66))","v":-1392},null,{"$f":"IF(W170=0,0,SUM($G$66:$X$66))","v":-1560},null,{"$f":"IF(Y170=0,0,SUM($G$66:$Z$66))","v":-1736},null,{"$f":"IF(AA170=0,0,SUM($G$66:$AB$66))","v":-1912},null,{"$f":"IF(AC170=0,0,SUM($G$66:$AD$66))","v":-2080}]
[{"$f":"Labels!$B$153","v":"Vacances (contrôle)"},{"$f":"Labels!$B$154","v":"Vacances année passée"},null,null,null,null,{"$f":"IF($AA$4=0,0,$AA$4)","v":0},null,{"$f":"Labels!$B$155","v":"Vacances selon \nart 12.1 CCT"},null,null,null,{"$f":"IF($AA$5=0,0,$AA$5)","v":0},null,{"$f":"Labels!$B$156","v":"Total des vacances"},null,null,null,{"$f":"SUM(G198+M198)","v":0},null,{"$f":"Labels!$B$157","v":"Vacances prises"},null,null,null,{"$f":"IF($AV$4=0,0,$AV$4)","v":0},null,{"$f":"Labels!$B$158","v":"Vacances restantes"},null,null,null,{"$f":"IF(S198=0,0,S198-Y198)","v":0}]
[]
[]
[{"$f":"$A$3","v":"Nom/Prénom"},{"$f":"IF($B$3=\"\",\"\",$B$3)","v":"Modèle Pierre"},null,null,null,null,null,null,null,null,null,null,null,null,null,null,null,null,null,null,null,null,null,null,null,null,null,null,null,null,null,{"$f":"AF3","v":0}]
[{"$f":"$A$4","v":"Emploi %"},{"$f":"$AL$51","v":100},null,{"$f":"Labels!B92","v":"en avril"}]
[{"$f":"$A$5","v":"Solde année en cours"},null,null,{"$f":"IF($AE$66=0,0,$AE$66)","v":-2080}]
[{"$f":"TEXT(DATE(YEAR(AP29),MONTH(AP29)+3,1),\"MMMM\"&Labels!B13)","v":"avril"},{"$f":"$B$9","v":"Solde mois + / -"},null,null,null,{"$f":"(AG207-(SUM(AG208:AG222)-AE229))*-1","v":-160},null,null,null,null,{"$f":"$K$9","v":" = "},{"$f":"$L$9","v":"Les cases marquées en jaune doivent être remplies (les autres seront calculées automatiquement)"},null,null,null,null,null,null,null,null,null,null,null,null,null,null,null,null,null,null,null,null,{"$f":"COUNT(B207:AF207)&\" \"&Labels!$B$63","v":"20 Jours"}]
[{"$f":"$A$10","v":"Jour"},{"$f":"AF140+1","v":"2023-04-01"},{"$f":"B205+1","v":"2023-04-02"},{"$f":"C205+1","v":"2023-04-03"},"2023-04-04","2023-04-05","2023-04-06","2023-04-07","2023-04-08","2023-04-09","2023-04-10","2023-04-11","2023-04-12","2023-04-13","2023-04-14","2023-04-15","2023-04-16","2023-04-17","2023-04-18","2023-04-19","2023-04-20","2023-04-21","2023-04-22","2023-04-23","2023-04-24","2023-04-25","2023-04-26","2023-04-27","2023-04-28","2023-04-29","2023-04-30"]
[{"$f":"$A$11","v":"semaine civile"},{"$f":"IF(B205=\"\",\"\",TRUNC((B205-DATE(YEAR(B205+3-MOD(B205-2,7)),1,MOD(B205-2,7)-9))/7))","v":13},13,14,14,14,14,14,14,14,15,15,15,15,15,15,15,16,16,16,16,16,16,16,17,17,17,17,17,17,17,"",null,"Woche"]
[{"$f":"$A$12","v":"Théorique sel. CCT"},{"$f":"IF(AND(MOD(B205,7)>=2,SUMPRODUCT(($AM$60:$AQ$60=MOD(B205,7))*$AM$51:$AQ$51),B904=\"\"),$J$7*SUMPRODUCT(($AM$77:$AQ$77=MOD(B205,7))*$AM$68:$AQ$68)%,\"\")","v":""},{"$f":"IF(AND(MOD(C205,7)>=2,SUMPRODUCT(($AM$60:$AQ$60=MOD(C205,7))*$AM$51:$AQ$51),C904=\"\"),$J$7*SUMPRODUCT(($AM$77:$AQ$77=MOD(C205,7))*$AM$68:$AQ$68)%,\"\")","v":""},{"$f":"IF(AND(MOD(D205,7)>=2,SUMPRODUCT(($AM$60:$AQ$60=MOD(D205,7))*$AM$51:$AQ$51),D904=\"\"),$J$7*SUMPRODUCT(($AM$77:$AQ$77=MOD(D205,7))*$AM$68:$AQ$68)%,\"\")","v":8},{"$f":"IF(AND(MOD(E205,7)>=2,SUMPRODUCT(($AM$60:$AQ$60=MOD(E205,7))*$AM$51:$AQ$51),E904=\"\"),$J$7*SUMPRODUCT(($AM$77:$AQ$77=MOD(E205,7))*$AM$68:$AQ$68)%,\"\")","v":8},{"$f":"IF(AND(MOD(F205,7)>=2,SUMPRODUCT(($AM$60:$AQ$60=MOD(F205,7))*$AM$51:$AQ$51),F904=\"\"),$J$7*SUMPRODUCT(($AM$77:$AQ$77=MOD(F205,7))*$AM$68:$AQ$68)%,\"\")","v":8},{"$f":"IF(AND(MOD(G205,7)>=2,SUMPRODUCT(($AM$60:$AQ$60=MOD(G205,7))*$AM$51:$AQ$51),G904=\"\"),$J$7*SUMPRODUCT(($AM$77:$AQ$77=MOD(G205,7))*$AM$68:$AQ$68)%,\"\")","v":8},{"$f":"IF(AND(MOD(H205,7)>=2,SUMPRODUCT(($AM$60:$AQ$60=MOD(H205,7))*$AM$51:$AQ$51),H904=\"\"),$J$7*SUMPRODUCT(($AM$77:$AQ$77=MOD(H205,7))*$AM$68:$AQ$68)%,\"\")","v":8},{"$f":"IF(AND(MOD(I205,7)>=2,SUMPRODUCT(($AM$60:$AQ$60=MOD(I205,7))*$AM$51:$AQ$51),I904=\"\"),$J$7*SUMPRODUCT(($AM$77:$AQ$77=MOD(I205,7))*$AM$68:$AQ$68)%,\"\")","v":""},{"$f":"IF(AND(MOD(J205,7)>=2,SUMPRODUCT(($AM$60:$AQ$60=MOD(J205,7))*$AM$51:$AQ$51),J904=\"\"),$J$7*SUMPRODUCT(($AM$77:$AQ$77=MOD(J205,7))*$AM$68:$AQ$68)%,\"\")","v":""},{"$f":"IF(AND(MOD(K205,7)>=2,SUMPRODUCT(($AM$60:$AQ$60=MOD(K205,7))*$AM$51:$AQ$51),K904=\"\"),$J$7*SUMPRODUCT(($AM$77:$AQ$77=MOD(K205,7))*$AM$68:$AQ$68)%,\"\")","v":8},{"$f":"IF(AND(MOD(L205,7)>=2,SUMPRODUCT(($AM$60:$AQ$60=MOD(L205,7))*$AM$51:$AQ$51),L904=\"\"),$J$7*SUMPRODUCT(($AM$77:$AQ$77=MOD(L205,7))*$AM$68:$AQ$68)%,\"\")","v":8},{"$f":"IF(AND(MOD(M205,7)>=2,SUMPRODUCT(($AM$60:$AQ$60=MOD(M205,7))*$AM$51:$AQ$51),M904=\"\"),$J$7*SUMPRODUCT(($AM$77:$AQ$77=MOD(M205,7))*$AM$68:$AQ$68)%,\"\")","v":8},{"$f":"IF(AND(MOD(N205,7)>=2,SUMPRODUCT(($AM$60:$AQ$60=MOD(N205,7))*$AM$51:$AQ$51),N904=\"\"),$J$7*SUMPRODUCT(($AM$77:$AQ$77=MOD(N205,7))*$AM$68:$AQ$68)%,\"\")","v":8},{"$f":"IF(AND(MOD(O205,7)>=2,SUMPRODUCT(($AM$60:$AQ$60=MOD(O205,7))*$AM$51:$AQ$51),O904=\"\"),$J$7*SUMPRODUCT(($AM$77:$AQ$77=MOD(O205,7))*$AM$68:$AQ$68)%,\"\")","v":8},{"$f":"IF(AND(MOD(P205,7)>=2,SUMPRODUCT(($AM$60:$AQ$60=MOD(P205,7))*$AM$51:$AQ$51),P904=\"\"),$J$7*SUMPRODUCT(($AM$77:$AQ$77=MOD(P205,7))*$AM$68:$AQ$68)%,\"\")","v":""},{"$f":"IF(AND(MOD(Q205,7)>=2,SUMPRODUCT(($AM$60:$AQ$60=MOD(Q205,7))*$AM$51:$AQ$51),Q904=\"\"),$J$7*SUMPRODUCT(($AM$77:$AQ$77=MOD(Q205,7))*$AM$68:$AQ$68)%,\"\")","v":""},{"$f":"IF(AND(MOD(R205,7)>=2,SUMPRODUCT(($AM$60:$AQ$60=MOD(R205,7))*$AM$51:$AQ$51),R904=\"\"),$J$7*SUMPRODUCT(($AM$77:$AQ$77=MOD(R205,7))*$AM$68:$AQ$68)%,\"\")","v":8},{"$f":"IF(AND(MOD(S205,7)>=2,SUMPRODUCT(($AM$60:$AQ$60=MOD(S205,7))*$AM$51:$AQ$51),S904=\"\"),$J$7*SUMPRODUCT(($AM$77:$AQ$77=MOD(S205,7))*$AM$68:$AQ$68)%,\"\")","v":8},{"$f":"IF(AND(MOD(T205,7)>=2,SUMPRODUCT(($AM$60:$AQ$60=MOD(T205,7))*$AM$51:$AQ$51),T904=\"\"),$J$7*SUMPRODUCT(($AM$77:$AQ$77=MOD(T205,7))*$AM$68:$AQ$68)%,\"\")","v":8},{"$f":"IF(AND(MOD(U205,7)>=2,SUMPRODUCT(($AM$60:$AQ$60=MOD(U205,7))*$AM$51:$AQ$51),U904=\"\"),$J$7*SUMPRODUCT(($AM$77:$AQ$77=MOD(U205,7))*$AM$68:$AQ$68)%,\"\")","v":8},{"$f":"IF(AND(MOD(V205,7)>=2,SUMPRODUCT(($AM$60:$AQ$60=MOD(V205,7))*$AM$51:$AQ$51),V904=\"\"),$J$7*SUMPRODUCT(($AM$77:$AQ$77=MOD(V205,7))*$AM$68:$AQ$68)%,\"\")","v":8},{"$f":"IF(AND(MOD(W205,7)>=2,SUMPRODUCT(($AM$60:$AQ$60=MOD(W205,7))*$AM$51:$AQ$51),W904=\"\"),$J$7*SUMPRODUCT(($AM$77:$AQ$77=MOD(W205,7))*$AM$68:$AQ$68)%,\"\")","v":""},{"$f":"IF(AND(MOD(X205,7)>=2,SUMPRODUCT(($AM$60:$AQ$60=MOD(X205,7))*$AM$51:$AQ$51),X904=\"\"),$J$7*SUMPRODUCT(($AM$77:$AQ$77=MOD(X205,7))*$AM$68:$AQ$68)%,\"\")","v":""},{"$f":"IF(AND(MOD(Y205,7)>=2,SUMPRODUCT(($AM$60:$AQ$60=MOD(Y205,7))*$AM$51:$AQ$51),Y904=\"\"),$J$7*SUMPRODUCT(($AM$77:$AQ$77=MOD(Y205,7))*$AM$68:$AQ$68)%,\"\")","v":8},{"$f":"IF(AND(MOD(Z205,7)>=2,SUMPRODUCT(($AM$60:$AQ$60=MOD(Z205,7))*$AM$51:$AQ$51),Z904=\"\"),$J$7*SUMPRODUCT(($AM$77:$AQ$77=MOD(Z205,7))*$AM$68:$AQ$68)%,\"\")","v":8},{"$f":"IF(AND(MOD(AA205,7)>=2,SUMPRODUCT(($AM$60:$AQ$60=MOD(AA205,7))*$AM$51:$AQ$51),AA904=\"\"),$J$7*SUMPRODUCT(($AM$77:$AQ$77=MOD(AA205,7))*$AM$68:$AQ$68)%,\"\")","v":8},{"$f":"IF(AND(MOD(AB205,7)>=2,SUMPRODUCT(($AM$60:$AQ$60=MOD(AB205,7))*$AM$51:$AQ$51),AB904=\"\"),$J$7*SUMPRODUCT(($AM$77:$AQ$77=MOD(AB205,7))*$AM$68:$AQ$68)%,\"\")","v":8},{"$f":"IF(AND(MOD(AC205,7)>=2,SUMPRODUCT(($AM$60:$AQ$60=MOD(AC205,7))*$AM$51:$AQ$51),AC904=\"\"),$J$7*SUMPRODUCT(($AM$77:$AQ$77=MOD(AC205,7))*$AM$68:$AQ$68)%,\"\")","v":8},{"$f":"IF(AND(MOD(AD205,7)>=2,SUMPRODUCT(($AM$60:$AQ$60=MOD(AD205,7))*$AM$51:$AQ$51),AD904=\"\"),$J$7*SUMPRODUCT(($AM$77:$AQ$77=MOD(AD205,7))*$AM$68:$AQ$68)%,\"\")","v":""},{"$f":"IF(AND(MOD(AE205,7)>=2,SUMPRODUCT(($AM$60:$AQ$60=MOD(AE205,7))*$AM$51:$AQ$51),AE904=\"\"),$J$7*SUMPRODUCT(($AM$77:$AQ$77=MOD(AE205,7))*$AM$68:$AQ$68)%,\"\")","v":""},null,{"$f":"SUM(B207:AF207)","v":160},"[00]"]
[{"$f":"$A$13","v":"Absences"},{"$f":"B920","v":0},{"$f":"C920","v":0},0,0,0,0,0,0,0,0,0,0,0,0,0,0,0,0,0,0,0,0,0,0,0,0,0,0,0,0,null,{"$f":"SUM($AM$3:$AM$13)","v":0},"[01]"]
[{"$f":"$A$14","v":"Code"},{"$f":"IF(SUM(B907:B919)<>0,IF(MAX(B907:B919)<B920,Labels!$B$163,INDEX($AH$907:$AH$919,MATCH(MAX(B907:B919),B907:B919,0))),\"\")","v":""},{"$f":"IF(SUM(C907:C919)<>0,IF(MAX(C907:C919)<C920,Labels!$B$163,INDEX($AH$907:$AH$919,MATCH(MAX(C907:C919),C907:C919,0))),\"\")","v":""},{"$f":"IF(SUM(D907:D919)<>0,IF(MAX(D907:D919)<D920,Labels!$B$163,INDEX($AH$907:$AH$919,MATCH(MAX(D907:D919),D907:D919,0))),\"\")","v":""},{"$f":"IF(SUM(E907:E919)<>0,IF(MAX(E907:E919)<E920,Labels!$B$163,INDEX($AH$907:$AH$919,MATCH(MAX(E907:E919),E907:E919,0))),\"\")","v":""},{"$f":"IF(SUM(F907:F919)<>0,IF(MAX(F907:F919)<F920,Labels!$B$163,INDEX($AH$907:$AH$919,MATCH(MAX(F907:F919),F907:F919,0))),\"\")","v":""},{"$f":"IF(SUM(G907:G919)<>0,IF(MAX(G907:G919)<G920,Labels!$B$163,INDEX($AH$907:$AH$919,MATCH(MAX(G907:G919),G907:G919,0))),\"\")","v":""},{"$f":"IF(SUM(H907:H919)<>0,IF(MAX(H907:H919)<H920,Labels!$B$163,INDEX($AH$907:$AH$919,MATCH(MAX(H907:H919),H907:H919,0))),\"\")","v":""},{"$f":"IF(SUM(I907:I919)<>0,IF(MAX(I907:I919)<I920,Labels!$B$163,INDEX($AH$907:$AH$919,MATCH(MAX(I907:I919),I907:I919,0))),\"\")","v":""},{"$f":"IF(SUM(J907:J919)<>0,IF(MAX(J907:J919)<J920,Labels!$B$163,INDEX($AH$907:$AH$919,MATCH(MAX(J907:J919),J907:J919,0))),\"\")","v":""},{"$f":"IF(SUM(K907:K919)<>0,IF(MAX(K907:K919)<K920,Labels!$B$163,INDEX($AH$907:$AH$919,MATCH(MAX(K907:K919),K907:K919,0))),\"\")","v":""},{"$f":"IF(SUM(L907:L919)<>0,IF(MAX(L907:L919)<L920,Labels!$B$163,INDEX($AH$907:$AH$919,MATCH(MAX(L907:L919),L907:L919,0))),\"\")","v":""},{"$f":"IF(SUM(M907:M919)<>0,IF(MAX(M907:M919)<M920,Labels!$B$163,INDEX($AH$907:$AH$919,MATCH(MAX(M907:M919),M907:M919,0))),\"\")","v":""},{"$f":"IF(SUM(N907:N919)<>0,IF(MAX(N907:N919)<N920,Labels!$B$163,INDEX($AH$907:$AH$919,MATCH(MAX(N907:N919),N907:N919,0))),\"\")","v":""},{"$f":"IF(SUM(O907:O919)<>0,IF(MAX(O907:O919)<O920,Labels!$B$163,INDEX($AH$907:$AH$919,MATCH(MAX(O907:O919),O907:O919,0))),\"\")","v":""},{"$f":"IF(SUM(P907:P919)<>0,IF(MAX(P907:P919)<P920,Labels!$B$163,INDEX($AH$907:$AH$919,MATCH(MAX(P907:P919),P907:P919,0))),\"\")","v":""},{"$f":"IF(SUM(Q907:Q919)<>0,IF(MAX(Q907:Q919)<Q920,Labels!$B$163,INDEX($AH$907:$AH$919,MATCH(MAX(Q907:Q919),Q907:Q919,0))),\"\")","v":""},{"$f":"IF(SUM(R907:R919)<>0,IF(MAX(R907:R919)<R920,Labels!$B$163,INDEX($AH$907:$AH$919,MATCH(MAX(R907:R919),R907:R919,0))),\"\")","v":""},{"$f":"IF(SUM(S907:S919)<>0,IF(MAX(S907:S919)<S920,Labels!$B$163,INDEX($AH$907:$AH$919,MATCH(MAX(S907:S919),S907:S919,0))),\"\")","v":""},{"$f":"IF(SUM(T907:T919)<>0,IF(MAX(T907:T919)<T920,Labels!$B$163,INDEX($AH$907:$AH$919,MATCH(MAX(T907:T919),T907:T919,0))),\"\")","v":""},{"$f":"IF(SUM(U907:U919)<>0,IF(MAX(U907:U919)<U920,Labels!$B$163,INDEX($AH$907:$AH$919,MATCH(MAX(U907:U919),U907:U919,0))),\"\")","v":""},{"$f":"IF(SUM(V907:V919)<>0,IF(MAX(V907:V919)<V920,Labels!$B$163,INDEX($AH$907:$AH$919,MATCH(MAX(V907:V919),V907:V919,0))),\"\")","v":""},{"$f":"IF(SUM(W907:W919)<>0,IF(MAX(W907:W919)<W920,Labels!$B$163,INDEX($AH$907:$AH$919,MATCH(MAX(W907:W919),W907:W919,0))),\"\")","v":""},{"$f":"IF(SUM(X907:X919)<>0,IF(MAX(X907:X919)<X920,Labels!$B$163,INDEX($AH$907:$AH$919,MATCH(MAX(X907:X919),X907:X919,0))),\"\")","v":""},{"$f":"IF(SUM(Y907:Y919)<>0,IF(MAX(Y907:Y919)<Y920,Labels!$B$163,INDEX($AH$907:$AH$919,MATCH(MAX(Y907:Y919),Y907:Y919,0))),\"\")","v":""},{"$f":"IF(SUM(Z907:Z919)<>0,IF(MAX(Z907:Z919)<Z920,Labels!$B$163,INDEX($AH$907:$AH$919,MATCH(MAX(Z907:Z919),Z907:Z919,0))),\"\")","v":""},{"$f":"IF(SUM(AA907:AA919)<>0,IF(MAX(AA907:AA919)<AA920,Labels!$B$163,INDEX($AH$907:$AH$919,MATCH(MAX(AA907:AA919),AA907:AA919,0))),\"\")","v":""},{"$f":"IF(SUM(AB907:AB919)<>0,IF(MAX(AB907:AB919)<AB920,Labels!$B$163,INDEX($AH$907:$AH$919,MATCH(MAX(AB907:AB919),AB907:AB919,0))),\"\")","v":""},{"$f":"IF(SUM(AC907:AC919)<>0,IF(MAX(AC907:AC919)<AC920,Labels!$B$163,INDEX($AH$907:$AH$919,MATCH(MAX(AC907:AC919),AC907:AC919,0))),\"\")","v":""},{"$f":"IF(SUM(AD907:AD919)<>0,IF(MAX(AD907:AD919)<AD920,Labels!$B$163,INDEX($AH$907:$AH$919,MATCH(MAX(AD907:AD919),AD907:AD919,0))),\"\")","v":""},{"$f":"IF(SUM(AE907:AE919)<>0,IF(MAX(AE907:AE919)<AE920,Labels!$B$163,INDEX($AH$907:$AH$919,MATCH(MAX(AE907:AE919),AE907:AE919,0))),\"\")","v":""},null,{"$f":"$AM$16*-1","v":0},"[02]"]
[{"$f":"$A$15","v":"00h00-06h00 1)"},null,null,null,null,null,null,null,null,null,null,null,null,null,null,null,null,null,null,null,null,null,null,null,null,null,null,null,null,null,null,null,{"$f":"SUM(B210:AF210)","v":0},"[04]"]
[{"$f":"$A$16","v":"06h00-20h00 2)"},null,null,null,null,null,null,null,null,null,null,null,null,null,null,null,null,null,null,null,null,null,null,null,null,null,null,null,null,null,null,null,{"$f":"SUMPRODUCT(B211:AF211*(B207:AF207<>\"\"))-SUMPRODUCT(B211:AF211*(B213:AF213=\"ft\"))","v":0},"[03]"]
[{"$f":"$A$17","v":"20h00-24h00 3)"},null,null,null,null,null,null,null,null,null,null,null,null,null,null,null,null,null,null,null,null,null,null,null,null,null,null,null,null,null,null,null,{"$f":"SUM(B212:AF212)","v":0},"[05]"]
[{"$f":"$A$18","v":"Jours fériés \"jf\""},{"$f":"IF(WEEKDAY(B205,2)<=6,IF(CALENDRIER!E9=\"x\",Labels!$B$118,\"\"),\"\")","v":""},{"$f":"IF(WEEKDAY(C205,2)<=6,IF(CALENDRIER!F9=\"x\",Labels!$B$118,\"\"),\"\")","v":""},{"$f":"IF(WEEKDAY(D205,2)<=6,IF(CALENDRIER!G9=\"x\",Labels!$B$118,\"\"),\"\")","v":""},{"$f":"IF(WEEKDAY(E205,2)<=6,IF(CALENDRIER!H9=\"x\",Labels!$B$118,\"\"),\"\")","v":""},{"$f":"IF(WEEKDAY(F205,2)<=6,IF(CALENDRIER!I9=\"x\",Labels!$B$118,\"\"),\"\")","v":""},{"$f":"IF(WEEKDAY(G205,2)<=6,IF(CALENDRIER!J9=\"x\",Labels!$B$118,\"\"),\"\")","v":""},{"$f":"IF(WEEKDAY(H205,2)<=6,IF(CALENDRIER!K9=\"x\",Labels!$B$118,\"\"),\"\")","v":""},{"$f":"IF(WEEKDAY(I205,2)<=6,IF(CALENDRIER!L9=\"x\",Labels!$B$118,\"\"),\"\")","v":""},{"$f":"IF(WEEKDAY(J205,2)<=6,IF(CALENDRIER!M9=\"x\",Labels!$B$118,\"\"),\"\")","v":""},{"$f":"IF(WEEKDAY(K205,2)<=6,IF(CALENDRIER!N9=\"x\",Labels!$B$118,\"\"),\"\")","v":""},{"$f":"IF(WEEKDAY(L205,2)<=6,IF(CALENDRIER!O9=\"x\",Labels!$B$118,\"\"),\"\")","v":""},{"$f":"IF(WEEKDAY(M205,2)<=6,IF(CALENDRIER!P9=\"x\",Labels!$B$118,\"\"),\"\")","v":""},{"$f":"IF(WEEKDAY(N205,2)<=6,IF(CALENDRIER!Q9=\"x\",Labels!$B$118,\"\"),\"\")","v":""},{"$f":"IF(WEEKDAY(O205,2)<=6,IF(CALENDRIER!R9=\"x\",Labels!$B$118,\"\"),\"\")","v":""},{"$f":"IF(WEEKDAY(P205,2)<=6,IF(CALENDRIER!S9=\"x\",Labels!$B$118,\"\"),\"\")","v":""},{"$f":"IF(WEEKDAY(Q205,2)<=6,IF(CALENDRIER!T9=\"x\",Labels!$B$118,\"\"),\"\")","v":""},{"$f":"IF(WEEKDAY(R205,2)<=6,IF(CALENDRIER!U9=\"x\",Labels!$B$118,\"\"),\"\")","v":""},{"$f":"IF(WEEKDAY(S205,2)<=6,IF(CALENDRIER!V9=\"x\",Labels!$B$118,\"\"),\"\")","v":""},{"$f":"IF(WEEKDAY(T205,2)<=6,IF(CALENDRIER!W9=\"x\",Labels!$B$118,\"\"),\"\")","v":""},{"$f":"IF(WEEKDAY(U205,2)<=6,IF(CALENDRIER!X9=\"x\",Labels!$B$118,\"\"),\"\")","v":""},{"$f":"IF(WEEKDAY(V205,2)<=6,IF(CALENDRIER!Y9=\"x\",Labels!$B$118,\"\"),\"\")","v":""},{"$f":"IF(WEEKDAY(W205,2)<=6,IF(CALENDRIER!Z9=\"x\",Labels!$B$118,\"\"),\"\")","v":""},{"$f":"IF(WEEKDAY(X205,2)<=6,IF(CALENDRIER!AA9=\"x\",Labels!$B$118,\"\"),\"\")","v":""},{"$f":"IF(WEEKDAY(Y205,2)<=6,IF(CALENDRIER!AB9=\"x\",Labels!$B$118,\"\"),\"\")","v":""},{"$f":"IF(WEEKDAY(Z205,2)<=6,IF(CALENDRIER!AC9=\"x\",Labels!$B$118,\"\"),\"\")","v":""},{"$f":"IF(WEEKDAY(AA205,2)<=6,IF(CALENDRIER!AD9=\"x\",Labels!$B$118,\"\"),\"\")","v":""},{"$f":"IF(WEEKDAY(AB205,2)<=6,IF(CALENDRIER!AE9=\"x\",Labels!$B$118,\"\"),\"\")","v":""},{"$f":"IF(WEEKDAY(AC205,2)<=6,IF(CALENDRIER!AF9=\"x\",Labels!$B$118,\"\"),\"\")","v":""},{"$f":"IF(WEEKDAY(AD205,2)<=6,IF(CALENDRIER!AG9=\"x\",Labels!$B$118,\"\"),\"\")","v":""},{"$f":"IF(WEEKDAY(AE205,2)<=6,IF(CALENDRIER!AH9=\"x\",Labels!$B$118,\"\"),\"\")","v":""},null,{"$f":"SUM(B211:AF211)-AG211","v":0},"[03b]"]
[{"$f":"$A$19","v":"Majoration  \"jf\""},{"$f":"IF(AND(B213=Labels!$B$118,WEEKDAY(B205,2)<6,B$207<>\"\"),$J$7*SUMPRODUCT(($AM$77:$AQ$77=MOD(B205,7))*$AM$68:$AQ$68)%,\"\")","v":""},{"$f":"IF(AND(C213=Labels!$B$118,WEEKDAY(C205,2)<6,C$207<>\"\"),$J$7*SUMPRODUCT(($AM$77:$AQ$77=MOD(C205,7))*$AM$68:$AQ$68)%,\"\")","v":""},{"$f":"IF(AND(D213=Labels!$B$118,WEEKDAY(D205,2)<6,D$207<>\"\"),$J$7*SUMPRODUCT(($AM$77:$AQ$77=MOD(D205,7))*$AM$68:$AQ$68)%,\"\")","v":""},{"$f":"IF(AND(E213=Labels!$B$118,WEEKDAY(E205,2)<6,E$207<>\"\"),$J$7*SUMPRODUCT(($AM$77:$AQ$77=MOD(E205,7))*$AM$68:$AQ$68)%,\"\")","v":""},{"$f":"IF(AND(F213=Labels!$B$118,WEEKDAY(F205,2)<6,F$207<>\"\"),$J$7*SUMPRODUCT(($AM$77:$AQ$77=MOD(F205,7))*$AM$68:$AQ$68)%,\"\")","v":""},{"$f":"IF(AND(G213=Labels!$B$118,WEEKDAY(G205,2)<6,G$207<>\"\"),$J$7*SUMPRODUCT(($AM$77:$AQ$77=MOD(G205,7))*$AM$68:$AQ$68)%,\"\")","v":""},{"$f":"IF(AND(H213=Labels!$B$118,WEEKDAY(H205,2)<6,H$207<>\"\"),$J$7*SUMPRODUCT(($AM$77:$AQ$77=MOD(H205,7))*$AM$68:$AQ$68)%,\"\")","v":""},{"$f":"IF(AND(I213=Labels!$B$118,WEEKDAY(I205,2)<6,I$207<>\"\"),$J$7*SUMPRODUCT(($AM$77:$AQ$77=MOD(I205,7))*$AM$68:$AQ$68)%,\"\")","v":""},{"$f":"IF(AND(J213=Labels!$B$118,WEEKDAY(J205,2)<6,J$207<>\"\"),$J$7*SUMPRODUCT(($AM$77:$AQ$77=MOD(J205,7))*$AM$68:$AQ$68)%,\"\")","v":""},{"$f":"IF(AND(K213=Labels!$B$118,WEEKDAY(K205,2)<6,K$207<>\"\"),$J$7*SUMPRODUCT(($AM$77:$AQ$77=MOD(K205,7))*$AM$68:$AQ$68)%,\"\")","v":""},{"$f":"IF(AND(L213=Labels!$B$118,WEEKDAY(L205,2)<6,L$207<>\"\"),$J$7*SUMPRODUCT(($AM$77:$AQ$77=MOD(L205,7))*$AM$68:$AQ$68)%,\"\")","v":""},{"$f":"IF(AND(M213=Labels!$B$118,WEEKDAY(M205,2)<6,M$207<>\"\"),$J$7*SUMPRODUCT(($AM$77:$AQ$77=MOD(M205,7))*$AM$68:$AQ$68)%,\"\")","v":""},{"$f":"IF(AND(N213=Labels!$B$118,WEEKDAY(N205,2)<6,N$207<>\"\"),$J$7*SUMPRODUCT(($AM$77:$AQ$77=MOD(N205,7))*$AM$68:$AQ$68)%,\"\")","v":""},{"$f":"IF(AND(O213=Labels!$B$118,WEEKDAY(O205,2)<6,O$207<>\"\"),$J$7*SUMPRODUCT(($AM$77:$AQ$77=MOD(O205,7))*$AM$68:$AQ$68)%,\"\")","v":""},{"$f":"IF(AND(P213=Labels!$B$118,WEEKDAY(P205,2)<6,P$207<>\"\"),$J$7*SUMPRODUCT(($AM$77:$AQ$77=MOD(P205,7))*$AM$68:$AQ$68)%,\"\")","v":""},{"$f":"IF(AND(Q213=Labels!$B$118,WEEKDAY(Q205,2)<6,Q$207<>\"\"),$J$7*SUMPRODUCT(($AM$77:$AQ$77=MOD(Q205,7))*$AM$68:$AQ$68)%,\"\")","v":""},{"$f":"IF(AND(R213=Labels!$B$118,WEEKDAY(R205,2)<6,R$207<>\"\"),$J$7*SUMPRODUCT(($AM$77:$AQ$77=MOD(R205,7))*$AM$68:$AQ$68)%,\"\")","v":""},{"$f":"IF(AND(S213=Labels!$B$118,WEEKDAY(S205,2)<6,S$207<>\"\"),$J$7*SUMPRODUCT(($AM$77:$AQ$77=MOD(S205,7))*$AM$68:$AQ$68)%,\"\")","v":""},{"$f":"IF(AND(T213=Labels!$B$118,WEEKDAY(T205,2)<6,T$207<>\"\"),$J$7*SUMPRODUCT(($AM$77:$AQ$77=MOD(T205,7))*$AM$68:$AQ$68)%,\"\")","v":""},{"$f":"IF(AND(U213=Labels!$B$118,WEEKDAY(U205,2)<6,U$207<>\"\"),$J$7*SUMPRODUCT(($AM$77:$AQ$77=MOD(U205,7))*$AM$68:$AQ$68)%,\"\")","v":""},{"$f":"IF(AND(V213=Labels!$B$118,WEEKDAY(V205,2)<6,V$207<>\"\"),$J$7*SUMPRODUCT(($AM$77:$AQ$77=MOD(V205,7))*$AM$68:$AQ$68)%,\"\")","v":""},{"$f":"IF(AND(W213=Labels!$B$118,WEEKDAY(W205,2)<6,W$207<>\"\"),$J$7*SUMPRODUCT(($AM$77:$AQ$77=MOD(W205,7))*$AM$68:$AQ$68)%,\"\")","v":""},{"$f":"IF(AND(X213=Labels!$B$118,WEEKDAY(X205,2)<6,X$207<>\"\"),$J$7*SUMPRODUCT(($AM$77:$AQ$77=MOD(X205,7))*$AM$68:$AQ$68)%,\"\")","v":""},{"$f":"IF(AND(Y213=Labels!$B$118,WEEKDAY(Y205,2)<6,Y$207<>\"\"),$J$7*SUMPRODUCT(($AM$77:$AQ$77=MOD(Y205,7))*$AM$68:$AQ$68)%,\"\")","v":""},{"$f":"IF(AND(Z213=Labels!$B$118,WEEKDAY(Z205,2)<6,Z$207<>\"\"),$J$7*SUMPRODUCT(($AM$77:$AQ$77=MOD(Z205,7))*$AM$68:$AQ$68)%,\"\")","v":""},{"$f":"IF(AND(AA213=Labels!$B$118,WEEKDAY(AA205,2)<6,AA$207<>\"\"),$J$7*SUMPRODUCT(($AM$77:$AQ$77=MOD(AA205,7))*$AM$68:$AQ$68)%,\"\")","v":""},{"$f":"IF(AND(AB213=Labels!$B$118,WEEKDAY(AB205,2)<6,AB$207<>\"\"),$J$7*SUMPRODUCT(($AM$77:$AQ$77=MOD(AB205,7))*$AM$68:$AQ$68)%,\"\")","v":""},{"$f":"IF(AND(AC213=Labels!$B$118,WEEKDAY(AC205,2)<6,AC$207<>\"\"),$J$7*SUMPRODUCT(($AM$77:$AQ$77=MOD(AC205,7))*$AM$68:$AQ$68)%,\"\")","v":""},{"$f":"IF(AND(AD213=Labels!$B$118,WEEKDAY(AD205,2)<6,AD$207<>\"\"),$J$7*SUMPRODUCT(($AM$77:$AQ$77=MOD(AD205,7))*$AM$68:$AQ$68)%,\"\")","v":""},{"$f":"IF(AND(AE213=Labels!$B$118,WEEKDAY(AE205,2)<6,AE$207<>\"\"),$J$7*SUMPRODUCT(($AM$77:$AQ$77=MOD(AE205,7))*$AM$68:$AQ$68)%,\"\")","v":""},{"$f":"IF(AND(AF213=Labels!$B$118,WEEKDAY(AF205,2)<6),$J$7*$B$202%,\"\")","v":""},{"$f":"SUM(B214:AF214)","v":0},"[06]"]
[{"$f":"$A$20","v":"total quotidien"},{"$f":"SUM(B210:B212)","v":0},{"$f":"SUM(C210:C212)","v":0},0,0,0,0,0,0,0,0,0,0,0,0,0,0,0,0,0,0,0,0,0,0,0,0,0,0,0,0,null,null,"TT"]
[{"$f":"$A$21","v":"."},null,null,null,null,null,null,null,null,null,null,null,null,null,null,null,null,null,null,null,null,null,null,null,null,null,null,null,null,null,null,null,null,"R"]
[{"$f":"$A$22","v":"."},null,null,null,null,null,null,null,null,null,null,null,null,null,null,null,null,null,null,null,null,null,null,null,null,null,null,null,null,null,null,null,null,"R"]
[{"$f":"$A$23","v":"transition mois"},{"$f":"IF(WEEKDAY(B205)=1,TEXT(B205-1,\"MMM\"&Labels!B13),\"\")","v":""},null,null,null,null,null,null,null,null,null,null,null,null,null,null,null,null,null,null,null,null,null,null,null,null,null,null,null,null,{"$f":"IF(AND(WEEKDAY(AE205)>1,WEEKDAY(AE205)<7),TEXT(DATE($B$5,MONTH(AE205)+1,1),\"MMM\"&Labels!B13),\"\")","v":""},null,null,"MNT"]
[{"$f":"$A$24","v":"Total hebdomadaire"},{"$f":"IF(WEEKDAY(B205)=7,SUMIF($B141:$AF141,B206,$B150:$AF150)+SUMIF($B206:$AF206,B206,$B215:$AF215)+SUMIF($B271:$AF271,B206,$B280:$AF280),B218)","v":0},{"$f":"IF(WEEKDAY(C205)=7,SUMIF($B141:$AF141,C206,$B150:$AF150)+SUMIF($B206:$AF206,C206,$B215:$AF215)+SUMIF($B271:$AF271,C206,$B280:$AF280),\"\")","v":""},"","","","","",0,"","","","","","",0,"","","","","","",0,"","","","","","",0,{"$f":"IF(WEEKDAY(AE205)=7,SUMIF($B141:$AF141,AE206,$B150:$AF150)+SUMIF($B206:$AF206,AE206,$B215:$AF215)+SUMIF($B271:$AF271,AE206,$B280:$AF280),AE218)","v":""},null,null,"WT"]
[{"$f":"$A$25","v":"Majorations temp. 1)"},{"$f":"IF(B227=\"FALSCH\",\"\",B227)","v":""},{"$f":"IF(C227=\"FALSCH\",\"\",C227)","v":""},"","","","","","","","","","","","","","","","","","","","","","","","","","","","",null,{"$f":"SUM(B220:AF220)","v":0},"[07]"]
[{"$f":"$A$26","v":"Majorations temp. 2)"},{"$f":"IF((B210+B212)=0,\"\",SUM(B210,B212))","v":""},{"$f":"IF((C210+C212)=0,\"\",SUM(C210,C212))","v":""},"","","","","","","","","","","","","","","","","","","","","","","","","","","","",null,0,"[08]"]
[{"$f":"$A$27","v":"Majorations temp. 3)"},{"$f":"SUM(B223:B226)","v":0},{"$f":"SUM(C223:C226)","v":0},0,0,0,0,0,0,0,0,0,0,0,0,0,0,0,0,0,0,0,0,0,0,0,0,0,0,0,0,null,0,"[09]"]
[{"$f":"$A$28","v":"Dimanche journée"},{"$f":"IF(WEEKDAY(B205)=1,B211,\"\")","v":""},{"$f":"IF(WEEKDAY(C205)=1,C211,\"\")","v":0},"","","","","","",0,"","","","","","",0,"","","","","","",0,"","","","","","",0,null,0,"[09-ST]"]
[{"$f":"$A$29","v":"Dimanche nuit"},{"$f":"IF(WEEKDAY(B205)=1,SUM(B210+B212),\"\")","v":""},{"$f":"IF(WEEKDAY(C205)=1,SUM(C210+C212),\"\")","v":0},"","","","","","",0,"","","","","","",0,"","","","","","",0,"","","","","","",0,null,0,"[09-SN]"]
[{"$f":"$A$30","v":"jf-jomajoration"},{"$f":"IF(B213=Labels!$B$118,B211,\"\")","v":""},{"$f":"IF(C213=Labels!$B$118,C211,\"\")","v":""},{"$f":"IF(D213=Labels!$B$118,D211,\"\")","v":""},{"$f":"IF(E213=Labels!$B$118,E211,\"\")","v":""},{"$f":"IF(F213=Labels!$B$118,F211,\"\")","v":""},{"$f":"IF(G213=Labels!$B$118,G211,\"\")","v":""},{"$f":"IF(H213=Labels!$B$118,H211,\"\")","v":""},{"$f":"IF(I213=Labels!$B$118,I211,\"\")","v":""},{"$f":"IF(J213=Labels!$B$118,J211,\"\")","v":""},{"$f":"IF(K213=Labels!$B$118,K211,\"\")","v":""},{"$f":"IF(L213=Labels!$B$118,L211,\"\")","v":""},{"$f":"IF(M213=Labels!$B$118,M211,\"\")","v":""},{"$f":"IF(N213=Labels!$B$118,N211,\"\")","v":""},{"$f":"IF(O213=Labels!$B$118,O211,\"\")","v":""},{"$f":"IF(P213=Labels!$B$118,P211,\"\")","v":""},{"$f":"IF(Q213=Labels!$B$118,Q211,\"\")","v":""},{"$f":"IF(R213=Labels!$B$118,R211,\"\")","v":""},{"$f":"IF(S213=Labels!$B$118,S211,\"\")","v":""},{"$f":"IF(T213=Labels!$B$118,T211,\"\")","v":""},{"$f":"IF(U213=Labels!$B$118,U211,\"\")","v":""},{"$f":"IF(V213=Labels!$B$118,V211,\"\")","v":""},{"$f":"IF(W213=Labels!$B$118,W211,\"\")","v":""},{"$f":"IF(X213=Labels!$B$118,X211,\"\")","v":""},{"$f":"IF(Y213=Labels!$B$118,Y211,\"\")","v":""},{"$f":"IF(Z213=Labels!$B$118,Z211,\"\")","v":""},{"$f":"IF(AA213=Labels!$B$118,AA211,\"\")","v":""},{"$f":"IF(AB213=Labels!$B$118,AB211,\"\")","v":""},{"$f":"IF(AC213=Labels!$B$118,AC211,\"\")","v":""},{"$f":"IF(AD213=Labels!$B$118,AD211,\"\")","v":""},{"$f":"IF(AE213=Labels!$B$118,AE211,\"\")","v":""},null,0,"[09-FT]"]
[{"$f":"$A$31","v":"jf-numajoration"},{"$f":"IF(B213=Labels!$B$118,SUM(B210,B212),\"\")","v":""},{"$f":"IF(C213=Labels!$B$118,SUM(C210,C212),\"\")","v":""},{"$f":"IF(D213=Labels!$B$118,SUM(D210,D212),\"\")","v":""},{"$f":"IF(E213=Labels!$B$118,SUM(E210,E212),\"\")","v":""},{"$f":"IF(F213=Labels!$B$118,SUM(F210,F212),\"\")","v":""},{"$f":"IF(G213=Labels!$B$118,SUM(G210,G212),\"\")","v":""},{"$f":"IF(H213=Labels!$B$118,SUM(H210,H212),\"\")","v":""},{"$f":"IF(I213=Labels!$B$118,SUM(I210,I212),\"\")","v":""},{"$f":"IF(J213=Labels!$B$118,SUM(J210,J212),\"\")","v":""},{"$f":"IF(K213=Labels!$B$118,SUM(K210,K212),\"\")","v":""},{"$f":"IF(L213=Labels!$B$118,SUM(L210,L212),\"\")","v":""},{"$f":"IF(M213=Labels!$B$118,SUM(M210,M212),\"\")","v":""},{"$f":"IF(N213=Labels!$B$118,SUM(N210,N212),\"\")","v":""},{"$f":"IF(O213=Labels!$B$118,SUM(O210,O212),\"\")","v":""},{"$f":"IF(P213=Labels!$B$118,SUM(P210,P212),\"\")","v":""},{"$f":"IF(Q213=Labels!$B$118,SUM(Q210,Q212),\"\")","v":""},{"$f":"IF(R213=Labels!$B$118,SUM(R210,R212),\"\")","v":""},{"$f":"IF(S213=Labels!$B$118,SUM(S210,S212),\"\")","v":""},{"$f":"IF(T213=Labels!$B$118,SUM(T210,T212),\"\")","v":""},{"$f":"IF(U213=Labels!$B$118,SUM(U210,U212),\"\")","v":""},{"$f":"IF(V213=Labels!$B$118,SUM(V210,V212),\"\")","v":""},{"$f":"IF(W213=Labels!$B$118,SUM(W210,W212),\"\")","v":""},{"$f":"IF(X213=Labels!$B$118,SUM(X210,X212),\"\")","v":""},{"$f":"IF(Y213=Labels!$B$118,SUM(Y210,Y212),\"\")","v":""},{"$f":"IF(Z213=Labels!$B$118,SUM(Z210,Z212),\"\")","v":""},{"$f":"IF(AA213=Labels!$B$118,SUM(AA210,AA212),\"\")","v":""},{"$f":"IF(AB213=Labels!$B$118,SUM(AB210,AB212),\"\")","v":""},{"$f":"IF(AC213=Labels!$B$118,SUM(AC210,AC212),\"\")","v":""},{"$f":"IF(AD213=Labels!$B$118,SUM(AD210,AD212),\"\")","v":""},{"$f":"IF(AE213=Labels!$B$118,SUM(AE210,AE212),\"\")","v":""},null,0,"[09-FN]"]
[{"$f":"$A$32","v":"majoration caché (total hebd.)"},{"$f":"IF($B202>=80,IF(OR(ISTEXT(B219),B219=\"\",B219<$B$7),\"\",ROUND(((B219-$B$7)*25%)/25,4)*25),IF(B215>($B$7/5),ROUND(((B215-($B$7/5))*25%)/25,4)*25,\"\"))","v":""},{"$f":"IF($B202>=80,IF(OR(ISTEXT(C219),C219=\"\",C219<$B$7),\"\",ROUND(((C219-$B$7)*25%)/25,4)*25),IF(C215>($B$7/5),ROUND(((C215-($B$7/5))*25%)/25,4)*25,\"\"))","v":""},"","","","","","","","","","","","","","","","","","","","","","","","","","","","",null,{"$f":"AG211","v":0},"[03]"]
[null,{"$f":"$B$33","v":"1)  25% majoration temporelle pour depassement les heures maximales"},null,null,null,null,null,null,null,null,null,{"$f":"$L$33","v":"2) 100% majoration temporelle pour travail de nuit"},null,null,null,null,null,null,null,{"$f":"$T$33","v":"Saisie des heures payées l'année passée"},null,null,null,null,null,null,null,null,null,null,null,null,{"$f":"SUM(AG210+AG212)","v":0},"[4-5]"]
[null,{"$f":"$B$34","v":"3) 100% majoration temporelle pour travail du dimanche et jour férié"},null,null,null,null,null,null,null,null,null,null,null,null,null,null,null,null,null,{"$f":"$T$34","v":"Saisie des heures payées exercice en cours (heures supplémentaires)"},null,null,null,null,null,null,null,null,null,null,null,null,{"$f":"SUM(AG210:AG212)","v":0},"[3-5]"]
[{"$f":"$A$35","v":"Notes"},null,null,null,null,null,null,null,null,null,null,null,null,null,null,null,null,null,null,null,null,null,null,null,null,null,null,null,null,null,null,null,{"$f":"SUM(AG208:AG222)","v":0},"[10]"]
[null,null,null,null,null,null,null,null,null,null,null,null,null,null,null,null,null,null,null,null,null,null,null,null,null,null,null,null,null,null,null,null,{"$f":"AG207","v":160},"[00]"]
[{"$f":"IF(AG904=0,\"\",\"effektives Pensum:  \"&ROUND(COUNT(B207:AF207)/(AG904+COUNT(B207:AF207))%*B202%*20,0)/20&\" %\")","v":""},null,null,null,null,null,null,null,null,null,null,null,null,null,null,null,null,null,null,null,null,null,null,null,null,null,null,null,null,null,null,null,{"$f":"SUM(AG230-AG231)","v":-160},"[11]"]
[]
[{"$f":"Labels!$B$103","v":"Résumé"},null,null,null,null,null,{"$f":"Labels!$B$77","v":"Jan"},null,{"$f":"Labels!$B$78","v":"Fév"},null,{"$f":"Labels!$B$79","v":"Mar"},null,{"$f":"Labels!$B$80","v":"Avr"},null,{"$f":"Labels!$B$81","v":"Mai"},null,{"$f":"Labels!$B$82","v":"Jun"},null,{"$f":"Labels!$B$83","v":"Jul"},null,{"$f":"Labels!$B$84","v":"Aoû"},null,{"$f":"Labels!$B$85","v":"Sep"},null,{"$f":"Labels!$B$86","v":"Oct"},null,{"$f":"Labels!$B$87","v":"Nov"},null,{"$f":"Labels!$B$88","v":"Déc"},null,{"$f":"Labels!$B$101","v":"Année"}]
[{"$f":"Labels!$B$20","v":"Emploi %"},null,null,null,null,null,{"$f":"IF($B$4=0,0,$B$4)","v":100},null,{"$f":"IF($B$72=0,0,$B$72)","v":100},null,{"$f":"IF($B$137=0,0,$B$137)","v":100},null,{"$f":"IF($B$202=0,0,$B$202)","v":100},null,{"$f":"IF($B$267=0,0,$B$267)","v":100},null,{"$f":"IF($B$332=0,0,$B$332)","v":100},null,{"$f":"IF($B$397=0,0,$B$397)","v":100},null,{"$f":"IF($B$462=0,0,$B$462)","v":100},null,{"$f":"IF($B$527=0,0,$B$527)","v":100},null,{"$f":"IF($B$592=0,0,$B$592)","v":100},null,{"$f":"IF($B$657=0,0,$B$657)","v":100},null,{"$f":"IF($B$722=0,0,$B$722)","v":100}]
[{"$f":"Labels!$B$104","v":"Heures théoriques selon CCT"},null,null,null,null,null,{"$f":"IF($AG$36=0,0,$AG$36)","v":176},null,{"$f":"IF($AG$101=0,0,$AG$101)","v":160},null,{"$f":"IF($AG$142=0,0,$AG$142)","v":184},null,{"$f":"IF($AG$231=0,0,$AG$231)","v":160},null,{"$f":"IF($AG$296=0,0,$AG$296)","v":184},null,{"$f":"IF($AG$361=0,0,$AG$361)","v":176},null,{"$f":"IF($AG$426=0,0,$AG$426)","v":168},null,{"$f":"IF($AG$491=0,0,$AG$491)","v":184},null,{"$f":"IF($AG$556=0,0,$AG$556)","v":168},null,{"$f":"IF($AG$621=0,0,$AG$621)","v":176},null,{"$f":"IF($AG$686=0,0,$AG$686)","v":176},null,{"$f":"IF($AG$751=0,0,$AG$751)","v":168},null,{"$f":"SUM(G236:AD236)","v":2080}]
[{"$f":"Labels!$B$105","v":"Total heures productives"},{"$f":"Labels!$B$106","v":"06.00 - 20.00 h"},null,null,null,null,{"$f":"IF($AG$32=0,0,$AG$32)","v":0},null,{"$f":"IF($AG$97=0,0,$AG$97)","v":0},null,{"$f":"IF($AG$162=0,0,$AG$162)","v":0},null,{"$f":"IF($AG$227=0,0,$AG$227)","v":0},null,{"$f":"IF($AG$292=0,0,$AG$292)","v":0},null,{"$f":"IF($AG$357=0,0,$AG$357)","v":0},null,{"$f":"IF($AG$422=0,0,$AG$422)","v":0},null,{"$f":"IF($AG$487=0,0,$AG$487)","v":0},null,{"$f":"IF($AG$552=0,0,$AG$552)","v":0},null,{"$f":"IF($AG$617=0,0,$AG$617)","v":0},null,{"$f":"IF($AG$682=0,0,$AG$682)","v":0},null,{"$f":"IF($AG$747=0,0,$AG$747)","v":0},null,{"$f":"SUM(G237:AD237)","v":0}]
[null,{"$f":"Labels!$B$107","v":"nuit, dimanche et jour férié"},null,null,null,null,{"$f":"IF(AND($AG$33=0,$AG$18=0),0,$AG$33+$AG$18)","v":0},null,{"$f":"IF(AND($AG$98=0,$AG$83=0),0,$AG$98+$AG$83)","v":0},null,{"$f":"IF(AND($AG$163=0,$AG$148=0),0,$AG$163+$AG$148)","v":0},null,{"$f":"IF(AND($AG$228=0,$AG$213=0),0,$AG$228+$AG$213)","v":0},null,{"$f":"IF(AND($AG$293=0,$AG$278=0),0,$AG$293+$AG$278)","v":0},null,{"$f":"IF(AND($AG$358=0,$AG$343=0),0,$AG$358+$AG$343)","v":0},null,{"$f":"IF(AND($AG$423=0,$AG$408=0),0,$AG$423+$AG$408)","v":0},null,{"$f":"IF(AND($AG$488=0,$AG$473=0),0,$AG$488+$AG$473)","v":0},null,{"$f":"IF(AND($AG$553=0,$AG$538=0),0,$AG$553+$AG$538)","v":0},null,{"$f":"IF(AND($AG$618=0,$AG$603=0),0,$AG$618+$AG$603)","v":0},null,{"$f":"IF(AND($AG$683=0,$AG$668=0),0,$AG$683+$AG$668)","v":0},null,{"$f":"IF(AND($AG$748=0,$AG$733=0),0,$AG$748+$AG$733)","v":0},null,{"$f":"SUM(G238:AD238)","v":0}]
[{"$f":"Labels!$B$108","v":"Majorations temporelles"},{"$f":"Labels!$B$109","v":"depassement des heures maximales"},null,null,null,null,{"$f":"IF($AG$25=0,0,$AG$25)","v":0},null,{"$f":"IF($AG$90=0,0,$AG$90)","v":0},null,{"$f":"IF($AG$155=0,0,$AG$155)","v":0},null,{"$f":"IF($AG$220=0,0,$AG$220)","v":0},null,{"$f":"IF($AG$285=0,0,$AG$285)","v":0},null,{"$f":"IF($AG$350=0,0,$AG$350)","v":0},null,{"$f":"IF($AG$415=0,0,$AG$415)","v":0},null,{"$f":"IF($AG$480=0,0,$AG$480)","v":0},null,{"$f":"IF($AG$545=0,0,$AG$545)","v":0},null,{"$f":"IF($AG$610=0,0,$AG$610)","v":0},null,{"$f":"IF($AG$675=0,0,$AG$675)","v":0},null,{"$f":"IF($AG$740=0,0,$AG$740)","v":0},null,{"$f":"SUM(G239:AD239)","v":0}]
[null,{"$f":"Labels!$B$110","v":"nuit, dimanche et jour férié"},null,null,null,null,{"$f":"IF($AJ$23=0,0,$AJ$23)","v":0},null,{"$f":"IF($AK$23=0,0,$AK$23)","v":0},null,{"$f":"IF($AL$23=0,0,$AL$23)","v":0},null,{"$f":"IF($AM$23=0,0,$AM$23)","v":0},null,{"$f":"IF($AN$23=0,0,$AN$23)","v":0},null,{"$f":"IF($AO$23=0,0,$AO$23)","v":0},null,{"$f":"IF($AP$23=0,0,$AP$23)","v":0},null,{"$f":"IF($AQ$23=0,0,$AQ$23)","v":0},null,{"$f":"IF($AR$23=0,0,$AR$23)","v":0},null,{"$f":"IF($AS$23=0,0,$AS$23)","v":0},null,{"$f":"IF($AT$23=0,0,$AT$23)","v":0},null,{"$f":"IF($AU$23=0,0,$AU$23)","v":0},null,{"$f":"SUM(G240:AD240)","v":0}]
[{"$f":"Labels!$B$111","v":"Heures inproductives"}]
[{"$f":"Labels!$B$112","v":"   Absences art. 11 CCT"},null,null,null,null,{"$f":"Labels!$B$113","v":"ab"},{"$f":"IF($AJ$3=0,0,$AJ$3)","v":0},null,{"$f":"IF($AK$3=0,0,$AK$3)","v":0},null,{"$f":"IF($AL$3=0,0,$AL$3)","v":0},null,{"$f":"IF($AM$3=0,0,$AM$3)","v":0},null,{"$f":"IF($AN$3=0,0,$AN$3)","v":0},null,{"$f":"IF($AO$3=0,0,$AO$3)","v":0},null,{"$f":"IF($AP$3=0,0,$AP$3)","v":0},null,{"$f":"IF($AQ$3=0,0,$AQ$3)","v":0},null,{"$f":"IF($AR$3=0,0,$AR$3)","v":0},null,{"$f":"IF($AS$3=0,0,$AS$3)","v":0},null,{"$f":"IF(AT$3=0,0,$AT$3)","v":0},null,{"$f":"IF($AU$3=0,0,$AU$3)","v":0},null,{"$f":"IF($AV$3=0,0,$AV$3)","v":0}]
[{"$f":"Labels!$B$114","v":"   Vacances art. 12.1 CCT"},null,null,null,null,{"$f":"Labels!$B$115","v":"va"},{"$f":"IF($AJ$4=0,0,$AJ$4)","v":0},null,{"$f":"IF($AK$4=0,0,$AK$4)","v":0},null,{"$f":"IF($AL$4=0,0,$AL$4)","v":0},null,{"$f":"IF($AM$4=0,0,$AM$4)","v":0},null,{"$f":"IF($AN$4=0,0,$AN$4)","v":0},null,{"$f":"IF($AO$4=0,0,$AO$4)","v":0},null,{"$f":"IF($AP$4=0,0,$AP$4)","v":0},null,{"$f":"IF($AQ$4=0,0,$AQ$4)","v":0},null,{"$f":"IF($AR$4=0,0,$AR$4)","v":0},null,{"$f":"IF($AS$4=0,0,$AS$4)","v":0},null,{"$f":"IF($AT$4=0,0,$AT$4)","v":0},null,{"$f":"IF($AU$4=0,0,$AU$4)","v":0},null,{"$f":"IF($AV$4=0,0,$AV$4)","v":0}]
[{"$f":"Labels!$B$181","v":"   vacances non payées"},null,null,null,null,{"$f":"Labels!$B$182","v":"vn"},{"$f":"IF($AJ$13=0,0,$AJ$13)","v":0},null,{"$f":"IF($AK$13=0,0,$AK$13)","v":0},null,{"$f":"IF($AL$13=0,0,$AL$13)","v":0},null,{"$f":"IF($AM$13=0,0,$AM$13)","v":0},null,{"$f":"IF($AN$13=0,0,$AN$13)","v":0},null,{"$f":"IF($AO$13=0,0,$AO$13)","v":0},null,{"$f":"IF($AP$13=0,0,$AP$13)","v":0},null,{"$f":"IF($AQ$13=0,0,$AQ$13)","v":0},null,{"$f":"IF($AR$13=0,0,$AR$13)","v":0},null,{"$f":"IF($AS$13=0,0,$AS$13)","v":0},null,{"$f":"IF($AT$13=0,0,$AT$13)","v":0},null,{"$f":"IF($AU$13=0,0,$AU$13)","v":0},null,{"$f":"IF($AV$13=0,0,$AV$13)","v":0}]
[{"$f":"Labels!$B$116","v":"   Jours fériés art. 12.2 CCT"},null,{"$f":"IF($AJ$20=\"\",\"\",$AJ$20)","v":""},null,null,{"$f":"Labels!$B$118","v":"jf"},{"$f":"IF($AJ$18=0,0,$AJ$18)","v":0},null,{"$f":"IF($AK$18=0,0,$AK$18)","v":0},null,{"$f":"IF($AL$18=0,0,$AL$18)","v":0},null,{"$f":"IF($AM$18=0,0,$AM$18)","v":0},null,{"$f":"IF($AN$18=0,0,$AN$18)","v":0},null,{"$f":"IF($AO$18=0,0,$AO$18)","v":0},null,{"$f":"IF($AP$18=0,0,$AP$18)","v":0},null,{"$f":"IF($AQ$18=0,0,$AQ$18)","v":0},null,{"$f":"IF($AR$18=0,0,$AR$18)","v":0},null,{"$f":"IF($AS$18=0,0,$AS$18)","v":0},null,{"$f":"IF($AT$18=0,0,$AT$18)","v":0},null,{"$f":"IF($AU$18=0,0,$AU$18)","v":0},null,{"$f":"IF($AV$18=0,0,$AV$18)","v":0}]
[{"$f":"Labels!$B$119","v":"   Maladie art. 13 CCT"},null,null,null,null,{"$f":"Labels!$B$120","v":"ma"},{"$f":"IF($AJ$5=0,0,$AJ$5)","v":0},null,{"$f":"IF($AK$5=0,0,$AK$5)","v":0},null,{"$f":"IF($AL$5=0,0,$AL$5)","v":0},null,{"$f":"IF($AM$5=0,0,$AM$5)","v":0},null,{"$f":"IF($AN$5=0,0,$AN$5)","v":0},null,{"$f":"IF($AO$5=0,0,$AO$5)","v":0},null,{"$f":"IF($AP$5=0,0,$AP$5)","v":0},null,{"$f":"IF($AQ$5=0,0,$AQ$5)","v":0},null,{"$f":"IF($AR$5=0,0,$AR$5)","v":0},null,{"$f":"IF($AS$5=0,0,$AS$5)","v":0},null,{"$f":"IF($AT$5=0,0,$AT$5)","v":0},null,{"$f":"IF($AU$5=0,0,$AU$5)","v":0},null,{"$f":"IF($AV$5=0,0,$AV$5)","v":0}]
[{"$f":"Labels!$B$184","v":"non payeé"},null,null,null,null,null,{"$f":"IF(AJ$16=0,0,AJ$16)","v":0},null,{"$f":"IF($AK$16=0,0,$AK$16)","v":0},null,{"$f":"IF($AL$16=0,0,$AL$16)","v":0},null,{"$f":"IF($AM$16=0,0,$AM$16)","v":0},null,{"$f":"IF($AN$16=0,0,$AN$16)","v":0},null,{"$f":"IF($AO$16=0,0,$AO$16)","v":0},null,{"$f":"IF($AP$16=0,0,$AP$16)","v":0},null,{"$f":"IF($AQ$16=0,0,$AQ$16)","v":0},null,{"$f":"IF($AR$16=0,0,$AR$16)","v":0},null,{"$f":"IF($AS$16=0,0,$AS$16)","v":0},null,{"$f":"IF($AT$16=0,0,$AT$16)","v":0},null,{"$f":"IF($AU$16=0,0,$AU$16)","v":0},null,{"$f":"IF($AV$16=0,0,$AV$16)","v":0}]
[{"$f":"Labels!$B$121","v":"   Accident art. 14 CCT"},null,null,null,null,{"$f":"Labels!$B$122","v":"ac"},{"$f":"IF($AJ$6=0,0,$AJ$6)","v":0},null,{"$f":"IF($AK$6=0,0,$AK$6)","v":0},null,{"$f":"IF($AL$6=0,0,$AL$6)","v":0},null,{"$f":"IF($AM$6=0,0,$AM$6)","v":0},null,{"$f":"IF($AN$6=0,0,$AN$6)","v":0},null,{"$f":"IF($AO$6=0,0,$AO$6)","v":0},null,{"$f":"IF($AP$6=0,0,$AP$6)","v":0},null,{"$f":"IF($AQ$6=0,0,$AQ$6)","v":0},null,{"$f":"IF($AR$6=0,0,$AR$6)","v":0},null,{"$f":"IF($AS$6=0,0,$AS$6)","v":0},null,{"$f":"IF($AT$6=0,0,$AT$6)","v":0},null,{"$f":"IF($AU$6=0,0,$AU$6)","v":0},null,{"$f":"IF($AV$6=0,0,$AV$6)","v":0}]
[{"$f":"Labels!$B$123","v":"   Grossesse/Maternité art. 15 CCT"},null,null,null,null,{"$f":"Labels!$B$124","v":"gm"},{"$f":"IF($AJ$7=0,0,$AJ$7)","v":0},null,{"$f":"IF($AK$7=0,0,$AK$7)","v":0},null,{"$f":"IF($AL$7=0,0,$AL$7)","v":0},null,{"$f":"IF($AM$7=0,0,$AM$7)","v":0},null,{"$f":"IF($AN$7=0,0,$AN$7)","v":0},null,{"$f":"IF($AO$7=0,0,$AO$7)","v":0},null,{"$f":"IF($AP$7=0,0,$AP$7)","v":0},null,{"$f":"IF($AQ$7=0,0,$AQ$7)","v":0},null,{"$f":"IF($AR$7=0,0,$AR$7)","v":0},null,{"$f":"IF($AS$7=0,0,$AS$7)","v":0},null,{"$f":"IF($AT$7=0,0,$AT$7)","v":0},null,{"$f":"IF($AU$7=0,0,$AU$7)","v":0},null,{"$f":"IF($AV$7=0,0,$AV$7)","v":0}]
[{"$f":"Labels!$B$125","v":"   Militaire/Promotion/Protection civile art. 16 CCT"},null,null,null,null,{"$f":"Labels!$B$126","v":"mi"},{"$f":"IF($AJ$8=0,0,$AJ$8)","v":0},null,{"$f":"IF($AK$8=0,0,$AK$8)","v":0},null,{"$f":"IF($AL$8=0,0,$AL$8)","v":0},null,{"$f":"IF($AM$8=0,0,$AM$8)","v":0},null,{"$f":"IF($AN$8=0,0,$AN$8)","v":0},null,{"$f":"IF($AO$8=0,0,$AO$8)","v":0},null,{"$f":"IF($AP$8=0,0,$AP$8)","v":0},null,{"$f":"IF($AQ$8=0,0,$AQ$8)","v":0},null,{"$f":"IF($AR$8=0,0,$AR$8)","v":0},null,{"$f":"IF($AS$8=0,0,$AS$8)","v":0},null,{"$f":"IF($AT$8=0,0,$AT$8)","v":0},null,{"$f":"IF($AU$8=0,0,$AU$8)","v":0},null,{"$f":"IF($AV$8=0,0,$AV$8)","v":0}]
[{"$f":"Labels!$B$127","v":"   Chômage partiel et perte de travail cause d'intempéries"},null,null,null,null,{"$f":"Labels!$B$128","v":"ch"},{"$f":"IF($AJ$11=0,0,$AJ$11)","v":0},null,{"$f":"IF($AK$11=0,0,$AK$11)","v":0},null,{"$f":"IF($AL$11=0,0,$AL$11)","v":0},null,{"$f":"IF($AM$11=0,0,$AM$11)","v":0},null,{"$f":"IF($AN$11=0,0,$AN$11)","v":0},null,{"$f":"IF($AO$11=0,0,$AO$11)","v":0},null,{"$f":"IF($AP$11=0,0,$AP$11)","v":0},null,{"$f":"IF($AQ$11=0,0,$AQ$11)","v":0},null,{"$f":"IF($AR$11=0,0,$AR$11)","v":0},null,{"$f":"IF($AS$11=0,0,$AS$11)","v":0},null,{"$f":"IF($AT$11=0,0,$AT$11)","v":0},null,{"$f":"IF($AU$11=0,0,$AU$11)","v":0},null,{"$f":"IF($AV$11=0,0,$AV$11)","v":0}]
[{"$f":"Labels!$B$129","v":"   Ecole professionnelle"},null,null,null,null,{"$f":"Labels!$B$130","v":"ep"},{"$f":"IF($AJ$9=0,0,$AJ$9)","v":0},null,{"$f":"IF($AK$9=0,0,$AK$9)","v":0},null,{"$f":"IF($AL$9=0,0,$AL$9)","v":0},null,{"$f":"IF($AM$9=0,0,$AM$9)","v":0},null,{"$f":"IF($AN$9=0,0,$AN$9)","v":0},null,{"$f":"IF($AO$9=0,0,$AO$9)","v":0},null,{"$f":"IF($AP$9=0,0,$AP$9)","v":0},null,{"$f":"IF($AQ$9=0,0,$AQ$9)","v":0},null,{"$f":"IF($AR$9=0,0,$AR$9)","v":0},null,{"$f":"IF($AS$9=0,0,$AS$9)","v":0},null,{"$f":"IF($AT$9=0,0,$AT$9)","v":0},null,{"$f":"IF($AU$9=0,0,$AU$9)","v":0},null,{"$f":"IF($AV$9=0,0,$AV$9)","v":0}]
[{"$f":"Labels!$B$131","v":"   Cours"},null,null,null,null,{"$f":"Labels!$B$132","v":"co"},{"$f":"IF($AJ$10=0,0,$AJ$10)","v":0},null,{"$f":"IF($AK$10=0,0,$AK$10)","v":0},null,{"$f":"IF($AL$10=0,0,$AL$10)","v":0},null,{"$f":"IF($AM$10=0,0,$AM$10)","v":0},null,{"$f":"IF($AN$10=0,0,$AN$10)","v":0},null,{"$f":"IF($AO$10=0,0,$AO$10)","v":0},null,{"$f":"IF($AP$10=0,0,$AP$10)","v":0},null,{"$f":"IF($AQ$10=0,0,$AQ$10)","v":0},null,{"$f":"IF($AR$10=0,0,$AR$10)","v":0},null,{"$f":"IF($AS$10=0,0,$AS$10)","v":0},null,{"$f":"IF($AT$10=0,0,$AT$10)","v":0},null,{"$f":"IF($AU$10=0,0,$AU$10)","v":0},null,{"$f":"IF($AV$10=0,0,$AV$10)","v":0}]
[{"$f":"Labels!$B$133","v":"Heures de compensation"},{"$f":"Labels!$B$134","v":"de l'année passée"},null,null,null,{"$f":"Labels!$B$135","v":"cp"},{"$f":"IF($AJ$12=0,0,$AJ$12)","v":0},null,{"$f":"IF($AK$12=0,0,$AK$12)","v":0},null,{"$f":"IF($AL$12=0,0,$AL$12)","v":0},null,{"$f":"IF($AM$12=0,0,$AM$12)","v":0},null,{"$f":"IF($AN$12=0,0,$AN$12)","v":0},null,{"$f":"IF($AO$12=0,0,$AO$12)","v":0},null,{"$f":"IF($AP$12=0,0,$AP$12)","v":0},null,{"$f":"IF($AQ$12=0,0,$AQ$12)","v":0},null,{"$f":"IF($AR$12=0,0,$AR$12)","v":0},null,null,null,null,null,null,null,{"$f":"IF($AV$12=0,0,$AV$12)","v":0}]
[null,{"$f":"Labels!$B$136","v":"de l'année en cours (contrôle)"},null,null,null,{"$f":"Labels!$B$137","v":"cc"},{"$f":"IF($AJ$15=0,0,$AJ$15)","v":0},null,{"$f":"IF($AK$15=0,0,$AK$15)","v":0},null,{"$f":"IF($AL$15=0,0,$AL$15)","v":0},null,{"$f":"IF($AM$15=0,0,$AM$15)","v":0},null,{"$f":"IF($AN$15=0,0,$AN$15)","v":0},null,{"$f":"IF($AO$15=0,0,$AO$15)","v":0},null,{"$f":"IF($AP$15=0,0,$AP$15)","v":0},null,{"$f":"IF($AQ$15=0,0,$AQ$15)","v":0},null,{"$f":"IF($AR$15=0,0,$AR$15)","v":0},null,{"$f":"IF($AS$15=0,0,$AS$15)","v":0},null,{"$f":"IF($AT$15=0,0,$AT$15)","v":0},null,{"$f":"IF($AU$15=0,0,$AU$15)","v":0},null,{"$f":"IF($AV$15=0,0,$AV$15)","v":0}]
[{"$f":"Labels!$B$138","v":"Paiement des heures"},{"$f":"Labels!$B$139","v":"de l'année passée"},null,null,null,null,{"$f":"IF($AJ$21=0,0,$AJ$21)","v":0},null,{"$f":"IF($AK$21=0,0,$AK$21)","v":0},null,{"$f":"IF($AL$21=0,0,$AL$21)","v":0},null,{"$f":"IF($AM$21=0,0,$AM$21)","v":0},null,{"$f":"IF($AN$21=0,0,$AN$21)","v":0},null,{"$f":"IF($AO$21=0,0,$AO$21)","v":0},null,{"$f":"IF($AP$21=0,0,$AP$21)","v":0},null,{"$f":"IF($AQ$21=0,0,$AQ$21)","v":0},null,{"$f":"IF($AR$21=0,0,$AR$21)","v":0},null,null,null,null,null,null,null,{"$f":"IF($AV$21=0,0,$AV$21)","v":0}]
[{"$f":"Labels!$B$140","v":"Différence en heures"},{"$f":"Labels!$B$141","v":"après compensation et paiement"},null,null,null,null,{"$f":"IF(ROUND($P$4,3)=0,0,$P$4-G254-G256)","v":0},null,{"$f":"IF(ROUND(G257,3)=0,0,G257-(SUM(I254+I256)))","v":0},null,{"$f":"IF(ROUND(I257,3)=0,0,I257-K256-K254)","v":0},null,{"$f":"IF(ROUND(K257,3)=0,0,K257-(SUM(M256+M254)))","v":0},null,{"$f":"IF(ROUND(M257,3)=0,0,M257-(SUM(O256+O254)))","v":0},null,{"$f":"IF(ROUND(O257,3)=0,0,O257-(SUM(Q256+Q254)))","v":0},null,{"$f":"IF(ROUND(Q257,3)=0,0,Q257-(SUM(S256+S254)))","v":0},null,{"$f":"IF(ROUND(S257,3)=0,0,S257-(SUM(U256+U254)))","v":0},null,{"$f":"IF(ROUND(U257,3)=0,0,U257-(SUM(W256+W254)))","v":0},null,{"$f":"IF($W$62<0.1,\"\",AY239)","v":""}]
[{"$f":"Labels!$B$138","v":"Paiement des heures"},{"$f":"Labels!$B$142","v":"de l'année en cours"},null,null,null,null,{"$f":"IF($AJ$22=0,0,$AJ$22)","v":0},null,{"$f":"IF($AK$22=0,0,$AK$22)","v":0},null,{"$f":"IF($AL$22=0,0,$AL$22)","v":0},null,{"$f":"IF($AM$22=0,0,$AM$22)","v":0},null,{"$f":"IF($AN$22=0,0,$AN$22)","v":0},null,{"$f":"IF($AO$22=0,0,$AO$22)","v":0},null,{"$f":"IF($AP$22=0,0,$AP$22)","v":0},null,{"$f":"IF($AQ$22=0,0,$AQ$22)","v":0},null,{"$f":"IF($AR$22=0,0,$AR$22)","v":0},null,{"$f":"IF($AS$22=0,0,$AS$22)","v":0},null,{"$f":"IF($AT$22=0,0,$AT$22)","v":0},null,{"$f":"IF($AU$22=0,0,$AU$22)","v":0},null,{"$f":"IF($AV$22=0,0,$AV$22)","v":0}]
[{"$f":"Labels!$B$143","v":"Heures manquantes"},{"$f":"Labels!$B$144","v":"de l'année en cours (contrôle)"},null,null,null,{"$f":"Labels!$B$145","v":"hm"},{"$f":"IF($AJ$14=0,0,$AJ$14)","v":0},null,{"$f":"IF($AK$14=0,0,$AK$14)","v":0},null,{"$f":"IF($AL$14=0,0,$AL$14)","v":0},null,{"$f":"IF($AM$14=0,0,$AM$14)","v":0},null,{"$f":"IF($AN$14=0,0,$AN$14)","v":0},null,{"$f":"IF($AO$14=0,0,$AO$14)","v":0},null,{"$f":"IF($AP$14=0,0,$AP$14)","v":0},null,{"$f":"IF($AQ$14=0,0,$AQ$14)","v":0},null,{"$f":"IF($AR$14=0,0,$AR$14)","v":0},null,{"$f":"IF($AS$14=0,0,$AS$14)","v":0},null,{"$f":"IF($AT$14=0,0,$AT$14)","v":0},null,{"$f":"IF($AU$14=0,0,$AU$14)","v":0},null,{"$f":"IF($AV$14=0,0,$AV$14)","v":0}]
[{"$f":"Labels!$B$146","v":"Total (majorations inclus)"},{"$f":"Labels!$B$147","v":"heures productives et inproductives"},null,null,null,null,{"$f":"IF($AG$35=0,0,$AG$35)","v":0},null,{"$f":"IF($AG$100=0,0,$AG$100)","v":0},null,{"$f":"IF($AG$165=0,0,$AG$165)","v":0},null,{"$f":"IF($AG$230=0,0,$AG$230)","v":0},null,{"$f":"IF($AG$295=0,0,$AG$295)","v":0},null,{"$f":"IF($AG$360=0,0,$AG$360)","v":0},null,{"$f":"IF($AG$425=0,0,$AG$425)","v":0},null,{"$f":"IF($AG$490=0,0,$AG$490)","v":0},null,{"$f":"IF($AG$555=0,0,$AG$555)","v":0},null,{"$f":"IF($AG$620=0,0,$AG$620)","v":0},null,{"$f":"IF($AG$685=0,0,$AG$685)","v":0},null,{"$f":"IF($AG$750=0,0,$AG$750)","v":0},null,{"$f":"SUM($G$65:$AD$65)","v":0}]
[{"$f":"Labels!$B$148","v":"Comparaison des heures"},{"$f":"Labels!$B$149","v":"aux heures théorique CCT (heures \nmanquantes de l'année passée incl.)"},null,null,null,null,{"$f":"IF($AG$37=0,0,$AG$37)-$AE$34+$P$5","v":-176},null,{"$f":"IF($AG$102=0,0,$AG$102)-$AE$99","v":-160},null,{"$f":"IF($AG$167=0,0,$AG$167)-$AE$164","v":-184},null,{"$f":"IF($AG$232=0,0,$AG$232)-$AE$229","v":-160},null,{"$f":"IF($AG$297=0,0,$AG$297)-$AE$294","v":-184},null,{"$f":"IF($AG$362=0,0,$AG$362)-$AE$359","v":-176},null,{"$f":"IF($AG$427=0,0,$AG$427)-$AE$424","v":-168},null,{"$f":"IF($AG$492=0,0,$AG$492)-$AE$489","v":-184},null,{"$f":"IF($AG$557=0,0,$AG$557)-$AE$554","v":-168},null,{"$f":"IF($AG$622=0,0,$AG$622)-$AE$619","v":-176},null,{"$f":"IF($AG$687=0,0,$AG$687)-$AE$684","v":-176},null,{"$f":"IF($AG$752=0,0,$AG$752)-$AE$749","v":-168},null,{"$f":"SUM($G$66:$AD$66)","v":-2080}]
[null,{"$f":"Labels!$B$151","v":"aux heures théorique (cumulées)"},null,null,null,null,{"$f":"IF(G235=0,0,$G$66)","v":-176},null,{"$f":"IF(I235=0,0,SUM($G$66:$J$66))","v":-336},null,{"$f":"IF(K235=0,0,SUM($G$66:$L$66))","v":-520},null,{"$f":"IF(M235=0,0,SUM($G$66:$N$66))","v":-680},null,{"$f":"IF(O235=0,0,SUM($G$66:$P$66))","v":-864},null,{"$f":"IF(Q235=0,0,SUM($G$66:$R$66))","v":-1040},null,{"$f":"IF(S235=0,0,SUM($G$66:$T$66))","v":-1208},null,{"$f":"IF(U235=0,0,SUM($G$66:$V$66))","v":-1392},null,{"$f":"IF(W235=0,0,SUM($G$66:$X$66))","v":-1560},null,{"$f":"IF(Y235=0,0,SUM($G$66:$Z$66))","v":-1736},null,{"$f":"IF(AA235=0,0,SUM($G$66:$AB$66))","v":-1912},null,{"$f":"IF(AC235=0,0,SUM($G$66:$AD$66))","v":-2080}]
[{"$f":"Labels!$B$153","v":"Vacances (contrôle)"},{"$f":"Labels!$B$154","v":"Vacances année passée"},null,null,null,null,{"$f":"IF($AA$4=0,0,$AA$4)","v":0},null,{"$f":"Labels!$B$155","v":"Vacances selon \nart 12.1 CCT"},null,null,null,{"$f":"IF($AA$5=0,0,$AA$5)","v":0},null,{"$f":"Labels!$B$156","v":"Total des vacances"},null,null,null,{"$f":"SUM(G263+M263)","v":0},null,{"$f":"Labels!$B$157","v":"Vacances prises"},null,null,null,{"$f":"IF($AV$4=0,0,$AV$4)","v":0},null,{"$f":"Labels!$B$158","v":"Vacances restantes"},null,null,null,{"$f":"IF(S263=0,0,S263-Y263)","v":0}]
[]
[]
[{"$f":"$A$3","v":"Nom/Prénom"},{"$f":"IF($B$3=\"\",\"\",$B$3)","v":"Modèle Pierre"},null,null,null,null,null,null,null,null,null,null,null,null,null,null,null,null,null,null,null,null,null,null,null,null,null,null,null,null,null,{"$f":"AF3","v":0}]
[{"$f":"$A$4","v":"Emploi %"},{"$f":"$AL$52","v":100},null,{"$f":"Labels!B93","v":"en mai"}]
[{"$f":"$A$5","v":"Solde année en cours"},null,null,{"$f":"IF($AE$66=0,0,$AE$66)","v":-2080}]
[{"$f":"TEXT(DATE(YEAR(AP29),MONTH(AP29)+4,1),\"MMMM\"&Labels!B13)","v":"mai"},{"$f":"$B$9","v":"Solde mois + / -"},null,null,null,{"$f":"(AG272-(SUM(AG273:AG287)-AE294))*-1","v":-184},null,null,null,null,{"$f":"$K$9","v":" = "},{"$f":"$L$9","v":"Les cases marquées en jaune doivent être remplies (les autres seront calculées automatiquement)"},null,null,null,null,null,null,null,null,null,null,null,null,null,null,null,null,null,null,null,null,{"$f":"COUNT(B272:AF272)&\" \"&Labels!$B$63","v":"23 Jours"}]
[{"$f":"$A$10","v":"Jour"},{"$f":"AE205+1","v":"2023-05-01"},{"$f":"B270+1","v":"2023-05-02"},{"$f":"C270+1","v":"2023-05-03"},"2023-05-04","2023-05-05","2023-05-06","2023-05-07","2023-05-08","2023-05-09","2023-05-10","2023-05-11","2023-05-12","2023-05-13","2023-05-14","2023-05-15","2023-05-16","2023-05-17","2023-05-18","2023-05-19","2023-05-20","2023-05-21","2023-05-22","2023-05-23","2023-05-24","2023-05-25","2023-05-26","2023-05-27","2023-05-28","2023-05-29","2023-05-30","2023-05-31"]
[{"$f":"$A$11","v":"semaine civile"},{"$f":"IF(B270=\"\",\"\",TRUNC((B270-DATE(YEAR(B270+3-MOD(B270-2,7)),1,MOD(B270-2,7)-9))/7))","v":18},18,18,18,18,18,18,19,19,19,19,19,19,19,20,20,20,20,20,20,20,21,21,21,21,21,21,21,22,22,22,null,"Woche"]
[{"$f":"$A$12","v":"Théorique sel. CCT"},{"$f":"IF(AND(MOD(B270,7)>=2,SUMPRODUCT(($AM$60:$AQ$60=MOD(B270,7))*$AM$52:$AQ$52),B929=\"\"),$J$7*SUMPRODUCT(($AM$77:$AQ$77=MOD(B270,7))*$AM$69:$AQ$69)%,\"\")","v":8},{"$f":"IF(AND(MOD(C270,7)>=2,SUMPRODUCT(($AM$60:$AQ$60=MOD(C270,7))*$AM$52:$AQ$52),C929=\"\"),$J$7*SUMPRODUCT(($AM$77:$AQ$77=MOD(C270,7))*$AM$69:$AQ$69)%,\"\")","v":8},{"$f":"IF(AND(MOD(D270,7)>=2,SUMPRODUCT(($AM$60:$AQ$60=MOD(D270,7))*$AM$52:$AQ$52),D929=\"\"),$J$7*SUMPRODUCT(($AM$77:$AQ$77=MOD(D270,7))*$AM$69:$AQ$69)%,\"\")","v":8},{"$f":"IF(AND(MOD(E270,7)>=2,SUMPRODUCT(($AM$60:$AQ$60=MOD(E270,7))*$AM$52:$AQ$52),E929=\"\"),$J$7*SUMPRODUCT(($AM$77:$AQ$77=MOD(E270,7))*$AM$69:$AQ$69)%,\"\")","v":8},{"$f":"IF(AND(MOD(F270,7)>=2,SUMPRODUCT(($AM$60:$AQ$60=MOD(F270,7))*$AM$52:$AQ$52),F929=\"\"),$J$7*SUMPRODUCT(($AM$77:$AQ$77=MOD(F270,7))*$AM$69:$AQ$69)%,\"\")","v":8},{"$f":"IF(AND(MOD(G270,7)>=2,SUMPRODUCT(($AM$60:$AQ$60=MOD(G270,7))*$AM$52:$AQ$52),G929=\"\"),$J$7*SUMPRODUCT(($AM$77:$AQ$77=MOD(G270,7))*$AM$69:$AQ$69)%,\"\")","v":""},{"$f":"IF(AND(MOD(H270,7)>=2,SUMPRODUCT(($AM$60:$AQ$60=MOD(H270,7))*$AM$52:$AQ$52),H929=\"\"),$J$7*SUMPRODUCT(($AM$77:$AQ$77=MOD(H270,7))*$AM$69:$AQ$69)%,\"\")","v":""},{"$f":"IF(AND(MOD(I270,7)>=2,SUMPRODUCT(($AM$60:$AQ$60=MOD(I270,7))*$AM$52:$AQ$52),I929=\"\"),$J$7*SUMPRODUCT(($AM$77:$AQ$77=MOD(I270,7))*$AM$69:$AQ$69)%,\"\")","v":8},{"$f":"IF(AND(MOD(J270,7)>=2,SUMPRODUCT(($AM$60:$AQ$60=MOD(J270,7))*$AM$52:$AQ$52),J929=\"\"),$J$7*SUMPRODUCT(($AM$77:$AQ$77=MOD(J270,7))*$AM$69:$AQ$69)%,\"\")","v":8},{"$f":"IF(AND(MOD(K270,7)>=2,SUMPRODUCT(($AM$60:$AQ$60=MOD(K270,7))*$AM$52:$AQ$52),K929=\"\"),$J$7*SUMPRODUCT(($AM$77:$AQ$77=MOD(K270,7))*$AM$69:$AQ$69)%,\"\")","v":8},{"$f":"IF(AND(MOD(L270,7)>=2,SUMPRODUCT(($AM$60:$AQ$60=MOD(L270,7))*$AM$52:$AQ$52),L929=\"\"),$J$7*SUMPRODUCT(($AM$77:$AQ$77=MOD(L270,7))*$AM$69:$AQ$69)%,\"\")","v":8},{"$f":"IF(AND(MOD(M270,7)>=2,SUMPRODUCT(($AM$60:$AQ$60=MOD(M270,7))*$AM$52:$AQ$52),M929=\"\"),$J$7*SUMPRODUCT(($AM$77:$AQ$77=MOD(M270,7))*$AM$69:$AQ$69)%,\"\")","v":8},{"$f":"IF(AND(MOD(N270,7)>=2,SUMPRODUCT(($AM$60:$AQ$60=MOD(N270,7))*$AM$52:$AQ$52),N929=\"\"),$J$7*SUMPRODUCT(($AM$77:$AQ$77=MOD(N270,7))*$AM$69:$AQ$69)%,\"\")","v":""},{"$f":"IF(AND(MOD(O270,7)>=2,SUMPRODUCT(($AM$60:$AQ$60=MOD(O270,7))*$AM$52:$AQ$52),O929=\"\"),$J$7*SUMPRODUCT(($AM$77:$AQ$77=MOD(O270,7))*$AM$69:$AQ$69)%,\"\")","v":""},{"$f":"IF(AND(MOD(P270,7)>=2,SUMPRODUCT(($AM$60:$AQ$60=MOD(P270,7))*$AM$52:$AQ$52),P929=\"\"),$J$7*SUMPRODUCT(($AM$77:$AQ$77=MOD(P270,7))*$AM$69:$AQ$69)%,\"\")","v":8},{"$f":"IF(AND(MOD(Q270,7)>=2,SUMPRODUCT(($AM$60:$AQ$60=MOD(Q270,7))*$AM$52:$AQ$52),Q929=\"\"),$J$7*SUMPRODUCT(($AM$77:$AQ$77=MOD(Q270,7))*$AM$69:$AQ$69)%,\"\")","v":8},{"$f":"IF(AND(MOD(R270,7)>=2,SUMPRODUCT(($AM$60:$AQ$60=MOD(R270,7))*$AM$52:$AQ$52),R929=\"\"),$J$7*SUMPRODUCT(($AM$77:$AQ$77=MOD(R270,7))*$AM$69:$AQ$69)%,\"\")","v":8},{"$f":"IF(AND(MOD(S270,7)>=2,SUMPRODUCT(($AM$60:$AQ$60=MOD(S270,7))*$AM$52:$AQ$52),S929=\"\"),$J$7*SUMPRODUCT(($AM$77:$AQ$77=MOD(S270,7))*$AM$69:$AQ$69)%,\"\")","v":8},{"$f":"IF(AND(MOD(T270,7)>=2,SUMPRODUCT(($AM$60:$AQ$60=MOD(T270,7))*$AM$52:$AQ$52),T929=\"\"),$J$7*SUMPRODUCT(($AM$77:$AQ$77=MOD(T270,7))*$AM$69:$AQ$69)%,\"\")","v":8},{"$f":"IF(AND(MOD(U270,7)>=2,SUMPRODUCT(($AM$60:$AQ$60=MOD(U270,7))*$AM$52:$AQ$52),U929=\"\"),$J$7*SUMPRODUCT(($AM$77:$AQ$77=MOD(U270,7))*$AM$69:$AQ$69)%,\"\")","v":""},{"$f":"IF(AND(MOD(V270,7)>=2,SUMPRODUCT(($AM$60:$AQ$60=MOD(V270,7))*$AM$52:$AQ$52),V929=\"\"),$J$7*SUMPRODUCT(($AM$77:$AQ$77=MOD(V270,7))*$AM$69:$AQ$69)%,\"\")","v":""},{"$f":"IF(AND(MOD(W270,7)>=2,SUMPRODUCT(($AM$60:$AQ$60=MOD(W270,7))*$AM$52:$AQ$52),W929=\"\"),$J$7*SUMPRODUCT(($AM$77:$AQ$77=MOD(W270,7))*$AM$69:$AQ$69)%,\"\")","v":8},{"$f":"IF(AND(MOD(X270,7)>=2,SUMPRODUCT(($AM$60:$AQ$60=MOD(X270,7))*$AM$52:$AQ$52),X929=\"\"),$J$7*SUMPRODUCT(($AM$77:$AQ$77=MOD(X270,7))*$AM$69:$AQ$69)%,\"\")","v":8},{"$f":"IF(AND(MOD(Y270,7)>=2,SUMPRODUCT(($AM$60:$AQ$60=MOD(Y270,7))*$AM$52:$AQ$52),Y929=\"\"),$J$7*SUMPRODUCT(($AM$77:$AQ$77=MOD(Y270,7))*$AM$69:$AQ$69)%,\"\")","v":8},{"$f":"IF(AND(MOD(Z270,7)>=2,SUMPRODUCT(($AM$60:$AQ$60=MOD(Z270,7))*$AM$52:$AQ$52),Z929=\"\"),$J$7*SUMPRODUCT(($AM$77:$AQ$77=MOD(Z270,7))*$AM$69:$AQ$69)%,\"\")","v":8},{"$f":"IF(AND(MOD(AA270,7)>=2,SUMPRODUCT(($AM$60:$AQ$60=MOD(AA270,7))*$AM$52:$AQ$52),AA929=\"\"),$J$7*SUMPRODUCT(($AM$77:$AQ$77=MOD(AA270,7))*$AM$69:$AQ$69)%,\"\")","v":8},{"$f":"IF(AND(MOD(AB270,7)>=2,SUMPRODUCT(($AM$60:$AQ$60=MOD(AB270,7))*$AM$52:$AQ$52),AB929=\"\"),$J$7*SUMPRODUCT(($AM$77:$AQ$77=MOD(AB270,7))*$AM$69:$AQ$69)%,\"\")","v":""},{"$f":"IF(AND(MOD(AC270,7)>=2,SUMPRODUCT(($AM$60:$AQ$60=MOD(AC270,7))*$AM$52:$AQ$52),AC929=\"\"),$J$7*SUMPRODUCT(($AM$77:$AQ$77=MOD(AC270,7))*$AM$69:$AQ$69)%,\"\")","v":""},{"$f":"IF(AND(MOD(AD270,7)>=2,SUMPRODUCT(($AM$60:$AQ$60=MOD(AD270,7))*$AM$52:$AQ$52),AD929=\"\"),$J$7*SUMPRODUCT(($AM$77:$AQ$77=MOD(AD270,7))*$AM$69:$AQ$69)%,\"\")","v":8},{"$f":"IF(AND(MOD(AE270,7)>=2,SUMPRODUCT(($AM$60:$AQ$60=MOD(AE270,7))*$AM$52:$AQ$52),AE929=\"\"),$J$7*SUMPRODUCT(($AM$77:$AQ$77=MOD(AE270,7))*$AM$69:$AQ$69)%,\"\")","v":8},{"$f":"IF(AND(MOD(AF270,7)>=2,SUMPRODUCT(($AM$60:$AQ$60=MOD(AF270,7))*$AM$52:$AQ$52),AF929=\"\"),$J$7*SUMPRODUCT(($AM$77:$AQ$77=MOD(AF270,7))*$AM$69:$AQ$69)%,\"\")","v":8},{"$f":"SUM(B272:AF272)","v":184},"[00]"]
[{"$f":"$A$13","v":"Absences"},{"$f":"B945","v":0},{"$f":"C945","v":0},0,0,0,0,0,0,0,0,0,0,0,0,0,0,0,0,0,0,0,0,0,0,0,0,0,0,0,0,0,{"$f":"SUM($AN$3:$AN$13)","v":0},"[01]"]
[{"$f":"$A$14","v":"Code"},{"$f":"IF(SUM(B932:B944)<>0,IF(MAX(B932:B944)<B945,Labels!$B$163,INDEX($AH$932:$AH$944,MATCH(MAX(B932:B944),B932:B944,0))),\"\")","v":""},{"$f":"IF(SUM(C932:C944)<>0,IF(MAX(C932:C944)<C945,Labels!$B$163,INDEX($AH$932:$AH$944,MATCH(MAX(C932:C944),C932:C944,0))),\"\")","v":""},{"$f":"IF(SUM(D932:D944)<>0,IF(MAX(D932:D944)<D945,Labels!$B$163,INDEX($AH$932:$AH$944,MATCH(MAX(D932:D944),D932:D944,0))),\"\")","v":""},{"$f":"IF(SUM(E932:E944)<>0,IF(MAX(E932:E944)<E945,Labels!$B$163,INDEX($AH$932:$AH$944,MATCH(MAX(E932:E944),E932:E944,0))),\"\")","v":""},{"$f":"IF(SUM(F932:F944)<>0,IF(MAX(F932:F944)<F945,Labels!$B$163,INDEX($AH$932:$AH$944,MATCH(MAX(F932:F944),F932:F944,0))),\"\")","v":""},{"$f":"IF(SUM(G932:G944)<>0,IF(MAX(G932:G944)<G945,Labels!$B$163,INDEX($AH$932:$AH$944,MATCH(MAX(G932:G944),G932:G944,0))),\"\")","v":""},{"$f":"IF(SUM(H932:H944)<>0,IF(MAX(H932:H944)<H945,Labels!$B$163,INDEX($AH$932:$AH$944,MATCH(MAX(H932:H944),H932:H944,0))),\"\")","v":""},{"$f":"IF(SUM(I932:I944)<>0,IF(MAX(I932:I944)<I945,Labels!$B$163,INDEX($AH$932:$AH$944,MATCH(MAX(I932:I944),I932:I944,0))),\"\")","v":""},{"$f":"IF(SUM(J932:J944)<>0,IF(MAX(J932:J944)<J945,Labels!$B$163,INDEX($AH$932:$AH$944,MATCH(MAX(J932:J944),J932:J944,0))),\"\")","v":""},{"$f":"IF(SUM(K932:K944)<>0,IF(MAX(K932:K944)<K945,Labels!$B$163,INDEX($AH$932:$AH$944,MATCH(MAX(K932:K944),K932:K944,0))),\"\")","v":""},{"$f":"IF(SUM(L932:L944)<>0,IF(MAX(L932:L944)<L945,Labels!$B$163,INDEX($AH$932:$AH$944,MATCH(MAX(L932:L944),L932:L944,0))),\"\")","v":""},{"$f":"IF(SUM(M932:M944)<>0,IF(MAX(M932:M944)<M945,Labels!$B$163,INDEX($AH$932:$AH$944,MATCH(MAX(M932:M944),M932:M944,0))),\"\")","v":""},{"$f":"IF(SUM(N932:N944)<>0,IF(MAX(N932:N944)<N945,Labels!$B$163,INDEX($AH$932:$AH$944,MATCH(MAX(N932:N944),N932:N944,0))),\"\")","v":""},{"$f":"IF(SUM(O932:O944)<>0,IF(MAX(O932:O944)<O945,Labels!$B$163,INDEX($AH$932:$AH$944,MATCH(MAX(O932:O944),O932:O944,0))),\"\")","v":""},{"$f":"IF(SUM(P932:P944)<>0,IF(MAX(P932:P944)<P945,Labels!$B$163,INDEX($AH$932:$AH$944,MATCH(MAX(P932:P944),P932:P944,0))),\"\")","v":""},{"$f":"IF(SUM(Q932:Q944)<>0,IF(MAX(Q932:Q944)<Q945,Labels!$B$163,INDEX($AH$932:$AH$944,MATCH(MAX(Q932:Q944),Q932:Q944,0))),\"\")","v":""},{"$f":"IF(SUM(R932:R944)<>0,IF(MAX(R932:R944)<R945,Labels!$B$163,INDEX($AH$932:$AH$944,MATCH(MAX(R932:R944),R932:R944,0))),\"\")","v":""},{"$f":"IF(SUM(S932:S944)<>0,IF(MAX(S932:S944)<S945,Labels!$B$163,INDEX($AH$932:$AH$944,MATCH(MAX(S932:S944),S932:S944,0))),\"\")","v":""},{"$f":"IF(SUM(T932:T944)<>0,IF(MAX(T932:T944)<T945,Labels!$B$163,INDEX($AH$932:$AH$944,MATCH(MAX(T932:T944),T932:T944,0))),\"\")","v":""},{"$f":"IF(SUM(U932:U944)<>0,IF(MAX(U932:U944)<U945,Labels!$B$163,INDEX($AH$932:$AH$944,MATCH(MAX(U932:U944),U932:U944,0))),\"\")","v":""},{"$f":"IF(SUM(V932:V944)<>0,IF(MAX(V932:V944)<V945,Labels!$B$163,INDEX($AH$932:$AH$944,MATCH(MAX(V932:V944),V932:V944,0))),\"\")","v":""},{"$f":"IF(SUM(W932:W944)<>0,IF(MAX(W932:W944)<W945,Labels!$B$163,INDEX($AH$932:$AH$944,MATCH(MAX(W932:W944),W932:W944,0))),\"\")","v":""},{"$f":"IF(SUM(X932:X944)<>0,IF(MAX(X932:X944)<X945,Labels!$B$163,INDEX($AH$932:$AH$944,MATCH(MAX(X932:X944),X932:X944,0))),\"\")","v":""},{"$f":"IF(SUM(Y932:Y944)<>0,IF(MAX(Y932:Y944)<Y945,Labels!$B$163,INDEX($AH$932:$AH$944,MATCH(MAX(Y932:Y944),Y932:Y944,0))),\"\")","v":""},{"$f":"IF(SUM(Z932:Z944)<>0,IF(MAX(Z932:Z944)<Z945,Labels!$B$163,INDEX($AH$932:$AH$944,MATCH(MAX(Z932:Z944),Z932:Z944,0))),\"\")","v":""},{"$f":"IF(SUM(AA932:AA944)<>0,IF(MAX(AA932:AA944)<AA945,Labels!$B$163,INDEX($AH$932:$AH$944,MATCH(MAX(AA932:AA944),AA932:AA944,0))),\"\")","v":""},{"$f":"IF(SUM(AB932:AB944)<>0,IF(MAX(AB932:AB944)<AB945,Labels!$B$163,INDEX($AH$932:$AH$944,MATCH(MAX(AB932:AB944),AB932:AB944,0))),\"\")","v":""},{"$f":"IF(SUM(AC932:AC944)<>0,IF(MAX(AC932:AC944)<AC945,Labels!$B$163,INDEX($AH$932:$AH$944,MATCH(MAX(AC932:AC944),AC932:AC944,0))),\"\")","v":""},{"$f":"IF(SUM(AD932:AD944)<>0,IF(MAX(AD932:AD944)<AD945,Labels!$B$163,INDEX($AH$932:$AH$944,MATCH(MAX(AD932:AD944),AD932:AD944,0))),\"\")","v":""},{"$f":"IF(SUM(AE932:AE944)<>0,IF(MAX(AE932:AE944)<AE945,Labels!$B$163,INDEX($AH$932:$AH$944,MATCH(MAX(AE932:AE944),AE932:AE944,0))),\"\")","v":""},{"$f":"IF(SUM(AF932:AF944)<>0,IF(MAX(AF932:AF944)<AF945,Labels!$B$163,INDEX($AH$932:$AH$944,MATCH(MAX(AF932:AF944),AF932:AF944,0))),\"\")","v":""},{"$f":"$AN$16*-1","v":0},"[02]"]
[{"$f":"$A$15","v":"00h00-06h00 1)"},null,null,null,null,null,null,null,null,null,null,null,null,null,null,null,null,null,null,null,null,null,null,null,null,null,null,null,null,null,null,null,{"$f":"SUM(B275:AF275)","v":0},"[04]"]
[{"$f":"$A$16","v":"06h00-20h00 2)"},null,null,null,null,null,null,null,null,null,null,null,null,null,null,null,null,null,null,null,null,null,null,null,null,null,null,null,null,null,null,null,{"$f":"SUMPRODUCT(B276:AF276*(B272:AF272<>\"\"))-SUMPRODUCT(B276:AF276*(B278:AF278=\"ft\"))","v":0},"[03]"]
[{"$f":"$A$17","v":"20h00-24h00 3)"},null,null,null,null,null,null,null,null,null,null,null,null,null,null,null,null,null,null,null,null,null,null,null,null,null,null,null,null,null,null,null,{"$f":"SUM(B277:AF277)","v":0},"[05]"]
[{"$f":"$A$18","v":"Jours fériés \"jf\""},{"$f":"IF(WEEKDAY(B270,2)<=6,IF(CALENDRIER!E11=\"x\",Labels!$B$118,\"\"),\"\")","v":""},{"$f":"IF(WEEKDAY(C270,2)<=6,IF(CALENDRIER!F11=\"x\",Labels!$B$118,\"\"),\"\")","v":""},{"$f":"IF(WEEKDAY(D270,2)<=6,IF(CALENDRIER!G11=\"x\",Labels!$B$118,\"\"),\"\")","v":""},{"$f":"IF(WEEKDAY(E270,2)<=6,IF(CALENDRIER!H11=\"x\",Labels!$B$118,\"\"),\"\")","v":""},{"$f":"IF(WEEKDAY(F270,2)<=6,IF(CALENDRIER!I11=\"x\",Labels!$B$118,\"\"),\"\")","v":""},{"$f":"IF(WEEKDAY(G270,2)<=6,IF(CALENDRIER!J11=\"x\",Labels!$B$118,\"\"),\"\")","v":""},{"$f":"IF(WEEKDAY(H270,2)<=6,IF(CALENDRIER!K11=\"x\",Labels!$B$118,\"\"),\"\")","v":""},{"$f":"IF(WEEKDAY(I270,2)<=6,IF(CALENDRIER!L11=\"x\",Labels!$B$118,\"\"),\"\")","v":""},{"$f":"IF(WEEKDAY(J270,2)<=6,IF(CALENDRIER!M11=\"x\",Labels!$B$118,\"\"),\"\")","v":""},{"$f":"IF(WEEKDAY(K270,2)<=6,IF(CALENDRIER!N11=\"x\",Labels!$B$118,\"\"),\"\")","v":""},{"$f":"IF(WEEKDAY(L270,2)<=6,IF(CALENDRIER!O11=\"x\",Labels!$B$118,\"\"),\"\")","v":""},{"$f":"IF(WEEKDAY(M270,2)<=6,IF(CALENDRIER!P11=\"x\",Labels!$B$118,\"\"),\"\")","v":""},{"$f":"IF(WEEKDAY(N270,2)<=6,IF(CALENDRIER!Q11=\"x\",Labels!$B$118,\"\"),\"\")","v":""},{"$f":"IF(WEEKDAY(O270,2)<=6,IF(CALENDRIER!R11=\"x\",Labels!$B$118,\"\"),\"\")","v":""},{"$f":"IF(WEEKDAY(P270,2)<=6,IF(CALENDRIER!S11=\"x\",Labels!$B$118,\"\"),\"\")","v":""},{"$f":"IF(WEEKDAY(Q270,2)<=6,IF(CALENDRIER!T11=\"x\",Labels!$B$118,\"\"),\"\")","v":""},{"$f":"IF(WEEKDAY(R270,2)<=6,IF(CALENDRIER!U11=\"x\",Labels!$B$118,\"\"),\"\")","v":""},{"$f":"IF(WEEKDAY(S270,2)<=6,IF(CALENDRIER!V11=\"x\",Labels!$B$118,\"\"),\"\")","v":""},{"$f":"IF(WEEKDAY(T270,2)<=6,IF(CALENDRIER!W11=\"x\",Labels!$B$118,\"\"),\"\")","v":""},{"$f":"IF(WEEKDAY(U270,2)<=6,IF(CALENDRIER!X11=\"x\",Labels!$B$118,\"\"),\"\")","v":""},{"$f":"IF(WEEKDAY(V270,2)<=6,IF(CALENDRIER!Y11=\"x\",Labels!$B$118,\"\"),\"\")","v":""},{"$f":"IF(WEEKDAY(W270,2)<=6,IF(CALENDRIER!Z11=\"x\",Labels!$B$118,\"\"),\"\")","v":""},{"$f":"IF(WEEKDAY(X270,2)<=6,IF(CALENDRIER!AA11=\"x\",Labels!$B$118,\"\"),\"\")","v":""},{"$f":"IF(WEEKDAY(Y270,2)<=6,IF(CALENDRIER!AB11=\"x\",Labels!$B$118,\"\"),\"\")","v":""},{"$f":"IF(WEEKDAY(Z270,2)<=6,IF(CALENDRIER!AC11=\"x\",Labels!$B$118,\"\"),\"\")","v":""},{"$f":"IF(WEEKDAY(AA270,2)<=6,IF(CALENDRIER!AD11=\"x\",Labels!$B$118,\"\"),\"\")","v":""},{"$f":"IF(WEEKDAY(AB270,2)<=6,IF(CALENDRIER!AE11=\"x\",Labels!$B$118,\"\"),\"\")","v":""},{"$f":"IF(WEEKDAY(AC270,2)<=6,IF(CALENDRIER!AF11=\"x\",Labels!$B$118,\"\"),\"\")","v":""},{"$f":"IF(WEEKDAY(AD270,2)<=6,IF(CALENDRIER!AG11=\"x\",Labels!$B$118,\"\"),\"\")","v":""},{"$f":"IF(WEEKDAY(AE270,2)<=6,IF(CALENDRIER!AH11=\"x\",Labels!$B$118,\"\"),\"\")","v":""},{"$f":"IF(WEEKDAY(AF270,2)<=6,IF(CALENDRIER!AI11=\"x\",Labels!$B$118,\"\"),\"\")","v":""},{"$f":"SUM(B276:AF276)-AG276","v":0},"[03b]"]
[{"$f":"$A$19","v":"Majoration  \"jf\""},{"$f":"IF(AND(B278=Labels!$B$118,WEEKDAY(B270,2)<6,B$272<>\"\"),$J$7*SUMPRODUCT(($AM$77:$AQ$77=MOD(B270,7))*$AM$69:$AQ$69)%,\"\")","v":""},{"$f":"IF(AND(C278=Labels!$B$118,WEEKDAY(C270,2)<6,C$272<>\"\"),$J$7*SUMPRODUCT(($AM$77:$AQ$77=MOD(C270,7))*$AM$69:$AQ$69)%,\"\")","v":""},{"$f":"IF(AND(D278=Labels!$B$118,WEEKDAY(D270,2)<6,D$272<>\"\"),$J$7*SUMPRODUCT(($AM$77:$AQ$77=MOD(D270,7))*$AM$69:$AQ$69)%,\"\")","v":""},{"$f":"IF(AND(E278=Labels!$B$118,WEEKDAY(E270,2)<6,E$272<>\"\"),$J$7*SUMPRODUCT(($AM$77:$AQ$77=MOD(E270,7))*$AM$69:$AQ$69)%,\"\")","v":""},{"$f":"IF(AND(F278=Labels!$B$118,WEEKDAY(F270,2)<6,F$272<>\"\"),$J$7*SUMPRODUCT(($AM$77:$AQ$77=MOD(F270,7))*$AM$69:$AQ$69)%,\"\")","v":""},{"$f":"IF(AND(G278=Labels!$B$118,WEEKDAY(G270,2)<6,G$272<>\"\"),$J$7*SUMPRODUCT(($AM$77:$AQ$77=MOD(G270,7))*$AM$69:$AQ$69)%,\"\")","v":""},{"$f":"IF(AND(H278=Labels!$B$118,WEEKDAY(H270,2)<6,H$272<>\"\"),$J$7*SUMPRODUCT(($AM$77:$AQ$77=MOD(H270,7))*$AM$69:$AQ$69)%,\"\")","v":""},{"$f":"IF(AND(I278=Labels!$B$118,WEEKDAY(I270,2)<6,I$272<>\"\"),$J$7*SUMPRODUCT(($AM$77:$AQ$77=MOD(I270,7))*$AM$69:$AQ$69)%,\"\")","v":""},{"$f":"IF(AND(J278=Labels!$B$118,WEEKDAY(J270,2)<6,J$272<>\"\"),$J$7*SUMPRODUCT(($AM$77:$AQ$77=MOD(J270,7))*$AM$69:$AQ$69)%,\"\")","v":""},{"$f":"IF(AND(K278=Labels!$B$118,WEEKDAY(K270,2)<6,K$272<>\"\"),$J$7*SUMPRODUCT(($AM$77:$AQ$77=MOD(K270,7))*$AM$69:$AQ$69)%,\"\")","v":""},{"$f":"IF(AND(L278=Labels!$B$118,WEEKDAY(L270,2)<6,L$272<>\"\"),$J$7*SUMPRODUCT(($AM$77:$AQ$77=MOD(L270,7))*$AM$69:$AQ$69)%,\"\")","v":""},{"$f":"IF(AND(M278=Labels!$B$118,WEEKDAY(M270,2)<6,M$272<>\"\"),$J$7*SUMPRODUCT(($AM$77:$AQ$77=MOD(M270,7))*$AM$69:$AQ$69)%,\"\")","v":""},{"$f":"IF(AND(N278=Labels!$B$118,WEEKDAY(N270,2)<6,N$272<>\"\"),$J$7*SUMPRODUCT(($AM$77:$AQ$77=MOD(N270,7))*$AM$69:$AQ$69)%,\"\")","v":""},{"$f":"IF(AND(O278=Labels!$B$118,WEEKDAY(O270,2)<6,O$272<>\"\"),$J$7*SUMPRODUCT(($AM$77:$AQ$77=MOD(O270,7))*$AM$69:$AQ$69)%,\"\")","v":""},{"$f":"IF(AND(P278=Labels!$B$118,WEEKDAY(P270,2)<6,P$272<>\"\"),$J$7*SUMPRODUCT(($AM$77:$AQ$77=MOD(P270,7))*$AM$69:$AQ$69)%,\"\")","v":""},{"$f":"IF(AND(Q278=Labels!$B$118,WEEKDAY(Q270,2)<6,Q$272<>\"\"),$J$7*SUMPRODUCT(($AM$77:$AQ$77=MOD(Q270,7))*$AM$69:$AQ$69)%,\"\")","v":""},{"$f":"IF(AND(R278=Labels!$B$118,WEEKDAY(R270,2)<6,R$272<>\"\"),$J$7*SUMPRODUCT(($AM$77:$AQ$77=MOD(R270,7))*$AM$69:$AQ$69)%,\"\")","v":""},{"$f":"IF(AND(S278=Labels!$B$118,WEEKDAY(S270,2)<6,S$272<>\"\"),$J$7*SUMPRODUCT(($AM$77:$AQ$77=MOD(S270,7))*$AM$69:$AQ$69)%,\"\")","v":""},{"$f":"IF(AND(T278=Labels!$B$118,WEEKDAY(T270,2)<6,T$272<>\"\"),$J$7*SUMPRODUCT(($AM$77:$AQ$77=MOD(T270,7))*$AM$69:$AQ$69)%,\"\")","v":""},{"$f":"IF(AND(U278=Labels!$B$118,WEEKDAY(U270,2)<6,U$272<>\"\"),$J$7*SUMPRODUCT(($AM$77:$AQ$77=MOD(U270,7))*$AM$69:$AQ$69)%,\"\")","v":""},{"$f":"IF(AND(V278=Labels!$B$118,WEEKDAY(V270,2)<6,V$272<>\"\"),$J$7*SUMPRODUCT(($AM$77:$AQ$77=MOD(V270,7))*$AM$69:$AQ$69)%,\"\")","v":""},{"$f":"IF(AND(W278=Labels!$B$118,WEEKDAY(W270,2)<6,W$272<>\"\"),$J$7*SUMPRODUCT(($AM$77:$AQ$77=MOD(W270,7))*$AM$69:$AQ$69)%,\"\")","v":""},{"$f":"IF(AND(X278=Labels!$B$118,WEEKDAY(X270,2)<6,X$272<>\"\"),$J$7*SUMPRODUCT(($AM$77:$AQ$77=MOD(X270,7))*$AM$69:$AQ$69)%,\"\")","v":""},{"$f":"IF(AND(Y278=Labels!$B$118,WEEKDAY(Y270,2)<6,Y$272<>\"\"),$J$7*SUMPRODUCT(($AM$77:$AQ$77=MOD(Y270,7))*$AM$69:$AQ$69)%,\"\")","v":""},{"$f":"IF(AND(Z278=Labels!$B$118,WEEKDAY(Z270,2)<6,Z$272<>\"\"),$J$7*SUMPRODUCT(($AM$77:$AQ$77=MOD(Z270,7))*$AM$69:$AQ$69)%,\"\")","v":""},{"$f":"IF(AND(AA278=Labels!$B$118,WEEKDAY(AA270,2)<6,AA$272<>\"\"),$J$7*SUMPRODUCT(($AM$77:$AQ$77=MOD(AA270,7))*$AM$69:$AQ$69)%,\"\")","v":""},{"$f":"IF(AND(AB278=Labels!$B$118,WEEKDAY(AB270,2)<6,AB$272<>\"\"),$J$7*SUMPRODUCT(($AM$77:$AQ$77=MOD(AB270,7))*$AM$69:$AQ$69)%,\"\")","v":""},{"$f":"IF(AND(AC278=Labels!$B$118,WEEKDAY(AC270,2)<6,AC$272<>\"\"),$J$7*SUMPRODUCT(($AM$77:$AQ$77=MOD(AC270,7))*$AM$69:$AQ$69)%,\"\")","v":""},{"$f":"IF(AND(AD278=Labels!$B$118,WEEKDAY(AD270,2)<6,AD$272<>\"\"),$J$7*SUMPRODUCT(($AM$77:$AQ$77=MOD(AD270,7))*$AM$69:$AQ$69)%,\"\")","v":""},{"$f":"IF(AND(AE278=Labels!$B$118,WEEKDAY(AE270,2)<6,AE$272<>\"\"),$J$7*SUMPRODUCT(($AM$77:$AQ$77=MOD(AE270,7))*$AM$69:$AQ$69)%,\"\")","v":""},{"$f":"IF(AND(AF278=Labels!$B$118,WEEKDAY(AF270,2)<6,AF$272<>\"\"),$J$7*SUMPRODUCT(($AM$77:$AQ$77=MOD(AF270,7))*$AM$69:$AQ$69)%,\"\")","v":""},{"$f":"SUM(B279:AF279)","v":0},"[06]"]
[{"$f":"$A$20","v":"total quotidien"},{"$f":"SUM(B275:B277)","v":0},{"$f":"SUM(C275:C277)","v":0},0,0,0,0,0,0,0,0,0,0,0,0,0,0,0,0,0,0,0,0,0,0,0,0,0,0,0,0,0,null,"TT"]
[{"$f":"$A$21","v":"."},null,null,null,null,null,null,null,null,null,null,null,null,null,null,null,null,null,null,null,null,null,null,null,null,null,null,null,null,null,null,null,null,"R"]
[{"$f":"$A$22","v":"."},null,null,null,null,null,null,null,null,null,null,null,null,null,null,null,null,null,null,null,null,null,null,null,null,null,null,null,null,null,null,null,null,"R"]
[{"$f":"$A$23","v":"transition mois"},{"$f":"IF(WEEKDAY(B270)=1,TEXT(B270-1,\"MMM\"&Labels!B13),\"\")","v":""},null,null,null,null,null,null,null,null,null,null,null,null,null,null,null,null,null,null,null,null,null,null,null,null,null,null,null,null,null,{"$f":"IF(AND(WEEKDAY(AF270)>1,WEEKDAY(AF270)<7),TEXT(DATE($B$5,MONTH(AF270)+1,1),\"MMM\"&Labels!B13),\"\")","v":"juin"},null,"MNT"]
[{"$f":"$A$24","v":"Total hebdomadaire"},{"$f":"IF(WEEKDAY(B270)=7,SUMIF($B206:$AF206,B271,$B215:$AF215)+SUMIF($B271:$AF271,B271,$B280:$AF280)+SUMIF($B336:$AF336,B271,$B345:$AF345),B283)","v":""},{"$f":"IF(WEEKDAY(C270)=7,SUMIF($B206:$AF206,C271,$B215:$AF215)+SUMIF($B271:$AF271,C271,$B280:$AF280)+SUMIF($B336:$AF336,C271,$B345:$AF345),\"\")","v":""},"","","",0,"","","","","","",0,"","","","","","",0,"","","","","","",0,"","","",{"$f":"IF(WEEKDAY(AF270)=7,SUMIF($B206:$AF206,AF271,$B215:$AF215)+SUMIF($B271:$AF271,AF271,$B280:$AF280)+SUMIF($B336:$AF336,AF271,$B345:$AF345),AF283)","v":"juin"},null,"WT"]
[{"$f":"$A$25","v":"Majorations temp. 1)"},{"$f":"IF(B292=\"FALSCH\",\"\",B292)","v":""},{"$f":"IF(C292=\"FALSCH\",\"\",C292)","v":""},"","","","","","","","","","","","","","","","","","","","","","","","","","","","","",{"$f":"SUM(B285:AF285)","v":0},"[07]"]
[{"$f":"$A$26","v":"Majorations temp. 2)"},{"$f":"IF((B275+B277)=0,\"\",SUM(B275,B277))","v":""},{"$f":"IF((C275+C277)=0,\"\",SUM(C275,C277))","v":""},"","","","","","","","","","","","","","","","","","","","","","","","","","","","","",0,"[08]"]
[{"$f":"$A$27","v":"Majorations temp. 3)"},{"$f":"SUM(B288:B291)","v":0},{"$f":"SUM(C288:C291)","v":0},0,0,0,0,0,0,0,0,0,0,0,0,0,0,0,0,0,0,0,0,0,0,0,0,0,0,0,0,0,0,"[09]"]
[{"$f":"$A$28","v":"Dimanche journée"},{"$f":"IF(WEEKDAY(B270)=1,B276,\"\")","v":""},{"$f":"IF(WEEKDAY(C270)=1,C276,\"\")","v":""},"","","","",0,"","","","","","",0,"","","","","","",0,"","","","","","",0,"","","",0,"[09-ST]"]
[{"$f":"$A$29","v":"Dimanche nuit"},{"$f":"IF(WEEKDAY(B270)=1,SUM(B275+B277),\"\")","v":""},{"$f":"IF(WEEKDAY(C270)=1,SUM(C275+C277),\"\")","v":""},"","","","",0,"","","","","","",0,"","","","","","",0,"","","","","","",0,"","","",0,"[09-SN]"]
[{"$f":"$A$30","v":"jf-jomajoration"},{"$f":"IF(B278=Labels!$B$118,B276,\"\")","v":""},{"$f":"IF(C278=Labels!$B$118,C276,\"\")","v":""},{"$f":"IF(D278=Labels!$B$118,D276,\"\")","v":""},{"$f":"IF(E278=Labels!$B$118,E276,\"\")","v":""},{"$f":"IF(F278=Labels!$B$118,F276,\"\")","v":""},{"$f":"IF(G278=Labels!$B$118,G276,\"\")","v":""},{"$f":"IF(H278=Labels!$B$118,H276,\"\")","v":""},{"$f":"IF(I278=Labels!$B$118,I276,\"\")","v":""},{"$f":"IF(J278=Labels!$B$118,J276,\"\")","v":""},{"$f":"IF(K278=Labels!$B$118,K276,\"\")","v":""},{"$f":"IF(L278=Labels!$B$118,L276,\"\")","v":""},{"$f":"IF(M278=Labels!$B$118,M276,\"\")","v":""},{"$f":"IF(N278=Labels!$B$118,N276,\"\")","v":""},{"$f":"IF(O278=Labels!$B$118,O276,\"\")","v":""},{"$f":"IF(P278=Labels!$B$118,P276,\"\")","v":""},{"$f":"IF(Q278=Labels!$B$118,Q276,\"\")","v":""},{"$f":"IF(R278=Labels!$B$118,R276,\"\")","v":""},{"$f":"IF(S278=Labels!$B$118,S276,\"\")","v":""},{"$f":"IF(T278=Labels!$B$118,T276,\"\")","v":""},{"$f":"IF(U278=Labels!$B$118,U276,\"\")","v":""},{"$f":"IF(V278=Labels!$B$118,V276,\"\")","v":""},{"$f":"IF(W278=Labels!$B$118,W276,\"\")","v":""},{"$f":"IF(X278=Labels!$B$118,X276,\"\")","v":""},{"$f":"IF(Y278=Labels!$B$118,Y276,\"\")","v":""},{"$f":"IF(Z278=Labels!$B$118,Z276,\"\")","v":""},{"$f":"IF(AA278=Labels!$B$118,AA276,\"\")","v":""},{"$f":"IF(AB278=Labels!$B$118,AB276,\"\")","v":""},{"$f":"IF(AC278=Labels!$B$118,AC276,\"\")","v":""},{"$f":"IF(AD278=Labels!$B$118,AD276,\"\")","v":""},{"$f":"IF(AE278=Labels!$B$118,AE276,\"\")","v":""},{"$f":"IF(AF278=Labels!$B$118,AF276,\"\")","v":""},0,"[09-FT]"]
[{"$f":"$A$31","v":"jf-numajoration"},{"$f":"IF(B278=Labels!$B$118,SUM(B275,B277),\"\")","v":""},{"$f":"IF(C278=Labels!$B$118,SUM(C275,C277),\"\")","v":""},{"$f":"IF(D278=Labels!$B$118,SUM(D275,D277),\"\")","v":""},{"$f":"IF(E278=Labels!$B$118,SUM(E275,E277),\"\")","v":""},{"$f":"IF(F278=Labels!$B$118,SUM(F275,F277),\"\")","v":""},{"$f":"IF(G278=Labels!$B$118,SUM(G275,G277),\"\")","v":""},{"$f":"IF(H278=Labels!$B$118,SUM(H275,H277),\"\")","v":""},{"$f":"IF(I278=Labels!$B$118,SUM(I275,I277),\"\")","v":""},{"$f":"IF(J278=Labels!$B$118,SUM(J275,J277),\"\")","v":""},{"$f":"IF(K278=Labels!$B$118,SUM(K275,K277),\"\")","v":""},{"$f":"IF(L278=Labels!$B$118,SUM(L275,L277),\"\")","v":""},{"$f":"IF(M278=Labels!$B$118,SUM(M275,M277),\"\")","v":""},{"$f":"IF(N278=Labels!$B$118,SUM(N275,N277),\"\")","v":""},{"$f":"IF(O278=Labels!$B$118,SUM(O275,O277),\"\")","v":""},{"$f":"IF(P278=Labels!$B$118,SUM(P275,P277),\"\")","v":""},{"$f":"IF(Q278=Labels!$B$118,SUM(Q275,Q277),\"\")","v":""},{"$f":"IF(R278=Labels!$B$118,SUM(R275,R277),\"\")","v":""},{"$f":"IF(S278=Labels!$B$118,SUM(S275,S277),\"\")","v":""},{"$f":"IF(T278=Labels!$B$118,SUM(T275,T277),\"\")","v":""},{"$f":"IF(U278=Labels!$B$118,SUM(U275,U277),\"\")","v":""},{"$f":"IF(V278=Labels!$B$118,SUM(V275,V277),\"\")","v":""},{"$f":"IF(W278=Labels!$B$118,SUM(W275,W277),\"\")","v":""},{"$f":"IF(X278=Labels!$B$118,SUM(X275,X277),\"\")","v":""},{"$f":"IF(Y278=Labels!$B$118,SUM(Y275,Y277),\"\")","v":""},{"$f":"IF(Z278=Labels!$B$118,SUM(Z275,Z277),\"\")","v":""},{"$f":"IF(AA278=Labels!$B$118,SUM(AA275,AA277),\"\")","v":""},{"$f":"IF(AB278=Labels!$B$118,SUM(AB275,AB277),\"\")","v":""},{"$f":"IF(AC278=Labels!$B$118,SUM(AC275,AC277),\"\")","v":""},{"$f":"IF(AD278=Labels!$B$118,SUM(AD275,AD277),\"\")","v":""},{"$f":"IF(AE278=Labels!$B$118,SUM(AE275,AE277),\"\")","v":""},{"$f":"IF(AF278=Labels!$B$118,SUM(AF275,AF277),\"\")","v":""},0,"[09-FN]"]
[{"$f":"$A$32","v":"majoration caché (total hebd.)"},{"$f":"IF($B267>=80,IF(OR(ISTEXT(B284),B284=\"\",B284<$B$7),\"\",ROUND(((B284-$B$7)*25%)/25,4)*25),IF(B280>($B$7/5),ROUND(((B280-($B$7/5))*25%)/25,4)*25,\"\"))","v":""},{"$f":"IF($B267>=80,IF(OR(ISTEXT(C284),C284=\"\",C284<$B$7),\"\",ROUND(((C284-$B$7)*25%)/25,4)*25),IF(C280>($B$7/5),ROUND(((C280-($B$7/5))*25%)/25,4)*25,\"\"))","v":""},"","","","","","","","","","","","","","","","","","","","","","","","","","","","","",{"$f":"AG276","v":0},"[03]"]
[null,{"$f":"$B$33","v":"1)  25% majoration temporelle pour depassement les heures maximales"},null,null,null,null,null,null,null,null,null,{"$f":"$L$33","v":"2) 100% majoration temporelle pour travail de nuit"},null,null,null,null,null,null,null,{"$f":"$T$33","v":"Saisie des heures payées l'année passée"},null,null,null,null,null,null,null,null,null,null,null,null,{"$f":"SUM(AG275+AG277)","v":0},"[4-5]"]
[null,{"$f":"$B$34","v":"3) 100% majoration temporelle pour travail du dimanche et jour férié"},null,null,null,null,null,null,null,null,null,null,null,null,null,null,null,null,null,{"$f":"$T$34","v":"Saisie des heures payées exercice en cours (heures supplémentaires)"},null,null,null,null,null,null,null,null,null,null,null,null,{"$f":"SUM(AG275:AG277)","v":0},"[3-5]"]
[{"$f":"$A$35","v":"Notes"},null,null,null,null,null,null,null,null,null,null,null,null,null,null,null,null,null,null,null,null,null,null,null,null,null,null,null,null,null,null,null,{"$f":"SUM(AG273:AG287)","v":0},"[10]"]
[null,null,null,null,null,null,null,null,null,null,null,null,null,null,null,null,null,null,null,null,null,null,null,null,null,null,null,null,null,null,null,null,{"$f":"AG272","v":184},"[00]"]
[{"$f":"IF(AG929=0,\"\",\"effektives Pensum:  \"&ROUND(COUNT(B272:AF272)/(AG929+COUNT(B272:AF272))%*B267%*20,0)/20&\" %\")","v":""},null,null,null,null,null,null,null,null,null,null,null,null,null,null,null,null,null,null,null,null,null,null,null,null,null,null,null,null,null,null,null,{"$f":"SUM(AG295-AG296)","v":-184},"[11]"]
[]
[{"$f":"Labels!$B$103","v":"Résumé"},null,null,null,null,null,{"$f":"Labels!$B$77","v":"Jan"},null,{"$f":"Labels!$B$78","v":"Fév"},null,{"$f":"Labels!$B$79","v":"Mar"},null,{"$f":"Labels!$B$80","v":"Avr"},null,{"$f":"Labels!$B$81","v":"Mai"},null,{"$f":"Labels!$B$82","v":"Jun"},null,{"$f":"Labels!$B$83","v":"Jul"},null,{"$f":"Labels!$B$84","v":"Aoû"},null,{"$f":"Labels!$B$85","v":"Sep"},null,{"$f":"Labels!$B$86","v":"Oct"},null,{"$f":"Labels!$B$87","v":"Nov"},null,{"$f":"Labels!$B$88","v":"Déc"},null,{"$f":"Labels!$B$101","v":"Année"}]
[{"$f":"Labels!$B$20","v":"Emploi %"},null,null,null,null,null,{"$f":"IF($B$4=0,0,$B$4)","v":100},null,{"$f":"IF($B$72=0,0,$B$72)","v":100},null,{"$f":"IF($B$137=0,0,$B$137)","v":100},null,{"$f":"IF($B$202=0,0,$B$202)","v":100},null,{"$f":"IF($B$267=0,0,$B$267)","v":100},null,{"$f":"IF($B$332=0,0,$B$332)","v":100},null,{"$f":"IF($B$397=0,0,$B$397)","v":100},null,{"$f":"IF($B$462=0,0,$B$462)","v":100},null,{"$f":"IF($B$527=0,0,$B$527)","v":100},null,{"$f":"IF($B$592=0,0,$B$592)","v":100},null,{"$f":"IF($B$657=0,0,$B$657)","v":100},null,{"$f":"IF($B$722=0,0,$B$722)","v":100}]
[{"$f":"Labels!$B$104","v":"Heures théoriques selon CCT"},null,null,null,null,null,{"$f":"IF($AG$36=0,0,$AG$36)","v":176},null,{"$f":"IF($AG$101=0,0,$AG$101)","v":160},null,{"$f":"IF($AG$142=0,0,$AG$142)","v":184},null,{"$f":"IF($AG$231=0,0,$AG$231)","v":160},null,{"$f":"IF($AG$296=0,0,$AG$296)","v":184},null,{"$f":"IF($AG$361=0,0,$AG$361)","v":176},null,{"$f":"IF($AG$426=0,0,$AG$426)","v":168},null,{"$f":"IF($AG$491=0,0,$AG$491)","v":184},null,{"$f":"IF($AG$556=0,0,$AG$556)","v":168},null,{"$f":"IF($AG$621=0,0,$AG$621)","v":176},null,{"$f":"IF($AG$686=0,0,$AG$686)","v":176},null,{"$f":"IF($AG$751=0,0,$AG$751)","v":168},null,{"$f":"SUM(G301:AD301)","v":2080}]
[{"$f":"Labels!$B$105","v":"Total heures productives"},{"$f":"Labels!$B$106","v":"06.00 - 20.00 h"},null,null,null,null,{"$f":"IF($AG$32=0,0,$AG$32)","v":0},null,{"$f":"IF($AG$97=0,0,$AG$97)","v":0},null,{"$f":"IF($AG$162=0,0,$AG$162)","v":0},null,{"$f":"IF($AG$227=0,0,$AG$227)","v":0},null,{"$f":"IF($AG$292=0,0,$AG$292)","v":0},null,{"$f":"IF($AG$357=0,0,$AG$357)","v":0},null,{"$f":"IF($AG$422=0,0,$AG$422)","v":0},null,{"$f":"IF($AG$487=0,0,$AG$487)","v":0},null,{"$f":"IF($AG$552=0,0,$AG$552)","v":0},null,{"$f":"IF($AG$617=0,0,$AG$617)","v":0},null,{"$f":"IF($AG$682=0,0,$AG$682)","v":0},null,{"$f":"IF($AG$747=0,0,$AG$747)","v":0},null,{"$f":"SUM(G302:AD302)","v":0}]
[null,{"$f":"Labels!$B$107","v":"nuit, dimanche et jour férié"},null,null,null,null,{"$f":"IF(AND($AG$33=0,$AG$18=0),0,$AG$33+$AG$18)","v":0},null,{"$f":"IF(AND($AG$98=0,$AG$83=0),0,$AG$98+$AG$83)","v":0},null,{"$f":"IF(AND($AG$163=0,$AG$148=0),0,$AG$163+$AG$148)","v":0},null,{"$f":"IF(AND($AG$228=0,$AG$213=0),0,$AG$228+$AG$213)","v":0},null,{"$f":"IF(AND($AG$293=0,$AG$278=0),0,$AG$293+$AG$278)","v":0},null,{"$f":"IF(AND($AG$358=0,$AG$343=0),0,$AG$358+$AG$343)","v":0},null,{"$f":"IF(AND($AG$423=0,$AG$408=0),0,$AG$423+$AG$408)","v":0},null,{"$f":"IF(AND($AG$488=0,$AG$473=0),0,$AG$488+$AG$473)","v":0},null,{"$f":"IF(AND($AG$553=0,$AG$538=0),0,$AG$553+$AG$538)","v":0},null,{"$f":"IF(AND($AG$618=0,$AG$603=0),0,$AG$618+$AG$603)","v":0},null,{"$f":"IF(AND($AG$683=0,$AG$668=0),0,$AG$683+$AG$668)","v":0},null,{"$f":"IF(AND($AG$748=0,$AG$733=0),0,$AG$748+$AG$733)","v":0},null,{"$f":"SUM(G303:AD303)","v":0}]
[{"$f":"Labels!$B$108","v":"Majorations temporelles"},{"$f":"Labels!$B$109","v":"depassement des heures maximales"},null,null,null,null,{"$f":"IF($AG$25=0,0,$AG$25)","v":0},null,{"$f":"IF($AG$90=0,0,$AG$90)","v":0},null,{"$f":"IF($AG$155=0,0,$AG$155)","v":0},null,{"$f":"IF($AG$220=0,0,$AG$220)","v":0},null,{"$f":"IF($AG$285=0,0,$AG$285)","v":0},null,{"$f":"IF($AG$350=0,0,$AG$350)","v":0},null,{"$f":"IF($AG$415=0,0,$AG$415)","v":0},null,{"$f":"IF($AG$480=0,0,$AG$480)","v":0},null,{"$f":"IF($AG$545=0,0,$AG$545)","v":0},null,{"$f":"IF($AG$610=0,0,$AG$610)","v":0},null,{"$f":"IF($AG$675=0,0,$AG$675)","v":0},null,{"$f":"IF($AG$740=0,0,$AG$740)","v":0},null,{"$f":"SUM(G304:AD304)","v":0}]
[null,{"$f":"Labels!$B$110","v":"nuit, dimanche et jour férié"},null,null,null,null,{"$f":"IF($AJ$23=0,0,$AJ$23)","v":0},null,{"$f":"IF($AK$23=0,0,$AK$23)","v":0},null,{"$f":"IF($AL$23=0,0,$AL$23)","v":0},null,{"$f":"IF($AM$23=0,0,$AM$23)","v":0},null,{"$f":"IF($AN$23=0,0,$AN$23)","v":0},null,{"$f":"IF($AO$23=0,0,$AO$23)","v":0},null,{"$f":"IF($AP$23=0,0,$AP$23)","v":0},null,{"$f":"IF($AQ$23=0,0,$AQ$23)","v":0},null,{"$f":"IF($AR$23=0,0,$AR$23)","v":0},null,{"$f":"IF($AS$23=0,0,$AS$23)","v":0},null,{"$f":"IF($AT$23=0,0,$AT$23)","v":0},null,{"$f":"IF($AU$23=0,0,$AU$23)","v":0},null,{"$f":"SUM(G305:AD305)","v":0}]
[{"$f":"Labels!$B$111","v":"Heures inproductives"}]
[{"$f":"Labels!$B$112","v":"   Absences art. 11 CCT"},null,null,null,null,{"$f":"Labels!$B$113","v":"ab"},{"$f":"IF($AJ$3=0,0,$AJ$3)","v":0},null,{"$f":"IF($AK$3=0,0,$AK$3)","v":0},null,{"$f":"IF($AL$3=0,0,$AL$3)","v":0},null,{"$f":"IF($AM$3=0,0,$AM$3)","v":0},null,{"$f":"IF($AN$3=0,0,$AN$3)","v":0},null,{"$f":"IF($AO$3=0,0,$AO$3)","v":0},null,{"$f":"IF($AP$3=0,0,$AP$3)","v":0},null,{"$f":"IF($AQ$3=0,0,$AQ$3)","v":0},null,{"$f":"IF($AR$3=0,0,$AR$3)","v":0},null,{"$f":"IF($AS$3=0,0,$AS$3)","v":0},null,{"$f":"IF(AT$3=0,0,$AT$3)","v":0},null,{"$f":"IF($AU$3=0,0,$AU$3)","v":0},null,{"$f":"IF($AV$3=0,0,$AV$3)","v":0}]
[{"$f":"Labels!$B$114","v":"   Vacances art. 12.1 CCT"},null,null,null,null,{"$f":"Labels!$B$115","v":"va"},{"$f":"IF($AJ$4=0,0,$AJ$4)","v":0},null,{"$f":"IF($AK$4=0,0,$AK$4)","v":0},null,{"$f":"IF($AL$4=0,0,$AL$4)","v":0},null,{"$f":"IF($AM$4=0,0,$AM$4)","v":0},null,{"$f":"IF($AN$4=0,0,$AN$4)","v":0},null,{"$f":"IF($AO$4=0,0,$AO$4)","v":0},null,{"$f":"IF($AP$4=0,0,$AP$4)","v":0},null,{"$f":"IF($AQ$4=0,0,$AQ$4)","v":0},null,{"$f":"IF($AR$4=0,0,$AR$4)","v":0},null,{"$f":"IF($AS$4=0,0,$AS$4)","v":0},null,{"$f":"IF($AT$4=0,0,$AT$4)","v":0},null,{"$f":"IF($AU$4=0,0,$AU$4)","v":0},null,{"$f":"IF($AV$4=0,0,$AV$4)","v":0}]
[{"$f":"Labels!$B$181","v":"   vacances non payées"},null,null,null,null,{"$f":"Labels!$B$182","v":"vn"},{"$f":"IF($AJ$13=0,0,$AJ$13)","v":0},null,{"$f":"IF($AK$13=0,0,$AK$13)","v":0},null,{"$f":"IF($AL$13=0,0,$AL$13)","v":0},null,{"$f":"IF($AM$13=0,0,$AM$13)","v":0},null,{"$f":"IF($AN$13=0,0,$AN$13)","v":0},null,{"$f":"IF($AO$13=0,0,$AO$13)","v":0},null,{"$f":"IF($AP$13=0,0,$AP$13)","v":0},null,{"$f":"IF($AQ$13=0,0,$AQ$13)","v":0},null,{"$f":"IF($AR$13=0,0,$AR$13)","v":0},null,{"$f":"IF($AS$13=0,0,$AS$13)","v":0},null,{"$f":"IF($AT$13=0,0,$AT$13)","v":0},null,{"$f":"IF($AU$13=0,0,$AU$13)","v":0},null,{"$f":"IF($AV$13=0,0,$AV$13)","v":0}]
[{"$f":"Labels!$B$116","v":"   Jours fériés art. 12.2 CCT"},null,{"$f":"IF($AJ$20=\"\",\"\",$AJ$20)","v":""},null,null,{"$f":"Labels!$B$118","v":"jf"},{"$f":"IF($AJ$18=0,0,$AJ$18)","v":0},null,{"$f":"IF($AK$18=0,0,$AK$18)","v":0},null,{"$f":"IF($AL$18=0,0,$AL$18)","v":0},null,{"$f":"IF($AM$18=0,0,$AM$18)","v":0},null,{"$f":"IF($AN$18=0,0,$AN$18)","v":0},null,{"$f":"IF($AO$18=0,0,$AO$18)","v":0},null,{"$f":"IF($AP$18=0,0,$AP$18)","v":0},null,{"$f":"IF($AQ$18=0,0,$AQ$18)","v":0},null,{"$f":"IF($AR$18=0,0,$AR$18)","v":0},null,{"$f":"IF($AS$18=0,0,$AS$18)","v":0},null,{"$f":"IF($AT$18=0,0,$AT$18)","v":0},null,{"$f":"IF($AU$18=0,0,$AU$18)","v":0},null,{"$f":"IF($AV$18=0,0,$AV$18)","v":0}]
[{"$f":"Labels!$B$119","v":"   Maladie art. 13 CCT"},null,null,null,null,{"$f":"Labels!$B$120","v":"ma"},{"$f":"IF($AJ$5=0,0,$AJ$5)","v":0},null,{"$f":"IF($AK$5=0,0,$AK$5)","v":0},null,{"$f":"IF($AL$5=0,0,$AL$5)","v":0},null,{"$f":"IF($AM$5=0,0,$AM$5)","v":0},null,{"$f":"IF($AN$5=0,0,$AN$5)","v":0},null,{"$f":"IF($AO$5=0,0,$AO$5)","v":0},null,{"$f":"IF($AP$5=0,0,$AP$5)","v":0},null,{"$f":"IF($AQ$5=0,0,$AQ$5)","v":0},null,{"$f":"IF($AR$5=0,0,$AR$5)","v":0},null,{"$f":"IF($AS$5=0,0,$AS$5)","v":0},null,{"$f":"IF($AT$5=0,0,$AT$5)","v":0},null,{"$f":"IF($AU$5=0,0,$AU$5)","v":0},null,{"$f":"IF($AV$5=0,0,$AV$5)","v":0}]
[{"$f":"Labels!$B$184","v":"non payeé"},null,null,null,null,null,{"$f":"IF(AJ$16=0,0,AJ$16)","v":0},null,{"$f":"IF($AK$16=0,0,$AK$16)","v":0},null,{"$f":"IF($AL$16=0,0,$AL$16)","v":0},null,{"$f":"IF($AM$16=0,0,$AM$16)","v":0},null,{"$f":"IF($AN$16=0,0,$AN$16)","v":0},null,{"$f":"IF($AO$16=0,0,$AO$16)","v":0},null,{"$f":"IF($AP$16=0,0,$AP$16)","v":0},null,{"$f":"IF($AQ$16=0,0,$AQ$16)","v":0},null,{"$f":"IF($AR$16=0,0,$AR$16)","v":0},null,{"$f":"IF($AS$16=0,0,$AS$16)","v":0},null,{"$f":"IF($AT$16=0,0,$AT$16)","v":0},null,{"$f":"IF($AU$16=0,0,$AU$16)","v":0},null,{"$f":"IF($AV$16=0,0,$AV$16)","v":0}]
[{"$f":"Labels!$B$121","v":"   Accident art. 14 CCT"},null,null,null,null,{"$f":"Labels!$B$122","v":"ac"},{"$f":"IF($AJ$6=0,0,$AJ$6)","v":0},null,{"$f":"IF($AK$6=0,0,$AK$6)","v":0},null,{"$f":"IF($AL$6=0,0,$AL$6)","v":0},null,{"$f":"IF($AM$6=0,0,$AM$6)","v":0},null,{"$f":"IF($AN$6=0,0,$AN$6)","v":0},null,{"$f":"IF($AO$6=0,0,$AO$6)","v":0},null,{"$f":"IF($AP$6=0,0,$AP$6)","v":0},null,{"$f":"IF($AQ$6=0,0,$AQ$6)","v":0},null,{"$f":"IF($AR$6=0,0,$AR$6)","v":0},null,{"$f":"IF($AS$6=0,0,$AS$6)","v":0},null,{"$f":"IF($AT$6=0,0,$AT$6)","v":0},null,{"$f":"IF($AU$6=0,0,$AU$6)","v":0},null,{"$f":"IF($AV$6=0,0,$AV$6)","v":0}]
[{"$f":"Labels!$B$123","v":"   Grossesse/Maternité art. 15 CCT"},null,null,null,null,{"$f":"Labels!$B$124","v":"gm"},{"$f":"IF($AJ$7=0,0,$AJ$7)","v":0},null,{"$f":"IF($AK$7=0,0,$AK$7)","v":0},null,{"$f":"IF($AL$7=0,0,$AL$7)","v":0},null,{"$f":"IF($AM$7=0,0,$AM$7)","v":0},null,{"$f":"IF($AN$7=0,0,$AN$7)","v":0},null,{"$f":"IF($AO$7=0,0,$AO$7)","v":0},null,{"$f":"IF($AP$7=0,0,$AP$7)","v":0},null,{"$f":"IF($AQ$7=0,0,$AQ$7)","v":0},null,{"$f":"IF($AR$7=0,0,$AR$7)","v":0},null,{"$f":"IF($AS$7=0,0,$AS$7)","v":0},null,{"$f":"IF($AT$7=0,0,$AT$7)","v":0},null,{"$f":"IF($AU$7=0,0,$AU$7)","v":0},null,{"$f":"IF($AV$7=0,0,$AV$7)","v":0}]
[{"$f":"Labels!$B$125","v":"   Militaire/Promotion/Protection civile art. 16 CCT"},null,null,null,null,{"$f":"Labels!$B$126","v":"mi"},{"$f":"IF($AJ$8=0,0,$AJ$8)","v":0},null,{"$f":"IF($AK$8=0,0,$AK$8)","v":0},null,{"$f":"IF($AL$8=0,0,$AL$8)","v":0},null,{"$f":"IF($AM$8=0,0,$AM$8)","v":0},null,{"$f":"IF($AN$8=0,0,$AN$8)","v":0},null,{"$f":"IF($AO$8=0,0,$AO$8)","v":0},null,{"$f":"IF($AP$8=0,0,$AP$8)","v":0},null,{"$f":"IF($AQ$8=0,0,$AQ$8)","v":0},null,{"$f":"IF($AR$8=0,0,$AR$8)","v":0},null,{"$f":"IF($AS$8=0,0,$AS$8)","v":0},null,{"$f":"IF($AT$8=0,0,$AT$8)","v":0},null,{"$f":"IF($AU$8=0,0,$AU$8)","v":0},null,{"$f":"IF($AV$8=0,0,$AV$8)","v":0}]
[{"$f":"Labels!$B$127","v":"   Chômage partiel et perte de travail cause d'intempéries"},null,null,null,null,{"$f":"Labels!$B$128","v":"ch"},{"$f":"IF($AJ$11=0,0,$AJ$11)","v":0},null,{"$f":"IF($AK$11=0,0,$AK$11)","v":0},null,{"$f":"IF($AL$11=0,0,$AL$11)","v":0},null,{"$f":"IF($AM$11=0,0,$AM$11)","v":0},null,{"$f":"IF($AN$11=0,0,$AN$11)","v":0},null,{"$f":"IF($AO$11=0,0,$AO$11)","v":0},null,{"$f":"IF($AP$11=0,0,$AP$11)","v":0},null,{"$f":"IF($AQ$11=0,0,$AQ$11)","v":0},null,{"$f":"IF($AR$11=0,0,$AR$11)","v":0},null,{"$f":"IF($AS$11=0,0,$AS$11)","v":0},null,{"$f":"IF($AT$11=0,0,$AT$11)","v":0},null,{"$f":"IF($AU$11=0,0,$AU$11)","v":0},null,{"$f":"IF($AV$11=0,0,$AV$11)","v":0}]
[{"$f":"Labels!$B$129","v":"   Ecole professionnelle"},null,null,null,null,{"$f":"Labels!$B$130","v":"ep"},{"$f":"IF($AJ$9=0,0,$AJ$9)","v":0},null,{"$f":"IF($AK$9=0,0,$AK$9)","v":0},null,{"$f":"IF($AL$9=0,0,$AL$9)","v":0},null,{"$f":"IF($AM$9=0,0,$AM$9)","v":0},null,{"$f":"IF($AN$9=0,0,$AN$9)","v":0},null,{"$f":"IF($AO$9=0,0,$AO$9)","v":0},null,{"$f":"IF($AP$9=0,0,$AP$9)","v":0},null,{"$f":"IF($AQ$9=0,0,$AQ$9)","v":0},null,{"$f":"IF($AR$9=0,0,$AR$9)","v":0},null,{"$f":"IF($AS$9=0,0,$AS$9)","v":0},null,{"$f":"IF($AT$9=0,0,$AT$9)","v":0},null,{"$f":"IF($AU$9=0,0,$AU$9)","v":0},null,{"$f":"IF($AV$9=0,0,$AV$9)","v":0}]
[{"$f":"Labels!$B$131","v":"   Cours"},null,null,null,null,{"$f":"Labels!$B$132","v":"co"},{"$f":"IF($AJ$10=0,0,$AJ$10)","v":0},null,{"$f":"IF($AK$10=0,0,$AK$10)","v":0},null,{"$f":"IF($AL$10=0,0,$AL$10)","v":0},null,{"$f":"IF($AM$10=0,0,$AM$10)","v":0},null,{"$f":"IF($AN$10=0,0,$AN$10)","v":0},null,{"$f":"IF($AO$10=0,0,$AO$10)","v":0},null,{"$f":"IF($AP$10=0,0,$AP$10)","v":0},null,{"$f":"IF($AQ$10=0,0,$AQ$10)","v":0},null,{"$f":"IF($AR$10=0,0,$AR$10)","v":0},null,{"$f":"IF($AS$10=0,0,$AS$10)","v":0},null,{"$f":"IF($AT$10=0,0,$AT$10)","v":0},null,{"$f":"IF($AU$10=0,0,$AU$10)","v":0},null,{"$f":"IF($AV$10=0,0,$AV$10)","v":0}]
[{"$f":"Labels!$B$133","v":"Heures de compensation"},{"$f":"Labels!$B$134","v":"de l'année passée"},null,null,null,{"$f":"Labels!$B$135","v":"cp"},{"$f":"IF($AJ$12=0,0,$AJ$12)","v":0},null,{"$f":"IF($AK$12=0,0,$AK$12)","v":0},null,{"$f":"IF($AL$12=0,0,$AL$12)","v":0},null,{"$f":"IF($AM$12=0,0,$AM$12)","v":0},null,{"$f":"IF($AN$12=0,0,$AN$12)","v":0},null,{"$f":"IF($AO$12=0,0,$AO$12)","v":0},null,{"$f":"IF($AP$12=0,0,$AP$12)","v":0},null,{"$f":"IF($AQ$12=0,0,$AQ$12)","v":0},null,{"$f":"IF($AR$12=0,0,$AR$12)","v":0},null,null,null,null,null,null,null,{"$f":"IF($AV$12=0,0,$AV$12)","v":0}]
[null,{"$f":"Labels!$B$136","v":"de l'année en cours (contrôle)"},null,null,null,{"$f":"Labels!$B$137","v":"cc"},{"$f":"IF($AJ$15=0,0,$AJ$15)","v":0},null,{"$f":"IF($AK$15=0,0,$AK$15)","v":0},null,{"$f":"IF($AL$15=0,0,$AL$15)","v":0},null,{"$f":"IF($AM$15=0,0,$AM$15)","v":0},null,{"$f":"IF($AN$15=0,0,$AN$15)","v":0},null,{"$f":"IF($AO$15=0,0,$AO$15)","v":0},null,{"$f":"IF($AP$15=0,0,$AP$15)","v":0},null,{"$f":"IF($AQ$15=0,0,$AQ$15)","v":0},null,{"$f":"IF($AR$15=0,0,$AR$15)","v":0},null,{"$f":"IF($AS$15=0,0,$AS$15)","v":0},null,{"$f":"IF($AT$15=0,0,$AT$15)","v":0},null,{"$f":"IF($AU$15=0,0,$AU$15)","v":0},null,{"$f":"IF($AV$15=0,0,$AV$15)","v":0}]
[{"$f":"Labels!$B$138","v":"Paiement des heures"},{"$f":"Labels!$B$139","v":"de l'année passée"},null,null,null,null,{"$f":"IF($AJ$21=0,0,$AJ$21)","v":0},null,{"$f":"IF($AK$21=0,0,$AK$21)","v":0},null,{"$f":"IF($AL$21=0,0,$AL$21)","v":0},null,{"$f":"IF($AM$21=0,0,$AM$21)","v":0},null,{"$f":"IF($AN$21=0,0,$AN$21)","v":0},null,{"$f":"IF($AO$21=0,0,$AO$21)","v":0},null,{"$f":"IF($AP$21=0,0,$AP$21)","v":0},null,{"$f":"IF($AQ$21=0,0,$AQ$21)","v":0},null,{"$f":"IF($AR$21=0,0,$AR$21)","v":0},null,null,null,null,null,null,null,{"$f":"IF($AV$21=0,0,$AV$21)","v":0}]
[{"$f":"Labels!$B$140","v":"Différence en heures"},{"$f":"Labels!$B$141","v":"après compensation et paiement"},null,null,null,null,{"$f":"IF(ROUND($P$4,3)=0,0,$P$4-G319-G321)","v":0},null,{"$f":"IF(ROUND(G322,3)=0,0,G322-(SUM(I319+I321)))","v":0},null,{"$f":"IF(ROUND(I322,3)=0,0,I322-K321-K319)","v":0},null,{"$f":"IF(ROUND(K322,3)=0,0,K322-(SUM(M321+M319)))","v":0},null,{"$f":"IF(ROUND(M322,3)=0,0,M322-(SUM(O321+O319)))","v":0},null,{"$f":"IF(ROUND(O322,3)=0,0,O322-(SUM(Q321+Q319)))","v":0},null,{"$f":"IF(ROUND(Q322,3)=0,0,Q322-(SUM(S321+S319)))","v":0},null,{"$f":"IF(ROUND(S322,3)=0,0,S322-(SUM(U321+U319)))","v":0},null,{"$f":"IF(ROUND(U322,3)=0,0,U322-(SUM(W321+W319)))","v":0},null,{"$f":"IF($W$62<0.1,\"\",AY304)","v":""}]
[{"$f":"Labels!$B$138","v":"Paiement des heures"},{"$f":"Labels!$B$142","v":"de l'année en cours"},null,null,null,null,{"$f":"IF($AJ$22=0,0,$AJ$22)","v":0},null,{"$f":"IF($AK$22=0,0,$AK$22)","v":0},null,{"$f":"IF($AL$22=0,0,$AL$22)","v":0},null,{"$f":"IF($AM$22=0,0,$AM$22)","v":0},null,{"$f":"IF($AN$22=0,0,$AN$22)","v":0},null,{"$f":"IF($AO$22=0,0,$AO$22)","v":0},null,{"$f":"IF($AP$22=0,0,$AP$22)","v":0},null,{"$f":"IF($AQ$22=0,0,$AQ$22)","v":0},null,{"$f":"IF($AR$22=0,0,$AR$22)","v":0},null,{"$f":"IF($AS$22=0,0,$AS$22)","v":0},null,{"$f":"IF($AT$22=0,0,$AT$22)","v":0},null,{"$f":"IF($AU$22=0,0,$AU$22)","v":0},null,{"$f":"IF($AV$22=0,0,$AV$22)","v":0}]
[{"$f":"Labels!$B$143","v":"Heures manquantes"},{"$f":"Labels!$B$144","v":"de l'année en cours (contrôle)"},null,null,null,{"$f":"Labels!$B$145","v":"hm"},{"$f":"IF($AJ$14=0,0,$AJ$14)","v":0},null,{"$f":"IF($AK$14=0,0,$AK$14)","v":0},null,{"$f":"IF($AL$14=0,0,$AL$14)","v":0},null,{"$f":"IF($AM$14=0,0,$AM$14)","v":0},null,{"$f":"IF($AN$14=0,0,$AN$14)","v":0},null,{"$f":"IF($AO$14=0,0,$AO$14)","v":0},null,{"$f":"IF($AP$14=0,0,$AP$14)","v":0},null,{"$f":"IF($AQ$14=0,0,$AQ$14)","v":0},null,{"$f":"IF($AR$14=0,0,$AR$14)","v":0},null,{"$f":"IF($AS$14=0,0,$AS$14)","v":0},null,{"$f":"IF($AT$14=0,0,$AT$14)","v":0},null,{"$f":"IF($AU$14=0,0,$AU$14)","v":0},null,{"$f":"IF($AV$14=0,0,$AV$14)","v":0}]
[{"$f":"Labels!$B$146","v":"Total (majorations inclus)"},{"$f":"Labels!$B$147","v":"heures productives et inproductives"},null,null,null,null,{"$f":"IF($AG$35=0,0,$AG$35)","v":0},null,{"$f":"IF($AG$100=0,0,$AG$100)","v":0},null,{"$f":"IF($AG$165=0,0,$AG$165)","v":0},null,{"$f":"IF($AG$230=0,0,$AG$230)","v":0},null,{"$f":"IF($AG$295=0,0,$AG$295)","v":0},null,{"$f":"IF($AG$360=0,0,$AG$360)","v":0},null,{"$f":"IF($AG$425=0,0,$AG$425)","v":0},null,{"$f":"IF($AG$490=0,0,$AG$490)","v":0},null,{"$f":"IF($AG$555=0,0,$AG$555)","v":0},null,{"$f":"IF($AG$620=0,0,$AG$620)","v":0},null,{"$f":"IF($AG$685=0,0,$AG$685)","v":0},null,{"$f":"IF($AG$750=0,0,$AG$750)","v":0},null,{"$f":"SUM($G$65:$AD$65)","v":0}]
[{"$f":"Labels!$B$148","v":"Comparaison des heures"},{"$f":"Labels!$B$149","v":"aux heures théorique CCT (heures \nmanquantes de l'année passée incl.)"},null,null,null,null,{"$f":"IF($AG$37=0,0,$AG$37)-$AE$34+$P$5","v":-176},null,{"$f":"IF($AG$102=0,0,$AG$102)-$AE$99","v":-160},null,{"$f":"IF($AG$167=0,0,$AG$167)-$AE$164","v":-184},null,{"$f":"IF($AG$232=0,0,$AG$232)-$AE$229","v":-160},null,{"$f":"IF($AG$297=0,0,$AG$297)-$AE$294","v":-184},null,{"$f":"IF($AG$362=0,0,$AG$362)-$AE$359","v":-176},null,{"$f":"IF($AG$427=0,0,$AG$427)-$AE$424","v":-168},null,{"$f":"IF($AG$492=0,0,$AG$492)-$AE$489","v":-184},null,{"$f":"IF($AG$557=0,0,$AG$557)-$AE$554","v":-168},null,{"$f":"IF($AG$622=0,0,$AG$622)-$AE$619","v":-176},null,{"$f":"IF($AG$687=0,0,$AG$687)-$AE$684","v":-176},null,{"$f":"IF($AG$752=0,0,$AG$752)-$AE$749","v":-168},null,{"$f":"SUM($G$66:$AD$66)","v":-2080}]
[null,{"$f":"Labels!$B$151","v":"aux heures théorique (cumulées)"},null,null,null,null,{"$f":"IF(G300=0,0,$G$66)","v":-176},null,{"$f":"IF(I300=0,0,SUM($G$66:$J$66))","v":-336},null,{"$f":"IF(K300=0,0,SUM($G$66:$L$66))","v":-520},null,{"$f":"IF(M300=0,0,SUM($G$66:$N$66))","v":-680},null,{"$f":"IF(O300=0,0,SUM($G$66:$P$66))","v":-864},null,{"$f":"IF(Q300=0,0,SUM($G$66:$R$66))","v":-1040},null,{"$f":"IF(S300=0,0,SUM($G$66:$T$66))","v":-1208},null,{"$f":"IF(U300=0,0,SUM($G$66:$V$66))","v":-1392},null,{"$f":"IF(W300=0,0,SUM($G$66:$X$66))","v":-1560},null,{"$f":"IF(Y300=0,0,SUM($G$66:$Z$66))","v":-1736},null,{"$f":"IF(AA300=0,0,SUM($G$66:$AB$66))","v":-1912},null,{"$f":"IF(AC300=0,0,SUM($G$66:$AD$66))","v":-2080}]
[{"$f":"Labels!$B$153","v":"Vacances (contrôle)"},{"$f":"Labels!$B$154","v":"Vacances année passée"},null,null,null,null,{"$f":"IF($AA$4=0,0,$AA$4)","v":0},null,{"$f":"Labels!$B$155","v":"Vacances selon \nart 12.1 CCT"},null,null,null,{"$f":"IF($AA$5=0,0,$AA$5)","v":0},null,{"$f":"Labels!$B$156","v":"Total des vacances"},null,null,null,{"$f":"SUM(G328+M328)","v":0},null,{"$f":"Labels!$B$157","v":"Vacances prises"},null,null,null,{"$f":"IF($AV$4=0,0,$AV$4)","v":0},null,{"$f":"Labels!$B$158","v":"Vacances restantes"},null,null,null,{"$f":"IF(S328=0,0,S328-Y328)","v":0}]
[]
[]
[{"$f":"$A$3","v":"Nom/Prénom"},{"$f":"IF($B$3=\"\",\"\",$B$3)","v":"Modèle Pierre"},null,null,null,null,null,null,null,null,null,null,null,null,null,null,null,null,null,null,null,null,null,null,null,null,null,null,null,null,null,{"$f":"AF3","v":0}]
[{"$f":"$A$4","v":"Emploi %"},{"$f":"$AL$53","v":100},null,{"$f":"Labels!B94","v":"en juin"}]
[{"$f":"$A$5","v":"Solde année en cours"},null,null,{"$f":"IF($AE$66=0,0,$AE$66)","v":-2080}]
[{"$f":"TEXT(DATE(YEAR(AP29),MONTH(AP29)+5,1),\"MMMM\"&Labels!B13)","v":"juin"},{"$f":"$B$9","v":"Solde mois + / -"},null,null,null,{"$f":"(AG337-(SUM(AG338:AG352)-AE359))*-1","v":-176},null,null,null,null,{"$f":"$K$9","v":" = "},{"$f":"$L$9","v":"Les cases marquées en jaune doivent être remplies (les autres seront calculées automatiquement)"},null,null,null,null,null,null,null,null,null,null,null,null,null,null,null,null,null,null,null,null,{"$f":"COUNT(B337:AF337)&\" \"&Labels!$B$63","v":"22 Jours"}]
[{"$f":"$A$10","v":"Jour"},{"$f":"AF270+1","v":"2023-06-01"},{"$f":"B335+1","v":"2023-06-02"},{"$f":"C335+1","v":"2023-06-03"},"2023-06-04","2023-06-05","2023-06-06","2023-06-07","2023-06-08","2023-06-09","2023-06-10","2023-06-11","2023-06-12","2023-06-13","2023-06-14","2023-06-15","2023-06-16","2023-06-17","2023-06-18","2023-06-19","2023-06-20","2023-06-21","2023-06-22","2023-06-23","2023-06-24","2023-06-25","2023-06-26","2023-06-27","2023-06-28","2023-06-29","2023-06-30"]
[{"$f":"$A$11","v":"semaine civile"},{"$f":"IF(B335=\"\",\"\",TRUNC((B335-DATE(YEAR(B335+3-MOD(B335-2,7)),1,MOD(B335-2,7)-9))/7))","v":22},22,22,22,23,23,23,23,23,23,23,24,24,24,24,24,24,24,25,25,25,25,25,25,25,26,26,26,26,26,"",null,"Woche"]
[{"$f":"$A$12","v":"Théorique sel. CCT"},{"$f":"IF(AND(MOD(B335,7)>=2,SUMPRODUCT(($AM$60:$AQ$60=MOD(B335,7))*$AM$53:$AQ$53),B954=\"\"),$J$7*SUMPRODUCT(($AM$77:$AQ$77=MOD(B335,7))*$AM$70:$AQ$70)%,\"\")","v":8},{"$f":"IF(AND(MOD(C335,7)>=2,SUMPRODUCT(($AM$60:$AQ$60=MOD(C335,7))*$AM$53:$AQ$53),C954=\"\"),$J$7*SUMPRODUCT(($AM$77:$AQ$77=MOD(C335,7))*$AM$70:$AQ$70)%,\"\")","v":8},{"$f":"IF(AND(MOD(D335,7)>=2,SUMPRODUCT(($AM$60:$AQ$60=MOD(D335,7))*$AM$53:$AQ$53),D954=\"\"),$J$7*SUMPRODUCT(($AM$77:$AQ$77=MOD(D335,7))*$AM$70:$AQ$70)%,\"\")","v":""},{"$f":"IF(AND(MOD(E335,7)>=2,SUMPRODUCT(($AM$60:$AQ$60=MOD(E335,7))*$AM$53:$AQ$53),E954=\"\"),$J$7*SUMPRODUCT(($AM$77:$AQ$77=MOD(E335,7))*$AM$70:$AQ$70)%,\"\")","v":""},{"$f":"IF(AND(MOD(F335,7)>=2,SUMPRODUCT(($AM$60:$AQ$60=MOD(F335,7))*$AM$53:$AQ$53),F954=\"\"),$J$7*SUMPRODUCT(($AM$77:$AQ$77=MOD(F335,7))*$AM$70:$AQ$70)%,\"\")","v":8},{"$f":"IF(AND(MOD(G335,7)>=2,SUMPRODUCT(($AM$60:$AQ$60=MOD(G335,7))*$AM$53:$AQ$53),G954=\"\"),$J$7*SUMPRODUCT(($AM$77:$AQ$77=MOD(G335,7))*$AM$70:$AQ$70)%,\"\")","v":8},{"$f":"IF(AND(MOD(H335,7)>=2,SUMPRODUCT(($AM$60:$AQ$60=MOD(H335,7))*$AM$53:$AQ$53),H954=\"\"),$J$7*SUMPRODUCT(($AM$77:$AQ$77=MOD(H335,7))*$AM$70:$AQ$70)%,\"\")","v":8},{"$f":"IF(AND(MOD(I335,7)>=2,SUMPRODUCT(($AM$60:$AQ$60=MOD(I335,7))*$AM$53:$AQ$53),I954=\"\"),$J$7*SUMPRODUCT(($AM$77:$AQ$77=MOD(I335,7))*$AM$70:$AQ$70)%,\"\")","v":8},{"$f":"IF(AND(MOD(J335,7)>=2,SUMPRODUCT(($AM$60:$AQ$60=MOD(J335,7))*$AM$53:$AQ$53),J954=\"\"),$J$7*SUMPRODUCT(($AM$77:$AQ$77=MOD(J335,7))*$AM$70:$AQ$70)%,\"\")","v":8},{"$f":"IF(AND(MOD(K335,7)>=2,SUMPRODUCT(($AM$60:$AQ$60=MOD(K335,7))*$AM$53:$AQ$53),K954=\"\"),$J$7*SUMPRODUCT(($AM$77:$AQ$77=MOD(K335,7))*$AM$70:$AQ$70)%,\"\")","v":""},{"$f":"IF(AND(MOD(L335,7)>=2,SUMPRODUCT(($AM$60:$AQ$60=MOD(L335,7))*$AM$53:$AQ$53),L954=\"\"),$J$7*SUMPRODUCT(($AM$77:$AQ$77=MOD(L335,7))*$AM$70:$AQ$70)%,\"\")","v":""},{"$f":"IF(AND(MOD(M335,7)>=2,SUMPRODUCT(($AM$60:$AQ$60=MOD(M335,7))*$AM$53:$AQ$53),M954=\"\"),$J$7*SUMPRODUCT(($AM$77:$AQ$77=MOD(M335,7))*$AM$70:$AQ$70)%,\"\")","v":8},{"$f":"IF(AND(MOD(N335,7)>=2,SUMPRODUCT(($AM$60:$AQ$60=MOD(N335,7))*$AM$53:$AQ$53),N954=\"\"),$J$7*SUMPRODUCT(($AM$77:$AQ$77=MOD(N335,7))*$AM$70:$AQ$70)%,\"\")","v":8},{"$f":"IF(AND(MOD(O335,7)>=2,SUMPRODUCT(($AM$60:$AQ$60=MOD(O335,7))*$AM$53:$AQ$53),O954=\"\"),$J$7*SUMPRODUCT(($AM$77:$AQ$77=MOD(O335,7))*$AM$70:$AQ$70)%,\"\")","v":8},{"$f":"IF(AND(MOD(P335,7)>=2,SUMPRODUCT(($AM$60:$AQ$60=MOD(P335,7))*$AM$53:$AQ$53),P954=\"\"),$J$7*SUMPRODUCT(($AM$77:$AQ$77=MOD(P335,7))*$AM$70:$AQ$70)%,\"\")","v":8},{"$f":"IF(AND(MOD(Q335,7)>=2,SUMPRODUCT(($AM$60:$AQ$60=MOD(Q335,7))*$AM$53:$AQ$53),Q954=\"\"),$J$7*SUMPRODUCT(($AM$77:$AQ$77=MOD(Q335,7))*$AM$70:$AQ$70)%,\"\")","v":8},{"$f":"IF(AND(MOD(R335,7)>=2,SUMPRODUCT(($AM$60:$AQ$60=MOD(R335,7))*$AM$53:$AQ$53),R954=\"\"),$J$7*SUMPRODUCT(($AM$77:$AQ$77=MOD(R335,7))*$AM$70:$AQ$70)%,\"\")","v":""},{"$f":"IF(AND(MOD(S335,7)>=2,SUMPRODUCT(($AM$60:$AQ$60=MOD(S335,7))*$AM$53:$AQ$53),S954=\"\"),$J$7*SUMPRODUCT(($AM$77:$AQ$77=MOD(S335,7))*$AM$70:$AQ$70)%,\"\")","v":""},{"$f":"IF(AND(MOD(T335,7)>=2,SUMPRODUCT(($AM$60:$AQ$60=MOD(T335,7))*$AM$53:$AQ$53),T954=\"\"),$J$7*SUMPRODUCT(($AM$77:$AQ$77=MOD(T335,7))*$AM$70:$AQ$70)%,\"\")","v":8},{"$f":"IF(AND(MOD(U335,7)>=2,SUMPRODUCT(($AM$60:$AQ$60=MOD(U335,7))*$AM$53:$AQ$53),U954=\"\"),$J$7*SUMPRODUCT(($AM$77:$AQ$77=MOD(U335,7))*$AM$70:$AQ$70)%,\"\")","v":8},{"$f":"IF(AND(MOD(V335,7)>=2,SUMPRODUCT(($AM$60:$AQ$60=MOD(V335,7))*$AM$53:$AQ$53),V954=\"\"),$J$7*SUMPRODUCT(($AM$77:$AQ$77=MOD(V335,7))*$AM$70:$AQ$70)%,\"\")","v":8},{"$f":"IF(AND(MOD(W335,7)>=2,SUMPRODUCT(($AM$60:$AQ$60=MOD(W335,7))*$AM$53:$AQ$53),W954=\"\"),$J$7*SUMPRODUCT(($AM$77:$AQ$77=MOD(W335,7))*$AM$70:$AQ$70)%,\"\")","v":8},{"$f":"IF(AND(MOD(X335,7)>=2,SUMPRODUCT(($AM$60:$AQ$60=MOD(X335,7))*$AM$53:$AQ$53),X954=\"\"),$J$7*SUMPRODUCT(($AM$77:$AQ$77=MOD(X335,7))*$AM$70:$AQ$70)%,\"\")","v":8},{"$f":"IF(AND(MOD(Y335,7)>=2,SUMPRODUCT(($AM$60:$AQ$60=MOD(Y335,7))*$AM$53:$AQ$53),Y954=\"\"),$J$7*SUMPRODUCT(($AM$77:$AQ$77=MOD(Y335,7))*$AM$70:$AQ$70)%,\"\")","v":""},{"$f":"IF(AND(MOD(Z335,7)>=2,SUMPRODUCT(($AM$60:$AQ$60=MOD(Z335,7))*$AM$53:$AQ$53),Z954=\"\"),$J$7*SUMPRODUCT(($AM$77:$AQ$77=MOD(Z335,7))*$AM$70:$AQ$70)%,\"\")","v":""},{"$f":"IF(AND(MOD(AA335,7)>=2,SUMPRODUCT(($AM$60:$AQ$60=MOD(AA335,7))*$AM$53:$AQ$53),AA954=\"\"),$J$7*SUMPRODUCT(($AM$77:$AQ$77=MOD(AA335,7))*$AM$70:$AQ$70)%,\"\")","v":8},{"$f":"IF(AND(MOD(AB335,7)>=2,SUMPRODUCT(($AM$60:$AQ$60=MOD(AB335,7))*$AM$53:$AQ$53),AB954=\"\"),$J$7*SUMPRODUCT(($AM$77:$AQ$77=MOD(AB335,7))*$AM$70:$AQ$70)%,\"\")","v":8},{"$f":"IF(AND(MOD(AC335,7)>=2,SUMPRODUCT(($AM$60:$AQ$60=MOD(AC335,7))*$AM$53:$AQ$53),AC954=\"\"),$J$7*SUMPRODUCT(($AM$77:$AQ$77=MOD(AC335,7))*$AM$70:$AQ$70)%,\"\")","v":8},{"$f":"IF(AND(MOD(AD335,7)>=2,SUMPRODUCT(($AM$60:$AQ$60=MOD(AD335,7))*$AM$53:$AQ$53),AD954=\"\"),$J$7*SUMPRODUCT(($AM$77:$AQ$77=MOD(AD335,7))*$AM$70:$AQ$70)%,\"\")","v":8},{"$f":"IF(AND(MOD(AE335,7)>=2,SUMPRODUCT(($AM$60:$AQ$60=MOD(AE335,7))*$AM$53:$AQ$53),AE954=\"\"),$J$7*SUMPRODUCT(($AM$77:$AQ$77=MOD(AE335,7))*$AM$70:$AQ$70)%,\"\")","v":8},null,{"$f":"SUM(B337:AF337)","v":176},"[00]"]
[{"$f":"$A$13","v":"Absences"},{"$f":"B970","v":0},{"$f":"C970","v":0},0,0,0,0,0,0,0,0,0,0,0,0,0,0,0,0,0,0,0,0,0,0,0,0,0,0,0,0,null,{"$f":"SUM($AO$3:$AO$13)","v":0},"[01]"]
[{"$f":"$A$14","v":"Code"},{"$f":"IF(SUM(B957:B969)<>0,IF(MAX(B957:B969)<B970,Labels!$B$163,INDEX($AH$957:$AH$969,MATCH(MAX(B957:B969),B957:B969,0))),\"\")","v":""},{"$f":"IF(SUM(C957:C969)<>0,IF(MAX(C957:C969)<C970,Labels!$B$163,INDEX($AH$957:$AH$969,MATCH(MAX(C957:C969),C957:C969,0))),\"\")","v":""},{"$f":"IF(SUM(D957:D969)<>0,IF(MAX(D957:D969)<D970,Labels!$B$163,INDEX($AH$957:$AH$969,MATCH(MAX(D957:D969),D957:D969,0))),\"\")","v":""},{"$f":"IF(SUM(E957:E969)<>0,IF(MAX(E957:E969)<E970,Labels!$B$163,INDEX($AH$957:$AH$969,MATCH(MAX(E957:E969),E957:E969,0))),\"\")","v":""},{"$f":"IF(SUM(F957:F969)<>0,IF(MAX(F957:F969)<F970,Labels!$B$163,INDEX($AH$957:$AH$969,MATCH(MAX(F957:F969),F957:F969,0))),\"\")","v":""},{"$f":"IF(SUM(G957:G969)<>0,IF(MAX(G957:G969)<G970,Labels!$B$163,INDEX($AH$957:$AH$969,MATCH(MAX(G957:G969),G957:G969,0))),\"\")","v":""},{"$f":"IF(SUM(H957:H969)<>0,IF(MAX(H957:H969)<H970,Labels!$B$163,INDEX($AH$957:$AH$969,MATCH(MAX(H957:H969),H957:H969,0))),\"\")","v":""},{"$f":"IF(SUM(I957:I969)<>0,IF(MAX(I957:I969)<I970,Labels!$B$163,INDEX($AH$957:$AH$969,MATCH(MAX(I957:I969),I957:I969,0))),\"\")","v":""},{"$f":"IF(SUM(J957:J969)<>0,IF(MAX(J957:J969)<J970,Labels!$B$163,INDEX($AH$957:$AH$969,MATCH(MAX(J957:J969),J957:J969,0))),\"\")","v":""},{"$f":"IF(SUM(K957:K969)<>0,IF(MAX(K957:K969)<K970,Labels!$B$163,INDEX($AH$957:$AH$969,MATCH(MAX(K957:K969),K957:K969,0))),\"\")","v":""},{"$f":"IF(SUM(L957:L969)<>0,IF(MAX(L957:L969)<L970,Labels!$B$163,INDEX($AH$957:$AH$969,MATCH(MAX(L957:L969),L957:L969,0))),\"\")","v":""},{"$f":"IF(SUM(M957:M969)<>0,IF(MAX(M957:M969)<M970,Labels!$B$163,INDEX($AH$957:$AH$969,MATCH(MAX(M957:M969),M957:M969,0))),\"\")","v":""},{"$f":"IF(SUM(N957:N969)<>0,IF(MAX(N957:N969)<N970,Labels!$B$163,INDEX($AH$957:$AH$969,MATCH(MAX(N957:N969),N957:N969,0))),\"\")","v":""},{"$f":"IF(SUM(O957:O969)<>0,IF(MAX(O957:O969)<O970,Labels!$B$163,INDEX($AH$957:$AH$969,MATCH(MAX(O957:O969),O957:O969,0))),\"\")","v":""},{"$f":"IF(SUM(P957:P969)<>0,IF(MAX(P957:P969)<P970,Labels!$B$163,INDEX($AH$957:$AH$969,MATCH(MAX(P957:P969),P957:P969,0))),\"\")","v":""},{"$f":"IF(SUM(Q957:Q969)<>0,IF(MAX(Q957:Q969)<Q970,Labels!$B$163,INDEX($AH$957:$AH$969,MATCH(MAX(Q957:Q969),Q957:Q969,0))),\"\")","v":""},{"$f":"IF(SUM(R957:R969)<>0,IF(MAX(R957:R969)<R970,Labels!$B$163,INDEX($AH$957:$AH$969,MATCH(MAX(R957:R969),R957:R969,0))),\"\")","v":""},{"$f":"IF(SUM(S957:S969)<>0,IF(MAX(S957:S969)<S970,Labels!$B$163,INDEX($AH$957:$AH$969,MATCH(MAX(S957:S969),S957:S969,0))),\"\")","v":""},{"$f":"IF(SUM(T957:T969)<>0,IF(MAX(T957:T969)<T970,Labels!$B$163,INDEX($AH$957:$AH$969,MATCH(MAX(T957:T969),T957:T969,0))),\"\")","v":""},{"$f":"IF(SUM(U957:U969)<>0,IF(MAX(U957:U969)<U970,Labels!$B$163,INDEX($AH$957:$AH$969,MATCH(MAX(U957:U969),U957:U969,0))),\"\")","v":""},{"$f":"IF(SUM(V957:V969)<>0,IF(MAX(V957:V969)<V970,Labels!$B$163,INDEX($AH$957:$AH$969,MATCH(MAX(V957:V969),V957:V969,0))),\"\")","v":""},{"$f":"IF(SUM(W957:W969)<>0,IF(MAX(W957:W969)<W970,Labels!$B$163,INDEX($AH$957:$AH$969,MATCH(MAX(W957:W969),W957:W969,0))),\"\")","v":""},{"$f":"IF(SUM(X957:X969)<>0,IF(MAX(X957:X969)<X970,Labels!$B$163,INDEX($AH$957:$AH$969,MATCH(MAX(X957:X969),X957:X969,0))),\"\")","v":""},{"$f":"IF(SUM(Y957:Y969)<>0,IF(MAX(Y957:Y969)<Y970,Labels!$B$163,INDEX($AH$957:$AH$969,MATCH(MAX(Y957:Y969),Y957:Y969,0))),\"\")","v":""},{"$f":"IF(SUM(Z957:Z969)<>0,IF(MAX(Z957:Z969)<Z970,Labels!$B$163,INDEX($AH$957:$AH$969,MATCH(MAX(Z957:Z969),Z957:Z969,0))),\"\")","v":""},{"$f":"IF(SUM(AA957:AA969)<>0,IF(MAX(AA957:AA969)<AA970,Labels!$B$163,INDEX($AH$957:$AH$969,MATCH(MAX(AA957:AA969),AA957:AA969,0))),\"\")","v":""},{"$f":"IF(SUM(AB957:AB969)<>0,IF(MAX(AB957:AB969)<AB970,Labels!$B$163,INDEX($AH$957:$AH$969,MATCH(MAX(AB957:AB969),AB957:AB969,0))),\"\")","v":""},{"$f":"IF(SUM(AC957:AC969)<>0,IF(MAX(AC957:AC969)<AC970,Labels!$B$163,INDEX($AH$957:$AH$969,MATCH(MAX(AC957:AC969),AC957:AC969,0))),\"\")","v":""},{"$f":"IF(SUM(AD957:AD969)<>0,IF(MAX(AD957:AD969)<AD970,Labels!$B$163,INDEX($AH$957:$AH$969,MATCH(MAX(AD957:AD969),AD957:AD969,0))),\"\")","v":""},{"$f":"IF(SUM(AE957:AE969)<>0,IF(MAX(AE957:AE969)<AE970,Labels!$B$163,INDEX($AH$957:$AH$969,MATCH(MAX(AE957:AE969),AE957:AE969,0))),\"\")","v":""},null,{"$f":"$AO$16*-1","v":0},"[02]"]
[{"$f":"$A$15","v":"00h00-06h00 1)"},null,null,null,null,null,null,null,null,null,null,null,null,null,null,null,null,null,null,null,null,null,null,null,null,null,null,null,null,null,null,null,{"$f":"SUM(B340:AF340)","v":0},"[04]"]
[{"$f":"$A$16","v":"06h00-20h00 2)"},null,null,null,null,null,null,null,null,null,null,null,null,null,null,null,null,null,null,null,null,null,null,null,null,null,null,null,null,null,null,null,{"$f":"SUMPRODUCT(B341:AF341*(B337:AF337<>\"\"))-SUMPRODUCT(B341:AF341*(B343:AF343=\"ft\"))","v":0},"[03]"]
[{"$f":"$A$17","v":"20h00-24h00 3)"},null,null,null,null,null,null,null,null,null,null,null,null,null,null,null,null,null,null,null,null,null,null,null,null,null,null,null,null,null,null,null,{"$f":"SUM(B342:AF342)","v":0},"[05]"]
[{"$f":"$A$18","v":"Jours fériés \"jf\""},{"$f":"IF(WEEKDAY(B335,2)<=6,IF(CALENDRIER!E13=\"x\",Labels!$B$118,\"\"),\"\")","v":""},{"$f":"IF(WEEKDAY(C335,2)<=6,IF(CALENDRIER!F13=\"x\",Labels!$B$118,\"\"),\"\")","v":""},{"$f":"IF(WEEKDAY(D335,2)<=6,IF(CALENDRIER!G13=\"x\",Labels!$B$118,\"\"),\"\")","v":""},{"$f":"IF(WEEKDAY(E335,2)<=6,IF(CALENDRIER!H13=\"x\",Labels!$B$118,\"\"),\"\")","v":""},{"$f":"IF(WEEKDAY(F335,2)<=6,IF(CALENDRIER!I13=\"x\",Labels!$B$118,\"\"),\"\")","v":""},{"$f":"IF(WEEKDAY(G335,2)<=6,IF(CALENDRIER!J13=\"x\",Labels!$B$118,\"\"),\"\")","v":""},{"$f":"IF(WEEKDAY(H335,2)<=6,IF(CALENDRIER!K13=\"x\",Labels!$B$118,\"\"),\"\")","v":""},{"$f":"IF(WEEKDAY(I335,2)<=6,IF(CALENDRIER!L13=\"x\",Labels!$B$118,\"\"),\"\")","v":""},{"$f":"IF(WEEKDAY(J335,2)<=6,IF(CALENDRIER!M13=\"x\",Labels!$B$118,\"\"),\"\")","v":""},{"$f":"IF(WEEKDAY(K335,2)<=6,IF(CALENDRIER!N13=\"x\",Labels!$B$118,\"\"),\"\")","v":""},{"$f":"IF(WEEKDAY(L335,2)<=6,IF(CALENDRIER!O13=\"x\",Labels!$B$118,\"\"),\"\")","v":""},{"$f":"IF(WEEKDAY(M335,2)<=6,IF(CALENDRIER!P13=\"x\",Labels!$B$118,\"\"),\"\")","v":""},{"$f":"IF(WEEKDAY(N335,2)<=6,IF(CALENDRIER!Q13=\"x\",Labels!$B$118,\"\"),\"\")","v":""},{"$f":"IF(WEEKDAY(O335,2)<=6,IF(CALENDRIER!R13=\"x\",Labels!$B$118,\"\"),\"\")","v":""},{"$f":"IF(WEEKDAY(P335,2)<=6,IF(CALENDRIER!S13=\"x\",Labels!$B$118,\"\"),\"\")","v":""},{"$f":"IF(WEEKDAY(Q335,2)<=6,IF(CALENDRIER!T13=\"x\",Labels!$B$118,\"\"),\"\")","v":""},{"$f":"IF(WEEKDAY(R335,2)<=6,IF(CALENDRIER!U13=\"x\",Labels!$B$118,\"\"),\"\")","v":""},{"$f":"IF(WEEKDAY(S335,2)<=6,IF(CALENDRIER!V13=\"x\",Labels!$B$118,\"\"),\"\")","v":""},{"$f":"IF(WEEKDAY(T335,2)<=6,IF(CALENDRIER!W13=\"x\",Labels!$B$118,\"\"),\"\")","v":""},{"$f":"IF(WEEKDAY(U335,2)<=6,IF(CALENDRIER!X13=\"x\",Labels!$B$118,\"\"),\"\")","v":""},{"$f":"IF(WEEKDAY(V335,2)<=6,IF(CALENDRIER!Y13=\"x\",Labels!$B$118,\"\"),\"\")","v":""},{"$f":"IF(WEEKDAY(W335,2)<=6,IF(CALENDRIER!Z13=\"x\",Labels!$B$118,\"\"),\"\")","v":""},{"$f":"IF(WEEKDAY(X335,2)<=6,IF(CALENDRIER!AA13=\"x\",Labels!$B$118,\"\"),\"\")","v":""},{"$f":"IF(WEEKDAY(Y335,2)<=6,IF(CALENDRIER!AB13=\"x\",Labels!$B$118,\"\"),\"\")","v":""},{"$f":"IF(WEEKDAY(Z335,2)<=6,IF(CALENDRIER!AC13=\"x\",Labels!$B$118,\"\"),\"\")","v":""},{"$f":"IF(WEEKDAY(AA335,2)<=6,IF(CALENDRIER!AD13=\"x\",Labels!$B$118,\"\"),\"\")","v":""},{"$f":"IF(WEEKDAY(AB335,2)<=6,IF(CALENDRIER!AE13=\"x\",Labels!$B$118,\"\"),\"\")","v":""},{"$f":"IF(WEEKDAY(AC335,2)<=6,IF(CALENDRIER!AF13=\"x\",Labels!$B$118,\"\"),\"\")","v":""},{"$f":"IF(WEEKDAY(AD335,2)<=6,IF(CALENDRIER!AG13=\"x\",Labels!$B$118,\"\"),\"\")","v":""},{"$f":"IF(WEEKDAY(AE335,2)<=6,IF(CALENDRIER!AH13=\"x\",Labels!$B$118,\"\"),\"\")","v":""},{"$f":"IF(WEEKDAY(AF335,2)<=6,IF(CALENDRIER!AI13=\"x\",Labels!$B$118,\"\"),\"\")","v":""},{"$f":"SUM(B341:AF341)-AG341","v":0},"[03b]"]
[{"$f":"$A$19","v":"Majoration  \"jf\""},{"$f":"IF(AND(B343=Labels!$B$118,WEEKDAY(B335,2)<6,B$337<>\"\"),$J$7*SUMPRODUCT(($AM$77:$AQ$77=MOD(B335,7))*$AM$70:$AQ$70)%,\"\")","v":""},{"$f":"IF(AND(C343=Labels!$B$118,WEEKDAY(C335,2)<6,C$337<>\"\"),$J$7*SUMPRODUCT(($AM$77:$AQ$77=MOD(C335,7))*$AM$70:$AQ$70)%,\"\")","v":""},{"$f":"IF(AND(D343=Labels!$B$118,WEEKDAY(D335,2)<6,D$337<>\"\"),$J$7*SUMPRODUCT(($AM$77:$AQ$77=MOD(D335,7))*$AM$70:$AQ$70)%,\"\")","v":""},{"$f":"IF(AND(E343=Labels!$B$118,WEEKDAY(E335,2)<6,E$337<>\"\"),$J$7*SUMPRODUCT(($AM$77:$AQ$77=MOD(E335,7))*$AM$70:$AQ$70)%,\"\")","v":""},{"$f":"IF(AND(F343=Labels!$B$118,WEEKDAY(F335,2)<6,F$337<>\"\"),$J$7*SUMPRODUCT(($AM$77:$AQ$77=MOD(F335,7))*$AM$70:$AQ$70)%,\"\")","v":""},{"$f":"IF(AND(G343=Labels!$B$118,WEEKDAY(G335,2)<6,G$337<>\"\"),$J$7*SUMPRODUCT(($AM$77:$AQ$77=MOD(G335,7))*$AM$70:$AQ$70)%,\"\")","v":""},{"$f":"IF(AND(H343=Labels!$B$118,WEEKDAY(H335,2)<6,H$337<>\"\"),$J$7*SUMPRODUCT(($AM$77:$AQ$77=MOD(H335,7))*$AM$70:$AQ$70)%,\"\")","v":""},{"$f":"IF(AND(I343=Labels!$B$118,WEEKDAY(I335,2)<6,I$337<>\"\"),$J$7*SUMPRODUCT(($AM$77:$AQ$77=MOD(I335,7))*$AM$70:$AQ$70)%,\"\")","v":""},{"$f":"IF(AND(J343=Labels!$B$118,WEEKDAY(J335,2)<6,J$337<>\"\"),$J$7*SUMPRODUCT(($AM$77:$AQ$77=MOD(J335,7))*$AM$70:$AQ$70)%,\"\")","v":""},{"$f":"IF(AND(K343=Labels!$B$118,WEEKDAY(K335,2)<6,K$337<>\"\"),$J$7*SUMPRODUCT(($AM$77:$AQ$77=MOD(K335,7))*$AM$70:$AQ$70)%,\"\")","v":""},{"$f":"IF(AND(L343=Labels!$B$118,WEEKDAY(L335,2)<6,L$337<>\"\"),$J$7*SUMPRODUCT(($AM$77:$AQ$77=MOD(L335,7))*$AM$70:$AQ$70)%,\"\")","v":""},{"$f":"IF(AND(M343=Labels!$B$118,WEEKDAY(M335,2)<6,M$337<>\"\"),$J$7*SUMPRODUCT(($AM$77:$AQ$77=MOD(M335,7))*$AM$70:$AQ$70)%,\"\")","v":""},{"$f":"IF(AND(N343=Labels!$B$118,WEEKDAY(N335,2)<6,N$337<>\"\"),$J$7*SUMPRODUCT(($AM$77:$AQ$77=MOD(N335,7))*$AM$70:$AQ$70)%,\"\")","v":""},{"$f":"IF(AND(O343=Labels!$B$118,WEEKDAY(O335,2)<6,O$337<>\"\"),$J$7*SUMPRODUCT(($AM$77:$AQ$77=MOD(O335,7))*$AM$70:$AQ$70)%,\"\")","v":""},{"$f":"IF(AND(P343=Labels!$B$118,WEEKDAY(P335,2)<6,P$337<>\"\"),$J$7*SUMPRODUCT(($AM$77:$AQ$77=MOD(P335,7))*$AM$70:$AQ$70)%,\"\")","v":""},{"$f":"IF(AND(Q343=Labels!$B$118,WEEKDAY(Q335,2)<6,Q$337<>\"\"),$J$7*SUMPRODUCT(($AM$77:$AQ$77=MOD(Q335,7))*$AM$70:$AQ$70)%,\"\")","v":""},{"$f":"IF(AND(R343=Labels!$B$118,WEEKDAY(R335,2)<6,R$337<>\"\"),$J$7*SUMPRODUCT(($AM$77:$AQ$77=MOD(R335,7))*$AM$70:$AQ$70)%,\"\")","v":""},{"$f":"IF(AND(S343=Labels!$B$118,WEEKDAY(S335,2)<6,S$337<>\"\"),$J$7*SUMPRODUCT(($AM$77:$AQ$77=MOD(S335,7))*$AM$70:$AQ$70)%,\"\")","v":""},{"$f":"IF(AND(T343=Labels!$B$118,WEEKDAY(T335,2)<6,T$337<>\"\"),$J$7*SUMPRODUCT(($AM$77:$AQ$77=MOD(T335,7))*$AM$70:$AQ$70)%,\"\")","v":""},{"$f":"IF(AND(U343=Labels!$B$118,WEEKDAY(U335,2)<6,U$337<>\"\"),$J$7*SUMPRODUCT(($AM$77:$AQ$77=MOD(U335,7))*$AM$70:$AQ$70)%,\"\")","v":""},{"$f":"IF(AND(V343=Labels!$B$118,WEEKDAY(V335,2)<6,V$337<>\"\"),$J$7*SUMPRODUCT(($AM$77:$AQ$77=MOD(V335,7))*$AM$70:$AQ$70)%,\"\")","v":""},{"$f":"IF(AND(W343=Labels!$B$118,WEEKDAY(W335,2)<6,W$337<>\"\"),$J$7*SUMPRODUCT(($AM$77:$AQ$77=MOD(W335,7))*$AM$70:$AQ$70)%,\"\")","v":""},{"$f":"IF(AND(X343=Labels!$B$118,WEEKDAY(X335,2)<6,X$337<>\"\"),$J$7*SUMPRODUCT(($AM$77:$AQ$77=MOD(X335,7))*$AM$70:$AQ$70)%,\"\")","v":""},{"$f":"IF(AND(Y343=Labels!$B$118,WEEKDAY(Y335,2)<6,Y$337<>\"\"),$J$7*SUMPRODUCT(($AM$77:$AQ$77=MOD(Y335,7))*$AM$70:$AQ$70)%,\"\")","v":""},{"$f":"IF(AND(Z343=Labels!$B$118,WEEKDAY(Z335,2)<6,Z$337<>\"\"),$J$7*SUMPRODUCT(($AM$77:$AQ$77=MOD(Z335,7))*$AM$70:$AQ$70)%,\"\")","v":""},{"$f":"IF(AND(AA343=Labels!$B$118,WEEKDAY(AA335,2)<6,AA$337<>\"\"),$J$7*SUMPRODUCT(($AM$77:$AQ$77=MOD(AA335,7))*$AM$70:$AQ$70)%,\"\")","v":""},{"$f":"IF(AND(AB343=Labels!$B$118,WEEKDAY(AB335,2)<6,AB$337<>\"\"),$J$7*SUMPRODUCT(($AM$77:$AQ$77=MOD(AB335,7))*$AM$70:$AQ$70)%,\"\")","v":""},{"$f":"IF(AND(AC343=Labels!$B$118,WEEKDAY(AC335,2)<6,AC$337<>\"\"),$J$7*SUMPRODUCT(($AM$77:$AQ$77=MOD(AC335,7))*$AM$70:$AQ$70)%,\"\")","v":""},{"$f":"IF(AND(AD343=Labels!$B$118,WEEKDAY(AD335,2)<6,AD$337<>\"\"),$J$7*SUMPRODUCT(($AM$77:$AQ$77=MOD(AD335,7))*$AM$70:$AQ$70)%,\"\")","v":""},{"$f":"IF(AND(AE343=Labels!$B$118,WEEKDAY(AE335,2)<6,AE$337<>\"\"),$J$7*SUMPRODUCT(($AM$77:$AQ$77=MOD(AE335,7))*$AM$70:$AQ$70)%,\"\")","v":""},{"$f":"IF(AND(AF343=Labels!$B$118,WEEKDAY(AF335,2)<6),$J$7*$B$332%,\"\")","v":""},{"$f":"SUM(B344:AF344)","v":0},"[06]"]
[{"$f":"$A$20","v":"total quotidien"},{"$f":"SUM(B340:B342)","v":0},{"$f":"SUM(C340:C342)","v":0},0,0,0,0,0,0,0,0,0,0,0,0,0,0,0,0,0,0,0,0,0,0,0,0,0,0,0,0,null,null,"TT"]
[{"$f":"$A$21","v":"."},null,null,null,null,null,null,null,null,null,null,null,null,null,null,null,null,null,null,null,null,null,null,null,null,null,null,null,null,null,null,null,null,"R"]
[{"$f":"$A$22","v":"."},null,null,null,null,null,null,null,null,null,null,null,null,null,null,null,null,null,null,null,null,null,null,null,null,null,null,null,null,null,null,null,null,"R"]
[{"$f":"$A$23","v":"transition mois"},{"$f":"IF(WEEKDAY(B335)=1,TEXT(B335-1,\"MMM\"&Labels!B13),\"\")","v":""},null,null,null,null,null,null,null,null,null,null,null,null,null,null,null,null,null,null,null,null,null,null,null,null,null,null,null,null,{"$f":"IF(AND(WEEKDAY(AE335)>1,WEEKDAY(AE335)<7),TEXT(DATE($B$5,MONTH(AE335)+1,1),\"MMM\"&Labels!B13),\"\")","v":"juil."},null,null,"MNT"]
[{"$f":"$A$24","v":"Total hebdomadaire"},{"$f":"IF(WEEKDAY(B335)=7,SUMIF($B271:$AF271,B336,$B280:$AF280)+SUMIF($B336:$AF336,B336,$B345:$AF345)+SUMIF($B401:$AF401,B336,$B410:$AF410),B348)","v":""},{"$f":"IF(WEEKDAY(C335)=7,SUMIF($B271:$AF271,C336,$B280:$AF280)+SUMIF($B336:$AF336,C336,$B345:$AF345)+SUMIF($B401:$AF401,C336,$B410:$AF410),\"\")","v":""},0,"","","","","","",0,"","","","","","",0,"","","","","","",0,"","","","","",{"$f":"IF(WEEKDAY(AE335)=7,SUMIF($B271:$AF271,AE336,$B280:$AF280)+SUMIF($B336:$AF336,AE336,$B345:$AF345)+SUMIF($B401:$AF401,AE336,$B410:$AF410),AE348)","v":"juil."},null,null,"WT"]
[{"$f":"$A$25","v":"Majorations temp. 1)"},{"$f":"IF(B357=\"FALSCH\",\"\",B357)","v":""},{"$f":"IF(C357=\"FALSCH\",\"\",C357)","v":""},"","","","","","","","","","","","","","","","","","","","","","","","","","","","",null,{"$f":"SUM(B350:AF350)","v":0},"[07]"]
[{"$f":"$A$26","v":"Majorations temp. 2)"},{"$f":"IF((B340+B342)=0,\"\",SUM(B340,B342))","v":""},{"$f":"IF((C340+C342)=0,\"\",SUM(C340,C342))","v":""},"","","","","","","","","","","","","","","","","","","","","","","","","","","","",null,0,"[08]"]
[{"$f":"$A$27","v":"Majorations temp. 3)"},{"$f":"SUM(B353:B356)","v":0},{"$f":"SUM(C353:C356)","v":0},0,0,0,0,0,0,0,0,0,0,0,0,0,0,0,0,0,0,0,0,0,0,0,0,0,0,0,0,null,0,"[09]"]
[{"$f":"$A$28","v":"Dimanche journée"},{"$f":"IF(WEEKDAY(B335)=1,B341,\"\")","v":""},{"$f":"IF(WEEKDAY(C335)=1,C341,\"\")","v":""},"",0,"","","","","","",0,"","","","","","",0,"","","","","","",0,"","","","","",null,0,"[09-ST]"]
[{"$f":"$A$29","v":"Dimanche nuit"},{"$f":"IF(WEEKDAY(B335)=1,SUM(B340+B342),\"\")","v":""},{"$f":"IF(WEEKDAY(C335)=1,SUM(C340+C342),\"\")","v":""},"",0,"","","","","","",0,"","","","","","",0,"","","","","","",0,"","","","","",null,0,"[09-SN]"]
[{"$f":"$A$30","v":"jf-jomajoration"},{"$f":"IF(B343=Labels!$B$118,B341,\"\")","v":""},{"$f":"IF(C343=Labels!$B$118,C341,\"\")","v":""},{"$f":"IF(D343=Labels!$B$118,D341,\"\")","v":""},{"$f":"IF(E343=Labels!$B$118,E341,\"\")","v":""},{"$f":"IF(F343=Labels!$B$118,F341,\"\")","v":""},{"$f":"IF(G343=Labels!$B$118,G341,\"\")","v":""},{"$f":"IF(H343=Labels!$B$118,H341,\"\")","v":""},{"$f":"IF(I343=Labels!$B$118,I341,\"\")","v":""},{"$f":"IF(J343=Labels!$B$118,J341,\"\")","v":""},{"$f":"IF(K343=Labels!$B$118,K341,\"\")","v":""},{"$f":"IF(L343=Labels!$B$118,L341,\"\")","v":""},{"$f":"IF(M343=Labels!$B$118,M341,\"\")","v":""},{"$f":"IF(N343=Labels!$B$118,N341,\"\")","v":""},{"$f":"IF(O343=Labels!$B$118,O341,\"\")","v":""},{"$f":"IF(P343=Labels!$B$118,P341,\"\")","v":""},{"$f":"IF(Q343=Labels!$B$118,Q341,\"\")","v":""},{"$f":"IF(R343=Labels!$B$118,R341,\"\")","v":""},{"$f":"IF(S343=Labels!$B$118,S341,\"\")","v":""},{"$f":"IF(T343=Labels!$B$118,T341,\"\")","v":""},{"$f":"IF(U343=Labels!$B$118,U341,\"\")","v":""},{"$f":"IF(V343=Labels!$B$118,V341,\"\")","v":""},{"$f":"IF(W343=Labels!$B$118,W341,\"\")","v":""},{"$f":"IF(X343=Labels!$B$118,X341,\"\")","v":""},{"$f":"IF(Y343=Labels!$B$118,Y341,\"\")","v":""},{"$f":"IF(Z343=Labels!$B$118,Z341,\"\")","v":""},{"$f":"IF(AA343=Labels!$B$118,AA341,\"\")","v":""},{"$f":"IF(AB343=Labels!$B$118,AB341,\"\")","v":""},{"$f":"IF(AC343=Labels!$B$118,AC341,\"\")","v":""},{"$f":"IF(AD343=Labels!$B$118,AD341,\"\")","v":""},{"$f":"IF(AE343=Labels!$B$118,AE341,\"\")","v":""},null,0,"[09-FT]"]
[{"$f":"$A$31","v":"jf-numajoration"},{"$f":"IF(B343=Labels!$B$118,SUM(B340,B342),\"\")","v":""},{"$f":"IF(C343=Labels!$B$118,SUM(C340,C342),\"\")","v":""},{"$f":"IF(D343=Labels!$B$118,SUM(D340,D342),\"\")","v":""},{"$f":"IF(E343=Labels!$B$118,SUM(E340,E342),\"\")","v":""},{"$f":"IF(F343=Labels!$B$118,SUM(F340,F342),\"\")","v":""},{"$f":"IF(G343=Labels!$B$118,SUM(G340,G342),\"\")","v":""},{"$f":"IF(H343=Labels!$B$118,SUM(H340,H342),\"\")","v":""},{"$f":"IF(I343=Labels!$B$118,SUM(I340,I342),\"\")","v":""},{"$f":"IF(J343=Labels!$B$118,SUM(J340,J342),\"\")","v":""},{"$f":"IF(K343=Labels!$B$118,SUM(K340,K342),\"\")","v":""},{"$f":"IF(L343=Labels!$B$118,SUM(L340,L342),\"\")","v":""},{"$f":"IF(M343=Labels!$B$118,SUM(M340,M342),\"\")","v":""},{"$f":"IF(N343=Labels!$B$118,SUM(N340,N342),\"\")","v":""},{"$f":"IF(O343=Labels!$B$118,SUM(O340,O342),\"\")","v":""},{"$f":"IF(P343=Labels!$B$118,SUM(P340,P342),\"\")","v":""},{"$f":"IF(Q343=Labels!$B$118,SUM(Q340,Q342),\"\")","v":""},{"$f":"IF(R343=Labels!$B$118,SUM(R340,R342),\"\")","v":""},{"$f":"IF(S343=Labels!$B$118,SUM(S340,S342),\"\")","v":""},{"$f":"IF(T343=Labels!$B$118,SUM(T340,T342),\"\")","v":""},{"$f":"IF(U343=Labels!$B$118,SUM(U340,U342),\"\")","v":""},{"$f":"IF(V343=Labels!$B$118,SUM(V340,V342),\"\")","v":""},{"$f":"IF(W343=Labels!$B$118,SUM(W340,W342),\"\")","v":""},{"$f":"IF(X343=Labels!$B$118,SUM(X340,X342),\"\")","v":""},{"$f":"IF(Y343=Labels!$B$118,SUM(Y340,Y342),\"\")","v":""},{"$f":"IF(Z343=Labels!$B$118,SUM(Z340,Z342),\"\")","v":""},{"$f":"IF(AA343=Labels!$B$118,SUM(AA340,AA342),\"\")","v":""},{"$f":"IF(AB343=Labels!$B$118,SUM(AB340,AB342),\"\")","v":""},{"$f":"IF(AC343=Labels!$B$118,SUM(AC340,AC342),\"\")","v":""},{"$f":"IF(AD343=Labels!$B$118,SUM(AD340,AD342),\"\")","v":""},{"$f":"IF(AE343=Labels!$B$118,SUM(AE340,AE342),\"\")","v":""},null,0,"[09-FN]"]
[{"$f":"$A$32","v":"majoration caché (total hebd.)"},{"$f":"IF($B332>=80,IF(OR(ISTEXT(B349),B349=\"\",B349<$B$7),\"\",ROUND(((B349-$B$7)*25%)/25,4)*25),IF(B345>($B$7/5),ROUND(((B345-($B$7/5))*25%)/25,4)*25,\"\"))","v":""},{"$f":"IF($B332>=80,IF(OR(ISTEXT(C349),C349=\"\",C349<$B$7),\"\",ROUND(((C349-$B$7)*25%)/25,4)*25),IF(C345>($B$7/5),ROUND(((C345-($B$7/5))*25%)/25,4)*25,\"\"))","v":""},"","","","","","","","","","","","","","","","","","","","","","","","","","","","",null,{"$f":"AG341","v":0},"[03]"]
[null,{"$f":"$B$33","v":"1)  25% majoration temporelle pour depassement les heures maximales"},null,null,null,null,null,null,null,null,null,{"$f":"$L$33","v":"2) 100% majoration temporelle pour travail de nuit"},null,null,null,null,null,null,null,{"$f":"$T$33","v":"Saisie des heures payées l'année passée"},null,null,null,null,null,null,null,null,null,null,null,null,{"$f":"SUM(AG340+AG342)","v":0},"[4-5]"]
[null,{"$f":"$B$34","v":"3) 100% majoration temporelle pour travail du dimanche et jour férié"},null,null,null,null,null,null,null,null,null,null,null,null,null,null,null,null,null,{"$f":"$T$34","v":"Saisie des heures payées exercice en cours (heures supplémentaires)"},null,null,null,null,null,null,null,null,null,null,null,null,{"$f":"SUM(AG340:AG342)","v":0},"[3-5]"]
[{"$f":"$A$35","v":"Notes"},null,null,null,null,null,null,null,null,null,null,null,null,null,null,null,null,null,null,null,null,null,null,null,null,null,null,null,null,null,null,null,{"$f":"SUM(AG338:AG352)","v":0},"[10]"]
[null,null,null,null,null,null,null,null,null,null,null,null,null,null,null,null,null,null,null,null,null,null,null,null,null,null,null,null,null,null,null,null,{"$f":"AG337","v":176},"[00]"]
[{"$f":"IF(AG954=0,\"\",\"effektives Pensum:  \"&ROUND(COUNT(B337:AF337)/(AG954+COUNT(B337:AF337))%*B332%*20,0)/20&\" %\")","v":""},null,null,null,null,null,null,null,null,null,null,null,null,null,null,null,null,null,null,null,null,null,null,null,null,null,null,null,null,null,null,null,{"$f":"SUM(AG360-AG361)","v":-176},"[11]"]
[]
[{"$f":"Labels!$B$103","v":"Résumé"},null,null,null,null,null,{"$f":"Labels!$B$77","v":"Jan"},null,{"$f":"Labels!$B$78","v":"Fév"},null,{"$f":"Labels!$B$79","v":"Mar"},null,{"$f":"Labels!$B$80","v":"Avr"},null,{"$f":"Labels!$B$81","v":"Mai"},null,{"$f":"Labels!$B$82","v":"Jun"},null,{"$f":"Labels!$B$83","v":"Jul"},null,{"$f":"Labels!$B$84","v":"Aoû"},null,{"$f":"Labels!$B$85","v":"Sep"},null,{"$f":"Labels!$B$86","v":"Oct"},null,{"$f":"Labels!$B$87","v":"Nov"},null,{"$f":"Labels!$B$88","v":"Déc"},null,{"$f":"Labels!$B$101","v":"Année"}]
[{"$f":"Labels!$B$20","v":"Emploi %"},null,null,null,null,null,{"$f":"IF($B$4=0,0,$B$4)","v":100},null,{"$f":"IF($B$72=0,0,$B$72)","v":100},null,{"$f":"IF($B$137=0,0,$B$137)","v":100},null,{"$f":"IF($B$202=0,0,$B$202)","v":100},null,{"$f":"IF($B$267=0,0,$B$267)","v":100},null,{"$f":"IF($B$332=0,0,$B$332)","v":100},null,{"$f":"IF($B$397=0,0,$B$397)","v":100},null,{"$f":"IF($B$462=0,0,$B$462)","v":100},null,{"$f":"IF($B$527=0,0,$B$527)","v":100},null,{"$f":"IF($B$592=0,0,$B$592)","v":100},null,{"$f":"IF($B$657=0,0,$B$657)","v":100},null,{"$f":"IF($B$722=0,0,$B$722)","v":100}]
[{"$f":"Labels!$B$104","v":"Heures théoriques selon CCT"},null,null,null,null,null,{"$f":"IF($AG$36=0,0,$AG$36)","v":176},null,{"$f":"IF($AG$101=0,0,$AG$101)","v":160},null,{"$f":"IF($AG$142=0,0,$AG$142)","v":184},null,{"$f":"IF($AG$231=0,0,$AG$231)","v":160},null,{"$f":"IF($AG$296=0,0,$AG$296)","v":184},null,{"$f":"IF($AG$361=0,0,$AG$361)","v":176},null,{"$f":"IF($AG$426=0,0,$AG$426)","v":168},null,{"$f":"IF($AG$491=0,0,$AG$491)","v":184},null,{"$f":"IF($AG$556=0,0,$AG$556)","v":168},null,{"$f":"IF($AG$621=0,0,$AG$621)","v":176},null,{"$f":"IF($AG$686=0,0,$AG$686)","v":176},null,{"$f":"IF($AG$751=0,0,$AG$751)","v":168},null,{"$f":"SUM(G366:AD366)","v":2080}]
[{"$f":"Labels!$B$105","v":"Total heures productives"},{"$f":"Labels!$B$106","v":"06.00 - 20.00 h"},null,null,null,null,{"$f":"IF($AG$32=0,0,$AG$32)","v":0},null,{"$f":"IF($AG$97=0,0,$AG$97)","v":0},null,{"$f":"IF($AG$162=0,0,$AG$162)","v":0},null,{"$f":"IF($AG$227=0,0,$AG$227)","v":0},null,{"$f":"IF($AG$292=0,0,$AG$292)","v":0},null,{"$f":"IF($AG$357=0,0,$AG$357)","v":0},null,{"$f":"IF($AG$422=0,0,$AG$422)","v":0},null,{"$f":"IF($AG$487=0,0,$AG$487)","v":0},null,{"$f":"IF($AG$552=0,0,$AG$552)","v":0},null,{"$f":"IF($AG$617=0,0,$AG$617)","v":0},null,{"$f":"IF($AG$682=0,0,$AG$682)","v":0},null,{"$f":"IF($AG$747=0,0,$AG$747)","v":0},null,{"$f":"SUM(G367:AD367)","v":0}]
[null,{"$f":"Labels!$B$107","v":"nuit, dimanche et jour férié"},null,null,null,null,{"$f":"IF(AND($AG$33=0,$AG$18=0),0,$AG$33+$AG$18)","v":0},null,{"$f":"IF(AND($AG$98=0,$AG$83=0),0,$AG$98+$AG$83)","v":0},null,{"$f":"IF(AND($AG$163=0,$AG$148=0),0,$AG$163+$AG$148)","v":0},null,{"$f":"IF(AND($AG$228=0,$AG$213=0),0,$AG$228+$AG$213)","v":0},null,{"$f":"IF(AND($AG$293=0,$AG$278=0),0,$AG$293+$AG$278)","v":0},null,{"$f":"IF(AND($AG$358=0,$AG$343=0),0,$AG$358+$AG$343)","v":0},null,{"$f":"IF(AND($AG$423=0,$AG$408=0),0,$AG$423+$AG$408)","v":0},null,{"$f":"IF(AND($AG$488=0,$AG$473=0),0,$AG$488+$AG$473)","v":0},null,{"$f":"IF(AND($AG$553=0,$AG$538=0),0,$AG$553+$AG$538)","v":0},null,{"$f":"IF(AND($AG$618=0,$AG$603=0),0,$AG$618+$AG$603)","v":0},null,{"$f":"IF(AND($AG$683=0,$AG$668=0),0,$AG$683+$AG$668)","v":0},null,{"$f":"IF(AND($AG$748=0,$AG$733=0),0,$AG$748+$AG$733)","v":0},null,{"$f":"SUM(G368:AD368)","v":0}]
[{"$f":"Labels!$B$108","v":"Majorations temporelles"},{"$f":"Labels!$B$109","v":"depassement des heures maximales"},null,null,null,null,{"$f":"IF($AG$25=0,0,$AG$25)","v":0},null,{"$f":"IF($AG$90=0,0,$AG$90)","v":0},null,{"$f":"IF($AG$155=0,0,$AG$155)","v":0},null,{"$f":"IF($AG$220=0,0,$AG$220)","v":0},null,{"$f":"IF($AG$285=0,0,$AG$285)","v":0},null,{"$f":"IF($AG$350=0,0,$AG$350)","v":0},null,{"$f":"IF($AG$415=0,0,$AG$415)","v":0},null,{"$f":"IF($AG$480=0,0,$AG$480)","v":0},null,{"$f":"IF($AG$545=0,0,$AG$545)","v":0},null,{"$f":"IF($AG$610=0,0,$AG$610)","v":0},null,{"$f":"IF($AG$675=0,0,$AG$675)","v":0},null,{"$f":"IF($AG$740=0,0,$AG$740)","v":0},null,{"$f":"SUM(G369:AD369)","v":0}]
[null,{"$f":"Labels!$B$110","v":"nuit, dimanche et jour férié"},null,null,null,null,{"$f":"IF($AJ$23=0,0,$AJ$23)","v":0},null,{"$f":"IF($AK$23=0,0,$AK$23)","v":0},null,{"$f":"IF($AL$23=0,0,$AL$23)","v":0},null,{"$f":"IF($AM$23=0,0,$AM$23)","v":0},null,{"$f":"IF($AN$23=0,0,$AN$23)","v":0},null,{"$f":"IF($AO$23=0,0,$AO$23)","v":0},null,{"$f":"IF($AP$23=0,0,$AP$23)","v":0},null,{"$f":"IF($AQ$23=0,0,$AQ$23)","v":0},null,{"$f":"IF($AR$23=0,0,$AR$23)","v":0},null,{"$f":"IF($AS$23=0,0,$AS$23)","v":0},null,{"$f":"IF($AT$23=0,0,$AT$23)","v":0},null,{"$f":"IF($AU$23=0,0,$AU$23)","v":0},null,{"$f":"SUM(G370:AD370)","v":0}]
[{"$f":"Labels!$B$111","v":"Heures inproductives"}]
[{"$f":"Labels!$B$112","v":"   Absences art. 11 CCT"},null,null,null,null,{"$f":"Labels!$B$113","v":"ab"},{"$f":"IF($AJ$3=0,0,$AJ$3)","v":0},null,{"$f":"IF($AK$3=0,0,$AK$3)","v":0},null,{"$f":"IF($AL$3=0,0,$AL$3)","v":0},null,{"$f":"IF($AM$3=0,0,$AM$3)","v":0},null,{"$f":"IF($AN$3=0,0,$AN$3)","v":0},null,{"$f":"IF($AO$3=0,0,$AO$3)","v":0},null,{"$f":"IF($AP$3=0,0,$AP$3)","v":0},null,{"$f":"IF($AQ$3=0,0,$AQ$3)","v":0},null,{"$f":"IF($AR$3=0,0,$AR$3)","v":0},null,{"$f":"IF($AS$3=0,0,$AS$3)","v":0},null,{"$f":"IF(AT$3=0,0,$AT$3)","v":0},null,{"$f":"IF($AU$3=0,0,$AU$3)","v":0},null,{"$f":"IF($AV$3=0,0,$AV$3)","v":0}]
[{"$f":"Labels!$B$114","v":"   Vacances art. 12.1 CCT"},null,null,null,null,{"$f":"Labels!$B$115","v":"va"},{"$f":"IF($AJ$4=0,0,$AJ$4)","v":0},null,{"$f":"IF($AK$4=0,0,$AK$4)","v":0},null,{"$f":"IF($AL$4=0,0,$AL$4)","v":0},null,{"$f":"IF($AM$4=0,0,$AM$4)","v":0},null,{"$f":"IF($AN$4=0,0,$AN$4)","v":0},null,{"$f":"IF($AO$4=0,0,$AO$4)","v":0},null,{"$f":"IF($AP$4=0,0,$AP$4)","v":0},null,{"$f":"IF($AQ$4=0,0,$AQ$4)","v":0},null,{"$f":"IF($AR$4=0,0,$AR$4)","v":0},null,{"$f":"IF($AS$4=0,0,$AS$4)","v":0},null,{"$f":"IF($AT$4=0,0,$AT$4)","v":0},null,{"$f":"IF($AU$4=0,0,$AU$4)","v":0},null,{"$f":"IF($AV$4=0,0,$AV$4)","v":0}]
[{"$f":"Labels!$B$181","v":"   vacances non payées"},null,null,null,null,{"$f":"Labels!$B$182","v":"vn"},{"$f":"IF($AJ$13=0,0,$AJ$13)","v":0},null,{"$f":"IF($AK$13=0,0,$AK$13)","v":0},null,{"$f":"IF($AL$13=0,0,$AL$13)","v":0},null,{"$f":"IF($AM$13=0,0,$AM$13)","v":0},null,{"$f":"IF($AN$13=0,0,$AN$13)","v":0},null,{"$f":"IF($AO$13=0,0,$AO$13)","v":0},null,{"$f":"IF($AP$13=0,0,$AP$13)","v":0},null,{"$f":"IF($AQ$13=0,0,$AQ$13)","v":0},null,{"$f":"IF($AR$13=0,0,$AR$13)","v":0},null,{"$f":"IF($AS$13=0,0,$AS$13)","v":0},null,{"$f":"IF($AT$13=0,0,$AT$13)","v":0},null,{"$f":"IF($AU$13=0,0,$AU$13)","v":0},null,{"$f":"IF($AV$13=0,0,$AV$13)","v":0}]
[{"$f":"Labels!$B$116","v":"   Jours fériés art. 12.2 CCT"},null,{"$f":"IF($AJ$20=\"\",\"\",$AJ$20)","v":""},null,null,{"$f":"Labels!$B$118","v":"jf"},{"$f":"IF($AJ$18=0,0,$AJ$18)","v":0},null,{"$f":"IF($AK$18=0,0,$AK$18)","v":0},null,{"$f":"IF($AL$18=0,0,$AL$18)","v":0},null,{"$f":"IF($AM$18=0,0,$AM$18)","v":0},null,{"$f":"IF($AN$18=0,0,$AN$18)","v":0},null,{"$f":"IF($AO$18=0,0,$AO$18)","v":0},null,{"$f":"IF($AP$18=0,0,$AP$18)","v":0},null,{"$f":"IF($AQ$18=0,0,$AQ$18)","v":0},null,{"$f":"IF($AR$18=0,0,$AR$18)","v":0},null,{"$f":"IF($AS$18=0,0,$AS$18)","v":0},null,{"$f":"IF($AT$18=0,0,$AT$18)","v":0},null,{"$f":"IF($AU$18=0,0,$AU$18)","v":0},null,{"$f":"IF($AV$18=0,0,$AV$18)","v":0}]
[{"$f":"Labels!$B$119","v":"   Maladie art. 13 CCT"},null,null,null,null,{"$f":"Labels!$B$120","v":"ma"},{"$f":"IF($AJ$5=0,0,$AJ$5)","v":0},null,{"$f":"IF($AK$5=0,0,$AK$5)","v":0},null,{"$f":"IF($AL$5=0,0,$AL$5)","v":0},null,{"$f":"IF($AM$5=0,0,$AM$5)","v":0},null,{"$f":"IF($AN$5=0,0,$AN$5)","v":0},null,{"$f":"IF($AO$5=0,0,$AO$5)","v":0},null,{"$f":"IF($AP$5=0,0,$AP$5)","v":0},null,{"$f":"IF($AQ$5=0,0,$AQ$5)","v":0},null,{"$f":"IF($AR$5=0,0,$AR$5)","v":0},null,{"$f":"IF($AS$5=0,0,$AS$5)","v":0},null,{"$f":"IF($AT$5=0,0,$AT$5)","v":0},null,{"$f":"IF($AU$5=0,0,$AU$5)","v":0},null,{"$f":"IF($AV$5=0,0,$AV$5)","v":0}]
[{"$f":"Labels!$B$184","v":"non payeé"},null,null,null,null,null,{"$f":"IF(AJ$16=0,0,AJ$16)","v":0},null,{"$f":"IF($AK$16=0,0,$AK$16)","v":0},null,{"$f":"IF($AL$16=0,0,$AL$16)","v":0},null,{"$f":"IF($AM$16=0,0,$AM$16)","v":0},null,{"$f":"IF($AN$16=0,0,$AN$16)","v":0},null,{"$f":"IF($AO$16=0,0,$AO$16)","v":0},null,{"$f":"IF($AP$16=0,0,$AP$16)","v":0},null,{"$f":"IF($AQ$16=0,0,$AQ$16)","v":0},null,{"$f":"IF($AR$16=0,0,$AR$16)","v":0},null,{"$f":"IF($AS$16=0,0,$AS$16)","v":0},null,{"$f":"IF($AT$16=0,0,$AT$16)","v":0},null,{"$f":"IF($AU$16=0,0,$AU$16)","v":0},null,{"$f":"IF($AV$16=0,0,$AV$16)","v":0}]
[{"$f":"Labels!$B$121","v":"   Accident art. 14 CCT"},null,null,null,null,{"$f":"Labels!$B$122","v":"ac"},{"$f":"IF($AJ$6=0,0,$AJ$6)","v":0},null,{"$f":"IF($AK$6=0,0,$AK$6)","v":0},null,{"$f":"IF($AL$6=0,0,$AL$6)","v":0},null,{"$f":"IF($AM$6=0,0,$AM$6)","v":0},null,{"$f":"IF($AN$6=0,0,$AN$6)","v":0},null,{"$f":"IF($AO$6=0,0,$AO$6)","v":0},null,{"$f":"IF($AP$6=0,0,$AP$6)","v":0},null,{"$f":"IF($AQ$6=0,0,$AQ$6)","v":0},null,{"$f":"IF($AR$6=0,0,$AR$6)","v":0},null,{"$f":"IF($AS$6=0,0,$AS$6)","v":0},null,{"$f":"IF($AT$6=0,0,$AT$6)","v":0},null,{"$f":"IF($AU$6=0,0,$AU$6)","v":0},null,{"$f":"IF($AV$6=0,0,$AV$6)","v":0}]
[{"$f":"Labels!$B$123","v":"   Grossesse/Maternité art. 15 CCT"},null,null,null,null,{"$f":"Labels!$B$124","v":"gm"},{"$f":"IF($AJ$7=0,0,$AJ$7)","v":0},null,{"$f":"IF($AK$7=0,0,$AK$7)","v":0},null,{"$f":"IF($AL$7=0,0,$AL$7)","v":0},null,{"$f":"IF($AM$7=0,0,$AM$7)","v":0},null,{"$f":"IF($AN$7=0,0,$AN$7)","v":0},null,{"$f":"IF($AO$7=0,0,$AO$7)","v":0},null,{"$f":"IF($AP$7=0,0,$AP$7)","v":0},null,{"$f":"IF($AQ$7=0,0,$AQ$7)","v":0},null,{"$f":"IF($AR$7=0,0,$AR$7)","v":0},null,{"$f":"IF($AS$7=0,0,$AS$7)","v":0},null,{"$f":"IF($AT$7=0,0,$AT$7)","v":0},null,{"$f":"IF($AU$7=0,0,$AU$7)","v":0},null,{"$f":"IF($AV$7=0,0,$AV$7)","v":0}]
[{"$f":"Labels!$B$125","v":"   Militaire/Promotion/Protection civile art. 16 CCT"},null,null,null,null,{"$f":"Labels!$B$126","v":"mi"},{"$f":"IF($AJ$8=0,0,$AJ$8)","v":0},null,{"$f":"IF($AK$8=0,0,$AK$8)","v":0},null,{"$f":"IF($AL$8=0,0,$AL$8)","v":0},null,{"$f":"IF($AM$8=0,0,$AM$8)","v":0},null,{"$f":"IF($AN$8=0,0,$AN$8)","v":0},null,{"$f":"IF($AO$8=0,0,$AO$8)","v":0},null,{"$f":"IF($AP$8=0,0,$AP$8)","v":0},null,{"$f":"IF($AQ$8=0,0,$AQ$8)","v":0},null,{"$f":"IF($AR$8=0,0,$AR$8)","v":0},null,{"$f":"IF($AS$8=0,0,$AS$8)","v":0},null,{"$f":"IF($AT$8=0,0,$AT$8)","v":0},null,{"$f":"IF($AU$8=0,0,$AU$8)","v":0},null,{"$f":"IF($AV$8=0,0,$AV$8)","v":0}]
[{"$f":"Labels!$B$127","v":"   Chômage partiel et perte de travail cause d'intempéries"},null,null,null,null,{"$f":"Labels!$B$128","v":"ch"},{"$f":"IF($AJ$11=0,0,$AJ$11)","v":0},null,{"$f":"IF($AK$11=0,0,$AK$11)","v":0},null,{"$f":"IF($AL$11=0,0,$AL$11)","v":0},null,{"$f":"IF($AM$11=0,0,$AM$11)","v":0},null,{"$f":"IF($AN$11=0,0,$AN$11)","v":0},null,{"$f":"IF($AO$11=0,0,$AO$11)","v":0},null,{"$f":"IF($AP$11=0,0,$AP$11)","v":0},null,{"$f":"IF($AQ$11=0,0,$AQ$11)","v":0},null,{"$f":"IF($AR$11=0,0,$AR$11)","v":0},null,{"$f":"IF($AS$11=0,0,$AS$11)","v":0},null,{"$f":"IF($AT$11=0,0,$AT$11)","v":0},null,{"$f":"IF($AU$11=0,0,$AU$11)","v":0},null,{"$f":"IF($AV$11=0,0,$AV$11)","v":0}]
[{"$f":"Labels!$B$129","v":"   Ecole professionnelle"},null,null,null,null,{"$f":"Labels!$B$130","v":"ep"},{"$f":"IF($AJ$9=0,0,$AJ$9)","v":0},null,{"$f":"IF($AK$9=0,0,$AK$9)","v":0},null,{"$f":"IF($AL$9=0,0,$AL$9)","v":0},null,{"$f":"IF($AM$9=0,0,$AM$9)","v":0},null,{"$f":"IF($AN$9=0,0,$AN$9)","v":0},null,{"$f":"IF($AO$9=0,0,$AO$9)","v":0},null,{"$f":"IF($AP$9=0,0,$AP$9)","v":0},null,{"$f":"IF($AQ$9=0,0,$AQ$9)","v":0},null,{"$f":"IF($AR$9=0,0,$AR$9)","v":0},null,{"$f":"IF($AS$9=0,0,$AS$9)","v":0},null,{"$f":"IF($AT$9=0,0,$AT$9)","v":0},null,{"$f":"IF($AU$9=0,0,$AU$9)","v":0},null,{"$f":"IF($AV$9=0,0,$AV$9)","v":0}]
[{"$f":"Labels!$B$131","v":"   Cours"},null,null,null,null,{"$f":"Labels!$B$132","v":"co"},{"$f":"IF($AJ$10=0,0,$AJ$10)","v":0},null,{"$f":"IF($AK$10=0,0,$AK$10)","v":0},null,{"$f":"IF($AL$10=0,0,$AL$10)","v":0},null,{"$f":"IF($AM$10=0,0,$AM$10)","v":0},null,{"$f":"IF($AN$10=0,0,$AN$10)","v":0},null,{"$f":"IF($AO$10=0,0,$AO$10)","v":0},null,{"$f":"IF($AP$10=0,0,$AP$10)","v":0},null,{"$f":"IF($AQ$10=0,0,$AQ$10)","v":0},null,{"$f":"IF($AR$10=0,0,$AR$10)","v":0},null,{"$f":"IF($AS$10=0,0,$AS$10)","v":0},null,{"$f":"IF($AT$10=0,0,$AT$10)","v":0},null,{"$f":"IF($AU$10=0,0,$AU$10)","v":0},null,{"$f":"IF($AV$10=0,0,$AV$10)","v":0}]
[{"$f":"Labels!$B$133","v":"Heures de compensation"},{"$f":"Labels!$B$134","v":"de l'année passée"},null,null,null,{"$f":"Labels!$B$135","v":"cp"},{"$f":"IF($AJ$12=0,0,$AJ$12)","v":0},null,{"$f":"IF($AK$12=0,0,$AK$12)","v":0},null,{"$f":"IF($AL$12=0,0,$AL$12)","v":0},null,{"$f":"IF($AM$12=0,0,$AM$12)","v":0},null,{"$f":"IF($AN$12=0,0,$AN$12)","v":0},null,{"$f":"IF($AO$12=0,0,$AO$12)","v":0},null,{"$f":"IF($AP$12=0,0,$AP$12)","v":0},null,{"$f":"IF($AQ$12=0,0,$AQ$12)","v":0},null,{"$f":"IF($AR$12=0,0,$AR$12)","v":0},null,null,null,null,null,null,null,{"$f":"IF($AV$12=0,0,$AV$12)","v":0}]
[null,{"$f":"Labels!$B$136","v":"de l'année en cours (contrôle)"},null,null,null,{"$f":"Labels!$B$137","v":"cc"},{"$f":"IF($AJ$15=0,0,$AJ$15)","v":0},null,{"$f":"IF($AK$15=0,0,$AK$15)","v":0},null,{"$f":"IF($AL$15=0,0,$AL$15)","v":0},null,{"$f":"IF($AM$15=0,0,$AM$15)","v":0},null,{"$f":"IF($AN$15=0,0,$AN$15)","v":0},null,{"$f":"IF($AO$15=0,0,$AO$15)","v":0},null,{"$f":"IF($AP$15=0,0,$AP$15)","v":0},null,{"$f":"IF($AQ$15=0,0,$AQ$15)","v":0},null,{"$f":"IF($AR$15=0,0,$AR$15)","v":0},null,{"$f":"IF($AS$15=0,0,$AS$15)","v":0},null,{"$f":"IF($AT$15=0,0,$AT$15)","v":0},null,{"$f":"IF($AU$15=0,0,$AU$15)","v":0},null,{"$f":"IF($AV$15=0,0,$AV$15)","v":0}]
[{"$f":"Labels!$B$138","v":"Paiement des heures"},{"$f":"Labels!$B$139","v":"de l'année passée"},null,null,null,null,{"$f":"IF($AJ$21=0,0,$AJ$21)","v":0},null,{"$f":"IF($AK$21=0,0,$AK$21)","v":0},null,{"$f":"IF($AL$21=0,0,$AL$21)","v":0},null,{"$f":"IF($AM$21=0,0,$AM$21)","v":0},null,{"$f":"IF($AN$21=0,0,$AN$21)","v":0},null,{"$f":"IF($AO$21=0,0,$AO$21)","v":0},null,{"$f":"IF($AP$21=0,0,$AP$21)","v":0},null,{"$f":"IF($AQ$21=0,0,$AQ$21)","v":0},null,{"$f":"IF($AR$21=0,0,$AR$21)","v":0},null,null,null,null,null,null,null,{"$f":"IF($AV$21=0,0,$AV$21)","v":0}]
[{"$f":"Labels!$B$140","v":"Différence en heures"},{"$f":"Labels!$B$141","v":"après compensation et paiement"},null,null,null,null,{"$f":"IF(ROUND($P$4,3)=0,0,$P$4-G384-G386)","v":0},null,{"$f":"IF(ROUND(G387,3)=0,0,G387-(SUM(I384+I386)))","v":0},null,{"$f":"IF(ROUND(I387,3)=0,0,I387-K386-K384)","v":0},null,{"$f":"IF(ROUND(K387,3)=0,0,K387-(SUM(M386+M384)))","v":0},null,{"$f":"IF(ROUND(M387,3)=0,0,M387-(SUM(O386+O384)))","v":0},null,{"$f":"IF(ROUND(O387,3)=0,0,O387-(SUM(Q386+Q384)))","v":0},null,{"$f":"IF(ROUND(Q387,3)=0,0,Q387-(SUM(S386+S384)))","v":0},null,{"$f":"IF(ROUND(S387,3)=0,0,S387-(SUM(U386+U384)))","v":0},null,{"$f":"IF(ROUND(U387,3)=0,0,U387-(SUM(W386+W384)))","v":0},null,{"$f":"IF($W$62<0.1,\"\",AY369)","v":""}]
[{"$f":"Labels!$B$138","v":"Paiement des heures"},{"$f":"Labels!$B$142","v":"de l'année en cours"},null,null,null,null,{"$f":"IF($AJ$22=0,0,$AJ$22)","v":0},null,{"$f":"IF($AK$22=0,0,$AK$22)","v":0},null,{"$f":"IF($AL$22=0,0,$AL$22)","v":0},null,{"$f":"IF($AM$22=0,0,$AM$22)","v":0},null,{"$f":"IF($AN$22=0,0,$AN$22)","v":0},null,{"$f":"IF($AO$22=0,0,$AO$22)","v":0},null,{"$f":"IF($AP$22=0,0,$AP$22)","v":0},null,{"$f":"IF($AQ$22=0,0,$AQ$22)","v":0},null,{"$f":"IF($AR$22=0,0,$AR$22)","v":0},null,{"$f":"IF($AS$22=0,0,$AS$22)","v":0},null,{"$f":"IF($AT$22=0,0,$AT$22)","v":0},null,{"$f":"IF($AU$22=0,0,$AU$22)","v":0},null,{"$f":"IF($AV$22=0,0,$AV$22)","v":0}]
[{"$f":"Labels!$B$143","v":"Heures manquantes"},{"$f":"Labels!$B$144","v":"de l'année en cours (contrôle)"},null,null,null,{"$f":"Labels!$B$145","v":"hm"},{"$f":"IF($AJ$14=0,0,$AJ$14)","v":0},null,{"$f":"IF($AK$14=0,0,$AK$14)","v":0},null,{"$f":"IF($AL$14=0,0,$AL$14)","v":0},null,{"$f":"IF($AM$14=0,0,$AM$14)","v":0},null,{"$f":"IF($AN$14=0,0,$AN$14)","v":0},null,{"$f":"IF($AO$14=0,0,$AO$14)","v":0},null,{"$f":"IF($AP$14=0,0,$AP$14)","v":0},null,{"$f":"IF($AQ$14=0,0,$AQ$14)","v":0},null,{"$f":"IF($AR$14=0,0,$AR$14)","v":0},null,{"$f":"IF($AS$14=0,0,$AS$14)","v":0},null,{"$f":"IF($AT$14=0,0,$AT$14)","v":0},null,{"$f":"IF($AU$14=0,0,$AU$14)","v":0},null,{"$f":"IF($AV$14=0,0,$AV$14)","v":0}]
[{"$f":"Labels!$B$146","v":"Total (majorations inclus)"},{"$f":"Labels!$B$147","v":"heures productives et inproductives"},null,null,null,null,{"$f":"IF($AG$35=0,0,$AG$35)","v":0},null,{"$f":"IF($AG$100=0,0,$AG$100)","v":0},null,{"$f":"IF($AG$165=0,0,$AG$165)","v":0},null,{"$f":"IF($AG$230=0,0,$AG$230)","v":0},null,{"$f":"IF($AG$295=0,0,$AG$295)","v":0},null,{"$f":"IF($AG$360=0,0,$AG$360)","v":0},null,{"$f":"IF($AG$425=0,0,$AG$425)","v":0},null,{"$f":"IF($AG$490=0,0,$AG$490)","v":0},null,{"$f":"IF($AG$555=0,0,$AG$555)","v":0},null,{"$f":"IF($AG$620=0,0,$AG$620)","v":0},null,{"$f":"IF($AG$685=0,0,$AG$685)","v":0},null,{"$f":"IF($AG$750=0,0,$AG$750)","v":0},null,{"$f":"SUM($G$65:$AD$65)","v":0}]
[{"$f":"Labels!$B$148","v":"Comparaison des heures"},{"$f":"Labels!$B$149","v":"aux heures théorique CCT (heures \nmanquantes de l'année passée incl.)"},null,null,null,null,{"$f":"IF($AG$37=0,0,$AG$37)-$AE$34+$P$5","v":-176},null,{"$f":"IF($AG$102=0,0,$AG$102)-$AE$99","v":-160},null,{"$f":"IF($AG$167=0,0,$AG$167)-$AE$164","v":-184},null,{"$f":"IF($AG$232=0,0,$AG$232)-$AE$229","v":-160},null,{"$f":"IF($AG$297=0,0,$AG$297)-$AE$294","v":-184},null,{"$f":"IF($AG$362=0,0,$AG$362)-$AE$359","v":-176},null,{"$f":"IF($AG$427=0,0,$AG$427)-$AE$424","v":-168},null,{"$f":"IF($AG$492=0,0,$AG$492)-$AE$489","v":-184},null,{"$f":"IF($AG$557=0,0,$AG$557)-$AE$554","v":-168},null,{"$f":"IF($AG$622=0,0,$AG$622)-$AE$619","v":-176},null,{"$f":"IF($AG$687=0,0,$AG$687)-$AE$684","v":-176},null,{"$f":"IF($AG$752=0,0,$AG$752)-$AE$749","v":-168},null,{"$f":"SUM($G$66:$AD$66)","v":-2080}]
[null,{"$f":"Labels!$B$151","v":"aux heures théorique (cumulées)"},null,null,null,null,{"$f":"IF(G365=0,0,$G$66)","v":-176},null,{"$f":"IF(I365=0,0,SUM($G$66:$J$66))","v":-336},null,{"$f":"IF(K365=0,0,SUM($G$66:$L$66))","v":-520},null,{"$f":"IF(M365=0,0,SUM($G$66:$N$66))","v":-680},null,{"$f":"IF(O365=0,0,SUM($G$66:$P$66))","v":-864},null,{"$f":"IF(Q365=0,0,SUM($G$66:$R$66))","v":-1040},null,{"$f":"IF(S365=0,0,SUM($G$66:$T$66))","v":-1208},null,{"$f":"IF(U365=0,0,SUM($G$66:$V$66))","v":-1392},null,{"$f":"IF(W365=0,0,SUM($G$66:$X$66))","v":-1560},null,{"$f":"IF(Y365=0,0,SUM($G$66:$Z$66))","v":-1736},null,{"$f":"IF(AA365=0,0,SUM($G$66:$AB$66))","v":-1912},null,{"$f":"IF(AC365=0,0,SUM($G$66:$AD$66))","v":-2080}]
[{"$f":"Labels!$B$153","v":"Vacances (contrôle)"},{"$f":"Labels!$B$154","v":"Vacances année passée"},null,null,null,null,{"$f":"IF($AA$4=0,0,$AA$4)","v":0},null,{"$f":"Labels!$B$155","v":"Vacances selon \nart 12.1 CCT"},null,null,null,{"$f":"IF($AA$5=0,0,$AA$5)","v":0},null,{"$f":"Labels!$B$156","v":"Total des vacances"},null,null,null,{"$f":"SUM(G393+M393)","v":0},null,{"$f":"Labels!$B$157","v":"Vacances prises"},null,null,null,{"$f":"IF($AV$4=0,0,$AV$4)","v":0},null,{"$f":"Labels!$B$158","v":"Vacances restantes"},null,null,null,{"$f":"IF(S393=0,0,S393-Y393)","v":0}]
[]
[]
[{"$f":"$A$3","v":"Nom/Prénom"},{"$f":"IF($B$3=\"\",\"\",$B$3)","v":"Modèle Pierre"},null,null,null,null,null,null,null,null,null,null,null,null,null,null,null,null,null,null,null,null,null,null,null,null,null,null,null,null,null,{"$f":"AF3","v":0}]
[{"$f":"$A$4","v":"Emploi %"},{"$f":"$AL$54","v":100},null,{"$f":"Labels!B95","v":"en juillet"}]
[{"$f":"$A$5","v":"Solde année en cours"},null,null,{"$f":"IF($AE$66=0,0,$AE$66)","v":-2080}]
[{"$f":"TEXT(DATE(YEAR(AP29),MONTH(AP29)+6,1),\"MMMM\"&Labels!B13)","v":"juillet"},{"$f":"$B$9","v":"Solde mois + / -"},null,null,null,{"$f":"(AG402-(SUM(AG403:AG417)-AE424))*-1","v":-168},null,null,null,null,{"$f":"$K$9","v":" = "},{"$f":"$L$9","v":"Les cases marquées en jaune doivent être remplies (les autres seront calculées automatiquement)"},null,null,null,null,null,null,null,null,null,null,null,null,null,null,null,null,null,null,null,null,{"$f":"COUNT(B402:AF402)&\" \"&Labels!$B$63","v":"21 Jours"}]
[{"$f":"$A$10","v":"Jour"},{"$f":"AE335+1","v":"2023-07-01"},{"$f":"B400+1","v":"2023-07-02"},"2023-07-03","2023-07-04","2023-07-05","2023-07-06","2023-07-07","2023-07-08","2023-07-09","2023-07-10","2023-07-11","2023-07-12","2023-07-13","2023-07-14","2023-07-15","2023-07-16","2023-07-17","2023-07-18","2023-07-19","2023-07-20","2023-07-21","2023-07-22","2023-07-23","2023-07-24","2023-07-25","2023-07-26","2023-07-27","2023-07-28","2023-07-29","2023-07-30","2023-07-31"]
[{"$f":"$A$11","v":"semaine civile"},{"$f":"IF(B400=\"\",\"\",TRUNC((B400-DATE(YEAR(B400+3-MOD(B400-2,7)),1,MOD(B400-2,7)-9))/7))","v":26},26,27,27,27,27,27,27,27,28,28,28,28,28,28,28,29,29,29,29,29,29,29,30,30,30,30,30,30,30,31,null,"Woche"]
[{"$f":"$A$12","v":"Théorique sel. CCT"},{"$f":"IF(AND(MOD(B400,7)>=2,SUMPRODUCT(($AM$60:$AQ$60=MOD(B400,7))*$AM$54:$AQ$54),B979=\"\"),$J$7*SUMPRODUCT(($AM$77:$AQ$77=MOD(B400,7))*$AM$71:$AQ$71)%,\"\")","v":""},{"$f":"IF(AND(MOD(C400,7)>=2,SUMPRODUCT(($AM$60:$AQ$60=MOD(C400,7))*$AM$54:$AQ$54),C979=\"\"),$J$7*SUMPRODUCT(($AM$77:$AQ$77=MOD(C400,7))*$AM$71:$AQ$71)%,\"\")","v":""},{"$f":"IF(AND(MOD(D400,7)>=2,SUMPRODUCT(($AM$60:$AQ$60=MOD(D400,7))*$AM$54:$AQ$54),D979=\"\"),$J$7*SUMPRODUCT(($AM$77:$AQ$77=MOD(D400,7))*$AM$71:$AQ$71)%,\"\")","v":8},{"$f":"IF(AND(MOD(E400,7)>=2,SUMPRODUCT(($AM$60:$AQ$60=MOD(E400,7))*$AM$54:$AQ$54),E979=\"\"),$J$7*SUMPRODUCT(($AM$77:$AQ$77=MOD(E400,7))*$AM$71:$AQ$71)%,\"\")","v":8},{"$f":"IF(AND(MOD(F400,7)>=2,SUMPRODUCT(($AM$60:$AQ$60=MOD(F400,7))*$AM$54:$AQ$54),F979=\"\"),$J$7*SUMPRODUCT(($AM$77:$AQ$77=MOD(F400,7))*$AM$71:$AQ$71)%,\"\")","v":8},{"$f":"IF(AND(MOD(G400,7)>=2,SUMPRODUCT(($AM$60:$AQ$60=MOD(G400,7))*$AM$54:$AQ$54),G979=\"\"),$J$7*SUMPRODUCT(($AM$77:$AQ$77=MOD(G400,7))*$AM$71:$AQ$71)%,\"\")","v":8},{"$f":"IF(AND(MOD(H400,7)>=2,SUMPRODUCT(($AM$60:$AQ$60=MOD(H400,7))*$AM$54:$AQ$54),H979=\"\"),$J$7*SUMPRODUCT(($AM$77:$AQ$77=MOD(H400,7))*$AM$71:$AQ$71)%,\"\")","v":8},{"$f":"IF(AND(MOD(I400,7)>=2,SUMPRODUCT(($AM$60:$AQ$60=MOD(I400,7))*$AM$54:$AQ$54),I979=\"\"),$J$7*SUMPRODUCT(($AM$77:$AQ$77=MOD(I400,7))*$AM$71:$AQ$71)%,\"\")","v":""},{"$f":"IF(AND(MOD(J400,7)>=2,SUMPRODUCT(($AM$60:$AQ$60=MOD(J400,7))*$AM$54:$AQ$54),J979=\"\"),$J$7*SUMPRODUCT(($AM$77:$AQ$77=MOD(J400,7))*$AM$71:$AQ$71)%,\"\")","v":""},{"$f":"IF(AND(MOD(K400,7)>=2,SUMPRODUCT(($AM$60:$AQ$60=MOD(K400,7))*$AM$54:$AQ$54),K979=\"\"),$J$7*SUMPRODUCT(($AM$77:$AQ$77=MOD(K400,7))*$AM$71:$AQ$71)%,\"\")","v":8},{"$f":"IF(AND(MOD(L400,7)>=2,SUMPRODUCT(($AM$60:$AQ$60=MOD(L400,7))*$AM$54:$AQ$54),L979=\"\"),$J$7*SUMPRODUCT(($AM$77:$AQ$77=MOD(L400,7))*$AM$71:$AQ$71)%,\"\")","v":8},{"$f":"IF(AND(MOD(M400,7)>=2,SUMPRODUCT(($AM$60:$AQ$60=MOD(M400,7))*$AM$54:$AQ$54),M979=\"\"),$J$7*SUMPRODUCT(($AM$77:$AQ$77=MOD(M400,7))*$AM$71:$AQ$71)%,\"\")","v":8},{"$f":"IF(AND(MOD(N400,7)>=2,SUMPRODUCT(($AM$60:$AQ$60=MOD(N400,7))*$AM$54:$AQ$54),N979=\"\"),$J$7*SUMPRODUCT(($AM$77:$AQ$77=MOD(N400,7))*$AM$71:$AQ$71)%,\"\")","v":8},{"$f":"IF(AND(MOD(O400,7)>=2,SUMPRODUCT(($AM$60:$AQ$60=MOD(O400,7))*$AM$54:$AQ$54),O979=\"\"),$J$7*SUMPRODUCT(($AM$77:$AQ$77=MOD(O400,7))*$AM$71:$AQ$71)%,\"\")","v":8},{"$f":"IF(AND(MOD(P400,7)>=2,SUMPRODUCT(($AM$60:$AQ$60=MOD(P400,7))*$AM$54:$AQ$54),P979=\"\"),$J$7*SUMPRODUCT(($AM$77:$AQ$77=MOD(P400,7))*$AM$71:$AQ$71)%,\"\")","v":""},{"$f":"IF(AND(MOD(Q400,7)>=2,SUMPRODUCT(($AM$60:$AQ$60=MOD(Q400,7))*$AM$54:$AQ$54),Q979=\"\"),$J$7*SUMPRODUCT(($AM$77:$AQ$77=MOD(Q400,7))*$AM$71:$AQ$71)%,\"\")","v":""},{"$f":"IF(AND(MOD(R400,7)>=2,SUMPRODUCT(($AM$60:$AQ$60=MOD(R400,7))*$AM$54:$AQ$54),R979=\"\"),$J$7*SUMPRODUCT(($AM$77:$AQ$77=MOD(R400,7))*$AM$71:$AQ$71)%,\"\")","v":8},{"$f":"IF(AND(MOD(S400,7)>=2,SUMPRODUCT(($AM$60:$AQ$60=MOD(S400,7))*$AM$54:$AQ$54),S979=\"\"),$J$7*SUMPRODUCT(($AM$77:$AQ$77=MOD(S400,7))*$AM$71:$AQ$71)%,\"\")","v":8},{"$f":"IF(AND(MOD(T400,7)>=2,SUMPRODUCT(($AM$60:$AQ$60=MOD(T400,7))*$AM$54:$AQ$54),T979=\"\"),$J$7*SUMPRODUCT(($AM$77:$AQ$77=MOD(T400,7))*$AM$71:$AQ$71)%,\"\")","v":8},{"$f":"IF(AND(MOD(U400,7)>=2,SUMPRODUCT(($AM$60:$AQ$60=MOD(U400,7))*$AM$54:$AQ$54),U979=\"\"),$J$7*SUMPRODUCT(($AM$77:$AQ$77=MOD(U400,7))*$AM$71:$AQ$71)%,\"\")","v":8},{"$f":"IF(AND(MOD(V400,7)>=2,SUMPRODUCT(($AM$60:$AQ$60=MOD(V400,7))*$AM$54:$AQ$54),V979=\"\"),$J$7*SUMPRODUCT(($AM$77:$AQ$77=MOD(V400,7))*$AM$71:$AQ$71)%,\"\")","v":8},{"$f":"IF(AND(MOD(W400,7)>=2,SUMPRODUCT(($AM$60:$AQ$60=MOD(W400,7))*$AM$54:$AQ$54),W979=\"\"),$J$7*SUMPRODUCT(($AM$77:$AQ$77=MOD(W400,7))*$AM$71:$AQ$71)%,\"\")","v":""},{"$f":"IF(AND(MOD(X400,7)>=2,SUMPRODUCT(($AM$60:$AQ$60=MOD(X400,7))*$AM$54:$AQ$54),X979=\"\"),$J$7*SUMPRODUCT(($AM$77:$AQ$77=MOD(X400,7))*$AM$71:$AQ$71)%,\"\")","v":""},{"$f":"IF(AND(MOD(Y400,7)>=2,SUMPRODUCT(($AM$60:$AQ$60=MOD(Y400,7))*$AM$54:$AQ$54),Y979=\"\"),$J$7*SUMPRODUCT(($AM$77:$AQ$77=MOD(Y400,7))*$AM$71:$AQ$71)%,\"\")","v":8},{"$f":"IF(AND(MOD(Z400,7)>=2,SUMPRODUCT(($AM$60:$AQ$60=MOD(Z400,7))*$AM$54:$AQ$54),Z979=\"\"),$J$7*SUMPRODUCT(($AM$77:$AQ$77=MOD(Z400,7))*$AM$71:$AQ$71)%,\"\")","v":8},{"$f":"IF(AND(MOD(AA400,7)>=2,SUMPRODUCT(($AM$60:$AQ$60=MOD(AA400,7))*$AM$54:$AQ$54),AA979=\"\"),$J$7*SUMPRODUCT(($AM$77:$AQ$77=MOD(AA400,7))*$AM$71:$AQ$71)%,\"\")","v":8},{"$f":"IF(AND(MOD(AB400,7)>=2,SUMPRODUCT(($AM$60:$AQ$60=MOD(AB400,7))*$AM$54:$AQ$54),AB979=\"\"),$J$7*SUMPRODUCT(($AM$77:$AQ$77=MOD(AB400,7))*$AM$71:$AQ$71)%,\"\")","v":8},{"$f":"IF(AND(MOD(AC400,7)>=2,SUMPRODUCT(($AM$60:$AQ$60=MOD(AC400,7))*$AM$54:$AQ$54),AC979=\"\"),$J$7*SUMPRODUCT(($AM$77:$AQ$77=MOD(AC400,7))*$AM$71:$AQ$71)%,\"\")","v":8},{"$f":"IF(AND(MOD(AD400,7)>=2,SUMPRODUCT(($AM$60:$AQ$60=MOD(AD400,7))*$AM$54:$AQ$54),AD979=\"\"),$J$7*SUMPRODUCT(($AM$77:$AQ$77=MOD(AD400,7))*$AM$71:$AQ$71)%,\"\")","v":""},{"$f":"IF(AND(MOD(AE400,7)>=2,SUMPRODUCT(($AM$60:$AQ$60=MOD(AE400,7))*$AM$54:$AQ$54),AE979=\"\"),$J$7*SUMPRODUCT(($AM$77:$AQ$77=MOD(AE400,7))*$AM$71:$AQ$71)%,\"\")","v":""},{"$f":"IF(AND(MOD(AF400,7)>=2,SUMPRODUCT(($AM$60:$AQ$60=MOD(AF400,7))*$AM$54:$AQ$54),AF979=\"\"),$J$7*SUMPRODUCT(($AM$77:$AQ$77=MOD(AF400,7))*$AM$71:$AQ$71)%,\"\")","v":8},{"$f":"SUM(B402:AF402)","v":168},"[00]"]
[{"$f":"$A$13","v":"Absences"},{"$f":"B995","v":0},{"$f":"C995","v":0},0,0,0,0,0,0,0,0,0,0,0,0,0,0,0,0,0,0,0,0,0,0,0,0,0,0,0,0,0,{"$f":"SUM($AP$3:$AP$13)","v":0},"[01]"]
[{"$f":"$A$14","v":"Code"},{"$f":"IF(SUM(B982:B994)<>0,IF(MAX(B982:B994)<B995,Labels!$B$163,INDEX($AH$982:$AH$994,MATCH(MAX(B982:B994),B982:B994,0))),\"\")","v":""},{"$f":"IF(SUM(C982:C994)<>0,IF(MAX(C982:C994)<C995,Labels!$B$163,INDEX($AH$982:$AH$994,MATCH(MAX(C982:C994),C982:C994,0))),\"\")","v":""},{"$f":"IF(SUM(D982:D994)<>0,IF(MAX(D982:D994)<D995,Labels!$B$163,INDEX($AH$982:$AH$994,MATCH(MAX(D982:D994),D982:D994,0))),\"\")","v":""},{"$f":"IF(SUM(E982:E994)<>0,IF(MAX(E982:E994)<E995,Labels!$B$163,INDEX($AH$982:$AH$994,MATCH(MAX(E982:E994),E982:E994,0))),\"\")","v":""},{"$f":"IF(SUM(F982:F994)<>0,IF(MAX(F982:F994)<F995,Labels!$B$163,INDEX($AH$982:$AH$994,MATCH(MAX(F982:F994),F982:F994,0))),\"\")","v":""},{"$f":"IF(SUM(G982:G994)<>0,IF(MAX(G982:G994)<G995,Labels!$B$163,INDEX($AH$982:$AH$994,MATCH(MAX(G982:G994),G982:G994,0))),\"\")","v":""},{"$f":"IF(SUM(H982:H994)<>0,IF(MAX(H982:H994)<H995,Labels!$B$163,INDEX($AH$982:$AH$994,MATCH(MAX(H982:H994),H982:H994,0))),\"\")","v":""},{"$f":"IF(SUM(I982:I994)<>0,IF(MAX(I982:I994)<I995,Labels!$B$163,INDEX($AH$982:$AH$994,MATCH(MAX(I982:I994),I982:I994,0))),\"\")","v":""},{"$f":"IF(SUM(J982:J994)<>0,IF(MAX(J982:J994)<J995,Labels!$B$163,INDEX($AH$982:$AH$994,MATCH(MAX(J982:J994),J982:J994,0))),\"\")","v":""},{"$f":"IF(SUM(K982:K994)<>0,IF(MAX(K982:K994)<K995,Labels!$B$163,INDEX($AH$982:$AH$994,MATCH(MAX(K982:K994),K982:K994,0))),\"\")","v":""},{"$f":"IF(SUM(L982:L994)<>0,IF(MAX(L982:L994)<L995,Labels!$B$163,INDEX($AH$982:$AH$994,MATCH(MAX(L982:L994),L982:L994,0))),\"\")","v":""},{"$f":"IF(SUM(M982:M994)<>0,IF(MAX(M982:M994)<M995,Labels!$B$163,INDEX($AH$982:$AH$994,MATCH(MAX(M982:M994),M982:M994,0))),\"\")","v":""},{"$f":"IF(SUM(N982:N994)<>0,IF(MAX(N982:N994)<N995,Labels!$B$163,INDEX($AH$982:$AH$994,MATCH(MAX(N982:N994),N982:N994,0))),\"\")","v":""},{"$f":"IF(SUM(O982:O994)<>0,IF(MAX(O982:O994)<O995,Labels!$B$163,INDEX($AH$982:$AH$994,MATCH(MAX(O982:O994),O982:O994,0))),\"\")","v":""},{"$f":"IF(SUM(P982:P994)<>0,IF(MAX(P982:P994)<P995,Labels!$B$163,INDEX($AH$982:$AH$994,MATCH(MAX(P982:P994),P982:P994,0))),\"\")","v":""},{"$f":"IF(SUM(Q982:Q994)<>0,IF(MAX(Q982:Q994)<Q995,Labels!$B$163,INDEX($AH$982:$AH$994,MATCH(MAX(Q982:Q994),Q982:Q994,0))),\"\")","v":""},{"$f":"IF(SUM(R982:R994)<>0,IF(MAX(R982:R994)<R995,Labels!$B$163,INDEX($AH$982:$AH$994,MATCH(MAX(R982:R994),R982:R994,0))),\"\")","v":""},{"$f":"IF(SUM(S982:S994)<>0,IF(MAX(S982:S994)<S995,Labels!$B$163,INDEX($AH$982:$AH$994,MATCH(MAX(S982:S994),S982:S994,0))),\"\")","v":""},{"$f":"IF(SUM(T982:T994)<>0,IF(MAX(T982:T994)<T995,Labels!$B$163,INDEX($AH$982:$AH$994,MATCH(MAX(T982:T994),T982:T994,0))),\"\")","v":""},{"$f":"IF(SUM(U982:U994)<>0,IF(MAX(U982:U994)<U995,Labels!$B$163,INDEX($AH$982:$AH$994,MATCH(MAX(U982:U994),U982:U994,0))),\"\")","v":""},{"$f":"IF(SUM(V982:V994)<>0,IF(MAX(V982:V994)<V995,Labels!$B$163,INDEX($AH$982:$AH$994,MATCH(MAX(V982:V994),V982:V994,0))),\"\")","v":""},{"$f":"IF(SUM(W982:W994)<>0,IF(MAX(W982:W994)<W995,Labels!$B$163,INDEX($AH$982:$AH$994,MATCH(MAX(W982:W994),W982:W994,0))),\"\")","v":""},{"$f":"IF(SUM(X982:X994)<>0,IF(MAX(X982:X994)<X995,Labels!$B$163,INDEX($AH$982:$AH$994,MATCH(MAX(X982:X994),X982:X994,0))),\"\")","v":""},{"$f":"IF(SUM(Y982:Y994)<>0,IF(MAX(Y982:Y994)<Y995,Labels!$B$163,INDEX($AH$982:$AH$994,MATCH(MAX(Y982:Y994),Y982:Y994,0))),\"\")","v":""},{"$f":"IF(SUM(Z982:Z994)<>0,IF(MAX(Z982:Z994)<Z995,Labels!$B$163,INDEX($AH$982:$AH$994,MATCH(MAX(Z982:Z994),Z982:Z994,0))),\"\")","v":""},{"$f":"IF(SUM(AA982:AA994)<>0,IF(MAX(AA982:AA994)<AA995,Labels!$B$163,INDEX($AH$982:$AH$994,MATCH(MAX(AA982:AA994),AA982:AA994,0))),\"\")","v":""},{"$f":"IF(SUM(AB982:AB994)<>0,IF(MAX(AB982:AB994)<AB995,Labels!$B$163,INDEX($AH$982:$AH$994,MATCH(MAX(AB982:AB994),AB982:AB994,0))),\"\")","v":""},{"$f":"IF(SUM(AC982:AC994)<>0,IF(MAX(AC982:AC994)<AC995,Labels!$B$163,INDEX($AH$982:$AH$994,MATCH(MAX(AC982:AC994),AC982:AC994,0))),\"\")","v":""},{"$f":"IF(SUM(AD982:AD994)<>0,IF(MAX(AD982:AD994)<AD995,Labels!$B$163,INDEX($AH$982:$AH$994,MATCH(MAX(AD982:AD994),AD982:AD994,0))),\"\")","v":""},{"$f":"IF(SUM(AE982:AE994)<>0,IF(MAX(AE982:AE994)<AE995,Labels!$B$163,INDEX($AH$982:$AH$994,MATCH(MAX(AE982:AE994),AE982:AE994,0))),\"\")","v":""},{"$f":"IF(SUM(AF982:AF994)<>0,IF(MAX(AF982:AF994)<AF995,Labels!$B$163,INDEX($AH$982:$AH$994,MATCH(MAX(AF982:AF994),AF982:AF994,0))),\"\")","v":""},{"$f":"$AP$16*-1","v":0},"[02]"]
[{"$f":"$A$15","v":"00h00-06h00 1)"},null,null,null,null,null,null,null,null,null,null,null,null,null,null,null,null,null,null,null,null,null,null,null,null,null,null,null,null,null,null,null,{"$f":"SUM(B405:AF405)","v":0},"[04]"]
[{"$f":"$A$16","v":"06h00-20h00 2)"},null,null,null,null,null,null,null,null,null,null,null,null,null,null,null,null,null,null,null,null,null,null,null,null,null,null,null,null,null,null,null,{"$f":"SUMPRODUCT(B406:AF406*(B402:AF402<>\"\"))-SUMPRODUCT(B406:AF406*(B408:AF408=\"ft\"))","v":0},"[03]"]
[{"$f":"$A$17","v":"20h00-24h00 3)"},null,null,null,null,null,null,null,null,null,null,null,null,null,null,null,null,null,null,null,null,null,null,null,null,null,null,null,null,null,null,null,{"$f":"SUM(B407:AF407)","v":0},"[05]"]
[{"$f":"$A$18","v":"Jours fériés \"jf\""},{"$f":"IF(WEEKDAY(B400,2)<=6,IF(CALENDRIER!E15=\"x\",Labels!$B$118,\"\"),\"\")","v":""},{"$f":"IF(WEEKDAY(C400,2)<=6,IF(CALENDRIER!F15=\"x\",Labels!$B$118,\"\"),\"\")","v":""},{"$f":"IF(WEEKDAY(D400,2)<=6,IF(CALENDRIER!G15=\"x\",Labels!$B$118,\"\"),\"\")","v":""},{"$f":"IF(WEEKDAY(E400,2)<=6,IF(CALENDRIER!H15=\"x\",Labels!$B$118,\"\"),\"\")","v":""},{"$f":"IF(WEEKDAY(F400,2)<=6,IF(CALENDRIER!I15=\"x\",Labels!$B$118,\"\"),\"\")","v":""},{"$f":"IF(WEEKDAY(G400,2)<=6,IF(CALENDRIER!J15=\"x\",Labels!$B$118,\"\"),\"\")","v":""},{"$f":"IF(WEEKDAY(H400,2)<=6,IF(CALENDRIER!K15=\"x\",Labels!$B$118,\"\"),\"\")","v":""},{"$f":"IF(WEEKDAY(I400,2)<=6,IF(CALENDRIER!L15=\"x\",Labels!$B$118,\"\"),\"\")","v":""},{"$f":"IF(WEEKDAY(J400,2)<=6,IF(CALENDRIER!M15=\"x\",Labels!$B$118,\"\"),\"\")","v":""},{"$f":"IF(WEEKDAY(K400,2)<=6,IF(CALENDRIER!N15=\"x\",Labels!$B$118,\"\"),\"\")","v":""},{"$f":"IF(WEEKDAY(L400,2)<=6,IF(CALENDRIER!O15=\"x\",Labels!$B$118,\"\"),\"\")","v":""},{"$f":"IF(WEEKDAY(M400,2)<=6,IF(CALENDRIER!P15=\"x\",Labels!$B$118,\"\"),\"\")","v":""},{"$f":"IF(WEEKDAY(N400,2)<=6,IF(CALENDRIER!Q15=\"x\",Labels!$B$118,\"\"),\"\")","v":""},{"$f":"IF(WEEKDAY(O400,2)<=6,IF(CALENDRIER!R15=\"x\",Labels!$B$118,\"\"),\"\")","v":""},{"$f":"IF(WEEKDAY(P400,2)<=6,IF(CALENDRIER!S15=\"x\",Labels!$B$118,\"\"),\"\")","v":""},{"$f":"IF(WEEKDAY(Q400,2)<=6,IF(CALENDRIER!T15=\"x\",Labels!$B$118,\"\"),\"\")","v":""},{"$f":"IF(WEEKDAY(R400,2)<=6,IF(CALENDRIER!U15=\"x\",Labels!$B$118,\"\"),\"\")","v":""},{"$f":"IF(WEEKDAY(S400,2)<=6,IF(CALENDRIER!V15=\"x\",Labels!$B$118,\"\"),\"\")","v":""},{"$f":"IF(WEEKDAY(T400,2)<=6,IF(CALENDRIER!W15=\"x\",Labels!$B$118,\"\"),\"\")","v":""},{"$f":"IF(WEEKDAY(U400,2)<=6,IF(CALENDRIER!X15=\"x\",Labels!$B$118,\"\"),\"\")","v":""},{"$f":"IF(WEEKDAY(V400,2)<=6,IF(CALENDRIER!Y15=\"x\",Labels!$B$118,\"\"),\"\")","v":""},{"$f":"IF(WEEKDAY(W400,2)<=6,IF(CALENDRIER!Z15=\"x\",Labels!$B$118,\"\"),\"\")","v":""},{"$f":"IF(WEEKDAY(X400,2)<=6,IF(CALENDRIER!AA15=\"x\",Labels!$B$118,\"\"),\"\")","v":""},{"$f":"IF(WEEKDAY(Y400,2)<=6,IF(CALENDRIER!AB15=\"x\",Labels!$B$118,\"\"),\"\")","v":""},{"$f":"IF(WEEKDAY(Z400,2)<=6,IF(CALENDRIER!AC15=\"x\",Labels!$B$118,\"\"),\"\")","v":""},{"$f":"IF(WEEKDAY(AA400,2)<=6,IF(CALENDRIER!AD15=\"x\",Labels!$B$118,\"\"),\"\")","v":""},{"$f":"IF(WEEKDAY(AB400,2)<=6,IF(CALENDRIER!AE15=\"x\",Labels!$B$118,\"\"),\"\")","v":""},{"$f":"IF(WEEKDAY(AC400,2)<=6,IF(CALENDRIER!AF15=\"x\",Labels!$B$118,\"\"),\"\")","v":""},{"$f":"IF(WEEKDAY(AD400,2)<=6,IF(CALENDRIER!AG15=\"x\",Labels!$B$118,\"\"),\"\")","v":""},{"$f":"IF(WEEKDAY(AE400,2)<=6,IF(CALENDRIER!AH15=\"x\",Labels!$B$118,\"\"),\"\")","v":""},{"$f":"IF(WEEKDAY(AF400,2)<=6,IF(CALENDRIER!AI15=\"x\",Labels!$B$118,\"\"),\"\")","v":""},{"$f":"SUM(B406:AF406)-AG406","v":0},"[03b]"]
[{"$f":"$A$19","v":"Majoration  \"jf\""},{"$f":"IF(AND(B408=Labels!$B$118,WEEKDAY(B400,2)<6,B$402<>\"\"),$J$7*SUMPRODUCT(($AM$77:$AQ$77=MOD(B400,7))*$AM$71:$AQ$71)%,\"\")","v":""},{"$f":"IF(AND(C408=Labels!$B$118,WEEKDAY(C400,2)<6,C$402<>\"\"),$J$7*SUMPRODUCT(($AM$77:$AQ$77=MOD(C400,7))*$AM$71:$AQ$71)%,\"\")","v":""},{"$f":"IF(AND(D408=Labels!$B$118,WEEKDAY(D400,2)<6,D$402<>\"\"),$J$7*SUMPRODUCT(($AM$77:$AQ$77=MOD(D400,7))*$AM$71:$AQ$71)%,\"\")","v":""},{"$f":"IF(AND(E408=Labels!$B$118,WEEKDAY(E400,2)<6,E$402<>\"\"),$J$7*SUMPRODUCT(($AM$77:$AQ$77=MOD(E400,7))*$AM$71:$AQ$71)%,\"\")","v":""},{"$f":"IF(AND(F408=Labels!$B$118,WEEKDAY(F400,2)<6,F$402<>\"\"),$J$7*SUMPRODUCT(($AM$77:$AQ$77=MOD(F400,7))*$AM$71:$AQ$71)%,\"\")","v":""},{"$f":"IF(AND(G408=Labels!$B$118,WEEKDAY(G400,2)<6,G$402<>\"\"),$J$7*SUMPRODUCT(($AM$77:$AQ$77=MOD(G400,7))*$AM$71:$AQ$71)%,\"\")","v":""},{"$f":"IF(AND(H408=Labels!$B$118,WEEKDAY(H400,2)<6,H$402<>\"\"),$J$7*SUMPRODUCT(($AM$77:$AQ$77=MOD(H400,7))*$AM$71:$AQ$71)%,\"\")","v":""},{"$f":"IF(AND(I408=Labels!$B$118,WEEKDAY(I400,2)<6,I$402<>\"\"),$J$7*SUMPRODUCT(($AM$77:$AQ$77=MOD(I400,7))*$AM$71:$AQ$71)%,\"\")","v":""},{"$f":"IF(AND(J408=Labels!$B$118,WEEKDAY(J400,2)<6,J$402<>\"\"),$J$7*SUMPRODUCT(($AM$77:$AQ$77=MOD(J400,7))*$AM$71:$AQ$71)%,\"\")","v":""},{"$f":"IF(AND(K408=Labels!$B$118,WEEKDAY(K400,2)<6,K$402<>\"\"),$J$7*SUMPRODUCT(($AM$77:$AQ$77=MOD(K400,7))*$AM$71:$AQ$71)%,\"\")","v":""},{"$f":"IF(AND(L408=Labels!$B$118,WEEKDAY(L400,2)<6,L$402<>\"\"),$J$7*SUMPRODUCT(($AM$77:$AQ$77=MOD(L400,7))*$AM$71:$AQ$71)%,\"\")","v":""},{"$f":"IF(AND(M408=Labels!$B$118,WEEKDAY(M400,2)<6,M$402<>\"\"),$J$7*SUMPRODUCT(($AM$77:$AQ$77=MOD(M400,7))*$AM$71:$AQ$71)%,\"\")","v":""},{"$f":"IF(AND(N408=Labels!$B$118,WEEKDAY(N400,2)<6,N$402<>\"\"),$J$7*SUMPRODUCT(($AM$77:$AQ$77=MOD(N400,7))*$AM$71:$AQ$71)%,\"\")","v":""},{"$f":"IF(AND(O408=Labels!$B$118,WEEKDAY(O400,2)<6,O$402<>\"\"),$J$7*SUMPRODUCT(($AM$77:$AQ$77=MOD(O400,7))*$AM$71:$AQ$71)%,\"\")","v":""},{"$f":"IF(AND(P408=Labels!$B$118,WEEKDAY(P400,2)<6,P$402<>\"\"),$J$7*SUMPRODUCT(($AM$77:$AQ$77=MOD(P400,7))*$AM$71:$AQ$71)%,\"\")","v":""},{"$f":"IF(AND(Q408=Labels!$B$118,WEEKDAY(Q400,2)<6,Q$402<>\"\"),$J$7*SUMPRODUCT(($AM$77:$AQ$77=MOD(Q400,7))*$AM$71:$AQ$71)%,\"\")","v":""},{"$f":"IF(AND(R408=Labels!$B$118,WEEKDAY(R400,2)<6,R$402<>\"\"),$J$7*SUMPRODUCT(($AM$77:$AQ$77=MOD(R400,7))*$AM$71:$AQ$71)%,\"\")","v":""},{"$f":"IF(AND(S408=Labels!$B$118,WEEKDAY(S400,2)<6,S$402<>\"\"),$J$7*SUMPRODUCT(($AM$77:$AQ$77=MOD(S400,7))*$AM$71:$AQ$71)%,\"\")","v":""},{"$f":"IF(AND(T408=Labels!$B$118,WEEKDAY(T400,2)<6,T$402<>\"\"),$J$7*SUMPRODUCT(($AM$77:$AQ$77=MOD(T400,7))*$AM$71:$AQ$71)%,\"\")","v":""},{"$f":"IF(AND(U408=Labels!$B$118,WEEKDAY(U400,2)<6,U$402<>\"\"),$J$7*SUMPRODUCT(($AM$77:$AQ$77=MOD(U400,7))*$AM$71:$AQ$71)%,\"\")","v":""},{"$f":"IF(AND(V408=Labels!$B$118,WEEKDAY(V400,2)<6,V$402<>\"\"),$J$7*SUMPRODUCT(($AM$77:$AQ$77=MOD(V400,7))*$AM$71:$AQ$71)%,\"\")","v":""},{"$f":"IF(AND(W408=Labels!$B$118,WEEKDAY(W400,2)<6,W$402<>\"\"),$J$7*SUMPRODUCT(($AM$77:$AQ$77=MOD(W400,7))*$AM$71:$AQ$71)%,\"\")","v":""},{"$f":"IF(AND(X408=Labels!$B$118,WEEKDAY(X400,2)<6,X$402<>\"\"),$J$7*SUMPRODUCT(($AM$77:$AQ$77=MOD(X400,7))*$AM$71:$AQ$71)%,\"\")","v":""},{"$f":"IF(AND(Y408=Labels!$B$118,WEEKDAY(Y400,2)<6,Y$402<>\"\"),$J$7*SUMPRODUCT(($AM$77:$AQ$77=MOD(Y400,7))*$AM$71:$AQ$71)%,\"\")","v":""},{"$f":"IF(AND(Z408=Labels!$B$118,WEEKDAY(Z400,2)<6,Z$402<>\"\"),$J$7*SUMPRODUCT(($AM$77:$AQ$77=MOD(Z400,7))*$AM$71:$AQ$71)%,\"\")","v":""},{"$f":"IF(AND(AA408=Labels!$B$118,WEEKDAY(AA400,2)<6,AA$402<>\"\"),$J$7*SUMPRODUCT(($AM$77:$AQ$77=MOD(AA400,7))*$AM$71:$AQ$71)%,\"\")","v":""},{"$f":"IF(AND(AB408=Labels!$B$118,WEEKDAY(AB400,2)<6,AB$402<>\"\"),$J$7*SUMPRODUCT(($AM$77:$AQ$77=MOD(AB400,7))*$AM$71:$AQ$71)%,\"\")","v":""},{"$f":"IF(AND(AC408=Labels!$B$118,WEEKDAY(AC400,2)<6,AC$402<>\"\"),$J$7*SUMPRODUCT(($AM$77:$AQ$77=MOD(AC400,7))*$AM$71:$AQ$71)%,\"\")","v":""},{"$f":"IF(AND(AD408=Labels!$B$118,WEEKDAY(AD400,2)<6,AD$402<>\"\"),$J$7*SUMPRODUCT(($AM$77:$AQ$77=MOD(AD400,7))*$AM$71:$AQ$71)%,\"\")","v":""},{"$f":"IF(AND(AE408=Labels!$B$118,WEEKDAY(AE400,2)<6,AE$402<>\"\"),$J$7*SUMPRODUCT(($AM$77:$AQ$77=MOD(AE400,7))*$AM$71:$AQ$71)%,\"\")","v":""},{"$f":"IF(AND(AF408=Labels!$B$118,WEEKDAY(AF400,2)<6,AF$402<>\"\"),$J$7*SUMPRODUCT(($AM$77:$AQ$77=MOD(AF400,7))*$AM$71:$AQ$71)%,\"\")","v":""},{"$f":"SUM(B409:AF409)","v":0},"[06]"]
[{"$f":"$A$20","v":"total quotidien"},{"$f":"SUM(B405:B407)","v":0},{"$f":"SUM(C405:C407)","v":0},0,0,0,0,0,0,0,0,0,0,0,0,0,0,0,0,0,0,0,0,0,0,0,0,0,0,0,0,0,null,"TT"]
[{"$f":"$A$21","v":"."},null,null,null,null,null,null,null,null,null,null,null,null,null,null,null,null,null,null,null,null,null,null,null,null,null,null,null,null,null,null,null,null,"R"]
[{"$f":"$A$22","v":"."},null,null,null,null,null,null,null,null,null,null,null,null,null,null,null,null,null,null,null,null,null,null,null,null,null,null,null,null,null,null,null,null,"R"]
[{"$f":"$A$23","v":"transition mois"},{"$f":"IF(WEEKDAY(B400)=1,TEXT(B400-1,\"MMM\"&Labels!B13),\"\")","v":""},null,null,null,null,null,null,null,null,null,null,null,null,null,null,null,null,null,null,null,null,null,null,null,null,null,null,null,null,null,{"$f":"IF(AND(WEEKDAY(AF400)>1,WEEKDAY(AF400)<7),TEXT(DATE($B$5,MONTH(AF400)+1,1),\"MMM\"&Labels!B13),\"\")","v":"août"},null,"MNT"]
[{"$f":"$A$24","v":"Total hebdomadaire"},{"$f":"IF(WEEKDAY(B400)=7,SUMIF($B336:$AF336,B401,$B345:$AF345)+SUMIF($B401:$AF401,B401,$B410:$AF410)+SUMIF($B466:$AF466,B401,$B475:$AF475),B413)","v":0},{"$f":"IF(WEEKDAY(C400)=7,SUMIF($B336:$AF336,C401,$B345:$AF345)+SUMIF($B401:$AF401,C401,$B410:$AF410)+SUMIF($B466:$AF466,C401,$B475:$AF475),\"\")","v":""},"","","","","",0,"","","","","","",0,"","","","","","",0,"","","","","","",0,"",{"$f":"IF(WEEKDAY(AF400)=7,SUMIF($B336:$AF336,AF401,$B345:$AF345)+SUMIF($B401:$AF401,AF401,$B410:$AF410)+SUMIF($B466:$AF466,AF401,$B475:$AF475),AF413)","v":"août"},null,"WT"]
[{"$f":"$A$25","v":"Majorations temp. 1)"},{"$f":"IF(B422=\"FALSCH\",\"\",B422)","v":""},{"$f":"IF(C422=\"FALSCH\",\"\",C422)","v":""},"","","","","","","","","","","","","","","","","","","","","","","","","","","","","",{"$f":"SUM(B415:AF415)","v":0},"[07]"]
[{"$f":"$A$26","v":"Majorations temp. 2)"},{"$f":"IF((B405+B407)=0,\"\",SUM(B405,B407))","v":""},{"$f":"IF((C405+C407)=0,\"\",SUM(C405,C407))","v":""},"","","","","","","","","","","","","","","","","","","","","","","","","","","","","",0,"[08]"]
[{"$f":"$A$27","v":"Majorations temp. 3)"},{"$f":"SUM(B418:B421)","v":0},{"$f":"SUM(C418:C421)","v":0},0,0,0,0,0,0,0,0,0,0,0,0,0,0,0,0,0,0,0,0,0,0,0,0,0,0,0,0,0,0,"[09]"]
[{"$f":"$A$28","v":"Dimanche journée"},{"$f":"IF(WEEKDAY(B400)=1,B406,\"\")","v":""},{"$f":"IF(WEEKDAY(C400)=1,C406,\"\")","v":0},"","","","","","",0,"","","","","","",0,"","","","","","",0,"","","","","","",0,"",0,"[09-ST]"]
[{"$f":"$A$29","v":"Dimanche nuit"},{"$f":"IF(WEEKDAY(B400)=1,SUM(B405+B407),\"\")","v":""},{"$f":"IF(WEEKDAY(C400)=1,SUM(C405+C407),\"\")","v":0},"","","","","","",0,"","","","","","",0,"","","","","","",0,"","","","","","",0,"",0,"[09-SN]"]
[{"$f":"$A$30","v":"jf-jomajoration"},{"$f":"IF(B408=Labels!$B$118,B406,\"\")","v":""},{"$f":"IF(C408=Labels!$B$118,C406,\"\")","v":""},{"$f":"IF(D408=Labels!$B$118,D406,\"\")","v":""},{"$f":"IF(E408=Labels!$B$118,E406,\"\")","v":""},{"$f":"IF(F408=Labels!$B$118,F406,\"\")","v":""},{"$f":"IF(G408=Labels!$B$118,G406,\"\")","v":""},{"$f":"IF(H408=Labels!$B$118,H406,\"\")","v":""},{"$f":"IF(I408=Labels!$B$118,I406,\"\")","v":""},{"$f":"IF(J408=Labels!$B$118,J406,\"\")","v":""},{"$f":"IF(K408=Labels!$B$118,K406,\"\")","v":""},{"$f":"IF(L408=Labels!$B$118,L406,\"\")","v":""},{"$f":"IF(M408=Labels!$B$118,M406,\"\")","v":""},{"$f":"IF(N408=Labels!$B$118,N406,\"\")","v":""},{"$f":"IF(O408=Labels!$B$118,O406,\"\")","v":""},{"$f":"IF(P408=Labels!$B$118,P406,\"\")","v":""},{"$f":"IF(Q408=Labels!$B$118,Q406,\"\")","v":""},{"$f":"IF(R408=Labels!$B$118,R406,\"\")","v":""},{"$f":"IF(S408=Labels!$B$118,S406,\"\")","v":""},{"$f":"IF(T408=Labels!$B$118,T406,\"\")","v":""},{"$f":"IF(U408=Labels!$B$118,U406,\"\")","v":""},{"$f":"IF(V408=Labels!$B$118,V406,\"\")","v":""},{"$f":"IF(W408=Labels!$B$118,W406,\"\")","v":""},{"$f":"IF(X408=Labels!$B$118,X406,\"\")","v":""},{"$f":"IF(Y408=Labels!$B$118,Y406,\"\")","v":""},{"$f":"IF(Z408=Labels!$B$118,Z406,\"\")","v":""},{"$f":"IF(AA408=Labels!$B$118,AA406,\"\")","v":""},{"$f":"IF(AB408=Labels!$B$118,AB406,\"\")","v":""},{"$f":"IF(AC408=Labels!$B$118,AC406,\"\")","v":""},{"$f":"IF(AD408=Labels!$B$118,AD406,\"\")","v":""},{"$f":"IF(AE408=Labels!$B$118,AE406,\"\")","v":""},{"$f":"IF(AF408=Labels!$B$118,AF406,\"\")","v":""},0,"[09-FT]"]
[{"$f":"$A$31","v":"jf-numajoration"},{"$f":"IF(B408=Labels!$B$118,SUM(B405,B407),\"\")","v":""},{"$f":"IF(C408=Labels!$B$118,SUM(C405,C407),\"\")","v":""},{"$f":"IF(D408=Labels!$B$118,SUM(D405,D407),\"\")","v":""},{"$f":"IF(E408=Labels!$B$118,SUM(E405,E407),\"\")","v":""},{"$f":"IF(F408=Labels!$B$118,SUM(F405,F407),\"\")","v":""},{"$f":"IF(G408=Labels!$B$118,SUM(G405,G407),\"\")","v":""},{"$f":"IF(H408=Labels!$B$118,SUM(H405,H407),\"\")","v":""},{"$f":"IF(I408=Labels!$B$118,SUM(I405,I407),\"\")","v":""},{"$f":"IF(J408=Labels!$B$118,SUM(J405,J407),\"\")","v":""},{"$f":"IF(K408=Labels!$B$118,SUM(K405,K407),\"\")","v":""},{"$f":"IF(L408=Labels!$B$118,SUM(L405,L407),\"\")","v":""},{"$f":"IF(M408=Labels!$B$118,SUM(M405,M407),\"\")","v":""},{"$f":"IF(N408=Labels!$B$118,SUM(N405,N407),\"\")","v":""},{"$f":"IF(O408=Labels!$B$118,SUM(O405,O407),\"\")","v":""},{"$f":"IF(P408=Labels!$B$118,SUM(P405,P407),\"\")","v":""},{"$f":"IF(Q408=Labels!$B$118,SUM(Q405,Q407),\"\")","v":""},{"$f":"IF(R408=Labels!$B$118,SUM(R405,R407),\"\")","v":""},{"$f":"IF(S408=Labels!$B$118,SUM(S405,S407),\"\")","v":""},{"$f":"IF(T408=Labels!$B$118,SUM(T405,T407),\"\")","v":""},{"$f":"IF(U408=Labels!$B$118,SUM(U405,U407),\"\")","v":""},{"$f":"IF(V408=Labels!$B$118,SUM(V405,V407),\"\")","v":""},{"$f":"IF(W408=Labels!$B$118,SUM(W405,W407),\"\")","v":""},{"$f":"IF(X408=Labels!$B$118,SUM(X405,X407),\"\")","v":""},{"$f":"IF(Y408=Labels!$B$118,SUM(Y405,Y407),\"\")","v":""},{"$f":"IF(Z408=Labels!$B$118,SUM(Z405,Z407),\"\")","v":""},{"$f":"IF(AA408=Labels!$B$118,SUM(AA405,AA407),\"\")","v":""},{"$f":"IF(AB408=Labels!$B$118,SUM(AB405,AB407),\"\")","v":""},{"$f":"IF(AC408=Labels!$B$118,SUM(AC405,AC407),\"\")","v":""},{"$f":"IF(AD408=Labels!$B$118,SUM(AD405,AD407),\"\")","v":""},{"$f":"IF(AE408=Labels!$B$118,SUM(AE405,AE407),\"\")","v":""},{"$f":"IF(AF408=Labels!$B$118,SUM(AF405,AF407),\"\")","v":""},0,"[09-FN]"]
[{"$f":"$A$32","v":"majoration caché (total hebd.)"},{"$f":"IF($B397>=80,IF(OR(ISTEXT(B414),B414=\"\",B414<$B$7),\"\",ROUND(((B414-$B$7)*25%)/25,4)*25),IF(B410>($B$7/5),ROUND(((B410-($B$7/5))*25%)/25,4)*25,\"\"))","v":""},{"$f":"IF($B397>=80,IF(OR(ISTEXT(C414),C414=\"\",C414<$B$7),\"\",ROUND(((C414-$B$7)*25%)/25,4)*25),IF(C410>($B$7/5),ROUND(((C410-($B$7/5))*25%)/25,4)*25,\"\"))","v":""},"","","","","","","","","","","","","","","","","","","","","","","","","","","","","",{"$f":"AG406","v":0},"[03]"]
[null,{"$f":"$B$33","v":"1)  25% majoration temporelle pour depassement les heures maximales"},null,null,null,null,null,null,null,null,null,{"$f":"$L$33","v":"2) 100% majoration temporelle pour travail de nuit"},null,null,null,null,null,null,null,{"$f":"$T$33","v":"Saisie des heures payées l'année passée"},null,null,null,null,null,null,null,null,null,null,null,null,{"$f":"SUM(AG405+AG407)","v":0},"[4-5]"]
[null,{"$f":"$B$34","v":"3) 100% majoration temporelle pour travail du dimanche et jour férié"},null,null,null,null,null,null,null,null,null,null,null,null,null,null,null,null,null,{"$f":"$T$34","v":"Saisie des heures payées exercice en cours (heures supplémentaires)"},null,null,null,null,null,null,null,null,null,null,null,null,{"$f":"SUM(AG405:AG407)","v":0},"[3-5]"]
[{"$f":"$A$35","v":"Notes"},null,null,null,null,null,null,null,null,null,null,null,null,null,null,null,null,null,null,null,null,null,null,null,null,null,null,null,null,null,null,null,{"$f":"SUM(AG403:AG417)","v":0},"[10]"]
[null,null,null,null,null,null,null,null,null,null,null,null,null,null,null,null,null,null,null,null,null,null,null,null,null,null,null,null,null,null,null,null,{"$f":"AG402","v":168},"[00]"]
[{"$f":"IF(AG979=0,\"\",\"effektives Pensum:  \"&ROUND(COUNT(B402:AF402)/(AG979+COUNT(B402:AF402))%*B397%*20,0)/20&\" %\")","v":""},null,null,null,null,null,null,null,null,null,null,null,null,null,null,null,null,null,null,null,null,null,null,null,null,null,null,null,null,null,null,null,{"$f":"SUM(AG425-AG426)","v":-168},"[11]"]
[]
[{"$f":"Labels!$B$103","v":"Résumé"},null,null,null,null,null,{"$f":"Labels!$B$77","v":"Jan"},null,{"$f":"Labels!$B$78","v":"Fév"},null,{"$f":"Labels!$B$79","v":"Mar"},null,{"$f":"Labels!$B$80","v":"Avr"},null,{"$f":"Labels!$B$81","v":"Mai"},null,{"$f":"Labels!$B$82","v":"Jun"},null,{"$f":"Labels!$B$83","v":"Jul"},null,{"$f":"Labels!$B$84","v":"Aoû"},null,{"$f":"Labels!$B$85","v":"Sep"},null,{"$f":"Labels!$B$86","v":"Oct"},null,{"$f":"Labels!$B$87","v":"Nov"},null,{"$f":"Labels!$B$88","v":"Déc"},null,{"$f":"Labels!$B$101","v":"Année"}]
[{"$f":"Labels!$B$20","v":"Emploi %"},null,null,null,null,null,{"$f":"IF($B$4=0,0,$B$4)","v":100},null,{"$f":"IF($B$72=0,0,$B$72)","v":100},null,{"$f":"IF($B$137=0,0,$B$137)","v":100},null,{"$f":"IF($B$202=0,0,$B$202)","v":100},null,{"$f":"IF($B$267=0,0,$B$267)","v":100},null,{"$f":"IF($B$332=0,0,$B$332)","v":100},null,{"$f":"IF($B$397=0,0,$B$397)","v":100},null,{"$f":"IF($B$462=0,0,$B$462)","v":100},null,{"$f":"IF($B$527=0,0,$B$527)","v":100},null,{"$f":"IF($B$592=0,0,$B$592)","v":100},null,{"$f":"IF($B$657=0,0,$B$657)","v":100},null,{"$f":"IF($B$722=0,0,$B$722)","v":100}]
[{"$f":"Labels!$B$104","v":"Heures théoriques selon CCT"},null,null,null,null,null,{"$f":"IF($AG$36=0,0,$AG$36)","v":176},null,{"$f":"IF($AG$101=0,0,$AG$101)","v":160},null,{"$f":"IF($AG$142=0,0,$AG$142)","v":184},null,{"$f":"IF($AG$231=0,0,$AG$231)","v":160},null,{"$f":"IF($AG$296=0,0,$AG$296)","v":184},null,{"$f":"IF($AG$361=0,0,$AG$361)","v":176},null,{"$f":"IF($AG$426=0,0,$AG$426)","v":168},null,{"$f":"IF($AG$491=0,0,$AG$491)","v":184},null,{"$f":"IF($AG$556=0,0,$AG$556)","v":168},null,{"$f":"IF($AG$621=0,0,$AG$621)","v":176},null,{"$f":"IF($AG$686=0,0,$AG$686)","v":176},null,{"$f":"IF($AG$751=0,0,$AG$751)","v":168},null,{"$f":"SUM(G431:AD431)","v":2080}]
[{"$f":"Labels!$B$105","v":"Total heures productives"},{"$f":"Labels!$B$106","v":"06.00 - 20.00 h"},null,null,null,null,{"$f":"IF($AG$32=0,0,$AG$32)","v":0},null,{"$f":"IF($AG$97=0,0,$AG$97)","v":0},null,{"$f":"IF($AG$162=0,0,$AG$162)","v":0},null,{"$f":"IF($AG$227=0,0,$AG$227)","v":0},null,{"$f":"IF($AG$292=0,0,$AG$292)","v":0},null,{"$f":"IF($AG$357=0,0,$AG$357)","v":0},null,{"$f":"IF($AG$422=0,0,$AG$422)","v":0},null,{"$f":"IF($AG$487=0,0,$AG$487)","v":0},null,{"$f":"IF($AG$552=0,0,$AG$552)","v":0},null,{"$f":"IF($AG$617=0,0,$AG$617)","v":0},null,{"$f":"IF($AG$682=0,0,$AG$682)","v":0},null,{"$f":"IF($AG$747=0,0,$AG$747)","v":0},null,{"$f":"SUM(G432:AD432)","v":0}]
[null,{"$f":"Labels!$B$107","v":"nuit, dimanche et jour férié"},null,null,null,null,{"$f":"IF(AND($AG$33=0,$AG$18=0),0,$AG$33+$AG$18)","v":0},null,{"$f":"IF(AND($AG$98=0,$AG$83=0),0,$AG$98+$AG$83)","v":0},null,{"$f":"IF(AND($AG$163=0,$AG$148=0),0,$AG$163+$AG$148)","v":0},null,{"$f":"IF(AND($AG$228=0,$AG$213=0),0,$AG$228+$AG$213)","v":0},null,{"$f":"IF(AND($AG$293=0,$AG$278=0),0,$AG$293+$AG$278)","v":0},null,{"$f":"IF(AND($AG$358=0,$AG$343=0),0,$AG$358+$AG$343)","v":0},null,{"$f":"IF(AND($AG$423=0,$AG$408=0),0,$AG$423+$AG$408)","v":0},null,{"$f":"IF(AND($AG$488=0,$AG$473=0),0,$AG$488+$AG$473)","v":0},null,{"$f":"IF(AND($AG$553=0,$AG$538=0),0,$AG$553+$AG$538)","v":0},null,{"$f":"IF(AND($AG$618=0,$AG$603=0),0,$AG$618+$AG$603)","v":0},null,{"$f":"IF(AND($AG$683=0,$AG$668=0),0,$AG$683+$AG$668)","v":0},null,{"$f":"IF(AND($AG$748=0,$AG$733=0),0,$AG$748+$AG$733)","v":0},null,{"$f":"SUM(G433:AD433)","v":0}]
[{"$f":"Labels!$B$108","v":"Majorations temporelles"},{"$f":"Labels!$B$109","v":"depassement des heures maximales"},null,null,null,null,{"$f":"IF($AG$25=0,0,$AG$25)","v":0},null,{"$f":"IF($AG$90=0,0,$AG$90)","v":0},null,{"$f":"IF($AG$155=0,0,$AG$155)","v":0},null,{"$f":"IF($AG$220=0,0,$AG$220)","v":0},null,{"$f":"IF($AG$285=0,0,$AG$285)","v":0},null,{"$f":"IF($AG$350=0,0,$AG$350)","v":0},null,{"$f":"IF($AG$415=0,0,$AG$415)","v":0},null,{"$f":"IF($AG$480=0,0,$AG$480)","v":0},null,{"$f":"IF($AG$545=0,0,$AG$545)","v":0},null,{"$f":"IF($AG$610=0,0,$AG$610)","v":0},null,{"$f":"IF($AG$675=0,0,$AG$675)","v":0},null,{"$f":"IF($AG$740=0,0,$AG$740)","v":0},null,{"$f":"SUM(G434:AD434)","v":0}]
[null,{"$f":"Labels!$B$110","v":"nuit, dimanche et jour férié"},null,null,null,null,{"$f":"IF($AJ$23=0,0,$AJ$23)","v":0},null,{"$f":"IF($AK$23=0,0,$AK$23)","v":0},null,{"$f":"IF($AL$23=0,0,$AL$23)","v":0},null,{"$f":"IF($AM$23=0,0,$AM$23)","v":0},null,{"$f":"IF($AN$23=0,0,$AN$23)","v":0},null,{"$f":"IF($AO$23=0,0,$AO$23)","v":0},null,{"$f":"IF($AP$23=0,0,$AP$23)","v":0},null,{"$f":"IF($AQ$23=0,0,$AQ$23)","v":0},null,{"$f":"IF($AR$23=0,0,$AR$23)","v":0},null,{"$f":"IF($AS$23=0,0,$AS$23)","v":0},null,{"$f":"IF($AT$23=0,0,$AT$23)","v":0},null,{"$f":"IF($AU$23=0,0,$AU$23)","v":0},null,{"$f":"SUM(G435:AD435)","v":0}]
[{"$f":"Labels!$B$111","v":"Heures inproductives"}]
[{"$f":"Labels!$B$112","v":"   Absences art. 11 CCT"},null,null,null,null,{"$f":"Labels!$B$113","v":"ab"},{"$f":"IF($AJ$3=0,0,$AJ$3)","v":0},null,{"$f":"IF($AK$3=0,0,$AK$3)","v":0},null,{"$f":"IF($AL$3=0,0,$AL$3)","v":0},null,{"$f":"IF($AM$3=0,0,$AM$3)","v":0},null,{"$f":"IF($AN$3=0,0,$AN$3)","v":0},null,{"$f":"IF($AO$3=0,0,$AO$3)","v":0},null,{"$f":"IF($AP$3=0,0,$AP$3)","v":0},null,{"$f":"IF($AQ$3=0,0,$AQ$3)","v":0},null,{"$f":"IF($AR$3=0,0,$AR$3)","v":0},null,{"$f":"IF($AS$3=0,0,$AS$3)","v":0},null,{"$f":"IF(AT$3=0,0,$AT$3)","v":0},null,{"$f":"IF($AU$3=0,0,$AU$3)","v":0},null,{"$f":"IF($AV$3=0,0,$AV$3)","v":0}]
[{"$f":"Labels!$B$114","v":"   Vacances art. 12.1 CCT"},null,null,null,null,{"$f":"Labels!$B$115","v":"va"},{"$f":"IF($AJ$4=0,0,$AJ$4)","v":0},null,{"$f":"IF($AK$4=0,0,$AK$4)","v":0},null,{"$f":"IF($AL$4=0,0,$AL$4)","v":0},null,{"$f":"IF($AM$4=0,0,$AM$4)","v":0},null,{"$f":"IF($AN$4=0,0,$AN$4)","v":0},null,{"$f":"IF($AO$4=0,0,$AO$4)","v":0},null,{"$f":"IF($AP$4=0,0,$AP$4)","v":0},null,{"$f":"IF($AQ$4=0,0,$AQ$4)","v":0},null,{"$f":"IF($AR$4=0,0,$AR$4)","v":0},null,{"$f":"IF($AS$4=0,0,$AS$4)","v":0},null,{"$f":"IF($AT$4=0,0,$AT$4)","v":0},null,{"$f":"IF($AU$4=0,0,$AU$4)","v":0},null,{"$f":"IF($AV$4=0,0,$AV$4)","v":0}]
[{"$f":"Labels!$B$181","v":"   vacances non payées"},null,null,null,null,{"$f":"Labels!$B$182","v":"vn"},{"$f":"IF($AJ$13=0,0,$AJ$13)","v":0},null,{"$f":"IF($AK$13=0,0,$AK$13)","v":0},null,{"$f":"IF($AL$13=0,0,$AL$13)","v":0},null,{"$f":"IF($AM$13=0,0,$AM$13)","v":0},null,{"$f":"IF($AN$13=0,0,$AN$13)","v":0},null,{"$f":"IF($AO$13=0,0,$AO$13)","v":0},null,{"$f":"IF($AP$13=0,0,$AP$13)","v":0},null,{"$f":"IF($AQ$13=0,0,$AQ$13)","v":0},null,{"$f":"IF($AR$13=0,0,$AR$13)","v":0},null,{"$f":"IF($AS$13=0,0,$AS$13)","v":0},null,{"$f":"IF($AT$13=0,0,$AT$13)","v":0},null,{"$f":"IF($AU$13=0,0,$AU$13)","v":0},null,{"$f":"IF($AV$13=0,0,$AV$13)","v":0}]
[{"$f":"Labels!$B$116","v":"   Jours fériés art. 12.2 CCT"},null,{"$f":"IF($AJ$20=\"\",\"\",$AJ$20)","v":""},null,null,{"$f":"Labels!$B$118","v":"jf"},{"$f":"IF($AJ$18=0,0,$AJ$18)","v":0},null,{"$f":"IF($AK$18=0,0,$AK$18)","v":0},null,{"$f":"IF($AL$18=0,0,$AL$18)","v":0},null,{"$f":"IF($AM$18=0,0,$AM$18)","v":0},null,{"$f":"IF($AN$18=0,0,$AN$18)","v":0},null,{"$f":"IF($AO$18=0,0,$AO$18)","v":0},null,{"$f":"IF($AP$18=0,0,$AP$18)","v":0},null,{"$f":"IF($AQ$18=0,0,$AQ$18)","v":0},null,{"$f":"IF($AR$18=0,0,$AR$18)","v":0},null,{"$f":"IF($AS$18=0,0,$AS$18)","v":0},null,{"$f":"IF($AT$18=0,0,$AT$18)","v":0},null,{"$f":"IF($AU$18=0,0,$AU$18)","v":0},null,{"$f":"IF($AV$18=0,0,$AV$18)","v":0}]
[{"$f":"Labels!$B$119","v":"   Maladie art. 13 CCT"},null,null,null,null,{"$f":"Labels!$B$120","v":"ma"},{"$f":"IF($AJ$5=0,0,$AJ$5)","v":0},null,{"$f":"IF($AK$5=0,0,$AK$5)","v":0},null,{"$f":"IF($AL$5=0,0,$AL$5)","v":0},null,{"$f":"IF($AM$5=0,0,$AM$5)","v":0},null,{"$f":"IF($AN$5=0,0,$AN$5)","v":0},null,{"$f":"IF($AO$5=0,0,$AO$5)","v":0},null,{"$f":"IF($AP$5=0,0,$AP$5)","v":0},null,{"$f":"IF($AQ$5=0,0,$AQ$5)","v":0},null,{"$f":"IF($AR$5=0,0,$AR$5)","v":0},null,{"$f":"IF($AS$5=0,0,$AS$5)","v":0},null,{"$f":"IF($AT$5=0,0,$AT$5)","v":0},null,{"$f":"IF($AU$5=0,0,$AU$5)","v":0},null,{"$f":"IF($AV$5=0,0,$AV$5)","v":0}]
[{"$f":"Labels!$B$184","v":"non payeé"},null,null,null,null,null,{"$f":"IF(AJ$16=0,0,AJ$16)","v":0},null,{"$f":"IF($AK$16=0,0,$AK$16)","v":0},null,{"$f":"IF($AL$16=0,0,$AL$16)","v":0},null,{"$f":"IF($AM$16=0,0,$AM$16)","v":0},null,{"$f":"IF($AN$16=0,0,$AN$16)","v":0},null,{"$f":"IF($AO$16=0,0,$AO$16)","v":0},null,{"$f":"IF($AP$16=0,0,$AP$16)","v":0},null,{"$f":"IF($AQ$16=0,0,$AQ$16)","v":0},null,{"$f":"IF($AR$16=0,0,$AR$16)","v":0},null,{"$f":"IF($AS$16=0,0,$AS$16)","v":0},null,{"$f":"IF($AT$16=0,0,$AT$16)","v":0},null,{"$f":"IF($AU$16=0,0,$AU$16)","v":0},null,{"$f":"IF($AV$16=0,0,$AV$16)","v":0}]
[{"$f":"Labels!$B$121","v":"   Accident art. 14 CCT"},null,null,null,null,{"$f":"Labels!$B$122","v":"ac"},{"$f":"IF($AJ$6=0,0,$AJ$6)","v":0},null,{"$f":"IF($AK$6=0,0,$AK$6)","v":0},null,{"$f":"IF($AL$6=0,0,$AL$6)","v":0},null,{"$f":"IF($AM$6=0,0,$AM$6)","v":0},null,{"$f":"IF($AN$6=0,0,$AN$6)","v":0},null,{"$f":"IF($AO$6=0,0,$AO$6)","v":0},null,{"$f":"IF($AP$6=0,0,$AP$6)","v":0},null,{"$f":"IF($AQ$6=0,0,$AQ$6)","v":0},null,{"$f":"IF($AR$6=0,0,$AR$6)","v":0},null,{"$f":"IF($AS$6=0,0,$AS$6)","v":0},null,{"$f":"IF($AT$6=0,0,$AT$6)","v":0},null,{"$f":"IF($AU$6=0,0,$AU$6)","v":0},null,{"$f":"IF($AV$6=0,0,$AV$6)","v":0}]
[{"$f":"Labels!$B$123","v":"   Grossesse/Maternité art. 15 CCT"},null,null,null,null,{"$f":"Labels!$B$124","v":"gm"},{"$f":"IF($AJ$7=0,0,$AJ$7)","v":0},null,{"$f":"IF($AK$7=0,0,$AK$7)","v":0},null,{"$f":"IF($AL$7=0,0,$AL$7)","v":0},null,{"$f":"IF($AM$7=0,0,$AM$7)","v":0},null,{"$f":"IF($AN$7=0,0,$AN$7)","v":0},null,{"$f":"IF($AO$7=0,0,$AO$7)","v":0},null,{"$f":"IF($AP$7=0,0,$AP$7)","v":0},null,{"$f":"IF($AQ$7=0,0,$AQ$7)","v":0},null,{"$f":"IF($AR$7=0,0,$AR$7)","v":0},null,{"$f":"IF($AS$7=0,0,$AS$7)","v":0},null,{"$f":"IF($AT$7=0,0,$AT$7)","v":0},null,{"$f":"IF($AU$7=0,0,$AU$7)","v":0},null,{"$f":"IF($AV$7=0,0,$AV$7)","v":0}]
[{"$f":"Labels!$B$125","v":"   Militaire/Promotion/Protection civile art. 16 CCT"},null,null,null,null,{"$f":"Labels!$B$126","v":"mi"},{"$f":"IF($AJ$8=0,0,$AJ$8)","v":0},null,{"$f":"IF($AK$8=0,0,$AK$8)","v":0},null,{"$f":"IF($AL$8=0,0,$AL$8)","v":0},null,{"$f":"IF($AM$8=0,0,$AM$8)","v":0},null,{"$f":"IF($AN$8=0,0,$AN$8)","v":0},null,{"$f":"IF($AO$8=0,0,$AO$8)","v":0},null,{"$f":"IF($AP$8=0,0,$AP$8)","v":0},null,{"$f":"IF($AQ$8=0,0,$AQ$8)","v":0},null,{"$f":"IF($AR$8=0,0,$AR$8)","v":0},null,{"$f":"IF($AS$8=0,0,$AS$8)","v":0},null,{"$f":"IF($AT$8=0,0,$AT$8)","v":0},null,{"$f":"IF($AU$8=0,0,$AU$8)","v":0},null,{"$f":"IF($AV$8=0,0,$AV$8)","v":0}]
[{"$f":"Labels!$B$127","v":"   Chômage partiel et perte de travail cause d'intempéries"},null,null,null,null,{"$f":"Labels!$B$128","v":"ch"},{"$f":"IF($AJ$11=0,0,$AJ$11)","v":0},null,{"$f":"IF($AK$11=0,0,$AK$11)","v":0},null,{"$f":"IF($AL$11=0,0,$AL$11)","v":0},null,{"$f":"IF($AM$11=0,0,$AM$11)","v":0},null,{"$f":"IF($AN$11=0,0,$AN$11)","v":0},null,{"$f":"IF($AO$11=0,0,$AO$11)","v":0},null,{"$f":"IF($AP$11=0,0,$AP$11)","v":0},null,{"$f":"IF($AQ$11=0,0,$AQ$11)","v":0},null,{"$f":"IF($AR$11=0,0,$AR$11)","v":0},null,{"$f":"IF($AS$11=0,0,$AS$11)","v":0},null,{"$f":"IF($AT$11=0,0,$AT$11)","v":0},null,{"$f":"IF($AU$11=0,0,$AU$11)","v":0},null,{"$f":"IF($AV$11=0,0,$AV$11)","v":0}]
[{"$f":"Labels!$B$129","v":"   Ecole professionnelle"},null,null,null,null,{"$f":"Labels!$B$130","v":"ep"},{"$f":"IF($AJ$9=0,0,$AJ$9)","v":0},null,{"$f":"IF($AK$9=0,0,$AK$9)","v":0},null,{"$f":"IF($AL$9=0,0,$AL$9)","v":0},null,{"$f":"IF($AM$9=0,0,$AM$9)","v":0},null,{"$f":"IF($AN$9=0,0,$AN$9)","v":0},null,{"$f":"IF($AO$9=0,0,$AO$9)","v":0},null,{"$f":"IF($AP$9=0,0,$AP$9)","v":0},null,{"$f":"IF($AQ$9=0,0,$AQ$9)","v":0},null,{"$f":"IF($AR$9=0,0,$AR$9)","v":0},null,{"$f":"IF($AS$9=0,0,$AS$9)","v":0},null,{"$f":"IF($AT$9=0,0,$AT$9)","v":0},null,{"$f":"IF($AU$9=0,0,$AU$9)","v":0},null,{"$f":"IF($AV$9=0,0,$AV$9)","v":0}]
[{"$f":"Labels!$B$131","v":"   Cours"},null,null,null,null,{"$f":"Labels!$B$132","v":"co"},{"$f":"IF($AJ$10=0,0,$AJ$10)","v":0},null,{"$f":"IF($AK$10=0,0,$AK$10)","v":0},null,{"$f":"IF($AL$10=0,0,$AL$10)","v":0},null,{"$f":"IF($AM$10=0,0,$AM$10)","v":0},null,{"$f":"IF($AN$10=0,0,$AN$10)","v":0},null,{"$f":"IF($AO$10=0,0,$AO$10)","v":0},null,{"$f":"IF($AP$10=0,0,$AP$10)","v":0},null,{"$f":"IF($AQ$10=0,0,$AQ$10)","v":0},null,{"$f":"IF($AR$10=0,0,$AR$10)","v":0},null,{"$f":"IF($AS$10=0,0,$AS$10)","v":0},null,{"$f":"IF($AT$10=0,0,$AT$10)","v":0},null,{"$f":"IF($AU$10=0,0,$AU$10)","v":0},null,{"$f":"IF($AV$10=0,0,$AV$10)","v":0}]
[{"$f":"Labels!$B$133","v":"Heures de compensation"},{"$f":"Labels!$B$134","v":"de l'année passée"},null,null,null,{"$f":"Labels!$B$135","v":"cp"},{"$f":"IF($AJ$12=0,0,$AJ$12)","v":0},null,{"$f":"IF($AK$12=0,0,$AK$12)","v":0},null,{"$f":"IF($AL$12=0,0,$AL$12)","v":0},null,{"$f":"IF($AM$12=0,0,$AM$12)","v":0},null,{"$f":"IF($AN$12=0,0,$AN$12)","v":0},null,{"$f":"IF($AO$12=0,0,$AO$12)","v":0},null,{"$f":"IF($AP$12=0,0,$AP$12)","v":0},null,{"$f":"IF($AQ$12=0,0,$AQ$12)","v":0},null,{"$f":"IF($AR$12=0,0,$AR$12)","v":0},null,null,null,null,null,null,null,{"$f":"IF($AV$12=0,0,$AV$12)","v":0}]
[null,{"$f":"Labels!$B$136","v":"de l'année en cours (contrôle)"},null,null,null,{"$f":"Labels!$B$137","v":"cc"},{"$f":"IF($AJ$15=0,0,$AJ$15)","v":0},null,{"$f":"IF($AK$15=0,0,$AK$15)","v":0},null,{"$f":"IF($AL$15=0,0,$AL$15)","v":0},null,{"$f":"IF($AM$15=0,0,$AM$15)","v":0},null,{"$f":"IF($AN$15=0,0,$AN$15)","v":0},null,{"$f":"IF($AO$15=0,0,$AO$15)","v":0},null,{"$f":"IF($AP$15=0,0,$AP$15)","v":0},null,{"$f":"IF($AQ$15=0,0,$AQ$15)","v":0},null,{"$f":"IF($AR$15=0,0,$AR$15)","v":0},null,{"$f":"IF($AS$15=0,0,$AS$15)","v":0},null,{"$f":"IF($AT$15=0,0,$AT$15)","v":0},null,{"$f":"IF($AU$15=0,0,$AU$15)","v":0},null,{"$f":"IF($AV$15=0,0,$AV$15)","v":0}]
[{"$f":"Labels!$B$138","v":"Paiement des heures"},{"$f":"Labels!$B$139","v":"de l'année passée"},null,null,null,null,{"$f":"IF($AJ$21=0,0,$AJ$21)","v":0},null,{"$f":"IF($AK$21=0,0,$AK$21)","v":0},null,{"$f":"IF($AL$21=0,0,$AL$21)","v":0},null,{"$f":"IF($AM$21=0,0,$AM$21)","v":0},null,{"$f":"IF($AN$21=0,0,$AN$21)","v":0},null,{"$f":"IF($AO$21=0,0,$AO$21)","v":0},null,{"$f":"IF($AP$21=0,0,$AP$21)","v":0},null,{"$f":"IF($AQ$21=0,0,$AQ$21)","v":0},null,{"$f":"IF($AR$21=0,0,$AR$21)","v":0},null,null,null,null,null,null,null,{"$f":"IF($AV$21=0,0,$AV$21)","v":0}]
[{"$f":"Labels!$B$140","v":"Différence en heures"},{"$f":"Labels!$B$141","v":"après compensation et paiement"},null,null,null,null,{"$f":"IF(ROUND($P$4,3)=0,0,$P$4-G449-G451)","v":0},null,{"$f":"IF(ROUND(G452,3)=0,0,G452-(SUM(I449+I451)))","v":0},null,{"$f":"IF(ROUND(I452,3)=0,0,I452-K451-K449)","v":0},null,{"$f":"IF(ROUND(K452,3)=0,0,K452-(SUM(M451+M449)))","v":0},null,{"$f":"IF(ROUND(M452,3)=0,0,M452-(SUM(O451+O449)))","v":0},null,{"$f":"IF(ROUND(O452,3)=0,0,O452-(SUM(Q451+Q449)))","v":0},null,{"$f":"IF(ROUND(Q452,3)=0,0,Q452-(SUM(S451+S449)))","v":0},null,{"$f":"IF(ROUND(S452,3)=0,0,S452-(SUM(U451+U449)))","v":0},null,{"$f":"IF(ROUND(U452,3)=0,0,U452-(SUM(W451+W449)))","v":0},null,{"$f":"IF($W$62<0.1,\"\",AY434)","v":""}]
[{"$f":"Labels!$B$138","v":"Paiement des heures"},{"$f":"Labels!$B$142","v":"de l'année en cours"},null,null,null,null,{"$f":"IF($AJ$22=0,0,$AJ$22)","v":0},null,{"$f":"IF($AK$22=0,0,$AK$22)","v":0},null,{"$f":"IF($AL$22=0,0,$AL$22)","v":0},null,{"$f":"IF($AM$22=0,0,$AM$22)","v":0},null,{"$f":"IF($AN$22=0,0,$AN$22)","v":0},null,{"$f":"IF($AO$22=0,0,$AO$22)","v":0},null,{"$f":"IF($AP$22=0,0,$AP$22)","v":0},null,{"$f":"IF($AQ$22=0,0,$AQ$22)","v":0},null,{"$f":"IF($AR$22=0,0,$AR$22)","v":0},null,{"$f":"IF($AS$22=0,0,$AS$22)","v":0},null,{"$f":"IF($AT$22=0,0,$AT$22)","v":0},null,{"$f":"IF($AU$22=0,0,$AU$22)","v":0},null,{"$f":"IF($AV$22=0,0,$AV$22)","v":0}]
[{"$f":"Labels!$B$143","v":"Heures manquantes"},{"$f":"Labels!$B$144","v":"de l'année en cours (contrôle)"},null,null,null,{"$f":"Labels!$B$145","v":"hm"},{"$f":"IF($AJ$14=0,0,$AJ$14)","v":0},null,{"$f":"IF($AK$14=0,0,$AK$14)","v":0},null,{"$f":"IF($AL$14=0,0,$AL$14)","v":0},null,{"$f":"IF($AM$14=0,0,$AM$14)","v":0},null,{"$f":"IF($AN$14=0,0,$AN$14)","v":0},null,{"$f":"IF($AO$14=0,0,$AO$14)","v":0},null,{"$f":"IF($AP$14=0,0,$AP$14)","v":0},null,{"$f":"IF($AQ$14=0,0,$AQ$14)","v":0},null,{"$f":"IF($AR$14=0,0,$AR$14)","v":0},null,{"$f":"IF($AS$14=0,0,$AS$14)","v":0},null,{"$f":"IF($AT$14=0,0,$AT$14)","v":0},null,{"$f":"IF($AU$14=0,0,$AU$14)","v":0},null,{"$f":"IF($AV$14=0,0,$AV$14)","v":0}]
[{"$f":"Labels!$B$146","v":"Total (majorations inclus)"},{"$f":"Labels!$B$147","v":"heures productives et inproductives"},null,null,null,null,{"$f":"IF($AG$35=0,0,$AG$35)","v":0},null,{"$f":"IF($AG$100=0,0,$AG$100)","v":0},null,{"$f":"IF($AG$165=0,0,$AG$165)","v":0},null,{"$f":"IF($AG$230=0,0,$AG$230)","v":0},null,{"$f":"IF($AG$295=0,0,$AG$295)","v":0},null,{"$f":"IF($AG$360=0,0,$AG$360)","v":0},null,{"$f":"IF($AG$425=0,0,$AG$425)","v":0},null,{"$f":"IF($AG$490=0,0,$AG$490)","v":0},null,{"$f":"IF($AG$555=0,0,$AG$555)","v":0},null,{"$f":"IF($AG$620=0,0,$AG$620)","v":0},null,{"$f":"IF($AG$685=0,0,$AG$685)","v":0},null,{"$f":"IF($AG$750=0,0,$AG$750)","v":0},null,{"$f":"SUM($G$65:$AD$65)","v":0}]
[{"$f":"Labels!$B$148","v":"Comparaison des heures"},{"$f":"Labels!$B$149","v":"aux heures théorique CCT (heures \nmanquantes de l'année passée incl.)"},null,null,null,null,{"$f":"IF($AG$37=0,0,$AG$37)-$AE$34+$P$5","v":-176},null,{"$f":"IF($AG$102=0,0,$AG$102)-$AE$99","v":-160},null,{"$f":"IF($AG$167=0,0,$AG$167)-$AE$164","v":-184},null,{"$f":"IF($AG$232=0,0,$AG$232)-$AE$229","v":-160},null,{"$f":"IF($AG$297=0,0,$AG$297)-$AE$294","v":-184},null,{"$f":"IF($AG$362=0,0,$AG$362)-$AE$359","v":-176},null,{"$f":"IF($AG$427=0,0,$AG$427)-$AE$424","v":-168},null,{"$f":"IF($AG$492=0,0,$AG$492)-$AE$489","v":-184},null,{"$f":"IF($AG$557=0,0,$AG$557)-$AE$554","v":-168},null,{"$f":"IF($AG$622=0,0,$AG$622)-$AE$619","v":-176},null,{"$f":"IF($AG$687=0,0,$AG$687)-$AE$684","v":-176},null,{"$f":"IF($AG$752=0,0,$AG$752)-$AE$749","v":-168},null,{"$f":"SUM($G$66:$AD$66)","v":-2080}]
[null,{"$f":"Labels!$B$151","v":"aux heures théorique (cumulées)"},null,null,null,null,{"$f":"IF(G430=0,0,$G$66)","v":-176},null,{"$f":"IF(I430=0,0,SUM($G$66:$J$66))","v":-336},null,{"$f":"IF(K430=0,0,SUM($G$66:$L$66))","v":-520},null,{"$f":"IF(M430=0,0,SUM($G$66:$N$66))","v":-680},null,{"$f":"IF(O430=0,0,SUM($G$66:$P$66))","v":-864},null,{"$f":"IF(Q430=0,0,SUM($G$66:$R$66))","v":-1040},null,{"$f":"IF(S430=0,0,SUM($G$66:$T$66))","v":-1208},null,{"$f":"IF(U430=0,0,SUM($G$66:$V$66))","v":-1392},null,{"$f":"IF(W430=0,0,SUM($G$66:$X$66))","v":-1560},null,{"$f":"IF(Y430=0,0,SUM($G$66:$Z$66))","v":-1736},null,{"$f":"IF(AA430=0,0,SUM($G$66:$AB$66))","v":-1912},null,{"$f":"IF(AC430=0,0,SUM($G$66:$AD$66))","v":-2080}]
[{"$f":"Labels!$B$153","v":"Vacances (contrôle)"},{"$f":"Labels!$B$154","v":"Vacances année passée"},null,null,null,null,{"$f":"IF($AA$4=0,0,$AA$4)","v":0},null,{"$f":"Labels!$B$155","v":"Vacances selon \nart 12.1 CCT"},null,null,null,{"$f":"IF($AA$5=0,0,$AA$5)","v":0},null,{"$f":"Labels!$B$156","v":"Total des vacances"},null,null,null,{"$f":"SUM(G458+M458)","v":0},null,{"$f":"Labels!$B$157","v":"Vacances prises"},null,null,null,{"$f":"IF($AV$4=0,0,$AV$4)","v":0},null,{"$f":"Labels!$B$158","v":"Vacances restantes"},null,null,null,{"$f":"IF(S458=0,0,S458-Y458)","v":0}]
[]
[]
[{"$f":"$A$3","v":"Nom/Prénom"},{"$f":"IF($B$3=\"\",\"\",$B$3)","v":"Modèle Pierre"},null,null,null,null,null,null,null,null,null,null,null,null,null,null,null,null,null,null,null,null,null,null,null,null,null,null,null,null,null,{"$f":"AF3","v":0}]
[{"$f":"$A$4","v":"Emploi %"},{"$f":"$AL$55","v":100},null,{"$f":"Labels!B96","v":"en août"}]
[{"$f":"$A$5","v":"Solde année en cours"},null,null,{"$f":"IF($AE$66=0,0,$AE$66)","v":-2080}]
[{"$f":"TEXT(DATE(YEAR(AP29),MONTH(AP29)+7,1),\"MMMM\"&Labels!B13)","v":"août"},{"$f":"$B$9","v":"Solde mois + / -"},null,null,null,{"$f":"(AG467-(SUM(AG468:AG482)-AE489))*-1","v":-184},null,null,null,null,{"$f":"$K$9","v":" = "},{"$f":"$L$9","v":"Les cases marquées en jaune doivent être remplies (les autres seront calculées automatiquement)"},null,null,null,null,null,null,null,null,null,null,null,null,null,null,null,null,null,null,null,null,{"$f":"COUNT(B467:AF467)&\" \"&Labels!$B$63","v":"23 Jours"}]
[{"$f":"$A$10","v":"Jour"},{"$f":"AF400+1","v":"2023-08-01"},{"$f":"B465+1","v":"2023-08-02"},{"$f":"C465+1","v":"2023-08-03"},"2023-08-04","2023-08-05","2023-08-06","2023-08-07","2023-08-08","2023-08-09","2023-08-10","2023-08-11","2023-08-12","2023-08-13","2023-08-14","2023-08-15","2023-08-16","2023-08-17","2023-08-18","2023-08-19","2023-08-20","2023-08-21","2023-08-22","2023-08-23","2023-08-24","2023-08-25","2023-08-26","2023-08-27","2023-08-28","2023-08-29","2023-08-30","2023-08-31"]
[{"$f":"$A$11","v":"semaine civile"},{"$f":"IF(B465=\"\",\"\",TRUNC((B465-DATE(YEAR(B465+3-MOD(B465-2,7)),1,MOD(B465-2,7)-9))/7))","v":31},31,31,31,31,31,32,32,32,32,32,32,32,33,33,33,33,33,33,33,34,34,34,34,34,34,34,35,35,35,35,null,"Woche"]
[{"$f":"$A$12","v":"Théorique sel. CCT"},{"$f":"IF(AND(MOD(B465,7)>=2,SUMPRODUCT(($AM$60:$AQ$60=MOD(B465,7))*$AM$55:$AQ$55),B1004=\"\"),$J$7*SUMPRODUCT(($AM$77:$AQ$77=MOD(B465,7))*$AM$72:$AQ$72)%,\"\")","v":8},{"$f":"IF(AND(MOD(C465,7)>=2,SUMPRODUCT(($AM$60:$AQ$60=MOD(C465,7))*$AM$55:$AQ$55),C1004=\"\"),$J$7*SUMPRODUCT(($AM$77:$AQ$77=MOD(C465,7))*$AM$72:$AQ$72)%,\"\")","v":8},{"$f":"IF(AND(MOD(D465,7)>=2,SUMPRODUCT(($AM$60:$AQ$60=MOD(D465,7))*$AM$55:$AQ$55),D1004=\"\"),$J$7*SUMPRODUCT(($AM$77:$AQ$77=MOD(D465,7))*$AM$72:$AQ$72)%,\"\")","v":8},{"$f":"IF(AND(MOD(E465,7)>=2,SUMPRODUCT(($AM$60:$AQ$60=MOD(E465,7))*$AM$55:$AQ$55),E1004=\"\"),$J$7*SUMPRODUCT(($AM$77:$AQ$77=MOD(E465,7))*$AM$72:$AQ$72)%,\"\")","v":8},{"$f":"IF(AND(MOD(F465,7)>=2,SUMPRODUCT(($AM$60:$AQ$60=MOD(F465,7))*$AM$55:$AQ$55),F1004=\"\"),$J$7*SUMPRODUCT(($AM$77:$AQ$77=MOD(F465,7))*$AM$72:$AQ$72)%,\"\")","v":""},{"$f":"IF(AND(MOD(G465,7)>=2,SUMPRODUCT(($AM$60:$AQ$60=MOD(G465,7))*$AM$55:$AQ$55),G1004=\"\"),$J$7*SUMPRODUCT(($AM$77:$AQ$77=MOD(G465,7))*$AM$72:$AQ$72)%,\"\")","v":""},{"$f":"IF(AND(MOD(H465,7)>=2,SUMPRODUCT(($AM$60:$AQ$60=MOD(H465,7))*$AM$55:$AQ$55),H1004=\"\"),$J$7*SUMPRODUCT(($AM$77:$AQ$77=MOD(H465,7))*$AM$72:$AQ$72)%,\"\")","v":8},{"$f":"IF(AND(MOD(I465,7)>=2,SUMPRODUCT(($AM$60:$AQ$60=MOD(I465,7))*$AM$55:$AQ$55),I1004=\"\"),$J$7*SUMPRODUCT(($AM$77:$AQ$77=MOD(I465,7))*$AM$72:$AQ$72)%,\"\")","v":8},{"$f":"IF(AND(MOD(J465,7)>=2,SUMPRODUCT(($AM$60:$AQ$60=MOD(J465,7))*$AM$55:$AQ$55),J1004=\"\"),$J$7*SUMPRODUCT(($AM$77:$AQ$77=MOD(J465,7))*$AM$72:$AQ$72)%,\"\")","v":8},{"$f":"IF(AND(MOD(K465,7)>=2,SUMPRODUCT(($AM$60:$AQ$60=MOD(K465,7))*$AM$55:$AQ$55),K1004=\"\"),$J$7*SUMPRODUCT(($AM$77:$AQ$77=MOD(K465,7))*$AM$72:$AQ$72)%,\"\")","v":8},{"$f":"IF(AND(MOD(L465,7)>=2,SUMPRODUCT(($AM$60:$AQ$60=MOD(L465,7))*$AM$55:$AQ$55),L1004=\"\"),$J$7*SUMPRODUCT(($AM$77:$AQ$77=MOD(L465,7))*$AM$72:$AQ$72)%,\"\")","v":8},{"$f":"IF(AND(MOD(M465,7)>=2,SUMPRODUCT(($AM$60:$AQ$60=MOD(M465,7))*$AM$55:$AQ$55),M1004=\"\"),$J$7*SUMPRODUCT(($AM$77:$AQ$77=MOD(M465,7))*$AM$72:$AQ$72)%,\"\")","v":""},{"$f":"IF(AND(MOD(N465,7)>=2,SUMPRODUCT(($AM$60:$AQ$60=MOD(N465,7))*$AM$55:$AQ$55),N1004=\"\"),$J$7*SUMPRODUCT(($AM$77:$AQ$77=MOD(N465,7))*$AM$72:$AQ$72)%,\"\")","v":""},{"$f":"IF(AND(MOD(O465,7)>=2,SUMPRODUCT(($AM$60:$AQ$60=MOD(O465,7))*$AM$55:$AQ$55),O1004=\"\"),$J$7*SUMPRODUCT(($AM$77:$AQ$77=MOD(O465,7))*$AM$72:$AQ$72)%,\"\")","v":8},{"$f":"IF(AND(MOD(P465,7)>=2,SUMPRODUCT(($AM$60:$AQ$60=MOD(P465,7))*$AM$55:$AQ$55),P1004=\"\"),$J$7*SUMPRODUCT(($AM$77:$AQ$77=MOD(P465,7))*$AM$72:$AQ$72)%,\"\")","v":8},{"$f":"IF(AND(MOD(Q465,7)>=2,SUMPRODUCT(($AM$60:$AQ$60=MOD(Q465,7))*$AM$55:$AQ$55),Q1004=\"\"),$J$7*SUMPRODUCT(($AM$77:$AQ$77=MOD(Q465,7))*$AM$72:$AQ$72)%,\"\")","v":8},{"$f":"IF(AND(MOD(R465,7)>=2,SUMPRODUCT(($AM$60:$AQ$60=MOD(R465,7))*$AM$55:$AQ$55),R1004=\"\"),$J$7*SUMPRODUCT(($AM$77:$AQ$77=MOD(R465,7))*$AM$72:$AQ$72)%,\"\")","v":8},{"$f":"IF(AND(MOD(S465,7)>=2,SUMPRODUCT(($AM$60:$AQ$60=MOD(S465,7))*$AM$55:$AQ$55),S1004=\"\"),$J$7*SUMPRODUCT(($AM$77:$AQ$77=MOD(S465,7))*$AM$72:$AQ$72)%,\"\")","v":8},{"$f":"IF(AND(MOD(T465,7)>=2,SUMPRODUCT(($AM$60:$AQ$60=MOD(T465,7))*$AM$55:$AQ$55),T1004=\"\"),$J$7*SUMPRODUCT(($AM$77:$AQ$77=MOD(T465,7))*$AM$72:$AQ$72)%,\"\")","v":""},{"$f":"IF(AND(MOD(U465,7)>=2,SUMPRODUCT(($AM$60:$AQ$60=MOD(U465,7))*$AM$55:$AQ$55),U1004=\"\"),$J$7*SUMPRODUCT(($AM$77:$AQ$77=MOD(U465,7))*$AM$72:$AQ$72)%,\"\")","v":""},{"$f":"IF(AND(MOD(V465,7)>=2,SUMPRODUCT(($AM$60:$AQ$60=MOD(V465,7))*$AM$55:$AQ$55),V1004=\"\"),$J$7*SUMPRODUCT(($AM$77:$AQ$77=MOD(V465,7))*$AM$72:$AQ$72)%,\"\")","v":8},{"$f":"IF(AND(MOD(W465,7)>=2,SUMPRODUCT(($AM$60:$AQ$60=MOD(W465,7))*$AM$55:$AQ$55),W1004=\"\"),$J$7*SUMPRODUCT(($AM$77:$AQ$77=MOD(W465,7))*$AM$72:$AQ$72)%,\"\")","v":8},{"$f":"IF(AND(MOD(X465,7)>=2,SUMPRODUCT(($AM$60:$AQ$60=MOD(X465,7))*$AM$55:$AQ$55),X1004=\"\"),$J$7*SUMPRODUCT(($AM$77:$AQ$77=MOD(X465,7))*$AM$72:$AQ$72)%,\"\")","v":8},{"$f":"IF(AND(MOD(Y465,7)>=2,SUMPRODUCT(($AM$60:$AQ$60=MOD(Y465,7))*$AM$55:$AQ$55),Y1004=\"\"),$J$7*SUMPRODUCT(($AM$77:$AQ$77=MOD(Y465,7))*$AM$72:$AQ$72)%,\"\")","v":8},{"$f":"IF(AND(MOD(Z465,7)>=2,SUMPRODUCT(($AM$60:$AQ$60=MOD(Z465,7))*$AM$55:$AQ$55),Z1004=\"\"),$J$7*SUMPRODUCT(($AM$77:$AQ$77=MOD(Z465,7))*$AM$72:$AQ$72)%,\"\")","v":8},{"$f":"IF(AND(MOD(AA465,7)>=2,SUMPRODUCT(($AM$60:$AQ$60=MOD(AA465,7))*$AM$55:$AQ$55),AA1004=\"\"),$J$7*SUMPRODUCT(($AM$77:$AQ$77=MOD(AA465,7))*$AM$72:$AQ$72)%,\"\")","v":""},{"$f":"IF(AND(MOD(AB465,7)>=2,SUMPRODUCT(($AM$60:$AQ$60=MOD(AB465,7))*$AM$55:$AQ$55),AB1004=\"\"),$J$7*SUMPRODUCT(($AM$77:$AQ$77=MOD(AB465,7))*$AM$72:$AQ$72)%,\"\")","v":""},{"$f":"IF(AND(MOD(AC465,7)>=2,SUMPRODUCT(($AM$60:$AQ$60=MOD(AC465,7))*$AM$55:$AQ$55),AC1004=\"\"),$J$7*SUMPRODUCT(($AM$77:$AQ$77=MOD(AC465,7))*$AM$72:$AQ$72)%,\"\")","v":8},{"$f":"IF(AND(MOD(AD465,7)>=2,SUMPRODUCT(($AM$60:$AQ$60=MOD(AD465,7))*$AM$55:$AQ$55),AD1004=\"\"),$J$7*SUMPRODUCT(($AM$77:$AQ$77=MOD(AD465,7))*$AM$72:$AQ$72)%,\"\")","v":8},{"$f":"IF(AND(MOD(AE465,7)>=2,SUMPRODUCT(($AM$60:$AQ$60=MOD(AE465,7))*$AM$55:$AQ$55),AE1004=\"\"),$J$7*SUMPRODUCT(($AM$77:$AQ$77=MOD(AE465,7))*$AM$72:$AQ$72)%,\"\")","v":8},{"$f":"IF(AND(MOD(AF465,7)>=2,SUMPRODUCT(($AM$60:$AQ$60=MOD(AF465,7))*$AM$55:$AQ$55),AF1004=\"\"),$J$7*SUMPRODUCT(($AM$77:$AQ$77=MOD(AF465,7))*$AM$72:$AQ$72)%,\"\")","v":8},{"$f":"SUM(B467:AF467)","v":184},"[00]"]
[{"$f":"$A$13","v":"Absences"},{"$f":"B1020","v":0},{"$f":"C1020","v":0},0,0,0,0,0,0,0,0,0,0,0,0,0,0,0,0,0,0,0,0,0,0,0,0,0,0,0,0,0,{"$f":"SUM($AQ$3:$AQ$13)","v":0},"[01]"]
[{"$f":"$A$14","v":"Code"},{"$f":"IF(SUM(B1007:B1019)<>0,IF(MAX(B1007:B1019)<B1020,Labels!$B$163,INDEX($AH$1007:$AH$1019,MATCH(MAX(B1007:B1019),B1007:B1019,0))),\"\")","v":""},{"$f":"IF(SUM(C1007:C1019)<>0,IF(MAX(C1007:C1019)<C1020,Labels!$B$163,INDEX($AH$1007:$AH$1019,MATCH(MAX(C1007:C1019),C1007:C1019,0))),\"\")","v":""},{"$f":"IF(SUM(D1007:D1019)<>0,IF(MAX(D1007:D1019)<D1020,Labels!$B$163,INDEX($AH$1007:$AH$1019,MATCH(MAX(D1007:D1019),D1007:D1019,0))),\"\")","v":""},{"$f":"IF(SUM(E1007:E1019)<>0,IF(MAX(E1007:E1019)<E1020,Labels!$B$163,INDEX($AH$1007:$AH$1019,MATCH(MAX(E1007:E1019),E1007:E1019,0))),\"\")","v":""},{"$f":"IF(SUM(F1007:F1019)<>0,IF(MAX(F1007:F1019)<F1020,Labels!$B$163,INDEX($AH$1007:$AH$1019,MATCH(MAX(F1007:F1019),F1007:F1019,0))),\"\")","v":""},{"$f":"IF(SUM(G1007:G1019)<>0,IF(MAX(G1007:G1019)<G1020,Labels!$B$163,INDEX($AH$1007:$AH$1019,MATCH(MAX(G1007:G1019),G1007:G1019,0))),\"\")","v":""},{"$f":"IF(SUM(H1007:H1019)<>0,IF(MAX(H1007:H1019)<H1020,Labels!$B$163,INDEX($AH$1007:$AH$1019,MATCH(MAX(H1007:H1019),H1007:H1019,0))),\"\")","v":""},{"$f":"IF(SUM(I1007:I1019)<>0,IF(MAX(I1007:I1019)<I1020,Labels!$B$163,INDEX($AH$1007:$AH$1019,MATCH(MAX(I1007:I1019),I1007:I1019,0))),\"\")","v":""},{"$f":"IF(SUM(J1007:J1019)<>0,IF(MAX(J1007:J1019)<J1020,Labels!$B$163,INDEX($AH$1007:$AH$1019,MATCH(MAX(J1007:J1019),J1007:J1019,0))),\"\")","v":""},{"$f":"IF(SUM(K1007:K1019)<>0,IF(MAX(K1007:K1019)<K1020,Labels!$B$163,INDEX($AH$1007:$AH$1019,MATCH(MAX(K1007:K1019),K1007:K1019,0))),\"\")","v":""},{"$f":"IF(SUM(L1007:L1019)<>0,IF(MAX(L1007:L1019)<L1020,Labels!$B$163,INDEX($AH$1007:$AH$1019,MATCH(MAX(L1007:L1019),L1007:L1019,0))),\"\")","v":""},{"$f":"IF(SUM(M1007:M1019)<>0,IF(MAX(M1007:M1019)<M1020,Labels!$B$163,INDEX($AH$1007:$AH$1019,MATCH(MAX(M1007:M1019),M1007:M1019,0))),\"\")","v":""},{"$f":"IF(SUM(N1007:N1019)<>0,IF(MAX(N1007:N1019)<N1020,Labels!$B$163,INDEX($AH$1007:$AH$1019,MATCH(MAX(N1007:N1019),N1007:N1019,0))),\"\")","v":""},{"$f":"IF(SUM(O1007:O1019)<>0,IF(MAX(O1007:O1019)<O1020,Labels!$B$163,INDEX($AH$1007:$AH$1019,MATCH(MAX(O1007:O1019),O1007:O1019,0))),\"\")","v":""},{"$f":"IF(SUM(P1007:P1019)<>0,IF(MAX(P1007:P1019)<P1020,Labels!$B$163,INDEX($AH$1007:$AH$1019,MATCH(MAX(P1007:P1019),P1007:P1019,0))),\"\")","v":""},{"$f":"IF(SUM(Q1007:Q1019)<>0,IF(MAX(Q1007:Q1019)<Q1020,Labels!$B$163,INDEX($AH$1007:$AH$1019,MATCH(MAX(Q1007:Q1019),Q1007:Q1019,0))),\"\")","v":""},{"$f":"IF(SUM(R1007:R1019)<>0,IF(MAX(R1007:R1019)<R1020,Labels!$B$163,INDEX($AH$1007:$AH$1019,MATCH(MAX(R1007:R1019),R1007:R1019,0))),\"\")","v":""},{"$f":"IF(SUM(S1007:S1019)<>0,IF(MAX(S1007:S1019)<S1020,Labels!$B$163,INDEX($AH$1007:$AH$1019,MATCH(MAX(S1007:S1019),S1007:S1019,0))),\"\")","v":""},{"$f":"IF(SUM(T1007:T1019)<>0,IF(MAX(T1007:T1019)<T1020,Labels!$B$163,INDEX($AH$1007:$AH$1019,MATCH(MAX(T1007:T1019),T1007:T1019,0))),\"\")","v":""},{"$f":"IF(SUM(U1007:U1019)<>0,IF(MAX(U1007:U1019)<U1020,Labels!$B$163,INDEX($AH$1007:$AH$1019,MATCH(MAX(U1007:U1019),U1007:U1019,0))),\"\")","v":""},{"$f":"IF(SUM(V1007:V1019)<>0,IF(MAX(V1007:V1019)<V1020,Labels!$B$163,INDEX($AH$1007:$AH$1019,MATCH(MAX(V1007:V1019),V1007:V1019,0))),\"\")","v":""},{"$f":"IF(SUM(W1007:W1019)<>0,IF(MAX(W1007:W1019)<W1020,Labels!$B$163,INDEX($AH$1007:$AH$1019,MATCH(MAX(W1007:W1019),W1007:W1019,0))),\"\")","v":""},{"$f":"IF(SUM(X1007:X1019)<>0,IF(MAX(X1007:X1019)<X1020,Labels!$B$163,INDEX($AH$1007:$AH$1019,MATCH(MAX(X1007:X1019),X1007:X1019,0))),\"\")","v":""},{"$f":"IF(SUM(Y1007:Y1019)<>0,IF(MAX(Y1007:Y1019)<Y1020,Labels!$B$163,INDEX($AH$1007:$AH$1019,MATCH(MAX(Y1007:Y1019),Y1007:Y1019,0))),\"\")","v":""},{"$f":"IF(SUM(Z1007:Z1019)<>0,IF(MAX(Z1007:Z1019)<Z1020,Labels!$B$163,INDEX($AH$1007:$AH$1019,MATCH(MAX(Z1007:Z1019),Z1007:Z1019,0))),\"\")","v":""},{"$f":"IF(SUM(AA1007:AA1019)<>0,IF(MAX(AA1007:AA1019)<AA1020,Labels!$B$163,INDEX($AH$1007:$AH$1019,MATCH(MAX(AA1007:AA1019),AA1007:AA1019,0))),\"\")","v":""},{"$f":"IF(SUM(AB1007:AB1019)<>0,IF(MAX(AB1007:AB1019)<AB1020,Labels!$B$163,INDEX($AH$1007:$AH$1019,MATCH(MAX(AB1007:AB1019),AB1007:AB1019,0))),\"\")","v":""},{"$f":"IF(SUM(AC1007:AC1019)<>0,IF(MAX(AC1007:AC1019)<AC1020,Labels!$B$163,INDEX($AH$1007:$AH$1019,MATCH(MAX(AC1007:AC1019),AC1007:AC1019,0))),\"\")","v":""},{"$f":"IF(SUM(AD1007:AD1019)<>0,IF(MAX(AD1007:AD1019)<AD1020,Labels!$B$163,INDEX($AH$1007:$AH$1019,MATCH(MAX(AD1007:AD1019),AD1007:AD1019,0))),\"\")","v":""},{"$f":"IF(SUM(AE1007:AE1019)<>0,IF(MAX(AE1007:AE1019)<AE1020,Labels!$B$163,INDEX($AH$1007:$AH$1019,MATCH(MAX(AE1007:AE1019),AE1007:AE1019,0))),\"\")","v":""},{"$f":"IF(SUM(AF1007:AF1019)<>0,IF(MAX(AF1007:AF1019)<AF1020,Labels!$B$163,INDEX($AH$1007:$AH$1019,MATCH(MAX(AF1007:AF1019),AF1007:AF1019,0))),\"\")","v":""},{"$f":"$AQ$16*-1","v":0},"[02]"]
[{"$f":"$A$15","v":"00h00-06h00 1)"},null,null,null,null,null,null,null,null,null,null,null,null,null,null,null,null,null,null,null,null,null,null,null,null,null,null,null,null,null,null,null,{"$f":"SUM(B470:AF470)","v":0},"[04]"]
[{"$f":"$A$16","v":"06h00-20h00 2)"},null,null,null,null,null,null,null,null,null,null,null,null,null,null,null,null,null,null,null,null,null,null,null,null,null,null,null,null,null,null,null,{"$f":"SUMPRODUCT(B471:AF471*(B467:AF467<>\"\"))-SUMPRODUCT(B471:AF471*(B473:AF473=\"ft\"))","v":0},"[03]"]
[{"$f":"$A$17","v":"20h00-24h00 3)"},null,null,null,null,null,null,null,null,null,null,null,null,null,null,null,null,null,null,null,null,null,null,null,null,null,null,null,null,null,null,null,{"$f":"SUM(B472:AF472)","v":0},"[05]"]
[{"$f":"$A$18","v":"Jours fériés \"jf\""},{"$f":"IF(WEEKDAY(B465,2)<=6,IF(CALENDRIER!E17=\"x\",Labels!$B$118,\"\"),\"\")","v":""},{"$f":"IF(WEEKDAY(C465,2)<=6,IF(CALENDRIER!F17=\"x\",Labels!$B$118,\"\"),\"\")","v":""},{"$f":"IF(WEEKDAY(D465,2)<=6,IF(CALENDRIER!G17=\"x\",Labels!$B$118,\"\"),\"\")","v":""},{"$f":"IF(WEEKDAY(E465,2)<=6,IF(CALENDRIER!H17=\"x\",Labels!$B$118,\"\"),\"\")","v":""},{"$f":"IF(WEEKDAY(F465,2)<=6,IF(CALENDRIER!I17=\"x\",Labels!$B$118,\"\"),\"\")","v":""},{"$f":"IF(WEEKDAY(G465,2)<=6,IF(CALENDRIER!J17=\"x\",Labels!$B$118,\"\"),\"\")","v":""},{"$f":"IF(WEEKDAY(H465,2)<=6,IF(CALENDRIER!K17=\"x\",Labels!$B$118,\"\"),\"\")","v":""},{"$f":"IF(WEEKDAY(I465,2)<=6,IF(CALENDRIER!L17=\"x\",Labels!$B$118,\"\"),\"\")","v":""},{"$f":"IF(WEEKDAY(J465,2)<=6,IF(CALENDRIER!M17=\"x\",Labels!$B$118,\"\"),\"\")","v":""},{"$f":"IF(WEEKDAY(K465,2)<=6,IF(CALENDRIER!N17=\"x\",Labels!$B$118,\"\"),\"\")","v":""},{"$f":"IF(WEEKDAY(L465,2)<=6,IF(CALENDRIER!O17=\"x\",Labels!$B$118,\"\"),\"\")","v":""},{"$f":"IF(WEEKDAY(M465,2)<=6,IF(CALENDRIER!P17=\"x\",Labels!$B$118,\"\"),\"\")","v":""},{"$f":"IF(WEEKDAY(N465,2)<=6,IF(CALENDRIER!Q17=\"x\",Labels!$B$118,\"\"),\"\")","v":""},{"$f":"IF(WEEKDAY(O465,2)<=6,IF(CALENDRIER!R17=\"x\",Labels!$B$118,\"\"),\"\")","v":""},{"$f":"IF(WEEKDAY(P465,2)<=6,IF(CALENDRIER!S17=\"x\",Labels!$B$118,\"\"),\"\")","v":""},{"$f":"IF(WEEKDAY(Q465,2)<=6,IF(CALENDRIER!T17=\"x\",Labels!$B$118,\"\"),\"\")","v":""},{"$f":"IF(WEEKDAY(R465,2)<=6,IF(CALENDRIER!U17=\"x\",Labels!$B$118,\"\"),\"\")","v":""},{"$f":"IF(WEEKDAY(S465,2)<=6,IF(CALENDRIER!V17=\"x\",Labels!$B$118,\"\"),\"\")","v":""},{"$f":"IF(WEEKDAY(T465,2)<=6,IF(CALENDRIER!W17=\"x\",Labels!$B$118,\"\"),\"\")","v":""},{"$f":"IF(WEEKDAY(U465,2)<=6,IF(CALENDRIER!X17=\"x\",Labels!$B$118,\"\"),\"\")","v":""},{"$f":"IF(WEEKDAY(V465,2)<=6,IF(CALENDRIER!Y17=\"x\",Labels!$B$118,\"\"),\"\")","v":""},{"$f":"IF(WEEKDAY(W465,2)<=6,IF(CALENDRIER!Z17=\"x\",Labels!$B$118,\"\"),\"\")","v":""},{"$f":"IF(WEEKDAY(X465,2)<=6,IF(CALENDRIER!AA17=\"x\",Labels!$B$118,\"\"),\"\")","v":""},{"$f":"IF(WEEKDAY(Y465,2)<=6,IF(CALENDRIER!AB17=\"x\",Labels!$B$118,\"\"),\"\")","v":""},{"$f":"IF(WEEKDAY(Z465,2)<=6,IF(CALENDRIER!AC17=\"x\",Labels!$B$118,\"\"),\"\")","v":""},{"$f":"IF(WEEKDAY(AA465,2)<=6,IF(CALENDRIER!AD17=\"x\",Labels!$B$118,\"\"),\"\")","v":""},{"$f":"IF(WEEKDAY(AB465,2)<=6,IF(CALENDRIER!AE17=\"x\",Labels!$B$118,\"\"),\"\")","v":""},{"$f":"IF(WEEKDAY(AC465,2)<=6,IF(CALENDRIER!AF17=\"x\",Labels!$B$118,\"\"),\"\")","v":""},{"$f":"IF(WEEKDAY(AD465,2)<=6,IF(CALENDRIER!AG17=\"x\",Labels!$B$118,\"\"),\"\")","v":""},{"$f":"IF(WEEKDAY(AE465,2)<=6,IF(CALENDRIER!AH17=\"x\",Labels!$B$118,\"\"),\"\")","v":""},{"$f":"IF(WEEKDAY(AF465,2)<=6,IF(CALENDRIER!AI17=\"x\",Labels!$B$118,\"\"),\"\")","v":""},{"$f":"SUM(B471:AF471)-AG471","v":0},"[03b]"]
[{"$f":"$A$19","v":"Majoration  \"jf\""},{"$f":"IF(AND(B473=Labels!$B$118,WEEKDAY(B465,2)<6,B$467<>\"\"),$J$7*SUMPRODUCT(($AM$77:$AQ$77=MOD(B465,7))*$AM$72:$AQ$72)%,\"\")","v":""},{"$f":"IF(AND(C473=Labels!$B$118,WEEKDAY(C465,2)<6,C$467<>\"\"),$J$7*SUMPRODUCT(($AM$77:$AQ$77=MOD(C465,7))*$AM$72:$AQ$72)%,\"\")","v":""},{"$f":"IF(AND(D473=Labels!$B$118,WEEKDAY(D465,2)<6,D$467<>\"\"),$J$7*SUMPRODUCT(($AM$77:$AQ$77=MOD(D465,7))*$AM$72:$AQ$72)%,\"\")","v":""},{"$f":"IF(AND(E473=Labels!$B$118,WEEKDAY(E465,2)<6,E$467<>\"\"),$J$7*SUMPRODUCT(($AM$77:$AQ$77=MOD(E465,7))*$AM$72:$AQ$72)%,\"\")","v":""},{"$f":"IF(AND(F473=Labels!$B$118,WEEKDAY(F465,2)<6,F$467<>\"\"),$J$7*SUMPRODUCT(($AM$77:$AQ$77=MOD(F465,7))*$AM$72:$AQ$72)%,\"\")","v":""},{"$f":"IF(AND(G473=Labels!$B$118,WEEKDAY(G465,2)<6,G$467<>\"\"),$J$7*SUMPRODUCT(($AM$77:$AQ$77=MOD(G465,7))*$AM$72:$AQ$72)%,\"\")","v":""},{"$f":"IF(AND(H473=Labels!$B$118,WEEKDAY(H465,2)<6,H$467<>\"\"),$J$7*SUMPRODUCT(($AM$77:$AQ$77=MOD(H465,7))*$AM$72:$AQ$72)%,\"\")","v":""},{"$f":"IF(AND(I473=Labels!$B$118,WEEKDAY(I465,2)<6,I$467<>\"\"),$J$7*SUMPRODUCT(($AM$77:$AQ$77=MOD(I465,7))*$AM$72:$AQ$72)%,\"\")","v":""},{"$f":"IF(AND(J473=Labels!$B$118,WEEKDAY(J465,2)<6,J$467<>\"\"),$J$7*SUMPRODUCT(($AM$77:$AQ$77=MOD(J465,7))*$AM$72:$AQ$72)%,\"\")","v":""},{"$f":"IF(AND(K473=Labels!$B$118,WEEKDAY(K465,2)<6,K$467<>\"\"),$J$7*SUMPRODUCT(($AM$77:$AQ$77=MOD(K465,7))*$AM$72:$AQ$72)%,\"\")","v":""},{"$f":"IF(AND(L473=Labels!$B$118,WEEKDAY(L465,2)<6,L$467<>\"\"),$J$7*SUMPRODUCT(($AM$77:$AQ$77=MOD(L465,7))*$AM$72:$AQ$72)%,\"\")","v":""},{"$f":"IF(AND(M473=Labels!$B$118,WEEKDAY(M465,2)<6,M$467<>\"\"),$J$7*SUMPRODUCT(($AM$77:$AQ$77=MOD(M465,7))*$AM$72:$AQ$72)%,\"\")","v":""},{"$f":"IF(AND(N473=Labels!$B$118,WEEKDAY(N465,2)<6,N$467<>\"\"),$J$7*SUMPRODUCT(($AM$77:$AQ$77=MOD(N465,7))*$AM$72:$AQ$72)%,\"\")","v":""},{"$f":"IF(AND(O473=Labels!$B$118,WEEKDAY(O465,2)<6,O$467<>\"\"),$J$7*SUMPRODUCT(($AM$77:$AQ$77=MOD(O465,7))*$AM$72:$AQ$72)%,\"\")","v":""},{"$f":"IF(AND(P473=Labels!$B$118,WEEKDAY(P465,2)<6,P$467<>\"\"),$J$7*SUMPRODUCT(($AM$77:$AQ$77=MOD(P465,7))*$AM$72:$AQ$72)%,\"\")","v":""},{"$f":"IF(AND(Q473=Labels!$B$118,WEEKDAY(Q465,2)<6,Q$467<>\"\"),$J$7*SUMPRODUCT(($AM$77:$AQ$77=MOD(Q465,7))*$AM$72:$AQ$72)%,\"\")","v":""},{"$f":"IF(AND(R473=Labels!$B$118,WEEKDAY(R465,2)<6,R$467<>\"\"),$J$7*SUMPRODUCT(($AM$77:$AQ$77=MOD(R465,7))*$AM$72:$AQ$72)%,\"\")","v":""},{"$f":"IF(AND(S473=Labels!$B$118,WEEKDAY(S465,2)<6,S$467<>\"\"),$J$7*SUMPRODUCT(($AM$77:$AQ$77=MOD(S465,7))*$AM$72:$AQ$72)%,\"\")","v":""},{"$f":"IF(AND(T473=Labels!$B$118,WEEKDAY(T465,2)<6,T$467<>\"\"),$J$7*SUMPRODUCT(($AM$77:$AQ$77=MOD(T465,7))*$AM$72:$AQ$72)%,\"\")","v":""},{"$f":"IF(AND(U473=Labels!$B$118,WEEKDAY(U465,2)<6,U$467<>\"\"),$J$7*SUMPRODUCT(($AM$77:$AQ$77=MOD(U465,7))*$AM$72:$AQ$72)%,\"\")","v":""},{"$f":"IF(AND(V473=Labels!$B$118,WEEKDAY(V465,2)<6,V$467<>\"\"),$J$7*SUMPRODUCT(($AM$77:$AQ$77=MOD(V465,7))*$AM$72:$AQ$72)%,\"\")","v":""},{"$f":"IF(AND(W473=Labels!$B$118,WEEKDAY(W465,2)<6,W$467<>\"\"),$J$7*SUMPRODUCT(($AM$77:$AQ$77=MOD(W465,7))*$AM$72:$AQ$72)%,\"\")","v":""},{"$f":"IF(AND(X473=Labels!$B$118,WEEKDAY(X465,2)<6,X$467<>\"\"),$J$7*SUMPRODUCT(($AM$77:$AQ$77=MOD(X465,7))*$AM$72:$AQ$72)%,\"\")","v":""},{"$f":"IF(AND(Y473=Labels!$B$118,WEEKDAY(Y465,2)<6,Y$467<>\"\"),$J$7*SUMPRODUCT(($AM$77:$AQ$77=MOD(Y465,7))*$AM$72:$AQ$72)%,\"\")","v":""},{"$f":"IF(AND(Z473=Labels!$B$118,WEEKDAY(Z465,2)<6,Z$467<>\"\"),$J$7*SUMPRODUCT(($AM$77:$AQ$77=MOD(Z465,7))*$AM$72:$AQ$72)%,\"\")","v":""},{"$f":"IF(AND(AA473=Labels!$B$118,WEEKDAY(AA465,2)<6,AA$467<>\"\"),$J$7*SUMPRODUCT(($AM$77:$AQ$77=MOD(AA465,7))*$AM$72:$AQ$72)%,\"\")","v":""},{"$f":"IF(AND(AB473=Labels!$B$118,WEEKDAY(AB465,2)<6,AB$467<>\"\"),$J$7*SUMPRODUCT(($AM$77:$AQ$77=MOD(AB465,7))*$AM$72:$AQ$72)%,\"\")","v":""},{"$f":"IF(AND(AC473=Labels!$B$118,WEEKDAY(AC465,2)<6,AC$467<>\"\"),$J$7*SUMPRODUCT(($AM$77:$AQ$77=MOD(AC465,7))*$AM$72:$AQ$72)%,\"\")","v":""},{"$f":"IF(AND(AD473=Labels!$B$118,WEEKDAY(AD465,2)<6,AD$467<>\"\"),$J$7*SUMPRODUCT(($AM$77:$AQ$77=MOD(AD465,7))*$AM$72:$AQ$72)%,\"\")","v":""},{"$f":"IF(AND(AE473=Labels!$B$118,WEEKDAY(AE465,2)<6,AE$467<>\"\"),$J$7*SUMPRODUCT(($AM$77:$AQ$77=MOD(AE465,7))*$AM$72:$AQ$72)%,\"\")","v":""},{"$f":"IF(AND(AF473=Labels!$B$118,WEEKDAY(AF465,2)<6,AF$467<>\"\"),$J$7*SUMPRODUCT(($AM$77:$AQ$77=MOD(AF465,7))*$AM$72:$AQ$72)%,\"\")","v":""},{"$f":"SUM(B474:AF474)","v":0},"[06]"]
[{"$f":"$A$20","v":"total quotidien"},{"$f":"SUM(B470:B472)","v":0},{"$f":"SUM(C470:C472)","v":0},0,0,0,0,0,0,0,0,0,0,0,0,0,0,0,0,0,0,0,0,0,0,0,0,0,0,0,0,0,null,"TT"]
[{"$f":"$A$21","v":"."},null,null,null,null,null,null,null,null,null,null,null,null,null,null,null,null,null,null,null,null,null,null,null,null,null,null,null,null,null,null,null,null,"R"]
[{"$f":"$A$22","v":"."},null,null,null,null,null,null,null,null,null,null,null,null,null,null,null,null,null,null,null,null,null,null,null,null,null,null,null,null,null,null,null,null,"R"]
[{"$f":"$A$23","v":"transition mois"},{"$f":"IF(WEEKDAY(B465)=1,TEXT(B465-1,\"MMM\"&Labels!B13),\"\")","v":""},null,null,null,null,null,null,null,null,null,null,null,null,null,null,null,null,null,null,null,null,null,null,null,null,null,null,null,null,null,{"$f":"IF(AND(WEEKDAY(AF465)>1,WEEKDAY(AF465)<7),TEXT(DATE($B$5,MONTH(AF465)+1,1),\"MMM\"&Labels!B13),\"\")","v":"sept."},null,"MNT"]
[{"$f":"$A$24","v":"Total hebdomadaire"},{"$f":"IF(WEEKDAY(B465)=7,SUMIF($B401:$AF401,B466,$B410:$AF410)+SUMIF($B466:$AF466,B466,$B475:$AF475)+SUMIF($B531:$AF531,B466,$B540:$AF540),B478)","v":""},{"$f":"IF(WEEKDAY(C465)=7,SUMIF($B401:$AF401,C466,$B410:$AF410)+SUMIF($B466:$AF466,C466,$B475:$AF475)+SUMIF($B531:$AF531,C466,$B540:$AF540),\"\")","v":""},"","",0,"","","","","","",0,"","","","","","",0,"","","","","","",0,"","","","",{"$f":"IF(WEEKDAY(AF465)=7,SUMIF($B401:$AF401,AF466,$B410:$AF410)+SUMIF($B466:$AF466,AF466,$B475:$AF475)+SUMIF($B531:$AF531,AF466,$B540:$AF540),AF478)","v":"sept."},null,"WT"]
[{"$f":"$A$25","v":"Majorations temp. 1)"},{"$f":"IF(B487=\"FALSCH\",\"\",B487)","v":""},{"$f":"IF(C487=\"FALSCH\",\"\",C487)","v":""},"","","","","","","","","","","","","","","","","","","","","","","","","","","","","",{"$f":"SUM(B480:AF480)","v":0},"[07]"]
[{"$f":"$A$26","v":"Majorations temp. 2)"},{"$f":"IF((B470+B472)=0,\"\",SUM(B470,B472))","v":""},{"$f":"IF((C470+C472)=0,\"\",SUM(C470,C472))","v":""},"","","","","","","","","","","","","","","","","","","","","","","","","","","","","",0,"[08]"]
[{"$f":"$A$27","v":"Majorations temp. 3)"},{"$f":"SUM(B483:B486)","v":0},{"$f":"SUM(C483:C486)","v":0},0,0,0,0,0,0,0,0,0,0,0,0,0,0,0,0,0,0,0,0,0,0,0,0,0,0,0,0,0,0,"[09]"]
[{"$f":"$A$28","v":"Dimanche journée"},{"$f":"IF(WEEKDAY(B465)=1,B471,\"\")","v":""},{"$f":"IF(WEEKDAY(C465)=1,C471,\"\")","v":""},"","","",0,"","","","","","",0,"","","","","","",0,"","","","","","",0,"","","","",0,"[09-ST]"]
[{"$f":"$A$29","v":"Dimanche nuit"},{"$f":"IF(WEEKDAY(B465)=1,SUM(B470+B472),\"\")","v":""},{"$f":"IF(WEEKDAY(C465)=1,SUM(C470+C472),\"\")","v":""},"","","",0,"","","","","","",0,"","","","","","",0,"","","","","","",0,"","","","",0,"[09-SN]"]
[{"$f":"$A$30","v":"jf-jomajoration"},{"$f":"IF(B473=Labels!$B$118,B471,\"\")","v":""},{"$f":"IF(C473=Labels!$B$118,C471,\"\")","v":""},{"$f":"IF(D473=Labels!$B$118,D471,\"\")","v":""},{"$f":"IF(E473=Labels!$B$118,E471,\"\")","v":""},{"$f":"IF(F473=Labels!$B$118,F471,\"\")","v":""},{"$f":"IF(G473=Labels!$B$118,G471,\"\")","v":""},{"$f":"IF(H473=Labels!$B$118,H471,\"\")","v":""},{"$f":"IF(I473=Labels!$B$118,I471,\"\")","v":""},{"$f":"IF(J473=Labels!$B$118,J471,\"\")","v":""},{"$f":"IF(K473=Labels!$B$118,K471,\"\")","v":""},{"$f":"IF(L473=Labels!$B$118,L471,\"\")","v":""},{"$f":"IF(M473=Labels!$B$118,M471,\"\")","v":""},{"$f":"IF(N473=Labels!$B$118,N471,\"\")","v":""},{"$f":"IF(O473=Labels!$B$118,O471,\"\")","v":""},{"$f":"IF(P473=Labels!$B$118,P471,\"\")","v":""},{"$f":"IF(Q473=Labels!$B$118,Q471,\"\")","v":""},{"$f":"IF(R473=Labels!$B$118,R471,\"\")","v":""},{"$f":"IF(S473=Labels!$B$118,S471,\"\")","v":""},{"$f":"IF(T473=Labels!$B$118,T471,\"\")","v":""},{"$f":"IF(U473=Labels!$B$118,U471,\"\")","v":""},{"$f":"IF(V473=Labels!$B$118,V471,\"\")","v":""},{"$f":"IF(W473=Labels!$B$118,W471,\"\")","v":""},{"$f":"IF(X473=Labels!$B$118,X471,\"\")","v":""},{"$f":"IF(Y473=Labels!$B$118,Y471,\"\")","v":""},{"$f":"IF(Z473=Labels!$B$118,Z471,\"\")","v":""},{"$f":"IF(AA473=Labels!$B$118,AA471,\"\")","v":""},{"$f":"IF(AB473=Labels!$B$118,AB471,\"\")","v":""},{"$f":"IF(AC473=Labels!$B$118,AC471,\"\")","v":""},{"$f":"IF(AD473=Labels!$B$118,AD471,\"\")","v":""},{"$f":"IF(AE473=Labels!$B$118,AE471,\"\")","v":""},{"$f":"IF(AF473=Labels!$B$118,AF471,\"\")","v":""},0,"[09-FT]"]
[{"$f":"$A$31","v":"jf-numajoration"},{"$f":"IF(B473=Labels!$B$118,SUM(B470,B472),\"\")","v":""},{"$f":"IF(C473=Labels!$B$118,SUM(C470,C472),\"\")","v":""},{"$f":"IF(D473=Labels!$B$118,SUM(D470,D472),\"\")","v":""},{"$f":"IF(E473=Labels!$B$118,SUM(E470,E472),\"\")","v":""},{"$f":"IF(F473=Labels!$B$118,SUM(F470,F472),\"\")","v":""},{"$f":"IF(G473=Labels!$B$118,SUM(G470,G472),\"\")","v":""},{"$f":"IF(H473=Labels!$B$118,SUM(H470,H472),\"\")","v":""},{"$f":"IF(I473=Labels!$B$118,SUM(I470,I472),\"\")","v":""},{"$f":"IF(J473=Labels!$B$118,SUM(J470,J472),\"\")","v":""},{"$f":"IF(K473=Labels!$B$118,SUM(K470,K472),\"\")","v":""},{"$f":"IF(L473=Labels!$B$118,SUM(L470,L472),\"\")","v":""},{"$f":"IF(M473=Labels!$B$118,SUM(M470,M472),\"\")","v":""},{"$f":"IF(N473=Labels!$B$118,SUM(N470,N472),\"\")","v":""},{"$f":"IF(O473=Labels!$B$118,SUM(O470,O472),\"\")","v":""},{"$f":"IF(P473=Labels!$B$118,SUM(P470,P472),\"\")","v":""},{"$f":"IF(Q473=Labels!$B$118,SUM(Q470,Q472),\"\")","v":""},{"$f":"IF(R473=Labels!$B$118,SUM(R470,R472),\"\")","v":""},{"$f":"IF(S473=Labels!$B$118,SUM(S470,S472),\"\")","v":""},{"$f":"IF(T473=Labels!$B$118,SUM(T470,T472),\"\")","v":""},{"$f":"IF(U473=Labels!$B$118,SUM(U470,U472),\"\")","v":""},{"$f":"IF(V473=Labels!$B$118,SUM(V470,V472),\"\")","v":""},{"$f":"IF(W473=Labels!$B$118,SUM(W470,W472),\"\")","v":""},{"$f":"IF(X473=Labels!$B$118,SUM(X470,X472),\"\")","v":""},{"$f":"IF(Y473=Labels!$B$118,SUM(Y470,Y472),\"\")","v":""},{"$f":"IF(Z473=Labels!$B$118,SUM(Z470,Z472),\"\")","v":""},{"$f":"IF(AA473=Labels!$B$118,SUM(AA470,AA472),\"\")","v":""},{"$f":"IF(AB473=Labels!$B$118,SUM(AB470,AB472),\"\")","v":""},{"$f":"IF(AC473=Labels!$B$118,SUM(AC470,AC472),\"\")","v":""},{"$f":"IF(AD473=Labels!$B$118,SUM(AD470,AD472),\"\")","v":""},{"$f":"IF(AE473=Labels!$B$118,SUM(AE470,AE472),\"\")","v":""},{"$f":"IF(AF473=Labels!$B$118,SUM(AF470,AF472),\"\")","v":""},0,"[09-FN]"]
[{"$f":"$A$32","v":"majoration caché (total hebd.)"},{"$f":"IF($B462>=80,IF(OR(ISTEXT(B479),B479=\"\",B479<$B$7),\"\",ROUND(((B479-$B$7)*25%)/25,4)*25),IF(B475>($B$7/5),ROUND(((B475-($B$7/5))*25%)/25,4)*25,\"\"))","v":""},{"$f":"IF($B462>=80,IF(OR(ISTEXT(C479),C479=\"\",C479<$B$7),\"\",ROUND(((C479-$B$7)*25%)/25,4)*25),IF(C475>($B$7/5),ROUND(((C475-($B$7/5))*25%)/25,4)*25,\"\"))","v":""},"","","","","","","","","","","","","","","","","","","","","","","","","","","","","",{"$f":"AG471","v":0},"[03]"]
[null,{"$f":"$B$33","v":"1)  25% majoration temporelle pour depassement les heures maximales"},null,null,null,null,null,null,null,null,null,{"$f":"$L$33","v":"2) 100% majoration temporelle pour travail de nuit"},null,null,null,null,null,null,null,{"$f":"$T$33","v":"Saisie des heures payées l'année passée"},null,null,null,null,null,null,null,null,null,null,null,null,{"$f":"SUM(AG470+AG472)","v":0},"[4-5]"]
[null,{"$f":"$B$34","v":"3) 100% majoration temporelle pour travail du dimanche et jour férié"},null,null,null,null,null,null,null,null,null,null,null,null,null,null,null,null,null,{"$f":"$T$34","v":"Saisie des heures payées exercice en cours (heures supplémentaires)"},null,null,null,null,null,null,null,null,null,null,null,null,{"$f":"SUM(AG470:AG472)","v":0},"[3-5]"]
[{"$f":"$A$35","v":"Notes"},null,null,null,null,null,null,null,null,null,null,null,null,null,null,null,null,null,null,null,null,null,null,null,null,null,null,null,null,null,null,null,{"$f":"SUM(AG468:AG482)","v":0},"[10]"]
[null,null,null,null,null,null,null,null,null,null,null,null,null,null,null,null,null,null,null,null,null,null,null,null,null,null,null,null,null,null,null,null,{"$f":"AG467","v":184},"[00]"]
[{"$f":"IF(AG1004=0,\"\",\"effektives Pensum:  \"&ROUND(COUNT(B467:AF467)/(AG1004+COUNT(B467:AF467))%*B462%*20,0)/20&\" %\")","v":""},null,null,null,null,null,null,null,null,null,null,null,null,null,null,null,null,null,null,null,null,null,null,null,null,null,null,null,null,null,null,null,{"$f":"SUM(AG490-AG491)","v":-184},"[11]"]
[]
[{"$f":"Labels!$B$103","v":"Résumé"},null,null,null,null,null,{"$f":"Labels!$B$77","v":"Jan"},null,{"$f":"Labels!$B$78","v":"Fév"},null,{"$f":"Labels!$B$79","v":"Mar"},null,{"$f":"Labels!$B$80","v":"Avr"},null,{"$f":"Labels!$B$81","v":"Mai"},null,{"$f":"Labels!$B$82","v":"Jun"},null,{"$f":"Labels!$B$83","v":"Jul"},null,{"$f":"Labels!$B$84","v":"Aoû"},null,{"$f":"Labels!$B$85","v":"Sep"},null,{"$f":"Labels!$B$86","v":"Oct"},null,{"$f":"Labels!$B$87","v":"Nov"},null,{"$f":"Labels!$B$88","v":"Déc"},null,{"$f":"Labels!$B$101","v":"Année"}]
[{"$f":"Labels!$B$20","v":"Emploi %"},null,null,null,null,null,{"$f":"IF($B$4=0,0,$B$4)","v":100},null,{"$f":"IF($B$72=0,0,$B$72)","v":100},null,{"$f":"IF($B$137=0,0,$B$137)","v":100},null,{"$f":"IF($B$202=0,0,$B$202)","v":100},null,{"$f":"IF($B$267=0,0,$B$267)","v":100},null,{"$f":"IF($B$332=0,0,$B$332)","v":100},null,{"$f":"IF($B$397=0,0,$B$397)","v":100},null,{"$f":"IF($B$462=0,0,$B$462)","v":100},null,{"$f":"IF($B$527=0,0,$B$527)","v":100},null,{"$f":"IF($B$592=0,0,$B$592)","v":100},null,{"$f":"IF($B$657=0,0,$B$657)","v":100},null,{"$f":"IF($B$722=0,0,$B$722)","v":100}]
[{"$f":"Labels!$B$104","v":"Heures théoriques selon CCT"},null,null,null,null,null,{"$f":"IF($AG$36=0,0,$AG$36)","v":176},null,{"$f":"IF($AG$101=0,0,$AG$101)","v":160},null,{"$f":"IF($AG$142=0,0,$AG$142)","v":184},null,{"$f":"IF($AG$231=0,0,$AG$231)","v":160},null,{"$f":"IF($AG$296=0,0,$AG$296)","v":184},null,{"$f":"IF($AG$361=0,0,$AG$361)","v":176},null,{"$f":"IF($AG$426=0,0,$AG$426)","v":168},null,{"$f":"IF($AG$491=0,0,$AG$491)","v":184},null,{"$f":"IF($AG$556=0,0,$AG$556)","v":168},null,{"$f":"IF($AG$621=0,0,$AG$621)","v":176},null,{"$f":"IF($AG$686=0,0,$AG$686)","v":176},null,{"$f":"IF($AG$751=0,0,$AG$751)","v":168},null,{"$f":"SUM(G496:AD496)","v":2080}]
[{"$f":"Labels!$B$105","v":"Total heures productives"},{"$f":"Labels!$B$106","v":"06.00 - 20.00 h"},null,null,null,null,{"$f":"IF($AG$32=0,0,$AG$32)","v":0},null,{"$f":"IF($AG$97=0,0,$AG$97)","v":0},null,{"$f":"IF($AG$162=0,0,$AG$162)","v":0},null,{"$f":"IF($AG$227=0,0,$AG$227)","v":0},null,{"$f":"IF($AG$292=0,0,$AG$292)","v":0},null,{"$f":"IF($AG$357=0,0,$AG$357)","v":0},null,{"$f":"IF($AG$422=0,0,$AG$422)","v":0},null,{"$f":"IF($AG$487=0,0,$AG$487)","v":0},null,{"$f":"IF($AG$552=0,0,$AG$552)","v":0},null,{"$f":"IF($AG$617=0,0,$AG$617)","v":0},null,{"$f":"IF($AG$682=0,0,$AG$682)","v":0},null,{"$f":"IF($AG$747=0,0,$AG$747)","v":0},null,{"$f":"SUM(G497:AD497)","v":0}]
[null,{"$f":"Labels!$B$107","v":"nuit, dimanche et jour férié"},null,null,null,null,{"$f":"IF(AND($AG$33=0,$AG$18=0),0,$AG$33+$AG$18)","v":0},null,{"$f":"IF(AND($AG$98=0,$AG$83=0),0,$AG$98+$AG$83)","v":0},null,{"$f":"IF(AND($AG$163=0,$AG$148=0),0,$AG$163+$AG$148)","v":0},null,{"$f":"IF(AND($AG$228=0,$AG$213=0),0,$AG$228+$AG$213)","v":0},null,{"$f":"IF(AND($AG$293=0,$AG$278=0),0,$AG$293+$AG$278)","v":0},null,{"$f":"IF(AND($AG$358=0,$AG$343=0),0,$AG$358+$AG$343)","v":0},null,{"$f":"IF(AND($AG$423=0,$AG$408=0),0,$AG$423+$AG$408)","v":0},null,{"$f":"IF(AND($AG$488=0,$AG$473=0),0,$AG$488+$AG$473)","v":0},null,{"$f":"IF(AND($AG$553=0,$AG$538=0),0,$AG$553+$AG$538)","v":0},null,{"$f":"IF(AND($AG$618=0,$AG$603=0),0,$AG$618+$AG$603)","v":0},null,{"$f":"IF(AND($AG$683=0,$AG$668=0),0,$AG$683+$AG$668)","v":0},null,{"$f":"IF(AND($AG$748=0,$AG$733=0),0,$AG$748+$AG$733)","v":0},null,{"$f":"SUM(G498:AD498)","v":0}]
[{"$f":"Labels!$B$108","v":"Majorations temporelles"},{"$f":"Labels!$B$109","v":"depassement des heures maximales"},null,null,null,null,{"$f":"IF($AG$25=0,0,$AG$25)","v":0},null,{"$f":"IF($AG$90=0,0,$AG$90)","v":0},null,{"$f":"IF($AG$155=0,0,$AG$155)","v":0},null,{"$f":"IF($AG$220=0,0,$AG$220)","v":0},null,{"$f":"IF($AG$285=0,0,$AG$285)","v":0},null,{"$f":"IF($AG$350=0,0,$AG$350)","v":0},null,{"$f":"IF($AG$415=0,0,$AG$415)","v":0},null,{"$f":"IF($AG$480=0,0,$AG$480)","v":0},null,{"$f":"IF($AG$545=0,0,$AG$545)","v":0},null,{"$f":"IF($AG$610=0,0,$AG$610)","v":0},null,{"$f":"IF($AG$675=0,0,$AG$675)","v":0},null,{"$f":"IF($AG$740=0,0,$AG$740)","v":0},null,{"$f":"SUM(G499:AD499)","v":0}]
[null,{"$f":"Labels!$B$110","v":"nuit, dimanche et jour férié"},null,null,null,null,{"$f":"IF($AJ$23=0,0,$AJ$23)","v":0},null,{"$f":"IF($AK$23=0,0,$AK$23)","v":0},null,{"$f":"IF($AL$23=0,0,$AL$23)","v":0},null,{"$f":"IF($AM$23=0,0,$AM$23)","v":0},null,{"$f":"IF($AN$23=0,0,$AN$23)","v":0},null,{"$f":"IF($AO$23=0,0,$AO$23)","v":0},null,{"$f":"IF($AP$23=0,0,$AP$23)","v":0},null,{"$f":"IF($AQ$23=0,0,$AQ$23)","v":0},null,{"$f":"IF($AR$23=0,0,$AR$23)","v":0},null,{"$f":"IF($AS$23=0,0,$AS$23)","v":0},null,{"$f":"IF($AT$23=0,0,$AT$23)","v":0},null,{"$f":"IF($AU$23=0,0,$AU$23)","v":0},null,{"$f":"SUM(G500:AD500)","v":0}]
[{"$f":"Labels!$B$111","v":"Heures inproductives"}]
[{"$f":"Labels!$B$112","v":"   Absences art. 11 CCT"},null,null,null,null,{"$f":"Labels!$B$113","v":"ab"},{"$f":"IF($AJ$3=0,0,$AJ$3)","v":0},null,{"$f":"IF($AK$3=0,0,$AK$3)","v":0},null,{"$f":"IF($AL$3=0,0,$AL$3)","v":0},null,{"$f":"IF($AM$3=0,0,$AM$3)","v":0},null,{"$f":"IF($AN$3=0,0,$AN$3)","v":0},null,{"$f":"IF($AO$3=0,0,$AO$3)","v":0},null,{"$f":"IF($AP$3=0,0,$AP$3)","v":0},null,{"$f":"IF($AQ$3=0,0,$AQ$3)","v":0},null,{"$f":"IF($AR$3=0,0,$AR$3)","v":0},null,{"$f":"IF($AS$3=0,0,$AS$3)","v":0},null,{"$f":"IF(AT$3=0,0,$AT$3)","v":0},null,{"$f":"IF($AU$3=0,0,$AU$3)","v":0},null,{"$f":"IF($AV$3=0,0,$AV$3)","v":0}]
[{"$f":"Labels!$B$114","v":"   Vacances art. 12.1 CCT"},null,null,null,null,{"$f":"Labels!$B$115","v":"va"},{"$f":"IF($AJ$4=0,0,$AJ$4)","v":0},null,{"$f":"IF($AK$4=0,0,$AK$4)","v":0},null,{"$f":"IF($AL$4=0,0,$AL$4)","v":0},null,{"$f":"IF($AM$4=0,0,$AM$4)","v":0},null,{"$f":"IF($AN$4=0,0,$AN$4)","v":0},null,{"$f":"IF($AO$4=0,0,$AO$4)","v":0},null,{"$f":"IF($AP$4=0,0,$AP$4)","v":0},null,{"$f":"IF($AQ$4=0,0,$AQ$4)","v":0},null,{"$f":"IF($AR$4=0,0,$AR$4)","v":0},null,{"$f":"IF($AS$4=0,0,$AS$4)","v":0},null,{"$f":"IF($AT$4=0,0,$AT$4)","v":0},null,{"$f":"IF($AU$4=0,0,$AU$4)","v":0},null,{"$f":"IF($AV$4=0,0,$AV$4)","v":0}]
[{"$f":"Labels!$B$181","v":"   vacances non payées"},null,null,null,null,{"$f":"Labels!$B$182","v":"vn"},{"$f":"IF($AJ$13=0,0,$AJ$13)","v":0},null,{"$f":"IF($AK$13=0,0,$AK$13)","v":0},null,{"$f":"IF($AL$13=0,0,$AL$13)","v":0},null,{"$f":"IF($AM$13=0,0,$AM$13)","v":0},null,{"$f":"IF($AN$13=0,0,$AN$13)","v":0},null,{"$f":"IF($AO$13=0,0,$AO$13)","v":0},null,{"$f":"IF($AP$13=0,0,$AP$13)","v":0},null,{"$f":"IF($AQ$13=0,0,$AQ$13)","v":0},null,{"$f":"IF($AR$13=0,0,$AR$13)","v":0},null,{"$f":"IF($AS$13=0,0,$AS$13)","v":0},null,{"$f":"IF($AT$13=0,0,$AT$13)","v":0},null,{"$f":"IF($AU$13=0,0,$AU$13)","v":0},null,{"$f":"IF($AV$13=0,0,$AV$13)","v":0}]
[{"$f":"Labels!$B$116","v":"   Jours fériés art. 12.2 CCT"},null,{"$f":"IF($AJ$20=\"\",\"\",$AJ$20)","v":""},null,null,{"$f":"Labels!$B$118","v":"jf"},{"$f":"IF($AJ$18=0,0,$AJ$18)","v":0},null,{"$f":"IF($AK$18=0,0,$AK$18)","v":0},null,{"$f":"IF($AL$18=0,0,$AL$18)","v":0},null,{"$f":"IF($AM$18=0,0,$AM$18)","v":0},null,{"$f":"IF($AN$18=0,0,$AN$18)","v":0},null,{"$f":"IF($AO$18=0,0,$AO$18)","v":0},null,{"$f":"IF($AP$18=0,0,$AP$18)","v":0},null,{"$f":"IF($AQ$18=0,0,$AQ$18)","v":0},null,{"$f":"IF($AR$18=0,0,$AR$18)","v":0},null,{"$f":"IF($AS$18=0,0,$AS$18)","v":0},null,{"$f":"IF($AT$18=0,0,$AT$18)","v":0},null,{"$f":"IF($AU$18=0,0,$AU$18)","v":0},null,{"$f":"IF($AV$18=0,0,$AV$18)","v":0}]
[{"$f":"Labels!$B$119","v":"   Maladie art. 13 CCT"},null,null,null,null,{"$f":"Labels!$B$120","v":"ma"},{"$f":"IF($AJ$5=0,0,$AJ$5)","v":0},null,{"$f":"IF($AK$5=0,0,$AK$5)","v":0},null,{"$f":"IF($AL$5=0,0,$AL$5)","v":0},null,{"$f":"IF($AM$5=0,0,$AM$5)","v":0},null,{"$f":"IF($AN$5=0,0,$AN$5)","v":0},null,{"$f":"IF($AO$5=0,0,$AO$5)","v":0},null,{"$f":"IF($AP$5=0,0,$AP$5)","v":0},null,{"$f":"IF($AQ$5=0,0,$AQ$5)","v":0},null,{"$f":"IF($AR$5=0,0,$AR$5)","v":0},null,{"$f":"IF($AS$5=0,0,$AS$5)","v":0},null,{"$f":"IF($AT$5=0,0,$AT$5)","v":0},null,{"$f":"IF($AU$5=0,0,$AU$5)","v":0},null,{"$f":"IF($AV$5=0,0,$AV$5)","v":0}]
[{"$f":"Labels!$B$184","v":"non payeé"},null,null,null,null,null,{"$f":"IF(AJ$16=0,0,AJ$16)","v":0},null,{"$f":"IF($AK$16=0,0,$AK$16)","v":0},null,{"$f":"IF($AL$16=0,0,$AL$16)","v":0},null,{"$f":"IF($AM$16=0,0,$AM$16)","v":0},null,{"$f":"IF($AN$16=0,0,$AN$16)","v":0},null,{"$f":"IF($AO$16=0,0,$AO$16)","v":0},null,{"$f":"IF($AP$16=0,0,$AP$16)","v":0},null,{"$f":"IF($AQ$16=0,0,$AQ$16)","v":0},null,{"$f":"IF($AR$16=0,0,$AR$16)","v":0},null,{"$f":"IF($AS$16=0,0,$AS$16)","v":0},null,{"$f":"IF($AT$16=0,0,$AT$16)","v":0},null,{"$f":"IF($AU$16=0,0,$AU$16)","v":0},null,{"$f":"IF($AV$16=0,0,$AV$16)","v":0}]
[{"$f":"Labels!$B$121","v":"   Accident art. 14 CCT"},null,null,null,null,{"$f":"Labels!$B$122","v":"ac"},{"$f":"IF($AJ$6=0,0,$AJ$6)","v":0},null,{"$f":"IF($AK$6=0,0,$AK$6)","v":0},null,{"$f":"IF($AL$6=0,0,$AL$6)","v":0},null,{"$f":"IF($AM$6=0,0,$AM$6)","v":0},null,{"$f":"IF($AN$6=0,0,$AN$6)","v":0},null,{"$f":"IF($AO$6=0,0,$AO$6)","v":0},null,{"$f":"IF($AP$6=0,0,$AP$6)","v":0},null,{"$f":"IF($AQ$6=0,0,$AQ$6)","v":0},null,{"$f":"IF($AR$6=0,0,$AR$6)","v":0},null,{"$f":"IF($AS$6=0,0,$AS$6)","v":0},null,{"$f":"IF($AT$6=0,0,$AT$6)","v":0},null,{"$f":"IF($AU$6=0,0,$AU$6)","v":0},null,{"$f":"IF($AV$6=0,0,$AV$6)","v":0}]
[{"$f":"Labels!$B$123","v":"   Grossesse/Maternité art. 15 CCT"},null,null,null,null,{"$f":"Labels!$B$124","v":"gm"},{"$f":"IF($AJ$7=0,0,$AJ$7)","v":0},null,{"$f":"IF($AK$7=0,0,$AK$7)","v":0},null,{"$f":"IF($AL$7=0,0,$AL$7)","v":0},null,{"$f":"IF($AM$7=0,0,$AM$7)","v":0},null,{"$f":"IF($AN$7=0,0,$AN$7)","v":0},null,{"$f":"IF($AO$7=0,0,$AO$7)","v":0},null,{"$f":"IF($AP$7=0,0,$AP$7)","v":0},null,{"$f":"IF($AQ$7=0,0,$AQ$7)","v":0},null,{"$f":"IF($AR$7=0,0,$AR$7)","v":0},null,{"$f":"IF($AS$7=0,0,$AS$7)","v":0},null,{"$f":"IF($AT$7=0,0,$AT$7)","v":0},null,{"$f":"IF($AU$7=0,0,$AU$7)","v":0},null,{"$f":"IF($AV$7=0,0,$AV$7)","v":0}]
[{"$f":"Labels!$B$125","v":"   Militaire/Promotion/Protection civile art. 16 CCT"},null,null,null,null,{"$f":"Labels!$B$126","v":"mi"},{"$f":"IF($AJ$8=0,0,$AJ$8)","v":0},null,{"$f":"IF($AK$8=0,0,$AK$8)","v":0},null,{"$f":"IF($AL$8=0,0,$AL$8)","v":0},null,{"$f":"IF($AM$8=0,0,$AM$8)","v":0},null,{"$f":"IF($AN$8=0,0,$AN$8)","v":0},null,{"$f":"IF($AO$8=0,0,$AO$8)","v":0},null,{"$f":"IF($AP$8=0,0,$AP$8)","v":0},null,{"$f":"IF($AQ$8=0,0,$AQ$8)","v":0},null,{"$f":"IF($AR$8=0,0,$AR$8)","v":0},null,{"$f":"IF($AS$8=0,0,$AS$8)","v":0},null,{"$f":"IF($AT$8=0,0,$AT$8)","v":0},null,{"$f":"IF($AU$8=0,0,$AU$8)","v":0},null,{"$f":"IF($AV$8=0,0,$AV$8)","v":0}]
[{"$f":"Labels!$B$127","v":"   Chômage partiel et perte de travail cause d'intempéries"},null,null,null,null,{"$f":"Labels!$B$128","v":"ch"},{"$f":"IF($AJ$11=0,0,$AJ$11)","v":0},null,{"$f":"IF($AK$11=0,0,$AK$11)","v":0},null,{"$f":"IF($AL$11=0,0,$AL$11)","v":0},null,{"$f":"IF($AM$11=0,0,$AM$11)","v":0},null,{"$f":"IF($AN$11=0,0,$AN$11)","v":0},null,{"$f":"IF($AO$11=0,0,$AO$11)","v":0},null,{"$f":"IF($AP$11=0,0,$AP$11)","v":0},null,{"$f":"IF($AQ$11=0,0,$AQ$11)","v":0},null,{"$f":"IF($AR$11=0,0,$AR$11)","v":0},null,{"$f":"IF($AS$11=0,0,$AS$11)","v":0},null,{"$f":"IF($AT$11=0,0,$AT$11)","v":0},null,{"$f":"IF($AU$11=0,0,$AU$11)","v":0},null,{"$f":"IF($AV$11=0,0,$AV$11)","v":0}]
[{"$f":"Labels!$B$129","v":"   Ecole professionnelle"},null,null,null,null,{"$f":"Labels!$B$130","v":"ep"},{"$f":"IF($AJ$9=0,0,$AJ$9)","v":0},null,{"$f":"IF($AK$9=0,0,$AK$9)","v":0},null,{"$f":"IF($AL$9=0,0,$AL$9)","v":0},null,{"$f":"IF($AM$9=0,0,$AM$9)","v":0},null,{"$f":"IF($AN$9=0,0,$AN$9)","v":0},null,{"$f":"IF($AO$9=0,0,$AO$9)","v":0},null,{"$f":"IF($AP$9=0,0,$AP$9)","v":0},null,{"$f":"IF($AQ$9=0,0,$AQ$9)","v":0},null,{"$f":"IF($AR$9=0,0,$AR$9)","v":0},null,{"$f":"IF($AS$9=0,0,$AS$9)","v":0},null,{"$f":"IF($AT$9=0,0,$AT$9)","v":0},null,{"$f":"IF($AU$9=0,0,$AU$9)","v":0},null,{"$f":"IF($AV$9=0,0,$AV$9)","v":0}]
[{"$f":"Labels!$B$131","v":"   Cours"},null,null,null,null,{"$f":"Labels!$B$132","v":"co"},{"$f":"IF($AJ$10=0,0,$AJ$10)","v":0},null,{"$f":"IF($AK$10=0,0,$AK$10)","v":0},null,{"$f":"IF($AL$10=0,0,$AL$10)","v":0},null,{"$f":"IF($AM$10=0,0,$AM$10)","v":0},null,{"$f":"IF($AN$10=0,0,$AN$10)","v":0},null,{"$f":"IF($AO$10=0,0,$AO$10)","v":0},null,{"$f":"IF($AP$10=0,0,$AP$10)","v":0},null,{"$f":"IF($AQ$10=0,0,$AQ$10)","v":0},null,{"$f":"IF($AR$10=0,0,$AR$10)","v":0},null,{"$f":"IF($AS$10=0,0,$AS$10)","v":0},null,{"$f":"IF($AT$10=0,0,$AT$10)","v":0},null,{"$f":"IF($AU$10=0,0,$AU$10)","v":0},null,{"$f":"IF($AV$10=0,0,$AV$10)","v":0}]
[{"$f":"Labels!$B$133","v":"Heures de compensation"},{"$f":"Labels!$B$134","v":"de l'année passée"},null,null,null,{"$f":"Labels!$B$135","v":"cp"},{"$f":"IF($AJ$12=0,0,$AJ$12)","v":0},null,{"$f":"IF($AK$12=0,0,$AK$12)","v":0},null,{"$f":"IF($AL$12=0,0,$AL$12)","v":0},null,{"$f":"IF($AM$12=0,0,$AM$12)","v":0},null,{"$f":"IF($AN$12=0,0,$AN$12)","v":0},null,{"$f":"IF($AO$12=0,0,$AO$12)","v":0},null,{"$f":"IF($AP$12=0,0,$AP$12)","v":0},null,{"$f":"IF($AQ$12=0,0,$AQ$12)","v":0},null,{"$f":"IF($AR$12=0,0,$AR$12)","v":0},null,null,null,null,null,null,null,{"$f":"IF($AV$12=0,0,$AV$12)","v":0}]
[null,{"$f":"Labels!$B$136","v":"de l'année en cours (contrôle)"},null,null,null,{"$f":"Labels!$B$137","v":"cc"},{"$f":"IF($AJ$15=0,0,$AJ$15)","v":0},null,{"$f":"IF($AK$15=0,0,$AK$15)","v":0},null,{"$f":"IF($AL$15=0,0,$AL$15)","v":0},null,{"$f":"IF($AM$15=0,0,$AM$15)","v":0},null,{"$f":"IF($AN$15=0,0,$AN$15)","v":0},null,{"$f":"IF($AO$15=0,0,$AO$15)","v":0},null,{"$f":"IF($AP$15=0,0,$AP$15)","v":0},null,{"$f":"IF($AQ$15=0,0,$AQ$15)","v":0},null,{"$f":"IF($AR$15=0,0,$AR$15)","v":0},null,{"$f":"IF($AS$15=0,0,$AS$15)","v":0},null,{"$f":"IF($AT$15=0,0,$AT$15)","v":0},null,{"$f":"IF($AU$15=0,0,$AU$15)","v":0},null,{"$f":"IF($AV$15=0,0,$AV$15)","v":0}]
[{"$f":"Labels!$B$138","v":"Paiement des heures"},{"$f":"Labels!$B$139","v":"de l'année passée"},null,null,null,null,{"$f":"IF($AJ$21=0,0,$AJ$21)","v":0},null,{"$f":"IF($AK$21=0,0,$AK$21)","v":0},null,{"$f":"IF($AL$21=0,0,$AL$21)","v":0},null,{"$f":"IF($AM$21=0,0,$AM$21)","v":0},null,{"$f":"IF($AN$21=0,0,$AN$21)","v":0},null,{"$f":"IF($AO$21=0,0,$AO$21)","v":0},null,{"$f":"IF($AP$21=0,0,$AP$21)","v":0},null,{"$f":"IF($AQ$21=0,0,$AQ$21)","v":0},null,{"$f":"IF($AR$21=0,0,$AR$21)","v":0},null,null,null,null,null,null,null,{"$f":"IF($AV$21=0,0,$AV$21)","v":0}]
[{"$f":"Labels!$B$140","v":"Différence en heures"},{"$f":"Labels!$B$141","v":"après compensation et paiement"},null,null,null,null,{"$f":"IF(ROUND($P$4,3)=0,0,$P$4-G514-G516)","v":0},null,{"$f":"IF(ROUND(G517,3)=0,0,G517-(SUM(I514+I516)))","v":0},null,{"$f":"IF(ROUND(I517,3)=0,0,I517-K516-K514)","v":0},null,{"$f":"IF(ROUND(K517,3)=0,0,K517-(SUM(M516+M514)))","v":0},null,{"$f":"IF(ROUND(M517,3)=0,0,M517-(SUM(O516+O514)))","v":0},null,{"$f":"IF(ROUND(O517,3)=0,0,O517-(SUM(Q516+Q514)))","v":0},null,{"$f":"IF(ROUND(Q517,3)=0,0,Q517-(SUM(S516+S514)))","v":0},null,{"$f":"IF(ROUND(S517,3)=0,0,S517-(SUM(U516+U514)))","v":0},null,{"$f":"IF(ROUND(U517,3)=0,0,U517-(SUM(W516+W514)))","v":0},null,{"$f":"IF($W$62<0.1,\"\",AY499)","v":""}]
[{"$f":"Labels!$B$138","v":"Paiement des heures"},{"$f":"Labels!$B$142","v":"de l'année en cours"},null,null,null,null,{"$f":"IF($AJ$22=0,0,$AJ$22)","v":0},null,{"$f":"IF($AK$22=0,0,$AK$22)","v":0},null,{"$f":"IF($AL$22=0,0,$AL$22)","v":0},null,{"$f":"IF($AM$22=0,0,$AM$22)","v":0},null,{"$f":"IF($AN$22=0,0,$AN$22)","v":0},null,{"$f":"IF($AO$22=0,0,$AO$22)","v":0},null,{"$f":"IF($AP$22=0,0,$AP$22)","v":0},null,{"$f":"IF($AQ$22=0,0,$AQ$22)","v":0},null,{"$f":"IF($AR$22=0,0,$AR$22)","v":0},null,{"$f":"IF($AS$22=0,0,$AS$22)","v":0},null,{"$f":"IF($AT$22=0,0,$AT$22)","v":0},null,{"$f":"IF($AU$22=0,0,$AU$22)","v":0},null,{"$f":"IF($AV$22=0,0,$AV$22)","v":0}]
[{"$f":"Labels!$B$143","v":"Heures manquantes"},{"$f":"Labels!$B$144","v":"de l'année en cours (contrôle)"},null,null,null,{"$f":"Labels!$B$145","v":"hm"},{"$f":"IF($AJ$14=0,0,$AJ$14)","v":0},null,{"$f":"IF($AK$14=0,0,$AK$14)","v":0},null,{"$f":"IF($AL$14=0,0,$AL$14)","v":0},null,{"$f":"IF($AM$14=0,0,$AM$14)","v":0},null,{"$f":"IF($AN$14=0,0,$AN$14)","v":0},null,{"$f":"IF($AO$14=0,0,$AO$14)","v":0},null,{"$f":"IF($AP$14=0,0,$AP$14)","v":0},null,{"$f":"IF($AQ$14=0,0,$AQ$14)","v":0},null,{"$f":"IF($AR$14=0,0,$AR$14)","v":0},null,{"$f":"IF($AS$14=0,0,$AS$14)","v":0},null,{"$f":"IF($AT$14=0,0,$AT$14)","v":0},null,{"$f":"IF($AU$14=0,0,$AU$14)","v":0},null,{"$f":"IF($AV$14=0,0,$AV$14)","v":0}]
[{"$f":"Labels!$B$146","v":"Total (majorations inclus)"},{"$f":"Labels!$B$147","v":"heures productives et inproductives"},null,null,null,null,{"$f":"IF($AG$35=0,0,$AG$35)","v":0},null,{"$f":"IF($AG$100=0,0,$AG$100)","v":0},null,{"$f":"IF($AG$165=0,0,$AG$165)","v":0},null,{"$f":"IF($AG$230=0,0,$AG$230)","v":0},null,{"$f":"IF($AG$295=0,0,$AG$295)","v":0},null,{"$f":"IF($AG$360=0,0,$AG$360)","v":0},null,{"$f":"IF($AG$425=0,0,$AG$425)","v":0},null,{"$f":"IF($AG$490=0,0,$AG$490)","v":0},null,{"$f":"IF($AG$555=0,0,$AG$555)","v":0},null,{"$f":"IF($AG$620=0,0,$AG$620)","v":0},null,{"$f":"IF($AG$685=0,0,$AG$685)","v":0},null,{"$f":"IF($AG$750=0,0,$AG$750)","v":0},null,{"$f":"SUM($G$65:$AD$65)","v":0}]
[{"$f":"Labels!$B$148","v":"Comparaison des heures"},{"$f":"Labels!$B$149","v":"aux heures théorique CCT (heures \nmanquantes de l'année passée incl.)"},null,null,null,null,{"$f":"IF($AG$37=0,0,$AG$37)-$AE$34+$P$5","v":-176},null,{"$f":"IF($AG$102=0,0,$AG$102)-$AE$99","v":-160},null,{"$f":"IF($AG$167=0,0,$AG$167)-$AE$164","v":-184},null,{"$f":"IF($AG$232=0,0,$AG$232)-$AE$229","v":-160},null,{"$f":"IF($AG$297=0,0,$AG$297)-$AE$294","v":-184},null,{"$f":"IF($AG$362=0,0,$AG$362)-$AE$359","v":-176},null,{"$f":"IF($AG$427=0,0,$AG$427)-$AE$424","v":-168},null,{"$f":"IF($AG$492=0,0,$AG$492)-$AE$489","v":-184},null,{"$f":"IF($AG$557=0,0,$AG$557)-$AE$554","v":-168},null,{"$f":"IF($AG$622=0,0,$AG$622)-$AE$619","v":-176},null,{"$f":"IF($AG$687=0,0,$AG$687)-$AE$684","v":-176},null,{"$f":"IF($AG$752=0,0,$AG$752)-$AE$749","v":-168},null,{"$f":"SUM($G$66:$AD$66)","v":-2080}]
[null,{"$f":"Labels!$B$151","v":"aux heures théorique (cumulées)"},null,null,null,null,{"$f":"IF(G495=0,0,$G$66)","v":-176},null,{"$f":"IF(I495=0,0,SUM($G$66:$J$66))","v":-336},null,{"$f":"IF(K495=0,0,SUM($G$66:$L$66))","v":-520},null,{"$f":"IF(M495=0,0,SUM($G$66:$N$66))","v":-680},null,{"$f":"IF(O495=0,0,SUM($G$66:$P$66))","v":-864},null,{"$f":"IF(Q495=0,0,SUM($G$66:$R$66))","v":-1040},null,{"$f":"IF(S495=0,0,SUM($G$66:$T$66))","v":-1208},null,{"$f":"IF(U495=0,0,SUM($G$66:$V$66))","v":-1392},null,{"$f":"IF(W495=0,0,SUM($G$66:$X$66))","v":-1560},null,{"$f":"IF(Y495=0,0,SUM($G$66:$Z$66))","v":-1736},null,{"$f":"IF(AA495=0,0,SUM($G$66:$AB$66))","v":-1912},null,{"$f":"IF(AC495=0,0,SUM($G$66:$AD$66))","v":-2080}]
[{"$f":"Labels!$B$153","v":"Vacances (contrôle)"},{"$f":"Labels!$B$154","v":"Vacances année passée"},null,null,null,null,{"$f":"IF($AA$4=0,0,$AA$4)","v":0},null,{"$f":"Labels!$B$155","v":"Vacances selon \nart 12.1 CCT"},null,null,null,{"$f":"IF($AA$5=0,0,$AA$5)","v":0},null,{"$f":"Labels!$B$156","v":"Total des vacances"},null,null,null,{"$f":"SUM(G523+M523)","v":0},null,{"$f":"Labels!$B$157","v":"Vacances prises"},null,null,null,{"$f":"IF($AV$4=0,0,$AV$4)","v":0},null,{"$f":"Labels!$B$158","v":"Vacances restantes"},null,null,null,{"$f":"IF(S523=0,0,S523-Y523)","v":0}]
[]
[]
[{"$f":"$A$3","v":"Nom/Prénom"},{"$f":"IF($B$3=\"\",\"\",$B$3)","v":"Modèle Pierre"},null,null,null,null,null,null,null,null,null,null,null,null,null,null,null,null,null,null,null,null,null,null,null,null,null,null,null,null,null,{"$f":"AF3","v":0}]
[{"$f":"$A$4","v":"Emploi %"},{"$f":"$AL$56","v":100},null,{"$f":"Labels!B97","v":"en septembre"}]
[{"$f":"$A$5","v":"Solde année en cours"},null,null,{"$f":"IF($AE$66=0,0,$AE$66)","v":-2080}]
[{"$f":"TEXT(DATE(YEAR(AP29),MONTH(AP29)+8,1),\"MMMM\"&Labels!B13)","v":"septembre"},{"$f":"$B$9","v":"Solde mois + / -"},null,null,null,{"$f":"(AG532-(SUM(AG533:AG547)-AE554))*-1","v":-168},null,null,null,null,{"$f":"$K$9","v":" = "},{"$f":"$L$9","v":"Les cases marquées en jaune doivent être remplies (les autres seront calculées automatiquement)"},null,null,null,null,null,null,null,null,null,null,null,null,null,null,null,null,null,null,null,null,{"$f":"COUNT(B532:AF532)&\" \"&Labels!$B$63","v":"21 Jours"}]
[{"$f":"$A$10","v":"Jour"},{"$f":"AF465+1","v":"2023-09-01"},{"$f":"B530+1","v":"2023-09-02"},{"$f":"C530+1","v":"2023-09-03"},"2023-09-04","2023-09-05","2023-09-06","2023-09-07","2023-09-08","2023-09-09","2023-09-10","2023-09-11","2023-09-12","2023-09-13","2023-09-14","2023-09-15","2023-09-16","2023-09-17","2023-09-18","2023-09-19","2023-09-20","2023-09-21","2023-09-22","2023-09-23","2023-09-24","2023-09-25","2023-09-26","2023-09-27","2023-09-28","2023-09-29","2023-09-30"]
[{"$f":"$A$11","v":"semaine civile"},{"$f":"IF(B530=\"\",\"\",TRUNC((B530-DATE(YEAR(B530+3-MOD(B530-2,7)),1,MOD(B530-2,7)-9))/7))","v":35},35,35,36,36,36,36,36,36,36,37,37,37,37,37,37,37,38,38,38,38,38,38,38,39,39,39,39,39,39,"",null,"Woche"]
[{"$f":"$A$12","v":"Théorique sel. CCT"},{"$f":"IF(AND(MOD(B530,7)>=2,SUMPRODUCT(($AM$60:$AQ$60=MOD(B530,7))*$AM$56:$AQ$56),B1029=\"\"),$J$7*SUMPRODUCT(($AM$77:$AQ$77=MOD(B530,7))*$AM$73:$AQ$73)%,\"\")","v":8},{"$f":"IF(AND(MOD(C530,7)>=2,SUMPRODUCT(($AM$60:$AQ$60=MOD(C530,7))*$AM$56:$AQ$56),C1029=\"\"),$J$7*SUMPRODUCT(($AM$77:$AQ$77=MOD(C530,7))*$AM$73:$AQ$73)%,\"\")","v":""},{"$f":"IF(AND(MOD(D530,7)>=2,SUMPRODUCT(($AM$60:$AQ$60=MOD(D530,7))*$AM$56:$AQ$56),D1029=\"\"),$J$7*SUMPRODUCT(($AM$77:$AQ$77=MOD(D530,7))*$AM$73:$AQ$73)%,\"\")","v":""},{"$f":"IF(AND(MOD(E530,7)>=2,SUMPRODUCT(($AM$60:$AQ$60=MOD(E530,7))*$AM$56:$AQ$56),E1029=\"\"),$J$7*SUMPRODUCT(($AM$77:$AQ$77=MOD(E530,7))*$AM$73:$AQ$73)%,\"\")","v":8},{"$f":"IF(AND(MOD(F530,7)>=2,SUMPRODUCT(($AM$60:$AQ$60=MOD(F530,7))*$AM$56:$AQ$56),F1029=\"\"),$J$7*SUMPRODUCT(($AM$77:$AQ$77=MOD(F530,7))*$AM$73:$AQ$73)%,\"\")","v":8},{"$f":"IF(AND(MOD(G530,7)>=2,SUMPRODUCT(($AM$60:$AQ$60=MOD(G530,7))*$AM$56:$AQ$56),G1029=\"\"),$J$7*SUMPRODUCT(($AM$77:$AQ$77=MOD(G530,7))*$AM$73:$AQ$73)%,\"\")","v":8},{"$f":"IF(AND(MOD(H530,7)>=2,SUMPRODUCT(($AM$60:$AQ$60=MOD(H530,7))*$AM$56:$AQ$56),H1029=\"\"),$J$7*SUMPRODUCT(($AM$77:$AQ$77=MOD(H530,7))*$AM$73:$AQ$73)%,\"\")","v":8},{"$f":"IF(AND(MOD(I530,7)>=2,SUMPRODUCT(($AM$60:$AQ$60=MOD(I530,7))*$AM$56:$AQ$56),I1029=\"\"),$J$7*SUMPRODUCT(($AM$77:$AQ$77=MOD(I530,7))*$AM$73:$AQ$73)%,\"\")","v":8},{"$f":"IF(AND(MOD(J530,7)>=2,SUMPRODUCT(($AM$60:$AQ$60=MOD(J530,7))*$AM$56:$AQ$56),J1029=\"\"),$J$7*SUMPRODUCT(($AM$77:$AQ$77=MOD(J530,7))*$AM$73:$AQ$73)%,\"\")","v":""},{"$f":"IF(AND(MOD(K530,7)>=2,SUMPRODUCT(($AM$60:$AQ$60=MOD(K530,7))*$AM$56:$AQ$56),K1029=\"\"),$J$7*SUMPRODUCT(($AM$77:$AQ$77=MOD(K530,7))*$AM$73:$AQ$73)%,\"\")","v":""},{"$f":"IF(AND(MOD(L530,7)>=2,SUMPRODUCT(($AM$60:$AQ$60=MOD(L530,7))*$AM$56:$AQ$56),L1029=\"\"),$J$7*SUMPRODUCT(($AM$77:$AQ$77=MOD(L530,7))*$AM$73:$AQ$73)%,\"\")","v":8},{"$f":"IF(AND(MOD(M530,7)>=2,SUMPRODUCT(($AM$60:$AQ$60=MOD(M530,7))*$AM$56:$AQ$56),M1029=\"\"),$J$7*SUMPRODUCT(($AM$77:$AQ$77=MOD(M530,7))*$AM$73:$AQ$73)%,\"\")","v":8},{"$f":"IF(AND(MOD(N530,7)>=2,SUMPRODUCT(($AM$60:$AQ$60=MOD(N530,7))*$AM$56:$AQ$56),N1029=\"\"),$J$7*SUMPRODUCT(($AM$77:$AQ$77=MOD(N530,7))*$AM$73:$AQ$73)%,\"\")","v":8},{"$f":"IF(AND(MOD(O530,7)>=2,SUMPRODUCT(($AM$60:$AQ$60=MOD(O530,7))*$AM$56:$AQ$56),O1029=\"\"),$J$7*SUMPRODUCT(($AM$77:$AQ$77=MOD(O530,7))*$AM$73:$AQ$73)%,\"\")","v":8},{"$f":"IF(AND(MOD(P530,7)>=2,SUMPRODUCT(($AM$60:$AQ$60=MOD(P530,7))*$AM$56:$AQ$56),P1029=\"\"),$J$7*SUMPRODUCT(($AM$77:$AQ$77=MOD(P530,7))*$AM$73:$AQ$73)%,\"\")","v":8},{"$f":"IF(AND(MOD(Q530,7)>=2,SUMPRODUCT(($AM$60:$AQ$60=MOD(Q530,7))*$AM$56:$AQ$56),Q1029=\"\"),$J$7*SUMPRODUCT(($AM$77:$AQ$77=MOD(Q530,7))*$AM$73:$AQ$73)%,\"\")","v":""},{"$f":"IF(AND(MOD(R530,7)>=2,SUMPRODUCT(($AM$60:$AQ$60=MOD(R530,7))*$AM$56:$AQ$56),R1029=\"\"),$J$7*SUMPRODUCT(($AM$77:$AQ$77=MOD(R530,7))*$AM$73:$AQ$73)%,\"\")","v":""},{"$f":"IF(AND(MOD(S530,7)>=2,SUMPRODUCT(($AM$60:$AQ$60=MOD(S530,7))*$AM$56:$AQ$56),S1029=\"\"),$J$7*SUMPRODUCT(($AM$77:$AQ$77=MOD(S530,7))*$AM$73:$AQ$73)%,\"\")","v":8},{"$f":"IF(AND(MOD(T530,7)>=2,SUMPRODUCT(($AM$60:$AQ$60=MOD(T530,7))*$AM$56:$AQ$56),T1029=\"\"),$J$7*SUMPRODUCT(($AM$77:$AQ$77=MOD(T530,7))*$AM$73:$AQ$73)%,\"\")","v":8},{"$f":"IF(AND(MOD(U530,7)>=2,SUMPRODUCT(($AM$60:$AQ$60=MOD(U530,7))*$AM$56:$AQ$56),U1029=\"\"),$J$7*SUMPRODUCT(($AM$77:$AQ$77=MOD(U530,7))*$AM$73:$AQ$73)%,\"\")","v":8},{"$f":"IF(AND(MOD(V530,7)>=2,SUMPRODUCT(($AM$60:$AQ$60=MOD(V530,7))*$AM$56:$AQ$56),V1029=\"\"),$J$7*SUMPRODUCT(($AM$77:$AQ$77=MOD(V530,7))*$AM$73:$AQ$73)%,\"\")","v":8},{"$f":"IF(AND(MOD(W530,7)>=2,SUMPRODUCT(($AM$60:$AQ$60=MOD(W530,7))*$AM$56:$AQ$56),W1029=\"\"),$J$7*SUMPRODUCT(($AM$77:$AQ$77=MOD(W530,7))*$AM$73:$AQ$73)%,\"\")","v":8},{"$f":"IF(AND(MOD(X530,7)>=2,SUMPRODUCT(($AM$60:$AQ$60=MOD(X530,7))*$AM$56:$AQ$56),X1029=\"\"),$J$7*SUMPRODUCT(($AM$77:$AQ$77=MOD(X530,7))*$AM$73:$AQ$73)%,\"\")","v":""},{"$f":"IF(AND(MOD(Y530,7)>=2,SUMPRODUCT(($AM$60:$AQ$60=MOD(Y530,7))*$AM$56:$AQ$56),Y1029=\"\"),$J$7*SUMPRODUCT(($AM$77:$AQ$77=MOD(Y530,7))*$AM$73:$AQ$73)%,\"\")","v":""},{"$f":"IF(AND(MOD(Z530,7)>=2,SUMPRODUCT(($AM$60:$AQ$60=MOD(Z530,7))*$AM$56:$AQ$56),Z1029=\"\"),$J$7*SUMPRODUCT(($AM$77:$AQ$77=MOD(Z530,7))*$AM$73:$AQ$73)%,\"\")","v":8},{"$f":"IF(AND(MOD(AA530,7)>=2,SUMPRODUCT(($AM$60:$AQ$60=MOD(AA530,7))*$AM$56:$AQ$56),AA1029=\"\"),$J$7*SUMPRODUCT(($AM$77:$AQ$77=MOD(AA530,7))*$AM$73:$AQ$73)%,\"\")","v":8},{"$f":"IF(AND(MOD(AB530,7)>=2,SUMPRODUCT(($AM$60:$AQ$60=MOD(AB530,7))*$AM$56:$AQ$56),AB1029=\"\"),$J$7*SUMPRODUCT(($AM$77:$AQ$77=MOD(AB530,7))*$AM$73:$AQ$73)%,\"\")","v":8},{"$f":"IF(AND(MOD(AC530,7)>=2,SUMPRODUCT(($AM$60:$AQ$60=MOD(AC530,7))*$AM$56:$AQ$56),AC1029=\"\"),$J$7*SUMPRODUCT(($AM$77:$AQ$77=MOD(AC530,7))*$AM$73:$AQ$73)%,\"\")","v":8},{"$f":"IF(AND(MOD(AD530,7)>=2,SUMPRODUCT(($AM$60:$AQ$60=MOD(AD530,7))*$AM$56:$AQ$56),AD1029=\"\"),$J$7*SUMPRODUCT(($AM$77:$AQ$77=MOD(AD530,7))*$AM$73:$AQ$73)%,\"\")","v":8},{"$f":"IF(AND(MOD(AE530,7)>=2,SUMPRODUCT(($AM$60:$AQ$60=MOD(AE530,7))*$AM$56:$AQ$56),AE1029=\"\"),$J$7*SUMPRODUCT(($AM$77:$AQ$77=MOD(AE530,7))*$AM$73:$AQ$73)%,\"\")","v":""},null,{"$f":"SUM(B532:AF532)","v":168},"[00]"]
[{"$f":"$A$13","v":"Absences"},{"$f":"B1045","v":0},{"$f":"C1045","v":0},0,0,0,0,0,0,0,0,0,0,0,0,0,0,0,0,0,0,0,0,0,0,0,0,0,0,0,0,null,{"$f":"SUM($AR$3:$AR$13)","v":0},"[01]"]
[{"$f":"$A$14","v":"Code"},{"$f":"IF(SUM(B1032:B1044)<>0,IF(MAX(B1032:B1044)<B1045,Labels!$B$163,INDEX($AH$1032:$AH$1044,MATCH(MAX(B1032:B1044),B1032:B1044,0))),\"\")","v":""},{"$f":"IF(SUM(C1032:C1044)<>0,IF(MAX(C1032:C1044)<C1045,Labels!$B$163,INDEX($AH$1032:$AH$1044,MATCH(MAX(C1032:C1044),C1032:C1044,0))),\"\")","v":""},{"$f":"IF(SUM(D1032:D1044)<>0,IF(MAX(D1032:D1044)<D1045,Labels!$B$163,INDEX($AH$1032:$AH$1044,MATCH(MAX(D1032:D1044),D1032:D1044,0))),\"\")","v":""},{"$f":"IF(SUM(E1032:E1044)<>0,IF(MAX(E1032:E1044)<E1045,Labels!$B$163,INDEX($AH$1032:$AH$1044,MATCH(MAX(E1032:E1044),E1032:E1044,0))),\"\")","v":""},{"$f":"IF(SUM(F1032:F1044)<>0,IF(MAX(F1032:F1044)<F1045,Labels!$B$163,INDEX($AH$1032:$AH$1044,MATCH(MAX(F1032:F1044),F1032:F1044,0))),\"\")","v":""},{"$f":"IF(SUM(G1032:G1044)<>0,IF(MAX(G1032:G1044)<G1045,Labels!$B$163,INDEX($AH$1032:$AH$1044,MATCH(MAX(G1032:G1044),G1032:G1044,0))),\"\")","v":""},{"$f":"IF(SUM(H1032:H1044)<>0,IF(MAX(H1032:H1044)<H1045,Labels!$B$163,INDEX($AH$1032:$AH$1044,MATCH(MAX(H1032:H1044),H1032:H1044,0))),\"\")","v":""},{"$f":"IF(SUM(I1032:I1044)<>0,IF(MAX(I1032:I1044)<I1045,Labels!$B$163,INDEX($AH$1032:$AH$1044,MATCH(MAX(I1032:I1044),I1032:I1044,0))),\"\")","v":""},{"$f":"IF(SUM(J1032:J1044)<>0,IF(MAX(J1032:J1044)<J1045,Labels!$B$163,INDEX($AH$1032:$AH$1044,MATCH(MAX(J1032:J1044),J1032:J1044,0))),\"\")","v":""},{"$f":"IF(SUM(K1032:K1044)<>0,IF(MAX(K1032:K1044)<K1045,Labels!$B$163,INDEX($AH$1032:$AH$1044,MATCH(MAX(K1032:K1044),K1032:K1044,0))),\"\")","v":""},{"$f":"IF(SUM(L1032:L1044)<>0,IF(MAX(L1032:L1044)<L1045,Labels!$B$163,INDEX($AH$1032:$AH$1044,MATCH(MAX(L1032:L1044),L1032:L1044,0))),\"\")","v":""},{"$f":"IF(SUM(M1032:M1044)<>0,IF(MAX(M1032:M1044)<M1045,Labels!$B$163,INDEX($AH$1032:$AH$1044,MATCH(MAX(M1032:M1044),M1032:M1044,0))),\"\")","v":""},{"$f":"IF(SUM(N1032:N1044)<>0,IF(MAX(N1032:N1044)<N1045,Labels!$B$163,INDEX($AH$1032:$AH$1044,MATCH(MAX(N1032:N1044),N1032:N1044,0))),\"\")","v":""},{"$f":"IF(SUM(O1032:O1044)<>0,IF(MAX(O1032:O1044)<O1045,Labels!$B$163,INDEX($AH$1032:$AH$1044,MATCH(MAX(O1032:O1044),O1032:O1044,0))),\"\")","v":""},{"$f":"IF(SUM(P1032:P1044)<>0,IF(MAX(P1032:P1044)<P1045,Labels!$B$163,INDEX($AH$1032:$AH$1044,MATCH(MAX(P1032:P1044),P1032:P1044,0))),\"\")","v":""},{"$f":"IF(SUM(Q1032:Q1044)<>0,IF(MAX(Q1032:Q1044)<Q1045,Labels!$B$163,INDEX($AH$1032:$AH$1044,MATCH(MAX(Q1032:Q1044),Q1032:Q1044,0))),\"\")","v":""},{"$f":"IF(SUM(R1032:R1044)<>0,IF(MAX(R1032:R1044)<R1045,Labels!$B$163,INDEX($AH$1032:$AH$1044,MATCH(MAX(R1032:R1044),R1032:R1044,0))),\"\")","v":""},{"$f":"IF(SUM(S1032:S1044)<>0,IF(MAX(S1032:S1044)<S1045,Labels!$B$163,INDEX($AH$1032:$AH$1044,MATCH(MAX(S1032:S1044),S1032:S1044,0))),\"\")","v":""},{"$f":"IF(SUM(T1032:T1044)<>0,IF(MAX(T1032:T1044)<T1045,Labels!$B$163,INDEX($AH$1032:$AH$1044,MATCH(MAX(T1032:T1044),T1032:T1044,0))),\"\")","v":""},{"$f":"IF(SUM(U1032:U1044)<>0,IF(MAX(U1032:U1044)<U1045,Labels!$B$163,INDEX($AH$1032:$AH$1044,MATCH(MAX(U1032:U1044),U1032:U1044,0))),\"\")","v":""},{"$f":"IF(SUM(V1032:V1044)<>0,IF(MAX(V1032:V1044)<V1045,Labels!$B$163,INDEX($AH$1032:$AH$1044,MATCH(MAX(V1032:V1044),V1032:V1044,0))),\"\")","v":""},{"$f":"IF(SUM(W1032:W1044)<>0,IF(MAX(W1032:W1044)<W1045,Labels!$B$163,INDEX($AH$1032:$AH$1044,MATCH(MAX(W1032:W1044),W1032:W1044,0))),\"\")","v":""},{"$f":"IF(SUM(X1032:X1044)<>0,IF(MAX(X1032:X1044)<X1045,Labels!$B$163,INDEX($AH$1032:$AH$1044,MATCH(MAX(X1032:X1044),X1032:X1044,0))),\"\")","v":""},{"$f":"IF(SUM(Y1032:Y1044)<>0,IF(MAX(Y1032:Y1044)<Y1045,Labels!$B$163,INDEX($AH$1032:$AH$1044,MATCH(MAX(Y1032:Y1044),Y1032:Y1044,0))),\"\")","v":""},{"$f":"IF(SUM(Z1032:Z1044)<>0,IF(MAX(Z1032:Z1044)<Z1045,Labels!$B$163,INDEX($AH$1032:$AH$1044,MATCH(MAX(Z1032:Z1044),Z1032:Z1044,0))),\"\")","v":""},{"$f":"IF(SUM(AA1032:AA1044)<>0,IF(MAX(AA1032:AA1044)<AA1045,Labels!$B$163,INDEX($AH$1032:$AH$1044,MATCH(MAX(AA1032:AA1044),AA1032:AA1044,0))),\"\")","v":""},{"$f":"IF(SUM(AB1032:AB1044)<>0,IF(MAX(AB1032:AB1044)<AB1045,Labels!$B$163,INDEX($AH$1032:$AH$1044,MATCH(MAX(AB1032:AB1044),AB1032:AB1044,0))),\"\")","v":""},{"$f":"IF(SUM(AC1032:AC1044)<>0,IF(MAX(AC1032:AC1044)<AC1045,Labels!$B$163,INDEX($AH$1032:$AH$1044,MATCH(MAX(AC1032:AC1044),AC1032:AC1044,0))),\"\")","v":""},{"$f":"IF(SUM(AD1032:AD1044)<>0,IF(MAX(AD1032:AD1044)<AD1045,Labels!$B$163,INDEX($AH$1032:$AH$1044,MATCH(MAX(AD1032:AD1044),AD1032:AD1044,0))),\"\")","v":""},{"$f":"IF(SUM(AE1032:AE1044)<>0,IF(MAX(AE1032:AE1044)<AE1045,Labels!$B$163,INDEX($AH$1032:$AH$1044,MATCH(MAX(AE1032:AE1044),AE1032:AE1044,0))),\"\")","v":""},null,{"$f":"$AR$16*-1","v":0},"[02]"]
[{"$f":"$A$15","v":"00h00-06h00 1)"},null,null,null,null,null,null,null,null,null,null,null,null,null,null,null,null,null,null,null,null,null,null,null,null,null,null,null,null,null,null,null,{"$f":"SUM(B535:AF535)","v":0},"[04]"]
[{"$f":"$A$16","v":"06h00-20h00 2)"},null,null,null,null,null,null,null,null,null,null,null,null,null,null,null,null,null,null,null,null,null,null,null,null,null,null,null,null,null,null,null,{"$f":"SUMPRODUCT(B536:AF536*(B532:AF532<>\"\"))-SUMPRODUCT(B536:AF536*(B538:AF538=\"ft\"))","v":0},"[03]"]
[{"$f":"$A$17","v":"20h00-24h00 3)"},null,null,null,null,null,null,null,null,null,null,null,null,null,null,null,null,null,null,null,null,null,null,null,null,null,null,null,null,null,null,null,{"$f":"SUM(B537:AF537)","v":0},"[05]"]
[{"$f":"$A$18","v":"Jours fériés \"jf\""},{"$f":"IF(WEEKDAY(B530,2)<=6,IF(CALENDRIER!E19=\"x\",Labels!$B$118,\"\"),\"\")","v":""},{"$f":"IF(WEEKDAY(C530,2)<=6,IF(CALENDRIER!F19=\"x\",Labels!$B$118,\"\"),\"\")","v":""},{"$f":"IF(WEEKDAY(D530,2)<=6,IF(CALENDRIER!G19=\"x\",Labels!$B$118,\"\"),\"\")","v":""},{"$f":"IF(WEEKDAY(E530,2)<=6,IF(CALENDRIER!H19=\"x\",Labels!$B$118,\"\"),\"\")","v":""},{"$f":"IF(WEEKDAY(F530,2)<=6,IF(CALENDRIER!I19=\"x\",Labels!$B$118,\"\"),\"\")","v":""},{"$f":"IF(WEEKDAY(G530,2)<=6,IF(CALENDRIER!J19=\"x\",Labels!$B$118,\"\"),\"\")","v":""},{"$f":"IF(WEEKDAY(H530,2)<=6,IF(CALENDRIER!K19=\"x\",Labels!$B$118,\"\"),\"\")","v":""},{"$f":"IF(WEEKDAY(I530,2)<=6,IF(CALENDRIER!L19=\"x\",Labels!$B$118,\"\"),\"\")","v":""},{"$f":"IF(WEEKDAY(J530,2)<=6,IF(CALENDRIER!M19=\"x\",Labels!$B$118,\"\"),\"\")","v":""},{"$f":"IF(WEEKDAY(K530,2)<=6,IF(CALENDRIER!N19=\"x\",Labels!$B$118,\"\"),\"\")","v":""},{"$f":"IF(WEEKDAY(L530,2)<=6,IF(CALENDRIER!O19=\"x\",Labels!$B$118,\"\"),\"\")","v":""},{"$f":"IF(WEEKDAY(M530,2)<=6,IF(CALENDRIER!P19=\"x\",Labels!$B$118,\"\"),\"\")","v":""},{"$f":"IF(WEEKDAY(N530,2)<=6,IF(CALENDRIER!Q19=\"x\",Labels!$B$118,\"\"),\"\")","v":""},{"$f":"IF(WEEKDAY(O530,2)<=6,IF(CALENDRIER!R19=\"x\",Labels!$B$118,\"\"),\"\")","v":""},{"$f":"IF(WEEKDAY(P530,2)<=6,IF(CALENDRIER!S19=\"x\",Labels!$B$118,\"\"),\"\")","v":""},{"$f":"IF(WEEKDAY(Q530,2)<=6,IF(CALENDRIER!T19=\"x\",Labels!$B$118,\"\"),\"\")","v":""},{"$f":"IF(WEEKDAY(R530,2)<=6,IF(CALENDRIER!U19=\"x\",Labels!$B$118,\"\"),\"\")","v":""},{"$f":"IF(WEEKDAY(S530,2)<=6,IF(CALENDRIER!V19=\"x\",Labels!$B$118,\"\"),\"\")","v":""},{"$f":"IF(WEEKDAY(T530,2)<=6,IF(CALENDRIER!W19=\"x\",Labels!$B$118,\"\"),\"\")","v":""},{"$f":"IF(WEEKDAY(U530,2)<=6,IF(CALENDRIER!X19=\"x\",Labels!$B$118,\"\"),\"\")","v":""},{"$f":"IF(WEEKDAY(V530,2)<=6,IF(CALENDRIER!Y19=\"x\",Labels!$B$118,\"\"),\"\")","v":""},{"$f":"IF(WEEKDAY(W530,2)<=6,IF(CALENDRIER!Z19=\"x\",Labels!$B$118,\"\"),\"\")","v":""},{"$f":"IF(WEEKDAY(X530,2)<=6,IF(CALENDRIER!AA19=\"x\",Labels!$B$118,\"\"),\"\")","v":""},{"$f":"IF(WEEKDAY(Y530,2)<=6,IF(CALENDRIER!AB19=\"x\",Labels!$B$118,\"\"),\"\")","v":""},{"$f":"IF(WEEKDAY(Z530,2)<=6,IF(CALENDRIER!AC19=\"x\",Labels!$B$118,\"\"),\"\")","v":""},{"$f":"IF(WEEKDAY(AA530,2)<=6,IF(CALENDRIER!AD19=\"x\",Labels!$B$118,\"\"),\"\")","v":""},{"$f":"IF(WEEKDAY(AB530,2)<=6,IF(CALENDRIER!AE19=\"x\",Labels!$B$118,\"\"),\"\")","v":""},{"$f":"IF(WEEKDAY(AC530,2)<=6,IF(CALENDRIER!AF19=\"x\",Labels!$B$118,\"\"),\"\")","v":""},{"$f":"IF(WEEKDAY(AD530,2)<=6,IF(CALENDRIER!AG19=\"x\",Labels!$B$118,\"\"),\"\")","v":""},{"$f":"IF(WEEKDAY(AE530,2)<=6,IF(CALENDRIER!AH19=\"x\",Labels!$B$118,\"\"),\"\")","v":""},{"$f":"IF(WEEKDAY(AF530,2)<=6,IF(CALENDRIER!AI19=\"x\",Labels!$B$118,\"\"),\"\")","v":""},{"$f":"SUM(B536:AF536)-AG536","v":0},"[03b]"]
[{"$f":"$A$19","v":"Majoration  \"jf\""},{"$f":"IF(AND(B538=Labels!$B$118,WEEKDAY(B530,2)<6,B$532<>\"\"),$J$7*SUMPRODUCT(($AM$77:$AQ$77=MOD(B530,7))*$AM$73:$AQ$73)%,\"\")","v":""},{"$f":"IF(AND(C538=Labels!$B$118,WEEKDAY(C530,2)<6,C$532<>\"\"),$J$7*SUMPRODUCT(($AM$77:$AQ$77=MOD(C530,7))*$AM$73:$AQ$73)%,\"\")","v":""},{"$f":"IF(AND(D538=Labels!$B$118,WEEKDAY(D530,2)<6,D$532<>\"\"),$J$7*SUMPRODUCT(($AM$77:$AQ$77=MOD(D530,7))*$AM$73:$AQ$73)%,\"\")","v":""},{"$f":"IF(AND(E538=Labels!$B$118,WEEKDAY(E530,2)<6,E$532<>\"\"),$J$7*SUMPRODUCT(($AM$77:$AQ$77=MOD(E530,7))*$AM$73:$AQ$73)%,\"\")","v":""},{"$f":"IF(AND(F538=Labels!$B$118,WEEKDAY(F530,2)<6,F$532<>\"\"),$J$7*SUMPRODUCT(($AM$77:$AQ$77=MOD(F530,7))*$AM$73:$AQ$73)%,\"\")","v":""},{"$f":"IF(AND(G538=Labels!$B$118,WEEKDAY(G530,2)<6,G$532<>\"\"),$J$7*SUMPRODUCT(($AM$77:$AQ$77=MOD(G530,7))*$AM$73:$AQ$73)%,\"\")","v":""},{"$f":"IF(AND(H538=Labels!$B$118,WEEKDAY(H530,2)<6,H$532<>\"\"),$J$7*SUMPRODUCT(($AM$77:$AQ$77=MOD(H530,7))*$AM$73:$AQ$73)%,\"\")","v":""},{"$f":"IF(AND(I538=Labels!$B$118,WEEKDAY(I530,2)<6,I$532<>\"\"),$J$7*SUMPRODUCT(($AM$77:$AQ$77=MOD(I530,7))*$AM$73:$AQ$73)%,\"\")","v":""},{"$f":"IF(AND(J538=Labels!$B$118,WEEKDAY(J530,2)<6,J$532<>\"\"),$J$7*SUMPRODUCT(($AM$77:$AQ$77=MOD(J530,7))*$AM$73:$AQ$73)%,\"\")","v":""},{"$f":"IF(AND(K538=Labels!$B$118,WEEKDAY(K530,2)<6,K$532<>\"\"),$J$7*SUMPRODUCT(($AM$77:$AQ$77=MOD(K530,7))*$AM$73:$AQ$73)%,\"\")","v":""},{"$f":"IF(AND(L538=Labels!$B$118,WEEKDAY(L530,2)<6,L$532<>\"\"),$J$7*SUMPRODUCT(($AM$77:$AQ$77=MOD(L530,7))*$AM$73:$AQ$73)%,\"\")","v":""},{"$f":"IF(AND(M538=Labels!$B$118,WEEKDAY(M530,2)<6,M$532<>\"\"),$J$7*SUMPRODUCT(($AM$77:$AQ$77=MOD(M530,7))*$AM$73:$AQ$73)%,\"\")","v":""},{"$f":"IF(AND(N538=Labels!$B$118,WEEKDAY(N530,2)<6,N$532<>\"\"),$J$7*SUMPRODUCT(($AM$77:$AQ$77=MOD(N530,7))*$AM$73:$AQ$73)%,\"\")","v":""},{"$f":"IF(AND(O538=Labels!$B$118,WEEKDAY(O530,2)<6,O$532<>\"\"),$J$7*SUMPRODUCT(($AM$77:$AQ$77=MOD(O530,7))*$AM$73:$AQ$73)%,\"\")","v":""},{"$f":"IF(AND(P538=Labels!$B$118,WEEKDAY(P530,2)<6,P$532<>\"\"),$J$7*SUMPRODUCT(($AM$77:$AQ$77=MOD(P530,7))*$AM$73:$AQ$73)%,\"\")","v":""},{"$f":"IF(AND(Q538=Labels!$B$118,WEEKDAY(Q530,2)<6,Q$532<>\"\"),$J$7*SUMPRODUCT(($AM$77:$AQ$77=MOD(Q530,7))*$AM$73:$AQ$73)%,\"\")","v":""},{"$f":"IF(AND(R538=Labels!$B$118,WEEKDAY(R530,2)<6,R$532<>\"\"),$J$7*SUMPRODUCT(($AM$77:$AQ$77=MOD(R530,7))*$AM$73:$AQ$73)%,\"\")","v":""},{"$f":"IF(AND(S538=Labels!$B$118,WEEKDAY(S530,2)<6,S$532<>\"\"),$J$7*SUMPRODUCT(($AM$77:$AQ$77=MOD(S530,7))*$AM$73:$AQ$73)%,\"\")","v":""},{"$f":"IF(AND(T538=Labels!$B$118,WEEKDAY(T530,2)<6,T$532<>\"\"),$J$7*SUMPRODUCT(($AM$77:$AQ$77=MOD(T530,7))*$AM$73:$AQ$73)%,\"\")","v":""},{"$f":"IF(AND(U538=Labels!$B$118,WEEKDAY(U530,2)<6,U$532<>\"\"),$J$7*SUMPRODUCT(($AM$77:$AQ$77=MOD(U530,7))*$AM$73:$AQ$73)%,\"\")","v":""},{"$f":"IF(AND(V538=Labels!$B$118,WEEKDAY(V530,2)<6,V$532<>\"\"),$J$7*SUMPRODUCT(($AM$77:$AQ$77=MOD(V530,7))*$AM$73:$AQ$73)%,\"\")","v":""},{"$f":"IF(AND(W538=Labels!$B$118,WEEKDAY(W530,2)<6,W$532<>\"\"),$J$7*SUMPRODUCT(($AM$77:$AQ$77=MOD(W530,7))*$AM$73:$AQ$73)%,\"\")","v":""},{"$f":"IF(AND(X538=Labels!$B$118,WEEKDAY(X530,2)<6,X$532<>\"\"),$J$7*SUMPRODUCT(($AM$77:$AQ$77=MOD(X530,7))*$AM$73:$AQ$73)%,\"\")","v":""},{"$f":"IF(AND(Y538=Labels!$B$118,WEEKDAY(Y530,2)<6,Y$532<>\"\"),$J$7*SUMPRODUCT(($AM$77:$AQ$77=MOD(Y530,7))*$AM$73:$AQ$73)%,\"\")","v":""},{"$f":"IF(AND(Z538=Labels!$B$118,WEEKDAY(Z530,2)<6,Z$532<>\"\"),$J$7*SUMPRODUCT(($AM$77:$AQ$77=MOD(Z530,7))*$AM$73:$AQ$73)%,\"\")","v":""},{"$f":"IF(AND(AA538=Labels!$B$118,WEEKDAY(AA530,2)<6,AA$532<>\"\"),$J$7*SUMPRODUCT(($AM$77:$AQ$77=MOD(AA530,7))*$AM$73:$AQ$73)%,\"\")","v":""},{"$f":"IF(AND(AB538=Labels!$B$118,WEEKDAY(AB530,2)<6,AB$532<>\"\"),$J$7*SUMPRODUCT(($AM$77:$AQ$77=MOD(AB530,7))*$AM$73:$AQ$73)%,\"\")","v":""},{"$f":"IF(AND(AC538=Labels!$B$118,WEEKDAY(AC530,2)<6,AC$532<>\"\"),$J$7*SUMPRODUCT(($AM$77:$AQ$77=MOD(AC530,7))*$AM$73:$AQ$73)%,\"\")","v":""},{"$f":"IF(AND(AD538=Labels!$B$118,WEEKDAY(AD530,2)<6,AD$532<>\"\"),$J$7*SUMPRODUCT(($AM$77:$AQ$77=MOD(AD530,7))*$AM$73:$AQ$73)%,\"\")","v":""},{"$f":"IF(AND(AE538=Labels!$B$118,WEEKDAY(AE530,2)<6,AE$532<>\"\"),$J$7*SUMPRODUCT(($AM$77:$AQ$77=MOD(AE530,7))*$AM$73:$AQ$73)%,\"\")","v":""},{"$f":"IF(AND(AF538=Labels!$B$118,WEEKDAY(AF530,2)<6),$J$7*$B$527%,\"\")","v":""},{"$f":"SUM(B539:AF539)","v":0},"[06]"]
[{"$f":"$A$20","v":"total quotidien"},{"$f":"SUM(B535:B537)","v":0},{"$f":"SUM(C535:C537)","v":0},0,0,0,0,0,0,0,0,0,0,0,0,0,0,0,0,0,0,0,0,0,0,0,0,0,0,0,0,0,null,"TT"]
[{"$f":"$A$21","v":"."},null,null,null,null,null,null,null,null,null,null,null,null,null,null,null,null,null,null,null,null,null,null,null,null,null,null,null,null,null,null,null,null,"R"]
[{"$f":"$A$22","v":"."},null,null,null,null,null,null,null,null,null,null,null,null,null,null,null,null,null,null,null,null,null,null,null,null,null,null,null,null,null,null,null,null,"R"]
[{"$f":"$A$23","v":"transition mois"},{"$f":"IF(WEEKDAY(B530)=1,TEXT(B530-1,\"MMM\"&Labels!B13),\"\")","v":""},null,null,null,null,null,null,null,null,null,null,null,null,null,null,null,null,null,null,null,null,null,null,null,null,null,null,null,null,{"$f":"IF(AND(WEEKDAY(AE530)>1,WEEKDAY(AE530)<7),TEXT(DATE($B$5,MONTH(AE530)+1,1),\"MMM\"&Labels!B13),\"\")","v":""},null,null,"MNT"]
[{"$f":"$A$24","v":"Total hebdomadaire"},{"$f":"IF(WEEKDAY(B530)=7,SUMIF($B466:$AF466,B531,$B475:$AF475)+SUMIF($B531:$AF531,B531,$B540:$AF540)+SUMIF($B596:$AF596,B531,$B605:$AF605),B543)","v":""},{"$f":"IF(WEEKDAY(C530)=7,SUMIF($B466:$AF466,C531,$B475:$AF475)+SUMIF($B531:$AF531,C531,$B540:$AF540)+SUMIF($B596:$AF596,C531,$B605:$AF605),\"\")","v":0},"","","","","","",0,"","","","","","",0,"","","","","","",0,"","","","","","",{"$f":"IF(WEEKDAY(AE530)=7,SUMIF($B466:$AF466,AE531,$B475:$AF475)+SUMIF($B531:$AF531,AE531,$B540:$AF540)+SUMIF($B596:$AF596,AE531,$B605:$AF605),AE543)","v":0},null,null,"WT"]
[{"$f":"$A$25","v":"Majorations temp. 1)"},{"$f":"IF(B552=\"FALSCH\",\"\",B552)","v":""},{"$f":"IF(C552=\"FALSCH\",\"\",C552)","v":""},"","","","","","","","","","","","","","","","","","","","","","","","","","","","",null,{"$f":"SUM(B545:AF545)","v":0},"[07]"]
[{"$f":"$A$26","v":"Majorations temp. 2)"},{"$f":"IF((B535+B537)=0,\"\",SUM(B535,B537))","v":""},{"$f":"IF((C535+C537)=0,\"\",SUM(C535,C537))","v":""},"","","","","","","","","","","","","","","","","","","","","","","","","","","","",null,0,"[08]"]
[{"$f":"$A$27","v":"Majorations temp. 3)"},{"$f":"SUM(B548:B551)","v":0},{"$f":"SUM(C548:C551)","v":0},0,0,0,0,0,0,0,0,0,0,0,0,0,0,0,0,0,0,0,0,0,0,0,0,0,0,0,0,null,0,"[09]"]
[{"$f":"$A$28","v":"Dimanche journée"},{"$f":"IF(WEEKDAY(B530)=1,B536,\"\")","v":""},{"$f":"IF(WEEKDAY(C530)=1,C536,\"\")","v":""},0,"","","","","","",0,"","","","","","",0,"","","","","","",0,"","","","","","",null,0,"[09-ST]"]
[{"$f":"$A$29","v":"Dimanche nuit"},{"$f":"IF(WEEKDAY(B530)=1,SUM(B535+B537),\"\")","v":""},{"$f":"IF(WEEKDAY(C530)=1,SUM(C535+C537),\"\")","v":""},0,"","","","","","",0,"","","","","","",0,"","","","","","",0,"","","","","","",null,0,"[09-SN]"]
[{"$f":"$A$30","v":"jf-jomajoration"},{"$f":"IF(B538=Labels!$B$118,B536,\"\")","v":""},{"$f":"IF(C538=Labels!$B$118,C536,\"\")","v":""},{"$f":"IF(D538=Labels!$B$118,D536,\"\")","v":""},{"$f":"IF(E538=Labels!$B$118,E536,\"\")","v":""},{"$f":"IF(F538=Labels!$B$118,F536,\"\")","v":""},{"$f":"IF(G538=Labels!$B$118,G536,\"\")","v":""},{"$f":"IF(H538=Labels!$B$118,H536,\"\")","v":""},{"$f":"IF(I538=Labels!$B$118,I536,\"\")","v":""},{"$f":"IF(J538=Labels!$B$118,J536,\"\")","v":""},{"$f":"IF(K538=Labels!$B$118,K536,\"\")","v":""},{"$f":"IF(L538=Labels!$B$118,L536,\"\")","v":""},{"$f":"IF(M538=Labels!$B$118,M536,\"\")","v":""},{"$f":"IF(N538=Labels!$B$118,N536,\"\")","v":""},{"$f":"IF(O538=Labels!$B$118,O536,\"\")","v":""},{"$f":"IF(P538=Labels!$B$118,P536,\"\")","v":""},{"$f":"IF(Q538=Labels!$B$118,Q536,\"\")","v":""},{"$f":"IF(R538=Labels!$B$118,R536,\"\")","v":""},{"$f":"IF(S538=Labels!$B$118,S536,\"\")","v":""},{"$f":"IF(T538=Labels!$B$118,T536,\"\")","v":""},{"$f":"IF(U538=Labels!$B$118,U536,\"\")","v":""},{"$f":"IF(V538=Labels!$B$118,V536,\"\")","v":""},{"$f":"IF(W538=Labels!$B$118,W536,\"\")","v":""},{"$f":"IF(X538=Labels!$B$118,X536,\"\")","v":""},{"$f":"IF(Y538=Labels!$B$118,Y536,\"\")","v":""},{"$f":"IF(Z538=Labels!$B$118,Z536,\"\")","v":""},{"$f":"IF(AA538=Labels!$B$118,AA536,\"\")","v":""},{"$f":"IF(AB538=Labels!$B$118,AB536,\"\")","v":""},{"$f":"IF(AC538=Labels!$B$118,AC536,\"\")","v":""},{"$f":"IF(AD538=Labels!$B$118,AD536,\"\")","v":""},{"$f":"IF(AE538=Labels!$B$118,AE536,\"\")","v":""},null,0,"[09-FT]"]
[{"$f":"$A$31","v":"jf-numajoration"},{"$f":"IF(B538=Labels!$B$118,SUM(B535,B537),\"\")","v":""},{"$f":"IF(C538=Labels!$B$118,SUM(C535,C537),\"\")","v":""},{"$f":"IF(D538=Labels!$B$118,SUM(D535,D537),\"\")","v":""},{"$f":"IF(E538=Labels!$B$118,SUM(E535,E537),\"\")","v":""},{"$f":"IF(F538=Labels!$B$118,SUM(F535,F537),\"\")","v":""},{"$f":"IF(G538=Labels!$B$118,SUM(G535,G537),\"\")","v":""},{"$f":"IF(H538=Labels!$B$118,SUM(H535,H537),\"\")","v":""},{"$f":"IF(I538=Labels!$B$118,SUM(I535,I537),\"\")","v":""},{"$f":"IF(J538=Labels!$B$118,SUM(J535,J537),\"\")","v":""},{"$f":"IF(K538=Labels!$B$118,SUM(K535,K537),\"\")","v":""},{"$f":"IF(L538=Labels!$B$118,SUM(L535,L537),\"\")","v":""},{"$f":"IF(M538=Labels!$B$118,SUM(M535,M537),\"\")","v":""},{"$f":"IF(N538=Labels!$B$118,SUM(N535,N537),\"\")","v":""},{"$f":"IF(O538=Labels!$B$118,SUM(O535,O537),\"\")","v":""},{"$f":"IF(P538=Labels!$B$118,SUM(P535,P537),\"\")","v":""},{"$f":"IF(Q538=Labels!$B$118,SUM(Q535,Q537),\"\")","v":""},{"$f":"IF(R538=Labels!$B$118,SUM(R535,R537),\"\")","v":""},{"$f":"IF(S538=Labels!$B$118,SUM(S535,S537),\"\")","v":""},{"$f":"IF(T538=Labels!$B$118,SUM(T535,T537),\"\")","v":""},{"$f":"IF(U538=Labels!$B$118,SUM(U535,U537),\"\")","v":""},{"$f":"IF(V538=Labels!$B$118,SUM(V535,V537),\"\")","v":""},{"$f":"IF(W538=Labels!$B$118,SUM(W535,W537),\"\")","v":""},{"$f":"IF(X538=Labels!$B$118,SUM(X535,X537),\"\")","v":""},{"$f":"IF(Y538=Labels!$B$118,SUM(Y535,Y537),\"\")","v":""},{"$f":"IF(Z538=Labels!$B$118,SUM(Z535,Z537),\"\")","v":""},{"$f":"IF(AA538=Labels!$B$118,SUM(AA535,AA537),\"\")","v":""},{"$f":"IF(AB538=Labels!$B$118,SUM(AB535,AB537),\"\")","v":""},{"$f":"IF(AC538=Labels!$B$118,SUM(AC535,AC537),\"\")","v":""},{"$f":"IF(AD538=Labels!$B$118,SUM(AD535,AD537),\"\")","v":""},{"$f":"IF(AE538=Labels!$B$118,SUM(AE535,AE537),\"\")","v":""},null,0,"[09-FN]"]
[{"$f":"$A$32","v":"majoration caché (total hebd.)"},{"$f":"IF($B527>=80,IF(OR(ISTEXT(B544),B544=\"\",B544<$B$7),\"\",ROUND(((B544-$B$7)*25%)/25,4)*25),IF(B540>($B$7/5),ROUND(((B540-($B$7/5))*25%)/25,4)*25,\"\"))","v":""},{"$f":"IF($B527>=80,IF(OR(ISTEXT(C544),C544=\"\",C544<$B$7),\"\",ROUND(((C544-$B$7)*25%)/25,4)*25),IF(C540>($B$7/5),ROUND(((C540-($B$7/5))*25%)/25,4)*25,\"\"))","v":""},"","","","","","","","","","","","","","","","","","","","","","","","","","","","",null,{"$f":"AG536","v":0},"[03]"]
[null,{"$f":"$B$33","v":"1)  25% majoration temporelle pour depassement les heures maximales"},null,null,null,null,null,null,null,null,null,{"$f":"$L$33","v":"2) 100% majoration temporelle pour travail de nuit"},null,null,null,null,null,null,null,{"$f":"$T$33","v":"Saisie des heures payées l'année passée"},null,null,null,null,null,null,null,null,null,null,null,null,{"$f":"SUM(AG535+AG537)","v":0},"[4-5]"]
[null,{"$f":"$B$34","v":"3) 100% majoration temporelle pour travail du dimanche et jour férié"},null,null,null,null,null,null,null,null,null,null,null,null,null,null,null,null,null,{"$f":"$T$34","v":"Saisie des heures payées exercice en cours (heures supplémentaires)"},null,null,null,null,null,null,null,null,null,null,null,null,{"$f":"SUM(AG535:AG537)","v":0},"[3-5]"]
[{"$f":"$A$35","v":"Notes"},null,null,null,null,null,null,null,null,null,null,null,null,null,null,null,null,null,null,null,null,null,null,null,null,null,null,null,null,null,null,null,{"$f":"SUM(AG533:AG547)","v":0},"[10]"]
[null,null,null,null,null,null,null,null,null,null,null,null,null,null,null,null,null,null,null,null,null,null,null,null,null,null,null,null,null,null,null,null,{"$f":"AG532","v":168},"[00]"]
[{"$f":"IF(AG1029=0,\"\",\"effektives Pensum:  \"&ROUND(COUNT(B532:AF532)/(AG1029+COUNT(B532:AF532))%*B527%*20,0)/20&\" %\")","v":""},null,null,null,null,null,null,null,null,null,null,null,null,null,null,null,null,null,null,null,null,null,null,null,null,null,null,null,null,null,null,null,{"$f":"SUM(AG555-AG556)","v":-168},"[11]"]
[]
[{"$f":"Labels!$B$103","v":"Résumé"},null,null,null,null,null,{"$f":"Labels!$B$77","v":"Jan"},null,{"$f":"Labels!$B$78","v":"Fév"},null,{"$f":"Labels!$B$79","v":"Mar"},null,{"$f":"Labels!$B$80","v":"Avr"},null,{"$f":"Labels!$B$81","v":"Mai"},null,{"$f":"Labels!$B$82","v":"Jun"},null,{"$f":"Labels!$B$83","v":"Jul"},null,{"$f":"Labels!$B$84","v":"Aoû"},null,{"$f":"Labels!$B$85","v":"Sep"},null,{"$f":"Labels!$B$86","v":"Oct"},null,{"$f":"Labels!$B$87","v":"Nov"},null,{"$f":"Labels!$B$88","v":"Déc"},null,{"$f":"Labels!$B$101","v":"Année"}]
[{"$f":"Labels!$B$20","v":"Emploi %"},null,null,null,null,null,{"$f":"IF($B$4=0,0,$B$4)","v":100},null,{"$f":"IF($B$72=0,0,$B$72)","v":100},null,{"$f":"IF($B$137=0,0,$B$137)","v":100},null,{"$f":"IF($B$202=0,0,$B$202)","v":100},null,{"$f":"IF($B$267=0,0,$B$267)","v":100},null,{"$f":"IF($B$332=0,0,$B$332)","v":100},null,{"$f":"IF($B$397=0,0,$B$397)","v":100},null,{"$f":"IF($B$462=0,0,$B$462)","v":100},null,{"$f":"IF($B$527=0,0,$B$527)","v":100},null,{"$f":"IF($B$592=0,0,$B$592)","v":100},null,{"$f":"IF($B$657=0,0,$B$657)","v":100},null,{"$f":"IF($B$722=0,0,$B$722)","v":100}]
[{"$f":"Labels!$B$104","v":"Heures théoriques selon CCT"},null,null,null,null,null,{"$f":"IF($AG$36=0,0,$AG$36)","v":176},null,{"$f":"IF($AG$101=0,0,$AG$101)","v":160},null,{"$f":"IF($AG$142=0,0,$AG$142)","v":184},null,{"$f":"IF($AG$231=0,0,$AG$231)","v":160},null,{"$f":"IF($AG$296=0,0,$AG$296)","v":184},null,{"$f":"IF($AG$361=0,0,$AG$361)","v":176},null,{"$f":"IF($AG$426=0,0,$AG$426)","v":168},null,{"$f":"IF($AG$491=0,0,$AG$491)","v":184},null,{"$f":"IF($AG$556=0,0,$AG$556)","v":168},null,{"$f":"IF($AG$621=0,0,$AG$621)","v":176},null,{"$f":"IF($AG$686=0,0,$AG$686)","v":176},null,{"$f":"IF($AG$751=0,0,$AG$751)","v":168},null,{"$f":"SUM(G561:AD561)","v":2080}]
[{"$f":"Labels!$B$105","v":"Total heures productives"},{"$f":"Labels!$B$106","v":"06.00 - 20.00 h"},null,null,null,null,{"$f":"IF($AG$32=0,0,$AG$32)","v":0},null,{"$f":"IF($AG$97=0,0,$AG$97)","v":0},null,{"$f":"IF($AG$162=0,0,$AG$162)","v":0},null,{"$f":"IF($AG$227=0,0,$AG$227)","v":0},null,{"$f":"IF($AG$292=0,0,$AG$292)","v":0},null,{"$f":"IF($AG$357=0,0,$AG$357)","v":0},null,{"$f":"IF($AG$422=0,0,$AG$422)","v":0},null,{"$f":"IF($AG$487=0,0,$AG$487)","v":0},null,{"$f":"IF($AG$552=0,0,$AG$552)","v":0},null,{"$f":"IF($AG$617=0,0,$AG$617)","v":0},null,{"$f":"IF($AG$682=0,0,$AG$682)","v":0},null,{"$f":"IF($AG$747=0,0,$AG$747)","v":0},null,{"$f":"SUM(G562:AD562)","v":0}]
[null,{"$f":"Labels!$B$107","v":"nuit, dimanche et jour férié"},null,null,null,null,{"$f":"IF(AND($AG$33=0,$AG$18=0),0,$AG$33+$AG$18)","v":0},null,{"$f":"IF(AND($AG$98=0,$AG$83=0),0,$AG$98+$AG$83)","v":0},null,{"$f":"IF(AND($AG$163=0,$AG$148=0),0,$AG$163+$AG$148)","v":0},null,{"$f":"IF(AND($AG$228=0,$AG$213=0),0,$AG$228+$AG$213)","v":0},null,{"$f":"IF(AND($AG$293=0,$AG$278=0),0,$AG$293+$AG$278)","v":0},null,{"$f":"IF(AND($AG$358=0,$AG$343=0),0,$AG$358+$AG$343)","v":0},null,{"$f":"IF(AND($AG$423=0,$AG$408=0),0,$AG$423+$AG$408)","v":0},null,{"$f":"IF(AND($AG$488=0,$AG$473=0),0,$AG$488+$AG$473)","v":0},null,{"$f":"IF(AND($AG$553=0,$AG$538=0),0,$AG$553+$AG$538)","v":0},null,{"$f":"IF(AND($AG$618=0,$AG$603=0),0,$AG$618+$AG$603)","v":0},null,{"$f":"IF(AND($AG$683=0,$AG$668=0),0,$AG$683+$AG$668)","v":0},null,{"$f":"IF(AND($AG$748=0,$AG$733=0),0,$AG$748+$AG$733)","v":0},null,{"$f":"SUM(G563:AD563)","v":0}]
[{"$f":"Labels!$B$108","v":"Majorations temporelles"},{"$f":"Labels!$B$109","v":"depassement des heures maximales"},null,null,null,null,{"$f":"IF($AG$25=0,0,$AG$25)","v":0},null,{"$f":"IF($AG$90=0,0,$AG$90)","v":0},null,{"$f":"IF($AG$155=0,0,$AG$155)","v":0},null,{"$f":"IF($AG$220=0,0,$AG$220)","v":0},null,{"$f":"IF($AG$285=0,0,$AG$285)","v":0},null,{"$f":"IF($AG$350=0,0,$AG$350)","v":0},null,{"$f":"IF($AG$415=0,0,$AG$415)","v":0},null,{"$f":"IF($AG$480=0,0,$AG$480)","v":0},null,{"$f":"IF($AG$545=0,0,$AG$545)","v":0},null,{"$f":"IF($AG$610=0,0,$AG$610)","v":0},null,{"$f":"IF($AG$675=0,0,$AG$675)","v":0},null,{"$f":"IF($AG$740=0,0,$AG$740)","v":0},null,{"$f":"SUM(G564:AD564)","v":0}]
[null,{"$f":"Labels!$B$110","v":"nuit, dimanche et jour férié"},null,null,null,null,{"$f":"IF($AJ$23=0,0,$AJ$23)","v":0},null,{"$f":"IF($AK$23=0,0,$AK$23)","v":0},null,{"$f":"IF($AL$23=0,0,$AL$23)","v":0},null,{"$f":"IF($AM$23=0,0,$AM$23)","v":0},null,{"$f":"IF($AN$23=0,0,$AN$23)","v":0},null,{"$f":"IF($AO$23=0,0,$AO$23)","v":0},null,{"$f":"IF($AP$23=0,0,$AP$23)","v":0},null,{"$f":"IF($AQ$23=0,0,$AQ$23)","v":0},null,{"$f":"IF($AR$23=0,0,$AR$23)","v":0},null,{"$f":"IF($AS$23=0,0,$AS$23)","v":0},null,{"$f":"IF($AT$23=0,0,$AT$23)","v":0},null,{"$f":"IF($AU$23=0,0,$AU$23)","v":0},null,{"$f":"SUM(G565:AD565)","v":0}]
[{"$f":"Labels!$B$111","v":"Heures inproductives"}]
[{"$f":"Labels!$B$112","v":"   Absences art. 11 CCT"},null,null,null,null,{"$f":"Labels!$B$113","v":"ab"},{"$f":"IF($AJ$3=0,0,$AJ$3)","v":0},null,{"$f":"IF($AK$3=0,0,$AK$3)","v":0},null,{"$f":"IF($AL$3=0,0,$AL$3)","v":0},null,{"$f":"IF($AM$3=0,0,$AM$3)","v":0},null,{"$f":"IF($AN$3=0,0,$AN$3)","v":0},null,{"$f":"IF($AO$3=0,0,$AO$3)","v":0},null,{"$f":"IF($AP$3=0,0,$AP$3)","v":0},null,{"$f":"IF($AQ$3=0,0,$AQ$3)","v":0},null,{"$f":"IF($AR$3=0,0,$AR$3)","v":0},null,{"$f":"IF($AS$3=0,0,$AS$3)","v":0},null,{"$f":"IF(AT$3=0,0,$AT$3)","v":0},null,{"$f":"IF($AU$3=0,0,$AU$3)","v":0},null,{"$f":"IF($AV$3=0,0,$AV$3)","v":0}]
[{"$f":"Labels!$B$114","v":"   Vacances art. 12.1 CCT"},null,null,null,null,{"$f":"Labels!$B$115","v":"va"},{"$f":"IF($AJ$4=0,0,$AJ$4)","v":0},null,{"$f":"IF($AK$4=0,0,$AK$4)","v":0},null,{"$f":"IF($AL$4=0,0,$AL$4)","v":0},null,{"$f":"IF($AM$4=0,0,$AM$4)","v":0},null,{"$f":"IF($AN$4=0,0,$AN$4)","v":0},null,{"$f":"IF($AO$4=0,0,$AO$4)","v":0},null,{"$f":"IF($AP$4=0,0,$AP$4)","v":0},null,{"$f":"IF($AQ$4=0,0,$AQ$4)","v":0},null,{"$f":"IF($AR$4=0,0,$AR$4)","v":0},null,{"$f":"IF($AS$4=0,0,$AS$4)","v":0},null,{"$f":"IF($AT$4=0,0,$AT$4)","v":0},null,{"$f":"IF($AU$4=0,0,$AU$4)","v":0},null,{"$f":"IF($AV$4=0,0,$AV$4)","v":0}]
[{"$f":"Labels!$B$181","v":"   vacances non payées"},null,null,null,null,{"$f":"Labels!$B$182","v":"vn"},{"$f":"IF($AJ$13=0,0,$AJ$13)","v":0},null,{"$f":"IF($AK$13=0,0,$AK$13)","v":0},null,{"$f":"IF($AL$13=0,0,$AL$13)","v":0},null,{"$f":"IF($AM$13=0,0,$AM$13)","v":0},null,{"$f":"IF($AN$13=0,0,$AN$13)","v":0},null,{"$f":"IF($AO$13=0,0,$AO$13)","v":0},null,{"$f":"IF($AP$13=0,0,$AP$13)","v":0},null,{"$f":"IF($AQ$13=0,0,$AQ$13)","v":0},null,{"$f":"IF($AR$13=0,0,$AR$13)","v":0},null,{"$f":"IF($AS$13=0,0,$AS$13)","v":0},null,{"$f":"IF($AT$13=0,0,$AT$13)","v":0},null,{"$f":"IF($AU$13=0,0,$AU$13)","v":0},null,{"$f":"IF($AV$13=0,0,$AV$13)","v":0}]
[{"$f":"Labels!$B$116","v":"   Jours fériés art. 12.2 CCT"},null,{"$f":"IF($AJ$20=\"\",\"\",$AJ$20)","v":""},null,null,{"$f":"Labels!$B$118","v":"jf"},{"$f":"IF($AJ$18=0,0,$AJ$18)","v":0},null,{"$f":"IF($AK$18=0,0,$AK$18)","v":0},null,{"$f":"IF($AL$18=0,0,$AL$18)","v":0},null,{"$f":"IF($AM$18=0,0,$AM$18)","v":0},null,{"$f":"IF($AN$18=0,0,$AN$18)","v":0},null,{"$f":"IF($AO$18=0,0,$AO$18)","v":0},null,{"$f":"IF($AP$18=0,0,$AP$18)","v":0},null,{"$f":"IF($AQ$18=0,0,$AQ$18)","v":0},null,{"$f":"IF($AR$18=0,0,$AR$18)","v":0},null,{"$f":"IF($AS$18=0,0,$AS$18)","v":0},null,{"$f":"IF($AT$18=0,0,$AT$18)","v":0},null,{"$f":"IF($AU$18=0,0,$AU$18)","v":0},null,{"$f":"IF($AV$18=0,0,$AV$18)","v":0}]
[{"$f":"Labels!$B$119","v":"   Maladie art. 13 CCT"},null,null,null,null,{"$f":"Labels!$B$120","v":"ma"},{"$f":"IF($AJ$5=0,0,$AJ$5)","v":0},null,{"$f":"IF($AK$5=0,0,$AK$5)","v":0},null,{"$f":"IF($AL$5=0,0,$AL$5)","v":0},null,{"$f":"IF($AM$5=0,0,$AM$5)","v":0},null,{"$f":"IF($AN$5=0,0,$AN$5)","v":0},null,{"$f":"IF($AO$5=0,0,$AO$5)","v":0},null,{"$f":"IF($AP$5=0,0,$AP$5)","v":0},null,{"$f":"IF($AQ$5=0,0,$AQ$5)","v":0},null,{"$f":"IF($AR$5=0,0,$AR$5)","v":0},null,{"$f":"IF($AS$5=0,0,$AS$5)","v":0},null,{"$f":"IF($AT$5=0,0,$AT$5)","v":0},null,{"$f":"IF($AU$5=0,0,$AU$5)","v":0},null,{"$f":"IF($AV$5=0,0,$AV$5)","v":0}]
[{"$f":"Labels!$B$184","v":"non payeé"},null,null,null,null,null,{"$f":"IF(AJ$16=0,0,AJ$16)","v":0},null,{"$f":"IF($AK$16=0,0,$AK$16)","v":0},null,{"$f":"IF($AL$16=0,0,$AL$16)","v":0},null,{"$f":"IF($AM$16=0,0,$AM$16)","v":0},null,{"$f":"IF($AN$16=0,0,$AN$16)","v":0},null,{"$f":"IF($AO$16=0,0,$AO$16)","v":0},null,{"$f":"IF($AP$16=0,0,$AP$16)","v":0},null,{"$f":"IF($AQ$16=0,0,$AQ$16)","v":0},null,{"$f":"IF($AR$16=0,0,$AR$16)","v":0},null,{"$f":"IF($AS$16=0,0,$AS$16)","v":0},null,{"$f":"IF($AT$16=0,0,$AT$16)","v":0},null,{"$f":"IF($AU$16=0,0,$AU$16)","v":0},null,{"$f":"IF($AV$16=0,0,$AV$16)","v":0}]
[{"$f":"Labels!$B$121","v":"   Accident art. 14 CCT"},null,null,null,null,{"$f":"Labels!$B$122","v":"ac"},{"$f":"IF($AJ$6=0,0,$AJ$6)","v":0},null,{"$f":"IF($AK$6=0,0,$AK$6)","v":0},null,{"$f":"IF($AL$6=0,0,$AL$6)","v":0},null,{"$f":"IF($AM$6=0,0,$AM$6)","v":0},null,{"$f":"IF($AN$6=0,0,$AN$6)","v":0},null,{"$f":"IF($AO$6=0,0,$AO$6)","v":0},null,{"$f":"IF($AP$6=0,0,$AP$6)","v":0},null,{"$f":"IF($AQ$6=0,0,$AQ$6)","v":0},null,{"$f":"IF($AR$6=0,0,$AR$6)","v":0},null,{"$f":"IF($AS$6=0,0,$AS$6)","v":0},null,{"$f":"IF($AT$6=0,0,$AT$6)","v":0},null,{"$f":"IF($AU$6=0,0,$AU$6)","v":0},null,{"$f":"IF($AV$6=0,0,$AV$6)","v":0}]
[{"$f":"Labels!$B$123","v":"   Grossesse/Maternité art. 15 CCT"},null,null,null,null,{"$f":"Labels!$B$124","v":"gm"},{"$f":"IF($AJ$7=0,0,$AJ$7)","v":0},null,{"$f":"IF($AK$7=0,0,$AK$7)","v":0},null,{"$f":"IF($AL$7=0,0,$AL$7)","v":0},null,{"$f":"IF($AM$7=0,0,$AM$7)","v":0},null,{"$f":"IF($AN$7=0,0,$AN$7)","v":0},null,{"$f":"IF($AO$7=0,0,$AO$7)","v":0},null,{"$f":"IF($AP$7=0,0,$AP$7)","v":0},null,{"$f":"IF($AQ$7=0,0,$AQ$7)","v":0},null,{"$f":"IF($AR$7=0,0,$AR$7)","v":0},null,{"$f":"IF($AS$7=0,0,$AS$7)","v":0},null,{"$f":"IF($AT$7=0,0,$AT$7)","v":0},null,{"$f":"IF($AU$7=0,0,$AU$7)","v":0},null,{"$f":"IF($AV$7=0,0,$AV$7)","v":0}]
[{"$f":"Labels!$B$125","v":"   Militaire/Promotion/Protection civile art. 16 CCT"},null,null,null,null,{"$f":"Labels!$B$126","v":"mi"},{"$f":"IF($AJ$8=0,0,$AJ$8)","v":0},null,{"$f":"IF($AK$8=0,0,$AK$8)","v":0},null,{"$f":"IF($AL$8=0,0,$AL$8)","v":0},null,{"$f":"IF($AM$8=0,0,$AM$8)","v":0},null,{"$f":"IF($AN$8=0,0,$AN$8)","v":0},null,{"$f":"IF($AO$8=0,0,$AO$8)","v":0},null,{"$f":"IF($AP$8=0,0,$AP$8)","v":0},null,{"$f":"IF($AQ$8=0,0,$AQ$8)","v":0},null,{"$f":"IF($AR$8=0,0,$AR$8)","v":0},null,{"$f":"IF($AS$8=0,0,$AS$8)","v":0},null,{"$f":"IF($AT$8=0,0,$AT$8)","v":0},null,{"$f":"IF($AU$8=0,0,$AU$8)","v":0},null,{"$f":"IF($AV$8=0,0,$AV$8)","v":0}]
[{"$f":"Labels!$B$127","v":"   Chômage partiel et perte de travail cause d'intempéries"},null,null,null,null,{"$f":"Labels!$B$128","v":"ch"},{"$f":"IF($AJ$11=0,0,$AJ$11)","v":0},null,{"$f":"IF($AK$11=0,0,$AK$11)","v":0},null,{"$f":"IF($AL$11=0,0,$AL$11)","v":0},null,{"$f":"IF($AM$11=0,0,$AM$11)","v":0},null,{"$f":"IF($AN$11=0,0,$AN$11)","v":0},null,{"$f":"IF($AO$11=0,0,$AO$11)","v":0},null,{"$f":"IF($AP$11=0,0,$AP$11)","v":0},null,{"$f":"IF($AQ$11=0,0,$AQ$11)","v":0},null,{"$f":"IF($AR$11=0,0,$AR$11)","v":0},null,{"$f":"IF($AS$11=0,0,$AS$11)","v":0},null,{"$f":"IF($AT$11=0,0,$AT$11)","v":0},null,{"$f":"IF($AU$11=0,0,$AU$11)","v":0},null,{"$f":"IF($AV$11=0,0,$AV$11)","v":0}]
[{"$f":"Labels!$B$129","v":"   Ecole professionnelle"},null,null,null,null,{"$f":"Labels!$B$130","v":"ep"},{"$f":"IF($AJ$9=0,0,$AJ$9)","v":0},null,{"$f":"IF($AK$9=0,0,$AK$9)","v":0},null,{"$f":"IF($AL$9=0,0,$AL$9)","v":0},null,{"$f":"IF($AM$9=0,0,$AM$9)","v":0},null,{"$f":"IF($AN$9=0,0,$AN$9)","v":0},null,{"$f":"IF($AO$9=0,0,$AO$9)","v":0},null,{"$f":"IF($AP$9=0,0,$AP$9)","v":0},null,{"$f":"IF($AQ$9=0,0,$AQ$9)","v":0},null,{"$f":"IF($AR$9=0,0,$AR$9)","v":0},null,{"$f":"IF($AS$9=0,0,$AS$9)","v":0},null,{"$f":"IF($AT$9=0,0,$AT$9)","v":0},null,{"$f":"IF($AU$9=0,0,$AU$9)","v":0},null,{"$f":"IF($AV$9=0,0,$AV$9)","v":0}]
[{"$f":"Labels!$B$131","v":"   Cours"},null,null,null,null,{"$f":"Labels!$B$132","v":"co"},{"$f":"IF($AJ$10=0,0,$AJ$10)","v":0},null,{"$f":"IF($AK$10=0,0,$AK$10)","v":0},null,{"$f":"IF($AL$10=0,0,$AL$10)","v":0},null,{"$f":"IF($AM$10=0,0,$AM$10)","v":0},null,{"$f":"IF($AN$10=0,0,$AN$10)","v":0},null,{"$f":"IF($AO$10=0,0,$AO$10)","v":0},null,{"$f":"IF($AP$10=0,0,$AP$10)","v":0},null,{"$f":"IF($AQ$10=0,0,$AQ$10)","v":0},null,{"$f":"IF($AR$10=0,0,$AR$10)","v":0},null,{"$f":"IF($AS$10=0,0,$AS$10)","v":0},null,{"$f":"IF($AT$10=0,0,$AT$10)","v":0},null,{"$f":"IF($AU$10=0,0,$AU$10)","v":0},null,{"$f":"IF($AV$10=0,0,$AV$10)","v":0}]
[{"$f":"Labels!$B$133","v":"Heures de compensation"},{"$f":"Labels!$B$134","v":"de l'année passée"},null,null,null,{"$f":"Labels!$B$135","v":"cp"},{"$f":"IF($AJ$12=0,0,$AJ$12)","v":0},null,{"$f":"IF($AK$12=0,0,$AK$12)","v":0},null,{"$f":"IF($AL$12=0,0,$AL$12)","v":0},null,{"$f":"IF($AM$12=0,0,$AM$12)","v":0},null,{"$f":"IF($AN$12=0,0,$AN$12)","v":0},null,{"$f":"IF($AO$12=0,0,$AO$12)","v":0},null,{"$f":"IF($AP$12=0,0,$AP$12)","v":0},null,{"$f":"IF($AQ$12=0,0,$AQ$12)","v":0},null,{"$f":"IF($AR$12=0,0,$AR$12)","v":0},null,null,null,null,null,null,null,{"$f":"IF($AV$12=0,0,$AV$12)","v":0}]
[null,{"$f":"Labels!$B$136","v":"de l'année en cours (contrôle)"},null,null,null,{"$f":"Labels!$B$137","v":"cc"},{"$f":"IF($AJ$15=0,0,$AJ$15)","v":0},null,{"$f":"IF($AK$15=0,0,$AK$15)","v":0},null,{"$f":"IF($AL$15=0,0,$AL$15)","v":0},null,{"$f":"IF($AM$15=0,0,$AM$15)","v":0},null,{"$f":"IF($AN$15=0,0,$AN$15)","v":0},null,{"$f":"IF($AO$15=0,0,$AO$15)","v":0},null,{"$f":"IF($AP$15=0,0,$AP$15)","v":0},null,{"$f":"IF($AQ$15=0,0,$AQ$15)","v":0},null,{"$f":"IF($AR$15=0,0,$AR$15)","v":0},null,{"$f":"IF($AS$15=0,0,$AS$15)","v":0},null,{"$f":"IF($AT$15=0,0,$AT$15)","v":0},null,{"$f":"IF($AU$15=0,0,$AU$15)","v":0},null,{"$f":"IF($AV$15=0,0,$AV$15)","v":0}]
[{"$f":"Labels!$B$138","v":"Paiement des heures"},{"$f":"Labels!$B$139","v":"de l'année passée"},null,null,null,null,{"$f":"IF($AJ$21=0,0,$AJ$21)","v":0},null,{"$f":"IF($AK$21=0,0,$AK$21)","v":0},null,{"$f":"IF($AL$21=0,0,$AL$21)","v":0},null,{"$f":"IF($AM$21=0,0,$AM$21)","v":0},null,{"$f":"IF($AN$21=0,0,$AN$21)","v":0},null,{"$f":"IF($AO$21=0,0,$AO$21)","v":0},null,{"$f":"IF($AP$21=0,0,$AP$21)","v":0},null,{"$f":"IF($AQ$21=0,0,$AQ$21)","v":0},null,{"$f":"IF($AR$21=0,0,$AR$21)","v":0},null,null,null,null,null,null,null,{"$f":"IF($AV$21=0,0,$AV$21)","v":0}]
[{"$f":"Labels!$B$140","v":"Différence en heures"},{"$f":"Labels!$B$141","v":"après compensation et paiement"},null,null,null,null,{"$f":"IF(ROUND($P$4,3)=0,0,$P$4-G579-G581)","v":0},null,{"$f":"IF(ROUND(G582,3)=0,0,G582-(SUM(I579+I581)))","v":0},null,{"$f":"IF(ROUND(I582,3)=0,0,I582-K581-K579)","v":0},null,{"$f":"IF(ROUND(K582,3)=0,0,K582-(SUM(M581+M579)))","v":0},null,{"$f":"IF(ROUND(M582,3)=0,0,M582-(SUM(O581+O579)))","v":0},null,{"$f":"IF(ROUND(O582,3)=0,0,O582-(SUM(Q581+Q579)))","v":0},null,{"$f":"IF(ROUND(Q582,3)=0,0,Q582-(SUM(S581+S579)))","v":0},null,{"$f":"IF(ROUND(S582,3)=0,0,S582-(SUM(U581+U579)))","v":0},null,{"$f":"IF(ROUND(U582,3)=0,0,U582-(SUM(W581+W579)))","v":0},null,{"$f":"IF($W$62<0.1,\"\",AY564)","v":""}]
[{"$f":"Labels!$B$138","v":"Paiement des heures"},{"$f":"Labels!$B$142","v":"de l'année en cours"},null,null,null,null,{"$f":"IF($AJ$22=0,0,$AJ$22)","v":0},null,{"$f":"IF($AK$22=0,0,$AK$22)","v":0},null,{"$f":"IF($AL$22=0,0,$AL$22)","v":0},null,{"$f":"IF($AM$22=0,0,$AM$22)","v":0},null,{"$f":"IF($AN$22=0,0,$AN$22)","v":0},null,{"$f":"IF($AO$22=0,0,$AO$22)","v":0},null,{"$f":"IF($AP$22=0,0,$AP$22)","v":0},null,{"$f":"IF($AQ$22=0,0,$AQ$22)","v":0},null,{"$f":"IF($AR$22=0,0,$AR$22)","v":0},null,{"$f":"IF($AS$22=0,0,$AS$22)","v":0},null,{"$f":"IF($AT$22=0,0,$AT$22)","v":0},null,{"$f":"IF($AU$22=0,0,$AU$22)","v":0},null,{"$f":"IF($AV$22=0,0,$AV$22)","v":0}]
[{"$f":"Labels!$B$143","v":"Heures manquantes"},{"$f":"Labels!$B$144","v":"de l'année en cours (contrôle)"},null,null,null,{"$f":"Labels!$B$145","v":"hm"},{"$f":"IF($AJ$14=0,0,$AJ$14)","v":0},null,{"$f":"IF($AK$14=0,0,$AK$14)","v":0},null,{"$f":"IF($AL$14=0,0,$AL$14)","v":0},null,{"$f":"IF($AM$14=0,0,$AM$14)","v":0},null,{"$f":"IF($AN$14=0,0,$AN$14)","v":0},null,{"$f":"IF($AO$14=0,0,$AO$14)","v":0},null,{"$f":"IF($AP$14=0,0,$AP$14)","v":0},null,{"$f":"IF($AQ$14=0,0,$AQ$14)","v":0},null,{"$f":"IF($AR$14=0,0,$AR$14)","v":0},null,{"$f":"IF($AS$14=0,0,$AS$14)","v":0},null,{"$f":"IF($AT$14=0,0,$AT$14)","v":0},null,{"$f":"IF($AU$14=0,0,$AU$14)","v":0},null,{"$f":"IF($AV$14=0,0,$AV$14)","v":0}]
[{"$f":"Labels!$B$146","v":"Total (majorations inclus)"},{"$f":"Labels!$B$147","v":"heures productives et inproductives"},null,null,null,null,{"$f":"IF($AG$35=0,0,$AG$35)","v":0},null,{"$f":"IF($AG$100=0,0,$AG$100)","v":0},null,{"$f":"IF($AG$165=0,0,$AG$165)","v":0},null,{"$f":"IF($AG$230=0,0,$AG$230)","v":0},null,{"$f":"IF($AG$295=0,0,$AG$295)","v":0},null,{"$f":"IF($AG$360=0,0,$AG$360)","v":0},null,{"$f":"IF($AG$425=0,0,$AG$425)","v":0},null,{"$f":"IF($AG$490=0,0,$AG$490)","v":0},null,{"$f":"IF($AG$555=0,0,$AG$555)","v":0},null,{"$f":"IF($AG$620=0,0,$AG$620)","v":0},null,{"$f":"IF($AG$685=0,0,$AG$685)","v":0},null,{"$f":"IF($AG$750=0,0,$AG$750)","v":0},null,{"$f":"SUM($G$65:$AD$65)","v":0}]
[{"$f":"Labels!$B$148","v":"Comparaison des heures"},{"$f":"Labels!$B$149","v":"aux heures théorique CCT (heures \nmanquantes de l'année passée incl.)"},null,null,null,null,{"$f":"IF($AG$37=0,0,$AG$37)-$AE$34+$P$5","v":-176},null,{"$f":"IF($AG$102=0,0,$AG$102)-$AE$99","v":-160},null,{"$f":"IF($AG$167=0,0,$AG$167)-$AE$164","v":-184},null,{"$f":"IF($AG$232=0,0,$AG$232)-$AE$229","v":-160},null,{"$f":"IF($AG$297=0,0,$AG$297)-$AE$294","v":-184},null,{"$f":"IF($AG$362=0,0,$AG$362)-$AE$359","v":-176},null,{"$f":"IF($AG$427=0,0,$AG$427)-$AE$424","v":-168},null,{"$f":"IF($AG$492=0,0,$AG$492)-$AE$489","v":-184},null,{"$f":"IF($AG$557=0,0,$AG$557)-$AE$554","v":-168},null,{"$f":"IF($AG$622=0,0,$AG$622)-$AE$619","v":-176},null,{"$f":"IF($AG$687=0,0,$AG$687)-$AE$684","v":-176},null,{"$f":"IF($AG$752=0,0,$AG$752)-$AE$749","v":-168},null,{"$f":"SUM($G$66:$AD$66)","v":-2080}]
[null,{"$f":"Labels!$B$151","v":"aux heures théorique (cumulées)"},null,null,null,null,{"$f":"IF(G560=0,0,$G$66)","v":-176},null,{"$f":"IF(I560=0,0,SUM($G$66:$J$66))","v":-336},null,{"$f":"IF(K560=0,0,SUM($G$66:$L$66))","v":-520},null,{"$f":"IF(M560=0,0,SUM($G$66:$N$66))","v":-680},null,{"$f":"IF(O560=0,0,SUM($G$66:$P$66))","v":-864},null,{"$f":"IF(Q560=0,0,SUM($G$66:$R$66))","v":-1040},null,{"$f":"IF(S560=0,0,SUM($G$66:$T$66))","v":-1208},null,{"$f":"IF(U560=0,0,SUM($G$66:$V$66))","v":-1392},null,{"$f":"IF(W560=0,0,SUM($G$66:$X$66))","v":-1560},null,{"$f":"IF(Y560=0,0,SUM($G$66:$Z$66))","v":-1736},null,{"$f":"IF(AA560=0,0,SUM($G$66:$AB$66))","v":-1912},null,{"$f":"IF(AC560=0,0,SUM($G$66:$AD$66))","v":-2080}]
[{"$f":"Labels!$B$153","v":"Vacances (contrôle)"},{"$f":"Labels!$B$154","v":"Vacances année passée"},null,null,null,null,{"$f":"IF($AA$4=0,0,$AA$4)","v":0},null,{"$f":"Labels!$B$155","v":"Vacances selon \nart 12.1 CCT"},null,null,null,{"$f":"IF($AA$5=0,0,$AA$5)","v":0},null,{"$f":"Labels!$B$156","v":"Total des vacances"},null,null,null,{"$f":"SUM(G588+M588)","v":0},null,{"$f":"Labels!$B$157","v":"Vacances prises"},null,null,null,{"$f":"IF($AV$4=0,0,$AV$4)","v":0},null,{"$f":"Labels!$B$158","v":"Vacances restantes"},null,null,null,{"$f":"IF(S588=0,0,S588-Y588)","v":0}]
[]
[]
[{"$f":"$A$3","v":"Nom/Prénom"},{"$f":"IF($B$3=\"\",\"\",$B$3)","v":"Modèle Pierre"},null,null,null,null,null,null,null,null,null,null,null,null,null,null,null,null,null,null,null,null,null,null,null,null,null,null,null,null,null,{"$f":"AF3","v":0}]
[{"$f":"$A$4","v":"Emploi %"},{"$f":"$AL$57","v":100},null,{"$f":"Labels!B98","v":"en octobre"}]
[{"$f":"$A$5","v":"Solde année en cours"},null,null,{"$f":"IF($AE$66=0,0,$AE$66)","v":-2080}]
[{"$f":"TEXT(DATE(YEAR(AP29),MONTH(AP29)+9,1),\"MMMM\"&Labels!B13)","v":"octobre"},{"$f":"$B$9","v":"Solde mois + / -"},null,null,null,{"$f":"(AG597-(SUM(AG598:AG612)-AE619))*-1","v":-176},null,null,null,null,{"$f":"$K$9","v":" = "},{"$f":"$L$9","v":"Les cases marquées en jaune doivent être remplies (les autres seront calculées automatiquement)"},null,null,null,null,null,null,null,null,null,null,null,null,null,null,null,null,null,null,null,null,{"$f":"COUNT(B597:AF597)&\" \"&Labels!$B$63","v":"22 Jours"}]
[{"$f":"$A$10","v":"Jour"},{"$f":"AE530+1","v":"2023-10-01"},{"$f":"B595+1","v":"2023-10-02"},{"$f":"C595+1","v":"2023-10-03"},"2023-10-04","2023-10-05","2023-10-06","2023-10-07","2023-10-08","2023-10-09","2023-10-10","2023-10-11","2023-10-12","2023-10-13","2023-10-14","2023-10-15","2023-10-16","2023-10-17","2023-10-18","2023-10-19","2023-10-20","2023-10-21","2023-10-22","2023-10-23","2023-10-24","2023-10-25","2023-10-26","2023-10-27","2023-10-28","2023-10-29","2023-10-30","2023-10-31"]
[{"$f":"$A$11","v":"semaine civile"},{"$f":"IF(B595=\"\",\"\",TRUNC((B595-DATE(YEAR(B595+3-MOD(B595-2,7)),1,MOD(B595-2,7)-9))/7))","v":39},40,40,40,40,40,40,40,41,41,41,41,41,41,41,42,42,42,42,42,42,42,43,43,43,43,43,43,43,44,44,null,"Woche"]
[{"$f":"$A$12","v":"Théorique sel. CCT"},{"$f":"IF(AND(MOD(B595,7)>=2,SUMPRODUCT(($AM$60:$AQ$60=MOD(B595,7))*$AM$57:$AQ$57),B1054=\"\"),$J$7*SUMPRODUCT(($AM$77:$AQ$77=MOD(B595,7))*$AM$74:$AQ$74)%,\"\")","v":""},{"$f":"IF(AND(MOD(C595,7)>=2,SUMPRODUCT(($AM$60:$AQ$60=MOD(C595,7))*$AM$57:$AQ$57),C1054=\"\"),$J$7*SUMPRODUCT(($AM$77:$AQ$77=MOD(C595,7))*$AM$74:$AQ$74)%,\"\")","v":8},{"$f":"IF(AND(MOD(D595,7)>=2,SUMPRODUCT(($AM$60:$AQ$60=MOD(D595,7))*$AM$57:$AQ$57),D1054=\"\"),$J$7*SUMPRODUCT(($AM$77:$AQ$77=MOD(D595,7))*$AM$74:$AQ$74)%,\"\")","v":8},{"$f":"IF(AND(MOD(E595,7)>=2,SUMPRODUCT(($AM$60:$AQ$60=MOD(E595,7))*$AM$57:$AQ$57),E1054=\"\"),$J$7*SUMPRODUCT(($AM$77:$AQ$77=MOD(E595,7))*$AM$74:$AQ$74)%,\"\")","v":8},{"$f":"IF(AND(MOD(F595,7)>=2,SUMPRODUCT(($AM$60:$AQ$60=MOD(F595,7))*$AM$57:$AQ$57),F1054=\"\"),$J$7*SUMPRODUCT(($AM$77:$AQ$77=MOD(F595,7))*$AM$74:$AQ$74)%,\"\")","v":8},{"$f":"IF(AND(MOD(G595,7)>=2,SUMPRODUCT(($AM$60:$AQ$60=MOD(G595,7))*$AM$57:$AQ$57),G1054=\"\"),$J$7*SUMPRODUCT(($AM$77:$AQ$77=MOD(G595,7))*$AM$74:$AQ$74)%,\"\")","v":8},{"$f":"IF(AND(MOD(H595,7)>=2,SUMPRODUCT(($AM$60:$AQ$60=MOD(H595,7))*$AM$57:$AQ$57),H1054=\"\"),$J$7*SUMPRODUCT(($AM$77:$AQ$77=MOD(H595,7))*$AM$74:$AQ$74)%,\"\")","v":""},{"$f":"IF(AND(MOD(I595,7)>=2,SUMPRODUCT(($AM$60:$AQ$60=MOD(I595,7))*$AM$57:$AQ$57),I1054=\"\"),$J$7*SUMPRODUCT(($AM$77:$AQ$77=MOD(I595,7))*$AM$74:$AQ$74)%,\"\")","v":""},{"$f":"IF(AND(MOD(J595,7)>=2,SUMPRODUCT(($AM$60:$AQ$60=MOD(J595,7))*$AM$57:$AQ$57),J1054=\"\"),$J$7*SUMPRODUCT(($AM$77:$AQ$77=MOD(J595,7))*$AM$74:$AQ$74)%,\"\")","v":8},{"$f":"IF(AND(MOD(K595,7)>=2,SUMPRODUCT(($AM$60:$AQ$60=MOD(K595,7))*$AM$57:$AQ$57),K1054=\"\"),$J$7*SUMPRODUCT(($AM$77:$AQ$77=MOD(K595,7))*$AM$74:$AQ$74)%,\"\")","v":8},{"$f":"IF(AND(MOD(L595,7)>=2,SUMPRODUCT(($AM$60:$AQ$60=MOD(L595,7))*$AM$57:$AQ$57),L1054=\"\"),$J$7*SUMPRODUCT(($AM$77:$AQ$77=MOD(L595,7))*$AM$74:$AQ$74)%,\"\")","v":8},{"$f":"IF(AND(MOD(M595,7)>=2,SUMPRODUCT(($AM$60:$AQ$60=MOD(M595,7))*$AM$57:$AQ$57),M1054=\"\"),$J$7*SUMPRODUCT(($AM$77:$AQ$77=MOD(M595,7))*$AM$74:$AQ$74)%,\"\")","v":8},{"$f":"IF(AND(MOD(N595,7)>=2,SUMPRODUCT(($AM$60:$AQ$60=MOD(N595,7))*$AM$57:$AQ$57),N1054=\"\"),$J$7*SUMPRODUCT(($AM$77:$AQ$77=MOD(N595,7))*$AM$74:$AQ$74)%,\"\")","v":8},{"$f":"IF(AND(MOD(O595,7)>=2,SUMPRODUCT(($AM$60:$AQ$60=MOD(O595,7))*$AM$57:$AQ$57),O1054=\"\"),$J$7*SUMPRODUCT(($AM$77:$AQ$77=MOD(O595,7))*$AM$74:$AQ$74)%,\"\")","v":""},{"$f":"IF(AND(MOD(P595,7)>=2,SUMPRODUCT(($AM$60:$AQ$60=MOD(P595,7))*$AM$57:$AQ$57),P1054=\"\"),$J$7*SUMPRODUCT(($AM$77:$AQ$77=MOD(P595,7))*$AM$74:$AQ$74)%,\"\")","v":""},{"$f":"IF(AND(MOD(Q595,7)>=2,SUMPRODUCT(($AM$60:$AQ$60=MOD(Q595,7))*$AM$57:$AQ$57),Q1054=\"\"),$J$7*SUMPRODUCT(($AM$77:$AQ$77=MOD(Q595,7))*$AM$74:$AQ$74)%,\"\")","v":8},{"$f":"IF(AND(MOD(R595,7)>=2,SUMPRODUCT(($AM$60:$AQ$60=MOD(R595,7))*$AM$57:$AQ$57),R1054=\"\"),$J$7*SUMPRODUCT(($AM$77:$AQ$77=MOD(R595,7))*$AM$74:$AQ$74)%,\"\")","v":8},{"$f":"IF(AND(MOD(S595,7)>=2,SUMPRODUCT(($AM$60:$AQ$60=MOD(S595,7))*$AM$57:$AQ$57),S1054=\"\"),$J$7*SUMPRODUCT(($AM$77:$AQ$77=MOD(S595,7))*$AM$74:$AQ$74)%,\"\")","v":8},{"$f":"IF(AND(MOD(T595,7)>=2,SUMPRODUCT(($AM$60:$AQ$60=MOD(T595,7))*$AM$57:$AQ$57),T1054=\"\"),$J$7*SUMPRODUCT(($AM$77:$AQ$77=MOD(T595,7))*$AM$74:$AQ$74)%,\"\")","v":8},{"$f":"IF(AND(MOD(U595,7)>=2,SUMPRODUCT(($AM$60:$AQ$60=MOD(U595,7))*$AM$57:$AQ$57),U1054=\"\"),$J$7*SUMPRODUCT(($AM$77:$AQ$77=MOD(U595,7))*$AM$74:$AQ$74)%,\"\")","v":8},{"$f":"IF(AND(MOD(V595,7)>=2,SUMPRODUCT(($AM$60:$AQ$60=MOD(V595,7))*$AM$57:$AQ$57),V1054=\"\"),$J$7*SUMPRODUCT(($AM$77:$AQ$77=MOD(V595,7))*$AM$74:$AQ$74)%,\"\")","v":""},{"$f":"IF(AND(MOD(W595,7)>=2,SUMPRODUCT(($AM$60:$AQ$60=MOD(W595,7))*$AM$57:$AQ$57),W1054=\"\"),$J$7*SUMPRODUCT(($AM$77:$AQ$77=MOD(W595,7))*$AM$74:$AQ$74)%,\"\")","v":""},{"$f":"IF(AND(MOD(X595,7)>=2,SUMPRODUCT(($AM$60:$AQ$60=MOD(X595,7))*$AM$57:$AQ$57),X1054=\"\"),$J$7*SUMPRODUCT(($AM$77:$AQ$77=MOD(X595,7))*$AM$74:$AQ$74)%,\"\")","v":8},{"$f":"IF(AND(MOD(Y595,7)>=2,SUMPRODUCT(($AM$60:$AQ$60=MOD(Y595,7))*$AM$57:$AQ$57),Y1054=\"\"),$J$7*SUMPRODUCT(($AM$77:$AQ$77=MOD(Y595,7))*$AM$74:$AQ$74)%,\"\")","v":8},{"$f":"IF(AND(MOD(Z595,7)>=2,SUMPRODUCT(($AM$60:$AQ$60=MOD(Z595,7))*$AM$57:$AQ$57),Z1054=\"\"),$J$7*SUMPRODUCT(($AM$77:$AQ$77=MOD(Z595,7))*$AM$74:$AQ$74)%,\"\")","v":8},{"$f":"IF(AND(MOD(AA595,7)>=2,SUMPRODUCT(($AM$60:$AQ$60=MOD(AA595,7))*$AM$57:$AQ$57),AA1054=\"\"),$J$7*SUMPRODUCT(($AM$77:$AQ$77=MOD(AA595,7))*$AM$74:$AQ$74)%,\"\")","v":8},{"$f":"IF(AND(MOD(AB595,7)>=2,SUMPRODUCT(($AM$60:$AQ$60=MOD(AB595,7))*$AM$57:$AQ$57),AB1054=\"\"),$J$7*SUMPRODUCT(($AM$77:$AQ$77=MOD(AB595,7))*$AM$74:$AQ$74)%,\"\")","v":8},{"$f":"IF(AND(MOD(AC595,7)>=2,SUMPRODUCT(($AM$60:$AQ$60=MOD(AC595,7))*$AM$57:$AQ$57),AC1054=\"\"),$J$7*SUMPRODUCT(($AM$77:$AQ$77=MOD(AC595,7))*$AM$74:$AQ$74)%,\"\")","v":""},{"$f":"IF(AND(MOD(AD595,7)>=2,SUMPRODUCT(($AM$60:$AQ$60=MOD(AD595,7))*$AM$57:$AQ$57),AD1054=\"\"),$J$7*SUMPRODUCT(($AM$77:$AQ$77=MOD(AD595,7))*$AM$74:$AQ$74)%,\"\")","v":""},{"$f":"IF(AND(MOD(AE595,7)>=2,SUMPRODUCT(($AM$60:$AQ$60=MOD(AE595,7))*$AM$57:$AQ$57),AE1054=\"\"),$J$7*SUMPRODUCT(($AM$77:$AQ$77=MOD(AE595,7))*$AM$74:$AQ$74)%,\"\")","v":8},{"$f":"IF(AND(MOD(AF595,7)>=2,SUMPRODUCT(($AM$60:$AQ$60=MOD(AF595,7))*$AM$57:$AQ$57),AF1054=\"\"),$J$7*SUMPRODUCT(($AM$77:$AQ$77=MOD(AF595,7))*$AM$74:$AQ$74)%,\"\")","v":8},{"$f":"SUM(B597:AF597)","v":176},"[00]"]
[{"$f":"$A$13","v":"Absences"},{"$f":"B1070","v":0},{"$f":"C1070","v":0},0,0,0,0,0,0,0,0,0,0,0,0,0,0,0,0,0,0,0,0,0,0,0,0,0,0,0,0,0,{"$f":"SUM($AS$3:$AS$13)","v":0},"[01]"]
[{"$f":"$A$14","v":"Code"},{"$f":"IF(SUM(B1057:B1069)<>0,IF(MAX(B1057:B1069)<B1070,Labels!$B$163,INDEX($AH$1057:$AH$1069,MATCH(MAX(B1057:B1069),B1057:B1069,0))),\"\")","v":""},{"$f":"IF(SUM(C1057:C1069)<>0,IF(MAX(C1057:C1069)<C1070,Labels!$B$163,INDEX($AH$1057:$AH$1069,MATCH(MAX(C1057:C1069),C1057:C1069,0))),\"\")","v":""},{"$f":"IF(SUM(D1057:D1069)<>0,IF(MAX(D1057:D1069)<D1070,Labels!$B$163,INDEX($AH$1057:$AH$1069,MATCH(MAX(D1057:D1069),D1057:D1069,0))),\"\")","v":""},{"$f":"IF(SUM(E1057:E1069)<>0,IF(MAX(E1057:E1069)<E1070,Labels!$B$163,INDEX($AH$1057:$AH$1069,MATCH(MAX(E1057:E1069),E1057:E1069,0))),\"\")","v":""},{"$f":"IF(SUM(F1057:F1069)<>0,IF(MAX(F1057:F1069)<F1070,Labels!$B$163,INDEX($AH$1057:$AH$1069,MATCH(MAX(F1057:F1069),F1057:F1069,0))),\"\")","v":""},{"$f":"IF(SUM(G1057:G1069)<>0,IF(MAX(G1057:G1069)<G1070,Labels!$B$163,INDEX($AH$1057:$AH$1069,MATCH(MAX(G1057:G1069),G1057:G1069,0))),\"\")","v":""},{"$f":"IF(SUM(H1057:H1069)<>0,IF(MAX(H1057:H1069)<H1070,Labels!$B$163,INDEX($AH$1057:$AH$1069,MATCH(MAX(H1057:H1069),H1057:H1069,0))),\"\")","v":""},{"$f":"IF(SUM(I1057:I1069)<>0,IF(MAX(I1057:I1069)<I1070,Labels!$B$163,INDEX($AH$1057:$AH$1069,MATCH(MAX(I1057:I1069),I1057:I1069,0))),\"\")","v":""},{"$f":"IF(SUM(J1057:J1069)<>0,IF(MAX(J1057:J1069)<J1070,Labels!$B$163,INDEX($AH$1057:$AH$1069,MATCH(MAX(J1057:J1069),J1057:J1069,0))),\"\")","v":""},{"$f":"IF(SUM(K1057:K1069)<>0,IF(MAX(K1057:K1069)<K1070,Labels!$B$163,INDEX($AH$1057:$AH$1069,MATCH(MAX(K1057:K1069),K1057:K1069,0))),\"\")","v":""},{"$f":"IF(SUM(L1057:L1069)<>0,IF(MAX(L1057:L1069)<L1070,Labels!$B$163,INDEX($AH$1057:$AH$1069,MATCH(MAX(L1057:L1069),L1057:L1069,0))),\"\")","v":""},{"$f":"IF(SUM(M1057:M1069)<>0,IF(MAX(M1057:M1069)<M1070,Labels!$B$163,INDEX($AH$1057:$AH$1069,MATCH(MAX(M1057:M1069),M1057:M1069,0))),\"\")","v":""},{"$f":"IF(SUM(N1057:N1069)<>0,IF(MAX(N1057:N1069)<N1070,Labels!$B$163,INDEX($AH$1057:$AH$1069,MATCH(MAX(N1057:N1069),N1057:N1069,0))),\"\")","v":""},{"$f":"IF(SUM(O1057:O1069)<>0,IF(MAX(O1057:O1069)<O1070,Labels!$B$163,INDEX($AH$1057:$AH$1069,MATCH(MAX(O1057:O1069),O1057:O1069,0))),\"\")","v":""},{"$f":"IF(SUM(P1057:P1069)<>0,IF(MAX(P1057:P1069)<P1070,Labels!$B$163,INDEX($AH$1057:$AH$1069,MATCH(MAX(P1057:P1069),P1057:P1069,0))),\"\")","v":""},{"$f":"IF(SUM(Q1057:Q1069)<>0,IF(MAX(Q1057:Q1069)<Q1070,Labels!$B$163,INDEX($AH$1057:$AH$1069,MATCH(MAX(Q1057:Q1069),Q1057:Q1069,0))),\"\")","v":""},{"$f":"IF(SUM(R1057:R1069)<>0,IF(MAX(R1057:R1069)<R1070,Labels!$B$163,INDEX($AH$1057:$AH$1069,MATCH(MAX(R1057:R1069),R1057:R1069,0))),\"\")","v":""},{"$f":"IF(SUM(S1057:S1069)<>0,IF(MAX(S1057:S1069)<S1070,Labels!$B$163,INDEX($AH$1057:$AH$1069,MATCH(MAX(S1057:S1069),S1057:S1069,0))),\"\")","v":""},{"$f":"IF(SUM(T1057:T1069)<>0,IF(MAX(T1057:T1069)<T1070,Labels!$B$163,INDEX($AH$1057:$AH$1069,MATCH(MAX(T1057:T1069),T1057:T1069,0))),\"\")","v":""},{"$f":"IF(SUM(U1057:U1069)<>0,IF(MAX(U1057:U1069)<U1070,Labels!$B$163,INDEX($AH$1057:$AH$1069,MATCH(MAX(U1057:U1069),U1057:U1069,0))),\"\")","v":""},{"$f":"IF(SUM(V1057:V1069)<>0,IF(MAX(V1057:V1069)<V1070,Labels!$B$163,INDEX($AH$1057:$AH$1069,MATCH(MAX(V1057:V1069),V1057:V1069,0))),\"\")","v":""},{"$f":"IF(SUM(W1057:W1069)<>0,IF(MAX(W1057:W1069)<W1070,Labels!$B$163,INDEX($AH$1057:$AH$1069,MATCH(MAX(W1057:W1069),W1057:W1069,0))),\"\")","v":""},{"$f":"IF(SUM(X1057:X1069)<>0,IF(MAX(X1057:X1069)<X1070,Labels!$B$163,INDEX($AH$1057:$AH$1069,MATCH(MAX(X1057:X1069),X1057:X1069,0))),\"\")","v":""},{"$f":"IF(SUM(Y1057:Y1069)<>0,IF(MAX(Y1057:Y1069)<Y1070,Labels!$B$163,INDEX($AH$1057:$AH$1069,MATCH(MAX(Y1057:Y1069),Y1057:Y1069,0))),\"\")","v":""},{"$f":"IF(SUM(Z1057:Z1069)<>0,IF(MAX(Z1057:Z1069)<Z1070,Labels!$B$163,INDEX($AH$1057:$AH$1069,MATCH(MAX(Z1057:Z1069),Z1057:Z1069,0))),\"\")","v":""},{"$f":"IF(SUM(AA1057:AA1069)<>0,IF(MAX(AA1057:AA1069)<AA1070,Labels!$B$163,INDEX($AH$1057:$AH$1069,MATCH(MAX(AA1057:AA1069),AA1057:AA1069,0))),\"\")","v":""},{"$f":"IF(SUM(AB1057:AB1069)<>0,IF(MAX(AB1057:AB1069)<AB1070,Labels!$B$163,INDEX($AH$1057:$AH$1069,MATCH(MAX(AB1057:AB1069),AB1057:AB1069,0))),\"\")","v":""},{"$f":"IF(SUM(AC1057:AC1069)<>0,IF(MAX(AC1057:AC1069)<AC1070,Labels!$B$163,INDEX($AH$1057:$AH$1069,MATCH(MAX(AC1057:AC1069),AC1057:AC1069,0))),\"\")","v":""},{"$f":"IF(SUM(AD1057:AD1069)<>0,IF(MAX(AD1057:AD1069)<AD1070,Labels!$B$163,INDEX($AH$1057:$AH$1069,MATCH(MAX(AD1057:AD1069),AD1057:AD1069,0))),\"\")","v":""},{"$f":"IF(SUM(AE1057:AE1069)<>0,IF(MAX(AE1057:AE1069)<AE1070,Labels!$B$163,INDEX($AH$1057:$AH$1069,MATCH(MAX(AE1057:AE1069),AE1057:AE1069,0))),\"\")","v":""},{"$f":"IF(SUM(AF1057:AF1069)<>0,IF(MAX(AF1057:AF1069)<AF1070,Labels!$B$163,INDEX($AH$1057:$AH$1069,MATCH(MAX(AF1057:AF1069),AF1057:AF1069,0))),\"\")","v":""},{"$f":"$AS$16*-1","v":0},"[02]"]
[{"$f":"$A$15","v":"00h00-06h00 1)"},null,null,null,null,null,null,null,null,null,null,null,null,null,null,null,null,null,null,null,null,null,null,null,null,null,null,null,null,null,null,null,{"$f":"SUM(B600:AF600)","v":0},"[04]"]
[{"$f":"$A$16","v":"06h00-20h00 2)"},null,null,null,null,null,null,null,null,null,null,null,null,null,null,null,null,null,null,null,null,null,null,null,null,null,null,null,null,null,null,null,{"$f":"SUMPRODUCT(B601:AF601*(B597:AF597<>\"\"))-SUMPRODUCT(B601:AF601*(B603:AF603=\"ft\"))","v":0},"[03]"]
[{"$f":"$A$17","v":"20h00-24h00 3)"},null,null,null,null,null,null,null,null,null,null,null,null,null,null,null,null,null,null,null,null,null,null,null,null,null,null,null,null,null,null,null,{"$f":"SUM(B602:AF602)","v":0},"[05]"]
[{"$f":"$A$18","v":"Jours fériés \"jf\""},{"$f":"IF(WEEKDAY(B595,2)<=6,IF(CALENDRIER!E21=\"x\",Labels!$B$118,\"\"),\"\")","v":""},{"$f":"IF(WEEKDAY(C595,2)<=6,IF(CALENDRIER!F21=\"x\",Labels!$B$118,\"\"),\"\")","v":""},{"$f":"IF(WEEKDAY(D595,2)<=6,IF(CALENDRIER!G21=\"x\",Labels!$B$118,\"\"),\"\")","v":""},{"$f":"IF(WEEKDAY(E595,2)<=6,IF(CALENDRIER!H21=\"x\",Labels!$B$118,\"\"),\"\")","v":""},{"$f":"IF(WEEKDAY(F595,2)<=6,IF(CALENDRIER!I21=\"x\",Labels!$B$118,\"\"),\"\")","v":""},{"$f":"IF(WEEKDAY(G595,2)<=6,IF(CALENDRIER!J21=\"x\",Labels!$B$118,\"\"),\"\")","v":""},{"$f":"IF(WEEKDAY(H595,2)<=6,IF(CALENDRIER!K21=\"x\",Labels!$B$118,\"\"),\"\")","v":""},{"$f":"IF(WEEKDAY(I595,2)<=6,IF(CALENDRIER!L21=\"x\",Labels!$B$118,\"\"),\"\")","v":""},{"$f":"IF(WEEKDAY(J595,2)<=6,IF(CALENDRIER!M21=\"x\",Labels!$B$118,\"\"),\"\")","v":""},{"$f":"IF(WEEKDAY(K595,2)<=6,IF(CALENDRIER!N21=\"x\",Labels!$B$118,\"\"),\"\")","v":""},{"$f":"IF(WEEKDAY(L595,2)<=6,IF(CALENDRIER!O21=\"x\",Labels!$B$118,\"\"),\"\")","v":""},{"$f":"IF(WEEKDAY(M595,2)<=6,IF(CALENDRIER!P21=\"x\",Labels!$B$118,\"\"),\"\")","v":""},{"$f":"IF(WEEKDAY(N595,2)<=6,IF(CALENDRIER!Q21=\"x\",Labels!$B$118,\"\"),\"\")","v":""},{"$f":"IF(WEEKDAY(O595,2)<=6,IF(CALENDRIER!R21=\"x\",Labels!$B$118,\"\"),\"\")","v":""},{"$f":"IF(WEEKDAY(P595,2)<=6,IF(CALENDRIER!S21=\"x\",Labels!$B$118,\"\"),\"\")","v":""},{"$f":"IF(WEEKDAY(Q595,2)<=6,IF(CALENDRIER!T21=\"x\",Labels!$B$118,\"\"),\"\")","v":""},{"$f":"IF(WEEKDAY(R595,2)<=6,IF(CALENDRIER!U21=\"x\",Labels!$B$118,\"\"),\"\")","v":""},{"$f":"IF(WEEKDAY(S595,2)<=6,IF(CALENDRIER!V21=\"x\",Labels!$B$118,\"\"),\"\")","v":""},{"$f":"IF(WEEKDAY(T595,2)<=6,IF(CALENDRIER!W21=\"x\",Labels!$B$118,\"\"),\"\")","v":""},{"$f":"IF(WEEKDAY(U595,2)<=6,IF(CALENDRIER!X21=\"x\",Labels!$B$118,\"\"),\"\")","v":""},{"$f":"IF(WEEKDAY(V595,2)<=6,IF(CALENDRIER!Y21=\"x\",Labels!$B$118,\"\"),\"\")","v":""},{"$f":"IF(WEEKDAY(W595,2)<=6,IF(CALENDRIER!Z21=\"x\",Labels!$B$118,\"\"),\"\")","v":""},{"$f":"IF(WEEKDAY(X595,2)<=6,IF(CALENDRIER!AA21=\"x\",Labels!$B$118,\"\"),\"\")","v":""},{"$f":"IF(WEEKDAY(Y595,2)<=6,IF(CALENDRIER!AB21=\"x\",Labels!$B$118,\"\"),\"\")","v":""},{"$f":"IF(WEEKDAY(Z595,2)<=6,IF(CALENDRIER!AC21=\"x\",Labels!$B$118,\"\"),\"\")","v":""},{"$f":"IF(WEEKDAY(AA595,2)<=6,IF(CALENDRIER!AD21=\"x\",Labels!$B$118,\"\"),\"\")","v":""},{"$f":"IF(WEEKDAY(AB595,2)<=6,IF(CALENDRIER!AE21=\"x\",Labels!$B$118,\"\"),\"\")","v":""},{"$f":"IF(WEEKDAY(AC595,2)<=6,IF(CALENDRIER!AF21=\"x\",Labels!$B$118,\"\"),\"\")","v":""},{"$f":"IF(WEEKDAY(AD595,2)<=6,IF(CALENDRIER!AG21=\"x\",Labels!$B$118,\"\"),\"\")","v":""},{"$f":"IF(WEEKDAY(AE595,2)<=6,IF(CALENDRIER!AH21=\"x\",Labels!$B$118,\"\"),\"\")","v":""},{"$f":"IF(WEEKDAY(AF595,2)<=6,IF(CALENDRIER!AI21=\"x\",Labels!$B$118,\"\"),\"\")","v":""},{"$f":"SUM(B601:AF601)-AG601","v":0},"[03b]"]
[{"$f":"$A$19","v":"Majoration  \"jf\""},{"$f":"IF(AND(B603=Labels!$B$118,WEEKDAY(B595,2)<6,B$597<>\"\"),$J$7*SUMPRODUCT(($AM$77:$AQ$77=MOD(B595,7))*$AM$74:$AQ$74)%,\"\")","v":""},{"$f":"IF(AND(C603=Labels!$B$118,WEEKDAY(C595,2)<6,C$597<>\"\"),$J$7*SUMPRODUCT(($AM$77:$AQ$77=MOD(C595,7))*$AM$74:$AQ$74)%,\"\")","v":""},{"$f":"IF(AND(D603=Labels!$B$118,WEEKDAY(D595,2)<6,D$597<>\"\"),$J$7*SUMPRODUCT(($AM$77:$AQ$77=MOD(D595,7))*$AM$74:$AQ$74)%,\"\")","v":""},{"$f":"IF(AND(E603=Labels!$B$118,WEEKDAY(E595,2)<6,E$597<>\"\"),$J$7*SUMPRODUCT(($AM$77:$AQ$77=MOD(E595,7))*$AM$74:$AQ$74)%,\"\")","v":""},{"$f":"IF(AND(F603=Labels!$B$118,WEEKDAY(F595,2)<6,F$597<>\"\"),$J$7*SUMPRODUCT(($AM$77:$AQ$77=MOD(F595,7))*$AM$74:$AQ$74)%,\"\")","v":""},{"$f":"IF(AND(G603=Labels!$B$118,WEEKDAY(G595,2)<6,G$597<>\"\"),$J$7*SUMPRODUCT(($AM$77:$AQ$77=MOD(G595,7))*$AM$74:$AQ$74)%,\"\")","v":""},{"$f":"IF(AND(H603=Labels!$B$118,WEEKDAY(H595,2)<6,H$597<>\"\"),$J$7*SUMPRODUCT(($AM$77:$AQ$77=MOD(H595,7))*$AM$74:$AQ$74)%,\"\")","v":""},{"$f":"IF(AND(I603=Labels!$B$118,WEEKDAY(I595,2)<6,I$597<>\"\"),$J$7*SUMPRODUCT(($AM$77:$AQ$77=MOD(I595,7))*$AM$74:$AQ$74)%,\"\")","v":""},{"$f":"IF(AND(J603=Labels!$B$118,WEEKDAY(J595,2)<6,J$597<>\"\"),$J$7*SUMPRODUCT(($AM$77:$AQ$77=MOD(J595,7))*$AM$74:$AQ$74)%,\"\")","v":""},{"$f":"IF(AND(K603=Labels!$B$118,WEEKDAY(K595,2)<6,K$597<>\"\"),$J$7*SUMPRODUCT(($AM$77:$AQ$77=MOD(K595,7))*$AM$74:$AQ$74)%,\"\")","v":""},{"$f":"IF(AND(L603=Labels!$B$118,WEEKDAY(L595,2)<6,L$597<>\"\"),$J$7*SUMPRODUCT(($AM$77:$AQ$77=MOD(L595,7))*$AM$74:$AQ$74)%,\"\")","v":""},{"$f":"IF(AND(M603=Labels!$B$118,WEEKDAY(M595,2)<6,M$597<>\"\"),$J$7*SUMPRODUCT(($AM$77:$AQ$77=MOD(M595,7))*$AM$74:$AQ$74)%,\"\")","v":""},{"$f":"IF(AND(N603=Labels!$B$118,WEEKDAY(N595,2)<6,N$597<>\"\"),$J$7*SUMPRODUCT(($AM$77:$AQ$77=MOD(N595,7))*$AM$74:$AQ$74)%,\"\")","v":""},{"$f":"IF(AND(O603=Labels!$B$118,WEEKDAY(O595,2)<6,O$597<>\"\"),$J$7*SUMPRODUCT(($AM$77:$AQ$77=MOD(O595,7))*$AM$74:$AQ$74)%,\"\")","v":""},{"$f":"IF(AND(P603=Labels!$B$118,WEEKDAY(P595,2)<6,P$597<>\"\"),$J$7*SUMPRODUCT(($AM$77:$AQ$77=MOD(P595,7))*$AM$74:$AQ$74)%,\"\")","v":""},{"$f":"IF(AND(Q603=Labels!$B$118,WEEKDAY(Q595,2)<6,Q$597<>\"\"),$J$7*SUMPRODUCT(($AM$77:$AQ$77=MOD(Q595,7))*$AM$74:$AQ$74)%,\"\")","v":""},{"$f":"IF(AND(R603=Labels!$B$118,WEEKDAY(R595,2)<6,R$597<>\"\"),$J$7*SUMPRODUCT(($AM$77:$AQ$77=MOD(R595,7))*$AM$74:$AQ$74)%,\"\")","v":""},{"$f":"IF(AND(S603=Labels!$B$118,WEEKDAY(S595,2)<6,S$597<>\"\"),$J$7*SUMPRODUCT(($AM$77:$AQ$77=MOD(S595,7))*$AM$74:$AQ$74)%,\"\")","v":""},{"$f":"IF(AND(T603=Labels!$B$118,WEEKDAY(T595,2)<6,T$597<>\"\"),$J$7*SUMPRODUCT(($AM$77:$AQ$77=MOD(T595,7))*$AM$74:$AQ$74)%,\"\")","v":""},{"$f":"IF(AND(U603=Labels!$B$118,WEEKDAY(U595,2)<6,U$597<>\"\"),$J$7*SUMPRODUCT(($AM$77:$AQ$77=MOD(U595,7))*$AM$74:$AQ$74)%,\"\")","v":""},{"$f":"IF(AND(V603=Labels!$B$118,WEEKDAY(V595,2)<6,V$597<>\"\"),$J$7*SUMPRODUCT(($AM$77:$AQ$77=MOD(V595,7))*$AM$74:$AQ$74)%,\"\")","v":""},{"$f":"IF(AND(W603=Labels!$B$118,WEEKDAY(W595,2)<6,W$597<>\"\"),$J$7*SUMPRODUCT(($AM$77:$AQ$77=MOD(W595,7))*$AM$74:$AQ$74)%,\"\")","v":""},{"$f":"IF(AND(X603=Labels!$B$118,WEEKDAY(X595,2)<6,X$597<>\"\"),$J$7*SUMPRODUCT(($AM$77:$AQ$77=MOD(X595,7))*$AM$74:$AQ$74)%,\"\")","v":""},{"$f":"IF(AND(Y603=Labels!$B$118,WEEKDAY(Y595,2)<6,Y$597<>\"\"),$J$7*SUMPRODUCT(($AM$77:$AQ$77=MOD(Y595,7))*$AM$74:$AQ$74)%,\"\")","v":""},{"$f":"IF(AND(Z603=Labels!$B$118,WEEKDAY(Z595,2)<6,Z$597<>\"\"),$J$7*SUMPRODUCT(($AM$77:$AQ$77=MOD(Z595,7))*$AM$74:$AQ$74)%,\"\")","v":""},{"$f":"IF(AND(AA603=Labels!$B$118,WEEKDAY(AA595,2)<6,AA$597<>\"\"),$J$7*SUMPRODUCT(($AM$77:$AQ$77=MOD(AA595,7))*$AM$74:$AQ$74)%,\"\")","v":""},{"$f":"IF(AND(AB603=Labels!$B$118,WEEKDAY(AB595,2)<6,AB$597<>\"\"),$J$7*SUMPRODUCT(($AM$77:$AQ$77=MOD(AB595,7))*$AM$74:$AQ$74)%,\"\")","v":""},{"$f":"IF(AND(AC603=Labels!$B$118,WEEKDAY(AC595,2)<6,AC$597<>\"\"),$J$7*SUMPRODUCT(($AM$77:$AQ$77=MOD(AC595,7))*$AM$74:$AQ$74)%,\"\")","v":""},{"$f":"IF(AND(AD603=Labels!$B$118,WEEKDAY(AD595,2)<6,AD$597<>\"\"),$J$7*SUMPRODUCT(($AM$77:$AQ$77=MOD(AD595,7))*$AM$74:$AQ$74)%,\"\")","v":""},{"$f":"IF(AND(AE603=Labels!$B$118,WEEKDAY(AE595,2)<6,AE$597<>\"\"),$J$7*SUMPRODUCT(($AM$77:$AQ$77=MOD(AE595,7))*$AM$74:$AQ$74)%,\"\")","v":""},{"$f":"IF(AND(AF603=Labels!$B$118,WEEKDAY(AF595,2)<6,AF$597<>\"\"),$J$7*SUMPRODUCT(($AM$77:$AQ$77=MOD(AF595,7))*$AM$74:$AQ$74)%,\"\")","v":""},{"$f":"SUM(B604:AF604)","v":0},"[06]"]
[{"$f":"$A$20","v":"total quotidien"},{"$f":"SUM(B600:B602)","v":0},{"$f":"SUM(C600:C602)","v":0},0,0,0,0,0,0,0,0,0,0,0,0,0,0,0,0,0,0,0,0,0,0,0,0,0,0,0,0,0,null,"TT"]
[{"$f":"$A$21","v":"."},null,null,null,null,null,null,null,null,null,null,null,null,null,null,null,null,null,null,null,null,null,null,null,null,null,null,null,null,null,null,null,null,"R"]
[{"$f":"$A$22","v":"."},null,null,null,null,null,null,null,null,null,null,null,null,null,null,null,null,null,null,null,null,null,null,null,null,null,null,null,null,null,null,null,null,"R"]
[{"$f":"$A$23","v":"transition mois"},{"$f":"IF(WEEKDAY(B595)=1,TEXT(B595-1,\"MMM\"&Labels!B13),\"\")","v":"sept."},null,null,null,null,null,null,null,null,null,null,null,null,null,null,null,null,null,null,null,null,null,null,null,null,null,null,null,null,null,{"$f":"IF(AND(WEEKDAY(AF595)>1,WEEKDAY(AF595)<7),TEXT(DATE($B$5,MONTH(AF595)+1,1),\"MMM\"&Labels!B13),\"\")","v":"nov."},null,"MNT"]
[{"$f":"$A$24","v":"Total hebdomadaire"},{"$f":"IF(WEEKDAY(B595)=7,SUMIF($B531:$AF531,B596,$B540:$AF540)+SUMIF($B596:$AF596,B596,$B605:$AF605)+SUMIF($B661:$AF661,B596,$B670:$AF670),B608)","v":"sept."},{"$f":"IF(WEEKDAY(C595)=7,SUMIF($B531:$AF531,C596,$B540:$AF540)+SUMIF($B596:$AF596,C596,$B605:$AF605)+SUMIF($B661:$AF661,C596,$B670:$AF670),\"\")","v":""},"","","","",0,"","","","","","",0,"","","","","","",0,"","","","","","",0,"","",{"$f":"IF(WEEKDAY(AF595)=7,SUMIF($B531:$AF531,AF596,$B540:$AF540)+SUMIF($B596:$AF596,AF596,$B605:$AF605)+SUMIF($B661:$AF661,AF596,$B670:$AF670),AF608)","v":"nov."},null,"WT"]
[{"$f":"$A$25","v":"Majorations temp. 1)"},{"$f":"IF(B617=\"FALSCH\",\"\",B617)","v":""},{"$f":"IF(C617=\"FALSCH\",\"\",C617)","v":""},"","","","","","","","","","","","","","","","","","","","","","","","","","","","","",{"$f":"SUM(B610:AF610)","v":0},"[07]"]
[{"$f":"$A$26","v":"Majorations temp. 2)"},{"$f":"IF((B600+B602)=0,\"\",SUM(B600,B602))","v":""},{"$f":"IF((C600+C602)=0,\"\",SUM(C600,C602))","v":""},"","","","","","","","","","","","","","","","","","","","","","","","","","","","","",0,"[08]"]
[{"$f":"$A$27","v":"Majorations temp. 3)"},{"$f":"SUM(B613:B616)","v":0},{"$f":"SUM(C613:C616)","v":0},0,0,0,0,0,0,0,0,0,0,0,0,0,0,0,0,0,0,0,0,0,0,0,0,0,0,0,0,0,0,"[09]"]
[{"$f":"$A$28","v":"Dimanche journée"},{"$f":"IF(WEEKDAY(B595)=1,B601,\"\")","v":0},{"$f":"IF(WEEKDAY(C595)=1,C601,\"\")","v":""},"","","","","",0,"","","","","","",0,"","","","","","",0,"","","","","","",0,"","",0,"[09-ST]"]
[{"$f":"$A$29","v":"Dimanche nuit"},{"$f":"IF(WEEKDAY(B595)=1,SUM(B600+B602),\"\")","v":0},{"$f":"IF(WEEKDAY(C595)=1,SUM(C600+C602),\"\")","v":""},"","","","","",0,"","","","","","",0,"","","","","","",0,"","","","","","",0,"","",0,"[09-SN]"]
[{"$f":"$A$30","v":"jf-jomajoration"},{"$f":"IF(B603=Labels!$B$118,B601,\"\")","v":""},{"$f":"IF(C603=Labels!$B$118,C601,\"\")","v":""},{"$f":"IF(D603=Labels!$B$118,D601,\"\")","v":""},{"$f":"IF(E603=Labels!$B$118,E601,\"\")","v":""},{"$f":"IF(F603=Labels!$B$118,F601,\"\")","v":""},{"$f":"IF(G603=Labels!$B$118,G601,\"\")","v":""},{"$f":"IF(H603=Labels!$B$118,H601,\"\")","v":""},{"$f":"IF(I603=Labels!$B$118,I601,\"\")","v":""},{"$f":"IF(J603=Labels!$B$118,J601,\"\")","v":""},{"$f":"IF(K603=Labels!$B$118,K601,\"\")","v":""},{"$f":"IF(L603=Labels!$B$118,L601,\"\")","v":""},{"$f":"IF(M603=Labels!$B$118,M601,\"\")","v":""},{"$f":"IF(N603=Labels!$B$118,N601,\"\")","v":""},{"$f":"IF(O603=Labels!$B$118,O601,\"\")","v":""},{"$f":"IF(P603=Labels!$B$118,P601,\"\")","v":""},{"$f":"IF(Q603=Labels!$B$118,Q601,\"\")","v":""},{"$f":"IF(R603=Labels!$B$118,R601,\"\")","v":""},{"$f":"IF(S603=Labels!$B$118,S601,\"\")","v":""},{"$f":"IF(T603=Labels!$B$118,T601,\"\")","v":""},{"$f":"IF(U603=Labels!$B$118,U601,\"\")","v":""},{"$f":"IF(V603=Labels!$B$118,V601,\"\")","v":""},{"$f":"IF(W603=Labels!$B$118,W601,\"\")","v":""},{"$f":"IF(X603=Labels!$B$118,X601,\"\")","v":""},{"$f":"IF(Y603=Labels!$B$118,Y601,\"\")","v":""},{"$f":"IF(Z603=Labels!$B$118,Z601,\"\")","v":""},{"$f":"IF(AA603=Labels!$B$118,AA601,\"\")","v":""},{"$f":"IF(AB603=Labels!$B$118,AB601,\"\")","v":""},{"$f":"IF(AC603=Labels!$B$118,AC601,\"\")","v":""},{"$f":"IF(AD603=Labels!$B$118,AD601,\"\")","v":""},{"$f":"IF(AE603=Labels!$B$118,AE601,\"\")","v":""},{"$f":"IF(AF603=Labels!$B$118,AF601,\"\")","v":""},0,"[09-FT]"]
[{"$f":"$A$31","v":"jf-numajoration"},{"$f":"IF(B603=Labels!$B$118,SUM(B600,B602),\"\")","v":""},{"$f":"IF(C603=Labels!$B$118,SUM(C600,C602),\"\")","v":""},{"$f":"IF(D603=Labels!$B$118,SUM(D600,D602),\"\")","v":""},{"$f":"IF(E603=Labels!$B$118,SUM(E600,E602),\"\")","v":""},{"$f":"IF(F603=Labels!$B$118,SUM(F600,F602),\"\")","v":""},{"$f":"IF(G603=Labels!$B$118,SUM(G600,G602),\"\")","v":""},{"$f":"IF(H603=Labels!$B$118,SUM(H600,H602),\"\")","v":""},{"$f":"IF(I603=Labels!$B$118,SUM(I600,I602),\"\")","v":""},{"$f":"IF(J603=Labels!$B$118,SUM(J600,J602),\"\")","v":""},{"$f":"IF(K603=Labels!$B$118,SUM(K600,K602),\"\")","v":""},{"$f":"IF(L603=Labels!$B$118,SUM(L600,L602),\"\")","v":""},{"$f":"IF(M603=Labels!$B$118,SUM(M600,M602),\"\")","v":""},{"$f":"IF(N603=Labels!$B$118,SUM(N600,N602),\"\")","v":""},{"$f":"IF(O603=Labels!$B$118,SUM(O600,O602),\"\")","v":""},{"$f":"IF(P603=Labels!$B$118,SUM(P600,P602),\"\")","v":""},{"$f":"IF(Q603=Labels!$B$118,SUM(Q600,Q602),\"\")","v":""},{"$f":"IF(R603=Labels!$B$118,SUM(R600,R602),\"\")","v":""},{"$f":"IF(S603=Labels!$B$118,SUM(S600,S602),\"\")","v":""},{"$f":"IF(T603=Labels!$B$118,SUM(T600,T602),\"\")","v":""},{"$f":"IF(U603=Labels!$B$118,SUM(U600,U602),\"\")","v":""},{"$f":"IF(V603=Labels!$B$118,SUM(V600,V602),\"\")","v":""},{"$f":"IF(W603=Labels!$B$118,SUM(W600,W602),\"\")","v":""},{"$f":"IF(X603=Labels!$B$118,SUM(X600,X602),\"\")","v":""},{"$f":"IF(Y603=Labels!$B$118,SUM(Y600,Y602),\"\")","v":""},{"$f":"IF(Z603=Labels!$B$118,SUM(Z600,Z602),\"\")","v":""},{"$f":"IF(AA603=Labels!$B$118,SUM(AA600,AA602),\"\")","v":""},{"$f":"IF(AB603=Labels!$B$118,SUM(AB600,AB602),\"\")","v":""},{"$f":"IF(AC603=Labels!$B$118,SUM(AC600,AC602),\"\")","v":""},{"$f":"IF(AD603=Labels!$B$118,SUM(AD600,AD602),\"\")","v":""},{"$f":"IF(AE603=Labels!$B$118,SUM(AE600,AE602),\"\")","v":""},{"$f":"IF(AF603=Labels!$B$118,SUM(AF600,AF602),\"\")","v":""},0,"[09-FN]"]
[{"$f":"$A$32","v":"majoration caché (total hebd.)"},{"$f":"IF($B592>=80,IF(OR(ISTEXT(B609),B609=\"\",B609<$B$7),\"\",ROUND(((B609-$B$7)*25%)/25,4)*25),IF(B605>($B$7/5),ROUND(((B605-($B$7/5))*25%)/25,4)*25,\"\"))","v":""},{"$f":"IF($B592>=80,IF(OR(ISTEXT(C609),C609=\"\",C609<$B$7),\"\",ROUND(((C609-$B$7)*25%)/25,4)*25),IF(C605>($B$7/5),ROUND(((C605-($B$7/5))*25%)/25,4)*25,\"\"))","v":""},"","","","","","","","","","","","","","","","","","","","","","","","","","","","","",{"$f":"AG601","v":0},"[03]"]
[null,{"$f":"$B$33","v":"1)  25% majoration temporelle pour depassement les heures maximales"},null,null,null,null,null,null,null,null,null,{"$f":"$L$33","v":"2) 100% majoration temporelle pour travail de nuit"},null,null,null,null,null,null,null,null,null,null,null,null,null,null,null,null,null,null,null,null,{"$f":"SUM(AG600+AG602)","v":0},"[4-5]"]
[null,{"$f":"$B$34","v":"3) 100% majoration temporelle pour travail du dimanche et jour férié"},null,null,null,null,null,null,null,null,null,null,null,null,null,null,null,null,null,{"$f":"$T$34","v":"Saisie des heures payées exercice en cours (heures supplémentaires)"},null,null,null,null,null,null,null,null,null,null,null,null,{"$f":"SUM(AG600:AG602)","v":0},"[3-5]"]
[{"$f":"$A$35","v":"Notes"},null,null,null,null,null,null,null,null,null,null,null,null,null,null,null,null,null,null,null,null,null,null,null,null,null,null,null,null,null,null,null,{"$f":"SUM(AG598:AG612)","v":0},"[10]"]
[null,null,null,null,null,null,null,null,null,null,null,null,null,null,null,null,null,null,null,null,null,null,null,null,null,null,null,null,null,null,null,null,{"$f":"AG597","v":176},"[00]"]
[{"$f":"IF(AG1054=0,\"\",\"effektives Pensum:  \"&ROUND(COUNT(B597:AF597)/(AG1054+COUNT(B597:AF597))%*B592%*20,0)/20&\" %\")","v":""},null,null,null,null,null,null,null,null,null,null,null,null,null,null,null,null,null,null,null,null,null,null,null,null,null,null,null,null,null,null,null,{"$f":"SUM(AG620-AG621)","v":-176},"[11]"]
[]
[{"$f":"Labels!$B$103","v":"Résumé"},null,null,null,null,null,{"$f":"Labels!$B$77","v":"Jan"},null,{"$f":"Labels!$B$78","v":"Fév"},null,{"$f":"Labels!$B$79","v":"Mar"},null,{"$f":"Labels!$B$80","v":"Avr"},null,{"$f":"Labels!$B$81","v":"Mai"},null,{"$f":"Labels!$B$82","v":"Jun"},null,{"$f":"Labels!$B$83","v":"Jul"},null,{"$f":"Labels!$B$84","v":"Aoû"},null,{"$f":"Labels!$B$85","v":"Sep"},null,{"$f":"Labels!$B$86","v":"Oct"},null,{"$f":"Labels!$B$87","v":"Nov"},null,{"$f":"Labels!$B$88","v":"Déc"},null,{"$f":"Labels!$B$101","v":"Année"}]
[{"$f":"Labels!$B$20","v":"Emploi %"},null,null,null,null,null,{"$f":"IF($B$4=0,0,$B$4)","v":100},null,{"$f":"IF($B$72=0,0,$B$72)","v":100},null,{"$f":"IF($B$137=0,0,$B$137)","v":100},null,{"$f":"IF($B$202=0,0,$B$202)","v":100},null,{"$f":"IF($B$267=0,0,$B$267)","v":100},null,{"$f":"IF($B$332=0,0,$B$332)","v":100},null,{"$f":"IF($B$397=0,0,$B$397)","v":100},null,{"$f":"IF($B$462=0,0,$B$462)","v":100},null,{"$f":"IF($B$527=0,0,$B$527)","v":100},null,{"$f":"IF($B$592=0,0,$B$592)","v":100},null,{"$f":"IF($B$657=0,0,$B$657)","v":100},null,{"$f":"IF($B$722=0,0,$B$722)","v":100}]
[{"$f":"Labels!$B$104","v":"Heures théoriques selon CCT"},null,null,null,null,null,{"$f":"IF($AG$36=0,0,$AG$36)","v":176},null,{"$f":"IF($AG$101=0,0,$AG$101)","v":160},null,{"$f":"IF($AG$142=0,0,$AG$142)","v":184},null,{"$f":"IF($AG$231=0,0,$AG$231)","v":160},null,{"$f":"IF($AG$296=0,0,$AG$296)","v":184},null,{"$f":"IF($AG$361=0,0,$AG$361)","v":176},null,{"$f":"IF($AG$426=0,0,$AG$426)","v":168},null,{"$f":"IF($AG$491=0,0,$AG$491)","v":184},null,{"$f":"IF($AG$556=0,0,$AG$556)","v":168},null,{"$f":"IF($AG$621=0,0,$AG$621)","v":176},null,{"$f":"IF($AG$686=0,0,$AG$686)","v":176},null,{"$f":"IF($AG$751=0,0,$AG$751)","v":168},null,{"$f":"SUM(G626:AD626)","v":2080}]
[{"$f":"Labels!$B$105","v":"Total heures productives"},{"$f":"Labels!$B$106","v":"06.00 - 20.00 h"},null,null,null,null,{"$f":"IF($AG$32=0,0,$AG$32)","v":0},null,{"$f":"IF($AG$97=0,0,$AG$97)","v":0},null,{"$f":"IF($AG$162=0,0,$AG$162)","v":0},null,{"$f":"IF($AG$227=0,0,$AG$227)","v":0},null,{"$f":"IF($AG$292=0,0,$AG$292)","v":0},null,{"$f":"IF($AG$357=0,0,$AG$357)","v":0},null,{"$f":"IF($AG$422=0,0,$AG$422)","v":0},null,{"$f":"IF($AG$487=0,0,$AG$487)","v":0},null,{"$f":"IF($AG$552=0,0,$AG$552)","v":0},null,{"$f":"IF($AG$617=0,0,$AG$617)","v":0},null,{"$f":"IF($AG$682=0,0,$AG$682)","v":0},null,{"$f":"IF($AG$747=0,0,$AG$747)","v":0},null,{"$f":"SUM(G627:AD627)","v":0}]
[null,{"$f":"Labels!$B$107","v":"nuit, dimanche et jour férié"},null,null,null,null,{"$f":"IF(AND($AG$33=0,$AG$18=0),0,$AG$33+$AG$18)","v":0},null,{"$f":"IF(AND($AG$98=0,$AG$83=0),0,$AG$98+$AG$83)","v":0},null,{"$f":"IF(AND($AG$163=0,$AG$148=0),0,$AG$163+$AG$148)","v":0},null,{"$f":"IF(AND($AG$228=0,$AG$213=0),0,$AG$228+$AG$213)","v":0},null,{"$f":"IF(AND($AG$293=0,$AG$278=0),0,$AG$293+$AG$278)","v":0},null,{"$f":"IF(AND($AG$358=0,$AG$343=0),0,$AG$358+$AG$343)","v":0},null,{"$f":"IF(AND($AG$423=0,$AG$408=0),0,$AG$423+$AG$408)","v":0},null,{"$f":"IF(AND($AG$488=0,$AG$473=0),0,$AG$488+$AG$473)","v":0},null,{"$f":"IF(AND($AG$553=0,$AG$538=0),0,$AG$553+$AG$538)","v":0},null,{"$f":"IF(AND($AG$618=0,$AG$603=0),0,$AG$618+$AG$603)","v":0},null,{"$f":"IF(AND($AG$683=0,$AG$668=0),0,$AG$683+$AG$668)","v":0},null,{"$f":"IF(AND($AG$748=0,$AG$733=0),0,$AG$748+$AG$733)","v":0},null,{"$f":"SUM(G628:AD628)","v":0}]
[{"$f":"Labels!$B$108","v":"Majorations temporelles"},{"$f":"Labels!$B$109","v":"depassement des heures maximales"},null,null,null,null,{"$f":"IF($AG$25=0,0,$AG$25)","v":0},null,{"$f":"IF($AG$90=0,0,$AG$90)","v":0},null,{"$f":"IF($AG$155=0,0,$AG$155)","v":0},null,{"$f":"IF($AG$220=0,0,$AG$220)","v":0},null,{"$f":"IF($AG$285=0,0,$AG$285)","v":0},null,{"$f":"IF($AG$350=0,0,$AG$350)","v":0},null,{"$f":"IF($AG$415=0,0,$AG$415)","v":0},null,{"$f":"IF($AG$480=0,0,$AG$480)","v":0},null,{"$f":"IF($AG$545=0,0,$AG$545)","v":0},null,{"$f":"IF($AG$610=0,0,$AG$610)","v":0},null,{"$f":"IF($AG$675=0,0,$AG$675)","v":0},null,{"$f":"IF($AG$740=0,0,$AG$740)","v":0},null,{"$f":"SUM(G629:AD629)","v":0}]
[null,{"$f":"Labels!$B$110","v":"nuit, dimanche et jour férié"},null,null,null,null,{"$f":"IF($AJ$23=0,0,$AJ$23)","v":0},null,{"$f":"IF($AK$23=0,0,$AK$23)","v":0},null,{"$f":"IF($AL$23=0,0,$AL$23)","v":0},null,{"$f":"IF($AM$23=0,0,$AM$23)","v":0},null,{"$f":"IF($AN$23=0,0,$AN$23)","v":0},null,{"$f":"IF($AO$23=0,0,$AO$23)","v":0},null,{"$f":"IF($AP$23=0,0,$AP$23)","v":0},null,{"$f":"IF($AQ$23=0,0,$AQ$23)","v":0},null,{"$f":"IF($AR$23=0,0,$AR$23)","v":0},null,{"$f":"IF($AS$23=0,0,$AS$23)","v":0},null,{"$f":"IF($AT$23=0,0,$AT$23)","v":0},null,{"$f":"IF($AU$23=0,0,$AU$23)","v":0},null,{"$f":"SUM(G630:AD630)","v":0}]
[{"$f":"Labels!$B$111","v":"Heures inproductives"}]
[{"$f":"Labels!$B$112","v":"   Absences art. 11 CCT"},null,null,null,null,{"$f":"Labels!$B$113","v":"ab"},{"$f":"IF($AJ$3=0,0,$AJ$3)","v":0},null,{"$f":"IF($AK$3=0,0,$AK$3)","v":0},null,{"$f":"IF($AL$3=0,0,$AL$3)","v":0},null,{"$f":"IF($AM$3=0,0,$AM$3)","v":0},null,{"$f":"IF($AN$3=0,0,$AN$3)","v":0},null,{"$f":"IF($AO$3=0,0,$AO$3)","v":0},null,{"$f":"IF($AP$3=0,0,$AP$3)","v":0},null,{"$f":"IF($AQ$3=0,0,$AQ$3)","v":0},null,{"$f":"IF($AR$3=0,0,$AR$3)","v":0},null,{"$f":"IF($AS$3=0,0,$AS$3)","v":0},null,{"$f":"IF(AT$3=0,0,$AT$3)","v":0},null,{"$f":"IF($AU$3=0,0,$AU$3)","v":0},null,{"$f":"IF($AV$3=0,0,$AV$3)","v":0}]
[{"$f":"Labels!$B$114","v":"   Vacances art. 12.1 CCT"},null,null,null,null,{"$f":"Labels!$B$115","v":"va"},{"$f":"IF($AJ$4=0,0,$AJ$4)","v":0},null,{"$f":"IF($AK$4=0,0,$AK$4)","v":0},null,{"$f":"IF($AL$4=0,0,$AL$4)","v":0},null,{"$f":"IF($AM$4=0,0,$AM$4)","v":0},null,{"$f":"IF($AN$4=0,0,$AN$4)","v":0},null,{"$f":"IF($AO$4=0,0,$AO$4)","v":0},null,{"$f":"IF($AP$4=0,0,$AP$4)","v":0},null,{"$f":"IF($AQ$4=0,0,$AQ$4)","v":0},null,{"$f":"IF($AR$4=0,0,$AR$4)","v":0},null,{"$f":"IF($AS$4=0,0,$AS$4)","v":0},null,{"$f":"IF($AT$4=0,0,$AT$4)","v":0},null,{"$f":"IF($AU$4=0,0,$AU$4)","v":0},null,{"$f":"IF($AV$4=0,0,$AV$4)","v":0}]
[{"$f":"Labels!$B$181","v":"   vacances non payées"},null,null,null,null,{"$f":"Labels!$B$182","v":"vn"},{"$f":"IF($AJ$13=0,0,$AJ$13)","v":0},null,{"$f":"IF($AK$13=0,0,$AK$13)","v":0},null,{"$f":"IF($AL$13=0,0,$AL$13)","v":0},null,{"$f":"IF($AM$13=0,0,$AM$13)","v":0},null,{"$f":"IF($AN$13=0,0,$AN$13)","v":0},null,{"$f":"IF($AO$13=0,0,$AO$13)","v":0},null,{"$f":"IF($AP$13=0,0,$AP$13)","v":0},null,{"$f":"IF($AQ$13=0,0,$AQ$13)","v":0},null,{"$f":"IF($AR$13=0,0,$AR$13)","v":0},null,{"$f":"IF($AS$13=0,0,$AS$13)","v":0},null,{"$f":"IF($AT$13=0,0,$AT$13)","v":0},null,{"$f":"IF($AU$13=0,0,$AU$13)","v":0},null,{"$f":"IF($AV$13=0,0,$AV$13)","v":0}]
[{"$f":"Labels!$B$116","v":"   Jours fériés art. 12.2 CCT"},null,{"$f":"IF($AJ$20=\"\",\"\",$AJ$20)","v":""},null,null,{"$f":"Labels!$B$118","v":"jf"},{"$f":"IF($AJ$18=0,0,$AJ$18)","v":0},null,{"$f":"IF($AK$18=0,0,$AK$18)","v":0},null,{"$f":"IF($AL$18=0,0,$AL$18)","v":0},null,{"$f":"IF($AM$18=0,0,$AM$18)","v":0},null,{"$f":"IF($AN$18=0,0,$AN$18)","v":0},null,{"$f":"IF($AO$18=0,0,$AO$18)","v":0},null,{"$f":"IF($AP$18=0,0,$AP$18)","v":0},null,{"$f":"IF($AQ$18=0,0,$AQ$18)","v":0},null,{"$f":"IF($AR$18=0,0,$AR$18)","v":0},null,{"$f":"IF($AS$18=0,0,$AS$18)","v":0},null,{"$f":"IF($AT$18=0,0,$AT$18)","v":0},null,{"$f":"IF($AU$18=0,0,$AU$18)","v":0},null,{"$f":"IF($AV$18=0,0,$AV$18)","v":0}]
[{"$f":"Labels!$B$119","v":"   Maladie art. 13 CCT"},null,null,null,null,{"$f":"Labels!$B$120","v":"ma"},{"$f":"IF($AJ$5=0,0,$AJ$5)","v":0},null,{"$f":"IF($AK$5=0,0,$AK$5)","v":0},null,{"$f":"IF($AL$5=0,0,$AL$5)","v":0},null,{"$f":"IF($AM$5=0,0,$AM$5)","v":0},null,{"$f":"IF($AN$5=0,0,$AN$5)","v":0},null,{"$f":"IF($AO$5=0,0,$AO$5)","v":0},null,{"$f":"IF($AP$5=0,0,$AP$5)","v":0},null,{"$f":"IF($AQ$5=0,0,$AQ$5)","v":0},null,{"$f":"IF($AR$5=0,0,$AR$5)","v":0},null,{"$f":"IF($AS$5=0,0,$AS$5)","v":0},null,{"$f":"IF($AT$5=0,0,$AT$5)","v":0},null,{"$f":"IF($AU$5=0,0,$AU$5)","v":0},null,{"$f":"IF($AV$5=0,0,$AV$5)","v":0}]
[{"$f":"Labels!$B$184","v":"non payeé"},null,null,null,null,null,{"$f":"IF(AJ$16=0,0,AJ$16)","v":0},null,{"$f":"IF($AK$16=0,0,$AK$16)","v":0},null,{"$f":"IF($AL$16=0,0,$AL$16)","v":0},null,{"$f":"IF($AM$16=0,0,$AM$16)","v":0},null,{"$f":"IF($AN$16=0,0,$AN$16)","v":0},null,{"$f":"IF($AO$16=0,0,$AO$16)","v":0},null,{"$f":"IF($AP$16=0,0,$AP$16)","v":0},null,{"$f":"IF($AQ$16=0,0,$AQ$16)","v":0},null,{"$f":"IF($AR$16=0,0,$AR$16)","v":0},null,{"$f":"IF($AS$16=0,0,$AS$16)","v":0},null,{"$f":"IF($AT$16=0,0,$AT$16)","v":0},null,{"$f":"IF($AU$16=0,0,$AU$16)","v":0},null,{"$f":"IF($AV$16=0,0,$AV$16)","v":0}]
[{"$f":"Labels!$B$121","v":"   Accident art. 14 CCT"},null,null,null,null,{"$f":"Labels!$B$122","v":"ac"},{"$f":"IF($AJ$6=0,0,$AJ$6)","v":0},null,{"$f":"IF($AK$6=0,0,$AK$6)","v":0},null,{"$f":"IF($AL$6=0,0,$AL$6)","v":0},null,{"$f":"IF($AM$6=0,0,$AM$6)","v":0},null,{"$f":"IF($AN$6=0,0,$AN$6)","v":0},null,{"$f":"IF($AO$6=0,0,$AO$6)","v":0},null,{"$f":"IF($AP$6=0,0,$AP$6)","v":0},null,{"$f":"IF($AQ$6=0,0,$AQ$6)","v":0},null,{"$f":"IF($AR$6=0,0,$AR$6)","v":0},null,{"$f":"IF($AS$6=0,0,$AS$6)","v":0},null,{"$f":"IF($AT$6=0,0,$AT$6)","v":0},null,{"$f":"IF($AU$6=0,0,$AU$6)","v":0},null,{"$f":"IF($AV$6=0,0,$AV$6)","v":0}]
[{"$f":"Labels!$B$123","v":"   Grossesse/Maternité art. 15 CCT"},null,null,null,null,{"$f":"Labels!$B$124","v":"gm"},{"$f":"IF($AJ$7=0,0,$AJ$7)","v":0},null,{"$f":"IF($AK$7=0,0,$AK$7)","v":0},null,{"$f":"IF($AL$7=0,0,$AL$7)","v":0},null,{"$f":"IF($AM$7=0,0,$AM$7)","v":0},null,{"$f":"IF($AN$7=0,0,$AN$7)","v":0},null,{"$f":"IF($AO$7=0,0,$AO$7)","v":0},null,{"$f":"IF($AP$7=0,0,$AP$7)","v":0},null,{"$f":"IF($AQ$7=0,0,$AQ$7)","v":0},null,{"$f":"IF($AR$7=0,0,$AR$7)","v":0},null,{"$f":"IF($AS$7=0,0,$AS$7)","v":0},null,{"$f":"IF($AT$7=0,0,$AT$7)","v":0},null,{"$f":"IF($AU$7=0,0,$AU$7)","v":0},null,{"$f":"IF($AV$7=0,0,$AV$7)","v":0}]
[{"$f":"Labels!$B$125","v":"   Militaire/Promotion/Protection civile art. 16 CCT"},null,null,null,null,{"$f":"Labels!$B$126","v":"mi"},{"$f":"IF($AJ$8=0,0,$AJ$8)","v":0},null,{"$f":"IF($AK$8=0,0,$AK$8)","v":0},null,{"$f":"IF($AL$8=0,0,$AL$8)","v":0},null,{"$f":"IF($AM$8=0,0,$AM$8)","v":0},null,{"$f":"IF($AN$8=0,0,$AN$8)","v":0},null,{"$f":"IF($AO$8=0,0,$AO$8)","v":0},null,{"$f":"IF($AP$8=0,0,$AP$8)","v":0},null,{"$f":"IF($AQ$8=0,0,$AQ$8)","v":0},null,{"$f":"IF($AR$8=0,0,$AR$8)","v":0},null,{"$f":"IF($AS$8=0,0,$AS$8)","v":0},null,{"$f":"IF($AT$8=0,0,$AT$8)","v":0},null,{"$f":"IF($AU$8=0,0,$AU$8)","v":0},null,{"$f":"IF($AV$8=0,0,$AV$8)","v":0}]
[{"$f":"Labels!$B$127","v":"   Chômage partiel et perte de travail cause d'intempéries"},null,null,null,null,{"$f":"Labels!$B$128","v":"ch"},{"$f":"IF($AJ$11=0,0,$AJ$11)","v":0},null,{"$f":"IF($AK$11=0,0,$AK$11)","v":0},null,{"$f":"IF($AL$11=0,0,$AL$11)","v":0},null,{"$f":"IF($AM$11=0,0,$AM$11)","v":0},null,{"$f":"IF($AN$11=0,0,$AN$11)","v":0},null,{"$f":"IF($AO$11=0,0,$AO$11)","v":0},null,{"$f":"IF($AP$11=0,0,$AP$11)","v":0},null,{"$f":"IF($AQ$11=0,0,$AQ$11)","v":0},null,{"$f":"IF($AR$11=0,0,$AR$11)","v":0},null,{"$f":"IF($AS$11=0,0,$AS$11)","v":0},null,{"$f":"IF($AT$11=0,0,$AT$11)","v":0},null,{"$f":"IF($AU$11=0,0,$AU$11)","v":0},null,{"$f":"IF($AV$11=0,0,$AV$11)","v":0}]
[{"$f":"Labels!$B$129","v":"   Ecole professionnelle"},null,null,null,null,{"$f":"Labels!$B$130","v":"ep"},{"$f":"IF($AJ$9=0,0,$AJ$9)","v":0},null,{"$f":"IF($AK$9=0,0,$AK$9)","v":0},null,{"$f":"IF($AL$9=0,0,$AL$9)","v":0},null,{"$f":"IF($AM$9=0,0,$AM$9)","v":0},null,{"$f":"IF($AN$9=0,0,$AN$9)","v":0},null,{"$f":"IF($AO$9=0,0,$AO$9)","v":0},null,{"$f":"IF($AP$9=0,0,$AP$9)","v":0},null,{"$f":"IF($AQ$9=0,0,$AQ$9)","v":0},null,{"$f":"IF($AR$9=0,0,$AR$9)","v":0},null,{"$f":"IF($AS$9=0,0,$AS$9)","v":0},null,{"$f":"IF($AT$9=0,0,$AT$9)","v":0},null,{"$f":"IF($AU$9=0,0,$AU$9)","v":0},null,{"$f":"IF($AV$9=0,0,$AV$9)","v":0}]
[{"$f":"Labels!$B$131","v":"   Cours"},null,null,null,null,{"$f":"Labels!$B$132","v":"co"},{"$f":"IF($AJ$10=0,0,$AJ$10)","v":0},null,{"$f":"IF($AK$10=0,0,$AK$10)","v":0},null,{"$f":"IF($AL$10=0,0,$AL$10)","v":0},null,{"$f":"IF($AM$10=0,0,$AM$10)","v":0},null,{"$f":"IF($AN$10=0,0,$AN$10)","v":0},null,{"$f":"IF($AO$10=0,0,$AO$10)","v":0},null,{"$f":"IF($AP$10=0,0,$AP$10)","v":0},null,{"$f":"IF($AQ$10=0,0,$AQ$10)","v":0},null,{"$f":"IF($AR$10=0,0,$AR$10)","v":0},null,{"$f":"IF($AS$10=0,0,$AS$10)","v":0},null,{"$f":"IF($AT$10=0,0,$AT$10)","v":0},null,{"$f":"IF($AU$10=0,0,$AU$10)","v":0},null,{"$f":"IF($AV$10=0,0,$AV$10)","v":0}]
[{"$f":"Labels!$B$133","v":"Heures de compensation"},{"$f":"Labels!$B$134","v":"de l'année passée"},null,null,null,{"$f":"Labels!$B$135","v":"cp"},{"$f":"IF($AJ$12=0,0,$AJ$12)","v":0},null,{"$f":"IF($AK$12=0,0,$AK$12)","v":0},null,{"$f":"IF($AL$12=0,0,$AL$12)","v":0},null,{"$f":"IF($AM$12=0,0,$AM$12)","v":0},null,{"$f":"IF($AN$12=0,0,$AN$12)","v":0},null,{"$f":"IF($AO$12=0,0,$AO$12)","v":0},null,{"$f":"IF($AP$12=0,0,$AP$12)","v":0},null,{"$f":"IF($AQ$12=0,0,$AQ$12)","v":0},null,{"$f":"IF($AR$12=0,0,$AR$12)","v":0},null,null,null,null,null,null,null,{"$f":"IF($AV$12=0,0,$AV$12)","v":0}]
[null,{"$f":"Labels!$B$136","v":"de l'année en cours (contrôle)"},null,null,null,{"$f":"Labels!$B$137","v":"cc"},{"$f":"IF($AJ$15=0,0,$AJ$15)","v":0},null,{"$f":"IF($AK$15=0,0,$AK$15)","v":0},null,{"$f":"IF($AL$15=0,0,$AL$15)","v":0},null,{"$f":"IF($AM$15=0,0,$AM$15)","v":0},null,{"$f":"IF($AN$15=0,0,$AN$15)","v":0},null,{"$f":"IF($AO$15=0,0,$AO$15)","v":0},null,{"$f":"IF($AP$15=0,0,$AP$15)","v":0},null,{"$f":"IF($AQ$15=0,0,$AQ$15)","v":0},null,{"$f":"IF($AR$15=0,0,$AR$15)","v":0},null,{"$f":"IF($AS$15=0,0,$AS$15)","v":0},null,{"$f":"IF($AT$15=0,0,$AT$15)","v":0},null,{"$f":"IF($AU$15=0,0,$AU$15)","v":0},null,{"$f":"IF($AV$15=0,0,$AV$15)","v":0}]
[{"$f":"Labels!$B$138","v":"Paiement des heures"},{"$f":"Labels!$B$139","v":"de l'année passée"},null,null,null,null,{"$f":"IF($AJ$21=0,0,$AJ$21)","v":0},null,{"$f":"IF($AK$21=0,0,$AK$21)","v":0},null,{"$f":"IF($AL$21=0,0,$AL$21)","v":0},null,{"$f":"IF($AM$21=0,0,$AM$21)","v":0},null,{"$f":"IF($AN$21=0,0,$AN$21)","v":0},null,{"$f":"IF($AO$21=0,0,$AO$21)","v":0},null,{"$f":"IF($AP$21=0,0,$AP$21)","v":0},null,{"$f":"IF($AQ$21=0,0,$AQ$21)","v":0},null,{"$f":"IF($AR$21=0,0,$AR$21)","v":0},null,null,null,null,null,null,null,{"$f":"IF($AV$21=0,0,$AV$21)","v":0}]
[{"$f":"Labels!$B$140","v":"Différence en heures"},{"$f":"Labels!$B$141","v":"après compensation et paiement"},null,null,null,null,{"$f":"IF(ROUND($P$4,3)=0,0,$P$4-G644-G646)","v":0},null,{"$f":"IF(ROUND(G647,3)=0,0,G647-(SUM(I644+I646)))","v":0},null,{"$f":"IF(ROUND(I647,3)=0,0,I647-K646-K644)","v":0},null,{"$f":"IF(ROUND(K647,3)=0,0,K647-(SUM(M646+M644)))","v":0},null,{"$f":"IF(ROUND(M647,3)=0,0,M647-(SUM(O646+O644)))","v":0},null,{"$f":"IF(ROUND(O647,3)=0,0,O647-(SUM(Q646+Q644)))","v":0},null,{"$f":"IF(ROUND(Q647,3)=0,0,Q647-(SUM(S646+S644)))","v":0},null,{"$f":"IF(ROUND(S647,3)=0,0,S647-(SUM(U646+U644)))","v":0},null,{"$f":"IF(ROUND(U647,3)=0,0,U647-(SUM(W646+W644)))","v":0},null,{"$f":"IF($W$62<0.1,\"\",AY629)","v":""}]
[{"$f":"Labels!$B$138","v":"Paiement des heures"},{"$f":"Labels!$B$142","v":"de l'année en cours"},null,null,null,null,{"$f":"IF($AJ$22=0,0,$AJ$22)","v":0},null,{"$f":"IF($AK$22=0,0,$AK$22)","v":0},null,{"$f":"IF($AL$22=0,0,$AL$22)","v":0},null,{"$f":"IF($AM$22=0,0,$AM$22)","v":0},null,{"$f":"IF($AN$22=0,0,$AN$22)","v":0},null,{"$f":"IF($AO$22=0,0,$AO$22)","v":0},null,{"$f":"IF($AP$22=0,0,$AP$22)","v":0},null,{"$f":"IF($AQ$22=0,0,$AQ$22)","v":0},null,{"$f":"IF($AR$22=0,0,$AR$22)","v":0},null,{"$f":"IF($AS$22=0,0,$AS$22)","v":0},null,{"$f":"IF($AT$22=0,0,$AT$22)","v":0},null,{"$f":"IF($AU$22=0,0,$AU$22)","v":0},null,{"$f":"IF($AV$22=0,0,$AV$22)","v":0}]
[{"$f":"Labels!$B$143","v":"Heures manquantes"},{"$f":"Labels!$B$144","v":"de l'année en cours (contrôle)"},null,null,null,{"$f":"Labels!$B$145","v":"hm"},{"$f":"IF($AJ$14=0,0,$AJ$14)","v":0},null,{"$f":"IF($AK$14=0,0,$AK$14)","v":0},null,{"$f":"IF($AL$14=0,0,$AL$14)","v":0},null,{"$f":"IF($AM$14=0,0,$AM$14)","v":0},null,{"$f":"IF($AN$14=0,0,$AN$14)","v":0},null,{"$f":"IF($AO$14=0,0,$AO$14)","v":0},null,{"$f":"IF($AP$14=0,0,$AP$14)","v":0},null,{"$f":"IF($AQ$14=0,0,$AQ$14)","v":0},null,{"$f":"IF($AR$14=0,0,$AR$14)","v":0},null,{"$f":"IF($AS$14=0,0,$AS$14)","v":0},null,{"$f":"IF($AT$14=0,0,$AT$14)","v":0},null,{"$f":"IF($AU$14=0,0,$AU$14)","v":0},null,{"$f":"IF($AV$14=0,0,$AV$14)","v":0}]
[{"$f":"Labels!$B$146","v":"Total (majorations inclus)"},{"$f":"Labels!$B$147","v":"heures productives et inproductives"},null,null,null,null,{"$f":"IF($AG$35=0,0,$AG$35)","v":0},null,{"$f":"IF($AG$100=0,0,$AG$100)","v":0},null,{"$f":"IF($AG$165=0,0,$AG$165)","v":0},null,{"$f":"IF($AG$230=0,0,$AG$230)","v":0},null,{"$f":"IF($AG$295=0,0,$AG$295)","v":0},null,{"$f":"IF($AG$360=0,0,$AG$360)","v":0},null,{"$f":"IF($AG$425=0,0,$AG$425)","v":0},null,{"$f":"IF($AG$490=0,0,$AG$490)","v":0},null,{"$f":"IF($AG$555=0,0,$AG$555)","v":0},null,{"$f":"IF($AG$620=0,0,$AG$620)","v":0},null,{"$f":"IF($AG$685=0,0,$AG$685)","v":0},null,{"$f":"IF($AG$750=0,0,$AG$750)","v":0},null,{"$f":"SUM($G$65:$AD$65)","v":0}]
[{"$f":"Labels!$B$148","v":"Comparaison des heures"},{"$f":"Labels!$B$149","v":"aux heures théorique CCT (heures \nmanquantes de l'année passée incl.)"},null,null,null,null,{"$f":"IF($AG$37=0,0,$AG$37)-$AE$34+$P$5","v":-176},null,{"$f":"IF($AG$102=0,0,$AG$102)-$AE$99","v":-160},null,{"$f":"IF($AG$167=0,0,$AG$167)-$AE$164","v":-184},null,{"$f":"IF($AG$232=0,0,$AG$232)-$AE$229","v":-160},null,{"$f":"IF($AG$297=0,0,$AG$297)-$AE$294","v":-184},null,{"$f":"IF($AG$362=0,0,$AG$362)-$AE$359","v":-176},null,{"$f":"IF($AG$427=0,0,$AG$427)-$AE$424","v":-168},null,{"$f":"IF($AG$492=0,0,$AG$492)-$AE$489","v":-184},null,{"$f":"IF($AG$557=0,0,$AG$557)-$AE$554","v":-168},null,{"$f":"IF($AG$622=0,0,$AG$622)-$AE$619","v":-176},null,{"$f":"IF($AG$687=0,0,$AG$687)-$AE$684","v":-176},null,{"$f":"IF($AG$752=0,0,$AG$752)-$AE$749","v":-168},null,{"$f":"SUM($G$66:$AD$66)","v":-2080}]
[null,{"$f":"Labels!$B$151","v":"aux heures théorique (cumulées)"},null,null,null,null,{"$f":"IF(G625=0,0,$G$66)","v":-176},null,{"$f":"IF(I625=0,0,SUM($G$66:$J$66))","v":-336},null,{"$f":"IF(K625=0,0,SUM($G$66:$L$66))","v":-520},null,{"$f":"IF(M625=0,0,SUM($G$66:$N$66))","v":-680},null,{"$f":"IF(O625=0,0,SUM($G$66:$P$66))","v":-864},null,{"$f":"IF(Q625=0,0,SUM($G$66:$R$66))","v":-1040},null,{"$f":"IF(S625=0,0,SUM($G$66:$T$66))","v":-1208},null,{"$f":"IF(U625=0,0,SUM($G$66:$V$66))","v":-1392},null,{"$f":"IF(W625=0,0,SUM($G$66:$X$66))","v":-1560},null,{"$f":"IF(Y625=0,0,SUM($G$66:$Z$66))","v":-1736},null,{"$f":"IF(AA625=0,0,SUM($G$66:$AB$66))","v":-1912},null,{"$f":"IF(AC625=0,0,SUM($G$66:$AD$66))","v":-2080}]
[{"$f":"Labels!$B$153","v":"Vacances (contrôle)"},{"$f":"Labels!$B$154","v":"Vacances année passée"},null,null,null,null,{"$f":"IF($AA$4=0,0,$AA$4)","v":0},null,{"$f":"Labels!$B$155","v":"Vacances selon \nart 12.1 CCT"},null,null,null,{"$f":"IF($AA$5=0,0,$AA$5)","v":0},null,{"$f":"Labels!$B$156","v":"Total des vacances"},null,null,null,{"$f":"SUM(G653+M653)","v":0},null,{"$f":"Labels!$B$157","v":"Vacances prises"},null,null,null,{"$f":"IF($AV$4=0,0,$AV$4)","v":0},null,{"$f":"Labels!$B$158","v":"Vacances restantes"},null,null,null,{"$f":"IF(S653=0,0,S653-Y653)","v":0}]
[]
[]
[{"$f":"$A$3","v":"Nom/Prénom"},{"$f":"IF($B$3=\"\",\"\",$B$3)","v":"Modèle Pierre"},null,null,null,null,null,null,null,null,null,null,null,null,null,null,null,null,null,null,null,null,null,null,null,null,null,null,null,null,null,{"$f":"AF3","v":0}]
[{"$f":"$A$4","v":"Emploi %"},{"$f":"$AL$58","v":100},null,{"$f":"Labels!B99","v":"en novembre"}]
[{"$f":"$A$5","v":"Solde année en cours"},null,null,{"$f":"IF($AE$66=0,0,$AE$66)","v":-2080}]
[{"$f":"TEXT(DATE(YEAR(AP29),MONTH(AP29)+10,1),\"MMMM\"&Labels!B13)","v":"novembre"},{"$f":"$B$9","v":"Solde mois + / -"},null,null,null,{"$f":"(AG662-(SUM(AG663:AG677)-AE684))*-1","v":-176},null,null,null,null,{"$f":"$K$9","v":" = "},{"$f":"$L$9","v":"Les cases marquées en jaune doivent être remplies (les autres seront calculées automatiquement)"},null,null,null,null,null,null,null,null,null,null,null,null,null,null,null,null,null,null,null,null,{"$f":"COUNT(B662:AF662)&\" \"&Labels!$B$63","v":"22 Jours"}]
[{"$f":"$A$10","v":"Jour"},{"$f":"AF595+1","v":"2023-11-01"},{"$f":"B660+1","v":"2023-11-02"},{"$f":"C660+1","v":"2023-11-03"},"2023-11-04","2023-11-05","2023-11-06","2023-11-07","2023-11-08","2023-11-09","2023-11-10","2023-11-11","2023-11-12","2023-11-13","2023-11-14","2023-11-15","2023-11-16","2023-11-17","2023-11-18","2023-11-19","2023-11-20","2023-11-21","2023-11-22","2023-11-23","2023-11-24","2023-11-25","2023-11-26","2023-11-27","2023-11-28","2023-11-29","2023-11-30"]
[{"$f":"$A$11","v":"semaine civile"},{"$f":"IF(B660=\"\",\"\",TRUNC((B660-DATE(YEAR(B660+3-MOD(B660-2,7)),1,MOD(B660-2,7)-9))/7))","v":44},44,44,44,44,45,45,45,45,45,45,45,46,46,46,46,46,46,46,47,47,47,47,47,47,47,48,48,48,48,"",null,"Woche"]
[{"$f":"$A$12","v":"Théorique sel. CCT"},{"$f":"IF(AND(MOD(B660,7)>=2,SUMPRODUCT(($AM$60:$AQ$60=MOD(B660,7))*$AM$58:$AQ$58),B1079=\"\"),$J$7*SUMPRODUCT(($AM$77:$AQ$77=MOD(B660,7))*$AM$75:$AQ$75)%,\"\")","v":8},{"$f":"IF(AND(MOD(C660,7)>=2,SUMPRODUCT(($AM$60:$AQ$60=MOD(C660,7))*$AM$58:$AQ$58),C1079=\"\"),$J$7*SUMPRODUCT(($AM$77:$AQ$77=MOD(C660,7))*$AM$75:$AQ$75)%,\"\")","v":8},{"$f":"IF(AND(MOD(D660,7)>=2,SUMPRODUCT(($AM$60:$AQ$60=MOD(D660,7))*$AM$58:$AQ$58),D1079=\"\"),$J$7*SUMPRODUCT(($AM$77:$AQ$77=MOD(D660,7))*$AM$75:$AQ$75)%,\"\")","v":8},{"$f":"IF(AND(MOD(E660,7)>=2,SUMPRODUCT(($AM$60:$AQ$60=MOD(E660,7))*$AM$58:$AQ$58),E1079=\"\"),$J$7*SUMPRODUCT(($AM$77:$AQ$77=MOD(E660,7))*$AM$75:$AQ$75)%,\"\")","v":""},{"$f":"IF(AND(MOD(F660,7)>=2,SUMPRODUCT(($AM$60:$AQ$60=MOD(F660,7))*$AM$58:$AQ$58),F1079=\"\"),$J$7*SUMPRODUCT(($AM$77:$AQ$77=MOD(F660,7))*$AM$75:$AQ$75)%,\"\")","v":""},{"$f":"IF(AND(MOD(G660,7)>=2,SUMPRODUCT(($AM$60:$AQ$60=MOD(G660,7))*$AM$58:$AQ$58),G1079=\"\"),$J$7*SUMPRODUCT(($AM$77:$AQ$77=MOD(G660,7))*$AM$75:$AQ$75)%,\"\")","v":8},{"$f":"IF(AND(MOD(H660,7)>=2,SUMPRODUCT(($AM$60:$AQ$60=MOD(H660,7))*$AM$58:$AQ$58),H1079=\"\"),$J$7*SUMPRODUCT(($AM$77:$AQ$77=MOD(H660,7))*$AM$75:$AQ$75)%,\"\")","v":8},{"$f":"IF(AND(MOD(I660,7)>=2,SUMPRODUCT(($AM$60:$AQ$60=MOD(I660,7))*$AM$58:$AQ$58),I1079=\"\"),$J$7*SUMPRODUCT(($AM$77:$AQ$77=MOD(I660,7))*$AM$75:$AQ$75)%,\"\")","v":8},{"$f":"IF(AND(MOD(J660,7)>=2,SUMPRODUCT(($AM$60:$AQ$60=MOD(J660,7))*$AM$58:$AQ$58),J1079=\"\"),$J$7*SUMPRODUCT(($AM$77:$AQ$77=MOD(J660,7))*$AM$75:$AQ$75)%,\"\")","v":8},{"$f":"IF(AND(MOD(K660,7)>=2,SUMPRODUCT(($AM$60:$AQ$60=MOD(K660,7))*$AM$58:$AQ$58),K1079=\"\"),$J$7*SUMPRODUCT(($AM$77:$AQ$77=MOD(K660,7))*$AM$75:$AQ$75)%,\"\")","v":8},{"$f":"IF(AND(MOD(L660,7)>=2,SUMPRODUCT(($AM$60:$AQ$60=MOD(L660,7))*$AM$58:$AQ$58),L1079=\"\"),$J$7*SUMPRODUCT(($AM$77:$AQ$77=MOD(L660,7))*$AM$75:$AQ$75)%,\"\")","v":""},{"$f":"IF(AND(MOD(M660,7)>=2,SUMPRODUCT(($AM$60:$AQ$60=MOD(M660,7))*$AM$58:$AQ$58),M1079=\"\"),$J$7*SUMPRODUCT(($AM$77:$AQ$77=MOD(M660,7))*$AM$75:$AQ$75)%,\"\")","v":""},{"$f":"IF(AND(MOD(N660,7)>=2,SUMPRODUCT(($AM$60:$AQ$60=MOD(N660,7))*$AM$58:$AQ$58),N1079=\"\"),$J$7*SUMPRODUCT(($AM$77:$AQ$77=MOD(N660,7))*$AM$75:$AQ$75)%,\"\")","v":8},{"$f":"IF(AND(MOD(O660,7)>=2,SUMPRODUCT(($AM$60:$AQ$60=MOD(O660,7))*$AM$58:$AQ$58),O1079=\"\"),$J$7*SUMPRODUCT(($AM$77:$AQ$77=MOD(O660,7))*$AM$75:$AQ$75)%,\"\")","v":8},{"$f":"IF(AND(MOD(P660,7)>=2,SUMPRODUCT(($AM$60:$AQ$60=MOD(P660,7))*$AM$58:$AQ$58),P1079=\"\"),$J$7*SUMPRODUCT(($AM$77:$AQ$77=MOD(P660,7))*$AM$75:$AQ$75)%,\"\")","v":8},{"$f":"IF(AND(MOD(Q660,7)>=2,SUMPRODUCT(($AM$60:$AQ$60=MOD(Q660,7))*$AM$58:$AQ$58),Q1079=\"\"),$J$7*SUMPRODUCT(($AM$77:$AQ$77=MOD(Q660,7))*$AM$75:$AQ$75)%,\"\")","v":8},{"$f":"IF(AND(MOD(R660,7)>=2,SUMPRODUCT(($AM$60:$AQ$60=MOD(R660,7))*$AM$58:$AQ$58),R1079=\"\"),$J$7*SUMPRODUCT(($AM$77:$AQ$77=MOD(R660,7))*$AM$75:$AQ$75)%,\"\")","v":8},{"$f":"IF(AND(MOD(S660,7)>=2,SUMPRODUCT(($AM$60:$AQ$60=MOD(S660,7))*$AM$58:$AQ$58),S1079=\"\"),$J$7*SUMPRODUCT(($AM$77:$AQ$77=MOD(S660,7))*$AM$75:$AQ$75)%,\"\")","v":""},{"$f":"IF(AND(MOD(T660,7)>=2,SUMPRODUCT(($AM$60:$AQ$60=MOD(T660,7))*$AM$58:$AQ$58),T1079=\"\"),$J$7*SUMPRODUCT(($AM$77:$AQ$77=MOD(T660,7))*$AM$75:$AQ$75)%,\"\")","v":""},{"$f":"IF(AND(MOD(U660,7)>=2,SUMPRODUCT(($AM$60:$AQ$60=MOD(U660,7))*$AM$58:$AQ$58),U1079=\"\"),$J$7*SUMPRODUCT(($AM$77:$AQ$77=MOD(U660,7))*$AM$75:$AQ$75)%,\"\")","v":8},{"$f":"IF(AND(MOD(V660,7)>=2,SUMPRODUCT(($AM$60:$AQ$60=MOD(V660,7))*$AM$58:$AQ$58),V1079=\"\"),$J$7*SUMPRODUCT(($AM$77:$AQ$77=MOD(V660,7))*$AM$75:$AQ$75)%,\"\")","v":8},{"$f":"IF(AND(MOD(W660,7)>=2,SUMPRODUCT(($AM$60:$AQ$60=MOD(W660,7))*$AM$58:$AQ$58),W1079=\"\"),$J$7*SUMPRODUCT(($AM$77:$AQ$77=MOD(W660,7))*$AM$75:$AQ$75)%,\"\")","v":8},{"$f":"IF(AND(MOD(X660,7)>=2,SUMPRODUCT(($AM$60:$AQ$60=MOD(X660,7))*$AM$58:$AQ$58),X1079=\"\"),$J$7*SUMPRODUCT(($AM$77:$AQ$77=MOD(X660,7))*$AM$75:$AQ$75)%,\"\")","v":8},{"$f":"IF(AND(MOD(Y660,7)>=2,SUMPRODUCT(($AM$60:$AQ$60=MOD(Y660,7))*$AM$58:$AQ$58),Y1079=\"\"),$J$7*SUMPRODUCT(($AM$77:$AQ$77=MOD(Y660,7))*$AM$75:$AQ$75)%,\"\")","v":8},{"$f":"IF(AND(MOD(Z660,7)>=2,SUMPRODUCT(($AM$60:$AQ$60=MOD(Z660,7))*$AM$58:$AQ$58),Z1079=\"\"),$J$7*SUMPRODUCT(($AM$77:$AQ$77=MOD(Z660,7))*$AM$75:$AQ$75)%,\"\")","v":""},{"$f":"IF(AND(MOD(AA660,7)>=2,SUMPRODUCT(($AM$60:$AQ$60=MOD(AA660,7))*$AM$58:$AQ$58),AA1079=\"\"),$J$7*SUMPRODUCT(($AM$77:$AQ$77=MOD(AA660,7))*$AM$75:$AQ$75)%,\"\")","v":""},{"$f":"IF(AND(MOD(AB660,7)>=2,SUMPRODUCT(($AM$60:$AQ$60=MOD(AB660,7))*$AM$58:$AQ$58),AB1079=\"\"),$J$7*SUMPRODUCT(($AM$77:$AQ$77=MOD(AB660,7))*$AM$75:$AQ$75)%,\"\")","v":8},{"$f":"IF(AND(MOD(AC660,7)>=2,SUMPRODUCT(($AM$60:$AQ$60=MOD(AC660,7))*$AM$58:$AQ$58),AC1079=\"\"),$J$7*SUMPRODUCT(($AM$77:$AQ$77=MOD(AC660,7))*$AM$75:$AQ$75)%,\"\")","v":8},{"$f":"IF(AND(MOD(AD660,7)>=2,SUMPRODUCT(($AM$60:$AQ$60=MOD(AD660,7))*$AM$58:$AQ$58),AD1079=\"\"),$J$7*SUMPRODUCT(($AM$77:$AQ$77=MOD(AD660,7))*$AM$75:$AQ$75)%,\"\")","v":8},{"$f":"IF(AND(MOD(AE660,7)>=2,SUMPRODUCT(($AM$60:$AQ$60=MOD(AE660,7))*$AM$58:$AQ$58),AE1079=\"\"),$J$7*SUMPRODUCT(($AM$77:$AQ$77=MOD(AE660,7))*$AM$75:$AQ$75)%,\"\")","v":8},null,{"$f":"SUM(B662:AF662)","v":176},"[00]"]
[{"$f":"$A$13","v":"Absences"},{"$f":"B1095","v":0},{"$f":"C1095","v":0},0,0,0,0,0,0,0,0,0,0,0,0,0,0,0,0,0,0,0,0,0,0,0,0,0,0,0,0,null,{"$f":"SUM($AT$3:$AT$13)","v":0},"[01]"]
[{"$f":"$A$14","v":"Code"},{"$f":"IF(SUM(B1082:B1094)<>0,IF(MAX(B1082:B1094)<B1095,Labels!$B$163,INDEX($AH$1082:$AH$1094,MATCH(MAX(B1082:B1094),B1082:B1094,0))),\"\")","v":""},{"$f":"IF(SUM(C1082:C1094)<>0,IF(MAX(C1082:C1094)<C1095,Labels!$B$163,INDEX($AH$1082:$AH$1094,MATCH(MAX(C1082:C1094),C1082:C1094,0))),\"\")","v":""},{"$f":"IF(SUM(D1082:D1094)<>0,IF(MAX(D1082:D1094)<D1095,Labels!$B$163,INDEX($AH$1082:$AH$1094,MATCH(MAX(D1082:D1094),D1082:D1094,0))),\"\")","v":""},{"$f":"IF(SUM(E1082:E1094)<>0,IF(MAX(E1082:E1094)<E1095,Labels!$B$163,INDEX($AH$1082:$AH$1094,MATCH(MAX(E1082:E1094),E1082:E1094,0))),\"\")","v":""},{"$f":"IF(SUM(F1082:F1094)<>0,IF(MAX(F1082:F1094)<F1095,Labels!$B$163,INDEX($AH$1082:$AH$1094,MATCH(MAX(F1082:F1094),F1082:F1094,0))),\"\")","v":""},{"$f":"IF(SUM(G1082:G1094)<>0,IF(MAX(G1082:G1094)<G1095,Labels!$B$163,INDEX($AH$1082:$AH$1094,MATCH(MAX(G1082:G1094),G1082:G1094,0))),\"\")","v":""},{"$f":"IF(SUM(H1082:H1094)<>0,IF(MAX(H1082:H1094)<H1095,Labels!$B$163,INDEX($AH$1082:$AH$1094,MATCH(MAX(H1082:H1094),H1082:H1094,0))),\"\")","v":""},{"$f":"IF(SUM(I1082:I1094)<>0,IF(MAX(I1082:I1094)<I1095,Labels!$B$163,INDEX($AH$1082:$AH$1094,MATCH(MAX(I1082:I1094),I1082:I1094,0))),\"\")","v":""},{"$f":"IF(SUM(J1082:J1094)<>0,IF(MAX(J1082:J1094)<J1095,Labels!$B$163,INDEX($AH$1082:$AH$1094,MATCH(MAX(J1082:J1094),J1082:J1094,0))),\"\")","v":""},{"$f":"IF(SUM(K1082:K1094)<>0,IF(MAX(K1082:K1094)<K1095,Labels!$B$163,INDEX($AH$1082:$AH$1094,MATCH(MAX(K1082:K1094),K1082:K1094,0))),\"\")","v":""},{"$f":"IF(SUM(L1082:L1094)<>0,IF(MAX(L1082:L1094)<L1095,Labels!$B$163,INDEX($AH$1082:$AH$1094,MATCH(MAX(L1082:L1094),L1082:L1094,0))),\"\")","v":""},{"$f":"IF(SUM(M1082:M1094)<>0,IF(MAX(M1082:M1094)<M1095,Labels!$B$163,INDEX($AH$1082:$AH$1094,MATCH(MAX(M1082:M1094),M1082:M1094,0))),\"\")","v":""},{"$f":"IF(SUM(N1082:N1094)<>0,IF(MAX(N1082:N1094)<N1095,Labels!$B$163,INDEX($AH$1082:$AH$1094,MATCH(MAX(N1082:N1094),N1082:N1094,0))),\"\")","v":""},{"$f":"IF(SUM(O1082:O1094)<>0,IF(MAX(O1082:O1094)<O1095,Labels!$B$163,INDEX($AH$1082:$AH$1094,MATCH(MAX(O1082:O1094),O1082:O1094,0))),\"\")","v":""},{"$f":"IF(SUM(P1082:P1094)<>0,IF(MAX(P1082:P1094)<P1095,Labels!$B$163,INDEX($AH$1082:$AH$1094,MATCH(MAX(P1082:P1094),P1082:P1094,0))),\"\")","v":""},{"$f":"IF(SUM(Q1082:Q1094)<>0,IF(MAX(Q1082:Q1094)<Q1095,Labels!$B$163,INDEX($AH$1082:$AH$1094,MATCH(MAX(Q1082:Q1094),Q1082:Q1094,0))),\"\")","v":""},{"$f":"IF(SUM(R1082:R1094)<>0,IF(MAX(R1082:R1094)<R1095,Labels!$B$163,INDEX($AH$1082:$AH$1094,MATCH(MAX(R1082:R1094),R1082:R1094,0))),\"\")","v":""},{"$f":"IF(SUM(S1082:S1094)<>0,IF(MAX(S1082:S1094)<S1095,Labels!$B$163,INDEX($AH$1082:$AH$1094,MATCH(MAX(S1082:S1094),S1082:S1094,0))),\"\")","v":""},{"$f":"IF(SUM(T1082:T1094)<>0,IF(MAX(T1082:T1094)<T1095,Labels!$B$163,INDEX($AH$1082:$AH$1094,MATCH(MAX(T1082:T1094),T1082:T1094,0))),\"\")","v":""},{"$f":"IF(SUM(U1082:U1094)<>0,IF(MAX(U1082:U1094)<U1095,Labels!$B$163,INDEX($AH$1082:$AH$1094,MATCH(MAX(U1082:U1094),U1082:U1094,0))),\"\")","v":""},{"$f":"IF(SUM(V1082:V1094)<>0,IF(MAX(V1082:V1094)<V1095,Labels!$B$163,INDEX($AH$1082:$AH$1094,MATCH(MAX(V1082:V1094),V1082:V1094,0))),\"\")","v":""},{"$f":"IF(SUM(W1082:W1094)<>0,IF(MAX(W1082:W1094)<W1095,Labels!$B$163,INDEX($AH$1082:$AH$1094,MATCH(MAX(W1082:W1094),W1082:W1094,0))),\"\")","v":""},{"$f":"IF(SUM(X1082:X1094)<>0,IF(MAX(X1082:X1094)<X1095,Labels!$B$163,INDEX($AH$1082:$AH$1094,MATCH(MAX(X1082:X1094),X1082:X1094,0))),\"\")","v":""},{"$f":"IF(SUM(Y1082:Y1094)<>0,IF(MAX(Y1082:Y1094)<Y1095,Labels!$B$163,INDEX($AH$1082:$AH$1094,MATCH(MAX(Y1082:Y1094),Y1082:Y1094,0))),\"\")","v":""},{"$f":"IF(SUM(Z1082:Z1094)<>0,IF(MAX(Z1082:Z1094)<Z1095,Labels!$B$163,INDEX($AH$1082:$AH$1094,MATCH(MAX(Z1082:Z1094),Z1082:Z1094,0))),\"\")","v":""},{"$f":"IF(SUM(AA1082:AA1094)<>0,IF(MAX(AA1082:AA1094)<AA1095,Labels!$B$163,INDEX($AH$1082:$AH$1094,MATCH(MAX(AA1082:AA1094),AA1082:AA1094,0))),\"\")","v":""},{"$f":"IF(SUM(AB1082:AB1094)<>0,IF(MAX(AB1082:AB1094)<AB1095,Labels!$B$163,INDEX($AH$1082:$AH$1094,MATCH(MAX(AB1082:AB1094),AB1082:AB1094,0))),\"\")","v":""},{"$f":"IF(SUM(AC1082:AC1094)<>0,IF(MAX(AC1082:AC1094)<AC1095,Labels!$B$163,INDEX($AH$1082:$AH$1094,MATCH(MAX(AC1082:AC1094),AC1082:AC1094,0))),\"\")","v":""},{"$f":"IF(SUM(AD1082:AD1094)<>0,IF(MAX(AD1082:AD1094)<AD1095,Labels!$B$163,INDEX($AH$1082:$AH$1094,MATCH(MAX(AD1082:AD1094),AD1082:AD1094,0))),\"\")","v":""},{"$f":"IF(SUM(AE1082:AE1094)<>0,IF(MAX(AE1082:AE1094)<AE1095,Labels!$B$163,INDEX($AH$1082:$AH$1094,MATCH(MAX(AE1082:AE1094),AE1082:AE1094,0))),\"\")","v":""},null,{"$f":"$AT$16*-1","v":0},"[02]"]
[{"$f":"$A$15","v":"00h00-06h00 1)"},null,null,null,null,null,null,null,null,null,null,null,null,null,null,null,null,null,null,null,null,null,null,null,null,null,null,null,null,null,null,null,{"$f":"SUM(B665:AF665)","v":0},"[04]"]
[{"$f":"$A$16","v":"06h00-20h00 2)"},null,null,null,null,null,null,null,null,null,null,null,null,null,null,null,null,null,null,null,null,null,null,null,null,null,null,null,null,null,null,null,{"$f":"SUMPRODUCT(B666:AF666*(B662:AF662<>\"\"))-SUMPRODUCT(B666:AF666*(B668:AF668=\"ft\"))","v":0},"[03]"]
[{"$f":"$A$17","v":"20h00-24h00 3)"},null,null,null,null,null,null,null,null,null,null,null,null,null,null,null,null,null,null,null,null,null,null,null,null,null,null,null,null,null,null,null,{"$f":"SUM(B667:AF667)","v":0},"[05]"]
[{"$f":"$A$18","v":"Jours fériés \"jf\""},{"$f":"IF(WEEKDAY(B660,2)<=6,IF(CALENDRIER!E23=\"x\",Labels!$B$118,\"\"),\"\")","v":""},{"$f":"IF(WEEKDAY(C660,2)<=6,IF(CALENDRIER!F23=\"x\",Labels!$B$118,\"\"),\"\")","v":""},{"$f":"IF(WEEKDAY(D660,2)<=6,IF(CALENDRIER!G23=\"x\",Labels!$B$118,\"\"),\"\")","v":""},{"$f":"IF(WEEKDAY(E660,2)<=6,IF(CALENDRIER!H23=\"x\",Labels!$B$118,\"\"),\"\")","v":""},{"$f":"IF(WEEKDAY(F660,2)<=6,IF(CALENDRIER!I23=\"x\",Labels!$B$118,\"\"),\"\")","v":""},{"$f":"IF(WEEKDAY(G660,2)<=6,IF(CALENDRIER!J23=\"x\",Labels!$B$118,\"\"),\"\")","v":""},{"$f":"IF(WEEKDAY(H660,2)<=6,IF(CALENDRIER!K23=\"x\",Labels!$B$118,\"\"),\"\")","v":""},{"$f":"IF(WEEKDAY(I660,2)<=6,IF(CALENDRIER!L23=\"x\",Labels!$B$118,\"\"),\"\")","v":""},{"$f":"IF(WEEKDAY(J660,2)<=6,IF(CALENDRIER!M23=\"x\",Labels!$B$118,\"\"),\"\")","v":""},{"$f":"IF(WEEKDAY(K660,2)<=6,IF(CALENDRIER!N23=\"x\",Labels!$B$118,\"\"),\"\")","v":""},{"$f":"IF(WEEKDAY(L660,2)<=6,IF(CALENDRIER!O23=\"x\",Labels!$B$118,\"\"),\"\")","v":""},{"$f":"IF(WEEKDAY(M660,2)<=6,IF(CALENDRIER!P23=\"x\",Labels!$B$118,\"\"),\"\")","v":""},{"$f":"IF(WEEKDAY(N660,2)<=6,IF(CALENDRIER!Q23=\"x\",Labels!$B$118,\"\"),\"\")","v":""},{"$f":"IF(WEEKDAY(O660,2)<=6,IF(CALENDRIER!R23=\"x\",Labels!$B$118,\"\"),\"\")","v":""},{"$f":"IF(WEEKDAY(P660,2)<=6,IF(CALENDRIER!S23=\"x\",Labels!$B$118,\"\"),\"\")","v":""},{"$f":"IF(WEEKDAY(Q660,2)<=6,IF(CALENDRIER!T23=\"x\",Labels!$B$118,\"\"),\"\")","v":""},{"$f":"IF(WEEKDAY(R660,2)<=6,IF(CALENDRIER!U23=\"x\",Labels!$B$118,\"\"),\"\")","v":""},{"$f":"IF(WEEKDAY(S660,2)<=6,IF(CALENDRIER!V23=\"x\",Labels!$B$118,\"\"),\"\")","v":""},{"$f":"IF(WEEKDAY(T660,2)<=6,IF(CALENDRIER!W23=\"x\",Labels!$B$118,\"\"),\"\")","v":""},{"$f":"IF(WEEKDAY(U660,2)<=6,IF(CALENDRIER!X23=\"x\",Labels!$B$118,\"\"),\"\")","v":""},{"$f":"IF(WEEKDAY(V660,2)<=6,IF(CALENDRIER!Y23=\"x\",Labels!$B$118,\"\"),\"\")","v":""},{"$f":"IF(WEEKDAY(W660,2)<=6,IF(CALENDRIER!Z23=\"x\",Labels!$B$118,\"\"),\"\")","v":""},{"$f":"IF(WEEKDAY(X660,2)<=6,IF(CALENDRIER!AA23=\"x\",Labels!$B$118,\"\"),\"\")","v":""},{"$f":"IF(WEEKDAY(Y660,2)<=6,IF(CALENDRIER!AB23=\"x\",Labels!$B$118,\"\"),\"\")","v":""},{"$f":"IF(WEEKDAY(Z660,2)<=6,IF(CALENDRIER!AC23=\"x\",Labels!$B$118,\"\"),\"\")","v":""},{"$f":"IF(WEEKDAY(AA660,2)<=6,IF(CALENDRIER!AD23=\"x\",Labels!$B$118,\"\"),\"\")","v":""},{"$f":"IF(WEEKDAY(AB660,2)<=6,IF(CALENDRIER!AE23=\"x\",Labels!$B$118,\"\"),\"\")","v":""},{"$f":"IF(WEEKDAY(AC660,2)<=6,IF(CALENDRIER!AF23=\"x\",Labels!$B$118,\"\"),\"\")","v":""},{"$f":"IF(WEEKDAY(AD660,2)<=6,IF(CALENDRIER!AG23=\"x\",Labels!$B$118,\"\"),\"\")","v":""},{"$f":"IF(WEEKDAY(AE660,2)<=6,IF(CALENDRIER!AH23=\"x\",Labels!$B$118,\"\"),\"\")","v":""},{"$f":"IF(WEEKDAY(AF660,2)<=6,IF(CALENDRIER!AI23=\"x\",Labels!$B$118,\"\"),\"\")","v":""},{"$f":"SUM(B666:AF666)-AG666","v":0},"[03b]"]
[{"$f":"$A$19","v":"Majoration  \"jf\""},{"$f":"IF(AND(B668=Labels!$B$118,WEEKDAY(B660,2)<6,B$662<>\"\"),$J$7*SUMPRODUCT(($AM$77:$AQ$77=MOD(B660,7))*$AM$75:$AQ$75)%,\"\")","v":""},{"$f":"IF(AND(C668=Labels!$B$118,WEEKDAY(C660,2)<6,C$662<>\"\"),$J$7*SUMPRODUCT(($AM$77:$AQ$77=MOD(C660,7))*$AM$75:$AQ$75)%,\"\")","v":""},{"$f":"IF(AND(D668=Labels!$B$118,WEEKDAY(D660,2)<6,D$662<>\"\"),$J$7*SUMPRODUCT(($AM$77:$AQ$77=MOD(D660,7))*$AM$75:$AQ$75)%,\"\")","v":""},{"$f":"IF(AND(E668=Labels!$B$118,WEEKDAY(E660,2)<6,E$662<>\"\"),$J$7*SUMPRODUCT(($AM$77:$AQ$77=MOD(E660,7))*$AM$75:$AQ$75)%,\"\")","v":""},{"$f":"IF(AND(F668=Labels!$B$118,WEEKDAY(F660,2)<6,F$662<>\"\"),$J$7*SUMPRODUCT(($AM$77:$AQ$77=MOD(F660,7))*$AM$75:$AQ$75)%,\"\")","v":""},{"$f":"IF(AND(G668=Labels!$B$118,WEEKDAY(G660,2)<6,G$662<>\"\"),$J$7*SUMPRODUCT(($AM$77:$AQ$77=MOD(G660,7))*$AM$75:$AQ$75)%,\"\")","v":""},{"$f":"IF(AND(H668=Labels!$B$118,WEEKDAY(H660,2)<6,H$662<>\"\"),$J$7*SUMPRODUCT(($AM$77:$AQ$77=MOD(H660,7))*$AM$75:$AQ$75)%,\"\")","v":""},{"$f":"IF(AND(I668=Labels!$B$118,WEEKDAY(I660,2)<6,I$662<>\"\"),$J$7*SUMPRODUCT(($AM$77:$AQ$77=MOD(I660,7))*$AM$75:$AQ$75)%,\"\")","v":""},{"$f":"IF(AND(J668=Labels!$B$118,WEEKDAY(J660,2)<6,J$662<>\"\"),$J$7*SUMPRODUCT(($AM$77:$AQ$77=MOD(J660,7))*$AM$75:$AQ$75)%,\"\")","v":""},{"$f":"IF(AND(K668=Labels!$B$118,WEEKDAY(K660,2)<6,K$662<>\"\"),$J$7*SUMPRODUCT(($AM$77:$AQ$77=MOD(K660,7))*$AM$75:$AQ$75)%,\"\")","v":""},{"$f":"IF(AND(L668=Labels!$B$118,WEEKDAY(L660,2)<6,L$662<>\"\"),$J$7*SUMPRODUCT(($AM$77:$AQ$77=MOD(L660,7))*$AM$75:$AQ$75)%,\"\")","v":""},{"$f":"IF(AND(M668=Labels!$B$118,WEEKDAY(M660,2)<6,M$662<>\"\"),$J$7*SUMPRODUCT(($AM$77:$AQ$77=MOD(M660,7))*$AM$75:$AQ$75)%,\"\")","v":""},{"$f":"IF(AND(N668=Labels!$B$118,WEEKDAY(N660,2)<6,N$662<>\"\"),$J$7*SUMPRODUCT(($AM$77:$AQ$77=MOD(N660,7))*$AM$75:$AQ$75)%,\"\")","v":""},{"$f":"IF(AND(O668=Labels!$B$118,WEEKDAY(O660,2)<6,O$662<>\"\"),$J$7*SUMPRODUCT(($AM$77:$AQ$77=MOD(O660,7))*$AM$75:$AQ$75)%,\"\")","v":""},{"$f":"IF(AND(P668=Labels!$B$118,WEEKDAY(P660,2)<6,P$662<>\"\"),$J$7*SUMPRODUCT(($AM$77:$AQ$77=MOD(P660,7))*$AM$75:$AQ$75)%,\"\")","v":""},{"$f":"IF(AND(Q668=Labels!$B$118,WEEKDAY(Q660,2)<6,Q$662<>\"\"),$J$7*SUMPRODUCT(($AM$77:$AQ$77=MOD(Q660,7))*$AM$75:$AQ$75)%,\"\")","v":""},{"$f":"IF(AND(R668=Labels!$B$118,WEEKDAY(R660,2)<6,R$662<>\"\"),$J$7*SUMPRODUCT(($AM$77:$AQ$77=MOD(R660,7))*$AM$75:$AQ$75)%,\"\")","v":""},{"$f":"IF(AND(S668=Labels!$B$118,WEEKDAY(S660,2)<6,S$662<>\"\"),$J$7*SUMPRODUCT(($AM$77:$AQ$77=MOD(S660,7))*$AM$75:$AQ$75)%,\"\")","v":""},{"$f":"IF(AND(T668=Labels!$B$118,WEEKDAY(T660,2)<6,T$662<>\"\"),$J$7*SUMPRODUCT(($AM$77:$AQ$77=MOD(T660,7))*$AM$75:$AQ$75)%,\"\")","v":""},{"$f":"IF(AND(U668=Labels!$B$118,WEEKDAY(U660,2)<6,U$662<>\"\"),$J$7*SUMPRODUCT(($AM$77:$AQ$77=MOD(U660,7))*$AM$75:$AQ$75)%,\"\")","v":""},{"$f":"IF(AND(V668=Labels!$B$118,WEEKDAY(V660,2)<6,V$662<>\"\"),$J$7*SUMPRODUCT(($AM$77:$AQ$77=MOD(V660,7))*$AM$75:$AQ$75)%,\"\")","v":""},{"$f":"IF(AND(W668=Labels!$B$118,WEEKDAY(W660,2)<6,W$662<>\"\"),$J$7*SUMPRODUCT(($AM$77:$AQ$77=MOD(W660,7))*$AM$75:$AQ$75)%,\"\")","v":""},{"$f":"IF(AND(X668=Labels!$B$118,WEEKDAY(X660,2)<6,X$662<>\"\"),$J$7*SUMPRODUCT(($AM$77:$AQ$77=MOD(X660,7))*$AM$75:$AQ$75)%,\"\")","v":""},{"$f":"IF(AND(Y668=Labels!$B$118,WEEKDAY(Y660,2)<6,Y$662<>\"\"),$J$7*SUMPRODUCT(($AM$77:$AQ$77=MOD(Y660,7))*$AM$75:$AQ$75)%,\"\")","v":""},{"$f":"IF(AND(Z668=Labels!$B$118,WEEKDAY(Z660,2)<6,Z$662<>\"\"),$J$7*SUMPRODUCT(($AM$77:$AQ$77=MOD(Z660,7))*$AM$75:$AQ$75)%,\"\")","v":""},{"$f":"IF(AND(AA668=Labels!$B$118,WEEKDAY(AA660,2)<6,AA$662<>\"\"),$J$7*SUMPRODUCT(($AM$77:$AQ$77=MOD(AA660,7))*$AM$75:$AQ$75)%,\"\")","v":""},{"$f":"IF(AND(AB668=Labels!$B$118,WEEKDAY(AB660,2)<6,AB$662<>\"\"),$J$7*SUMPRODUCT(($AM$77:$AQ$77=MOD(AB660,7))*$AM$75:$AQ$75)%,\"\")","v":""},{"$f":"IF(AND(AC668=Labels!$B$118,WEEKDAY(AC660,2)<6,AC$662<>\"\"),$J$7*SUMPRODUCT(($AM$77:$AQ$77=MOD(AC660,7))*$AM$75:$AQ$75)%,\"\")","v":""},{"$f":"IF(AND(AD668=Labels!$B$118,WEEKDAY(AD660,2)<6,AD$662<>\"\"),$J$7*SUMPRODUCT(($AM$77:$AQ$77=MOD(AD660,7))*$AM$75:$AQ$75)%,\"\")","v":""},{"$f":"IF(AND(AE668=Labels!$B$118,WEEKDAY(AE660,2)<6,AE$662<>\"\"),$J$7*SUMPRODUCT(($AM$77:$AQ$77=MOD(AE660,7))*$AM$75:$AQ$75)%,\"\")","v":""},{"$f":"IF(AND(AF668=Labels!$B$118,WEEKDAY(AF660,2)<6),$J$7*$B$657%,\"\")","v":""},{"$f":"SUM(B669:AF669)","v":0},"[06]"]
[{"$f":"$A$20","v":"total quotidien"},{"$f":"SUM(B665:B667)","v":0},{"$f":"SUM(C665:C667)","v":0},0,0,0,0,0,0,0,0,0,0,0,0,0,0,0,0,0,0,0,0,0,0,0,0,0,0,0,0,null,null,"TT"]
[{"$f":"$A$21","v":"."},null,null,null,null,null,null,null,null,null,null,null,null,null,null,null,null,null,null,null,null,null,null,null,null,null,null,null,null,null,null,null,null,"R"]
[{"$f":"$A$22","v":"."},null,null,null,null,null,null,null,null,null,null,null,null,null,null,null,null,null,null,null,null,null,null,null,null,null,null,null,null,null,null,null,null,"R"]
[{"$f":"$A$23","v":"transition mois"},{"$f":"IF(WEEKDAY(B660)=1,TEXT(B660-1,\"MMM\"&Labels!B13),\"\")","v":""},null,null,null,null,null,null,null,null,null,null,null,null,null,null,null,null,null,null,null,null,null,null,null,null,null,null,null,null,{"$f":"IF(AND(WEEKDAY(AE660)>1,WEEKDAY(AE660)<7),TEXT(DATE($B$5,MONTH(AE660)+1,1),\"MMM\"&Labels!B13),\"\")","v":"déc."},null,null,"MNT"]
[{"$f":"$A$24","v":"Total hebdomadaire"},{"$f":"IF(WEEKDAY(B660)=7,SUMIF($B596:$AF596,B661,$B605:$AF605)+SUMIF($B661:$AF661,B661,$B670:$AF670)+SUMIF($B726:$AF726,B661,$B735:$AF735),B673)","v":""},{"$f":"IF(WEEKDAY(C660)=7,SUMIF($B596:$AF596,C661,$B605:$AF605)+SUMIF($B661:$AF661,C661,$B670:$AF670)+SUMIF($B726:$AF726,C661,$B735:$AF735),\"\")","v":""},"",0,"","","","","","",0,"","","","","","",0,"","","","","","",0,"","","","",{"$f":"IF(WEEKDAY(AE660)=7,SUMIF($B596:$AF596,AE661,$B605:$AF605)+SUMIF($B661:$AF661,AE661,$B670:$AF670)+SUMIF($B726:$AF726,AE661,$B735:$AF735),AE673)","v":"déc."},null,null,"WT"]
[{"$f":"$A$25","v":"Majorations temp. 1)"},{"$f":"IF(B682=\"FALSCH\",\"\",B682)","v":""},{"$f":"IF(C682=\"FALSCH\",\"\",C682)","v":""},"","","","","","","","","","","","","","","","","","","","","","","","","","","","",null,{"$f":"SUM(B675:AF675)","v":0},"[07]"]
[{"$f":"$A$26","v":"Majorations temp. 2)"},{"$f":"IF((B665+B667)=0,\"\",SUM(B665,B667))","v":""},{"$f":"IF((C665+C667)=0,\"\",SUM(C665,C667))","v":""},"","","","","","","","","","","","","","","","","","","","","","","","","","","","",null,0,"[08]"]
[{"$f":"$A$27","v":"Majorations temp. 3)"},{"$f":"SUM(B678:B681)","v":0},{"$f":"SUM(C678:C681)","v":0},0,0,0,0,0,0,0,0,0,0,0,0,0,0,0,0,0,0,0,0,0,0,0,0,0,0,0,0,null,0,"[09]"]
[{"$f":"$A$28","v":"Dimanche journée"},{"$f":"IF(WEEKDAY(B660)=1,B666,\"\")","v":""},{"$f":"IF(WEEKDAY(C660)=1,C666,\"\")","v":""},"","",0,"","","","","","",0,"","","","","","",0,"","","","","","",0,"","","","",null,0,"[09-ST]"]
[{"$f":"$A$29","v":"Dimanche nuit"},{"$f":"IF(WEEKDAY(B660)=1,SUM(B665+B667),\"\")","v":""},{"$f":"IF(WEEKDAY(C660)=1,SUM(C665+C667),\"\")","v":""},"","",0,"","","","","","",0,"","","","","","",0,"","","","","","",0,"","","","",null,0,"[09-SN]"]
[{"$f":"$A$30","v":"jf-jomajoration"},{"$f":"IF(B668=Labels!$B$118,B666,\"\")","v":""},{"$f":"IF(C668=Labels!$B$118,C666,\"\")","v":""},{"$f":"IF(D668=Labels!$B$118,D666,\"\")","v":""},{"$f":"IF(E668=Labels!$B$118,E666,\"\")","v":""},{"$f":"IF(F668=Labels!$B$118,F666,\"\")","v":""},{"$f":"IF(G668=Labels!$B$118,G666,\"\")","v":""},{"$f":"IF(H668=Labels!$B$118,H666,\"\")","v":""},{"$f":"IF(I668=Labels!$B$118,I666,\"\")","v":""},{"$f":"IF(J668=Labels!$B$118,J666,\"\")","v":""},{"$f":"IF(K668=Labels!$B$118,K666,\"\")","v":""},{"$f":"IF(L668=Labels!$B$118,L666,\"\")","v":""},{"$f":"IF(M668=Labels!$B$118,M666,\"\")","v":""},{"$f":"IF(N668=Labels!$B$118,N666,\"\")","v":""},{"$f":"IF(O668=Labels!$B$118,O666,\"\")","v":""},{"$f":"IF(P668=Labels!$B$118,P666,\"\")","v":""},{"$f":"IF(Q668=Labels!$B$118,Q666,\"\")","v":""},{"$f":"IF(R668=Labels!$B$118,R666,\"\")","v":""},{"$f":"IF(S668=Labels!$B$118,S666,\"\")","v":""},{"$f":"IF(T668=Labels!$B$118,T666,\"\")","v":""},{"$f":"IF(U668=Labels!$B$118,U666,\"\")","v":""},{"$f":"IF(V668=Labels!$B$118,V666,\"\")","v":""},{"$f":"IF(W668=Labels!$B$118,W666,\"\")","v":""},{"$f":"IF(X668=Labels!$B$118,X666,\"\")","v":""},{"$f":"IF(Y668=Labels!$B$118,Y666,\"\")","v":""},{"$f":"IF(Z668=Labels!$B$118,Z666,\"\")","v":""},{"$f":"IF(AA668=Labels!$B$118,AA666,\"\")","v":""},{"$f":"IF(AB668=Labels!$B$118,AB666,\"\")","v":""},{"$f":"IF(AC668=Labels!$B$118,AC666,\"\")","v":""},{"$f":"IF(AD668=Labels!$B$118,AD666,\"\")","v":""},{"$f":"IF(AE668=Labels!$B$118,AE666,\"\")","v":""},null,0,"[09-FT]"]
[{"$f":"$A$31","v":"jf-numajoration"},{"$f":"IF(B668=Labels!$B$118,SUM(B665,B667),\"\")","v":""},{"$f":"IF(C668=Labels!$B$118,SUM(C665,C667),\"\")","v":""},{"$f":"IF(D668=Labels!$B$118,SUM(D665,D667),\"\")","v":""},{"$f":"IF(E668=Labels!$B$118,SUM(E665,E667),\"\")","v":""},{"$f":"IF(F668=Labels!$B$118,SUM(F665,F667),\"\")","v":""},{"$f":"IF(G668=Labels!$B$118,SUM(G665,G667),\"\")","v":""},{"$f":"IF(H668=Labels!$B$118,SUM(H665,H667),\"\")","v":""},{"$f":"IF(I668=Labels!$B$118,SUM(I665,I667),\"\")","v":""},{"$f":"IF(J668=Labels!$B$118,SUM(J665,J667),\"\")","v":""},{"$f":"IF(K668=Labels!$B$118,SUM(K665,K667),\"\")","v":""},{"$f":"IF(L668=Labels!$B$118,SUM(L665,L667),\"\")","v":""},{"$f":"IF(M668=Labels!$B$118,SUM(M665,M667),\"\")","v":""},{"$f":"IF(N668=Labels!$B$118,SUM(N665,N667),\"\")","v":""},{"$f":"IF(O668=Labels!$B$118,SUM(O665,O667),\"\")","v":""},{"$f":"IF(P668=Labels!$B$118,SUM(P665,P667),\"\")","v":""},{"$f":"IF(Q668=Labels!$B$118,SUM(Q665,Q667),\"\")","v":""},{"$f":"IF(R668=Labels!$B$118,SUM(R665,R667),\"\")","v":""},{"$f":"IF(S668=Labels!$B$118,SUM(S665,S667),\"\")","v":""},{"$f":"IF(T668=Labels!$B$118,SUM(T665,T667),\"\")","v":""},{"$f":"IF(U668=Labels!$B$118,SUM(U665,U667),\"\")","v":""},{"$f":"IF(V668=Labels!$B$118,SUM(V665,V667),\"\")","v":""},{"$f":"IF(W668=Labels!$B$118,SUM(W665,W667),\"\")","v":""},{"$f":"IF(X668=Labels!$B$118,SUM(X665,X667),\"\")","v":""},{"$f":"IF(Y668=Labels!$B$118,SUM(Y665,Y667),\"\")","v":""},{"$f":"IF(Z668=Labels!$B$118,SUM(Z665,Z667),\"\")","v":""},{"$f":"IF(AA668=Labels!$B$118,SUM(AA665,AA667),\"\")","v":""},{"$f":"IF(AB668=Labels!$B$118,SUM(AB665,AB667),\"\")","v":""},{"$f":"IF(AC668=Labels!$B$118,SUM(AC665,AC667),\"\")","v":""},{"$f":"IF(AD668=Labels!$B$118,SUM(AD665,AD667),\"\")","v":""},{"$f":"IF(AE668=Labels!$B$118,SUM(AE665,AE667),\"\")","v":""},null,0,"[09-FN]"]
[{"$f":"$A$32","v":"majoration caché (total hebd.)"},{"$f":"IF($B657>=80,IF(OR(ISTEXT(B674),B674=\"\",B674<$B$7),\"\",ROUND(((B674-$B$7)*25%)/25,4)*25),IF(B670>($B$7/5),ROUND(((B670-($B$7/5))*25%)/25,4)*25,\"\"))","v":""},{"$f":"IF($B657>=80,IF(OR(ISTEXT(C674),C674=\"\",C674<$B$7),\"\",ROUND(((C674-$B$7)*25%)/25,4)*25),IF(C670>($B$7/5),ROUND(((C670-($B$7/5))*25%)/25,4)*25,\"\"))","v":""},"","","","","","","","","","","","","","","","","","","","","","","","","","","","",null,{"$f":"AG666","v":0},"[03]"]
[null,{"$f":"$B$33","v":"1)  25% majoration temporelle pour depassement les heures maximales"},null,null,null,null,null,null,null,null,null,{"$f":"$L$33","v":"2) 100% majoration temporelle pour travail de nuit"},null,null,null,null,null,null,null,null,null,null,null,null,null,null,null,null,null,null,null,null,{"$f":"SUM(AG665+AG667)","v":0},"[4-5]"]
[null,{"$f":"$B$34","v":"3) 100% majoration temporelle pour travail du dimanche et jour férié"},null,null,null,null,null,null,null,null,null,null,null,null,null,null,null,null,null,{"$f":"$T$34","v":"Saisie des heures payées exercice en cours (heures supplémentaires)"},null,null,null,null,null,null,null,null,null,null,null,null,{"$f":"SUM(AG665:AG667)","v":0},"[3-5]"]
[{"$f":"$A$35","v":"Notes"},null,null,null,null,null,null,null,null,null,null,null,null,null,null,null,null,null,null,null,null,null,null,null,null,null,null,null,null,null,null,null,{"$f":"SUM(AG663:AG677)","v":0},"[10]"]
[null,null,null,null,null,null,null,null,null,null,null,null,null,null,null,null,null,null,null,null,null,null,null,null,null,null,null,null,null,null,null,null,{"$f":"AG662","v":176},"[00]"]
[{"$f":"IF(AG1079=0,\"\",\"effektives Pensum:  \"&ROUND(COUNT(B662:AF662)/(AG1079+COUNT(B662:AF662))%*B657%*20,0)/20&\" %\")","v":""},null,null,null,null,null,null,null,null,null,null,null,null,null,null,null,null,null,null,null,null,null,null,null,null,null,null,null,null,null,null,null,{"$f":"SUM(AG685-AG686)","v":-176},"[11]"]
[]
[{"$f":"Labels!$B$103","v":"Résumé"},null,null,null,null,null,{"$f":"Labels!$B$77","v":"Jan"},null,{"$f":"Labels!$B$78","v":"Fév"},null,{"$f":"Labels!$B$79","v":"Mar"},null,{"$f":"Labels!$B$80","v":"Avr"},null,{"$f":"Labels!$B$81","v":"Mai"},null,{"$f":"Labels!$B$82","v":"Jun"},null,{"$f":"Labels!$B$83","v":"Jul"},null,{"$f":"Labels!$B$84","v":"Aoû"},null,{"$f":"Labels!$B$85","v":"Sep"},null,{"$f":"Labels!$B$86","v":"Oct"},null,{"$f":"Labels!$B$87","v":"Nov"},null,{"$f":"Labels!$B$88","v":"Déc"},null,{"$f":"Labels!$B$101","v":"Année"}]
[{"$f":"Labels!$B$20","v":"Emploi %"},null,null,null,null,null,{"$f":"IF($B$4=0,0,$B$4)","v":100},null,{"$f":"IF($B$72=0,0,$B$72)","v":100},null,{"$f":"IF($B$137=0,0,$B$137)","v":100},null,{"$f":"IF($B$202=0,0,$B$202)","v":100},null,{"$f":"IF($B$267=0,0,$B$267)","v":100},null,{"$f":"IF($B$332=0,0,$B$332)","v":100},null,{"$f":"IF($B$397=0,0,$B$397)","v":100},null,{"$f":"IF($B$462=0,0,$B$462)","v":100},null,{"$f":"IF($B$527=0,0,$B$527)","v":100},null,{"$f":"IF($B$592=0,0,$B$592)","v":100},null,{"$f":"IF($B$657=0,0,$B$657)","v":100},null,{"$f":"IF($B$722=0,0,$B$722)","v":100}]
[{"$f":"Labels!$B$104","v":"Heures théoriques selon CCT"},null,null,null,null,null,{"$f":"IF($AG$36=0,0,$AG$36)","v":176},null,{"$f":"IF($AG$101=0,0,$AG$101)","v":160},null,{"$f":"IF($AG$142=0,0,$AG$142)","v":184},null,{"$f":"IF($AG$231=0,0,$AG$231)","v":160},null,{"$f":"IF($AG$296=0,0,$AG$296)","v":184},null,{"$f":"IF($AG$361=0,0,$AG$361)","v":176},null,{"$f":"IF($AG$426=0,0,$AG$426)","v":168},null,{"$f":"IF($AG$491=0,0,$AG$491)","v":184},null,{"$f":"IF($AG$556=0,0,$AG$556)","v":168},null,{"$f":"IF($AG$621=0,0,$AG$621)","v":176},null,{"$f":"IF($AG$686=0,0,$AG$686)","v":176},null,{"$f":"IF($AG$751=0,0,$AG$751)","v":168},null,{"$f":"SUM(G691:AD691)","v":2080}]
[{"$f":"Labels!$B$105","v":"Total heures productives"},{"$f":"Labels!$B$106","v":"06.00 - 20.00 h"},null,null,null,null,{"$f":"IF($AG$32=0,0,$AG$32)","v":0},null,{"$f":"IF($AG$97=0,0,$AG$97)","v":0},null,{"$f":"IF($AG$162=0,0,$AG$162)","v":0},null,{"$f":"IF($AG$227=0,0,$AG$227)","v":0},null,{"$f":"IF($AG$292=0,0,$AG$292)","v":0},null,{"$f":"IF($AG$357=0,0,$AG$357)","v":0},null,{"$f":"IF($AG$422=0,0,$AG$422)","v":0},null,{"$f":"IF($AG$487=0,0,$AG$487)","v":0},null,{"$f":"IF($AG$552=0,0,$AG$552)","v":0},null,{"$f":"IF($AG$617=0,0,$AG$617)","v":0},null,{"$f":"IF($AG$682=0,0,$AG$682)","v":0},null,{"$f":"IF($AG$747=0,0,$AG$747)","v":0},null,{"$f":"SUM(G692:AD692)","v":0}]
[null,{"$f":"Labels!$B$107","v":"nuit, dimanche et jour férié"},null,null,null,null,{"$f":"IF(AND($AG$33=0,$AG$18=0),0,$AG$33+$AG$18)","v":0},null,{"$f":"IF(AND($AG$98=0,$AG$83=0),0,$AG$98+$AG$83)","v":0},null,{"$f":"IF(AND($AG$163=0,$AG$148=0),0,$AG$163+$AG$148)","v":0},null,{"$f":"IF(AND($AG$228=0,$AG$213=0),0,$AG$228+$AG$213)","v":0},null,{"$f":"IF(AND($AG$293=0,$AG$278=0),0,$AG$293+$AG$278)","v":0},null,{"$f":"IF(AND($AG$358=0,$AG$343=0),0,$AG$358+$AG$343)","v":0},null,{"$f":"IF(AND($AG$423=0,$AG$408=0),0,$AG$423+$AG$408)","v":0},null,{"$f":"IF(AND($AG$488=0,$AG$473=0),0,$AG$488+$AG$473)","v":0},null,{"$f":"IF(AND($AG$553=0,$AG$538=0),0,$AG$553+$AG$538)","v":0},null,{"$f":"IF(AND($AG$618=0,$AG$603=0),0,$AG$618+$AG$603)","v":0},null,{"$f":"IF(AND($AG$683=0,$AG$668=0),0,$AG$683+$AG$668)","v":0},null,{"$f":"IF(AND($AG$748=0,$AG$733=0),0,$AG$748+$AG$733)","v":0},null,{"$f":"SUM(G693:AD693)","v":0}]
[{"$f":"Labels!$B$108","v":"Majorations temporelles"},{"$f":"Labels!$B$109","v":"depassement des heures maximales"},null,null,null,null,{"$f":"IF($AG$25=0,0,$AG$25)","v":0},null,{"$f":"IF($AG$90=0,0,$AG$90)","v":0},null,{"$f":"IF($AG$155=0,0,$AG$155)","v":0},null,{"$f":"IF($AG$220=0,0,$AG$220)","v":0},null,{"$f":"IF($AG$285=0,0,$AG$285)","v":0},null,{"$f":"IF($AG$350=0,0,$AG$350)","v":0},null,{"$f":"IF($AG$415=0,0,$AG$415)","v":0},null,{"$f":"IF($AG$480=0,0,$AG$480)","v":0},null,{"$f":"IF($AG$545=0,0,$AG$545)","v":0},null,{"$f":"IF($AG$610=0,0,$AG$610)","v":0},null,{"$f":"IF($AG$675=0,0,$AG$675)","v":0},null,{"$f":"IF($AG$740=0,0,$AG$740)","v":0},null,{"$f":"SUM(G694:AD694)","v":0}]
[null,{"$f":"Labels!$B$110","v":"nuit, dimanche et jour férié"},null,null,null,null,{"$f":"IF($AJ$23=0,0,$AJ$23)","v":0},null,{"$f":"IF($AK$23=0,0,$AK$23)","v":0},null,{"$f":"IF($AL$23=0,0,$AL$23)","v":0},null,{"$f":"IF($AM$23=0,0,$AM$23)","v":0},null,{"$f":"IF($AN$23=0,0,$AN$23)","v":0},null,{"$f":"IF($AO$23=0,0,$AO$23)","v":0},null,{"$f":"IF($AP$23=0,0,$AP$23)","v":0},null,{"$f":"IF($AQ$23=0,0,$AQ$23)","v":0},null,{"$f":"IF($AR$23=0,0,$AR$23)","v":0},null,{"$f":"IF($AS$23=0,0,$AS$23)","v":0},null,{"$f":"IF($AT$23=0,0,$AT$23)","v":0},null,{"$f":"IF($AU$23=0,0,$AU$23)","v":0},null,{"$f":"SUM(G695:AD695)","v":0}]
[{"$f":"Labels!$B$111","v":"Heures inproductives"}]
[{"$f":"Labels!$B$112","v":"   Absences art. 11 CCT"},null,null,null,null,{"$f":"Labels!$B$113","v":"ab"},{"$f":"IF($AJ$3=0,0,$AJ$3)","v":0},null,{"$f":"IF($AK$3=0,0,$AK$3)","v":0},null,{"$f":"IF($AL$3=0,0,$AL$3)","v":0},null,{"$f":"IF($AM$3=0,0,$AM$3)","v":0},null,{"$f":"IF($AN$3=0,0,$AN$3)","v":0},null,{"$f":"IF($AO$3=0,0,$AO$3)","v":0},null,{"$f":"IF($AP$3=0,0,$AP$3)","v":0},null,{"$f":"IF($AQ$3=0,0,$AQ$3)","v":0},null,{"$f":"IF($AR$3=0,0,$AR$3)","v":0},null,{"$f":"IF($AS$3=0,0,$AS$3)","v":0},null,{"$f":"IF(AT$3=0,0,$AT$3)","v":0},null,{"$f":"IF($AU$3=0,0,$AU$3)","v":0},null,{"$f":"IF($AV$3=0,0,$AV$3)","v":0}]
[{"$f":"Labels!$B$114","v":"   Vacances art. 12.1 CCT"},null,null,null,null,{"$f":"Labels!$B$115","v":"va"},{"$f":"IF($AJ$4=0,0,$AJ$4)","v":0},null,{"$f":"IF($AK$4=0,0,$AK$4)","v":0},null,{"$f":"IF($AL$4=0,0,$AL$4)","v":0},null,{"$f":"IF($AM$4=0,0,$AM$4)","v":0},null,{"$f":"IF($AN$4=0,0,$AN$4)","v":0},null,{"$f":"IF($AO$4=0,0,$AO$4)","v":0},null,{"$f":"IF($AP$4=0,0,$AP$4)","v":0},null,{"$f":"IF($AQ$4=0,0,$AQ$4)","v":0},null,{"$f":"IF($AR$4=0,0,$AR$4)","v":0},null,{"$f":"IF($AS$4=0,0,$AS$4)","v":0},null,{"$f":"IF($AT$4=0,0,$AT$4)","v":0},null,{"$f":"IF($AU$4=0,0,$AU$4)","v":0},null,{"$f":"IF($AV$4=0,0,$AV$4)","v":0}]
[{"$f":"Labels!$B$181","v":"   vacances non payées"},null,null,null,null,{"$f":"Labels!$B$182","v":"vn"},{"$f":"IF($AJ$13=0,0,$AJ$13)","v":0},null,{"$f":"IF($AK$13=0,0,$AK$13)","v":0},null,{"$f":"IF($AL$13=0,0,$AL$13)","v":0},null,{"$f":"IF($AM$13=0,0,$AM$13)","v":0},null,{"$f":"IF($AN$13=0,0,$AN$13)","v":0},null,{"$f":"IF($AO$13=0,0,$AO$13)","v":0},null,{"$f":"IF($AP$13=0,0,$AP$13)","v":0},null,{"$f":"IF($AQ$13=0,0,$AQ$13)","v":0},null,{"$f":"IF($AR$13=0,0,$AR$13)","v":0},null,{"$f":"IF($AS$13=0,0,$AS$13)","v":0},null,{"$f":"IF($AT$13=0,0,$AT$13)","v":0},null,{"$f":"IF($AU$13=0,0,$AU$13)","v":0},null,{"$f":"IF($AV$13=0,0,$AV$13)","v":0}]
[{"$f":"Labels!$B$116","v":"   Jours fériés art. 12.2 CCT"},null,{"$f":"IF($AJ$20=\"\",\"\",$AJ$20)","v":""},null,null,{"$f":"Labels!$B$118","v":"jf"},{"$f":"IF($AJ$18=0,0,$AJ$18)","v":0},null,{"$f":"IF($AK$18=0,0,$AK$18)","v":0},null,{"$f":"IF($AL$18=0,0,$AL$18)","v":0},null,{"$f":"IF($AM$18=0,0,$AM$18)","v":0},null,{"$f":"IF($AN$18=0,0,$AN$18)","v":0},null,{"$f":"IF($AO$18=0,0,$AO$18)","v":0},null,{"$f":"IF($AP$18=0,0,$AP$18)","v":0},null,{"$f":"IF($AQ$18=0,0,$AQ$18)","v":0},null,{"$f":"IF($AR$18=0,0,$AR$18)","v":0},null,{"$f":"IF($AS$18=0,0,$AS$18)","v":0},null,{"$f":"IF($AT$18=0,0,$AT$18)","v":0},null,{"$f":"IF($AU$18=0,0,$AU$18)","v":0},null,{"$f":"IF($AV$18=0,0,$AV$18)","v":0}]
[{"$f":"Labels!$B$119","v":"   Maladie art. 13 CCT"},null,null,null,null,{"$f":"Labels!$B$120","v":"ma"},{"$f":"IF($AJ$5=0,0,$AJ$5)","v":0},null,{"$f":"IF($AK$5=0,0,$AK$5)","v":0},null,{"$f":"IF($AL$5=0,0,$AL$5)","v":0},null,{"$f":"IF($AM$5=0,0,$AM$5)","v":0},null,{"$f":"IF($AN$5=0,0,$AN$5)","v":0},null,{"$f":"IF($AO$5=0,0,$AO$5)","v":0},null,{"$f":"IF($AP$5=0,0,$AP$5)","v":0},null,{"$f":"IF($AQ$5=0,0,$AQ$5)","v":0},null,{"$f":"IF($AR$5=0,0,$AR$5)","v":0},null,{"$f":"IF($AS$5=0,0,$AS$5)","v":0},null,{"$f":"IF($AT$5=0,0,$AT$5)","v":0},null,{"$f":"IF($AU$5=0,0,$AU$5)","v":0},null,{"$f":"IF($AV$5=0,0,$AV$5)","v":0}]
[{"$f":"Labels!$B$184","v":"non payeé"},null,null,null,null,null,{"$f":"IF(AJ$16=0,0,AJ$16)","v":0},null,{"$f":"IF($AK$16=0,0,$AK$16)","v":0},null,{"$f":"IF($AL$16=0,0,$AL$16)","v":0},null,{"$f":"IF($AM$16=0,0,$AM$16)","v":0},null,{"$f":"IF($AN$16=0,0,$AN$16)","v":0},null,{"$f":"IF($AO$16=0,0,$AO$16)","v":0},null,{"$f":"IF($AP$16=0,0,$AP$16)","v":0},null,{"$f":"IF($AQ$16=0,0,$AQ$16)","v":0},null,{"$f":"IF($AR$16=0,0,$AR$16)","v":0},null,{"$f":"IF($AS$16=0,0,$AS$16)","v":0},null,{"$f":"IF($AT$16=0,0,$AT$16)","v":0},null,{"$f":"IF($AU$16=0,0,$AU$16)","v":0},null,{"$f":"IF($AV$16=0,0,$AV$16)","v":0}]
[{"$f":"Labels!$B$121","v":"   Accident art. 14 CCT"},null,null,null,null,{"$f":"Labels!$B$122","v":"ac"},{"$f":"IF($AJ$6=0,0,$AJ$6)","v":0},null,{"$f":"IF($AK$6=0,0,$AK$6)","v":0},null,{"$f":"IF($AL$6=0,0,$AL$6)","v":0},null,{"$f":"IF($AM$6=0,0,$AM$6)","v":0},null,{"$f":"IF($AN$6=0,0,$AN$6)","v":0},null,{"$f":"IF($AO$6=0,0,$AO$6)","v":0},null,{"$f":"IF($AP$6=0,0,$AP$6)","v":0},null,{"$f":"IF($AQ$6=0,0,$AQ$6)","v":0},null,{"$f":"IF($AR$6=0,0,$AR$6)","v":0},null,{"$f":"IF($AS$6=0,0,$AS$6)","v":0},null,{"$f":"IF($AT$6=0,0,$AT$6)","v":0},null,{"$f":"IF($AU$6=0,0,$AU$6)","v":0},null,{"$f":"IF($AV$6=0,0,$AV$6)","v":0}]
[{"$f":"Labels!$B$123","v":"   Grossesse/Maternité art. 15 CCT"},null,null,null,null,{"$f":"Labels!$B$124","v":"gm"},{"$f":"IF($AJ$7=0,0,$AJ$7)","v":0},null,{"$f":"IF($AK$7=0,0,$AK$7)","v":0},null,{"$f":"IF($AL$7=0,0,$AL$7)","v":0},null,{"$f":"IF($AM$7=0,0,$AM$7)","v":0},null,{"$f":"IF($AN$7=0,0,$AN$7)","v":0},null,{"$f":"IF($AO$7=0,0,$AO$7)","v":0},null,{"$f":"IF($AP$7=0,0,$AP$7)","v":0},null,{"$f":"IF($AQ$7=0,0,$AQ$7)","v":0},null,{"$f":"IF($AR$7=0,0,$AR$7)","v":0},null,{"$f":"IF($AS$7=0,0,$AS$7)","v":0},null,{"$f":"IF($AT$7=0,0,$AT$7)","v":0},null,{"$f":"IF($AU$7=0,0,$AU$7)","v":0},null,{"$f":"IF($AV$7=0,0,$AV$7)","v":0}]
[{"$f":"Labels!$B$125","v":"   Militaire/Promotion/Protection civile art. 16 CCT"},null,null,null,null,{"$f":"Labels!$B$126","v":"mi"},{"$f":"IF($AJ$8=0,0,$AJ$8)","v":0},null,{"$f":"IF($AK$8=0,0,$AK$8)","v":0},null,{"$f":"IF($AL$8=0,0,$AL$8)","v":0},null,{"$f":"IF($AM$8=0,0,$AM$8)","v":0},null,{"$f":"IF($AN$8=0,0,$AN$8)","v":0},null,{"$f":"IF($AO$8=0,0,$AO$8)","v":0},null,{"$f":"IF($AP$8=0,0,$AP$8)","v":0},null,{"$f":"IF($AQ$8=0,0,$AQ$8)","v":0},null,{"$f":"IF($AR$8=0,0,$AR$8)","v":0},null,{"$f":"IF($AS$8=0,0,$AS$8)","v":0},null,{"$f":"IF($AT$8=0,0,$AT$8)","v":0},null,{"$f":"IF($AU$8=0,0,$AU$8)","v":0},null,{"$f":"IF($AV$8=0,0,$AV$8)","v":0}]
[{"$f":"Labels!$B$127","v":"   Chômage partiel et perte de travail cause d'intempéries"},null,null,null,null,{"$f":"Labels!$B$128","v":"ch"},{"$f":"IF($AJ$11=0,0,$AJ$11)","v":0},null,{"$f":"IF($AK$11=0,0,$AK$11)","v":0},null,{"$f":"IF($AL$11=0,0,$AL$11)","v":0},null,{"$f":"IF($AM$11=0,0,$AM$11)","v":0},null,{"$f":"IF($AN$11=0,0,$AN$11)","v":0},null,{"$f":"IF($AO$11=0,0,$AO$11)","v":0},null,{"$f":"IF($AP$11=0,0,$AP$11)","v":0},null,{"$f":"IF($AQ$11=0,0,$AQ$11)","v":0},null,{"$f":"IF($AR$11=0,0,$AR$11)","v":0},null,{"$f":"IF($AS$11=0,0,$AS$11)","v":0},null,{"$f":"IF($AT$11=0,0,$AT$11)","v":0},null,{"$f":"IF($AU$11=0,0,$AU$11)","v":0},null,{"$f":"IF($AV$11=0,0,$AV$11)","v":0}]
[{"$f":"Labels!$B$129","v":"   Ecole professionnelle"},null,null,null,null,{"$f":"Labels!$B$130","v":"ep"},{"$f":"IF($AJ$9=0,0,$AJ$9)","v":0},null,{"$f":"IF($AK$9=0,0,$AK$9)","v":0},null,{"$f":"IF($AL$9=0,0,$AL$9)","v":0},null,{"$f":"IF($AM$9=0,0,$AM$9)","v":0},null,{"$f":"IF($AN$9=0,0,$AN$9)","v":0},null,{"$f":"IF($AO$9=0,0,$AO$9)","v":0},null,{"$f":"IF($AP$9=0,0,$AP$9)","v":0},null,{"$f":"IF($AQ$9=0,0,$AQ$9)","v":0},null,{"$f":"IF($AR$9=0,0,$AR$9)","v":0},null,{"$f":"IF($AS$9=0,0,$AS$9)","v":0},null,{"$f":"IF($AT$9=0,0,$AT$9)","v":0},null,{"$f":"IF($AU$9=0,0,$AU$9)","v":0},null,{"$f":"IF($AV$9=0,0,$AV$9)","v":0}]
[{"$f":"Labels!$B$131","v":"   Cours"},null,null,null,null,{"$f":"Labels!$B$132","v":"co"},{"$f":"IF($AJ$10=0,0,$AJ$10)","v":0},null,{"$f":"IF($AK$10=0,0,$AK$10)","v":0},null,{"$f":"IF($AL$10=0,0,$AL$10)","v":0},null,{"$f":"IF($AM$10=0,0,$AM$10)","v":0},null,{"$f":"IF($AN$10=0,0,$AN$10)","v":0},null,{"$f":"IF($AO$10=0,0,$AO$10)","v":0},null,{"$f":"IF($AP$10=0,0,$AP$10)","v":0},null,{"$f":"IF($AQ$10=0,0,$AQ$10)","v":0},null,{"$f":"IF($AR$10=0,0,$AR$10)","v":0},null,{"$f":"IF($AS$10=0,0,$AS$10)","v":0},null,{"$f":"IF($AT$10=0,0,$AT$10)","v":0},null,{"$f":"IF($AU$10=0,0,$AU$10)","v":0},null,{"$f":"IF($AV$10=0,0,$AV$10)","v":0}]
[{"$f":"Labels!$B$133","v":"Heures de compensation"},{"$f":"Labels!$B$134","v":"de l'année passée"},null,null,null,{"$f":"Labels!$B$135","v":"cp"},{"$f":"IF($AJ$12=0,0,$AJ$12)","v":0},null,{"$f":"IF($AK$12=0,0,$AK$12)","v":0},null,{"$f":"IF($AL$12=0,0,$AL$12)","v":0},null,{"$f":"IF($AM$12=0,0,$AM$12)","v":0},null,{"$f":"IF($AN$12=0,0,$AN$12)","v":0},null,{"$f":"IF($AO$12=0,0,$AO$12)","v":0},null,{"$f":"IF($AP$12=0,0,$AP$12)","v":0},null,{"$f":"IF($AQ$12=0,0,$AQ$12)","v":0},null,{"$f":"IF($AR$12=0,0,$AR$12)","v":0},null,null,null,null,null,null,null,{"$f":"IF($AV$12=0,0,$AV$12)","v":0}]
[null,{"$f":"Labels!$B$136","v":"de l'année en cours (contrôle)"},null,null,null,{"$f":"Labels!$B$137","v":"cc"},{"$f":"IF($AJ$15=0,0,$AJ$15)","v":0},null,{"$f":"IF($AK$15=0,0,$AK$15)","v":0},null,{"$f":"IF($AL$15=0,0,$AL$15)","v":0},null,{"$f":"IF($AM$15=0,0,$AM$15)","v":0},null,{"$f":"IF($AN$15=0,0,$AN$15)","v":0},null,{"$f":"IF($AO$15=0,0,$AO$15)","v":0},null,{"$f":"IF($AP$15=0,0,$AP$15)","v":0},null,{"$f":"IF($AQ$15=0,0,$AQ$15)","v":0},null,{"$f":"IF($AR$15=0,0,$AR$15)","v":0},null,{"$f":"IF($AS$15=0,0,$AS$15)","v":0},null,{"$f":"IF($AT$15=0,0,$AT$15)","v":0},null,{"$f":"IF($AU$15=0,0,$AU$15)","v":0},null,{"$f":"IF($AV$15=0,0,$AV$15)","v":0}]
[{"$f":"Labels!$B$138","v":"Paiement des heures"},{"$f":"Labels!$B$139","v":"de l'année passée"},null,null,null,null,{"$f":"IF($AJ$21=0,0,$AJ$21)","v":0},null,{"$f":"IF($AK$21=0,0,$AK$21)","v":0},null,{"$f":"IF($AL$21=0,0,$AL$21)","v":0},null,{"$f":"IF($AM$21=0,0,$AM$21)","v":0},null,{"$f":"IF($AN$21=0,0,$AN$21)","v":0},null,{"$f":"IF($AO$21=0,0,$AO$21)","v":0},null,{"$f":"IF($AP$21=0,0,$AP$21)","v":0},null,{"$f":"IF($AQ$21=0,0,$AQ$21)","v":0},null,{"$f":"IF($AR$21=0,0,$AR$21)","v":0},null,null,null,null,null,null,null,{"$f":"IF($AV$21=0,0,$AV$21)","v":0}]
[{"$f":"Labels!$B$140","v":"Différence en heures"},{"$f":"Labels!$B$141","v":"après compensation et paiement"},null,null,null,null,{"$f":"IF(ROUND($P$4,3)=0,0,$P$4-G709-G711)","v":0},null,{"$f":"IF(ROUND(G712,3)=0,0,G712-(SUM(I709+I711)))","v":0},null,{"$f":"IF(ROUND(I712,3)=0,0,I712-K711-K709)","v":0},null,{"$f":"IF(ROUND(K712,3)=0,0,K712-(SUM(M711+M709)))","v":0},null,{"$f":"IF(ROUND(M712,3)=0,0,M712-(SUM(O711+O709)))","v":0},null,{"$f":"IF(ROUND(O712,3)=0,0,O712-(SUM(Q711+Q709)))","v":0},null,{"$f":"IF(ROUND(Q712,3)=0,0,Q712-(SUM(S711+S709)))","v":0},null,{"$f":"IF(ROUND(S712,3)=0,0,S712-(SUM(U711+U709)))","v":0},null,{"$f":"IF(ROUND(U712,3)=0,0,U712-(SUM(W711+W709)))","v":0},null,{"$f":"IF($W$62<0.1,\"\",AY694)","v":""}]
[{"$f":"Labels!$B$138","v":"Paiement des heures"},{"$f":"Labels!$B$142","v":"de l'année en cours"},null,null,null,null,{"$f":"IF($AJ$22=0,0,$AJ$22)","v":0},null,{"$f":"IF($AK$22=0,0,$AK$22)","v":0},null,{"$f":"IF($AL$22=0,0,$AL$22)","v":0},null,{"$f":"IF($AM$22=0,0,$AM$22)","v":0},null,{"$f":"IF($AN$22=0,0,$AN$22)","v":0},null,{"$f":"IF($AO$22=0,0,$AO$22)","v":0},null,{"$f":"IF($AP$22=0,0,$AP$22)","v":0},null,{"$f":"IF($AQ$22=0,0,$AQ$22)","v":0},null,{"$f":"IF($AR$22=0,0,$AR$22)","v":0},null,{"$f":"IF($AS$22=0,0,$AS$22)","v":0},null,{"$f":"IF($AT$22=0,0,$AT$22)","v":0},null,{"$f":"IF($AU$22=0,0,$AU$22)","v":0},null,{"$f":"IF($AV$22=0,0,$AV$22)","v":0}]
[{"$f":"Labels!$B$143","v":"Heures manquantes"},{"$f":"Labels!$B$144","v":"de l'année en cours (contrôle)"},null,null,null,{"$f":"Labels!$B$145","v":"hm"},{"$f":"IF($AJ$14=0,0,$AJ$14)","v":0},null,{"$f":"IF($AK$14=0,0,$AK$14)","v":0},null,{"$f":"IF($AL$14=0,0,$AL$14)","v":0},null,{"$f":"IF($AM$14=0,0,$AM$14)","v":0},null,{"$f":"IF($AN$14=0,0,$AN$14)","v":0},null,{"$f":"IF($AO$14=0,0,$AO$14)","v":0},null,{"$f":"IF($AP$14=0,0,$AP$14)","v":0},null,{"$f":"IF($AQ$14=0,0,$AQ$14)","v":0},null,{"$f":"IF($AR$14=0,0,$AR$14)","v":0},null,{"$f":"IF($AS$14=0,0,$AS$14)","v":0},null,{"$f":"IF($AT$14=0,0,$AT$14)","v":0},null,{"$f":"IF($AU$14=0,0,$AU$14)","v":0},null,{"$f":"IF($AV$14=0,0,$AV$14)","v":0}]
[{"$f":"Labels!$B$146","v":"Total (majorations inclus)"},{"$f":"Labels!$B$147","v":"heures productives et inproductives"},null,null,null,null,{"$f":"IF($AG$35=0,0,$AG$35)","v":0},null,{"$f":"IF($AG$100=0,0,$AG$100)","v":0},null,{"$f":"IF($AG$165=0,0,$AG$165)","v":0},null,{"$f":"IF($AG$230=0,0,$AG$230)","v":0},null,{"$f":"IF($AG$295=0,0,$AG$295)","v":0},null,{"$f":"IF($AG$360=0,0,$AG$360)","v":0},null,{"$f":"IF($AG$425=0,0,$AG$425)","v":0},null,{"$f":"IF($AG$490=0,0,$AG$490)","v":0},null,{"$f":"IF($AG$555=0,0,$AG$555)","v":0},null,{"$f":"IF($AG$620=0,0,$AG$620)","v":0},null,{"$f":"IF($AG$685=0,0,$AG$685)","v":0},null,{"$f":"IF($AG$750=0,0,$AG$750)","v":0},null,{"$f":"SUM($G$65:$AD$65)","v":0}]
[{"$f":"Labels!$B$148","v":"Comparaison des heures"},{"$f":"Labels!$B$149","v":"aux heures théorique CCT (heures \nmanquantes de l'année passée incl.)"},null,null,null,null,{"$f":"IF($AG$37=0,0,$AG$37)-$AE$34+$P$5","v":-176},null,{"$f":"IF($AG$102=0,0,$AG$102)-$AE$99","v":-160},null,{"$f":"IF($AG$167=0,0,$AG$167)-$AE$164","v":-184},null,{"$f":"IF($AG$232=0,0,$AG$232)-$AE$229","v":-160},null,{"$f":"IF($AG$297=0,0,$AG$297)-$AE$294","v":-184},null,{"$f":"IF($AG$362=0,0,$AG$362)-$AE$359","v":-176},null,{"$f":"IF($AG$427=0,0,$AG$427)-$AE$424","v":-168},null,{"$f":"IF($AG$492=0,0,$AG$492)-$AE$489","v":-184},null,{"$f":"IF($AG$557=0,0,$AG$557)-$AE$554","v":-168},null,{"$f":"IF($AG$622=0,0,$AG$622)-$AE$619","v":-176},null,{"$f":"IF($AG$687=0,0,$AG$687)-$AE$684","v":-176},null,{"$f":"IF($AG$752=0,0,$AG$752)-$AE$749","v":-168},null,{"$f":"SUM($G$66:$AD$66)","v":-2080}]
[null,{"$f":"Labels!$B$151","v":"aux heures théorique (cumulées)"},null,null,null,null,{"$f":"IF(G690=0,0,$G$66)","v":-176},null,{"$f":"IF(I690=0,0,SUM($G$66:$J$66))","v":-336},null,{"$f":"IF(K690=0,0,SUM($G$66:$L$66))","v":-520},null,{"$f":"IF(M690=0,0,SUM($G$66:$N$66))","v":-680},null,{"$f":"IF(O690=0,0,SUM($G$66:$P$66))","v":-864},null,{"$f":"IF(Q690=0,0,SUM($G$66:$R$66))","v":-1040},null,{"$f":"IF(S690=0,0,SUM($G$66:$T$66))","v":-1208},null,{"$f":"IF(U690=0,0,SUM($G$66:$V$66))","v":-1392},null,{"$f":"IF(W690=0,0,SUM($G$66:$X$66))","v":-1560},null,{"$f":"IF(Y690=0,0,SUM($G$66:$Z$66))","v":-1736},null,{"$f":"IF(AA690=0,0,SUM($G$66:$AB$66))","v":-1912},null,{"$f":"IF(AC690=0,0,SUM($G$66:$AD$66))","v":-2080}]
[{"$f":"Labels!$B$153","v":"Vacances (contrôle)"},{"$f":"Labels!$B$154","v":"Vacances année passée"},null,null,null,null,{"$f":"IF($AA$4=0,0,$AA$4)","v":0},null,{"$f":"Labels!$B$155","v":"Vacances selon \nart 12.1 CCT"},null,null,null,{"$f":"IF($AA$5=0,0,$AA$5)","v":0},null,{"$f":"Labels!$B$156","v":"Total des vacances"},null,null,null,{"$f":"SUM(G718+M718)","v":0},null,{"$f":"Labels!$B$157","v":"Vacances prises"},null,null,null,{"$f":"IF($AV$4=0,0,$AV$4)","v":0},null,{"$f":"Labels!$B$158","v":"Vacances restantes"},null,null,null,{"$f":"IF(S718=0,0,S718-Y718)","v":0}]
[]
[]
[{"$f":"$A$3","v":"Nom/Prénom"},{"$f":"IF($B$3=\"\",\"\",$B$3)","v":"Modèle Pierre"},null,null,null,null,null,null,null,null,null,null,null,null,null,null,null,null,null,null,null,null,null,null,null,null,null,null,null,null,null,{"$f":"AF3","v":0}]
[{"$f":"$A$4","v":"Emploi %"},{"$f":"$AL$59","v":100},null,{"$f":"Labels!B100","v":"en décembre"}]
[{"$f":"$A$5","v":"Solde année en cours"},null,null,{"$f":"IF($AE$66=0,0,$AE$66)","v":-2080}]
[{"$f":"TEXT(DATE(YEAR(AP29),MONTH(AP29)+11,1),\"MMMM\"&Labels!B13)","v":"décembre"},{"$f":"$B$9","v":"Solde mois + / -"},null,null,null,{"$f":"(AG727-(SUM(AG728:AG742)-AE749))*-1","v":-168},null,null,null,null,{"$f":"$K$9","v":" = "},{"$f":"$L$9","v":"Les cases marquées en jaune doivent être remplies (les autres seront calculées automatiquement)"},null,null,null,null,null,null,null,null,null,null,null,null,null,null,null,null,null,null,null,null,{"$f":"COUNT(B727:AF727)&\" \"&Labels!$B$63","v":"21 Jours"}]
[{"$f":"$A$10","v":"Jour"},{"$f":"AE660+1","v":"2023-12-01"},{"$f":"B725+1","v":"2023-12-02"},{"$f":"C725+1","v":"2023-12-03"},"2023-12-04","2023-12-05","2023-12-06","2023-12-07","2023-12-08","2023-12-09","2023-12-10","2023-12-11","2023-12-12","2023-12-13","2023-12-14","2023-12-15","2023-12-16","2023-12-17","2023-12-18","2023-12-19","2023-12-20","2023-12-21","2023-12-22","2023-12-23","2023-12-24","2023-12-25","2023-12-26","2023-12-27","2023-12-28","2023-12-29","2023-12-30","2023-12-31"]
[{"$f":"$A$11","v":"semaine civile"},{"$f":"IF(B725=\"\",\"\",TRUNC((B725-DATE(YEAR(B725+3-MOD(B725-2,7)),1,MOD(B725-2,7)-9))/7))","v":48},48,48,49,49,49,49,49,49,49,50,50,50,50,50,50,50,51,51,51,51,51,51,51,52,52,52,52,52,52,52,null,"Woche"]
[{"$f":"$A$12","v":"Théorique sel. CCT"},{"$f":"IF(AND(MOD(B725,7)>=2,SUMPRODUCT(($AM$60:$AQ$60=MOD(B725,7))*$AM$59:$AQ$59),B1104=\"\"),$J$7*SUMPRODUCT(($AM$77:$AQ$77=MOD(B725,7))*$AM$76:$AQ$76)%,\"\")","v":8},{"$f":"IF(AND(MOD(C725,7)>=2,SUMPRODUCT(($AM$60:$AQ$60=MOD(C725,7))*$AM$59:$AQ$59),C1104=\"\"),$J$7*SUMPRODUCT(($AM$77:$AQ$77=MOD(C725,7))*$AM$76:$AQ$76)%,\"\")","v":""},{"$f":"IF(AND(MOD(D725,7)>=2,SUMPRODUCT(($AM$60:$AQ$60=MOD(D725,7))*$AM$59:$AQ$59),D1104=\"\"),$J$7*SUMPRODUCT(($AM$77:$AQ$77=MOD(D725,7))*$AM$76:$AQ$76)%,\"\")","v":""},{"$f":"IF(AND(MOD(E725,7)>=2,SUMPRODUCT(($AM$60:$AQ$60=MOD(E725,7))*$AM$59:$AQ$59),E1104=\"\"),$J$7*SUMPRODUCT(($AM$77:$AQ$77=MOD(E725,7))*$AM$76:$AQ$76)%,\"\")","v":8},{"$f":"IF(AND(MOD(F725,7)>=2,SUMPRODUCT(($AM$60:$AQ$60=MOD(F725,7))*$AM$59:$AQ$59),F1104=\"\"),$J$7*SUMPRODUCT(($AM$77:$AQ$77=MOD(F725,7))*$AM$76:$AQ$76)%,\"\")","v":8},{"$f":"IF(AND(MOD(G725,7)>=2,SUMPRODUCT(($AM$60:$AQ$60=MOD(G725,7))*$AM$59:$AQ$59),G1104=\"\"),$J$7*SUMPRODUCT(($AM$77:$AQ$77=MOD(G725,7))*$AM$76:$AQ$76)%,\"\")","v":8},{"$f":"IF(AND(MOD(H725,7)>=2,SUMPRODUCT(($AM$60:$AQ$60=MOD(H725,7))*$AM$59:$AQ$59),H1104=\"\"),$J$7*SUMPRODUCT(($AM$77:$AQ$77=MOD(H725,7))*$AM$76:$AQ$76)%,\"\")","v":8},{"$f":"IF(AND(MOD(I725,7)>=2,SUMPRODUCT(($AM$60:$AQ$60=MOD(I725,7))*$AM$59:$AQ$59),I1104=\"\"),$J$7*SUMPRODUCT(($AM$77:$AQ$77=MOD(I725,7))*$AM$76:$AQ$76)%,\"\")","v":8},{"$f":"IF(AND(MOD(J725,7)>=2,SUMPRODUCT(($AM$60:$AQ$60=MOD(J725,7))*$AM$59:$AQ$59),J1104=\"\"),$J$7*SUMPRODUCT(($AM$77:$AQ$77=MOD(J725,7))*$AM$76:$AQ$76)%,\"\")","v":""},{"$f":"IF(AND(MOD(K725,7)>=2,SUMPRODUCT(($AM$60:$AQ$60=MOD(K725,7))*$AM$59:$AQ$59),K1104=\"\"),$J$7*SUMPRODUCT(($AM$77:$AQ$77=MOD(K725,7))*$AM$76:$AQ$76)%,\"\")","v":""},{"$f":"IF(AND(MOD(L725,7)>=2,SUMPRODUCT(($AM$60:$AQ$60=MOD(L725,7))*$AM$59:$AQ$59),L1104=\"\"),$J$7*SUMPRODUCT(($AM$77:$AQ$77=MOD(L725,7))*$AM$76:$AQ$76)%,\"\")","v":8},{"$f":"IF(AND(MOD(M725,7)>=2,SUMPRODUCT(($AM$60:$AQ$60=MOD(M725,7))*$AM$59:$AQ$59),M1104=\"\"),$J$7*SUMPRODUCT(($AM$77:$AQ$77=MOD(M725,7))*$AM$76:$AQ$76)%,\"\")","v":8},{"$f":"IF(AND(MOD(N725,7)>=2,SUMPRODUCT(($AM$60:$AQ$60=MOD(N725,7))*$AM$59:$AQ$59),N1104=\"\"),$J$7*SUMPRODUCT(($AM$77:$AQ$77=MOD(N725,7))*$AM$76:$AQ$76)%,\"\")","v":8},{"$f":"IF(AND(MOD(O725,7)>=2,SUMPRODUCT(($AM$60:$AQ$60=MOD(O725,7))*$AM$59:$AQ$59),O1104=\"\"),$J$7*SUMPRODUCT(($AM$77:$AQ$77=MOD(O725,7))*$AM$76:$AQ$76)%,\"\")","v":8},{"$f":"IF(AND(MOD(P725,7)>=2,SUMPRODUCT(($AM$60:$AQ$60=MOD(P725,7))*$AM$59:$AQ$59),P1104=\"\"),$J$7*SUMPRODUCT(($AM$77:$AQ$77=MOD(P725,7))*$AM$76:$AQ$76)%,\"\")","v":8},{"$f":"IF(AND(MOD(Q725,7)>=2,SUMPRODUCT(($AM$60:$AQ$60=MOD(Q725,7))*$AM$59:$AQ$59),Q1104=\"\"),$J$7*SUMPRODUCT(($AM$77:$AQ$77=MOD(Q725,7))*$AM$76:$AQ$76)%,\"\")","v":""},{"$f":"IF(AND(MOD(R725,7)>=2,SUMPRODUCT(($AM$60:$AQ$60=MOD(R725,7))*$AM$59:$AQ$59),R1104=\"\"),$J$7*SUMPRODUCT(($AM$77:$AQ$77=MOD(R725,7))*$AM$76:$AQ$76)%,\"\")","v":""},{"$f":"IF(AND(MOD(S725,7)>=2,SUMPRODUCT(($AM$60:$AQ$60=MOD(S725,7))*$AM$59:$AQ$59),S1104=\"\"),$J$7*SUMPRODUCT(($AM$77:$AQ$77=MOD(S725,7))*$AM$76:$AQ$76)%,\"\")","v":8},{"$f":"IF(AND(MOD(T725,7)>=2,SUMPRODUCT(($AM$60:$AQ$60=MOD(T725,7))*$AM$59:$AQ$59),T1104=\"\"),$J$7*SUMPRODUCT(($AM$77:$AQ$77=MOD(T725,7))*$AM$76:$AQ$76)%,\"\")","v":8},{"$f":"IF(AND(MOD(U725,7)>=2,SUMPRODUCT(($AM$60:$AQ$60=MOD(U725,7))*$AM$59:$AQ$59),U1104=\"\"),$J$7*SUMPRODUCT(($AM$77:$AQ$77=MOD(U725,7))*$AM$76:$AQ$76)%,\"\")","v":8},{"$f":"IF(AND(MOD(V725,7)>=2,SUMPRODUCT(($AM$60:$AQ$60=MOD(V725,7))*$AM$59:$AQ$59),V1104=\"\"),$J$7*SUMPRODUCT(($AM$77:$AQ$77=MOD(V725,7))*$AM$76:$AQ$76)%,\"\")","v":8},{"$f":"IF(AND(MOD(W725,7)>=2,SUMPRODUCT(($AM$60:$AQ$60=MOD(W725,7))*$AM$59:$AQ$59),W1104=\"\"),$J$7*SUMPRODUCT(($AM$77:$AQ$77=MOD(W725,7))*$AM$76:$AQ$76)%,\"\")","v":8},{"$f":"IF(AND(MOD(X725,7)>=2,SUMPRODUCT(($AM$60:$AQ$60=MOD(X725,7))*$AM$59:$AQ$59),X1104=\"\"),$J$7*SUMPRODUCT(($AM$77:$AQ$77=MOD(X725,7))*$AM$76:$AQ$76)%,\"\")","v":""},{"$f":"IF(AND(MOD(Y725,7)>=2,SUMPRODUCT(($AM$60:$AQ$60=MOD(Y725,7))*$AM$59:$AQ$59),Y1104=\"\"),$J$7*SUMPRODUCT(($AM$77:$AQ$77=MOD(Y725,7))*$AM$76:$AQ$76)%,\"\")","v":""},{"$f":"IF(AND(MOD(Z725,7)>=2,SUMPRODUCT(($AM$60:$AQ$60=MOD(Z725,7))*$AM$59:$AQ$59),Z1104=\"\"),$J$7*SUMPRODUCT(($AM$77:$AQ$77=MOD(Z725,7))*$AM$76:$AQ$76)%,\"\")","v":8},{"$f":"IF(AND(MOD(AA725,7)>=2,SUMPRODUCT(($AM$60:$AQ$60=MOD(AA725,7))*$AM$59:$AQ$59),AA1104=\"\"),$J$7*SUMPRODUCT(($AM$77:$AQ$77=MOD(AA725,7))*$AM$76:$AQ$76)%,\"\")","v":8},{"$f":"IF(AND(MOD(AB725,7)>=2,SUMPRODUCT(($AM$60:$AQ$60=MOD(AB725,7))*$AM$59:$AQ$59),AB1104=\"\"),$J$7*SUMPRODUCT(($AM$77:$AQ$77=MOD(AB725,7))*$AM$76:$AQ$76)%,\"\")","v":8},{"$f":"IF(AND(MOD(AC725,7)>=2,SUMPRODUCT(($AM$60:$AQ$60=MOD(AC725,7))*$AM$59:$AQ$59),AC1104=\"\"),$J$7*SUMPRODUCT(($AM$77:$AQ$77=MOD(AC725,7))*$AM$76:$AQ$76)%,\"\")","v":8},{"$f":"IF(AND(MOD(AD725,7)>=2,SUMPRODUCT(($AM$60:$AQ$60=MOD(AD725,7))*$AM$59:$AQ$59),AD1104=\"\"),$J$7*SUMPRODUCT(($AM$77:$AQ$77=MOD(AD725,7))*$AM$76:$AQ$76)%,\"\")","v":8},{"$f":"IF(AND(MOD(AE725,7)>=2,SUMPRODUCT(($AM$60:$AQ$60=MOD(AE725,7))*$AM$59:$AQ$59),AE1104=\"\"),$J$7*SUMPRODUCT(($AM$77:$AQ$77=MOD(AE725,7))*$AM$76:$AQ$76)%,\"\")","v":""},{"$f":"IF(AND(MOD(AF725,7)>=2,SUMPRODUCT(($AM$60:$AQ$60=MOD(AF725,7))*$AM$59:$AQ$59),AF1104=\"\"),$J$7*SUMPRODUCT(($AM$77:$AQ$77=MOD(AF725,7))*$AM$76:$AQ$76)%,\"\")","v":""},{"$f":"SUM(B727:AF727)","v":168},"[00]"]
[{"$f":"$A$13","v":"Absences"},{"$f":"B1120","v":0},{"$f":"C1120","v":0},0,0,0,0,0,0,0,0,0,0,0,0,0,0,0,0,0,0,0,0,0,0,0,0,0,0,0,0,0,{"$f":"SUM($AU$3:$AU$13)","v":0},"[01]"]
[{"$f":"$A$14","v":"Code"},{"$f":"IF(SUM(B1107:B1119)<>0,IF(MAX(B1107:B1119)<B1120,Labels!$B$163,INDEX($AH$1107:$AH$1119,MATCH(MAX(B1107:B1119),B1107:B1119,0))),\"\")","v":""},{"$f":"IF(SUM(C1107:C1119)<>0,IF(MAX(C1107:C1119)<C1120,Labels!$B$163,INDEX($AH$1107:$AH$1119,MATCH(MAX(C1107:C1119),C1107:C1119,0))),\"\")","v":""},{"$f":"IF(SUM(D1107:D1119)<>0,IF(MAX(D1107:D1119)<D1120,Labels!$B$163,INDEX($AH$1107:$AH$1119,MATCH(MAX(D1107:D1119),D1107:D1119,0))),\"\")","v":""},{"$f":"IF(SUM(E1107:E1119)<>0,IF(MAX(E1107:E1119)<E1120,Labels!$B$163,INDEX($AH$1107:$AH$1119,MATCH(MAX(E1107:E1119),E1107:E1119,0))),\"\")","v":""},{"$f":"IF(SUM(F1107:F1119)<>0,IF(MAX(F1107:F1119)<F1120,Labels!$B$163,INDEX($AH$1107:$AH$1119,MATCH(MAX(F1107:F1119),F1107:F1119,0))),\"\")","v":""},{"$f":"IF(SUM(G1107:G1119)<>0,IF(MAX(G1107:G1119)<G1120,Labels!$B$163,INDEX($AH$1107:$AH$1119,MATCH(MAX(G1107:G1119),G1107:G1119,0))),\"\")","v":""},{"$f":"IF(SUM(H1107:H1119)<>0,IF(MAX(H1107:H1119)<H1120,Labels!$B$163,INDEX($AH$1107:$AH$1119,MATCH(MAX(H1107:H1119),H1107:H1119,0))),\"\")","v":""},{"$f":"IF(SUM(I1107:I1119)<>0,IF(MAX(I1107:I1119)<I1120,Labels!$B$163,INDEX($AH$1107:$AH$1119,MATCH(MAX(I1107:I1119),I1107:I1119,0))),\"\")","v":""},{"$f":"IF(SUM(J1107:J1119)<>0,IF(MAX(J1107:J1119)<J1120,Labels!$B$163,INDEX($AH$1107:$AH$1119,MATCH(MAX(J1107:J1119),J1107:J1119,0))),\"\")","v":""},{"$f":"IF(SUM(K1107:K1119)<>0,IF(MAX(K1107:K1119)<K1120,Labels!$B$163,INDEX($AH$1107:$AH$1119,MATCH(MAX(K1107:K1119),K1107:K1119,0))),\"\")","v":""},{"$f":"IF(SUM(L1107:L1119)<>0,IF(MAX(L1107:L1119)<L1120,Labels!$B$163,INDEX($AH$1107:$AH$1119,MATCH(MAX(L1107:L1119),L1107:L1119,0))),\"\")","v":""},{"$f":"IF(SUM(M1107:M1119)<>0,IF(MAX(M1107:M1119)<M1120,Labels!$B$163,INDEX($AH$1107:$AH$1119,MATCH(MAX(M1107:M1119),M1107:M1119,0))),\"\")","v":""},{"$f":"IF(SUM(N1107:N1119)<>0,IF(MAX(N1107:N1119)<N1120,Labels!$B$163,INDEX($AH$1107:$AH$1119,MATCH(MAX(N1107:N1119),N1107:N1119,0))),\"\")","v":""},{"$f":"IF(SUM(O1107:O1119)<>0,IF(MAX(O1107:O1119)<O1120,Labels!$B$163,INDEX($AH$1107:$AH$1119,MATCH(MAX(O1107:O1119),O1107:O1119,0))),\"\")","v":""},{"$f":"IF(SUM(P1107:P1119)<>0,IF(MAX(P1107:P1119)<P1120,Labels!$B$163,INDEX($AH$1107:$AH$1119,MATCH(MAX(P1107:P1119),P1107:P1119,0))),\"\")","v":""},{"$f":"IF(SUM(Q1107:Q1119)<>0,IF(MAX(Q1107:Q1119)<Q1120,Labels!$B$163,INDEX($AH$1107:$AH$1119,MATCH(MAX(Q1107:Q1119),Q1107:Q1119,0))),\"\")","v":""},{"$f":"IF(SUM(R1107:R1119)<>0,IF(MAX(R1107:R1119)<R1120,Labels!$B$163,INDEX($AH$1107:$AH$1119,MATCH(MAX(R1107:R1119),R1107:R1119,0))),\"\")","v":""},{"$f":"IF(SUM(S1107:S1119)<>0,IF(MAX(S1107:S1119)<S1120,Labels!$B$163,INDEX($AH$1107:$AH$1119,MATCH(MAX(S1107:S1119),S1107:S1119,0))),\"\")","v":""},{"$f":"IF(SUM(T1107:T1119)<>0,IF(MAX(T1107:T1119)<T1120,Labels!$B$163,INDEX($AH$1107:$AH$1119,MATCH(MAX(T1107:T1119),T1107:T1119,0))),\"\")","v":""},{"$f":"IF(SUM(U1107:U1119)<>0,IF(MAX(U1107:U1119)<U1120,Labels!$B$163,INDEX($AH$1107:$AH$1119,MATCH(MAX(U1107:U1119),U1107:U1119,0))),\"\")","v":""},{"$f":"IF(SUM(V1107:V1119)<>0,IF(MAX(V1107:V1119)<V1120,Labels!$B$163,INDEX($AH$1107:$AH$1119,MATCH(MAX(V1107:V1119),V1107:V1119,0))),\"\")","v":""},{"$f":"IF(SUM(W1107:W1119)<>0,IF(MAX(W1107:W1119)<W1120,Labels!$B$163,INDEX($AH$1107:$AH$1119,MATCH(MAX(W1107:W1119),W1107:W1119,0))),\"\")","v":""},{"$f":"IF(SUM(X1107:X1119)<>0,IF(MAX(X1107:X1119)<X1120,Labels!$B$163,INDEX($AH$1107:$AH$1119,MATCH(MAX(X1107:X1119),X1107:X1119,0))),\"\")","v":""},{"$f":"IF(SUM(Y1107:Y1119)<>0,IF(MAX(Y1107:Y1119)<Y1120,Labels!$B$163,INDEX($AH$1107:$AH$1119,MATCH(MAX(Y1107:Y1119),Y1107:Y1119,0))),\"\")","v":""},{"$f":"IF(SUM(Z1107:Z1119)<>0,IF(MAX(Z1107:Z1119)<Z1120,Labels!$B$163,INDEX($AH$1107:$AH$1119,MATCH(MAX(Z1107:Z1119),Z1107:Z1119,0))),\"\")","v":""},{"$f":"IF(SUM(AA1107:AA1119)<>0,IF(MAX(AA1107:AA1119)<AA1120,Labels!$B$163,INDEX($AH$1107:$AH$1119,MATCH(MAX(AA1107:AA1119),AA1107:AA1119,0))),\"\")","v":""},{"$f":"IF(SUM(AB1107:AB1119)<>0,IF(MAX(AB1107:AB1119)<AB1120,Labels!$B$163,INDEX($AH$1107:$AH$1119,MATCH(MAX(AB1107:AB1119),AB1107:AB1119,0))),\"\")","v":""},{"$f":"IF(SUM(AC1107:AC1119)<>0,IF(MAX(AC1107:AC1119)<AC1120,Labels!$B$163,INDEX($AH$1107:$AH$1119,MATCH(MAX(AC1107:AC1119),AC1107:AC1119,0))),\"\")","v":""},{"$f":"IF(SUM(AD1107:AD1119)<>0,IF(MAX(AD1107:AD1119)<AD1120,Labels!$B$163,INDEX($AH$1107:$AH$1119,MATCH(MAX(AD1107:AD1119),AD1107:AD1119,0))),\"\")","v":""},{"$f":"IF(SUM(AE1107:AE1119)<>0,IF(MAX(AE1107:AE1119)<AE1120,Labels!$B$163,INDEX($AH$1107:$AH$1119,MATCH(MAX(AE1107:AE1119),AE1107:AE1119,0))),\"\")","v":""},{"$f":"IF(SUM(AF1107:AF1119)<>0,IF(MAX(AF1107:AF1119)<AF1120,Labels!$B$163,INDEX($AH$1107:$AH$1119,MATCH(MAX(AF1107:AF1119),AF1107:AF1119,0))),\"\")","v":""},{"$f":"$AU$16*-1","v":0},"[02]"]
[{"$f":"$A$15","v":"00h00-06h00 1)"},null,null,null,null,null,null,null,null,null,null,null,null,null,null,null,null,null,null,null,null,null,null,null,null,null,null,null,null,null,null,null,{"$f":"SUM(B730:AF730)","v":0},"[04]"]
[{"$f":"$A$16","v":"06h00-20h00 2)"},null,null,null,null,null,null,null,null,null,null,null,null,null,null,null,null,null,null,null,null,null,null,null,null,null,null,null,null,null,null,null,{"$f":"SUMPRODUCT(B731:AF731*(B727:AF727<>\"\"))-SUMPRODUCT(B731:AF731*(B733:AF733=\"ft\"))","v":0},"[03]"]
[{"$f":"$A$17","v":"20h00-24h00 3)"},null,null,null,null,null,null,null,null,null,null,null,null,null,null,null,null,null,null,null,null,null,null,null,null,null,null,null,null,null,null,null,{"$f":"SUM(B732:AF732)","v":0},"[05]"]
[{"$f":"$A$18","v":"Jours fériés \"jf\""},{"$f":"IF(WEEKDAY(B725,2)<=6,IF(CALENDRIER!E25=\"x\",Labels!$B$118,\"\"),\"\")","v":""},{"$f":"IF(WEEKDAY(C725,2)<=6,IF(CALENDRIER!F25=\"x\",Labels!$B$118,\"\"),\"\")","v":""},{"$f":"IF(WEEKDAY(D725,2)<=6,IF(CALENDRIER!G25=\"x\",Labels!$B$118,\"\"),\"\")","v":""},{"$f":"IF(WEEKDAY(E725,2)<=6,IF(CALENDRIER!H25=\"x\",Labels!$B$118,\"\"),\"\")","v":""},{"$f":"IF(WEEKDAY(F725,2)<=6,IF(CALENDRIER!I25=\"x\",Labels!$B$118,\"\"),\"\")","v":""},{"$f":"IF(WEEKDAY(G725,2)<=6,IF(CALENDRIER!J25=\"x\",Labels!$B$118,\"\"),\"\")","v":""},{"$f":"IF(WEEKDAY(H725,2)<=6,IF(CALENDRIER!K25=\"x\",Labels!$B$118,\"\"),\"\")","v":""},{"$f":"IF(WEEKDAY(I725,2)<=6,IF(CALENDRIER!L25=\"x\",Labels!$B$118,\"\"),\"\")","v":""},{"$f":"IF(WEEKDAY(J725,2)<=6,IF(CALENDRIER!M25=\"x\",Labels!$B$118,\"\"),\"\")","v":""},{"$f":"IF(WEEKDAY(K725,2)<=6,IF(CALENDRIER!N25=\"x\",Labels!$B$118,\"\"),\"\")","v":""},{"$f":"IF(WEEKDAY(L725,2)<=6,IF(CALENDRIER!O25=\"x\",Labels!$B$118,\"\"),\"\")","v":""},{"$f":"IF(WEEKDAY(M725,2)<=6,IF(CALENDRIER!P25=\"x\",Labels!$B$118,\"\"),\"\")","v":""},{"$f":"IF(WEEKDAY(N725,2)<=6,IF(CALENDRIER!Q25=\"x\",Labels!$B$118,\"\"),\"\")","v":""},{"$f":"IF(WEEKDAY(O725,2)<=6,IF(CALENDRIER!R25=\"x\",Labels!$B$118,\"\"),\"\")","v":""},{"$f":"IF(WEEKDAY(P725,2)<=6,IF(CALENDRIER!S25=\"x\",Labels!$B$118,\"\"),\"\")","v":""},{"$f":"IF(WEEKDAY(Q725,2)<=6,IF(CALENDRIER!T25=\"x\",Labels!$B$118,\"\"),\"\")","v":""},{"$f":"IF(WEEKDAY(R725,2)<=6,IF(CALENDRIER!U25=\"x\",Labels!$B$118,\"\"),\"\")","v":""},{"$f":"IF(WEEKDAY(S725,2)<=6,IF(CALENDRIER!V25=\"x\",Labels!$B$118,\"\"),\"\")","v":""},{"$f":"IF(WEEKDAY(T725,2)<=6,IF(CALENDRIER!W25=\"x\",Labels!$B$118,\"\"),\"\")","v":""},{"$f":"IF(WEEKDAY(U725,2)<=6,IF(CALENDRIER!X25=\"x\",Labels!$B$118,\"\"),\"\")","v":""},{"$f":"IF(WEEKDAY(V725,2)<=6,IF(CALENDRIER!Y25=\"x\",Labels!$B$118,\"\"),\"\")","v":""},{"$f":"IF(WEEKDAY(W725,2)<=6,IF(CALENDRIER!Z25=\"x\",Labels!$B$118,\"\"),\"\")","v":""},{"$f":"IF(WEEKDAY(X725,2)<=6,IF(CALENDRIER!AA25=\"x\",Labels!$B$118,\"\"),\"\")","v":""},{"$f":"IF(WEEKDAY(Y725,2)<=6,IF(CALENDRIER!AB25=\"x\",Labels!$B$118,\"\"),\"\")","v":""},{"$f":"IF(WEEKDAY(Z725,2)<=6,IF(CALENDRIER!AC25=\"x\",Labels!$B$118,\"\"),\"\")","v":""},{"$f":"IF(WEEKDAY(AA725,2)<=6,IF(CALENDRIER!AD25=\"x\",Labels!$B$118,\"\"),\"\")","v":""},{"$f":"IF(WEEKDAY(AB725,2)<=6,IF(CALENDRIER!AE25=\"x\",Labels!$B$118,\"\"),\"\")","v":""},{"$f":"IF(WEEKDAY(AC725,2)<=6,IF(CALENDRIER!AF25=\"x\",Labels!$B$118,\"\"),\"\")","v":""},{"$f":"IF(WEEKDAY(AD725,2)<=6,IF(CALENDRIER!AG25=\"x\",Labels!$B$118,\"\"),\"\")","v":""},{"$f":"IF(WEEKDAY(AE725,2)<=6,IF(CALENDRIER!AH25=\"x\",Labels!$B$118,\"\"),\"\")","v":""},{"$f":"IF(WEEKDAY(AF725,2)<=6,IF(CALENDRIER!AI25=\"x\",Labels!$B$118,\"\"),\"\")","v":""},{"$f":"SUM(B731:AF731)-AG731","v":0},"[03b]"]
[{"$f":"$A$19","v":"Majoration  \"jf\""},{"$f":"IF(AND(B733=Labels!$B$118,WEEKDAY(B725,2)<6,B$727<>\"\"),$J$7*SUMPRODUCT(($AM$77:$AQ$77=MOD(B725,7))*$AM$76:$AQ$76)%,\"\")","v":""},{"$f":"IF(AND(C733=Labels!$B$118,WEEKDAY(C725,2)<6,C$727<>\"\"),$J$7*SUMPRODUCT(($AM$77:$AQ$77=MOD(C725,7))*$AM$76:$AQ$76)%,\"\")","v":""},{"$f":"IF(AND(D733=Labels!$B$118,WEEKDAY(D725,2)<6,D$727<>\"\"),$J$7*SUMPRODUCT(($AM$77:$AQ$77=MOD(D725,7))*$AM$76:$AQ$76)%,\"\")","v":""},{"$f":"IF(AND(E733=Labels!$B$118,WEEKDAY(E725,2)<6,E$727<>\"\"),$J$7*SUMPRODUCT(($AM$77:$AQ$77=MOD(E725,7))*$AM$76:$AQ$76)%,\"\")","v":""},{"$f":"IF(AND(F733=Labels!$B$118,WEEKDAY(F725,2)<6,F$727<>\"\"),$J$7*SUMPRODUCT(($AM$77:$AQ$77=MOD(F725,7))*$AM$76:$AQ$76)%,\"\")","v":""},{"$f":"IF(AND(G733=Labels!$B$118,WEEKDAY(G725,2)<6,G$727<>\"\"),$J$7*SUMPRODUCT(($AM$77:$AQ$77=MOD(G725,7))*$AM$76:$AQ$76)%,\"\")","v":""},{"$f":"IF(AND(H733=Labels!$B$118,WEEKDAY(H725,2)<6,H$727<>\"\"),$J$7*SUMPRODUCT(($AM$77:$AQ$77=MOD(H725,7))*$AM$76:$AQ$76)%,\"\")","v":""},{"$f":"IF(AND(I733=Labels!$B$118,WEEKDAY(I725,2)<6,I$727<>\"\"),$J$7*SUMPRODUCT(($AM$77:$AQ$77=MOD(I725,7))*$AM$76:$AQ$76)%,\"\")","v":""},{"$f":"IF(AND(J733=Labels!$B$118,WEEKDAY(J725,2)<6,J$727<>\"\"),$J$7*SUMPRODUCT(($AM$77:$AQ$77=MOD(J725,7))*$AM$76:$AQ$76)%,\"\")","v":""},{"$f":"IF(AND(K733=Labels!$B$118,WEEKDAY(K725,2)<6,K$727<>\"\"),$J$7*SUMPRODUCT(($AM$77:$AQ$77=MOD(K725,7))*$AM$76:$AQ$76)%,\"\")","v":""},{"$f":"IF(AND(L733=Labels!$B$118,WEEKDAY(L725,2)<6,L$727<>\"\"),$J$7*SUMPRODUCT(($AM$77:$AQ$77=MOD(L725,7))*$AM$76:$AQ$76)%,\"\")","v":""},{"$f":"IF(AND(M733=Labels!$B$118,WEEKDAY(M725,2)<6,M$727<>\"\"),$J$7*SUMPRODUCT(($AM$77:$AQ$77=MOD(M725,7))*$AM$76:$AQ$76)%,\"\")","v":""},{"$f":"IF(AND(N733=Labels!$B$118,WEEKDAY(N725,2)<6,N$727<>\"\"),$J$7*SUMPRODUCT(($AM$77:$AQ$77=MOD(N725,7))*$AM$76:$AQ$76)%,\"\")","v":""},{"$f":"IF(AND(O733=Labels!$B$118,WEEKDAY(O725,2)<6,O$727<>\"\"),$J$7*SUMPRODUCT(($AM$77:$AQ$77=MOD(O725,7))*$AM$76:$AQ$76)%,\"\")","v":""},{"$f":"IF(AND(P733=Labels!$B$118,WEEKDAY(P725,2)<6,P$727<>\"\"),$J$7*SUMPRODUCT(($AM$77:$AQ$77=MOD(P725,7))*$AM$76:$AQ$76)%,\"\")","v":""},{"$f":"IF(AND(Q733=Labels!$B$118,WEEKDAY(Q725,2)<6,Q$727<>\"\"),$J$7*SUMPRODUCT(($AM$77:$AQ$77=MOD(Q725,7))*$AM$76:$AQ$76)%,\"\")","v":""},{"$f":"IF(AND(R733=Labels!$B$118,WEEKDAY(R725,2)<6,R$727<>\"\"),$J$7*SUMPRODUCT(($AM$77:$AQ$77=MOD(R725,7))*$AM$76:$AQ$76)%,\"\")","v":""},{"$f":"IF(AND(S733=Labels!$B$118,WEEKDAY(S725,2)<6,S$727<>\"\"),$J$7*SUMPRODUCT(($AM$77:$AQ$77=MOD(S725,7))*$AM$76:$AQ$76)%,\"\")","v":""},{"$f":"IF(AND(T733=Labels!$B$118,WEEKDAY(T725,2)<6,T$727<>\"\"),$J$7*SUMPRODUCT(($AM$77:$AQ$77=MOD(T725,7))*$AM$76:$AQ$76)%,\"\")","v":""},{"$f":"IF(AND(U733=Labels!$B$118,WEEKDAY(U725,2)<6,U$727<>\"\"),$J$7*SUMPRODUCT(($AM$77:$AQ$77=MOD(U725,7))*$AM$76:$AQ$76)%,\"\")","v":""},{"$f":"IF(AND(V733=Labels!$B$118,WEEKDAY(V725,2)<6,V$727<>\"\"),$J$7*SUMPRODUCT(($AM$77:$AQ$77=MOD(V725,7))*$AM$76:$AQ$76)%,\"\")","v":""},{"$f":"IF(AND(W733=Labels!$B$118,WEEKDAY(W725,2)<6,W$727<>\"\"),$J$7*SUMPRODUCT(($AM$77:$AQ$77=MOD(W725,7))*$AM$76:$AQ$76)%,\"\")","v":""},{"$f":"IF(AND(X733=Labels!$B$118,WEEKDAY(X725,2)<6,X$727<>\"\"),$J$7*SUMPRODUCT(($AM$77:$AQ$77=MOD(X725,7))*$AM$76:$AQ$76)%,\"\")","v":""},{"$f":"IF(AND(Y733=Labels!$B$118,WEEKDAY(Y725,2)<6,Y$727<>\"\"),$J$7*SUMPRODUCT(($AM$77:$AQ$77=MOD(Y725,7))*$AM$76:$AQ$76)%,\"\")","v":""},{"$f":"IF(AND(Z733=Labels!$B$118,WEEKDAY(Z725,2)<6,Z$727<>\"\"),$J$7*SUMPRODUCT(($AM$77:$AQ$77=MOD(Z725,7))*$AM$76:$AQ$76)%,\"\")","v":""},{"$f":"IF(AND(AA733=Labels!$B$118,WEEKDAY(AA725,2)<6,AA$727<>\"\"),$J$7*SUMPRODUCT(($AM$77:$AQ$77=MOD(AA725,7))*$AM$76:$AQ$76)%,\"\")","v":""},{"$f":"IF(AND(AB733=Labels!$B$118,WEEKDAY(AB725,2)<6,AB$727<>\"\"),$J$7*SUMPRODUCT(($AM$77:$AQ$77=MOD(AB725,7))*$AM$76:$AQ$76)%,\"\")","v":""},{"$f":"IF(AND(AC733=Labels!$B$118,WEEKDAY(AC725,2)<6,AC$727<>\"\"),$J$7*SUMPRODUCT(($AM$77:$AQ$77=MOD(AC725,7))*$AM$76:$AQ$76)%,\"\")","v":""},{"$f":"IF(AND(AD733=Labels!$B$118,WEEKDAY(AD725,2)<6,AD$727<>\"\"),$J$7*SUMPRODUCT(($AM$77:$AQ$77=MOD(AD725,7))*$AM$76:$AQ$76)%,\"\")","v":""},{"$f":"IF(AND(AE733=Labels!$B$118,WEEKDAY(AE725,2)<6,AE$727<>\"\"),$J$7*SUMPRODUCT(($AM$77:$AQ$77=MOD(AE725,7))*$AM$76:$AQ$76)%,\"\")","v":""},{"$f":"IF(AND(AF733=Labels!$B$118,WEEKDAY(AF725,2)<6,AF$727<>\"\"),$J$7*SUMPRODUCT(($AM$77:$AQ$77=MOD(AF725,7))*$AM$76:$AQ$76)%,\"\")","v":""},{"$f":"SUM(B734:AF734)","v":0},"[06]"]
[{"$f":"$A$20","v":"total quotidien"},{"$f":"SUM(B730:B732)","v":0},{"$f":"SUM(C730:C732)","v":0},0,0,0,0,0,0,0,0,0,0,0,0,0,0,0,0,0,0,0,0,0,0,0,0,0,0,0,0,0,null,"TT"]
[{"$f":"$A$21","v":"."},null,null,null,null,null,null,null,null,null,null,null,null,null,null,null,null,null,null,null,null,null,null,null,null,null,null,null,null,null,null,null,null,"R"]
[{"$f":"$A$22","v":"."},null,null,null,null,null,null,null,null,null,null,null,null,null,null,null,null,null,null,null,null,null,null,null,null,null,null,null,null,null,null,null,null,"R"]
[{"$f":"$A$23","v":"transition mois"},{"$f":"IF(WEEKDAY(B725)=1,TEXT(B725-1,\"MMM\"&Labels!B13),\"\")","v":""},null,null,null,null,null,null,null,null,null,null,null,null,null,null,null,null,null,null,null,null,null,null,null,null,null,null,null,null,null,null,null,"MNT"]
[{"$f":"$A$24","v":"Total hebdomadaire"},{"$f":"IF(WEEKDAY(B725)=7,SUMIF($B661:$AF661,B726,$B670:$AF670)+SUMIF($B726:$AF726,B726,$B735:$AF735),B738)","v":""},{"$f":"IF(WEEKDAY(C725)=7,SUMIF($B661:$AF661,C726,$B670:$AF670)+SUMIF($B726:$AF726,C726,$B735:$AF735),\"\")","v":0},"","","","","","",0,"","","","","","",0,"","","","","","",0,"","","","","","",0,{"$f":"IF(WEEKDAY(AF725)>1,SUMIF($B661:$AF661,AF726,$B670:$AF670)+SUMIF($B726:$AF726,AF726,$B735:$AF735),\"\")","v":""},null,"WT"]
[{"$f":"$A$25","v":"Majorations temp. 1)"},{"$f":"IF(B747=\"FALSCH\",\"\",B747)","v":""},{"$f":"IF(C747=\"FALSCH\",\"\",C747)","v":""},"","","","","","","","","","","","","","","","","","","","","","","","","","","","","",{"$f":"SUM(B740:AF740)","v":0},"[07]"]
[{"$f":"$A$26","v":"Majorations temp. 2)"},{"$f":"IF((B730+B732)=0,\"\",SUM(B730,B732))","v":""},{"$f":"IF((C730+C732)=0,\"\",SUM(C730,C732))","v":""},"","","","","","","","","","","","","","","","","","","","","","","","","","","","","",0,"[08]"]
[{"$f":"$A$27","v":"Majorations temp. 3)"},{"$f":"SUM(B743:B746)","v":0},{"$f":"SUM(C743:C746)","v":0},0,0,0,0,0,0,0,0,0,0,0,0,0,0,0,0,0,0,0,0,0,0,0,0,0,0,0,0,0,0,"[09]"]
[{"$f":"$A$28","v":"Dimanche journée"},{"$f":"IF(WEEKDAY(B725)=1,B731,\"\")","v":""},{"$f":"IF(WEEKDAY(C725)=1,C731,\"\")","v":""},0,"","","","","","",0,"","","","","","",0,"","","","","","",0,"","","","","","",0,0,"[09-ST]"]
[{"$f":"$A$29","v":"Dimanche nuit"},{"$f":"IF(WEEKDAY(B725)=1,SUM(B730+B732),\"\")","v":""},{"$f":"IF(WEEKDAY(C725)=1,SUM(C730+C732),\"\")","v":""},0,"","","","","","",0,"","","","","","",0,"","","","","","",0,"","","","","","",0,0,"[09-SN]"]
[{"$f":"$A$30","v":"jf-jomajoration"},{"$f":"IF(B733=Labels!$B$118,B731,\"\")","v":""},{"$f":"IF(C733=Labels!$B$118,C731,\"\")","v":""},{"$f":"IF(D733=Labels!$B$118,D731,\"\")","v":""},{"$f":"IF(E733=Labels!$B$118,E731,\"\")","v":""},{"$f":"IF(F733=Labels!$B$118,F731,\"\")","v":""},{"$f":"IF(G733=Labels!$B$118,G731,\"\")","v":""},{"$f":"IF(H733=Labels!$B$118,H731,\"\")","v":""},{"$f":"IF(I733=Labels!$B$118,I731,\"\")","v":""},{"$f":"IF(J733=Labels!$B$118,J731,\"\")","v":""},{"$f":"IF(K733=Labels!$B$118,K731,\"\")","v":""},{"$f":"IF(L733=Labels!$B$118,L731,\"\")","v":""},{"$f":"IF(M733=Labels!$B$118,M731,\"\")","v":""},{"$f":"IF(N733=Labels!$B$118,N731,\"\")","v":""},{"$f":"IF(O733=Labels!$B$118,O731,\"\")","v":""},{"$f":"IF(P733=Labels!$B$118,P731,\"\")","v":""},{"$f":"IF(Q733=Labels!$B$118,Q731,\"\")","v":""},{"$f":"IF(R733=Labels!$B$118,R731,\"\")","v":""},{"$f":"IF(S733=Labels!$B$118,S731,\"\")","v":""},{"$f":"IF(T733=Labels!$B$118,T731,\"\")","v":""},{"$f":"IF(U733=Labels!$B$118,U731,\"\")","v":""},{"$f":"IF(V733=Labels!$B$118,V731,\"\")","v":""},{"$f":"IF(W733=Labels!$B$118,W731,\"\")","v":""},{"$f":"IF(X733=Labels!$B$118,X731,\"\")","v":""},{"$f":"IF(Y733=Labels!$B$118,Y731,\"\")","v":""},{"$f":"IF(Z733=Labels!$B$118,Z731,\"\")","v":""},{"$f":"IF(AA733=Labels!$B$118,AA731,\"\")","v":""},{"$f":"IF(AB733=Labels!$B$118,AB731,\"\")","v":""},{"$f":"IF(AC733=Labels!$B$118,AC731,\"\")","v":""},{"$f":"IF(AD733=Labels!$B$118,AD731,\"\")","v":""},{"$f":"IF(AE733=Labels!$B$118,AE731,\"\")","v":""},{"$f":"IF(AF733=Labels!$B$118,AF731,\"\")","v":""},0,"[09-FT]"]
[{"$f":"$A$31","v":"jf-numajoration"},{"$f":"IF(B733=Labels!$B$118,SUM(B730,B732),\"\")","v":""},{"$f":"IF(C733=Labels!$B$118,SUM(C730,C732),\"\")","v":""},{"$f":"IF(D733=Labels!$B$118,SUM(D730,D732),\"\")","v":""},{"$f":"IF(E733=Labels!$B$118,SUM(E730,E732),\"\")","v":""},{"$f":"IF(F733=Labels!$B$118,SUM(F730,F732),\"\")","v":""},{"$f":"IF(G733=Labels!$B$118,SUM(G730,G732),\"\")","v":""},{"$f":"IF(H733=Labels!$B$118,SUM(H730,H732),\"\")","v":""},{"$f":"IF(I733=Labels!$B$118,SUM(I730,I732),\"\")","v":""},{"$f":"IF(J733=Labels!$B$118,SUM(J730,J732),\"\")","v":""},{"$f":"IF(K733=Labels!$B$118,SUM(K730,K732),\"\")","v":""},{"$f":"IF(L733=Labels!$B$118,SUM(L730,L732),\"\")","v":""},{"$f":"IF(M733=Labels!$B$118,SUM(M730,M732),\"\")","v":""},{"$f":"IF(N733=Labels!$B$118,SUM(N730,N732),\"\")","v":""},{"$f":"IF(O733=Labels!$B$118,SUM(O730,O732),\"\")","v":""},{"$f":"IF(P733=Labels!$B$118,SUM(P730,P732),\"\")","v":""},{"$f":"IF(Q733=Labels!$B$118,SUM(Q730,Q732),\"\")","v":""},{"$f":"IF(R733=Labels!$B$118,SUM(R730,R732),\"\")","v":""},{"$f":"IF(S733=Labels!$B$118,SUM(S730,S732),\"\")","v":""},{"$f":"IF(T733=Labels!$B$118,SUM(T730,T732),\"\")","v":""},{"$f":"IF(U733=Labels!$B$118,SUM(U730,U732),\"\")","v":""},{"$f":"IF(V733=Labels!$B$118,SUM(V730,V732),\"\")","v":""},{"$f":"IF(W733=Labels!$B$118,SUM(W730,W732),\"\")","v":""},{"$f":"IF(X733=Labels!$B$118,SUM(X730,X732),\"\")","v":""},{"$f":"IF(Y733=Labels!$B$118,SUM(Y730,Y732),\"\")","v":""},{"$f":"IF(Z733=Labels!$B$118,SUM(Z730,Z732),\"\")","v":""},{"$f":"IF(AA733=Labels!$B$118,SUM(AA730,AA732),\"\")","v":""},{"$f":"IF(AB733=Labels!$B$118,SUM(AB730,AB732),\"\")","v":""},{"$f":"IF(AC733=Labels!$B$118,SUM(AC730,AC732),\"\")","v":""},{"$f":"IF(AD733=Labels!$B$118,SUM(AD730,AD732),\"\")","v":""},{"$f":"IF(AE733=Labels!$B$118,SUM(AE730,AE732),\"\")","v":""},{"$f":"IF(AF733=Labels!$B$118,SUM(AF730,AF732),\"\")","v":""},0,"[09-FN]"]
[{"$f":"$A$32","v":"majoration caché (total hebd.)"},{"$f":"IF($B722>=80,IF(OR(ISTEXT(B739),B739=\"\",B739<$B$7),\"\",ROUND(((B739-$B$7)*25%)/25,4)*25),IF(B735>($B$7/5),ROUND(((B735-($B$7/5))*25%)/25,4)*25,\"\"))","v":""},{"$f":"IF($B722>=80,IF(OR(ISTEXT(C739),C739=\"\",C739<$B$7),\"\",ROUND(((C739-$B$7)*25%)/25,4)*25),IF(C735>($B$7/5),ROUND(((C735-($B$7/5))*25%)/25,4)*25,\"\"))","v":""},"","","","","","","","","","","","","","","","","","","","","","","","","","","","","",{"$f":"AG731","v":0},"[03]"]
[null,{"$f":"$B$33","v":"1)  25% majoration temporelle pour depassement les heures maximales"},null,null,null,null,null,null,null,null,null,{"$f":"$L$33","v":"2) 100% majoration temporelle pour travail de nuit"},null,null,null,null,null,null,null,null,null,null,null,null,null,null,null,null,null,null,null,null,{"$f":"SUM(AG730+AG732)","v":0},"[4-5]"]
[null,{"$f":"$B$34","v":"3) 100% majoration temporelle pour travail du dimanche et jour férié"},null,null,null,null,null,null,null,null,null,null,null,null,null,null,null,null,null,{"$f":"$T$34","v":"Saisie des heures payées exercice en cours (heures supplémentaires)"},null,null,null,null,null,null,null,null,null,null,null,null,{"$f":"SUM(AG730:AG732)","v":0},"[3-5]"]
[{"$f":"$A$35","v":"Notes"},null,null,null,null,null,null,null,null,null,null,null,null,null,null,null,null,null,null,null,null,null,null,null,null,null,null,null,null,null,null,null,{"$f":"SUM(AG728:AG742)","v":0},"[10]"]
[null,null,null,null,null,null,null,null,null,null,null,null,null,null,null,null,null,null,null,null,null,null,null,null,null,null,null,null,null,null,null,null,{"$f":"AG727","v":168},"[00]"]
[{"$f":"IF(AG1104=0,\"\",\"effektives Pensum:  \"&ROUND(COUNT(B727:AF727)/(AG1104+COUNT(B727:AF727))%*B722%*20,0)/20&\" %\")","v":""},null,null,null,null,null,null,null,null,null,null,null,null,null,null,null,null,null,null,null,null,null,null,null,null,null,null,null,null,null,null,null,{"$f":"SUM(AG750-AG751)","v":-168},"[11]"]
[]
[{"$f":"Labels!$B$103","v":"Résumé"},null,null,null,null,null,{"$f":"Labels!$B$77","v":"Jan"},null,{"$f":"Labels!$B$78","v":"Fév"},null,{"$f":"Labels!$B$79","v":"Mar"},null,{"$f":"Labels!$B$80","v":"Avr"},null,{"$f":"Labels!$B$81","v":"Mai"},null,{"$f":"Labels!$B$82","v":"Jun"},null,{"$f":"Labels!$B$83","v":"Jul"},null,{"$f":"Labels!$B$84","v":"Aoû"},null,{"$f":"Labels!$B$85","v":"Sep"},null,{"$f":"Labels!$B$86","v":"Oct"},null,{"$f":"Labels!$B$87","v":"Nov"},null,{"$f":"Labels!$B$88","v":"Déc"},null,{"$f":"Labels!$B$101","v":"Année"}]
[{"$f":"Labels!$B$20","v":"Emploi %"},null,null,null,null,null,{"$f":"IF($B$4=0,0,$B$4)","v":100},null,{"$f":"IF($B$72=0,0,$B$72)","v":100},null,{"$f":"IF($B$137=0,0,$B$137)","v":100},null,{"$f":"IF($B$202=0,0,$B$202)","v":100},null,{"$f":"IF($B$267=0,0,$B$267)","v":100},null,{"$f":"IF($B$332=0,0,$B$332)","v":100},null,{"$f":"IF($B$397=0,0,$B$397)","v":100},null,{"$f":"IF($B$462=0,0,$B$462)","v":100},null,{"$f":"IF($B$527=0,0,$B$527)","v":100},null,{"$f":"IF($B$592=0,0,$B$592)","v":100},null,{"$f":"IF($B$657=0,0,$B$657)","v":100},null,{"$f":"IF($B$722=0,0,$B$722)","v":100}]
[{"$f":"Labels!$B$104","v":"Heures théoriques selon CCT"},null,null,null,null,null,{"$f":"IF($AG$36=0,0,$AG$36)","v":176},null,{"$f":"IF($AG$101=0,0,$AG$101)","v":160},null,{"$f":"IF($AG$142=0,0,$AG$142)","v":184},null,{"$f":"IF($AG$231=0,0,$AG$231)","v":160},null,{"$f":"IF($AG$296=0,0,$AG$296)","v":184},null,{"$f":"IF($AG$361=0,0,$AG$361)","v":176},null,{"$f":"IF($AG$426=0,0,$AG$426)","v":168},null,{"$f":"IF($AG$491=0,0,$AG$491)","v":184},null,{"$f":"IF($AG$556=0,0,$AG$556)","v":168},null,{"$f":"IF($AG$621=0,0,$AG$621)","v":176},null,{"$f":"IF($AG$686=0,0,$AG$686)","v":176},null,{"$f":"IF($AG$751=0,0,$AG$751)","v":168},null,{"$f":"SUM(G756:AD756)","v":2080}]
[{"$f":"Labels!$B$105","v":"Total heures productives"},{"$f":"Labels!$B$106","v":"06.00 - 20.00 h"},null,null,null,null,{"$f":"IF($AG$32=0,0,$AG$32)","v":0},null,{"$f":"IF($AG$97=0,0,$AG$97)","v":0},null,{"$f":"IF($AG$162=0,0,$AG$162)","v":0},null,{"$f":"IF($AG$227=0,0,$AG$227)","v":0},null,{"$f":"IF($AG$292=0,0,$AG$292)","v":0},null,{"$f":"IF($AG$357=0,0,$AG$357)","v":0},null,{"$f":"IF($AG$422=0,0,$AG$422)","v":0},null,{"$f":"IF($AG$487=0,0,$AG$487)","v":0},null,{"$f":"IF($AG$552=0,0,$AG$552)","v":0},null,{"$f":"IF($AG$617=0,0,$AG$617)","v":0},null,{"$f":"IF($AG$682=0,0,$AG$682)","v":0},null,{"$f":"IF($AG$747=0,0,$AG$747)","v":0},null,{"$f":"SUM(G757:AD757)","v":0}]
[null,{"$f":"Labels!$B$107","v":"nuit, dimanche et jour férié"},null,null,null,null,{"$f":"IF(AND($AG$33=0,$AG$18=0),0,$AG$33+$AG$18)","v":0},null,{"$f":"IF(AND($AG$98=0,$AG$83=0),0,$AG$98+$AG$83)","v":0},null,{"$f":"IF(AND($AG$163=0,$AG$148=0),0,$AG$163+$AG$148)","v":0},null,{"$f":"IF(AND($AG$228=0,$AG$213=0),0,$AG$228+$AG$213)","v":0},null,{"$f":"IF(AND($AG$293=0,$AG$278=0),0,$AG$293+$AG$278)","v":0},null,{"$f":"IF(AND($AG$358=0,$AG$343=0),0,$AG$358+$AG$343)","v":0},null,{"$f":"IF(AND($AG$423=0,$AG$408=0),0,$AG$423+$AG$408)","v":0},null,{"$f":"IF(AND($AG$488=0,$AG$473=0),0,$AG$488+$AG$473)","v":0},null,{"$f":"IF(AND($AG$553=0,$AG$538=0),0,$AG$553+$AG$538)","v":0},null,{"$f":"IF(AND($AG$618=0,$AG$603=0),0,$AG$618+$AG$603)","v":0},null,{"$f":"IF(AND($AG$683=0,$AG$668=0),0,$AG$683+$AG$668)","v":0},null,{"$f":"IF(AND($AG$748=0,$AG$733=0),0,$AG$748+$AG$733)","v":0},null,{"$f":"SUM(G758:AD758)","v":0}]
[{"$f":"Labels!$B$108","v":"Majorations temporelles"},{"$f":"Labels!$B$109","v":"depassement des heures maximales"},null,null,null,null,{"$f":"IF($AG$25=0,0,$AG$25)","v":0},null,{"$f":"IF($AG$90=0,0,$AG$90)","v":0},null,{"$f":"IF($AG$155=0,0,$AG$155)","v":0},null,{"$f":"IF($AG$220=0,0,$AG$220)","v":0},null,{"$f":"IF($AG$285=0,0,$AG$285)","v":0},null,{"$f":"IF($AG$350=0,0,$AG$350)","v":0},null,{"$f":"IF($AG$415=0,0,$AG$415)","v":0},null,{"$f":"IF($AG$480=0,0,$AG$480)","v":0},null,{"$f":"IF($AG$545=0,0,$AG$545)","v":0},null,{"$f":"IF($AG$610=0,0,$AG$610)","v":0},null,{"$f":"IF($AG$675=0,0,$AG$675)","v":0},null,{"$f":"IF($AG$740=0,0,$AG$740)","v":0},null,{"$f":"SUM(G759:AD759)","v":0}]
[null,{"$f":"Labels!$B$110","v":"nuit, dimanche et jour férié"},null,null,null,null,{"$f":"IF($AJ$23=0,0,$AJ$23)","v":0},null,{"$f":"IF($AK$23=0,0,$AK$23)","v":0},null,{"$f":"IF($AL$23=0,0,$AL$23)","v":0},null,{"$f":"IF($AM$23=0,0,$AM$23)","v":0},null,{"$f":"IF($AN$23=0,0,$AN$23)","v":0},null,{"$f":"IF($AO$23=0,0,$AO$23)","v":0},null,{"$f":"IF($AP$23=0,0,$AP$23)","v":0},null,{"$f":"IF($AQ$23=0,0,$AQ$23)","v":0},null,{"$f":"IF($AR$23=0,0,$AR$23)","v":0},null,{"$f":"IF($AS$23=0,0,$AS$23)","v":0},null,{"$f":"IF($AT$23=0,0,$AT$23)","v":0},null,{"$f":"IF($AU$23=0,0,$AU$23)","v":0},null,{"$f":"SUM(G760:AD760)","v":0}]
[{"$f":"Labels!$B$111","v":"Heures inproductives"}]
[{"$f":"Labels!$B$112","v":"   Absences art. 11 CCT"},null,null,null,null,{"$f":"Labels!$B$113","v":"ab"},{"$f":"IF($AJ$3=0,0,$AJ$3)","v":0},null,{"$f":"IF($AK$3=0,0,$AK$3)","v":0},null,{"$f":"IF($AL$3=0,0,$AL$3)","v":0},null,{"$f":"IF($AM$3=0,0,$AM$3)","v":0},null,{"$f":"IF($AN$3=0,0,$AN$3)","v":0},null,{"$f":"IF($AO$3=0,0,$AO$3)","v":0},null,{"$f":"IF($AP$3=0,0,$AP$3)","v":0},null,{"$f":"IF($AQ$3=0,0,$AQ$3)","v":0},null,{"$f":"IF($AR$3=0,0,$AR$3)","v":0},null,{"$f":"IF($AS$3=0,0,$AS$3)","v":0},null,{"$f":"IF(AT$3=0,0,$AT$3)","v":0},null,{"$f":"IF($AU$3=0,0,$AU$3)","v":0},null,{"$f":"IF($AV$3=0,0,$AV$3)","v":0}]
[{"$f":"Labels!$B$114","v":"   Vacances art. 12.1 CCT"},null,null,null,null,{"$f":"Labels!$B$115","v":"va"},{"$f":"IF($AJ$4=0,0,$AJ$4)","v":0},null,{"$f":"IF($AK$4=0,0,$AK$4)","v":0},null,{"$f":"IF($AL$4=0,0,$AL$4)","v":0},null,{"$f":"IF($AM$4=0,0,$AM$4)","v":0},null,{"$f":"IF($AN$4=0,0,$AN$4)","v":0},null,{"$f":"IF($AO$4=0,0,$AO$4)","v":0},null,{"$f":"IF($AP$4=0,0,$AP$4)","v":0},null,{"$f":"IF($AQ$4=0,0,$AQ$4)","v":0},null,{"$f":"IF($AR$4=0,0,$AR$4)","v":0},null,{"$f":"IF($AS$4=0,0,$AS$4)","v":0},null,{"$f":"IF($AT$4=0,0,$AT$4)","v":0},null,{"$f":"IF($AU$4=0,0,$AU$4)","v":0},null,{"$f":"IF($AV$4=0,0,$AV$4)","v":0}]
[{"$f":"Labels!$B$181","v":"   vacances non payées"},null,null,null,null,{"$f":"Labels!$B$182","v":"vn"},{"$f":"IF($AJ$13=0,0,$AJ$13)","v":0},null,{"$f":"IF($AK$13=0,0,$AK$13)","v":0},null,{"$f":"IF($AL$13=0,0,$AL$13)","v":0},null,{"$f":"IF($AM$13=0,0,$AM$13)","v":0},null,{"$f":"IF($AN$13=0,0,$AN$13)","v":0},null,{"$f":"IF($AO$13=0,0,$AO$13)","v":0},null,{"$f":"IF($AP$13=0,0,$AP$13)","v":0},null,{"$f":"IF($AQ$13=0,0,$AQ$13)","v":0},null,{"$f":"IF($AR$13=0,0,$AR$13)","v":0},null,{"$f":"IF($AS$13=0,0,$AS$13)","v":0},null,{"$f":"IF($AT$13=0,0,$AT$13)","v":0},null,{"$f":"IF($AU$13=0,0,$AU$13)","v":0},null,{"$f":"IF($AV$13=0,0,$AV$13)","v":0}]
[{"$f":"Labels!$B$116","v":"   Jours fériés art. 12.2 CCT"},null,{"$f":"IF($AJ$20=\"\",\"\",$AJ$20)","v":""},null,null,{"$f":"Labels!$B$118","v":"jf"},{"$f":"IF($AJ$18=0,0,$AJ$18)","v":0},null,{"$f":"IF($AK$18=0,0,$AK$18)","v":0},null,{"$f":"IF($AL$18=0,0,$AL$18)","v":0},null,{"$f":"IF($AM$18=0,0,$AM$18)","v":0},null,{"$f":"IF($AN$18=0,0,$AN$18)","v":0},null,{"$f":"IF($AO$18=0,0,$AO$18)","v":0},null,{"$f":"IF($AP$18=0,0,$AP$18)","v":0},null,{"$f":"IF($AQ$18=0,0,$AQ$18)","v":0},null,{"$f":"IF($AR$18=0,0,$AR$18)","v":0},null,{"$f":"IF($AS$18=0,0,$AS$18)","v":0},null,{"$f":"IF($AT$18=0,0,$AT$18)","v":0},null,{"$f":"IF($AU$18=0,0,$AU$18)","v":0},null,{"$f":"IF($AV$18=0,0,$AV$18)","v":0}]
[{"$f":"Labels!$B$119","v":"   Maladie art. 13 CCT"},null,null,null,null,{"$f":"Labels!$B$120","v":"ma"},{"$f":"IF($AJ$5=0,0,$AJ$5)","v":0},null,{"$f":"IF($AK$5=0,0,$AK$5)","v":0},null,{"$f":"IF($AL$5=0,0,$AL$5)","v":0},null,{"$f":"IF($AM$5=0,0,$AM$5)","v":0},null,{"$f":"IF($AN$5=0,0,$AN$5)","v":0},null,{"$f":"IF($AO$5=0,0,$AO$5)","v":0},null,{"$f":"IF($AP$5=0,0,$AP$5)","v":0},null,{"$f":"IF($AQ$5=0,0,$AQ$5)","v":0},null,{"$f":"IF($AR$5=0,0,$AR$5)","v":0},null,{"$f":"IF($AS$5=0,0,$AS$5)","v":0},null,{"$f":"IF($AT$5=0,0,$AT$5)","v":0},null,{"$f":"IF($AU$5=0,0,$AU$5)","v":0},null,{"$f":"IF($AV$5=0,0,$AV$5)","v":0}]
[{"$f":"Labels!$B$184","v":"non payeé"},null,null,null,null,null,{"$f":"IF(AJ$16=0,0,AJ$16)","v":0},null,{"$f":"IF($AK$16=0,0,$AK$16)","v":0},null,{"$f":"IF($AL$16=0,0,$AL$16)","v":0},null,{"$f":"IF($AM$16=0,0,$AM$16)","v":0},null,{"$f":"IF($AN$16=0,0,$AN$16)","v":0},null,{"$f":"IF($AO$16=0,0,$AO$16)","v":0},null,{"$f":"IF($AP$16=0,0,$AP$16)","v":0},null,{"$f":"IF($AQ$16=0,0,$AQ$16)","v":0},null,{"$f":"IF($AR$16=0,0,$AR$16)","v":0},null,{"$f":"IF($AS$16=0,0,$AS$16)","v":0},null,{"$f":"IF($AT$16=0,0,$AT$16)","v":0},null,{"$f":"IF($AU$16=0,0,$AU$16)","v":0},null,{"$f":"IF($AV$16=0,0,$AV$16)","v":0}]
[{"$f":"Labels!$B$121","v":"   Accident art. 14 CCT"},null,null,null,null,{"$f":"Labels!$B$122","v":"ac"},{"$f":"IF($AJ$6=0,0,$AJ$6)","v":0},null,{"$f":"IF($AK$6=0,0,$AK$6)","v":0},null,{"$f":"IF($AL$6=0,0,$AL$6)","v":0},null,{"$f":"IF($AM$6=0,0,$AM$6)","v":0},null,{"$f":"IF($AN$6=0,0,$AN$6)","v":0},null,{"$f":"IF($AO$6=0,0,$AO$6)","v":0},null,{"$f":"IF($AP$6=0,0,$AP$6)","v":0},null,{"$f":"IF($AQ$6=0,0,$AQ$6)","v":0},null,{"$f":"IF($AR$6=0,0,$AR$6)","v":0},null,{"$f":"IF($AS$6=0,0,$AS$6)","v":0},null,{"$f":"IF($AT$6=0,0,$AT$6)","v":0},null,{"$f":"IF($AU$6=0,0,$AU$6)","v":0},null,{"$f":"IF($AV$6=0,0,$AV$6)","v":0}]
[{"$f":"Labels!$B$123","v":"   Grossesse/Maternité art. 15 CCT"},null,null,null,null,{"$f":"Labels!$B$124","v":"gm"},{"$f":"IF($AJ$7=0,0,$AJ$7)","v":0},null,{"$f":"IF($AK$7=0,0,$AK$7)","v":0},null,{"$f":"IF($AL$7=0,0,$AL$7)","v":0},null,{"$f":"IF($AM$7=0,0,$AM$7)","v":0},null,{"$f":"IF($AN$7=0,0,$AN$7)","v":0},null,{"$f":"IF($AO$7=0,0,$AO$7)","v":0},null,{"$f":"IF($AP$7=0,0,$AP$7)","v":0},null,{"$f":"IF($AQ$7=0,0,$AQ$7)","v":0},null,{"$f":"IF($AR$7=0,0,$AR$7)","v":0},null,{"$f":"IF($AS$7=0,0,$AS$7)","v":0},null,{"$f":"IF($AT$7=0,0,$AT$7)","v":0},null,{"$f":"IF($AU$7=0,0,$AU$7)","v":0},null,{"$f":"IF($AV$7=0,0,$AV$7)","v":0}]
[{"$f":"Labels!$B$125","v":"   Militaire/Promotion/Protection civile art. 16 CCT"},null,null,null,null,{"$f":"Labels!$B$126","v":"mi"},{"$f":"IF($AJ$8=0,0,$AJ$8)","v":0},null,{"$f":"IF($AK$8=0,0,$AK$8)","v":0},null,{"$f":"IF($AL$8=0,0,$AL$8)","v":0},null,{"$f":"IF($AM$8=0,0,$AM$8)","v":0},null,{"$f":"IF($AN$8=0,0,$AN$8)","v":0},null,{"$f":"IF($AO$8=0,0,$AO$8)","v":0},null,{"$f":"IF($AP$8=0,0,$AP$8)","v":0},null,{"$f":"IF($AQ$8=0,0,$AQ$8)","v":0},null,{"$f":"IF($AR$8=0,0,$AR$8)","v":0},null,{"$f":"IF($AS$8=0,0,$AS$8)","v":0},null,{"$f":"IF($AT$8=0,0,$AT$8)","v":0},null,{"$f":"IF($AU$8=0,0,$AU$8)","v":0},null,{"$f":"IF($AV$8=0,0,$AV$8)","v":0}]
[{"$f":"Labels!$B$127","v":"   Chômage partiel et perte de travail cause d'intempéries"},null,null,null,null,{"$f":"Labels!$B$128","v":"ch"},{"$f":"IF($AJ$11=0,0,$AJ$11)","v":0},null,{"$f":"IF($AK$11=0,0,$AK$11)","v":0},null,{"$f":"IF($AL$11=0,0,$AL$11)","v":0},null,{"$f":"IF($AM$11=0,0,$AM$11)","v":0},null,{"$f":"IF($AN$11=0,0,$AN$11)","v":0},null,{"$f":"IF($AO$11=0,0,$AO$11)","v":0},null,{"$f":"IF($AP$11=0,0,$AP$11)","v":0},null,{"$f":"IF($AQ$11=0,0,$AQ$11)","v":0},null,{"$f":"IF($AR$11=0,0,$AR$11)","v":0},null,{"$f":"IF($AS$11=0,0,$AS$11)","v":0},null,{"$f":"IF($AT$11=0,0,$AT$11)","v":0},null,{"$f":"IF($AU$11=0,0,$AU$11)","v":0},null,{"$f":"IF($AV$11=0,0,$AV$11)","v":0}]
[{"$f":"Labels!$B$129","v":"   Ecole professionnelle"},null,null,null,null,{"$f":"Labels!$B$130","v":"ep"},{"$f":"IF($AJ$9=0,0,$AJ$9)","v":0},null,{"$f":"IF($AK$9=0,0,$AK$9)","v":0},null,{"$f":"IF($AL$9=0,0,$AL$9)","v":0},null,{"$f":"IF($AM$9=0,0,$AM$9)","v":0},null,{"$f":"IF($AN$9=0,0,$AN$9)","v":0},null,{"$f":"IF($AO$9=0,0,$AO$9)","v":0},null,{"$f":"IF($AP$9=0,0,$AP$9)","v":0},null,{"$f":"IF($AQ$9=0,0,$AQ$9)","v":0},null,{"$f":"IF($AR$9=0,0,$AR$9)","v":0},null,{"$f":"IF($AS$9=0,0,$AS$9)","v":0},null,{"$f":"IF($AT$9=0,0,$AT$9)","v":0},null,{"$f":"IF($AU$9=0,0,$AU$9)","v":0},null,{"$f":"IF($AV$9=0,0,$AV$9)","v":0}]
[{"$f":"Labels!$B$131","v":"   Cours"},null,null,null,null,{"$f":"Labels!$B$132","v":"co"},{"$f":"IF($AJ$10=0,0,$AJ$10)","v":0},null,{"$f":"IF($AK$10=0,0,$AK$10)","v":0},null,{"$f":"IF($AL$10=0,0,$AL$10)","v":0},null,{"$f":"IF($AM$10=0,0,$AM$10)","v":0},null,{"$f":"IF($AN$10=0,0,$AN$10)","v":0},null,{"$f":"IF($AO$10=0,0,$AO$10)","v":0},null,{"$f":"IF($AP$10=0,0,$AP$10)","v":0},null,{"$f":"IF($AQ$10=0,0,$AQ$10)","v":0},null,{"$f":"IF($AR$10=0,0,$AR$10)","v":0},null,{"$f":"IF($AS$10=0,0,$AS$10)","v":0},null,{"$f":"IF($AT$10=0,0,$AT$10)","v":0},null,{"$f":"IF($AU$10=0,0,$AU$10)","v":0},null,{"$f":"IF($AV$10=0,0,$AV$10)","v":0}]
[{"$f":"Labels!$B$133","v":"Heures de compensation"},{"$f":"Labels!$B$134","v":"de l'année passée"},null,null,null,{"$f":"Labels!$B$135","v":"cp"},{"$f":"IF($AJ$12=0,0,$AJ$12)","v":0},null,{"$f":"IF($AK$12=0,0,$AK$12)","v":0},null,{"$f":"IF($AL$12=0,0,$AL$12)","v":0},null,{"$f":"IF($AM$12=0,0,$AM$12)","v":0},null,{"$f":"IF($AN$12=0,0,$AN$12)","v":0},null,{"$f":"IF($AO$12=0,0,$AO$12)","v":0},null,{"$f":"IF($AP$12=0,0,$AP$12)","v":0},null,{"$f":"IF($AQ$12=0,0,$AQ$12)","v":0},null,{"$f":"IF($AR$12=0,0,$AR$12)","v":0},null,null,null,null,null,null,null,{"$f":"IF($AV$12=0,0,$AV$12)","v":0}]
[null,{"$f":"Labels!$B$136","v":"de l'année en cours (contrôle)"},null,null,null,{"$f":"Labels!$B$137","v":"cc"},{"$f":"IF($AJ$15=0,0,$AJ$15)","v":0},null,{"$f":"IF($AK$15=0,0,$AK$15)","v":0},null,{"$f":"IF($AL$15=0,0,$AL$15)","v":0},null,{"$f":"IF($AM$15=0,0,$AM$15)","v":0},null,{"$f":"IF($AN$15=0,0,$AN$15)","v":0},null,{"$f":"IF($AO$15=0,0,$AO$15)","v":0},null,{"$f":"IF($AP$15=0,0,$AP$15)","v":0},null,{"$f":"IF($AQ$15=0,0,$AQ$15)","v":0},null,{"$f":"IF($AR$15=0,0,$AR$15)","v":0},null,{"$f":"IF($AS$15=0,0,$AS$15)","v":0},null,{"$f":"IF($AT$15=0,0,$AT$15)","v":0},null,{"$f":"IF($AU$15=0,0,$AU$15)","v":0},null,{"$f":"IF($AV$15=0,0,$AV$15)","v":0}]
[{"$f":"Labels!$B$138","v":"Paiement des heures"},{"$f":"Labels!$B$139","v":"de l'année passée"},null,null,null,null,{"$f":"IF($AJ$21=0,0,$AJ$21)","v":0},null,{"$f":"IF($AK$21=0,0,$AK$21)","v":0},null,{"$f":"IF($AL$21=0,0,$AL$21)","v":0},null,{"$f":"IF($AM$21=0,0,$AM$21)","v":0},null,{"$f":"IF($AN$21=0,0,$AN$21)","v":0},null,{"$f":"IF($AO$21=0,0,$AO$21)","v":0},null,{"$f":"IF($AP$21=0,0,$AP$21)","v":0},null,{"$f":"IF($AQ$21=0,0,$AQ$21)","v":0},null,{"$f":"IF($AR$21=0,0,$AR$21)","v":0},null,null,null,null,null,null,null,{"$f":"IF($AV$21=0,0,$AV$21)","v":0}]
[{"$f":"Labels!$B$140","v":"Différence en heures"},{"$f":"Labels!$B$141","v":"après compensation et paiement"},null,null,null,null,{"$f":"IF(ROUND($P$4,3)=0,0,$P$4-G774-G776)","v":0},null,{"$f":"IF(ROUND(G777,3)=0,0,G777-(SUM(I774+I776)))","v":0},null,{"$f":"IF(ROUND(I777,3)=0,0,I777-K776-K774)","v":0},null,{"$f":"IF(ROUND(K777,3)=0,0,K777-(SUM(M776+M774)))","v":0},null,{"$f":"IF(ROUND(M777,3)=0,0,M777-(SUM(O776+O774)))","v":0},null,{"$f":"IF(ROUND(O777,3)=0,0,O777-(SUM(Q776+Q774)))","v":0},null,{"$f":"IF(ROUND(Q777,3)=0,0,Q777-(SUM(S776+S774)))","v":0},null,{"$f":"IF(ROUND(S777,3)=0,0,S777-(SUM(U776+U774)))","v":0},null,{"$f":"IF(ROUND(U777,3)=0,0,U777-(SUM(W776+W774)))","v":0},null,{"$f":"IF($W$62<0.1,\"\",AY759)","v":""}]
[{"$f":"Labels!$B$138","v":"Paiement des heures"},{"$f":"Labels!$B$142","v":"de l'année en cours"},null,null,null,null,{"$f":"IF($AJ$22=0,0,$AJ$22)","v":0},null,{"$f":"IF($AK$22=0,0,$AK$22)","v":0},null,{"$f":"IF($AL$22=0,0,$AL$22)","v":0},null,{"$f":"IF($AM$22=0,0,$AM$22)","v":0},null,{"$f":"IF($AN$22=0,0,$AN$22)","v":0},null,{"$f":"IF($AO$22=0,0,$AO$22)","v":0},null,{"$f":"IF($AP$22=0,0,$AP$22)","v":0},null,{"$f":"IF($AQ$22=0,0,$AQ$22)","v":0},null,{"$f":"IF($AR$22=0,0,$AR$22)","v":0},null,{"$f":"IF($AS$22=0,0,$AS$22)","v":0},null,{"$f":"IF($AT$22=0,0,$AT$22)","v":0},null,{"$f":"IF($AU$22=0,0,$AU$22)","v":0},null,{"$f":"IF($AV$22=0,0,$AV$22)","v":0}]
[{"$f":"Labels!$B$143","v":"Heures manquantes"},{"$f":"Labels!$B$144","v":"de l'année en cours (contrôle)"},null,null,null,{"$f":"Labels!$B$145","v":"hm"},{"$f":"IF($AJ$14=0,0,$AJ$14)","v":0},null,{"$f":"IF($AK$14=0,0,$AK$14)","v":0},null,{"$f":"IF($AL$14=0,0,$AL$14)","v":0},null,{"$f":"IF($AM$14=0,0,$AM$14)","v":0},null,{"$f":"IF($AN$14=0,0,$AN$14)","v":0},null,{"$f":"IF($AO$14=0,0,$AO$14)","v":0},null,{"$f":"IF($AP$14=0,0,$AP$14)","v":0},null,{"$f":"IF($AQ$14=0,0,$AQ$14)","v":0},null,{"$f":"IF($AR$14=0,0,$AR$14)","v":0},null,{"$f":"IF($AS$14=0,0,$AS$14)","v":0},null,{"$f":"IF($AT$14=0,0,$AT$14)","v":0},null,{"$f":"IF($AU$14=0,0,$AU$14)","v":0},null,{"$f":"IF($AV$14=0,0,$AV$14)","v":0}]
[{"$f":"Labels!$B$146","v":"Total (majorations inclus)"},{"$f":"Labels!$B$147","v":"heures productives et inproductives"},null,null,null,null,{"$f":"IF($AG$35=0,0,$AG$35)","v":0},null,{"$f":"IF($AG$100=0,0,$AG$100)","v":0},null,{"$f":"IF($AG$165=0,0,$AG$165)","v":0},null,{"$f":"IF($AG$230=0,0,$AG$230)","v":0},null,{"$f":"IF($AG$295=0,0,$AG$295)","v":0},null,{"$f":"IF($AG$360=0,0,$AG$360)","v":0},null,{"$f":"IF($AG$425=0,0,$AG$425)","v":0},null,{"$f":"IF($AG$490=0,0,$AG$490)","v":0},null,{"$f":"IF($AG$555=0,0,$AG$555)","v":0},null,{"$f":"IF($AG$620=0,0,$AG$620)","v":0},null,{"$f":"IF($AG$685=0,0,$AG$685)","v":0},null,{"$f":"IF($AG$750=0,0,$AG$750)","v":0},null,{"$f":"SUM($G$65:$AD$65)","v":0}]
[{"$f":"Labels!$B$148","v":"Comparaison des heures"},{"$f":"Labels!$B$149","v":"aux heures théorique CCT (heures \nmanquantes de l'année passée incl.)"},null,null,null,null,{"$f":"IF($AG$37=0,0,$AG$37)-$AE$34+$P$5","v":-176},null,{"$f":"IF($AG$102=0,0,$AG$102)-$AE$99","v":-160},null,{"$f":"IF($AG$167=0,0,$AG$167)-$AE$164","v":-184},null,{"$f":"IF($AG$232=0,0,$AG$232)-$AE$229","v":-160},null,{"$f":"IF($AG$297=0,0,$AG$297)-$AE$294","v":-184},null,{"$f":"IF($AG$362=0,0,$AG$362)-$AE$359","v":-176},null,{"$f":"IF($AG$427=0,0,$AG$427)-$AE$424","v":-168},null,{"$f":"IF($AG$492=0,0,$AG$492)-$AE$489","v":-184},null,{"$f":"IF($AG$557=0,0,$AG$557)-$AE$554","v":-168},null,{"$f":"IF($AG$622=0,0,$AG$622)-$AE$619","v":-176},null,{"$f":"IF($AG$687=0,0,$AG$687)-$AE$684","v":-176},null,{"$f":"IF($AG$752=0,0,$AG$752)-$AE$749","v":-168},null,{"$f":"SUM($G$66:$AD$66)","v":-2080}]
[null,{"$f":"Labels!$B$151","v":"aux heures théorique (cumulées)"},null,null,null,null,{"$f":"IF(G755=0,0,$G$66)","v":-176},null,{"$f":"IF(I755=0,0,SUM($G$66:$J$66))","v":-336},null,{"$f":"IF(K755=0,0,SUM($G$66:$L$66))","v":-520},null,{"$f":"IF(M755=0,0,SUM($G$66:$N$66))","v":-680},null,{"$f":"IF(O755=0,0,SUM($G$66:$P$66))","v":-864},null,{"$f":"IF(Q755=0,0,SUM($G$66:$R$66))","v":-1040},null,{"$f":"IF(S755=0,0,SUM($G$66:$T$66))","v":-1208},null,{"$f":"IF(U755=0,0,SUM($G$66:$V$66))","v":-1392},null,{"$f":"IF(W755=0,0,SUM($G$66:$X$66))","v":-1560},null,{"$f":"IF(Y755=0,0,SUM($G$66:$Z$66))","v":-1736},null,{"$f":"IF(AA755=0,0,SUM($G$66:$AB$66))","v":-1912},null,{"$f":"IF(AC755=0,0,SUM($G$66:$AD$66))","v":-2080}]
[{"$f":"Labels!$B$153","v":"Vacances (contrôle)"},{"$f":"Labels!$B$154","v":"Vacances année passée"},null,null,null,null,{"$f":"IF($AA$4=0,0,$AA$4)","v":0},null,{"$f":"Labels!$B$155","v":"Vacances selon \nart 12.1 CCT"},null,null,null,{"$f":"IF($AA$5=0,0,$AA$5)","v":0},null,{"$f":"Labels!$B$156","v":"Total des vacances"},null,null,null,{"$f":"SUM(G783+M783)","v":0},null,{"$f":"Labels!$B$157","v":"Vacances prises"},null,null,null,{"$f":"IF($AV$4=0,0,$AV$4)","v":0},null,{"$f":"Labels!$B$158","v":"Vacances restantes"},null,null,null,{"$f":"IF(S783=0,0,S783-Y783)","v":0}]
[]
[]
[]
[]
[]
[]
[]
[]
[]
[]
[]
[]
[]
[]
[]
[]
[]
[]
[]
[]
[]
[]
[]
[null,null,null,null,null,null,null,null,null,null,null,null,null,null,null,null,null,null,null,null,null,null,null,null,null,null,null,null,null,null,null,null,null,null,null,"Legende Absenztypen (DE)"]
[]
[null,null,null,null,null,null,null,null,null,null,null,null,null,null,null,null,null,null,null,null,null,null,null,null,null,null,null,null,null,null,null,null,null,null,null,"f","Ferien Art. 12.1. GAV"]
[null,null,null,null,null,null,null,null,null,null,null,null,null,null,null,null,null,null,null,null,null,null,null,null,null,null,null,null,null,null,null,null,null,null,null,"kv","Kompensation Vorjahressaldo für Abrechnung in der Zusammenfassung"]
[null,null,null,null,null,null,null,null,null,null,null,null,null,null,null,null,null,null,null,null,null,null,null,null,null,null,null,null,null,null,null,null,null,null,null,"kj","Kompensation laufendes Jahr siehe  Zusammenfassung"]
[null,null,null,null,null,null,null,null,null,null,null,null,null,null,null,null,null,null,null,null,null,null,null,null,null,null,null,null,null,null,null,null,null,null,null,"a","Absenzen, Kurzabsenzen\nArt. 11 GAV"]
[null,null,null,null,null,null,null,null,null,null,null,null,null,null,null,null,null,null,null,null,null,null,null,null,null,null,null,null,null,null,null,null,null,null,null,"k","Krankheit Art. 13 GAV"]
[null,null,null,null,null,null,null,null,null,null,null,null,null,null,null,null,null,null,null,null,null,null,null,null,null,null,null,null,null,null,null,null,null,null,null,"u","Unfall Art. 14 GAV"]
[null,null,null,null,null,null,null,null,null,null,null,null,null,null,null,null,null,null,null,null,null,null,null,null,null,null,null,null,null,null,null,null,null,null,null,"s","Schwanger-/Mutterschaft\nArt. 15 GAV"]
[null,null,null,null,null,null,null,null,null,null,null,null,null,null,null,null,null,null,null,null,null,null,null,null,null,null,null,null,null,null,null,null,null,null,null,"m","Militär, Zivilschutz\nArt. 16 GAV"]
[null,null,null,null,null,null,null,null,null,null,null,null,null,null,null,null,null,null,null,null,null,null,null,null,null,null,null,null,null,null,null,null,null,null,null,"bs","Berufsschule"]
["Testbereich Absenzen",null,null,null,null,null,null,null,null,null,null,null,null,null,null,null,null,null,null,null,null,null,null,null,null,null,null,null,null,null,null,null,null,null,null,"ku","Kurse"]
[null,{"$f":"B845","v":0},{"$f":"C845","v":0},null,null,null,null,null,null,null,null,null,null,null,null,null,null,null,null,null,null,null,null,null,null,null,null,null,null,null,null,null,null,null,null,"ka","Kurzabeit, Schlechtwetterausfälle"]
[null,{"$f":"IF(B845<>0,IF(MAX(B832:B844)<B845,\"div\",INDEX($AH$832:$AH$844,MATCH(MAX(B832:B844),B832:B844,0))),\"\")","v":""},{"$f":"IF(C845<>0,IF(MAX(C832:C844)<C845,\"div\",INDEX($AH$832:$AH$844,MATCH(MAX(C832:C844),C832:C844,0))),\"\")","v":""}]
[null,null,null,null,null,null,null,null,null,null,null,null,null,null,null,null,null,null,null,null,null,null,null,null,null,null,null,null,null,null,null,null,null,null,null,"fe","Fehlstunden zur Information ohne Berechnung in der Zusammenfassung"]
["Code für Max-Wert",{"$f":"INDEX($AH$832:$AH$844,MATCH(MAX(B832:B844),B832:B844,0))","v":{"$error":"#N/A"}},null,null,"Jahressaldo",null,null,{"$f":"D5","v":-2080}]
[]
[{"$f":"A9","v":"janvier"},{"$f":"Labels!B32","v":"Solde mois + / -"},null,null,null,{"$f":"F9","v":-176},null,null,null,null,null,null,null,null,null,null,null,null,null,null,null,null,null,null,null,null,null,{"$f":"Labels!B38","v":"Absences"},null,null,{"$f":"Labels!B77","v":"Jan"},null,{"$f":"COUNT(B827:AF827)&\" \"&Labels!$B$63","v":"22 Jours"}]
[{"$f":"Labels!B35","v":"Jour"},{"$f":"B10","v":"2023-01-01"},{"$f":"B825+1","v":"2023-01-02"},"2023-01-03","2023-01-04","2023-01-05","2023-01-06","2023-01-07","2023-01-08","2023-01-09","2023-01-10","2023-01-11","2023-01-12","2023-01-13","2023-01-14","2023-01-15","2023-01-16","2023-01-17","2023-01-18","2023-01-19","2023-01-20","2023-01-21","2023-01-22","2023-01-23","2023-01-24","2023-01-25","2023-01-26","2023-01-27","2023-01-28","2023-01-29","2023-01-30","2023-01-31"]
[{"$f":"Labels!B36","v":"semaine civile"},{"$f":"IF(B825=\"\",\"\",TRUNC((B825-DATE(YEAR(B825+3-MOD(B825-2,7)),1,MOD(B825-2,7)-9))/7))","v":52},{"$f":"IF(C825=\"\",\"\",TRUNC((C825-DATE(YEAR(C825+3-MOD(C825-2,7)),1,MOD(C825-2,7)-9))/7))","v":1},1,1,1,1,1,1,2,2,2,2,2,2,2,3,3,3,3,3,3,3,4,4,4,4,4,4,4,5,5,{"$f":"SUM(B827:AF827)","v":176}]
[{"$f":"Labels!B37","v":"Théorique sel. CCT"},{"$f":"B12","v":""},{"$f":"C12","v":8},8,8,8,8,"","",8,8,8,8,8,"","",8,8,8,8,8,"","",8,8,8,8,8,"","",8,8]
[{"$f":"Labels!B165","v":"Heures productives"},{"$f":"SUM(B15:B17)","v":0},0,0,0,0,0,0,0,0,0,0,0,0,0,0,0,0,0,0,0,0,0,0,0,0,0,0,0,0,0,0,{"$f":"SUM(B828:AF828)","v":0},"Produktivstunden"]
[{"$f":"Labels!B227","v":"exclure jour (marque avec un x)"},null,null,null,null,null,null,null,null,null,null,null,null,null,null,null,null,null,null,null,null,null,null,null,null,null,null,null,null,null,null,null,{"$f":"COUNTA(B829:AF829)","v":0},"ausschliessen"]
[{"$f":"Labels!B228","v":"jour de carence (marque avec un x)"},null,null,null,null,null,null,null,null,null,null,null,null,null,null,null,null,null,null,null,null,null,null,null,null,null,null,null,null,null,null,null,{"$f":"COUNTA(B830:AF830)","v":0},"Karenztage"]
[{"$f":"Labels!B166","v":"Jours fériés [jf]"},{"$f":"B18","v":""},"","","","","","","","","","","","","","","","","","","","","","","","","","","","","","",{"$f":"COUNTIF(B831:AF831,\"ft\")","v":0},{"$f":"Labels!B118","v":"jf"}]
[{"$f":"Labels!B167","v":"Vacances [va]"},null,null,null,null,null,null,null,null,null,null,null,null,null,null,null,null,null,null,null,null,null,null,null,null,null,null,null,null,null,null,null,{"$f":"SUM(B832:AF832)","v":0},{"$f":"Labels!B115","v":"va"}]
[{"$f":"Labels!B168","v":"Compensation (année passée) [cp]"},null,null,null,null,null,null,null,null,null,null,null,null,null,null,null,null,null,null,null,null,null,null,null,null,null,null,null,null,null,null,null,0,{"$f":"Labels!B135","v":"cp"}]
[{"$f":"Labels!B169","v":"Compensation (année courant) [cc]"},null,null,null,null,null,null,null,null,null,null,null,null,null,null,null,null,null,null,null,null,null,null,null,null,null,null,null,null,null,null,null,0,{"$f":"Labels!B137","v":"cc"}]
[{"$f":"Labels!B170","v":"Absences [ab]"},null,null,null,null,null,null,null,null,null,null,null,null,null,null,null,null,null,null,null,null,null,null,null,null,null,null,null,null,null,null,null,0,{"$f":"Labels!B113","v":"ab"}]
[{"$f":"Labels!B171","v":"Maladie [ma]"},null,null,null,null,null,null,null,null,null,null,null,null,null,null,null,null,null,null,null,null,null,null,null,null,null,null,null,null,null,null,null,0,{"$f":"Labels!B120","v":"ma"}]
[{"$f":"Labels!B172","v":"Accident [ac]"},null,null,null,null,null,null,null,null,null,null,null,null,null,null,null,null,null,null,null,null,null,null,null,null,null,null,null,null,null,null,null,0,{"$f":"Labels!B122","v":"ac"}]
[{"$f":"Labels!B173","v":"Grossesse/Maternité [gm]"},null,null,null,null,null,null,null,null,null,null,null,null,null,null,null,null,null,null,null,null,null,null,null,null,null,null,null,null,null,null,null,0,{"$f":"Labels!B124","v":"gm"}]
[{"$f":"Labels!B174","v":"Militaire/Promotion/Protection civile [mi]"},null,null,null,null,null,null,null,null,null,null,null,null,null,null,null,null,null,null,null,null,null,null,null,null,null,null,null,null,null,null,null,0,{"$f":"Labels!B126","v":"mi"}]
[{"$f":"Labels!B175","v":"Ecole professionelle [ep]"},null,null,null,null,null,null,null,null,null,null,null,null,null,null,null,null,null,null,null,null,null,null,null,null,null,null,null,null,null,null,null,0,{"$f":"Labels!B130","v":"ep"}]
[{"$f":"Labels!B176","v":"Cours [co]"},null,null,null,null,null,null,null,null,null,null,null,null,null,null,null,null,null,null,null,null,null,null,null,null,null,null,null,null,null,null,null,0,{"$f":"Labels!B132","v":"co"}]
[{"$f":"Labels!B177","v":"Chômage partiel et intempéries [ch]"},null,null,null,null,null,null,null,null,null,null,null,null,null,null,null,null,null,null,null,null,null,null,null,null,null,null,null,null,null,null,null,0,{"$f":"Labels!B128","v":"ch"}]
[{"$f":"Labels!B179","v":"Vacances non payées [vn]"},null,null,null,null,null,null,null,null,null,null,null,null,null,null,null,null,null,null,null,null,null,null,null,null,null,null,null,null,null,null,null,0,{"$f":"Labels!B180","v":"vn"}]
[{"$f":"Labels!B178","v":"Heures manquantes [hm]"},null,null,null,null,null,null,null,null,null,null,null,null,null,null,null,null,null,null,null,null,null,null,null,null,null,null,null,null,null,null,null,0,{"$f":"Labels!B145","v":"hm"}]
[{"$f":"Labels!B102","v":"Total"},{"$f":"SUM(B832:B844)-IF(B830=\"x\",B836,0)","v":0},{"$f":"SUM(C832:C844)-IF(C830=\"x\",C836,0)","v":0},{"$f":"SUM(D832:D844)-IF(D830=\"x\",D836,0)","v":0},0,0,0,0,0,0,0,0,0,0,0,0,0,0,0,0,0,0,0,0,0,0,0,0,0,0,0,0,null,"Total"]
[]
[]
[]
[{"$f":"A74","v":"février"},{"$f":"$B$824","v":"Solde mois + / -"},null,null,null,{"$f":"F74","v":-160},null,null,null,null,null,null,null,null,null,null,null,null,null,null,null,null,null,null,null,null,null,{"$f":"$AB$824","v":"Absences"},null,null,{"$f":"Labels!B78","v":"Fév"},null,{"$f":"COUNT(B852:AF852)&\" \"&Labels!$B$63","v":"20 Jours"}]
[{"$f":"$A$825","v":"Jour"},{"$f":"B75","v":"2023-02-01"},{"$f":"B850+1","v":"2023-02-02"},"2023-02-03","2023-02-04","2023-02-05","2023-02-06","2023-02-07","2023-02-08","2023-02-09","2023-02-10","2023-02-11","2023-02-12","2023-02-13","2023-02-14","2023-02-15","2023-02-16","2023-02-17","2023-02-18","2023-02-19","2023-02-20","2023-02-21","2023-02-22","2023-02-23","2023-02-24","2023-02-25","2023-02-26","2023-02-27","2023-02-28",{"$f":"IF(istSchaltjahr,AC850+1,\"\")","v":""}]
[{"$f":"$A$826","v":"semaine civile"},{"$f":"IF(B850=\"\",\"\",TRUNC((B850-DATE(YEAR(B850+3-MOD(B850-2,7)),1,MOD(B850-2,7)-9))/7))","v":5},{"$f":"IF(C850=\"\",\"\",TRUNC((C850-DATE(YEAR(C850+3-MOD(C850-2,7)),1,MOD(C850-2,7)-9))/7))","v":5},5,5,5,6,6,6,6,6,6,6,7,7,7,7,7,7,7,8,8,8,8,8,8,8,9,9,"",null,null,{"$f":"IF($AD$850=\"\",SUM(A852:AC852),SUM(B852:AF852))","v":160}]
[{"$f":"$A$827","v":"Théorique sel. CCT"},{"$f":"B77","v":8},8,8,"","",8,8,8,8,8,"","",8,8,8,8,8,"","",8,8,8,8,8,"","",8,8,""]
[{"$f":"$A$828","v":"Heures productives"},{"$f":"SUM(B80:B82)","v":0},0,0,0,0,0,0,0,0,0,0,0,0,0,0,0,0,0,0,0,0,0,0,0,0,0,0,0,{"$f":"IF(AD850=\"\",\"\",SUM(AD80:AD82))","v":""},null,null,{"$f":"IF($AD$850=\"\",SUM(B853:AC853),SUM(B853:AD853))","v":0},"Produktivstunden"]
[{"$f":"$A$829","v":"exclure jour (marque avec un x)"},null,null,null,null,null,null,null,null,null,null,null,null,null,null,null,null,null,null,null,null,null,null,null,null,null,null,null,null,null,null,null,{"$f":"IF($AD$850=\"\",COUNTA(B854:AC854),COUNTA(B854:AD854))","v":0},"ausschliessen"]
[{"$f":"$A$830","v":"jour de carence (marque avec un x)"},null,null,null,null,null,null,null,null,null,null,null,null,null,null,null,null,null,null,null,null,null,null,null,null,null,null,null,null,null,null,null,{"$f":"IF($AD$850=\"\",COUNTA(B855:AC855),COUNTA(B855:AD855))","v":0},"Karenztage"]
[{"$f":"$A$831","v":"Jours fériés [jf]"},{"$f":"B83","v":""},"","","","","","","","","","","","","","","","","","","","","","","","","","","",{"$f":"IF(AD850=\"\",\"\",AD83)","v":""},null,null,{"$f":"IF($AD$850=\"\",COUNTIF(B856:AC856,\"ft\"),COUNTIF(B856:AD856,\"ft\"))","v":0},{"$f":"$AH$831","v":"jf"}]
[{"$f":"$A$832","v":"Vacances [va]"},null,null,null,null,null,null,null,null,null,null,null,null,null,null,null,null,null,null,null,null,null,null,null,null,null,null,null,null,null,null,null,{"$f":"IF($AD$850=\"\",SUM(B857:AC857),SUM(B857:AD857))","v":0},{"$f":"$AH$832","v":"va"}]
[{"$f":"$A$833","v":"Compensation (année passée) [cp]"},null,null,null,null,null,null,null,null,null,null,null,null,null,null,null,null,null,null,null,null,null,null,null,null,null,null,null,null,null,null,null,0,{"$f":"$AH$833","v":"cp"}]
[{"$f":"$A$834","v":"Compensation (année courant) [cc]"},null,null,null,null,null,null,null,null,null,null,null,null,null,null,null,null,null,null,null,null,null,null,null,null,null,null,null,null,null,null,null,0,{"$f":"$AH$834","v":"cc"}]
[{"$f":"$A$835","v":"Absences [ab]"},null,null,null,null,null,null,null,null,null,null,null,null,null,null,null,null,null,null,null,null,null,null,null,null,null,null,null,null,null,null,null,0,{"$f":"$AH$835","v":"ab"}]
[{"$f":"$A$836","v":"Maladie [ma]"},null,null,null,null,null,null,null,null,null,null,null,null,null,null,null,null,null,null,null,null,null,null,null,null,null,null,null,null,null,null,null,0,{"$f":"$AH$836","v":"ma"}]
[{"$f":"$A$837","v":"Accident [ac]"},null,null,null,null,null,null,null,null,null,null,null,null,null,null,null,null,null,null,null,null,null,null,null,null,null,null,null,null,null,null,null,0,{"$f":"$AH$837","v":"ac"}]
[{"$f":"$A$838","v":"Grossesse/Maternité [gm]"},null,null,null,null,null,null,null,null,null,null,null,null,null,null,null,null,null,null,null,null,null,null,null,null,null,null,null,null,null,null,null,0,{"$f":"$AH$838","v":"gm"}]
[{"$f":"$A$839","v":"Militaire/Promotion/Protection civile [mi]"},null,null,null,null,null,null,null,null,null,null,null,null,null,null,null,null,null,null,null,null,null,null,null,null,null,null,null,null,null,null,null,0,{"$f":"$AH$839","v":"mi"}]
[{"$f":"$A$840","v":"Ecole professionelle [ep]"},null,null,null,null,null,null,null,null,null,null,null,null,null,null,null,null,null,null,null,null,null,null,null,null,null,null,null,null,null,null,null,0,{"$f":"$AH$840","v":"ep"}]
[{"$f":"$A$841","v":"Cours [co]"},null,null,null,null,null,null,null,null,null,null,null,null,null,null,null,null,null,null,null,null,null,null,null,null,null,null,null,null,null,null,null,0,{"$f":"$AH$841","v":"co"}]
[{"$f":"$A$842","v":"Chômage partiel et intempéries [ch]"},null,null,null,null,null,null,null,null,null,null,null,null,null,null,null,null,null,null,null,null,null,null,null,null,null,null,null,null,null,null,null,0,{"$f":"$AH$842","v":"ch"}]
[{"$f":"$A$843","v":"Vacances non payées [vn]"},null,null,null,null,null,null,null,null,null,null,null,null,null,null,null,null,null,null,null,null,null,null,null,null,null,null,null,null,null,null,null,0,{"$f":"$AH$843","v":"vn"}]
[{"$f":"$A$844","v":"Heures manquantes [hm]"},null,null,null,null,null,null,null,null,null,null,null,null,null,null,null,null,null,null,null,null,null,null,null,null,null,null,null,null,null,null,null,0,{"$f":"$AH$844","v":"hm"}]
[{"$f":"$A$845","v":"Total"},{"$f":"SUM(B857:B869)-IF(B855=\"x\",B861,0)","v":0},{"$f":"SUM(C857:C869)-IF(C855=\"x\",C861,0)","v":0},0,0,0,0,0,0,0,0,0,0,0,0,0,0,0,0,0,0,0,0,0,0,0,0,0,0,{"$f":"IF(AD850=\"\",\"\",SUM(AD857:AD869)-IF(AD855=\"x\",AD861,0))","v":""},null,null,null,"Total"]
[]
[]
[]
[{"$f":"A139","v":"mars"},{"$f":"$B$824","v":"Solde mois + / -"},null,null,null,{"$f":"F139","v":-184},null,null,null,null,null,null,null,null,null,null,null,null,null,null,null,null,null,null,null,null,null,{"$f":"$AB$824","v":"Absences"},null,null,{"$f":"Labels!B79","v":"Mar"},null,{"$f":"COUNT(B877:AF877)&\" \"&Labels!$B$63","v":"23 Jours"}]
[{"$f":"$A$825","v":"Jour"},{"$f":"B140","v":"2023-03-01"},{"$f":"B875+1","v":"2023-03-02"},"2023-03-03","2023-03-04","2023-03-05","2023-03-06","2023-03-07","2023-03-08","2023-03-09","2023-03-10","2023-03-11","2023-03-12","2023-03-13","2023-03-14","2023-03-15","2023-03-16","2023-03-17","2023-03-18","2023-03-19","2023-03-20","2023-03-21","2023-03-22","2023-03-23","2023-03-24","2023-03-25","2023-03-26","2023-03-27","2023-03-28","2023-03-29","2023-03-30","2023-03-31"]
[{"$f":"$A$826","v":"semaine civile"},{"$f":"IF(B875=\"\",\"\",TRUNC((B875-DATE(YEAR(B875+3-MOD(B875-2,7)),1,MOD(B875-2,7)-9))/7))","v":9},{"$f":"IF(C875=\"\",\"\",TRUNC((C875-DATE(YEAR(C875+3-MOD(C875-2,7)),1,MOD(C875-2,7)-9))/7))","v":9},9,9,9,10,10,10,10,10,10,10,11,11,11,11,11,11,11,12,12,12,12,12,12,12,13,13,13,13,13,{"$f":"SUM(B877:AF877)","v":184}]
[{"$f":"$A$827","v":"Théorique sel. CCT"},{"$f":"B142","v":8},8,8,"","",8,8,8,8,8,"","",8,8,8,8,8,"","",8,8,8,8,8,"","",8,8,8,8,8]
[{"$f":"$A$828","v":"Heures productives"},{"$f":"SUM(B145:B147)","v":0},{"$f":"SUM(C145:C147)","v":0},0,0,0,0,0,0,0,0,0,0,0,0,0,0,0,0,0,0,0,0,0,0,0,0,0,0,0,0,0,{"$f":"SUM(B878:AF878)","v":0},"Produktivstunden"]
[{"$f":"$A$829","v":"exclure jour (marque avec un x)"},null,null,null,null,null,null,null,null,null,null,null,null,null,null,null,null,null,null,null,null,null,null,null,null,null,null,null,null,null,null,null,{"$f":"COUNTA(B879:AF879)","v":0},"ausschliessen"]
[{"$f":"$A$830","v":"jour de carence (marque avec un x)"},null,null,null,null,null,null,null,null,null,null,null,null,null,null,null,null,null,null,null,null,null,null,null,null,null,null,null,null,null,null,null,{"$f":"COUNTA(B880:AF880)","v":0},"Karenztage"]
[{"$f":"$A$831","v":"Jours fériés [jf]"},{"$f":"B148","v":""},"","","","","","","","","","","","","","","","","","","","","","","","","","","","","","",{"$f":"COUNTIF(B881:AF881,\"ft\")","v":0},{"$f":"$AH$831","v":"jf"}]
[{"$f":"$A$832","v":"Vacances [va]"},null,null,null,null,null,null,null,null,null,null,null,null,null,null,null,null,null,null,null,null,null,null,null,null,null,null,null,null,null,null,null,{"$f":"SUM(B882:AF882)","v":0},{"$f":"$AH$832","v":"va"}]
[{"$f":"$A$833","v":"Compensation (année passée) [cp]"},null,null,null,null,null,null,null,null,null,null,null,null,null,null,null,null,null,null,null,null,null,null,null,null,null,null,null,null,null,null,null,0,{"$f":"$AH$833","v":"cp"}]
[{"$f":"$A$834","v":"Compensation (année courant) [cc]"},null,null,null,null,null,null,null,null,null,null,null,null,null,null,null,null,null,null,null,null,null,null,null,null,null,null,null,null,null,null,null,0,{"$f":"$AH$834","v":"cc"}]
[{"$f":"$A$835","v":"Absences [ab]"},null,null,null,null,null,null,null,null,null,null,null,null,null,null,null,null,null,null,null,null,null,null,null,null,null,null,null,null,null,null,null,0,{"$f":"$AH$835","v":"ab"}]
[{"$f":"$A$836","v":"Maladie [ma]"},null,null,null,null,null,null,null,null,null,null,null,null,null,null,null,null,null,null,null,null,null,null,null,null,null,null,null,null,null,null,null,0,{"$f":"$AH$836","v":"ma"}]
[{"$f":"$A$837","v":"Accident [ac]"},null,null,null,null,null,null,null,null,null,null,null,null,null,null,null,null,null,null,null,null,null,null,null,null,null,null,null,null,null,null,null,0,{"$f":"$AH$837","v":"ac"}]
[{"$f":"$A$838","v":"Grossesse/Maternité [gm]"},null,null,null,null,null,null,null,null,null,null,null,null,null,null,null,null,null,null,null,null,null,null,null,null,null,null,null,null,null,null,null,0,{"$f":"$AH$838","v":"gm"}]
[{"$f":"$A$839","v":"Militaire/Promotion/Protection civile [mi]"},null,null,null,null,null,null,null,null,null,null,null,null,null,null,null,null,null,null,null,null,null,null,null,null,null,null,null,null,null,null,null,0,{"$f":"$AH$839","v":"mi"}]
[{"$f":"$A$840","v":"Ecole professionelle [ep]"},null,null,null,null,null,null,null,null,null,null,null,null,null,null,null,null,null,null,null,null,null,null,null,null,null,null,null,null,null,null,null,0,{"$f":"$AH$840","v":"ep"}]
[{"$f":"$A$841","v":"Cours [co]"},null,null,null,null,null,null,null,null,null,null,null,null,null,null,null,null,null,null,null,null,null,null,null,null,null,null,null,null,null,null,null,0,{"$f":"$AH$841","v":"co"}]
[{"$f":"$A$842","v":"Chômage partiel et intempéries [ch]"},null,null,null,null,null,null,null,null,null,null,null,null,null,null,null,null,null,null,null,null,null,null,null,null,null,null,null,null,null,null,null,0,{"$f":"$AH$842","v":"ch"}]
[{"$f":"$A$843","v":"Vacances non payées [vn]"},null,null,null,null,null,null,null,null,null,null,null,null,null,null,null,null,null,null,null,null,null,null,null,null,null,null,null,null,null,null,null,0,{"$f":"$AH$843","v":"vn"}]
[{"$f":"$A$844","v":"Heures manquantes [hm]"},null,null,null,null,null,null,null,null,null,null,null,null,null,null,null,null,null,null,null,null,null,null,null,null,null,null,null,null,null,null,null,0,{"$f":"$AH$844","v":"hm"}]
[{"$f":"$A$845","v":"Total"},{"$f":"SUM(B882:B894)-IF(B880=\"x\",B886,0)","v":0},{"$f":"SUM(C882:C894)-IF(C880=\"x\",C886,0)","v":0},0,0,0,0,0,0,0,0,0,0,0,0,0,0,0,0,0,0,0,0,0,0,0,0,0,0,0,0,0,null,"Total"]
[]
[]
[]
[{"$f":"A204","v":"avril"},{"$f":"$B$824","v":"Solde mois + / -"},null,null,null,{"$f":"F204","v":-160},null,null,null,null,null,null,null,null,null,null,null,null,null,null,null,null,null,null,null,null,null,{"$f":"$AB$824","v":"Absences"},null,null,{"$f":"Labels!B80","v":"Avr"},null,{"$f":"COUNT(B902:AF902)&\" \"&Labels!$B$63","v":"20 Jours"}]
[{"$f":"$A$825","v":"Jour"},{"$f":"B205","v":"2023-04-01"},{"$f":"B900+1","v":"2023-04-02"},"2023-04-03","2023-04-04","2023-04-05","2023-04-06","2023-04-07","2023-04-08","2023-04-09","2023-04-10","2023-04-11","2023-04-12","2023-04-13","2023-04-14","2023-04-15","2023-04-16","2023-04-17","2023-04-18","2023-04-19","2023-04-20","2023-04-21","2023-04-22","2023-04-23","2023-04-24","2023-04-25","2023-04-26","2023-04-27","2023-04-28","2023-04-29","2023-04-30"]
[{"$f":"$A$826","v":"semaine civile"},{"$f":"IF(B900=\"\",\"\",TRUNC((B900-DATE(YEAR(B900+3-MOD(B900-2,7)),1,MOD(B900-2,7)-9))/7))","v":13},{"$f":"IF(C900=\"\",\"\",TRUNC((C900-DATE(YEAR(C900+3-MOD(C900-2,7)),1,MOD(C900-2,7)-9))/7))","v":13},14,14,14,14,14,14,14,15,15,15,15,15,15,15,16,16,16,16,16,16,16,17,17,17,17,17,17,17,null,{"$f":"SUM(B902:AF902)","v":160}]
[{"$f":"$A$827","v":"Théorique sel. CCT"},{"$f":"B207","v":""},"",8,8,8,8,8,"","",8,8,8,8,8,"","",8,8,8,8,8,"","",8,8,8,8,8,"",""]
[{"$f":"$A$828","v":"Heures productives"},{"$f":"SUM(B210:B212)","v":0},0,0,0,0,0,0,0,0,0,0,0,0,0,0,0,0,0,0,0,0,0,0,0,0,0,0,0,0,0,null,{"$f":"SUM(B903:AF903)","v":0},"Produktivstunden"]
[{"$f":"$A$829","v":"exclure jour (marque avec un x)"},null,null,null,null,null,null,null,null,null,null,null,null,null,null,null,null,null,null,null,null,null,null,null,null,null,null,null,null,null,null,null,{"$f":"COUNTA(B904:AF904)","v":0},"ausschliessen"]
[{"$f":"$A$830","v":"jour de carence (marque avec un x)"},null,null,null,null,null,null,null,null,null,null,null,null,null,null,null,null,null,null,null,null,null,null,null,null,null,null,null,null,null,null,null,{"$f":"COUNTA(B905:AF905)","v":0},"Karenztage"]
[{"$f":"$A$831","v":"Jours fériés [jf]"},{"$f":"B213","v":""},"","","","","","","","","","","","","","","","","","","","","","","","","","","","","",null,{"$f":"COUNTIF(B906:AF906,\"ft\")","v":0},{"$f":"$AH$831","v":"jf"}]
[{"$f":"$A$832","v":"Vacances [va]"},null,null,null,null,null,null,null,null,null,null,null,null,null,null,null,null,null,null,null,null,null,null,null,null,null,null,null,null,null,null,null,{"$f":"SUM(B907:AF907)","v":0},{"$f":"$AH$832","v":"va"}]
[{"$f":"$A$833","v":"Compensation (année passée) [cp]"},null,null,null,null,null,null,null,null,null,null,null,null,null,null,null,null,null,null,null,null,null,null,null,null,null,null,null,null,null,null,null,0,{"$f":"$AH$833","v":"cp"}]
[{"$f":"$A$834","v":"Compensation (année courant) [cc]"},null,null,null,null,null,null,null,null,null,null,null,null,null,null,null,null,null,null,null,null,null,null,null,null,null,null,null,null,null,null,null,0,{"$f":"$AH$834","v":"cc"}]
[{"$f":"$A$835","v":"Absences [ab]"},null,null,null,null,null,null,null,null,null,null,null,null,null,null,null,null,null,null,null,null,null,null,null,null,null,null,null,null,null,null,null,0,{"$f":"$AH$835","v":"ab"}]
[{"$f":"$A$836","v":"Maladie [ma]"},null,null,null,null,null,null,null,null,null,null,null,null,null,null,null,null,null,null,null,null,null,null,null,null,null,null,null,null,null,null,null,0,{"$f":"$AH$836","v":"ma"}]
[{"$f":"$A$837","v":"Accident [ac]"},null,null,null,null,null,null,null,null,null,null,null,null,null,null,null,null,null,null,null,null,null,null,null,null,null,null,null,null,null,null,null,0,{"$f":"$AH$837","v":"ac"}]
[{"$f":"$A$838","v":"Grossesse/Maternité [gm]"},null,null,null,null,null,null,null,null,null,null,null,null,null,null,null,null,null,null,null,null,null,null,null,null,null,null,null,null,null,null,null,0,{"$f":"$AH$838","v":"gm"}]
[{"$f":"$A$839","v":"Militaire/Promotion/Protection civile [mi]"},null,null,null,null,null,null,null,null,null,null,null,null,null,null,null,null,null,null,null,null,null,null,null,null,null,null,null,null,null,null,null,0,{"$f":"$AH$839","v":"mi"}]
[{"$f":"$A$840","v":"Ecole professionelle [ep]"},null,null,null,null,null,null,null,null,null,null,null,null,null,null,null,null,null,null,null,null,null,null,null,null,null,null,null,null,null,null,null,0,{"$f":"$AH$840","v":"ep"}]
[{"$f":"$A$841","v":"Cours [co]"},null,null,null,null,null,null,null,null,null,null,null,null,null,null,null,null,null,null,null,null,null,null,null,null,null,null,null,null,null,null,null,0,{"$f":"$AH$841","v":"co"}]
[{"$f":"$A$842","v":"Chômage partiel et intempéries [ch]"},null,null,null,null,null,null,null,null,null,null,null,null,null,null,null,null,null,null,null,null,null,null,null,null,null,null,null,null,null,null,null,0,{"$f":"$AH$842","v":"ch"}]
[{"$f":"$A$843","v":"Vacances non payées [vn]"},null,null,null,null,null,null,null,null,null,null,null,null,null,null,null,null,null,null,null,null,null,null,null,null,null,null,null,null,null,null,null,0,{"$f":"$AH$843","v":"vn"}]
[{"$f":"$A$844","v":"Heures manquantes [hm]"},null,null,null,null,null,null,null,null,null,null,null,null,null,null,null,null,null,null,null,null,null,null,null,null,null,null,null,null,null,null,null,0,{"$f":"$AH$844","v":"hm"}]
[{"$f":"$A$845","v":"Total"},{"$f":"SUM(B907:B919)-IF(B905=\"x\",B911,0)","v":0},{"$f":"SUM(C907:C919)-IF(C905=\"x\",C911,0)","v":0},{"$f":"SUM(D907:D919)-IF(D905=\"x\",D911,0)","v":0},{"$f":"SUM(E907:E919)-IF(E905=\"x\",E911,0)","v":0},{"$f":"SUM(F907:F919)-IF(F905=\"x\",F911,0)","v":0},{"$f":"SUM(G907:G919)-IF(G905=\"x\",G911,0)","v":0},{"$f":"SUM(H907:H919)-IF(H905=\"x\",H911,0)","v":0},{"$f":"SUM(I907:I919)-IF(I905=\"x\",I911,0)","v":0},{"$f":"SUM(J907:J919)-IF(J905=\"x\",J911,0)","v":0},{"$f":"SUM(K907:K919)-IF(K905=\"x\",K911,0)","v":0},{"$f":"SUM(L907:L919)-IF(L905=\"x\",L911,0)","v":0},{"$f":"SUM(M907:M919)-IF(M905=\"x\",M911,0)","v":0},{"$f":"SUM(N907:N919)-IF(N905=\"x\",N911,0)","v":0},{"$f":"SUM(O907:O919)-IF(O905=\"x\",O911,0)","v":0},{"$f":"SUM(P907:P919)-IF(P905=\"x\",P911,0)","v":0},{"$f":"SUM(Q907:Q919)-IF(Q905=\"x\",Q911,0)","v":0},{"$f":"SUM(R907:R919)-IF(R905=\"x\",R911,0)","v":0},{"$f":"SUM(S907:S919)-IF(S905=\"x\",S911,0)","v":0},{"$f":"SUM(T907:T919)-IF(T905=\"x\",T911,0)","v":0},{"$f":"SUM(U907:U919)-IF(U905=\"x\",U911,0)","v":0},{"$f":"SUM(V907:V919)-IF(V905=\"x\",V911,0)","v":0},{"$f":"SUM(W907:W919)-IF(W905=\"x\",W911,0)","v":0},{"$f":"SUM(X907:X919)-IF(X905=\"x\",X911,0)","v":0},{"$f":"SUM(Y907:Y919)-IF(Y905=\"x\",Y911,0)","v":0},{"$f":"SUM(Z907:Z919)-IF(Z905=\"x\",Z911,0)","v":0},{"$f":"SUM(AA907:AA919)-IF(AA905=\"x\",AA911,0)","v":0},{"$f":"SUM(AB907:AB919)-IF(AB905=\"x\",AB911,0)","v":0},{"$f":"SUM(AC907:AC919)-IF(AC905=\"x\",AC911,0)","v":0},{"$f":"SUM(AD907:AD919)-IF(AD905=\"x\",AD911,0)","v":0},{"$f":"SUM(AE907:AE919)-IF(AE905=\"x\",AE911,0)","v":0},null,null,"Total"]
[]
[]
[]
[{"$f":"A269","v":"mai"},{"$f":"$B$824","v":"Solde mois + / -"},null,null,null,{"$f":"F269","v":-184},null,null,null,null,null,null,null,null,null,null,null,null,null,null,null,null,null,null,null,null,null,{"$f":"$AB$824","v":"Absences"},null,null,{"$f":"Labels!B81","v":"Mai"},null,{"$f":"COUNT(B927:AF927)&\" \"&Labels!$B$63","v":"23 Jours"}]
[{"$f":"$A$825","v":"Jour"},{"$f":"B270","v":"2023-05-01"},{"$f":"B925+1","v":"2023-05-02"},"2023-05-03","2023-05-04","2023-05-05","2023-05-06","2023-05-07","2023-05-08","2023-05-09","2023-05-10","2023-05-11","2023-05-12","2023-05-13","2023-05-14","2023-05-15","2023-05-16","2023-05-17","2023-05-18","2023-05-19","2023-05-20","2023-05-21","2023-05-22","2023-05-23","2023-05-24","2023-05-25","2023-05-26","2023-05-27","2023-05-28","2023-05-29","2023-05-30","2023-05-31"]
[{"$f":"$A$826","v":"semaine civile"},{"$f":"IF(B925=\"\",\"\",TRUNC((B925-DATE(YEAR(B925+3-MOD(B925-2,7)),1,MOD(B925-2,7)-9))/7))","v":18},{"$f":"IF(C925=\"\",\"\",TRUNC((C925-DATE(YEAR(C925+3-MOD(C925-2,7)),1,MOD(C925-2,7)-9))/7))","v":18},18,18,18,18,18,19,19,19,19,19,19,19,20,20,20,20,20,20,20,21,21,21,21,21,21,21,22,22,22,{"$f":"SUM(B927:AF927)","v":184}]
[{"$f":"$A$827","v":"Théorique sel. CCT"},{"$f":"B272","v":8},8,8,8,8,"","",8,8,8,8,8,"","",8,8,8,8,8,"","",8,8,8,8,8,"","",8,8,8]
[{"$f":"$A$828","v":"Heures productives"},{"$f":"SUM(B275:B277)","v":0},0,0,0,0,0,0,0,0,0,0,0,0,0,0,0,0,0,0,0,0,0,0,0,0,0,0,0,0,0,0,{"$f":"SUM(B928:AF928)","v":0},"Produktivstunden"]
[{"$f":"$A$829","v":"exclure jour (marque avec un x)"},null,null,null,null,null,null,null,null,null,null,null,null,null,null,null,null,null,null,null,null,null,null,null,null,null,null,null,null,null,null,null,{"$f":"COUNTA(B929:AF929)","v":0},"ausschliessen"]
[{"$f":"$A$830","v":"jour de carence (marque avec un x)"},null,null,null,null,null,null,null,null,null,null,null,null,null,null,null,null,null,null,null,null,null,null,null,null,null,null,null,null,null,null,null,{"$f":"COUNTA(B930:AF930)","v":0},"Karenztage"]
[{"$f":"$A$831","v":"Jours fériés [jf]"},{"$f":"B278","v":""},"","","","","","","","","","","","","","","","","","","","","","","","","","","","","","",{"$f":"COUNTIF(B931:AF931,\"ft\")","v":0},{"$f":"$AH$831","v":"jf"}]
[{"$f":"$A$832","v":"Vacances [va]"},null,null,null,null,null,null,null,null,null,null,null,null,null,null,null,null,null,null,null,null,null,null,null,null,null,null,null,null,null,null,null,{"$f":"SUM(B932:AF932)","v":0},{"$f":"$AH$832","v":"va"}]
[{"$f":"$A$833","v":"Compensation (année passée) [cp]"},null,null,null,null,null,null,null,null,null,null,null,null,null,null,null,null,null,null,null,null,null,null,null,null,null,null,null,null,null,null,null,0,{"$f":"$AH$833","v":"cp"}]
[{"$f":"$A$834","v":"Compensation (année courant) [cc]"},null,null,null,null,null,null,null,null,null,null,null,null,null,null,null,null,null,null,null,null,null,null,null,null,null,null,null,null,null,null,null,0,{"$f":"$AH$834","v":"cc"}]
[{"$f":"$A$835","v":"Absences [ab]"},null,null,null,null,null,null,null,null,null,null,null,null,null,null,null,null,null,null,null,null,null,null,null,null,null,null,null,null,null,null,null,0,{"$f":"$AH$835","v":"ab"}]
[{"$f":"$A$836","v":"Maladie [ma]"},null,null,null,null,null,null,null,null,null,null,null,null,null,null,null,null,null,null,null,null,null,null,null,null,null,null,null,null,null,null,null,0,{"$f":"$AH$836","v":"ma"}]
[{"$f":"$A$837","v":"Accident [ac]"},null,null,null,null,null,null,null,null,null,null,null,null,null,null,null,null,null,null,null,null,null,null,null,null,null,null,null,null,null,null,null,0,{"$f":"$AH$837","v":"ac"}]
[{"$f":"$A$838","v":"Grossesse/Maternité [gm]"},null,null,null,null,null,null,null,null,null,null,null,null,null,null,null,null,null,null,null,null,null,null,null,null,null,null,null,null,null,null,null,0,{"$f":"$AH$838","v":"gm"}]
[{"$f":"$A$839","v":"Militaire/Promotion/Protection civile [mi]"},null,null,null,null,null,null,null,null,null,null,null,null,null,null,null,null,null,null,null,null,null,null,null,null,null,null,null,null,null,null,null,0,{"$f":"$AH$839","v":"mi"}]
[{"$f":"$A$840","v":"Ecole professionelle [ep]"},null,null,null,null,null,null,null,null,null,null,null,null,null,null,null,null,null,null,null,null,null,null,null,null,null,null,null,null,null,null,null,0,{"$f":"$AH$840","v":"ep"}]
[{"$f":"$A$841","v":"Cours [co]"},null,null,null,null,null,null,null,null,null,null,null,null,null,null,null,null,null,null,null,null,null,null,null,null,null,null,null,null,null,null,null,0,{"$f":"$AH$841","v":"co"}]
[{"$f":"$A$842","v":"Chômage partiel et intempéries [ch]"},null,null,null,null,null,null,null,null,null,null,null,null,null,null,null,null,null,null,null,null,null,null,null,null,null,null,null,null,null,null,null,0,{"$f":"$AH$842","v":"ch"}]
[{"$f":"$A$843","v":"Vacances non payées [vn]"},null,null,null,null,null,null,null,null,null,null,null,null,null,null,null,null,null,null,null,null,null,null,null,null,null,null,null,null,null,null,null,0,{"$f":"$AH$843","v":"vn"}]
[{"$f":"$A$844","v":"Heures manquantes [hm]"},null,null,null,null,null,null,null,null,null,null,null,null,null,null,null,null,null,null,null,null,null,null,null,null,null,null,null,null,null,null,null,0,{"$f":"$AH$844","v":"hm"}]
[{"$f":"$A$845","v":"Total"},{"$f":"SUM(B932:B944)-IF(B930=\"x\",B936,0)","v":0},{"$f":"SUM(C932:C944)-IF(C930=\"x\",C936,0)","v":0},{"$f":"SUM(D932:D944)-IF(D930=\"x\",D936,0)","v":0},{"$f":"SUM(E932:E944)-IF(E930=\"x\",E936,0)","v":0},{"$f":"SUM(F932:F944)-IF(F930=\"x\",F936,0)","v":0},{"$f":"SUM(G932:G944)-IF(G930=\"x\",G936,0)","v":0},{"$f":"SUM(H932:H944)-IF(H930=\"x\",H936,0)","v":0},{"$f":"SUM(I932:I944)-IF(I930=\"x\",I936,0)","v":0},{"$f":"SUM(J932:J944)-IF(J930=\"x\",J936,0)","v":0},{"$f":"SUM(K932:K944)-IF(K930=\"x\",K936,0)","v":0},{"$f":"SUM(L932:L944)-IF(L930=\"x\",L936,0)","v":0},{"$f":"SUM(M932:M944)-IF(M930=\"x\",M936,0)","v":0},{"$f":"SUM(N932:N944)-IF(N930=\"x\",N936,0)","v":0},{"$f":"SUM(O932:O944)-IF(O930=\"x\",O936,0)","v":0},{"$f":"SUM(P932:P944)-IF(P930=\"x\",P936,0)","v":0},{"$f":"SUM(Q932:Q944)-IF(Q930=\"x\",Q936,0)","v":0},{"$f":"SUM(R932:R944)-IF(R930=\"x\",R936,0)","v":0},{"$f":"SUM(S932:S944)-IF(S930=\"x\",S936,0)","v":0},{"$f":"SUM(T932:T944)-IF(T930=\"x\",T936,0)","v":0},{"$f":"SUM(U932:U944)-IF(U930=\"x\",U936,0)","v":0},{"$f":"SUM(V932:V944)-IF(V930=\"x\",V936,0)","v":0},{"$f":"SUM(W932:W944)-IF(W930=\"x\",W936,0)","v":0},{"$f":"SUM(X932:X944)-IF(X930=\"x\",X936,0)","v":0},{"$f":"SUM(Y932:Y944)-IF(Y930=\"x\",Y936,0)","v":0},{"$f":"SUM(Z932:Z944)-IF(Z930=\"x\",Z936,0)","v":0},{"$f":"SUM(AA932:AA944)-IF(AA930=\"x\",AA936,0)","v":0},{"$f":"SUM(AB932:AB944)-IF(AB930=\"x\",AB936,0)","v":0},{"$f":"SUM(AC932:AC944)-IF(AC930=\"x\",AC936,0)","v":0},{"$f":"SUM(AD932:AD944)-IF(AD930=\"x\",AD936,0)","v":0},{"$f":"SUM(AE932:AE944)-IF(AE930=\"x\",AE936,0)","v":0},0,null,"Total"]
[]
[]
[]
[{"$f":"A334","v":"juin"},{"$f":"$B$824","v":"Solde mois + / -"},null,null,null,{"$f":"F334","v":-176},null,null,null,null,null,null,null,null,null,null,null,null,null,null,null,null,null,null,null,null,null,{"$f":"$AB$824","v":"Absences"},null,null,{"$f":"Labels!B82","v":"Jun"},null,{"$f":"COUNT(B952:AF952)&\" \"&Labels!$B$63","v":"22 Jours"}]
[{"$f":"$A$825","v":"Jour"},{"$f":"B335","v":"2023-06-01"},{"$f":"B950+1","v":"2023-06-02"},"2023-06-03","2023-06-04","2023-06-05","2023-06-06","2023-06-07","2023-06-08","2023-06-09","2023-06-10","2023-06-11","2023-06-12","2023-06-13","2023-06-14","2023-06-15","2023-06-16","2023-06-17","2023-06-18","2023-06-19","2023-06-20","2023-06-21","2023-06-22","2023-06-23","2023-06-24","2023-06-25","2023-06-26","2023-06-27","2023-06-28","2023-06-29","2023-06-30"]
[{"$f":"$A$826","v":"semaine civile"},{"$f":"IF(B950=\"\",\"\",TRUNC((B950-DATE(YEAR(B950+3-MOD(B950-2,7)),1,MOD(B950-2,7)-9))/7))","v":22},{"$f":"IF(C950=\"\",\"\",TRUNC((C950-DATE(YEAR(C950+3-MOD(C950-2,7)),1,MOD(C950-2,7)-9))/7))","v":22},22,22,23,23,23,23,23,23,23,24,24,24,24,24,24,24,25,25,25,25,25,25,25,26,26,26,26,26,null,{"$f":"SUM(B952:AF952)","v":176}]
[{"$f":"$A$827","v":"Théorique sel. CCT"},{"$f":"B337","v":8},8,"","",8,8,8,8,8,"","",8,8,8,8,8,"","",8,8,8,8,8,"","",8,8,8,8,8]
[{"$f":"$A$828","v":"Heures productives"},{"$f":"SUM(B340:B342)","v":0},0,0,0,0,0,0,0,0,0,0,0,0,0,0,0,0,0,0,0,0,0,0,0,0,0,0,0,0,0,null,{"$f":"SUM(B953:AF953)","v":0},"Produktivstunden"]
[{"$f":"$A$829","v":"exclure jour (marque avec un x)"},null,null,null,null,null,null,null,null,null,null,null,null,null,null,null,null,null,null,null,null,null,null,null,null,null,null,null,null,null,null,null,{"$f":"COUNTA(B954:AF954)","v":0},"ausschliessen"]
[{"$f":"$A$830","v":"jour de carence (marque avec un x)"},null,null,null,null,null,null,null,null,null,null,null,null,null,null,null,null,null,null,null,null,null,null,null,null,null,null,null,null,null,null,null,{"$f":"COUNTA(B955:AF955)","v":0}]
[{"$f":"$A$831","v":"Jours fériés [jf]"},{"$f":"B343","v":""},"","","","","","","","","","","","","","","","","","","","","","","","","","","","","",null,{"$f":"COUNTIF(B956:AF956,\"ft\")","v":0},{"$f":"$AH$831","v":"jf"}]
[{"$f":"$A$832","v":"Vacances [va]"},null,null,null,null,null,null,null,null,null,null,null,null,null,null,null,null,null,null,null,null,null,null,null,null,null,null,null,null,null,null,null,{"$f":"SUM(B957:AF957)","v":0},{"$f":"$AH$832","v":"va"}]
[{"$f":"$A$833","v":"Compensation (année passée) [cp]"},null,null,null,null,null,null,null,null,null,null,null,null,null,null,null,null,null,null,null,null,null,null,null,null,null,null,null,null,null,null,null,0,{"$f":"$AH$833","v":"cp"}]
[{"$f":"$A$834","v":"Compensation (année courant) [cc]"},null,null,null,null,null,null,null,null,null,null,null,null,null,null,null,null,null,null,null,null,null,null,null,null,null,null,null,null,null,null,null,0,{"$f":"$AH$834","v":"cc"}]
[{"$f":"$A$835","v":"Absences [ab]"},null,null,null,null,null,null,null,null,null,null,null,null,null,null,null,null,null,null,null,null,null,null,null,null,null,null,null,null,null,null,null,0,{"$f":"$AH$835","v":"ab"}]
[{"$f":"$A$836","v":"Maladie [ma]"},null,null,null,null,null,null,null,null,null,null,null,null,null,null,null,null,null,null,null,null,null,null,null,null,null,null,null,null,null,null,null,0,{"$f":"$AH$836","v":"ma"}]
[{"$f":"$A$837","v":"Accident [ac]"},null,null,null,null,null,null,null,null,null,null,null,null,null,null,null,null,null,null,null,null,null,null,null,null,null,null,null,null,null,null,null,0,{"$f":"$AH$837","v":"ac"}]
[{"$f":"$A$838","v":"Grossesse/Maternité [gm]"},null,null,null,null,null,null,null,null,null,null,null,null,null,null,null,null,null,null,null,null,null,null,null,null,null,null,null,null,null,null,null,0,{"$f":"$AH$838","v":"gm"}]
[{"$f":"$A$839","v":"Militaire/Promotion/Protection civile [mi]"},null,null,null,null,null,null,null,null,null,null,null,null,null,null,null,null,null,null,null,null,null,null,null,null,null,null,null,null,null,null,null,0,{"$f":"$AH$839","v":"mi"}]
[{"$f":"$A$840","v":"Ecole professionelle [ep]"},null,null,null,null,null,null,null,null,null,null,null,null,null,null,null,null,null,null,null,null,null,null,null,null,null,null,null,null,null,null,null,0,{"$f":"$AH$840","v":"ep"}]
[{"$f":"$A$841","v":"Cours [co]"},null,null,null,null,null,null,null,null,null,null,null,null,null,null,null,null,null,null,null,null,null,null,null,null,null,null,null,null,null,null,null,0,{"$f":"$AH$841","v":"co"}]
[{"$f":"$A$842","v":"Chômage partiel et intempéries [ch]"},null,null,null,null,null,null,null,null,null,null,null,null,null,null,null,null,null,null,null,null,null,null,null,null,null,null,null,null,null,null,null,0,{"$f":"$AH$842","v":"ch"}]
[{"$f":"$A$843","v":"Vacances non payées [vn]"},null,null,null,null,null,null,null,null,null,null,null,null,null,null,null,null,null,null,null,null,null,null,null,null,null,null,null,null,null,null,null,0,{"$f":"$AH$843","v":"vn"}]
[{"$f":"$A$844","v":"Heures manquantes [hm]"},null,null,null,null,null,null,null,null,null,null,null,null,null,null,null,null,null,null,null,null,null,null,null,null,null,null,null,null,null,null,null,0,{"$f":"$AH$844","v":"hm"}]
[{"$f":"$A$845","v":"Total"},{"$f":"SUM(B957:B969)-IF(B955=\"x\",B961,0)","v":0},{"$f":"SUM(C957:C969)-IF(C955=\"x\",C961,0)","v":0},{"$f":"SUM(D957:D969)-IF(D955=\"x\",D961,0)","v":0},{"$f":"SUM(E957:E969)-IF(E955=\"x\",E961,0)","v":0},{"$f":"SUM(F957:F969)-IF(F955=\"x\",F961,0)","v":0},{"$f":"SUM(G957:G969)-IF(G955=\"x\",G961,0)","v":0},{"$f":"SUM(H957:H969)-IF(H955=\"x\",H961,0)","v":0},{"$f":"SUM(I957:I969)-IF(I955=\"x\",I961,0)","v":0},{"$f":"SUM(J957:J969)-IF(J955=\"x\",J961,0)","v":0},{"$f":"SUM(K957:K969)-IF(K955=\"x\",K961,0)","v":0},{"$f":"SUM(L957:L969)-IF(L955=\"x\",L961,0)","v":0},{"$f":"SUM(M957:M969)-IF(M955=\"x\",M961,0)","v":0},{"$f":"SUM(N957:N969)-IF(N955=\"x\",N961,0)","v":0},{"$f":"SUM(O957:O969)-IF(O955=\"x\",O961,0)","v":0},{"$f":"SUM(P957:P969)-IF(P955=\"x\",P961,0)","v":0},{"$f":"SUM(Q957:Q969)-IF(Q955=\"x\",Q961,0)","v":0},{"$f":"SUM(R957:R969)-IF(R955=\"x\",R961,0)","v":0},{"$f":"SUM(S957:S969)-IF(S955=\"x\",S961,0)","v":0},{"$f":"SUM(T957:T969)-IF(T955=\"x\",T961,0)","v":0},{"$f":"SUM(U957:U969)-IF(U955=\"x\",U961,0)","v":0},{"$f":"SUM(V957:V969)-IF(V955=\"x\",V961,0)","v":0},{"$f":"SUM(W957:W969)-IF(W955=\"x\",W961,0)","v":0},{"$f":"SUM(X957:X969)-IF(X955=\"x\",X961,0)","v":0},{"$f":"SUM(Y957:Y969)-IF(Y955=\"x\",Y961,0)","v":0},{"$f":"SUM(Z957:Z969)-IF(Z955=\"x\",Z961,0)","v":0},{"$f":"SUM(AA957:AA969)-IF(AA955=\"x\",AA961,0)","v":0},{"$f":"SUM(AB957:AB969)-IF(AB955=\"x\",AB961,0)","v":0},{"$f":"SUM(AC957:AC969)-IF(AC955=\"x\",AC961,0)","v":0},{"$f":"SUM(AD957:AD969)-IF(AD955=\"x\",AD961,0)","v":0},{"$f":"SUM(AE957:AE969)-IF(AE955=\"x\",AE961,0)","v":0},null,null,"Total"]
[]
[]
[]
[{"$f":"A399","v":"juillet"},{"$f":"$B$824","v":"Solde mois + / -"},null,null,null,{"$f":"F399","v":-168},null,null,null,null,null,null,null,null,null,null,null,null,null,null,null,null,null,null,null,null,null,{"$f":"$AB$824","v":"Absences"},null,null,{"$f":"Labels!B83","v":"Jul"},null,{"$f":"COUNT(B977:AF977)&\" \"&Labels!$B$63","v":"21 Jours"}]
[{"$f":"$A$825","v":"Jour"},{"$f":"B400","v":"2023-07-01"},{"$f":"B975+1","v":"2023-07-02"},"2023-07-03","2023-07-04","2023-07-05","2023-07-06","2023-07-07","2023-07-08","2023-07-09","2023-07-10","2023-07-11","2023-07-12","2023-07-13","2023-07-14","2023-07-15","2023-07-16","2023-07-17","2023-07-18","2023-07-19","2023-07-20","2023-07-21","2023-07-22","2023-07-23","2023-07-24","2023-07-25","2023-07-26","2023-07-27","2023-07-28","2023-07-29","2023-07-30","2023-07-31"]
[{"$f":"$A$826","v":"semaine civile"},{"$f":"IF(B975=\"\",\"\",TRUNC((B975-DATE(YEAR(B975+3-MOD(B975-2,7)),1,MOD(B975-2,7)-9))/7))","v":26},{"$f":"IF(C975=\"\",\"\",TRUNC((C975-DATE(YEAR(C975+3-MOD(C975-2,7)),1,MOD(C975-2,7)-9))/7))","v":26},27,27,27,27,27,27,27,28,28,28,28,28,28,28,29,29,29,29,29,29,29,30,30,30,30,30,30,30,31,{"$f":"SUM(B977:AF977)","v":168}]
[{"$f":"$A$827","v":"Théorique sel. CCT"},{"$f":"B402","v":""},"",8,8,8,8,8,"","",8,8,8,8,8,"","",8,8,8,8,8,"","",8,8,8,8,8,"","",8]
[{"$f":"$A$828","v":"Heures productives"},{"$f":"SUM(B405:B407)","v":0},0,0,0,0,0,0,0,0,0,0,0,0,0,0,0,0,0,0,0,0,0,0,0,0,0,0,0,0,0,0,{"$f":"SUM(B978:AF978)","v":0},"Produktivstunden"]
[{"$f":"$A$829","v":"exclure jour (marque avec un x)"},null,null,null,null,null,null,null,null,null,null,null,null,null,null,null,null,null,null,null,null,null,null,null,null,null,null,null,null,null,null,null,{"$f":"COUNTA(B979:AF979)","v":0},"ausschliessen"]
[{"$f":"$A$830","v":"jour de carence (marque avec un x)"},null,null,null,null,null,null,null,null,null,null,null,null,null,null,null,null,null,null,null,null,null,null,null,null,null,null,null,null,null,null,null,{"$f":"COUNTA(B980:AF980)","v":0},"Karenztage"]
[{"$f":"$A$831","v":"Jours fériés [jf]"},{"$f":"B408","v":""},"","","","","","","","","","","","","","","","","","","","","","","","","","","","","","",{"$f":"COUNTIF(B981:AF981,\"ft\")","v":0},{"$f":"$AH$831","v":"jf"}]
[{"$f":"$A$832","v":"Vacances [va]"},null,null,null,null,null,null,null,null,null,null,null,null,null,null,null,null,null,null,null,null,null,null,null,null,null,null,null,null,null,null,null,{"$f":"SUM(B982:AF982)","v":0},{"$f":"$AH$832","v":"va"}]
[{"$f":"$A$833","v":"Compensation (année passée) [cp]"},null,null,null,null,null,null,null,null,null,null,null,null,null,null,null,null,null,null,null,null,null,null,null,null,null,null,null,null,null,null,null,0,{"$f":"$AH$833","v":"cp"}]
[{"$f":"$A$834","v":"Compensation (année courant) [cc]"},null,null,null,null,null,null,null,null,null,null,null,null,null,null,null,null,null,null,null,null,null,null,null,null,null,null,null,null,null,null,null,0,{"$f":"$AH$834","v":"cc"}]
[{"$f":"$A$835","v":"Absences [ab]"},null,null,null,null,null,null,null,null,null,null,null,null,null,null,null,null,null,null,null,null,null,null,null,null,null,null,null,null,null,null,null,0,{"$f":"$AH$835","v":"ab"}]
[{"$f":"$A$836","v":"Maladie [ma]"},null,null,null,null,null,null,null,null,null,null,null,null,null,null,null,null,null,null,null,null,null,null,null,null,null,null,null,null,null,null,null,0,{"$f":"$AH$836","v":"ma"}]
[{"$f":"$A$837","v":"Accident [ac]"},null,null,null,null,null,null,null,null,null,null,null,null,null,null,null,null,null,null,null,null,null,null,null,null,null,null,null,null,null,null,null,0,{"$f":"$AH$837","v":"ac"}]
[{"$f":"$A$838","v":"Grossesse/Maternité [gm]"},null,null,null,null,null,null,null,null,null,null,null,null,null,null,null,null,null,null,null,null,null,null,null,null,null,null,null,null,null,null,null,0,{"$f":"$AH$838","v":"gm"}]
[{"$f":"$A$839","v":"Militaire/Promotion/Protection civile [mi]"},null,null,null,null,null,null,null,null,null,null,null,null,null,null,null,null,null,null,null,null,null,null,null,null,null,null,null,null,null,null,null,0,{"$f":"$AH$839","v":"mi"}]
[{"$f":"$A$840","v":"Ecole professionelle [ep]"},null,null,null,null,null,null,null,null,null,null,null,null,null,null,null,null,null,null,null,null,null,null,null,null,null,null,null,null,null,null,null,0,{"$f":"$AH$840","v":"ep"}]
[{"$f":"$A$841","v":"Cours [co]"},null,null,null,null,null,null,null,null,null,null,null,null,null,null,null,null,null,null,null,null,null,null,null,null,null,null,null,null,null,null,null,0,{"$f":"$AH$841","v":"co"}]
[{"$f":"$A$842","v":"Chômage partiel et intempéries [ch]"},null,null,null,null,null,null,null,null,null,null,null,null,null,null,null,null,null,null,null,null,null,null,null,null,null,null,null,null,null,null,null,0,{"$f":"$AH$842","v":"ch"}]
[{"$f":"$A$843","v":"Vacances non payées [vn]"},null,null,null,null,null,null,null,null,null,null,null,null,null,null,null,null,null,null,null,null,null,null,null,null,null,null,null,null,null,null,null,0,{"$f":"$AH$843","v":"vn"}]
[{"$f":"$A$844","v":"Heures manquantes [hm]"},null,null,null,null,null,null,null,null,null,null,null,null,null,null,null,null,null,null,null,null,null,null,null,null,null,null,null,null,null,null,null,0,{"$f":"$AH$844","v":"hm"}]
[{"$f":"$A$845","v":"Total"},{"$f":"SUM(B982:B994)-IF(B980=\"x\",B986,0)","v":0},{"$f":"SUM(C982:C994)-IF(C980=\"x\",C986,0)","v":0},{"$f":"SUM(D982:D994)-IF(D980=\"x\",D986,0)","v":0},{"$f":"SUM(E982:E994)-IF(E980=\"x\",E986,0)","v":0},{"$f":"SUM(F982:F994)-IF(F980=\"x\",F986,0)","v":0},{"$f":"SUM(G982:G994)-IF(G980=\"x\",G986,0)","v":0},{"$f":"SUM(H982:H994)-IF(H980=\"x\",H986,0)","v":0},{"$f":"SUM(I982:I994)-IF(I980=\"x\",I986,0)","v":0},{"$f":"SUM(J982:J994)-IF(J980=\"x\",J986,0)","v":0},{"$f":"SUM(K982:K994)-IF(K980=\"x\",K986,0)","v":0},{"$f":"SUM(L982:L994)-IF(L980=\"x\",L986,0)","v":0},{"$f":"SUM(M982:M994)-IF(M980=\"x\",M986,0)","v":0},{"$f":"SUM(N982:N994)-IF(N980=\"x\",N986,0)","v":0},{"$f":"SUM(O982:O994)-IF(O980=\"x\",O986,0)","v":0},{"$f":"SUM(P982:P994)-IF(P980=\"x\",P986,0)","v":0},{"$f":"SUM(Q982:Q994)-IF(Q980=\"x\",Q986,0)","v":0},{"$f":"SUM(R982:R994)-IF(R980=\"x\",R986,0)","v":0},{"$f":"SUM(S982:S994)-IF(S980=\"x\",S986,0)","v":0},{"$f":"SUM(T982:T994)-IF(T980=\"x\",T986,0)","v":0},{"$f":"SUM(U982:U994)-IF(U980=\"x\",U986,0)","v":0},{"$f":"SUM(V982:V994)-IF(V980=\"x\",V986,0)","v":0},{"$f":"SUM(W982:W994)-IF(W980=\"x\",W986,0)","v":0},{"$f":"SUM(X982:X994)-IF(X980=\"x\",X986,0)","v":0},{"$f":"SUM(Y982:Y994)-IF(Y980=\"x\",Y986,0)","v":0},{"$f":"SUM(Z982:Z994)-IF(Z980=\"x\",Z986,0)","v":0},{"$f":"SUM(AA982:AA994)-IF(AA980=\"x\",AA986,0)","v":0},{"$f":"SUM(AB982:AB994)-IF(AB980=\"x\",AB986,0)","v":0},{"$f":"SUM(AC982:AC994)-IF(AC980=\"x\",AC986,0)","v":0},{"$f":"SUM(AD982:AD994)-IF(AD980=\"x\",AD986,0)","v":0},{"$f":"SUM(AE982:AE994)-IF(AE980=\"x\",AE986,0)","v":0},{"$f":"SUM(AF982:AF994)-IF(AF980=\"x\",AF986,0)","v":0},null,"Total"]
[]
[]
[]
[{"$f":"A464","v":"août"},{"$f":"$B$824","v":"Solde mois + / -"},null,null,null,{"$f":"F464","v":-184},null,null,null,null,null,null,null,null,null,null,null,null,null,null,null,null,null,null,null,null,null,{"$f":"$AB$824","v":"Absences"},null,null,{"$f":"Labels!B84","v":"Aoû"},null,{"$f":"COUNT(B1002:AF1002)&\" \"&Labels!$B$63","v":"23 Jours"}]
[{"$f":"$A$825","v":"Jour"},{"$f":"B465","v":"2023-08-01"},{"$f":"B1000+1","v":"2023-08-02"},"2023-08-03","2023-08-04","2023-08-05","2023-08-06","2023-08-07","2023-08-08","2023-08-09","2023-08-10","2023-08-11","2023-08-12","2023-08-13","2023-08-14","2023-08-15","2023-08-16","2023-08-17","2023-08-18","2023-08-19","2023-08-20","2023-08-21","2023-08-22","2023-08-23","2023-08-24","2023-08-25","2023-08-26","2023-08-27","2023-08-28","2023-08-29","2023-08-30","2023-08-31"]
[{"$f":"$A$826","v":"semaine civile"},{"$f":"IF(B1000=\"\",\"\",TRUNC((B1000-DATE(YEAR(B1000+3-MOD(B1000-2,7)),1,MOD(B1000-2,7)-9))/7))","v":31},{"$f":"IF(C1000=\"\",\"\",TRUNC((C1000-DATE(YEAR(C1000+3-MOD(C1000-2,7)),1,MOD(C1000-2,7)-9))/7))","v":31},31,31,31,31,32,32,32,32,32,32,32,33,33,33,33,33,33,33,34,34,34,34,34,34,34,35,35,35,35,{"$f":"SUM(B1002:AF1002)","v":184}]
[{"$f":"$A$827","v":"Théorique sel. CCT"},{"$f":"B467","v":8},8,8,8,"","",8,8,8,8,8,"","",8,8,8,8,8,"","",8,8,8,8,8,"","",8,8,8,8]
[{"$f":"$A$828","v":"Heures productives"},{"$f":"SUM(B470:B472)","v":0},0,0,0,0,0,0,0,0,0,0,0,0,0,0,0,0,0,0,0,0,0,0,0,0,0,0,0,0,0,0,{"$f":"SUM(B1003:AF1003)","v":0},"Produktivstunden"]
[{"$f":"$A$829","v":"exclure jour (marque avec un x)"},null,null,null,null,null,null,null,null,null,null,null,null,null,null,null,null,null,null,null,null,null,null,null,null,null,null,null,null,null,null,null,{"$f":"COUNTA(B1004:AF1004)","v":0},"ausschliessen"]
[{"$f":"$A$830","v":"jour de carence (marque avec un x)"},null,null,null,null,null,null,null,null,null,null,null,null,null,null,null,null,null,null,null,null,null,null,null,null,null,null,null,null,null,null,null,{"$f":"COUNTA(B1005:AF1005)","v":0},"Karenztage"]
[{"$f":"$A$831","v":"Jours fériés [jf]"},{"$f":"B473","v":""},"","","","","","","","","","","","","","","","","","","","","","","","","","","","","","",{"$f":"COUNTIF(B1006:AF1006,\"ft\")","v":0},{"$f":"$AH$831","v":"jf"}]
[{"$f":"$A$832","v":"Vacances [va]"},null,null,null,null,null,null,null,null,null,null,null,null,null,null,null,null,null,null,null,null,null,null,null,null,null,null,null,null,null,null,null,{"$f":"SUM(B1007:AF1007)","v":0},{"$f":"$AH$832","v":"va"}]
[{"$f":"$A$833","v":"Compensation (année passée) [cp]"},null,null,null,null,null,null,null,null,null,null,null,null,null,null,null,null,null,null,null,null,null,null,null,null,null,null,null,null,null,null,null,0,{"$f":"$AH$833","v":"cp"}]
[{"$f":"$A$834","v":"Compensation (année courant) [cc]"},null,null,null,null,null,null,null,null,null,null,null,null,null,null,null,null,null,null,null,null,null,null,null,null,null,null,null,null,null,null,null,0,{"$f":"$AH$834","v":"cc"}]
[{"$f":"$A$835","v":"Absences [ab]"},null,null,null,null,null,null,null,null,null,null,null,null,null,null,null,null,null,null,null,null,null,null,null,null,null,null,null,null,null,null,null,0,{"$f":"$AH$835","v":"ab"}]
[{"$f":"$A$836","v":"Maladie [ma]"},null,null,null,null,null,null,null,null,null,null,null,null,null,null,null,null,null,null,null,null,null,null,null,null,null,null,null,null,null,null,null,0,{"$f":"$AH$836","v":"ma"}]
[{"$f":"$A$837","v":"Accident [ac]"},null,null,null,null,null,null,null,null,null,null,null,null,null,null,null,null,null,null,null,null,null,null,null,null,null,null,null,null,null,null,null,0,{"$f":"$AH$837","v":"ac"}]
[{"$f":"$A$838","v":"Grossesse/Maternité [gm]"},null,null,null,null,null,null,null,null,null,null,null,null,null,null,null,null,null,null,null,null,null,null,null,null,null,null,null,null,null,null,null,0,{"$f":"$AH$838","v":"gm"}]
[{"$f":"$A$839","v":"Militaire/Promotion/Protection civile [mi]"},null,null,null,null,null,null,null,null,null,null,null,null,null,null,null,null,null,null,null,null,null,null,null,null,null,null,null,null,null,null,null,0,{"$f":"$AH$839","v":"mi"}]
[{"$f":"$A$840","v":"Ecole professionelle [ep]"},null,null,null,null,null,null,null,null,null,null,null,null,null,null,null,null,null,null,null,null,null,null,null,null,null,null,null,null,null,null,null,0,{"$f":"$AH$840","v":"ep"}]
[{"$f":"$A$841","v":"Cours [co]"},null,null,null,null,null,null,null,null,null,null,null,null,null,null,null,null,null,null,null,null,null,null,null,null,null,null,null,null,null,null,null,0,{"$f":"$AH$841","v":"co"}]
[{"$f":"$A$842","v":"Chômage partiel et intempéries [ch]"},null,null,null,null,null,null,null,null,null,null,null,null,null,null,null,null,null,null,null,null,null,null,null,null,null,null,null,null,null,null,null,0,{"$f":"$AH$842","v":"ch"}]
[{"$f":"$A$843","v":"Vacances non payées [vn]"},null,null,null,null,null,null,null,null,null,null,null,null,null,null,null,null,null,null,null,null,null,null,null,null,null,null,null,null,null,null,null,0,{"$f":"$AH$843","v":"vn"}]
[{"$f":"$A$844","v":"Heures manquantes [hm]"},null,null,null,null,null,null,null,null,null,null,null,null,null,null,null,null,null,null,null,null,null,null,null,null,null,null,null,null,null,null,null,0,{"$f":"$AH$844","v":"hm"}]
[{"$f":"$A$845","v":"Total"},{"$f":"SUM(B1007:B1019)-IF(B1005=\"x\",B1011,0)","v":0},{"$f":"SUM(C1007:C1019)-IF(C1005=\"x\",C1011,0)","v":0},{"$f":"SUM(D1007:D1019)-IF(D1005=\"x\",D1011,0)","v":0},{"$f":"SUM(E1007:E1019)-IF(E1005=\"x\",E1011,0)","v":0},{"$f":"SUM(F1007:F1019)-IF(F1005=\"x\",F1011,0)","v":0},{"$f":"SUM(G1007:G1019)-IF(G1005=\"x\",G1011,0)","v":0},{"$f":"SUM(H1007:H1019)-IF(H1005=\"x\",H1011,0)","v":0},{"$f":"SUM(I1007:I1019)-IF(I1005=\"x\",I1011,0)","v":0},{"$f":"SUM(J1007:J1019)-IF(J1005=\"x\",J1011,0)","v":0},{"$f":"SUM(K1007:K1019)-IF(K1005=\"x\",K1011,0)","v":0},{"$f":"SUM(L1007:L1019)-IF(L1005=\"x\",L1011,0)","v":0},{"$f":"SUM(M1007:M1019)-IF(M1005=\"x\",M1011,0)","v":0},{"$f":"SUM(N1007:N1019)-IF(N1005=\"x\",N1011,0)","v":0},{"$f":"SUM(O1007:O1019)-IF(O1005=\"x\",O1011,0)","v":0},{"$f":"SUM(P1007:P1019)-IF(P1005=\"x\",P1011,0)","v":0},{"$f":"SUM(Q1007:Q1019)-IF(Q1005=\"x\",Q1011,0)","v":0},{"$f":"SUM(R1007:R1019)-IF(R1005=\"x\",R1011,0)","v":0},{"$f":"SUM(S1007:S1019)-IF(S1005=\"x\",S1011,0)","v":0},{"$f":"SUM(T1007:T1019)-IF(T1005=\"x\",T1011,0)","v":0},{"$f":"SUM(U1007:U1019)-IF(U1005=\"x\",U1011,0)","v":0},{"$f":"SUM(V1007:V1019)-IF(V1005=\"x\",V1011,0)","v":0},{"$f":"SUM(W1007:W1019)-IF(W1005=\"x\",W1011,0)","v":0},{"$f":"SUM(X1007:X1019)-IF(X1005=\"x\",X1011,0)","v":0},{"$f":"SUM(Y1007:Y1019)-IF(Y1005=\"x\",Y1011,0)","v":0},{"$f":"SUM(Z1007:Z1019)-IF(Z1005=\"x\",Z1011,0)","v":0},{"$f":"SUM(AA1007:AA1019)-IF(AA1005=\"x\",AA1011,0)","v":0},{"$f":"SUM(AB1007:AB1019)-IF(AB1005=\"x\",AB1011,0)","v":0},{"$f":"SUM(AC1007:AC1019)-IF(AC1005=\"x\",AC1011,0)","v":0},{"$f":"SUM(AD1007:AD1019)-IF(AD1005=\"x\",AD1011,0)","v":0},{"$f":"SUM(AE1007:AE1019)-IF(AE1005=\"x\",AE1011,0)","v":0},0,null,"Total"]
[]
[]
[]
[{"$f":"A529","v":"septembre"},{"$f":"$B$824","v":"Solde mois + / -"},null,null,null,{"$f":"F529","v":-168},null,null,null,null,null,null,null,null,null,null,null,null,null,null,null,null,null,null,null,null,null,{"$f":"$AB$824","v":"Absences"},null,null,{"$f":"Labels!B85","v":"Sep"},null,{"$f":"COUNT(B1027:AF1027)&\" \"&Labels!$B$63","v":"21 Jours"}]
[{"$f":"$A$825","v":"Jour"},{"$f":"B530","v":"2023-09-01"},{"$f":"B1025+1","v":"2023-09-02"},"2023-09-03","2023-09-04","2023-09-05","2023-09-06","2023-09-07","2023-09-08","2023-09-09","2023-09-10","2023-09-11","2023-09-12","2023-09-13","2023-09-14","2023-09-15","2023-09-16","2023-09-17","2023-09-18","2023-09-19","2023-09-20","2023-09-21","2023-09-22","2023-09-23","2023-09-24","2023-09-25","2023-09-26","2023-09-27","2023-09-28","2023-09-29","2023-09-30"]
[{"$f":"$A$826","v":"semaine civile"},{"$f":"IF(B1025=\"\",\"\",TRUNC((B1025-DATE(YEAR(B1025+3-MOD(B1025-2,7)),1,MOD(B1025-2,7)-9))/7))","v":35},{"$f":"IF(C1025=\"\",\"\",TRUNC((C1025-DATE(YEAR(C1025+3-MOD(C1025-2,7)),1,MOD(C1025-2,7)-9))/7))","v":35},35,36,36,36,36,36,36,36,37,37,37,37,37,37,37,38,38,38,38,38,38,38,39,39,39,39,39,39,null,{"$f":"SUM(B1027:AF1027)","v":168}]
[{"$f":"$A$827","v":"Théorique sel. CCT"},{"$f":"B532","v":8},"","",8,8,8,8,8,"","",8,8,8,8,8,"","",8,8,8,8,8,"","",8,8,8,8,8,""]
[{"$f":"$A$828","v":"Heures productives"},{"$f":"SUM(B535:B537)","v":0},0,0,0,0,0,0,0,0,0,0,0,0,0,0,0,0,0,0,0,0,0,0,0,0,0,0,0,0,0,null,{"$f":"SUM(B1028:AF1028)","v":0},"Produktivstunden"]
[{"$f":"$A$829","v":"exclure jour (marque avec un x)"},null,null,null,null,null,null,null,null,null,null,null,null,null,null,null,null,null,null,null,null,null,null,null,null,null,null,null,null,null,null,null,{"$f":"COUNTA(B1029:AF1029)","v":0},"ausschliessen"]
[{"$f":"$A$830","v":"jour de carence (marque avec un x)"},null,null,null,null,null,null,null,null,null,null,null,null,null,null,null,null,null,null,null,null,null,null,null,null,null,null,null,null,null,null,null,{"$f":"COUNTA(B1030:AF1030)","v":0},"Karenztage"]
[{"$f":"$A$831","v":"Jours fériés [jf]"},{"$f":"B538","v":""},"","","","","","","","","","","","","","","","","","","","","","","","","","","","","",null,{"$f":"COUNTIF(B1031:AF1031,\"ft\")","v":0},{"$f":"$AH$831","v":"jf"}]
[{"$f":"$A$832","v":"Vacances [va]"},null,null,null,null,null,null,null,null,null,null,null,null,null,null,null,null,null,null,null,null,null,null,null,null,null,null,null,null,null,null,null,{"$f":"SUM(B1032:AF1032)","v":0},{"$f":"$AH$832","v":"va"}]
[{"$f":"$A$833","v":"Compensation (année passée) [cp]"},null,null,null,null,null,null,null,null,null,null,null,null,null,null,null,null,null,null,null,null,null,null,null,null,null,null,null,null,null,null,null,0,{"$f":"$AH$833","v":"cp"}]
[{"$f":"$A$834","v":"Compensation (année courant) [cc]"},null,null,null,null,null,null,null,null,null,null,null,null,null,null,null,null,null,null,null,null,null,null,null,null,null,null,null,null,null,null,null,0,{"$f":"$AH$834","v":"cc"}]
[{"$f":"$A$835","v":"Absences [ab]"},null,null,null,null,null,null,null,null,null,null,null,null,null,null,null,null,null,null,null,null,null,null,null,null,null,null,null,null,null,null,null,0,{"$f":"$AH$835","v":"ab"}]
[{"$f":"$A$836","v":"Maladie [ma]"},null,null,null,null,null,null,null,null,null,null,null,null,null,null,null,null,null,null,null,null,null,null,null,null,null,null,null,null,null,null,null,0,{"$f":"$AH$836","v":"ma"}]
[{"$f":"$A$837","v":"Accident [ac]"},null,null,null,null,null,null,null,null,null,null,null,null,null,null,null,null,null,null,null,null,null,null,null,null,null,null,null,null,null,null,null,0,{"$f":"$AH$837","v":"ac"}]
[{"$f":"$A$838","v":"Grossesse/Maternité [gm]"},null,null,null,null,null,null,null,null,null,null,null,null,null,null,null,null,null,null,null,null,null,null,null,null,null,null,null,null,null,null,null,0,{"$f":"$AH$838","v":"gm"}]
[{"$f":"$A$839","v":"Militaire/Promotion/Protection civile [mi]"},null,null,null,null,null,null,null,null,null,null,null,null,null,null,null,null,null,null,null,null,null,null,null,null,null,null,null,null,null,null,null,0,{"$f":"$AH$839","v":"mi"}]
[{"$f":"$A$840","v":"Ecole professionelle [ep]"},null,null,null,null,null,null,null,null,null,null,null,null,null,null,null,null,null,null,null,null,null,null,null,null,null,null,null,null,null,null,null,0,{"$f":"$AH$840","v":"ep"}]
[{"$f":"$A$841","v":"Cours [co]"},null,null,null,null,null,null,null,null,null,null,null,null,null,null,null,null,null,null,null,null,null,null,null,null,null,null,null,null,null,null,null,0,{"$f":"$AH$841","v":"co"}]
[{"$f":"$A$842","v":"Chômage partiel et intempéries [ch]"},null,null,null,null,null,null,null,null,null,null,null,null,null,null,null,null,null,null,null,null,null,null,null,null,null,null,null,null,null,null,null,0,{"$f":"$AH$842","v":"ch"}]
[{"$f":"$A$843","v":"Vacances non payées [vn]"},null,null,null,null,null,null,null,null,null,null,null,null,null,null,null,null,null,null,null,null,null,null,null,null,null,null,null,null,null,null,null,0,{"$f":"$AH$843","v":"vn"}]
[{"$f":"$A$844","v":"Heures manquantes [hm]"},null,null,null,null,null,null,null,null,null,null,null,null,null,null,null,null,null,null,null,null,null,null,null,null,null,null,null,null,null,null,null,0,{"$f":"$AH$844","v":"hm"}]
[{"$f":"$A$845","v":"Total"},{"$f":"SUM(B1032:B1044)-IF(B1030=\"x\",B1036,0)","v":0},{"$f":"SUM(C1032:C1044)-IF(C1030=\"x\",C1036,0)","v":0},{"$f":"SUM(D1032:D1044)-IF(D1030=\"x\",D1036,0)","v":0},{"$f":"SUM(E1032:E1044)-IF(E1030=\"x\",E1036,0)","v":0},{"$f":"SUM(F1032:F1044)-IF(F1030=\"x\",F1036,0)","v":0},{"$f":"SUM(G1032:G1044)-IF(G1030=\"x\",G1036,0)","v":0},{"$f":"SUM(H1032:H1044)-IF(H1030=\"x\",H1036,0)","v":0},{"$f":"SUM(I1032:I1044)-IF(I1030=\"x\",I1036,0)","v":0},{"$f":"SUM(J1032:J1044)-IF(J1030=\"x\",J1036,0)","v":0},{"$f":"SUM(K1032:K1044)-IF(K1030=\"x\",K1036,0)","v":0},{"$f":"SUM(L1032:L1044)-IF(L1030=\"x\",L1036,0)","v":0},{"$f":"SUM(M1032:M1044)-IF(M1030=\"x\",M1036,0)","v":0},{"$f":"SUM(N1032:N1044)-IF(N1030=\"x\",N1036,0)","v":0},{"$f":"SUM(O1032:O1044)-IF(O1030=\"x\",O1036,0)","v":0},{"$f":"SUM(P1032:P1044)-IF(P1030=\"x\",P1036,0)","v":0},{"$f":"SUM(Q1032:Q1044)-IF(Q1030=\"x\",Q1036,0)","v":0},{"$f":"SUM(R1032:R1044)-IF(R1030=\"x\",R1036,0)","v":0},{"$f":"SUM(S1032:S1044)-IF(S1030=\"x\",S1036,0)","v":0},{"$f":"SUM(T1032:T1044)-IF(T1030=\"x\",T1036,0)","v":0},{"$f":"SUM(U1032:U1044)-IF(U1030=\"x\",U1036,0)","v":0},{"$f":"SUM(V1032:V1044)-IF(V1030=\"x\",V1036,0)","v":0},{"$f":"SUM(W1032:W1044)-IF(W1030=\"x\",W1036,0)","v":0},{"$f":"SUM(X1032:X1044)-IF(X1030=\"x\",X1036,0)","v":0},{"$f":"SUM(Y1032:Y1044)-IF(Y1030=\"x\",Y1036,0)","v":0},{"$f":"SUM(Z1032:Z1044)-IF(Z1030=\"x\",Z1036,0)","v":0},{"$f":"SUM(AA1032:AA1044)-IF(AA1030=\"x\",AA1036,0)","v":0},{"$f":"SUM(AB1032:AB1044)-IF(AB1030=\"x\",AB1036,0)","v":0},{"$f":"SUM(AC1032:AC1044)-IF(AC1030=\"x\",AC1036,0)","v":0},{"$f":"SUM(AD1032:AD1044)-IF(AD1030=\"x\",AD1036,0)","v":0},{"$f":"SUM(AE1032:AE1044)-IF(AE1030=\"x\",AE1036,0)","v":0},null,null,"Total"]
[]
[]
[]
[{"$f":"A594","v":"octobre"},{"$f":"$B$824","v":"Solde mois + / -"},null,null,null,{"$f":"F594","v":-176},null,null,null,null,null,null,null,null,null,null,null,null,null,null,null,null,null,null,null,null,null,{"$f":"$AB$824","v":"Absences"},null,null,{"$f":"Labels!B86","v":"Oct"},null,{"$f":"COUNT(B1052:AF1052)&\" \"&Labels!$B$63","v":"22 Jours"}]
[{"$f":"$A$825","v":"Jour"},{"$f":"B595","v":"2023-10-01"},{"$f":"B1050+1","v":"2023-10-02"},"2023-10-03","2023-10-04","2023-10-05","2023-10-06","2023-10-07","2023-10-08","2023-10-09","2023-10-10","2023-10-11","2023-10-12","2023-10-13","2023-10-14","2023-10-15","2023-10-16","2023-10-17","2023-10-18","2023-10-19","2023-10-20","2023-10-21","2023-10-22","2023-10-23","2023-10-24","2023-10-25","2023-10-26","2023-10-27","2023-10-28","2023-10-29","2023-10-30","2023-10-31"]
[{"$f":"$A$826","v":"semaine civile"},{"$f":"IF(B1050=\"\",\"\",TRUNC((B1050-DATE(YEAR(B1050+3-MOD(B1050-2,7)),1,MOD(B1050-2,7)-9))/7))","v":39},{"$f":"IF(C1050=\"\",\"\",TRUNC((C1050-DATE(YEAR(C1050+3-MOD(C1050-2,7)),1,MOD(C1050-2,7)-9))/7))","v":40},40,40,40,40,40,40,41,41,41,41,41,41,41,42,42,42,42,42,42,42,43,43,43,43,43,43,43,44,44,{"$f":"SUM(B1052:AF1052)","v":176}]
[{"$f":"$A$827","v":"Théorique sel. CCT"},{"$f":"B597","v":""},8,8,8,8,8,"","",8,8,8,8,8,"","",8,8,8,8,8,"","",8,8,8,8,8,"","",8,8]
[{"$f":"$A$828","v":"Heures productives"},{"$f":"SUM(B600:B602)","v":0},0,0,0,0,0,0,0,0,0,0,0,0,0,0,0,0,0,0,0,0,0,0,0,0,0,0,0,0,0,0,{"$f":"SUM(B1053:AF1053)","v":0},"Produktivstunden"]
[{"$f":"$A$829","v":"exclure jour (marque avec un x)"},null,null,null,null,null,null,null,null,null,null,null,null,null,null,null,null,null,null,null,null,null,null,null,null,null,null,null,null,null,null,null,{"$f":"COUNTA(B1054:AF1054)","v":0},"ausschliessen"]
[{"$f":"$A$830","v":"jour de carence (marque avec un x)"},null,null,null,null,null,null,null,null,null,null,null,null,null,null,null,null,null,null,null,null,null,null,null,null,null,null,null,null,null,null,null,{"$f":"COUNTA(B1055:AF1055)","v":0},"Karenztage"]
[{"$f":"$A$831","v":"Jours fériés [jf]"},{"$f":"B603","v":""},"","","","","","","","","","","","","","","","","","","","","","","","","","","","","","",{"$f":"COUNTIF(B1056:AF1056,\"ft\")","v":0},{"$f":"$AH$831","v":"jf"}]
[{"$f":"$A$832","v":"Vacances [va]"},null,null,null,null,null,null,null,null,null,null,null,null,null,null,null,null,null,null,null,null,null,null,null,null,null,null,null,null,null,null,null,{"$f":"SUM(B1057:AF1057)","v":0},{"$f":"$AH$832","v":"va"}]
[{"$f":"$A$833","v":"Compensation (année passée) [cp]"},null,null,null,null,null,null,null,null,null,null,null,null,null,null,null,null,null,null,null,null,null,null,null,null,null,null,null,null,null,null,null,0,{"$f":"$AH$833","v":"cp"}]
[{"$f":"$A$834","v":"Compensation (année courant) [cc]"},null,null,null,null,null,null,null,null,null,null,null,null,null,null,null,null,null,null,null,null,null,null,null,null,null,null,null,null,null,null,null,0,{"$f":"$AH$834","v":"cc"}]
[{"$f":"$A$835","v":"Absences [ab]"},null,null,null,null,null,null,null,null,null,null,null,null,null,null,null,null,null,null,null,null,null,null,null,null,null,null,null,null,null,null,null,0,{"$f":"$AH$835","v":"ab"}]
[{"$f":"$A$836","v":"Maladie [ma]"},null,null,null,null,null,null,null,null,null,null,null,null,null,null,null,null,null,null,null,null,null,null,null,null,null,null,null,null,null,null,null,0,{"$f":"$AH$836","v":"ma"}]
[{"$f":"$A$837","v":"Accident [ac]"},null,null,null,null,null,null,null,null,null,null,null,null,null,null,null,null,null,null,null,null,null,null,null,null,null,null,null,null,null,null,null,0,{"$f":"$AH$837","v":"ac"}]
[{"$f":"$A$838","v":"Grossesse/Maternité [gm]"},null,null,null,null,null,null,null,null,null,null,null,null,null,null,null,null,null,null,null,null,null,null,null,null,null,null,null,null,null,null,null,0,{"$f":"$AH$838","v":"gm"}]
[{"$f":"$A$839","v":"Militaire/Promotion/Protection civile [mi]"},null,null,null,null,null,null,null,null,null,null,null,null,null,null,null,null,null,null,null,null,null,null,null,null,null,null,null,null,null,null,null,0,{"$f":"$AH$839","v":"mi"}]
[{"$f":"$A$840","v":"Ecole professionelle [ep]"},null,null,null,null,null,null,null,null,null,null,null,null,null,null,null,null,null,null,null,null,null,null,null,null,null,null,null,null,null,null,null,0,{"$f":"$AH$840","v":"ep"}]
[{"$f":"$A$841","v":"Cours [co]"},null,null,null,null,null,null,null,null,null,null,null,null,null,null,null,null,null,null,null,null,null,null,null,null,null,null,null,null,null,null,null,0,{"$f":"$AH$841","v":"co"}]
[{"$f":"$A$842","v":"Chômage partiel et intempéries [ch]"},null,null,null,null,null,null,null,null,null,null,null,null,null,null,null,null,null,null,null,null,null,null,null,null,null,null,null,null,null,null,null,0,{"$f":"$AH$842","v":"ch"}]
[{"$f":"$A$843","v":"Vacances non payées [vn]"},null,null,null,null,null,null,null,null,null,null,null,null,null,null,null,null,null,null,null,null,null,null,null,null,null,null,null,null,null,null,null,0,{"$f":"$AH$843","v":"vn"}]
[{"$f":"$A$844","v":"Heures manquantes [hm]"},null,null,null,null,null,null,null,null,null,null,null,null,null,null,null,null,null,null,null,null,null,null,null,null,null,null,null,null,null,null,null,0,{"$f":"$AH$844","v":"hm"}]
[{"$f":"$A$845","v":"Total"},{"$f":"SUM(B1057:B1069)-IF(B1055=\"x\",B1061,0)","v":0},{"$f":"SUM(C1057:C1069)-IF(C1055=\"x\",C1061,0)","v":0},{"$f":"SUM(D1057:D1069)-IF(D1055=\"x\",D1061,0)","v":0},{"$f":"SUM(E1057:E1069)-IF(E1055=\"x\",E1061,0)","v":0},{"$f":"SUM(F1057:F1069)-IF(F1055=\"x\",F1061,0)","v":0},{"$f":"SUM(G1057:G1069)-IF(G1055=\"x\",G1061,0)","v":0},{"$f":"SUM(H1057:H1069)-IF(H1055=\"x\",H1061,0)","v":0},{"$f":"SUM(I1057:I1069)-IF(I1055=\"x\",I1061,0)","v":0},{"$f":"SUM(J1057:J1069)-IF(J1055=\"x\",J1061,0)","v":0},{"$f":"SUM(K1057:K1069)-IF(K1055=\"x\",K1061,0)","v":0},{"$f":"SUM(L1057:L1069)-IF(L1055=\"x\",L1061,0)","v":0},{"$f":"SUM(M1057:M1069)-IF(M1055=\"x\",M1061,0)","v":0},{"$f":"SUM(N1057:N1069)-IF(N1055=\"x\",N1061,0)","v":0},{"$f":"SUM(O1057:O1069)-IF(O1055=\"x\",O1061,0)","v":0},{"$f":"SUM(P1057:P1069)-IF(P1055=\"x\",P1061,0)","v":0},{"$f":"SUM(Q1057:Q1069)-IF(Q1055=\"x\",Q1061,0)","v":0},{"$f":"SUM(R1057:R1069)-IF(R1055=\"x\",R1061,0)","v":0},{"$f":"SUM(S1057:S1069)-IF(S1055=\"x\",S1061,0)","v":0},{"$f":"SUM(T1057:T1069)-IF(T1055=\"x\",T1061,0)","v":0},{"$f":"SUM(U1057:U1069)-IF(U1055=\"x\",U1061,0)","v":0},{"$f":"SUM(V1057:V1069)-IF(V1055=\"x\",V1061,0)","v":0},{"$f":"SUM(W1057:W1069)-IF(W1055=\"x\",W1061,0)","v":0},{"$f":"SUM(X1057:X1069)-IF(X1055=\"x\",X1061,0)","v":0},{"$f":"SUM(Y1057:Y1069)-IF(Y1055=\"x\",Y1061,0)","v":0},{"$f":"SUM(Z1057:Z1069)-IF(Z1055=\"x\",Z1061,0)","v":0},{"$f":"SUM(AA1057:AA1069)-IF(AA1055=\"x\",AA1061,0)","v":0},{"$f":"SUM(AB1057:AB1069)-IF(AB1055=\"x\",AB1061,0)","v":0},{"$f":"SUM(AC1057:AC1069)-IF(AC1055=\"x\",AC1061,0)","v":0},{"$f":"SUM(AD1057:AD1069)-IF(AD1055=\"x\",AD1061,0)","v":0},{"$f":"SUM(AE1057:AE1069)-IF(AE1055=\"x\",AE1061,0)","v":0},{"$f":"SUM(AF1057:AF1069)-IF(AF1055=\"x\",AF1061,0)","v":0},null,"Total"]
[]
[]
[]
[{"$f":"A659","v":"novembre"},{"$f":"$B$824","v":"Solde mois + / -"},null,null,null,{"$f":"F659","v":-176},null,null,null,null,null,null,null,null,null,null,null,null,null,null,null,null,null,null,null,null,null,{"$f":"$AB$824","v":"Absences"},null,null,{"$f":"Labels!B87","v":"Nov"},null,{"$f":"COUNT(B1077:AF1077)&\" \"&Labels!$B$63","v":"22 Jours"}]
[{"$f":"$A$825","v":"Jour"},{"$f":"B660","v":"2023-11-01"},{"$f":"B1075+1","v":"2023-11-02"},"2023-11-03","2023-11-04","2023-11-05","2023-11-06","2023-11-07","2023-11-08","2023-11-09","2023-11-10","2023-11-11","2023-11-12","2023-11-13","2023-11-14","2023-11-15","2023-11-16","2023-11-17","2023-11-18","2023-11-19","2023-11-20","2023-11-21","2023-11-22","2023-11-23","2023-11-24","2023-11-25","2023-11-26","2023-11-27","2023-11-28","2023-11-29","2023-11-30"]
[{"$f":"$A$826","v":"semaine civile"},{"$f":"IF(B1075=\"\",\"\",TRUNC((B1075-DATE(YEAR(B1075+3-MOD(B1075-2,7)),1,MOD(B1075-2,7)-9))/7))","v":44},{"$f":"IF(C1075=\"\",\"\",TRUNC((C1075-DATE(YEAR(C1075+3-MOD(C1075-2,7)),1,MOD(C1075-2,7)-9))/7))","v":44},44,44,44,45,45,45,45,45,45,45,46,46,46,46,46,46,46,47,47,47,47,47,47,47,48,48,48,48,null,{"$f":"SUM(B1077:AF1077)","v":176}]
[{"$f":"$A$827","v":"Théorique sel. CCT"},{"$f":"B662","v":8},8,8,"","",8,8,8,8,8,"","",8,8,8,8,8,"","",8,8,8,8,8,"","",8,8,8,8]
[{"$f":"$A$828","v":"Heures productives"},{"$f":"SUM(B665:B667)","v":0},0,0,0,0,0,0,0,0,0,0,0,0,0,0,0,0,0,0,0,0,0,0,0,0,0,0,0,0,0,null,{"$f":"SUM(B1078:AF1078)","v":0},"Produktivstunden"]
[{"$f":"$A$829","v":"exclure jour (marque avec un x)"},null,null,null,null,null,null,null,null,null,null,null,null,null,null,null,null,null,null,null,null,null,null,null,null,null,null,null,null,null,null,null,{"$f":"COUNTA(B1079:AF1079)","v":0},"ausschliessen"]
[{"$f":"$A$830","v":"jour de carence (marque avec un x)"},null,null,null,null,null,null,null,null,null,null,null,null,null,null,null,null,null,null,null,null,null,null,null,null,null,null,null,null,null,null,null,{"$f":"COUNTA(B1080:AF1080)","v":0},"Karenztage"]
[{"$f":"$A$831","v":"Jours fériés [jf]"},{"$f":"B668","v":""},"","","","","","","","","","","","","","","","","","","","","","","","","","","","","",null,{"$f":"COUNTIF(B1081:AF1081,\"ft\")","v":0},{"$f":"$AH$831","v":"jf"}]
[{"$f":"$A$832","v":"Vacances [va]"},null,null,null,null,null,null,null,null,null,null,null,null,null,null,null,null,null,null,null,null,null,null,null,null,null,null,null,null,null,null,null,{"$f":"SUM(B1082:AF1082)","v":0},{"$f":"$AH$832","v":"va"}]
[{"$f":"$A$833","v":"Compensation (année passée) [cp]"},null,null,null,null,null,null,null,null,null,null,null,null,null,null,null,null,null,null,null,null,null,null,null,null,null,null,null,null,null,null,null,0,{"$f":"$AH$833","v":"cp"}]
[{"$f":"$A$834","v":"Compensation (année courant) [cc]"},null,null,null,null,null,null,null,null,null,null,null,null,null,null,null,null,null,null,null,null,null,null,null,null,null,null,null,null,null,null,null,0,{"$f":"$AH$834","v":"cc"}]
[{"$f":"$A$835","v":"Absences [ab]"},null,null,null,null,null,null,null,null,null,null,null,null,null,null,null,null,null,null,null,null,null,null,null,null,null,null,null,null,null,null,null,0,{"$f":"$AH$835","v":"ab"}]
[{"$f":"$A$836","v":"Maladie [ma]"},null,null,null,null,null,null,null,null,null,null,null,null,null,null,null,null,null,null,null,null,null,null,null,null,null,null,null,null,null,null,null,0,{"$f":"$AH$836","v":"ma"}]
[{"$f":"$A$837","v":"Accident [ac]"},null,null,null,null,null,null,null,null,null,null,null,null,null,null,null,null,null,null,null,null,null,null,null,null,null,null,null,null,null,null,null,0,{"$f":"$AH$837","v":"ac"}]
[{"$f":"$A$838","v":"Grossesse/Maternité [gm]"},null,null,null,null,null,null,null,null,null,null,null,null,null,null,null,null,null,null,null,null,null,null,null,null,null,null,null,null,null,null,null,0,{"$f":"$AH$838","v":"gm"}]
[{"$f":"$A$839","v":"Militaire/Promotion/Protection civile [mi]"},null,null,null,null,null,null,null,null,null,null,null,null,null,null,null,null,null,null,null,null,null,null,null,null,null,null,null,null,null,null,null,0,{"$f":"$AH$839","v":"mi"}]
[{"$f":"$A$840","v":"Ecole professionelle [ep]"},null,null,null,null,null,null,null,null,null,null,null,null,null,null,null,null,null,null,null,null,null,null,null,null,null,null,null,null,null,null,null,0,{"$f":"$AH$840","v":"ep"}]
[{"$f":"$A$841","v":"Cours [co]"},null,null,null,null,null,null,null,null,null,null,null,null,null,null,null,null,null,null,null,null,null,null,null,null,null,null,null,null,null,null,null,0,{"$f":"$AH$841","v":"co"}]
[{"$f":"$A$842","v":"Chômage partiel et intempéries [ch]"},null,null,null,null,null,null,null,null,null,null,null,null,null,null,null,null,null,null,null,null,null,null,null,null,null,null,null,null,null,null,null,0,{"$f":"$AH$842","v":"ch"}]
[{"$f":"$A$843","v":"Vacances non payées [vn]"},null,null,null,null,null,null,null,null,null,null,null,null,null,null,null,null,null,null,null,null,null,null,null,null,null,null,null,null,null,null,null,0,{"$f":"$AH$843","v":"vn"}]
[{"$f":"$A$844","v":"Heures manquantes [hm]"},null,null,null,null,null,null,null,null,null,null,null,null,null,null,null,null,null,null,null,null,null,null,null,null,null,null,null,null,null,null,null,0,{"$f":"$AH$844","v":"hm"}]
[{"$f":"$A$845","v":"Total"},{"$f":"SUM(B1082:B1094)-IF(B1080=\"x\",B1086,0)","v":0},{"$f":"SUM(C1082:C1094)-IF(C1080=\"x\",C1086,0)","v":0},{"$f":"SUM(D1082:D1094)-IF(D1080=\"x\",D1086,0)","v":0},{"$f":"SUM(E1082:E1094)-IF(E1080=\"x\",E1086,0)","v":0},{"$f":"SUM(F1082:F1094)-IF(F1080=\"x\",F1086,0)","v":0},{"$f":"SUM(G1082:G1094)-IF(G1080=\"x\",G1086,0)","v":0},{"$f":"SUM(H1082:H1094)-IF(H1080=\"x\",H1086,0)","v":0},{"$f":"SUM(I1082:I1094)-IF(I1080=\"x\",I1086,0)","v":0},{"$f":"SUM(J1082:J1094)-IF(J1080=\"x\",J1086,0)","v":0},{"$f":"SUM(K1082:K1094)-IF(K1080=\"x\",K1086,0)","v":0},{"$f":"SUM(L1082:L1094)-IF(L1080=\"x\",L1086,0)","v":0},{"$f":"SUM(M1082:M1094)-IF(M1080=\"x\",M1086,0)","v":0},{"$f":"SUM(N1082:N1094)-IF(N1080=\"x\",N1086,0)","v":0},{"$f":"SUM(O1082:O1094)-IF(O1080=\"x\",O1086,0)","v":0},{"$f":"SUM(P1082:P1094)-IF(P1080=\"x\",P1086,0)","v":0},{"$f":"SUM(Q1082:Q1094)-IF(Q1080=\"x\",Q1086,0)","v":0},{"$f":"SUM(R1082:R1094)-IF(R1080=\"x\",R1086,0)","v":0},{"$f":"SUM(S1082:S1094)-IF(S1080=\"x\",S1086,0)","v":0},{"$f":"SUM(T1082:T1094)-IF(T1080=\"x\",T1086,0)","v":0},{"$f":"SUM(U1082:U1094)-IF(U1080=\"x\",U1086,0)","v":0},{"$f":"SUM(V1082:V1094)-IF(V1080=\"x\",V1086,0)","v":0},{"$f":"SUM(W1082:W1094)-IF(W1080=\"x\",W1086,0)","v":0},{"$f":"SUM(X1082:X1094)-IF(X1080=\"x\",X1086,0)","v":0},{"$f":"SUM(Y1082:Y1094)-IF(Y1080=\"x\",Y1086,0)","v":0},{"$f":"SUM(Z1082:Z1094)-IF(Z1080=\"x\",Z1086,0)","v":0},{"$f":"SUM(AA1082:AA1094)-IF(AA1080=\"x\",AA1086,0)","v":0},{"$f":"SUM(AB1082:AB1094)-IF(AB1080=\"x\",AB1086,0)","v":0},{"$f":"SUM(AC1082:AC1094)-IF(AC1080=\"x\",AC1086,0)","v":0},{"$f":"SUM(AD1082:AD1094)-IF(AD1080=\"x\",AD1086,0)","v":0},{"$f":"SUM(AE1082:AE1094)-IF(AE1080=\"x\",AE1086,0)","v":0},null,null,"Total"]
[]
[]
[]
[{"$f":"A724","v":"décembre"},{"$f":"$B$824","v":"Solde mois + / -"},null,null,null,{"$f":"F724","v":-168},null,null,null,null,null,null,null,null,null,null,null,null,null,null,null,null,null,null,null,null,null,{"$f":"$AB$824","v":"Absences"},null,null,{"$f":"Labels!B88","v":"Déc"},null,{"$f":"COUNT(B1102:AF1102)&\" \"&Labels!$B$63","v":"21 Jours"}]
[{"$f":"$A$825","v":"Jour"},{"$f":"B725","v":"2023-12-01"},{"$f":"B1100+1","v":"2023-12-02"},"2023-12-03","2023-12-04","2023-12-05","2023-12-06","2023-12-07","2023-12-08","2023-12-09","2023-12-10","2023-12-11","2023-12-12","2023-12-13","2023-12-14","2023-12-15","2023-12-16","2023-12-17","2023-12-18","2023-12-19","2023-12-20","2023-12-21","2023-12-22","2023-12-23","2023-12-24","2023-12-25","2023-12-26","2023-12-27","2023-12-28","2023-12-29","2023-12-30","2023-12-31"]
[{"$f":"$A$826","v":"semaine civile"},{"$f":"IF(B1100=\"\",\"\",TRUNC((B1100-DATE(YEAR(B1100+3-MOD(B1100-2,7)),1,MOD(B1100-2,7)-9))/7))","v":48},{"$f":"IF(C1100=\"\",\"\",TRUNC((C1100-DATE(YEAR(C1100+3-MOD(C1100-2,7)),1,MOD(C1100-2,7)-9))/7))","v":48},48,49,49,49,49,49,49,49,50,50,50,50,50,50,50,51,51,51,51,51,51,51,52,52,52,52,52,52,52,{"$f":"SUM(B1102:AF1102)","v":168}]
[{"$f":"$A$827","v":"Théorique sel. CCT"},{"$f":"B727","v":8},"","",8,8,8,8,8,"","",8,8,8,8,8,"","",8,8,8,8,8,"","",8,8,8,8,8,"",""]
[{"$f":"$A$828","v":"Heures productives"},{"$f":"SUM(B730:B732)","v":0},0,0,0,0,0,0,0,0,0,0,0,0,0,0,0,0,0,0,0,0,0,0,0,0,0,0,0,0,0,0,{"$f":"SUM(B1103:AF1103)","v":0},"Produktivstunden"]
[{"$f":"$A$829","v":"exclure jour (marque avec un x)"},null,null,null,null,null,null,null,null,null,null,null,null,null,null,null,null,null,null,null,null,null,null,null,null,null,null,null,null,null,null,null,{"$f":"COUNTA(B1104:AF1104)","v":0},"ausschliessen"]
[{"$f":"$A$830","v":"jour de carence (marque avec un x)"},null,null,null,null,null,null,null,null,null,null,null,null,null,null,null,null,null,null,null,null,null,null,null,null,null,null,null,null,null,null,null,{"$f":"COUNTA(B1105:AF1105)","v":0},"Karenztage"]
[{"$f":"$A$831","v":"Jours fériés [jf]"},{"$f":"B733","v":""},"","","","","","","","","","","","","","","","","","","","","","","","","","","","","","",{"$f":"COUNTIF(B1106:AF1106,\"ft\")","v":0},{"$f":"$AH$831","v":"jf"}]
[{"$f":"$A$832","v":"Vacances [va]"},null,null,null,null,null,null,null,null,null,null,null,null,null,null,null,null,null,null,null,null,null,null,null,null,null,null,null,null,null,null,null,{"$f":"SUM(B1107:AF1107)","v":0},{"$f":"$AH$832","v":"va"}]
[{"$f":"$A$833","v":"Compensation (année passée) [cp]"},null,null,null,null,null,null,null,null,null,null,null,null,null,null,null,null,null,null,null,null,null,null,null,null,null,null,null,null,null,null,null,0,{"$f":"$AH$833","v":"cp"}]
[{"$f":"$A$834","v":"Compensation (année courant) [cc]"},null,null,null,null,null,null,null,null,null,null,null,null,null,null,null,null,null,null,null,null,null,null,null,null,null,null,null,null,null,null,null,0,{"$f":"$AH$834","v":"cc"}]
[{"$f":"$A$835","v":"Absences [ab]"},null,null,null,null,null,null,null,null,null,null,null,null,null,null,null,null,null,null,null,null,null,null,null,null,null,null,null,null,null,null,null,0,{"$f":"$AH$835","v":"ab"}]
[{"$f":"$A$836","v":"Maladie [ma]"},null,null,null,null,null,null,null,null,null,null,null,null,null,null,null,null,null,null,null,null,null,null,null,null,null,null,null,null,null,null,null,0,{"$f":"$AH$836","v":"ma"}]
[{"$f":"$A$837","v":"Accident [ac]"},null,null,null,null,null,null,null,null,null,null,null,null,null,null,null,null,null,null,null,null,null,null,null,null,null,null,null,null,null,null,null,0,{"$f":"$AH$837","v":"ac"}]
[{"$f":"$A$838","v":"Grossesse/Maternité [gm]"},null,null,null,null,null,null,null,null,null,null,null,null,null,null,null,null,null,null,null,null,null,null,null,null,null,null,null,null,null,null,null,0,{"$f":"$AH$838","v":"gm"}]
[{"$f":"$A$839","v":"Militaire/Promotion/Protection civile [mi]"},null,null,null,null,null,null,null,null,null,null,null,null,null,null,null,null,null,null,null,null,null,null,null,null,null,null,null,null,null,null,null,0,{"$f":"$AH$839","v":"mi"}]
[{"$f":"$A$840","v":"Ecole professionelle [ep]"},null,null,null,null,null,null,null,null,null,null,null,null,null,null,null,null,null,null,null,null,null,null,null,null,null,null,null,null,null,null,null,0,{"$f":"$AH$840","v":"ep"}]
[{"$f":"$A$841","v":"Cours [co]"},null,null,null,null,null,null,null,null,null,null,null,null,null,null,null,null,null,null,null,null,null,null,null,null,null,null,null,null,null,null,null,0,{"$f":"$AH$841","v":"co"}]
[{"$f":"$A$842","v":"Chômage partiel et intempéries [ch]"},null,null,null,null,null,null,null,null,null,null,null,null,null,null,null,null,null,null,null,null,null,null,null,null,null,null,null,null,null,null,null,0,{"$f":"$AH$842","v":"ch"}]
[{"$f":"$A$843","v":"Vacances non payées [vn]"},null,null,null,null,null,null,null,null,null,null,null,null,null,null,null,null,null,null,null,null,null,null,null,null,null,null,null,null,null,null,null,0,{"$f":"$AH$843","v":"vn"}]
[{"$f":"$A$844","v":"Heures manquantes [hm]"},null,null,null,null,null,null,null,null,null,null,null,null,null,null,null,null,null,null,null,null,null,null,null,null,null,null,null,null,null,null,null,0,{"$f":"$AH$844","v":"hm"}]
[{"$f":"$A$845","v":"Total"},{"$f":"SUM(B1107:B1119)-IF(B1105=\"x\",B1111,0)","v":0},{"$f":"SUM(C1107:C1119)-IF(C1105=\"x\",C1111,0)","v":0},{"$f":"SUM(D1107:D1119)-IF(D1105=\"x\",D1111,0)","v":0},{"$f":"SUM(E1107:E1119)-IF(E1105=\"x\",E1111,0)","v":0},{"$f":"SUM(F1107:F1119)-IF(F1105=\"x\",F1111,0)","v":0},{"$f":"SUM(G1107:G1119)-IF(G1105=\"x\",G1111,0)","v":0},{"$f":"SUM(H1107:H1119)-IF(H1105=\"x\",H1111,0)","v":0},{"$f":"SUM(I1107:I1119)-IF(I1105=\"x\",I1111,0)","v":0},{"$f":"SUM(J1107:J1119)-IF(J1105=\"x\",J1111,0)","v":0},{"$f":"SUM(K1107:K1119)-IF(K1105=\"x\",K1111,0)","v":0},{"$f":"SUM(L1107:L1119)-IF(L1105=\"x\",L1111,0)","v":0},{"$f":"SUM(M1107:M1119)-IF(M1105=\"x\",M1111,0)","v":0},{"$f":"SUM(N1107:N1119)-IF(N1105=\"x\",N1111,0)","v":0},{"$f":"SUM(O1107:O1119)-IF(O1105=\"x\",O1111,0)","v":0},{"$f":"SUM(P1107:P1119)-IF(P1105=\"x\",P1111,0)","v":0},{"$f":"SUM(Q1107:Q1119)-IF(Q1105=\"x\",Q1111,0)","v":0},{"$f":"SUM(R1107:R1119)-IF(R1105=\"x\",R1111,0)","v":0},{"$f":"SUM(S1107:S1119)-IF(S1105=\"x\",S1111,0)","v":0},{"$f":"SUM(T1107:T1119)-IF(T1105=\"x\",T1111,0)","v":0},{"$f":"SUM(U1107:U1119)-IF(U1105=\"x\",U1111,0)","v":0},{"$f":"SUM(V1107:V1119)-IF(V1105=\"x\",V1111,0)","v":0},{"$f":"SUM(W1107:W1119)-IF(W1105=\"x\",W1111,0)","v":0},{"$f":"SUM(X1107:X1119)-IF(X1105=\"x\",X1111,0)","v":0},{"$f":"SUM(Y1107:Y1119)-IF(Y1105=\"x\",Y1111,0)","v":0},{"$f":"SUM(Z1107:Z1119)-IF(Z1105=\"x\",Z1111,0)","v":0},{"$f":"SUM(AA1107:AA1119)-IF(AA1105=\"x\",AA1111,0)","v":0},{"$f":"SUM(AB1107:AB1119)-IF(AB1105=\"x\",AB1111,0)","v":0},{"$f":"SUM(AC1107:AC1119)-IF(AC1105=\"x\",AC1111,0)","v":0},{"$f":"SUM(AD1107:AD1119)-IF(AD1105=\"x\",AD1111,0)","v":0},{"$f":"SUM(AE1107:AE1119)-IF(AE1105=\"x\",AE1111,0)","v":0},{"$f":"SUM(AF1107:AF1119)-IF(AF1105=\"x\",AF1111,0)","v":0},null,"Total"]